Workbook

Sheet Būvn_koptame
A2: Būvniecības koptāme
A4: Būves nosaukums | C4: Ezeru ielas peldvietas infrastruktūras atjaunošanai un labiekārtošanai, Jūrmalā 2. Kārta
A5: Objekta adrese | C5: Jūrmala, Ezera ielas peldvieta
C7: Tāme sastādīta 2026.gada __. ____
A8: Nr. p. k. | B8: Objekta nosaukums | D8: Objekta izmaksas (EUR)
A10: 1 | B10: Ezeru ielas peldvietas infrastruktūras atjaunošanai un labiekārtošanai, Jūrmalā 2. Kārta | D10: =+Kopsav_!E17 -> 0
B11: Kopā | D11: =SUM(D10) -> 0
B13: Finanšu rezerve neparedzētiem darbiem (5%) | D13: =ROUND(D11*5%,2) -> 0
B14: Kopā ar finanšu rezervi neparedzētiem darbiem : | D14: =+D13+D11 -> 0
B15: PVN (21%) | D15: =ROUND(D14*21%,2) -> 0
B16: Pavisam būvniecības izmaksas | D16: =+D15+D14 -> 0
A20: Sagatavoja | D20: Datums

Sheet Kopsav_
A1: Kopsavilkuma aprēķini par darbu vai konstruktīvo elementu veidiem
A2: Būvdarbi
A4: Objekta nosaukums | C4: Ezeru ielas peldvietas infrastruktūras atjaunošanai un labiekārtošanai, Jūrmalā 2. Kārta
A5: Būves nosaukums | C5: Ezeru ielas peldvietas infrastruktūras atjaunošanai un labiekārtošanai, Jūrmalā 2. Kārta
A6: Objekta adrese | C6: Jūrmala, Ezera ielas peldvieta
F7: Kopējā darbietilpība, c/h
D8: Tāme sastādīta
A9: Nr. p. k. | B9: Kods, tāmes Nr. | C9: Darba veids vai konstruktīvā elementa nosaukums | E9: Tāmes izmaksas (EUR bez PVN) | F9: Tai skaitā | I9: Darbietilpība (c/h)
F10: darba alga (EUR) | G10: materiāli (EUR) | H10: mehānismi (EUR)
A11: 1 | B11: Nr.1 | C11: VISPĀRĒJIE BŪVDARBI | E11: =+'1_VISPĀRĒJIE BŪVDARBI'!O32 -> 0 | F11: =+'1_VISPĀRĒJIE BŪVDARBI'!L32 -> 0 | G11: =+'1_VISPĀRĒJIE BŪVDARBI'!M32 -> 0 | H11: =+'1_VISPĀRĒJIE BŪVDARBI'!N32 -> 0 | I11: =+'1_VISPĀRĒJIE BŪVDARBI'!K32 -> 0
A13: Kopā | E13: =SUM(E11:E11) -> 0 | F13: =SUM(F11:F11) -> 0 | G13: =SUM(G11:G11) -> 0 | H13: =SUM(H11:H11) -> 0 | I13: =SUM(I11:I11) -> 0
C14: Virsizdevumi | D14: 0 | E14: =ROUND(E13*D14,2) -> 0
C15: t.sk. darba aizsardzība | D15: 0 | E15: =ROUND(E14*D15,2) -> 0
C16: Peļņa | D16: 0 | E16: =ROUND(E13*D16,2) -> 0
C17: Pavisam kopā | E17: =+E13+E14+E16 -> 0
A20: Sagatavoja | E20: Datums

Sheet 1_VISPĀRĒJIE BŪVDARBI
A1: Lokālā tāme Nr.1
A2: VISPĀRĒJIE BŪVDARBI
A3: Ezera ielas peldvieta - 2.KĀRTA
A5: Objekta nosaukums | C5: Seguma nomaiņa Ezeru ielā, Jūrmalā 2. Kārta
A6: Būves nosaukums | C6: Seguma nomaiņa Ezeru ielā, Jūrmalā 2. Kārta
A7: Objekta adrese | C7: Jūrmala, Ezera ielas peldvieta
D9: Tāmes izmaksas | O9: =+O32 -> 0
M10: Tāme sastādīta
A11: Nr. p.k. | B11: Būvdarbu nosaukums | C11: Mērvienība | D11: Daudzums | E11: Vienības izmaksas | K11: Kopā uz visu apjomu
E12: laika norma (c/h) | F12: darba samaksas likme (euro/h) | G12: darba alga | H12: būvizstrādājumi | I12: mehānismi | J12: kopā | K12: darbietilpība (c/h) | L12: darba alga | M12: būvizstrādājumi | N12: mehānismi | O12: summa
A13: 1. | B13: Būvlaukuma ierīkošana
A14: 1.1 | B14: Būvžoga uzstādīšana, noņemšana | C14: m | D14: 150 | G14: =ROUND(E14*F14,2) -> 0 | J14: =ROUND(I14+H14+G14,2) -> 0 | K14: =ROUND(E14*D14,2) -> 0 | L14: =ROUND(G14*D14,2) -> 0 | M14: =ROUND(H14*D14,2) -> 0 | N14: =ROUND(I14*D14,2) -> 0 | O14: =ROUND(N14+M14+L14,2) -> 0
A15: 1.2 | B15: Būvtāfeles uzstādīšana | C15: kpl. | D15: 1 | G15: =ROUND(E15*F15,2) -> 0 | J15: =ROUND(I15+H15+G15,2) -> 0 | K15: =ROUND(E15*D15,2) -> 0 | L15: =ROUND(G15*D15,2) -> 0 | M15: =ROUND(H15*D15,2) -> 0 | N15: =ROUND(I15*D15,2) -> 0 | O15: =ROUND(N15+M15+L15,2) -> 0
A16: 2. | B16: Zemes darbi, demontāža
A17: 2.1 | B17: Esošo velo statīvu demontāža, izvešana uz būvuzņēmēja atbērtni | C17: gb. | D17: 2 | G17: =ROUND(E17*F17,2) -> 0 | J17: =ROUND(I17+H17+G17,2) -> 0 | K17: =ROUND(E17*D17,2) -> 0 | L17: =ROUND(G17*D17,2) -> 0 | M17: =ROUND(H17*D17,2) -> 0 | N17: =ROUND(I17*D17,2) -> 0 | O17: =ROUND(N17+M17+L17,2) -> 0
A18: 2.2 | B18: skalotas smilts sgumu piebēršana peldvietas zonā, fr.0-2mm h-30cm | C18: m2 | D18: 200 | G18: =ROUND(E18*F18,2) -> 0 | J18: =ROUND(I18+H18+G18,2) -> 0 | K18: =ROUND(E18*D18,2) -> 0 | L18: =ROUND(G18*D18,2) -> 0 | M18: =ROUND(H18*D18,2) -> 0 | N18: =ROUND(I18*D18,2) -> 0 | O18: =ROUND(N18+M18+L18,2) -> 0
A19: 3. | B19: Labiekārtojuma elementu uzstādīšana
A20: 3.1 | B20: Atkritumutu urnu un tualetes nojume | C20: gb. | D20: 1 | G20: =ROUND(E20*F20,2) -> 0 | J20: =ROUND(I20+H20+G20,2) -> 0 | K20: =ROUND(E20*D20,2) -> 0 | L20: =ROUND(G20*D20,2) -> 0 | M20: =ROUND(H20*D20,2) -> 0 | N20: =ROUND(I20*D20,2) -> 0 | O20: =ROUND(N20+M20+L20,2) -> 0
A21: 3.2 | B21: Velo statīva Hags Auriga piegāde, uzstādīšana | C21: gb. | D21: 2 | G21: =ROUND(E21*F21,2) -> 0 | J21: =ROUND(I21+H21+G21,2) -> 0 | K21: =ROUND(E21*D21,2) -> 0 | L21: =ROUND(G21*D21,2) -> 0 | M21: =ROUND(H21*D21,2) -> 0 | N21: =ROUND(I21*D21,2) -> 0 | O21: =ROUND(N21+M21+L21,2) -> 0
A22: 3.3 | B22: norobežojošo stabu piegāde, uzstādīšana (pie volejbola laukuma) skat. TS-L-1.11 | C22: gb. | D22: 18 | G22: =ROUND(E22*F22,2) -> 0 | J22: =ROUND(I22+H22+G22,2) -> 0 | K22: =ROUND(E22*D22,2) -> 0 | L22: =ROUND(G22*D22,2) -> 0 | M22: =ROUND(H22*D22,2) -> 0 | N22: =ROUND(I22*D22,2) -> 0 | O22: =ROUND(N22+M22+L22,2) -> 0
A23: 4. | B23: Volejbola laukuma izveide
A24: 4.1 | B24: Zemes slāņa norakšana, izvešana, izvešana uz būvuzņēmēja atbērtni, h-vid 400mm. | C24: m2 | D24: 468 | G24: =ROUND(E24*F24,2) -> 0 | J24: =ROUND(I24+H24+G24,2) -> 0 | K24: =ROUND(E24*D24,2) -> 0 | L24: =ROUND(G24*D24,2) -> 0 | M24: =ROUND(H24*D24,2) -> 0 | N24: =ROUND(I24*D24,2) -> 0 | O24: =ROUND(N24+M24+L24,2) -> 0
A25: 4.2 | B25: Ģeotekstila piegāde, ieklāšana NW12-15 | C25: m2 | D25: 468 | G25: =ROUND(E25*F25,2) -> 0 | J25: =ROUND(I25+H25+G25,2) -> 0 | K25: =ROUND(E25*D25,2) -> 0 | L25: =ROUND(G25*D25,2) -> 0 | M25: =ROUND(H25*D25,2) -> 0 | N25: =ROUND(I25*D25,2) -> 0 | O25: =ROUND(N25+M25+L25,2) -> 0
A26: 4.3 | B26: Izbūvē skalotas smilts sgumu, fr.0-2mm, h=400mm | C26: m2 | D26: 468 | G26: =ROUND(E26*F26,2) -> 0 | J26: =ROUND(I26+H26+G26,2) -> 0 | K26: =ROUND(E26*D26,2) -> 0 | L26: =ROUND(G26*D26,2) -> 0 | M26: =ROUND(H26*D26,2) -> 0 | N26: =ROUND(I26*D26,2) -> 0 | O26: =ROUND(N26+M26+L26,2) -> 0
A27: 4.4 | B27: Volejbola stabi | C27: kpl. | D27: 1 | G27: =ROUND(E27*F27,2) -> 0 | J27: =ROUND(I27+H27+G27,2) -> 0 | K27: =ROUND(E27*D27,2) -> 0 | L27: =ROUND(G27*D27,2) -> 0 | M27: =ROUND(H27*D27,2) -> 0 | N27: =ROUND(I27*D27,2) -> 0 | O27: =ROUND(N27+M27+L27,2) -> 0
A28: 4.5 | B28: Volejbola tīkls | C28: kpl. | D28: 1 | G28: =ROUND(E28*F28,2) -> 0 | J28: =ROUND(I28+H28+G28,2) -> 0 | K28: =ROUND(E28*D28,2) -> 0 | L28: =ROUND(G28*D28,2) -> 0 | M28: =ROUND(H28*D28,2) -> 0 | N28: =ROUND(I28*D28,2) -> 0 | O28: =ROUND(N28+M28+L28,2) -> 0
A29: 5. | B29: Nobeiguma darbi
A30: 5.1 | B30: Zāliena sēšana, auglīgā augsne 15cm | C30: m2 | D30: 100 | G30: =ROUND(E30*F30,2) -> 0 | J30: =ROUND(I30+H30+G30,2) -> 0 | K30: =ROUND(E30*D30,2) -> 0 | L30: =ROUND(G30*D30,2) -> 0 | M30: =ROUND(H30*D30,2) -> 0 | N30: =ROUND(I30*D30,2) -> 0 | O30: =ROUND(N30+M30+L30,2) -> 0
A31: 5.2 | B31: Izpilduzmērījums | C31: kpl | D31: 1 | G31: =ROUND(E31*F31,2) -> 0 | J31: =ROUND(I31+H31+G31,2) -> 0 | K31: =ROUND(E31*D31,2) -> 0 | L31: =ROUND(G31*D31,2) -> 0 | M31: =ROUND(H31*D31,2) -> 0 | N31: =ROUND(I31*D31,2) -> 0 | O31: =ROUND(N31+M31+L31,2) -> 0
A32: Tiešās izmaksas kopā (t.sk. uzņēmuma sociālais nodoklis 23.59 %) | K32: =SUM(K13:K31) -> 0 | L32: =SUM(L13:L31) -> 0 | M32: =SUM(M13:M31) -> 0 | N32: =SUM(N13:N31) -> 0 | O32: =SUM(O13:O31) -> 0
A33: Piezīmes: 1. Materiālu apjomi doti sablīvētā veidā. 2. Būvdarbu veicējam jāvērtē visi nepieciešamie darbi, materiāli, būvmašīnas un transports, bez kā nevarētu būt iespējama darba daudzumu sarakstā minēto darbu tehnoloģiski pareiza, Pasūtītāja prasībām atbilstoša izpilde pilnā apjomā. 3. Izstrādājot piedāvājumu, būvdarbu veicējam rūpīgi pārskatīt projektu un apjomos jāiekļauj arī neuzrādītie darbi un materiāli, lai kvalitatīvi veiktu būvniecību atbilstoši konkrētā būvdarbu veicēja pielietotajai tehnoloģijai, un bez kuriem nebūtu iespējama būvdarbu tehnoloģiski pareiza un spēkā esošajiem normatīviem atbilstoša veikšana pilnā apjomā. 4. Materiālus ir iespējams nomainīt uz ekvivalentiem, ja būvdarbu veicējs uzņemas pilnu atbildību par nepieciešamo nestspējas un citu projektā ietverto rādītāju un parametru sasniegšanu. 5. Būvdarbu apjomus skatīt kopā ar būvprojekta dokumentāciju – rasējumiem, tehniskajiem risinājumiem, tehniskajām specifikācijām, skaidrojošo aprakstu un pielikumiem.
