Workbook

Sheet KOPTĀME
C1: 03.05.2017. MK noteikumu Nr.239 7.pielikums
B2: APSTIPRINU
C4: (pasūtītāja paraksts un tā atšifrējums)
C5: Z.v.
C6: 20___.gada ___._________________
A9: BŪVNIECĪBAS KOPTĀME
A11: Objekta nosaukums: Ēkas Miera ielā 58a (kad. Nr. 0100 026 0092 005) un Ēkas Miera ielā 58a (kad. Nr. 0100 026 2024 005), Rīga daļas pārbūve Kino muzeja vajadzībām
A12: Būves nosaukums: Darbnīca, Teātris
A13: Objekta adrese: Miera ielā 58a, Rīga
A14: Pasūtījuma Nr. LKA 2026/14
A16: Nr.p.k. | B16: Objekta nosaukums | C16: Objekta izmaksas (euro)
A17: 1. | B17: =Kopsav.!A3 -> Ēkas Miera ielā 58a (kad. Nr. 0100 026 0092 005) un Ēkas Miera ielā 58a (kad. Nr. 0100 026 2024 005), Rīga daļas pārbūve Kino muzeja vajadzībām | C17: =Kopsav.!E38 -> 0
A18: KOPĀ | C18: =SUM(C17:C17) -> 0
A19: PVN 21% | C19: =ROUND(C18*0.21,2) -> 0
A21: Kopā ar PVN | B21: Kopā ar PVN | C21: =C18+C19 -> 0
A23: Sastādīja:
B24: (paraksts un tā atšifrējums, amats, uzņēmuma nosaukums, datums)
A26: Sertifikāta Nr.:
A28: Tāme sastādīta:

Sheet Kopsav.
I1: 03.05.2017. MK noteikumu Nr.239 6.pielikums
A2: KOPSAVILKUMA APRĒĶINS
A3: Ēkas Miera ielā 58a (kad. Nr. 0100 026 0092 005) un Ēkas Miera ielā 58a (kad. Nr. 0100 026 2024 005), Rīga daļas pārbūve Kino muzeja vajadzībām
A4: (būvdarba veids vai konstruktīvā elementa nosaukums)
A7: =KOPTĀME!A11 -> Objekta nosaukums: Ēkas Miera ielā 58a (kad. Nr. 0100 026 0092 005) un Ēkas Miera ielā 58a (kad. Nr. 0100 026 2024 005), Rīga daļas pārbūve Kino muzeja vajadzībām
A8: =KOPTĀME!A12 -> Būves nosaukums: Darbnīca, Teātris
A9: =KOPTĀME!A13 -> Objekta adrese: Miera ielā 58a, Rīga
A10: =KOPTĀME!A14 -> Pasūtījuma Nr. LKA 2026/14
A11: Būvniecības lieta Nr.BIS-BL-867688-115048 | G11: Par kopējo summu (euro) | H11: =E38 -> 0
G12: Kopējā darbietilpība, c/h | H12: =I34 -> 0
A14: Nr.p.k. | B14: Kods, tāmes Nr. | C14: Būvdarbu veids vai konstruktīvā elementa nosaukums | E14: Tāmes izmaksas | F14: Tai skaitā | I14: Darbietilpība c/h
F15: darba alga | G15: būvizstrādājumi | H15: mehānismi
C16: VISPĀRĒJIE BŪVDARBI
A17: 1 | B17: ='1-1_Demontāža'!D2 -> 1-1 | C17: ='1-1_Demontāža'!A3 -> DEMONTĀŽAS DARBI | E17: ='1-1_Demontāža'!P27 -> 0 | F17: ='1-1_Demontāža'!M27 -> 0 | G17: ='1-1_Demontāža'!N27 -> 0 | H17: ='1-1_Demontāža'!O27 -> 0 | I17: ='1-1_Demontāža'!L27 -> 0
A18: 2 | B18: ='1-2_BK'!D2 -> 1-2 | C18: ='1-2_BK'!A3 -> BŪVKONSTRUKCIJAS | E18: ='1-2_BK'!P93 -> 0 | F18: ='1-2_BK'!M93 -> 0 | G18: ='1-2_BK'!N93 -> 0 | H18: ='1-2_BK'!O93 -> 0 | I18: ='1-2_BK'!L93 -> 0
A19: 3 | B19: ='1-3_Sienas'!D2 -> 1-3 | C19: ='1-3_Sienas'!A3 -> SIENU KONSTRUKCIJAS | E19: ='1-3_Sienas'!P65 -> 0 | F19: ='1-3_Sienas'!M65 -> 0 | G19: ='1-3_Sienas'!N65 -> 0 | H19: ='1-3_Sienas'!O65 -> 0 | I19: ='1-3_Sienas'!L65 -> 0
A20: 4 | B20: ='1-4_Jumts'!D2 -> 1-4 | C20: ='1-4_Jumts'!A3 -> JUMTA KONSTRUKCIJAS | E20: ='1-4_Jumts'!P44 -> 0 | F20: ='1-4_Jumts'!M44 -> 0 | G20: ='1-4_Jumts'!N44 -> 0 | H20: ='1-4_Jumts'!O44 -> 0 | I20: ='1-4_Jumts'!L44 -> 0
A21: 5 | B21: ='1-5_grīdas'!D2 -> 1-5 | C21: ='1-5_grīdas'!A3 -> GRĪDU KONSTRUKCIJAS | E21: ='1-5_grīdas'!P44 -> 0 | F21: ='1-5_grīdas'!M44 -> 0 | G21: ='1-5_grīdas'!N44 -> 0 | H21: ='1-5_grīdas'!O44 -> 0 | I21: ='1-5_grīdas'!L44 -> 0
A22: 6 | B22: ='1-6_logi'!D2 -> 1-6 | C22: ='1-6_logi'!A3 -> LOGI | E22: ='1-6_logi'!P18 -> 0 | F22: ='1-6_logi'!M18 -> 0 | G22: ='1-6_logi'!N18 -> 0 | H22: ='1-6_logi'!O18 -> 0 | I22: ='1-6_logi'!L18 -> 0
A23: 7 | B23: ='1-7_durvis'!D2 -> 1-7 | C23: ='1-7_durvis'!A3 -> DURVIS | E23: ='1-7_durvis'!P27 -> 0 | F23: ='1-7_durvis'!M27 -> 0 | G23: ='1-7_durvis'!N27 -> 0 | H23: ='1-7_durvis'!O27 -> 0 | I23: ='1-7_durvis'!L27 -> 0
A24: 8 | B24: ='1-8_dažādi darbi'!D2 -> 1-8 | C24: ='1-8_dažādi darbi'!A3 -> DAŽĀDI DARBI | E24: ='1-8_dažādi darbi'!P55 -> 0 | F24: ='1-8_dažādi darbi'!M55 -> 0 | G24: ='1-8_dažādi darbi'!N55 -> 0 | H24: ='1-8_dažādi darbi'!O55 -> 0 | I24: ='1-8_dažādi darbi'!L55 -> 0
C25: SPECIALIZĒTIE DARBI- IEKŠĒJIE TĪKLI, SISTĒMAS
A26: 9 | B26: ='2-1_UK'!D2 -> 2-1 | C26: ='2-1_UK'!A3 -> ŪDENSAPGĀDE UN KANALIZĀCIJA | E26: ='2-1_UK'!P51 -> 0 | F26: ='2-1_UK'!M51 -> 0 | G26: ='2-1_UK'!N51 -> 0 | H26: ='2-1_UK'!O51 -> 0 | I26: ='2-1_UK'!L51 -> 0
A27: 10 | B27: ='2-2_AVK'!F2 -> 2-2 | C27: ='2-2_AVK'!A3 -> APKURE UN DZESĒŠANA | E27: ='2-2_AVK'!R96 -> 0 | F27: ='2-2_AVK'!O96 -> 0 | G27: ='2-2_AVK'!P96 -> 0 | H27: ='2-2_AVK'!Q96 -> 0 | I27: ='2-2_AVK'!N96 -> 0
A28: 11 | B28: ='2-3_AVK-V'!F2 -> 2-3 | C28: ='2-3_AVK-V'!A3 -> VENTILĀCIJA | E28: ='2-3_AVK-V'!R89 -> 0 | F28: ='2-3_AVK-V'!O89 -> 0 | G28: ='2-3_AVK-V'!P89 -> 0 | H28: ='2-3_AVK-V'!Q89 -> 0 | I28: ='2-3_AVK-V'!N89 -> 0
A29: 12 | B29: ='2-4_EL'!E2 -> 2-4 | C29: ='2-4_EL'!A3 -> ELEKTROAPGĀDE UN APGAISMOJUMS | E29: ='2-4_EL'!Q56 -> 0 | F29: ='2-4_EL'!N56 -> 0 | G29: ='2-4_EL'!O56 -> 0 | H29: ='2-4_EL'!P56 -> 0 | I29: ='2-4_EL'!M56 -> 0
A30: 13 | B30: ='2-5_UATS'!D2 -> 2-5 | C30: ='2-5_UATS'!A3 -> AUTOMĀTISKĀ UGUNSGRĒKA ATKLĀŠANAS UN TRAUKSMES SIGNALIZĀCIJAS SISTĒMA | E30: ='2-5_UATS'!P30 -> 0 | F30: ='2-5_UATS'!M30 -> 0 | G30: ='2-5_UATS'!N30 -> 0 | H30: ='2-5_UATS'!O30 -> 0 | I30: ='2-5_UATS'!L30 -> 0
A31: 14 | B31: ='2-6_ESS-TK,VN'!D2 -> 2-6 | C31: ='2-6_ESS-TK,VN'!A3 -> ELEKTRONISKO SAKARU SISTĒMAS-DATU TĪKLS UN VIDEONOVĒROŠANA | E31: ='2-6_ESS-TK,VN'!P61 -> 0 | F31: ='2-6_ESS-TK,VN'!M61 -> 0 | G31: ='2-6_ESS-TK,VN'!N61 -> 0 | H31: ='2-6_ESS-TK,VN'!O61 -> 0 | I31: ='2-6_ESS-TK,VN'!L61 -> 0
A32: 15 | B32: ='2-7_ESS-CI'!D2 -> 2-7 | C32: ='2-7_ESS-CI'!A3 -> ELEKTRONISKO SAKARU SISTĒMAS-CENTRĀLĀ IZZIŅOŠANAS SISTĒMA | E32: ='2-7_ESS-CI'!P27 -> 0 | F32: ='2-7_ESS-CI'!M27 -> 0 | G32: ='2-7_ESS-CI'!N27 -> 0 | H32: ='2-7_ESS-CI'!O27 -> 0 | I32: ='2-7_ESS-CI'!L27 -> 0
A33: 16 | B33: ='2-8_ESS-PK,AS'!D2 -> 2-8 | C33: ='2-8_ESS-PK,AS'!A3 -> ELEKTRONISKO SAKARU SISTĒMAS- APSARDZES SIGNALIZĀCIJAS SISTĒMA UN PIEKĻUVES KONTROLES SISTĒMA | E33: ='2-8_ESS-PK,AS'!P53 -> 0 | F33: ='2-8_ESS-PK,AS'!M53 -> 0 | G33: ='2-8_ESS-PK,AS'!N53 -> 0 | H33: ='2-8_ESS-PK,AS'!O53 -> 0 | I33: ='2-8_ESS-PK,AS'!L53 -> 0
A34: KOPĀ | E34: =SUM(E17:E33) -> 0 | F34: =SUM(F17:F33) -> 0 | G34: =SUM(G17:G33) -> 0 | H34: =SUM(H17:H33) -> 0 | I34: =SUM(I17:I33) -> 0
A35: Virsizdevumi (%) | E35: =ROUND(E34*D35,2) -> 0
A36: t.sk.darba aizsardzība | E36: =ROUND(D36*E35,2) -> 0
A37: Peļņa (%) | E37: =ROUND(E34*D37,2) -> 0
A38: Pavisam KOPĀ: | E38: =E34+E35+E37 -> 0
B40: Sastādīja: | C40: =IF(KOPTĀME!B23=0,"",KOPTĀME!B23)
C41: (paraksts un tā atšifrējums, amats, uzņēmuma nosaukums, datums)
B43: =KOPTĀME!A28 -> Tāme sastādīta: | C43: =IF(KOPTĀME!B28=0,"",KOPTĀME!B28)
B45: Pārbaudīja:
C46: (paraksts un tā atšifrējums, amats, uzņēmuma nosaukums, datums)
...

Sheet 1-1_Demontāža
P1: 03.05.2017. MK noteikumu Nr.239 5.pielikums
C2: LOKĀLĀ TĀME Nr. | D2: 1-1
A3: DEMONTĀŽAS DARBI
A4: (būvdarbu veids vai konstruktīvā elementa nosaukums)
A5: =Kopsav.!A7:I7 -> Objekta nosaukums: Ēkas Miera ielā 58a (kad. Nr. 0100 026 0092 005) un Ēkas Miera ielā 58a (kad. Nr. 0100 026 2024 005), Rīga daļas pārbūve Kino muzeja vajadzībām
A6: =KOPTĀME!A12 -> Būves nosaukums: Darbnīca, Teātris
A7: =KOPTĀME!A13 -> Objekta adrese: Miera ielā 58a, Rīga
A8: =KOPTĀME!A14 -> Pasūtījuma Nr. LKA 2026/14
A10: Tāme sastādīta 2026.gada tirgus cenās, pamatojoties uz AR daļas rasējumiem.
M11: Tāmes izmaksas | N11: =P27 -> 0 | P11: euro
M12: Tāme sastādīta | N12: =IF(KOPTĀME!B28=0,"",KOPTĀME!B28)
A14: Nr.p.k. | B14: Kods | C14: Būvdarbu nosaukums | D14: Mērvienība | E14: Daudzums | F14: Vienības izmaksas | L14: Kopā uz visu apjomu
F15: laika norma (c/h) | G15: darba samaksas likme* (euro/h) | H15: darba alga | I15: būvizstrādājumi | J15: mehānismi | K15: kopā | L15: darbietilpība (c/h) | M15: darba alga | N15: būvizstrādājumi | O15: mehānismi | P15: summa
A16: 1 | C16: Esošo logu demontāža | D16: gb | E16: 6 | H16: =ROUND(F16*G16,2) -> 0 | K16: =H16+I16+J16 -> 0 | L16: =ROUND(E16*F16,2) -> 0 | M16: =ROUND(E16*H16,2) -> 0 | N16: =ROUND(E16*I16,2) -> 0 | O16: =ROUND(E16*J16,2) -> 0 | P16: =M16+N16+O16 -> 0
A17: 2 | C17: Jumta paneļa demontāža | D17: m2 | E17: 5.6 | H17: =ROUND(F17*G17,2) -> 0 | K17: =H17+I17+J17 -> 0 | L17: =ROUND(E17*F17,2) -> 0 | M17: =ROUND(E17*H17,2) -> 0 | N17: =ROUND(E17*I17,2) -> 0 | O17: =ROUND(E17*J17,2) -> 0 | P17: =M17+N17+O17 -> 0
A18: 3 | C18: Esošā jumta seguma demontāža (iesk.visu, kas ir virs jumta paneļiem) | D18: m2 | E18: 276.2 | H18: =ROUND(F18*G18,2) -> 0 | K18: =H18+I18+J18 -> 0 | L18: =ROUND(E18*F18,2) -> 0 | M18: =ROUND(E18*H18,2) -> 0 | N18: =ROUND(E18*I18,2) -> 0 | O18: =ROUND(E18*J18,2) -> 0 | P18: =M18+N18+O18 -> 0
A19: 4 | C19: Sienu, starpsienu demontāža, logu ailu palielināšana | D19: m3 | E19: 39 | H19: =ROUND(F19*G19,2) -> 0 | K19: =H19+I19+J19 -> 0 | L19: =ROUND(E19*F19,2) -> 0 | M19: =ROUND(E19*H19,2) -> 0 | N19: =ROUND(E19*I19,2) -> 0 | O19: =ROUND(E19*J19,2) -> 0 | P19: =M19+N19+O19 -> 0
A20: 5 | C20: Tehnisko kāpņu uz palīgtelpu demontāža | D20: kpl | E20: 1 | H20: =ROUND(F20*G20,2) -> 0 | K20: =H20+I20+J20 -> 0 | L20: =ROUND(E20*F20,2) -> 0 | M20: =ROUND(E20*H20,2) -> 0 | N20: =ROUND(E20*I20,2) -> 0 | O20: =ROUND(E20*J20,2) -> 0 | P20: =M20+N20+O20 -> 0
A21: 6 | C21: Ratiņkrēslu pacēlāja demontāža, utilizācija | D21: kpl | E21: 1 | H21: =ROUND(F21*G21,2) -> 0 | K21: =H21+I21+J21 -> 0 | L21: =ROUND(E21*F21,2) -> 0 | M21: =ROUND(E21*H21,2) -> 0 | N21: =ROUND(E21*I21,2) -> 0 | O21: =ROUND(E21*J21,2) -> 0 | P21: =M21+N21+O21 -> 0
A22: 7 | C22: Metāla pandusa demontāža | D22: kpl | E22: 1 | H22: =ROUND(F22*G22,2) -> 0 | K22: =H22+I22+J22 -> 0 | L22: =ROUND(E22*F22,2) -> 0 | M22: =ROUND(E22*H22,2) -> 0 | N22: =ROUND(E22*I22,2) -> 0 | O22: =ROUND(E22*J22,2) -> 0 | P22: =M22+N22+O22 -> 0
A23: 8 | C23: Esošās margas demontāža | D23: kpl | E23: 1 | H23: =ROUND(F23*G23,2) -> 0 | K23: =H23+I23+J23 -> 0 | L23: =ROUND(E23*F23,2) -> 0 | M23: =ROUND(E23*H23,2) -> 0 | N23: =ROUND(E23*I23,2) -> 0 | O23: =ROUND(E23*J23,2) -> 0 | P23: =M23+N23+O23 -> 0
A24: 9 | C24: Esošā radiatora pārnešana | D24: kpl | E24: 1 | H24: =ROUND(F24*G24,2) -> 0 | K24: =H24+I24+J24 -> 0 | L24: =ROUND(E24*F24,2) -> 0 | M24: =ROUND(E24*H24,2) -> 0 | N24: =ROUND(E24*I24,2) -> 0 | O24: =ROUND(E24*J24,2) -> 0 | P24: =M24+N24+O24 -> 0
A25: 9.1. | C25: Esošās betona grīdas demontāžas | D25: m2 | E25: 269.2 | H25: =ROUND(F25*G25,2) -> 0 | K25: =H25+I25+J25 -> 0 | L25: =ROUND(E25*F25,2) -> 0 | M25: =ROUND(E25*H25,2) -> 0 | N25: =ROUND(E25*I25,2) -> 0 | O25: =ROUND(E25*J25,2) -> 0 | P25: =M25+N25+O25 -> 0
A26: 10 | C26: Demontēto elementu savākšana un utilizācija (k=1,3) | D26: m3 | E26: 304.98 | H26: =ROUND(F26*G26,2) -> 0 | K26: =H26+I26+J26 -> 0 | L26: =ROUND(E26*F26,2) -> 0 | M26: =ROUND(E26*H26,2) -> 0 | N26: =ROUND(E26*I26,2) -> 0 | O26: =ROUND(E26*J26,2) -> 0 | P26: =M26+N26+O26 -> 0
A27: TIEŠĀS IZMAKSAS KOPĀ, t. sk. darba devēja sociālais nodoklis (%) | L27: =SUM(L16:L26) -> 0 | M27: =SUM(M16:M26) -> 0 | N27: =SUM(N16:N26) -> 0 | O27: =SUM(O16:O26) -> 0 | P27: =SUM(P16:P26) -> 0
A29: Piezīmes:
A30: 1. Būvuzņēmējam jāievērtē darbu apjomu sarakstā minēto darbu veikšanai nepieciešamie materiāli un papildus darbi, kas nav minēti šajā sarakstā, bet bez
A31: kuriem nebūtu iespējama būvdarbu tehnoloģiski pareiza un spēkā esošiem normatīviem atbilstoša veikšana pilnā apmērā.
A32: 2. Darbu apjomu sarakstu skatīt kopā ar rasējumiem un specifikācijām. Gadījumā, ja darbu apjomi nesakrīt ar rasējumiem vai specifikācijām, par pareiziem
A33: jāuzskata rasējumos esošie darbu apjomi.
A34: 3. Atsevišķu materiālu apjomi doti bez rezerves.
A35: 4. Tāmēs ietvertos konkrēto ražotāju materiālus un izstrādājumus var aizvietot ar analogiem citu ražotāju materiāliem un izstrādājumiem, saskaņojot ar Arhitektu un Pasūtītāju.
A36: 5. Būvgružu apjomu precizēt būvniecības laikā!
C38: Sastādīja: | D38: =IF(KOPTĀME!B23=0,"",KOPTĀME!B23)
D39: (paraksts un tā atšifrējums, amats, uzņēmuma nosaukums, datums)
C41: Tāme sastādīta: | D41: =IF(KOPTĀME!B28=0,"",KOPTĀME!B28)
C43: Pārbaudīja: | D43: =IF(Kopsav.!C45=0,"",Kopsav.!C45)
D44: (paraksts un tā atšifrējums, amats, uzņēmuma nosaukums, datums)
C46: Sertifikāta Nr.: | D46: =IF(KOPTĀME!B26=0,"",KOPTĀME!B26)

Sheet 1-2_BK
P1: 03.05.2017. MK noteikumu Nr.239 5.pielikums
C2: LOKĀLĀ TĀME Nr. | D2: 1-2
A3: BŪVKONSTRUKCIJAS
A4: (būvdarbu veids vai konstruktīvā elementa nosaukums)
A5: =Kopsav.!A7:I7 -> Objekta nosaukums: Ēkas Miera ielā 58a (kad. Nr. 0100 026 0092 005) un Ēkas Miera ielā 58a (kad. Nr. 0100 026 2024 005), Rīga daļas pārbūve Kino muzeja vajadzībām
A6: =KOPTĀME!A12 -> Būves nosaukums: Darbnīca, Teātris
A7: =KOPTĀME!A13 -> Objekta adrese: Miera ielā 58a, Rīga
A8: =KOPTĀME!A14 -> Pasūtījuma Nr. LKA 2026/14
A10: Tāme sastādīta 2026.gada tirgus cenās, pamatojoties uz BK daļas rasējumiem.
M11: Tāmes izmaksas | N11: =P93 -> 0 | P11: euro
M12: Tāme sastādīta | N12: =IF(KOPTĀME!B28=0,"",KOPTĀME!B28)
A14: Nr.p.k. | B14: Kods | C14: Būvdarbu nosaukums | D14: Mērvienība | E14: Daudzums | F14: Vienības izmaksas | L14: Kopā uz visu apjomu
F15: laika norma (c/h) | G15: darba samaksas likme* (euro/h) | H15: darba alga | I15: būvizstrādājumi | J15: mehānismi | K15: kopā | L15: darbietilpība (c/h) | M15: darba alga | N15: būvizstrādājumi | O15: mehānismi | P15: summa
A16: 1 | C16: Pamati, grīda
A17: 1.1 | C17: Konstrukciju betonēšana- betons C30/37 XC2 + 4kg/m3 sintētiska polipropilēna makrofibra DURUS EasyFinish, iesk.veidņu montāžu, demontāžu, īri | D17: m3 | E17: 44 | H17: =ROUND(F17*G17,2) -> 0 | K17: =H17+I17+J17 -> 0 | L17: =ROUND(E17*F17,2) -> 0 | M17: =ROUND(E17*H17,2) -> 0 | N17: =ROUND(E17*I17,2) -> 0 | O17: =ROUND(E17*J17,2) -> 0 | P17: =M17+N17+O17 -> 0
A18: 1.2 | C18: Augšējais siets Ø8 B500 s.150x150 | D18: t | E18: 1.5 | H18: =ROUND(F18*G18,2) -> 0 | K18: =H18+I18+J18 -> 0 | L18: =ROUND(E18*F18,2) -> 0 | M18: =ROUND(E18*H18,2) -> 0 | N18: =ROUND(E18*I18,2) -> 0 | O18: =ROUND(E18*J18,2) -> 0 | P18: =M18+N18+O18 -> 0
A19: 1.3 | C19: Apakšējais siets Ø12 B500 s.150x150 | D19: t | E19: 3.2 | H19: =ROUND(F19*G19,2) -> 0 | K19: =H19+I19+J19 -> 0 | L19: =ROUND(E19*F19,2) -> 0 | M19: =ROUND(E19*H19,2) -> 0 | N19: =ROUND(E19*I19,2) -> 0 | O19: =ROUND(E19*J19,2) -> 0 | P19: =M19+N19+O19 -> 0
A20: 1.4 | C20: Augšējais siets Ø20 B500 s.150x150 | D20: t | E20: 0.72 | H20: =ROUND(F20*G20,2) -> 0 | K20: =H20+I20+J20 -> 0 | L20: =ROUND(E20*F20,2) -> 0 | M20: =ROUND(E20*H20,2) -> 0 | N20: =ROUND(E20*I20,2) -> 0 | O20: =ROUND(E20*J20,2) -> 0 | P20: =M20+N20+O20 -> 0
A21: 1.5 | C21: Pamatstiegrojums 2Ø20 B500 | D21: t | E21: 0.17 | H21: =ROUND(F21*G21,2) -> 0 | K21: =H21+I21+J21 -> 0 | L21: =ROUND(E21*F21,2) -> 0 | M21: =ROUND(E21*H21,2) -> 0 | N21: =ROUND(E21*I21,2) -> 0 | O21: =ROUND(E21*J21,2) -> 0 | P21: =M21+N21+O21 -> 0
A22: 1.6 | C22: Pamatstiegrojums 2Ø16 B500 | D22: t | E22: 0.11 | H22: =ROUND(F22*G22,2) -> 0 | K22: =H22+I22+J22 -> 0 | L22: =ROUND(E22*F22,2) -> 0 | M22: =ROUND(E22*H22,2) -> 0 | N22: =ROUND(E22*I22,2) -> 0 | O22: =ROUND(E22*J22,2) -> 0 | P22: =M22+N22+O22 -> 0
A23: 1.7 | C23: Aptveres Ø12 B500 | D23: t | E23: 0.16 | H23: =ROUND(F23*G23,2) -> 0 | K23: =H23+I23+J23 -> 0 | L23: =ROUND(E23*F23,2) -> 0 | M23: =ROUND(E23*H23,2) -> 0 | N23: =ROUND(E23*I23,2) -> 0 | O23: =ROUND(E23*J23,2) -> 0 | P23: =M23+N23+O23 -> 0
A24: 1.8 | C24: Šķautnes stiegrojums Ø8 s.150mm B500 | D24: t | E24: 0.19 | H24: =ROUND(F24*G24,2) -> 0 | K24: =H24+I24+J24 -> 0 | L24: =ROUND(E24*F24,2) -> 0 | M24: =ROUND(E24*H24,2) -> 0 | N24: =ROUND(E24*I24,2) -> 0 | O24: =ROUND(E24*J24,2) -> 0 | P24: =M24+N24+O24 -> 0
A25: 2 | C25: Sienas
A26: 2.1 | C26: Keramzītbetona bloku mūris 250mm, FIBO bloki 3 Mpa (vai līdzvērtīgi), iesk.mūrjavu un armatūru atbilstoši ražotāja tehnoloģijai | D26: m3 | E26: 50 | H26: =ROUND(F26*G26,2) -> 0 | K26: =H26+I26+J26 -> 0 | L26: =ROUND(E26*F26,2) -> 0 | M26: =ROUND(E26*H26,2) -> 0 | N26: =ROUND(E26*I26,2) -> 0 | O26: =ROUND(E26*J26,2) -> 0 | P26: =M26+N26+O26 -> 0
A27: 2.2 | C27: Konstrukciju betonēšana- betons C30/37 XC1, iesk.veidņu montāžu, demontāžu, īri | D27: m3 | E27: 0.45 | H27: =ROUND(F27*G27,2) -> 0 | K27: =H27+I27+J27 -> 0 | L27: =ROUND(E27*F27,2) -> 0 | M27: =ROUND(E27*H27,2) -> 0 | N27: =ROUND(E27*I27,2) -> 0 | O27: =ROUND(E27*J27,2) -> 0 | P27: =M27+N27+O27 -> 0
A28: 2.3 | C28: Stiegrojums Ø8 B500 s.150mm | D28: t | E28: 0.02 | H28: =ROUND(F28*G28,2) -> 0 | K28: =H28+I28+J28 -> 0 | L28: =ROUND(E28*F28,2) -> 0 | M28: =ROUND(E28*H28,2) -> 0 | N28: =ROUND(E28*I28,2) -> 0 | O28: =ROUND(E28*J28,2) -> 0 | P28: =M28+N28+O28 -> 0
A29: 2.4 | C29: Stiegrojums Ø12 B500 s.150mm | D29: t | E29: 0.06 | H29: =ROUND(F29*G29,2) -> 0 | K29: =H29+I29+J29 -> 0 | L29: =ROUND(E29*F29,2) -> 0 | M29: =ROUND(E29*H29,2) -> 0 | N29: =ROUND(E29*I29,2) -> 0 | O29: =ROUND(E29*J29,2) -> 0 | P29: =M29+N29+O29 -> 0
A30: 2.5 | C30: Stiegrojums Ø12 B500 s.150mm, L=200mm + HILTI HIT HY200 | D30: t | E30: 0.01 | H30: =ROUND(F30*G30,2) -> 0 | K30: =H30+I30+J30 -> 0 | L30: =ROUND(E30*F30,2) -> 0 | M30: =ROUND(E30*H30,2) -> 0 | N30: =ROUND(E30*I30,2) -> 0 | O30: =ROUND(E30*J30,2) -> 0 | P30: =M30+N30+O30 -> 0
A31: 3 | C31: Pārsedzes
A32: 3.1 | C32: Tērauda konstrukciju montāža- AP-1.0 UPN 220 S355 | D32: kg | E32: 170 | H32: =ROUND(F32*G32,2) -> 0 | K32: =H32+I32+J32 -> 0 | L32: =ROUND(E32*F32,2) -> 0 | M32: =ROUND(E32*H32,2) -> 0 | N32: =ROUND(E32*I32,2) -> 0 | O32: =ROUND(E32*J32,2) -> 0 | P32: =M32+N32+O32 -> 0
A33: 3.2 | C33: Tērauda ķīļi t10x65mm | D33: gb | E33: 9 | H33: =ROUND(F33*G33,2) -> 0 | K33: =H33+I33+J33 -> 0 | L33: =ROUND(E33*F33,2) -> 0 | M33: =ROUND(E33*H33,2) -> 0 | N33: =ROUND(E33*I33,2) -> 0 | O33: =ROUND(E33*J33,2) -> 0 | P33: =M33+N33+O33 -> 0
A34: 3.3 | C34: 100x680xt10 | D34: gb | E34: 7 | H34: =ROUND(F34*G34,2) -> 0 | K34: =H34+I34+J34 -> 0 | L34: =ROUND(E34*F34,2) -> 0 | M34: =ROUND(E34*H34,2) -> 0 | N34: =ROUND(E34*I34,2) -> 0 | O34: =ROUND(E34*J34,2) -> 0 | P34: =M34+N34+O34 -> 0
A35: 3.4 | C35: M16 kl.8.8 | D35: gb | E35: 9 | H35: =ROUND(F35*G35,2) -> 0 | K35: =H35+I35+J35 -> 0 | L35: =ROUND(E35*F35,2) -> 0 | M35: =ROUND(E35*H35,2) -> 0 | N35: =ROUND(E35*I35,2) -> 0 | O35: =ROUND(E35*J35,2) -> 0 | P35: =M35+N35+O35 -> 0
A36: 3.4 | C36: ID-1 | D36: gb | E36: 4 | H36: =ROUND(F36*G36,2) -> 0 | K36: =H36+I36+J36 -> 0 | L36: =ROUND(E36*F36,2) -> 0 | M36: =ROUND(E36*H36,2) -> 0 | N36: =ROUND(E36*I36,2) -> 0 | O36: =ROUND(E36*J36,2) -> 0 | P36: =M36+N36+O36 -> 0
A37: 3.5 | C37: FIBO pārsedzes montāža AP-1.1 185(h)*250*2090 | D37: gb | E37: 2 | H37: =ROUND(F37*G37,2) -> 0 | K37: =H37+I37+J37 -> 0 | L37: =ROUND(E37*F37,2) -> 0 | M37: =ROUND(E37*H37,2) -> 0 | N37: =ROUND(E37*I37,2) -> 0 | O37: =ROUND(E37*J37,2) -> 0 | P37: =M37+N37+O37 -> 0
A38: 3.6 | C38: FIBO pārsedzes montāža AP-1.12 185(h)*250*2390 | D38: gb | E38: 12 | H38: =ROUND(F38*G38,2) -> 0 | K38: =H38+I38+J38 -> 0 | L38: =ROUND(E38*F38,2) -> 0 | M38: =ROUND(E38*H38,2) -> 0 | N38: =ROUND(E38*I38,2) -> 0 | O38: =ROUND(E38*J38,2) -> 0 | P38: =M38+N38+O38 -> 0
A39: 4 | C39: Monolītais spilvens
A40: 4.1 | C40: Konstrukciju betonēšana- betons C30/37 XC1, iesk.veidņu montāžu, demontāžu, īri | D40: m3 | E40: 0.1 | H40: =ROUND(F40*G40,2) -> 0 | K40: =H40+I40+J40 -> 0 | L40: =ROUND(E40*F40,2) -> 0 | M40: =ROUND(E40*H40,2) -> 0 | N40: =ROUND(E40*I40,2) -> 0 | O40: =ROUND(E40*J40,2) -> 0 | P40: =M40+N40+O40 -> 0
A41: 4.2 | C41: Stiegrojums Ø12 B500 s.100x100mm | D41: t | E41: 0.06 | H41: =ROUND(F41*G41,2) -> 0 | K41: =H41+I41+J41 -> 0 | L41: =ROUND(E41*F41,2) -> 0 | M41: =ROUND(E41*H41,2) -> 0 | N41: =ROUND(E41*I41,2) -> 0 | O41: =ROUND(E41*J41,2) -> 0 | P41: =M41+N41+O41 -> 0
A42: 4.3 | C42: Ķīmiskā enkurmasa HILTI HIT HY 170 | D42: kpl | E42: 1 | H42: =ROUND(F42*G42,2) -> 0 | K42: =H42+I42+J42 -> 0 | L42: =ROUND(E42*F42,2) -> 0 | M42: =ROUND(E42*H42,2) -> 0 | N42: =ROUND(E42*I42,2) -> 0 | O42: =ROUND(E42*J42,2) -> 0 | P42: =M42+N42+O42 -> 0
...

Sheet 1-3_Sienas
P1: 03.05.2017. MK noteikumu Nr.239 5.pielikums
C2: LOKĀLĀ TĀME Nr. | D2: 1-3
A3: SIENU KONSTRUKCIJAS
A4: (būvdarbu veids vai konstruktīvā elementa nosaukums)
A5: =Kopsav.!A7:I7 -> Objekta nosaukums: Ēkas Miera ielā 58a (kad. Nr. 0100 026 0092 005) un Ēkas Miera ielā 58a (kad. Nr. 0100 026 2024 005), Rīga daļas pārbūve Kino muzeja vajadzībām
A6: =KOPTĀME!A12 -> Būves nosaukums: Darbnīca, Teātris
A7: =KOPTĀME!A13 -> Objekta adrese: Miera ielā 58a, Rīga
A8: =KOPTĀME!A14 -> Pasūtījuma Nr. LKA 2026/14
A10: Tāme sastādīta 2026.gada tirgus cenās, pamatojoties uz AR daļas rasējumiem.
M11: Tāmes izmaksas | N11: =P65 -> 0 | P11: euro
M12: Tāme sastādīta | N12: =IF(KOPTĀME!B28=0,"",KOPTĀME!B28)
A14: Nr.p.k. | B14: Kods | C14: Būvdarbu nosaukums | D14: Mērvienība | E14: Daudzums | F14: Vienības izmaksas | L14: Kopā uz visu apjomu
F15: laika norma (c/h) | G15: darba samaksas likme* (euro/h) | H15: darba alga | I15: būvizstrādājumi | J15: mehānismi | K15: kopā | L15: darbietilpība (c/h) | M15: darba alga | N15: būvizstrādājumi | O15: mehānismi | P15: summa
A16: 1 | C16: Ārsienu konstrukcija S1 (esoša, papildus siltināta siena)
A17: 1.1 | C17: Kaļķa javas apmetums, virsmas faktūra analoga filmu skolai, krāsots caurspīdīgs ar Baumit metallic, tonis NCS S8000-N 20mm | D17: m2 | E17: 161.7 | H17: =ROUND(F17*G17,2) -> 0 | K17: =H17+I17+J17 -> 0 | L17: =ROUND(E17*F17,2) -> 0 | M17: =ROUND(E17*H17,2) -> 0 | N17: =ROUND(E17*I17,2) -> 0 | O17: =ROUND(E17*J17,2) -> 0 | P17: =M17+N17+O17 -> 0
A18: 1.2 | C18: Cinkots metāla siets 20x20mm, stieples biezums 0,8mm, stiprināts pie fasādes ar Weber Merk kronšteiniem | D18: m2 | E18: 161.7 | H18: =ROUND(F18*G18,2) -> 0 | K18: =H18+I18+J18 -> 0 | L18: =ROUND(E18*F18,2) -> 0 | M18: =ROUND(E18*H18,2) -> 0 | N18: =ROUND(E18*I18,2) -> 0 | O18: =ROUND(E18*J18,2) -> 0 | P18: =M18+N18+O18 -> 0
A19: 1.3 | C19: ISOVER 3 minerālvate uz Weber Merk kronšteiniem 200mm | D19: m2 | E19: 161.7 | H19: =ROUND(F19*G19,2) -> 0 | K19: =H19+I19+J19 -> 0 | L19: =ROUND(E19*F19,2) -> 0 | M19: =ROUND(E19*H19,2) -> 0 | N19: =ROUND(E19*I19,2) -> 0 | O19: =ROUND(E19*J19,2) -> 0 | P19: =M19+N19+O19 -> 0
A20: 1.4 | C20: Izlīdzinošais apmetums, mūra šuvju aizpildīšana 5mm | D20: m2 | E20: 161.7 | H20: =ROUND(F20*G20,2) -> 0 | K20: =H20+I20+J20 -> 0 | L20: =ROUND(E20*F20,2) -> 0 | M20: =ROUND(E20*H20,2) -> 0 | N20: =ROUND(E20*I20,2) -> 0 | O20: =ROUND(E20*J20,2) -> 0 | P20: =M20+N20+O20 -> 0
A21: 1.5 | C21: Esošā ķieģeļu mūra virsmas attīrīšana, noklāšana ar cietinošu, fiksējošu pārklājumu, gruntēšana | D21: m2 | E21: 161.7 | H21: =ROUND(F21*G21,2) -> 0 | K21: =H21+I21+J21 -> 0 | L21: =ROUND(E21*F21,2) -> 0 | M21: =ROUND(E21*H21,2) -> 0 | N21: =ROUND(E21*I21,2) -> 0 | O21: =ROUND(E21*J21,2) -> 0 | P21: =M21+N21+O21 -> 0
A22: 1.6 | C22: Ailu aizmūrējums, iesk.mūrjavu | D22: m3 | E22: 6.6 | H22: =ROUND(F22*G22,2) -> 0 | K22: =H22+I22+J22 -> 0 | L22: =ROUND(E22*F22,2) -> 0 | M22: =ROUND(E22*H22,2) -> 0 | N22: =ROUND(E22*I22,2) -> 0 | O22: =ROUND(E22*J22,2) -> 0 | P22: =M22+N22+O22 -> 0
A23: 1.7 | C23: Daļēja apmetuma demontāža. Esoša apdare, kura ir pietiekoši stabila un nekrīt nost, saglabājama, attīrāma un eksponējama | D23: m2 | E23: 161.7 | H23: =ROUND(F23*G23,2) -> 0 | K23: =H23+I23+J23 -> 0 | L23: =ROUND(E23*F23,2) -> 0 | M23: =ROUND(E23*H23,2) -> 0 | N23: =ROUND(E23*I23,2) -> 0 | O23: =ROUND(E23*J23,2) -> 0 | P23: =M23+N23+O23 -> 0
A24: 2 | C24: Ārsienu konstrukcija S2 (jauna siena) (REI-60/A1)
A25: 2.1 | C25: Izlīdzinošais apmetums, mūra šuvju aizpildīšana 5mm (ugunsreakcijas klase A1) | D25: m2 | E25: 121.2 | H25: =ROUND(F25*G25,2) -> 0 | K25: =H25+I25+J25 -> 0 | L25: =ROUND(E25*F25,2) -> 0 | M25: =ROUND(E25*H25,2) -> 0 | N25: =ROUND(E25*I25,2) -> 0 | O25: =ROUND(E25*J25,2) -> 0 | P25: =M25+N25+O25 -> 0
A26: 2.2 | C26: ISOVER minerālvate 2030mm uz jauna keramzītbetona bloku mūra (ugunsreakcijas klase A1) | D26: m2 | E26: 121.2 | H26: =ROUND(F26*G26,2) -> 0 | K26: =H26+I26+J26 -> 0 | L26: =ROUND(E26*F26,2) -> 0 | M26: =ROUND(E26*H26,2) -> 0 | N26: =ROUND(E26*I26,2) -> 0 | O26: =ROUND(E26*J26,2) -> 0 | P26: =M26+N26+O26 -> 0
A27: 2.3 | C27: Eksponēts bloku mūris, apstrādāts ar pretputekļu pārklājumu (ugunsreakcijas klase A1) | D27: m2 | E27: 121.2 | H27: =ROUND(F27*G27,2) -> 0 | K27: =H27+I27+J27 -> 0 | L27: =ROUND(E27*F27,2) -> 0 | M27: =ROUND(E27*H27,2) -> 0 | N27: =ROUND(E27*I27,2) -> 0 | O27: =ROUND(E27*J27,2) -> 0 | P27: =M27+N27+O27 -> 0
A28: 3 | C28: Ārsienu konstrukcija S3 (jauna siena- parapets (REI-60/A1))
A29: 3.1 | C29: Kaļķa javas apmetums, virsmas faktūra analoga filmu skolai, krāsots caurspīdīgs ar Baumit metallic, tonis NCS S8000-N 20mm (ugunsreakcijas klase A1) | D29: m2 | E29: 22.1 | H29: =ROUND(F29*G29,2) -> 0 | K29: =H29+I29+J29 -> 0 | L29: =ROUND(E29*F29,2) -> 0 | M29: =ROUND(E29*H29,2) -> 0 | N29: =ROUND(E29*I29,2) -> 0 | O29: =ROUND(E29*J29,2) -> 0 | P29: =M29+N29+O29 -> 0
A30: 3.2 | C30: Cinkots metāla siets 20x20mm, stieples biezums 0,8mm, stiprināts pie fasādes ar Weber Merk kronšteiniem (ugunsreakcijas klase A1) | D30: m2 | E30: 22.1 | H30: =ROUND(F30*G30,2) -> 0 | K30: =H30+I30+J30 -> 0 | L30: =ROUND(E30*F30,2) -> 0 | M30: =ROUND(E30*H30,2) -> 0 | N30: =ROUND(E30*I30,2) -> 0 | O30: =ROUND(E30*J30,2) -> 0 | P30: =M30+N30+O30 -> 0
A31: 3.3 | C31: Fasāžu akmens vates siltumizolācijas sistēma ʎ=0.037 (W/mxK), stiprināta pie fasādes ar dībeļiem (ugunsreakcijas klase A1) 50mm | D31: m2 | E31: 22.1 | H31: =ROUND(F31*G31,2) -> 0 | K31: =H31+I31+J31 -> 0 | L31: =ROUND(E31*F31,2) -> 0 | M31: =ROUND(E31*H31,2) -> 0 | N31: =ROUND(E31*I31,2) -> 0 | O31: =ROUND(E31*J31,2) -> 0 | P31: =M31+N31+O31 -> 0
A32: 3.4 | C32: Javas slānis 10mm (ugunsreakcijas klase A1) | D32: m2 | E32: 22.1 | H32: =ROUND(F32*G32,2) -> 0 | K32: =H32+I32+J32 -> 0 | L32: =ROUND(E32*F32,2) -> 0 | M32: =ROUND(E32*H32,2) -> 0 | N32: =ROUND(E32*I32,2) -> 0 | O32: =ROUND(E32*J32,2) -> 0 | P32: =M32+N32+O32 -> 0
A33: 3.5 | C33: Keramzītbetona bloku mūris 200mm, FIBO bloki 5 Mpa (vai līdzvērtīgi), iesk.mūrjavu un armatūru atbilstoši ražotāja tehnoloģijai (ugunsreakcijas klase A1) | D33: m3 | E33: 4.42 | H33: =ROUND(F33*G33,2) -> 0 | K33: =H33+I33+J33 -> 0 | L33: =ROUND(E33*F33,2) -> 0 | M33: =ROUND(E33*H33,2) -> 0 | N33: =ROUND(E33*I33,2) -> 0 | O33: =ROUND(E33*J33,2) -> 0 | P33: =M33+N33+O33 -> 0
A34: 3.6 | C34: Javas slānis 10mm (ugunsreakcijas klase A1) | D34: m2 | E34: 22.1 | H34: =ROUND(F34*G34,2) -> 0 | K34: =H34+I34+J34 -> 0 | L34: =ROUND(E34*F34,2) -> 0 | M34: =ROUND(E34*H34,2) -> 0 | N34: =ROUND(E34*I34,2) -> 0 | O34: =ROUND(E34*J34,2) -> 0 | P34: =M34+N34+O34 -> 0
A35: 3.7 | C35: Fasāžu akmens vates siltumizolācijas sistēma ʎ=0.037 (W/mxK), stiprināta pie fasādes ar dībeļiem 50mm (ugunsreakcijas klase A1) | D35: m2 | E35: 22.1 | H35: =ROUND(F35*G35,2) -> 0 | K35: =H35+I35+J35 -> 0 | L35: =ROUND(E35*F35,2) -> 0 | M35: =ROUND(E35*H35,2) -> 0 | N35: =ROUND(E35*I35,2) -> 0 | O35: =ROUND(E35*J35,2) -> 0 | P35: =M35+N35+O35 -> 0
A36: 3.8 | C36: Cinkots metāla siets 20x20mm, stieples biezums 0,8mm, stiprināts pie fasādes ar Weber Merk kronšteiniem (ugunsreakcijas klase A1) | D36: m2 | E36: 22.1 | H36: =ROUND(F36*G36,2) -> 0 | K36: =H36+I36+J36 -> 0 | L36: =ROUND(E36*F36,2) -> 0 | M36: =ROUND(E36*H36,2) -> 0 | N36: =ROUND(E36*I36,2) -> 0 | O36: =ROUND(E36*J36,2) -> 0 | P36: =M36+N36+O36 -> 0
A37: 3.9 | C37: Kaļķa javas apmetums, virsmas faktūra analoga filmu skolai, krāsots caurspīdīgs ar Baumit metallic, tonis NCS S8000-N 20mm (ugunsreakcijas klase A1) | D37: m2 | E37: 22.1 | H37: =ROUND(F37*G37,2) -> 0 | K37: =H37+I37+J37 -> 0 | L37: =ROUND(E37*F37,2) -> 0 | M37: =ROUND(E37*H37,2) -> 0 | N37: =ROUND(E37*I37,2) -> 0 | O37: =ROUND(E37*J37,2) -> 0 | P37: =M37+N37+O37 -> 0
A38: 4 | C38: Ārsienu konstrukcija S4 (jauna siena- jumta izbūve) (R-60/B-s1, d0)
A39: 4.1 | C39: Kaļķa javas apmetums, virsmas faktūra analoga filmu skolai, krāsots caurspīdīgs ar Baumit metallic, tonis NCS S8000-N 20mm | D39: m2 | E39: 66 | H39: =ROUND(F39*G39,2) -> 0 | K39: =H39+I39+J39 -> 0 | L39: =ROUND(E39*F39,2) -> 0 | M39: =ROUND(E39*H39,2) -> 0 | N39: =ROUND(E39*I39,2) -> 0 | O39: =ROUND(E39*J39,2) -> 0 | P39: =M39+N39+O39 -> 0
A40: 4.2 | C40: Cinkots metāla siets 20x20mm, stieples biezums 0,8mm, stiprināts pie fasādes ar Weber Merk kronšteiniem | D40: m2 | E40: 66 | H40: =ROUND(F40*G40,2) -> 0 | K40: =H40+I40+J40 -> 0 | L40: =ROUND(E40*F40,2) -> 0 | M40: =ROUND(E40*H40,2) -> 0 | N40: =ROUND(E40*I40,2) -> 0 | O40: =ROUND(E40*J40,2) -> 0 | P40: =M40+N40+O40 -> 0
A41: 4.3 | C41: ISOVER 3 minerālvate uz Weber Merk kronšteiniem 200mm | D41: m2 | E41: 66 | H41: =ROUND(F41*G41,2) -> 0 | K41: =H41+I41+J41 -> 0 | L41: =ROUND(E41*F41,2) -> 0 | M41: =ROUND(E41*H41,2) -> 0 | N41: =ROUND(E41*I41,2) -> 0 | O41: =ROUND(E41*J41,2) -> 0 | P41: =M41+N41+O41 -> 0
A42: 5 | C42: Iekšsienu konstrukcija S5 (jauna siena)
...

Sheet 1-4_Jumts
P1: 03.05.2017. MK noteikumu Nr.239 5.pielikums
C2: LOKĀLĀ TĀME Nr. | D2: 1-4
A3: JUMTA KONSTRUKCIJAS
A4: (būvdarbu veids vai konstruktīvā elementa nosaukums)
A5: =Kopsav.!A7:I7 -> Objekta nosaukums: Ēkas Miera ielā 58a (kad. Nr. 0100 026 0092 005) un Ēkas Miera ielā 58a (kad. Nr. 0100 026 2024 005), Rīga daļas pārbūve Kino muzeja vajadzībām
A6: =KOPTĀME!A12 -> Būves nosaukums: Darbnīca, Teātris
A7: =KOPTĀME!A13 -> Objekta adrese: Miera ielā 58a, Rīga
A8: =KOPTĀME!A14 -> Pasūtījuma Nr. LKA 2026/14
A10: Tāme sastādīta 2026.gada tirgus cenās, pamatojoties uz AR daļas rasējumiem.
M11: Tāmes izmaksas | N11: =P44 -> 0 | P11: euro
M12: Tāme sastādīta | N12: =IF(KOPTĀME!B28=0,"",KOPTĀME!B28)
A14: Nr.p.k. | B14: Kods | C14: Būvdarbu nosaukums | D14: Mērvienība | E14: Daudzums | F14: Vienības izmaksas | L14: Kopā uz visu apjomu
F15: laika norma (c/h) | G15: darba samaksas likme* (euro/h) | H15: darba alga | I15: būvizstrādājumi | J15: mehānismi | K15: kopā | L15: darbietilpība (c/h) | M15: darba alga | N15: būvizstrādājumi | O15: mehānismi | P15: summa
A16: 1 | C16: Jumta konstrukcija J1 (esošs, siltināts jumts)
A17: 1.1 | C17: Ruukki viļņoto metāla lokšņu montāža Tokyo S18 18mm | D17: m2 | E17: 61.2 | H17: =ROUND(F17*G17,2) -> 0 | K17: =H17+I17+J17 -> 0 | L17: =ROUND(E17*F17,2) -> 0 | M17: =ROUND(E17*H17,2) -> 0 | N17: =ROUND(E17*I17,2) -> 0 | O17: =ROUND(E17*J17,2) -> 0 | P17: =M17+N17+O17 -> 0
A18: 1.2 | C18: Šķērslatojums 38x100mm | D18: m2 | E18: 61.2 | H18: =ROUND(F18*G18,2) -> 0 | K18: =H18+I18+J18 -> 0 | L18: =ROUND(E18*F18,2) -> 0 | M18: =ROUND(E18*H18,2) -> 0 | N18: =ROUND(E18*I18,2) -> 0 | O18: =ROUND(E18*J18,2) -> 0 | P18: =M18+N18+O18 -> 0
A19: 1.3 | C19: Garenlatojums 50x70mm | D19: m2 | E19: 61.2 | H19: =ROUND(F19*G19,2) -> 0 | K19: =H19+I19+J19 -> 0 | L19: =ROUND(E19*F19,2) -> 0 | M19: =ROUND(E19*H19,2) -> 0 | N19: =ROUND(E19*I19,2) -> 0 | O19: =ROUND(E19*J19,2) -> 0 | P19: =M19+N19+O19 -> 0
A20: 1.4 | C20: Difūzijas membrāna Tyvek Supro Plus tape vai līdzvērtīgs | D20: m2 | E20: 61.2 | H20: =ROUND(F20*G20,2) -> 0 | K20: =H20+I20+J20 -> 0 | L20: =ROUND(E20*F20,2) -> 0 | M20: =ROUND(E20*H20,2) -> 0 | N20: =ROUND(E20*I20,2) -> 0 | O20: =ROUND(E20*J20,2) -> 0 | P20: =M20+N20+O20 -> 0
A21: 1.5 | C21: Siltumizolācija <0,035 W/MK (ISOVER KL 35 vai līdzvērtīgs) 200mm | D21: m2 | E21: 61.2 | H21: =ROUND(F21*G21,2) -> 0 | K21: =H21+I21+J21 -> 0 | L21: =ROUND(E21*F21,2) -> 0 | M21: =ROUND(E21*H21,2) -> 0 | N21: =ROUND(E21*I21,2) -> 0 | O21: =ROUND(E21*J21,2) -> 0 | P21: =M21+N21+O21 -> 0
A22: 1.6 | C22: Koka karkass 50x200mm, solis 600mm | D22: m2 | E22: 61.2 | H22: =ROUND(F22*G22,2) -> 0 | K22: =H22+I22+J22 -> 0 | L22: =ROUND(E22*F22,2) -> 0 | M22: =ROUND(E22*H22,2) -> 0 | N22: =ROUND(E22*I22,2) -> 0 | O22: =ROUND(E22*J22,2) -> 0 | P22: =M22+N22+O22 -> 0
A23: 1.7 | C23: Tvaika izolācija Sd5m uz esošiem betona paneļiem (R-60/B-s1, d0) | D23: m2 | E23: 61.2 | H23: =ROUND(F23*G23,2) -> 0 | K23: =H23+I23+J23 -> 0 | L23: =ROUND(E23*F23,2) -> 0 | M23: =ROUND(E23*H23,2) -> 0 | N23: =ROUND(E23*I23,2) -> 0 | O23: =ROUND(E23*J23,2) -> 0 | P23: =M23+N23+O23 -> 0
A24: 2 | C24: Jumta konstrukcija J2 (esošs, siltināts jumts)
A25: 2.1 | C25: Ruukki viļņoto metāla lokšņu montāža Tokyo S18 18mm | D25: m2 | E25: 215 | H25: =ROUND(F25*G25,2) -> 0 | K25: =H25+I25+J25 -> 0 | L25: =ROUND(E25*F25,2) -> 0 | M25: =ROUND(E25*H25,2) -> 0 | N25: =ROUND(E25*I25,2) -> 0 | O25: =ROUND(E25*J25,2) -> 0 | P25: =M25+N25+O25 -> 0
A26: 2.2 | C26: Šķērslatojums 38x100mm | D26: m2 | E26: 215 | H26: =ROUND(F26*G26,2) -> 0 | K26: =H26+I26+J26 -> 0 | L26: =ROUND(E26*F26,2) -> 0 | M26: =ROUND(E26*H26,2) -> 0 | N26: =ROUND(E26*I26,2) -> 0 | O26: =ROUND(E26*J26,2) -> 0 | P26: =M26+N26+O26 -> 0
A27: 2.3 | C27: Garenlatojums 50x70mm | D27: m2 | E27: 215 | H27: =ROUND(F27*G27,2) -> 0 | K27: =H27+I27+J27 -> 0 | L27: =ROUND(E27*F27,2) -> 0 | M27: =ROUND(E27*H27,2) -> 0 | N27: =ROUND(E27*I27,2) -> 0 | O27: =ROUND(E27*J27,2) -> 0 | P27: =M27+N27+O27 -> 0
A28: 2.4 | C28: Difūzijas membrāna Tyvek Supro Plus tape vai līdzvērtīgs | D28: m2 | E28: 215 | H28: =ROUND(F28*G28,2) -> 0 | K28: =H28+I28+J28 -> 0 | L28: =ROUND(E28*F28,2) -> 0 | M28: =ROUND(E28*H28,2) -> 0 | N28: =ROUND(E28*I28,2) -> 0 | O28: =ROUND(E28*J28,2) -> 0 | P28: =M28+N28+O28 -> 0
A29: 2.5 | C29: Siltumizolācija <0,035 W/MK (ISOVER KL 35 vai līdzvērtīgs) 200mm | D29: m2 | E29: 215 | H29: =ROUND(F29*G29,2) -> 0 | K29: =H29+I29+J29 -> 0 | L29: =ROUND(E29*F29,2) -> 0 | M29: =ROUND(E29*H29,2) -> 0 | N29: =ROUND(E29*I29,2) -> 0 | O29: =ROUND(E29*J29,2) -> 0 | P29: =M29+N29+O29 -> 0
A30: 2.6 | C30: Koka karkass 50x200mm, solis 600mm | D30: m2 | E30: 215 | H30: =ROUND(F30*G30,2) -> 0 | K30: =H30+I30+J30 -> 0 | L30: =ROUND(E30*F30,2) -> 0 | M30: =ROUND(E30*H30,2) -> 0 | N30: =ROUND(E30*I30,2) -> 0 | O30: =ROUND(E30*J30,2) -> 0 | P30: =M30+N30+O30 -> 0
A31: 2.7 | C31: Tvaika izolācija Sd5m uz esošiem betona paneļiem (R-60/B-s1, d0) | D31: m2 | E31: 215 | H31: =ROUND(F31*G31,2) -> 0 | K31: =H31+I31+J31 -> 0 | L31: =ROUND(E31*F31,2) -> 0 | M31: =ROUND(E31*H31,2) -> 0 | N31: =ROUND(E31*I31,2) -> 0 | O31: =ROUND(E31*J31,2) -> 0 | P31: =M31+N31+O31 -> 0
A32: 3 | C32: Jumta konstrukcija J3 (jauns jumts)
A33: 3.1 | C33: Ruukki viļņoto metāla lokšņu montāža Tokyo S18 18mm | D33: m2 | E33: 28 | H33: =ROUND(F33*G33,2) -> 0 | K33: =H33+I33+J33 -> 0 | L33: =ROUND(E33*F33,2) -> 0 | M33: =ROUND(E33*H33,2) -> 0 | N33: =ROUND(E33*I33,2) -> 0 | O33: =ROUND(E33*J33,2) -> 0 | P33: =M33+N33+O33 -> 0
A34: 3.2 | C34: Šķērslatojums 38x100mm | D34: m2 | E34: 28 | H34: =ROUND(F34*G34,2) -> 0 | K34: =H34+I34+J34 -> 0 | L34: =ROUND(E34*F34,2) -> 0 | M34: =ROUND(E34*H34,2) -> 0 | N34: =ROUND(E34*I34,2) -> 0 | O34: =ROUND(E34*J34,2) -> 0 | P34: =M34+N34+O34 -> 0
A35: 3.3 | C35: Garenlatojums 50x70mm | D35: m2 | E35: 28 | H35: =ROUND(F35*G35,2) -> 0 | K35: =H35+I35+J35 -> 0 | L35: =ROUND(E35*F35,2) -> 0 | M35: =ROUND(E35*H35,2) -> 0 | N35: =ROUND(E35*I35,2) -> 0 | O35: =ROUND(E35*J35,2) -> 0 | P35: =M35+N35+O35 -> 0
A36: 3.4 | C36: Difūzijas membrāna Tyvek Supro Plus tape vai līdzvērtīgs | D36: m2 | E36: 28 | H36: =ROUND(F36*G36,2) -> 0 | K36: =H36+I36+J36 -> 0 | L36: =ROUND(E36*F36,2) -> 0 | M36: =ROUND(E36*H36,2) -> 0 | N36: =ROUND(E36*I36,2) -> 0 | O36: =ROUND(E36*J36,2) -> 0 | P36: =M36+N36+O36 -> 0
A37: 3.5 | C37: Siltumizolācija <0,035 W/MK (ISOVER KL 35 vai līdzvērtīgs) 200mm 350mm | D37: m2 | E37: 28 | H37: =ROUND(F37*G37,2) -> 0 | K37: =H37+I37+J37 -> 0 | L37: =ROUND(E37*F37,2) -> 0 | M37: =ROUND(E37*H37,2) -> 0 | N37: =ROUND(E37*I37,2) -> 0 | O37: =ROUND(E37*J37,2) -> 0 | P37: =M37+N37+O37 -> 0
A38: 3.6 | C38: Koka karkass 50x200mm 50x350mm, solis 600mm | D38: m2 | E38: 28 | H38: =ROUND(F38*G38,2) -> 0 | K38: =H38+I38+J38 -> 0 | L38: =ROUND(E38*F38,2) -> 0 | M38: =ROUND(E38*H38,2) -> 0 | N38: =ROUND(E38*I38,2) -> 0 | O38: =ROUND(E38*J38,2) -> 0 | P38: =M38+N38+O38 -> 0
A39: 3.7 | C39: Tvaika izolācija Sd5m uz esošiem betona paneļiem (R-60/B-s1, d0) | D39: m2 | E39: 28 | H39: =ROUND(F39*G39,2) -> 0 | K39: =H39+I39+J39 -> 0 | L39: =ROUND(E39*F39,2) -> 0 | M39: =ROUND(E39*H39,2) -> 0 | N39: =ROUND(E39*I39,2) -> 0 | O39: =ROUND(E39*J39,2) -> 0 | P39: =M39+N39+O39 -> 0
A40: 4 | C40: Tehniskās izbūves jumts
A41: 4.1 | C41: Papildus tehniskās izbūves jumta siltinājums 150mm, siltumizolācija <0,035 W/MK (ISOVER KL 35 vai līdzvērtīgs) | D41: m2 | E41: 27 | H41: =ROUND(F41*G41,2) -> 0 | K41: =H41+I41+J41 -> 0 | L41: =ROUND(E41*F41,2) -> 0 | M41: =ROUND(E41*H41,2) -> 0 | N41: =ROUND(E41*I41,2) -> 0 | O41: =ROUND(E41*J41,2) -> 0 | P41: =M41+N41+O41 -> 0
A42: 4.2 | C42: Koka karkass 50x150mm, solis 600mm | D42: m2 | E42: 27 | H42: =ROUND(F42*G42,2) -> 0 | K42: =H42+I42+J42 -> 0 | L42: =ROUND(E42*F42,2) -> 0 | M42: =ROUND(E42*H42,2) -> 0 | N42: =ROUND(E42*I42,2) -> 0 | O42: =ROUND(E42*J42,2) -> 0 | P42: =M42+N42+O42 -> 0
...

Sheet 1-5_grīdas
P1: 03.05.2017. MK noteikumu Nr.239 5.pielikums
C2: LOKĀLĀ TĀME Nr. | D2: 1-5
A3: GRĪDU KONSTRUKCIJAS
A4: (būvdarbu veids vai konstruktīvā elementa nosaukums)
A5: =Kopsav.!A7:I7 -> Objekta nosaukums: Ēkas Miera ielā 58a (kad. Nr. 0100 026 0092 005) un Ēkas Miera ielā 58a (kad. Nr. 0100 026 2024 005), Rīga daļas pārbūve Kino muzeja vajadzībām
A6: =KOPTĀME!A12 -> Būves nosaukums: Darbnīca, Teātris
A7: =KOPTĀME!A13 -> Objekta adrese: Miera ielā 58a, Rīga
A8: =KOPTĀME!A14 -> Pasūtījuma Nr. LKA 2026/14
A10: Tāme sastādīta 2026.gada tirgus cenās, pamatojoties uz AR daļas rasējumiem.
M11: Tāmes izmaksas | N11: =P44 -> 0 | P11: euro
M12: Tāme sastādīta | N12: =IF(KOPTĀME!B28=0,"",KOPTĀME!B28)
A14: Nr.p.k. | B14: Kods | C14: Būvdarbu nosaukums | D14: Mērvienība | E14: Daudzums | F14: Vienības izmaksas | L14: Kopā uz visu apjomu
F15: laika norma (c/h) | G15: darba samaksas likme* (euro/h) | H15: darba alga | I15: būvizstrādājumi | J15: mehānismi | K15: kopā | L15: darbietilpība (c/h) | M15: darba alga | N15: būvizstrādājumi | O15: mehānismi | P15: summa
A16: 1 | C16: Grīdu konstrukcija G1 (grīda uz grunts)
A17: 1.1 | C17: Ekstrudētā putupolistirola siltumizolācija 150mm | D17: m2 | E17: 203.7 | H17: =ROUND(F17*G17,2) -> 0 | K17: =H17+I17+J17 -> 0 | L17: =ROUND(E17*F17,2) -> 0 | M17: =ROUND(E17*H17,2) -> 0 | N17: =ROUND(E17*I17,2) -> 0 | O17: =ROUND(E17*J17,2) -> 0 | P17: =M17+N17+O17 -> 0
A18: 1.2 | C18: Horizontālās hidroizolācijas sistēma 3mm | D18: m2 | E18: 203.7 | H18: =ROUND(F18*G18,2) -> 0 | K18: =H18+I18+J18 -> 0 | L18: =ROUND(E18*F18,2) -> 0 | M18: =ROUND(E18*H18,2) -> 0 | N18: =ROUND(E18*I18,2) -> 0 | O18: =ROUND(E18*J18,2) -> 0 | P18: =M18+N18+O18 -> 0
A19: 1.3 | C19: Betons C12/15 sagatavošanas kārta 70mm | D19: m3 | E19: 14.3 | H19: =ROUND(F19*G19,2) -> 0 | K19: =H19+I19+J19 -> 0 | L19: =ROUND(E19*F19,2) -> 0 | M19: =ROUND(E19*H19,2) -> 0 | N19: =ROUND(E19*I19,2) -> 0 | O19: =ROUND(E19*J19,2) -> 0 | P19: =M19+N19+O19 -> 0
A20: 1.4 | C20: Dolomīta šķembu, fr.0-16, pamatojums 300mm uz blietētas grunts | D20: m3 | E20: 61.1 | H20: =ROUND(F20*G20,2) -> 0 | K20: =H20+I20+J20 -> 0 | L20: =ROUND(E20*F20,2) -> 0 | M20: =ROUND(E20*H20,2) -> 0 | N20: =ROUND(E20*I20,2) -> 0 | O20: =ROUND(E20*J20,2) -> 0 | P20: =M20+N20+O20 -> 0
A21: 1.4.1. | C21: Slīpēta, cietināta betona virsmas apdare | D21: m2 | E21: 203.7
A22: 1.5 | C22: Epoksīda pārklājums (-Elastīgs epoksīda/PU grīdas slānis ar pretslīdes piedevām- R10 klase ~3-5mm RAL-7045 (toni precizēt autoruzraudzības gaitā!) Piem.: Sika ComfortFloor PS-23) | D22: m2 | E22: 203.7 | H22: =ROUND(F22*G22,2) -> 0 | K22: =H22+I22+J22 -> 0 | L22: =ROUND(E22*F22,2) -> 0 | M22: =ROUND(E22*H22,2) -> 0 | N22: =ROUND(E22*I22,2) -> 0 | O22: =ROUND(E22*J22,2) -> 0 | P22: =M22+N22+O22 -> 0
A23: 2 | C23: Grīdu konstrukcija G2 (grīda uz grunts)
A24: 2.1 | C24: Ekstrudētā putupolistirola siltumizolācija 150mm | D24: m2 | E24: 65.5 | H24: =ROUND(F24*G24,2) -> 0 | K24: =H24+I24+J24 -> 0 | L24: =ROUND(E24*F24,2) -> 0 | M24: =ROUND(E24*H24,2) -> 0 | N24: =ROUND(E24*I24,2) -> 0 | O24: =ROUND(E24*J24,2) -> 0 | P24: =M24+N24+O24 -> 0
A25: 2.2 | C25: Horizontālās hidroizolācijas sistēma 3mm | D25: m2 | E25: 65.5 | H25: =ROUND(F25*G25,2) -> 0 | K25: =H25+I25+J25 -> 0 | L25: =ROUND(E25*F25,2) -> 0 | M25: =ROUND(E25*H25,2) -> 0 | N25: =ROUND(E25*I25,2) -> 0 | O25: =ROUND(E25*J25,2) -> 0 | P25: =M25+N25+O25 -> 0
A26: 2.3 | C26: Betons C12/15 sagatavošanas kārta 70mm | D26: m3 | E26: 4.6 | H26: =ROUND(F26*G26,2) -> 0 | K26: =H26+I26+J26 -> 0 | L26: =ROUND(E26*F26,2) -> 0 | M26: =ROUND(E26*H26,2) -> 0 | N26: =ROUND(E26*I26,2) -> 0 | O26: =ROUND(E26*J26,2) -> 0 | P26: =M26+N26+O26 -> 0
A27: 2.4 | C27: Dolomīta šķembu, fr.0-16, pamatojums 300mm uz blietētas grunts | D27: m3 | E27: 19.7 | H27: =ROUND(F27*G27,2) -> 0 | K27: =H27+I27+J27 -> 0 | L27: =ROUND(E27*F27,2) -> 0 | M27: =ROUND(E27*H27,2) -> 0 | N27: =ROUND(E27*I27,2) -> 0 | O27: =ROUND(E27*J27,2) -> 0 | P27: =M27+N27+O27 -> 0
A28: 2.5 | C28: Epoksīda pārklājums (-Elastīgs epoksīda/PU grīdas slānis ar pretslīdes piedevām- R10 klase ~3-5mm RAL-7045 (toni precizēt autoruzraudzības gaitā!) Piem.: Sika ComfortFloor PS-23) | D28: m2 | E28: 65.5 | H28: =ROUND(F28*G28,2) -> 0 | K28: =H28+I28+J28 -> 0 | L28: =ROUND(E28*F28,2) -> 0 | M28: =ROUND(E28*H28,2) -> 0 | N28: =ROUND(E28*I28,2) -> 0 | O28: =ROUND(E28*J28,2) -> 0 | P28: =M28+N28+O28 -> 0
A29: 3 | C29: Grīdu konstrukcija G3 (2.stāva grīda) (REI-60/B-s1, d0)
A30: 3.1 | C30: Siltumizolācijas aizpildījums (ISOVER KL 37 vai līdzvērtīgs) uz esošiem paneļiem 150-550mm (ugunsreakcijas klase vismaz B-s1, d0) | D30: m2 | E30: 20.9 | H30: =ROUND(F30*G30,2) -> 0 | K30: =H30+I30+J30 -> 0 | L30: =ROUND(E30*F30,2) -> 0 | M30: =ROUND(E30*H30,2) -> 0 | N30: =ROUND(E30*I30,2) -> 0 | O30: =ROUND(E30*J30,2) -> 0 | P30: =M30+N30+O30 -> 0
A31: 3.2 | C31: CLT paneļa virskārtas slīpēšana, ūdens bāzes lakas pārklājums | D31: m2 | E31: 20.9 | H31: =ROUND(F31*G31,2) -> 0 | K31: =H31+I31+J31 -> 0 | L31: =ROUND(E31*F31,2) -> 0 | M31: =ROUND(E31*H31,2) -> 0 | N31: =ROUND(E31*I31,2) -> 0 | O31: =ROUND(E31*J31,2) -> 0 | P31: =M31+N31+O31 -> 0
A32: 4 | C32: Griestu papildus siltināšana
A33: 4.1 | C33: Betona griestu paneļu attīrīšana, gruntēšana, virsmas izlīdzināšana | D33: m2 | E33: 270 | H33: =ROUND(F33*G33,2) -> 0 | K33: =H33+I33+J33 -> 0 | L33: =ROUND(E33*F33,2) -> 0 | M33: =ROUND(E33*H33,2) -> 0 | N33: =ROUND(E33*I33,2) -> 0 | O33: =ROUND(E33*J33,2) -> 0 | P33: =M33+N33+O33 -> 0
A34: 4.2 | C34: PAROC CGL 20cy akmens vates lameles uz griestiem 150mm, iesk.līmi PAROC SW | D34: m2 | E34: 270 | H34: =ROUND(F34*G34,2) -> 0 | K34: =H34+I34+J34 -> 0 | L34: =ROUND(E34*F34,2) -> 0 | M34: =ROUND(E34*H34,2) -> 0 | N34: =ROUND(E34*I34,2) -> 0 | O34: =ROUND(E34*J34,2) -> 0 | P34: =M34+N34+O34 -> 0
A35: 5 | C35: Panduss
A36: 5.1 | C36: Ar epoksīda grīdas krāsu (-Elastīgs epoksīda/PU grīdas slānis ar pretslīdes piedevām- R10 klase ~3-5mm RAL-7045 (toni precizēt autoruzraudzības gaitā!) Piem.: Sika ComfortFloor PS-23) krāsots mitrumizturīgais saplāksnis uz koka nesošās grīdas konstrukcijas | D36: m2 | E36: 93 | H36: =ROUND(F36*G36,2) -> 0 | K36: =H36+I36+J36 -> 0 | L36: =ROUND(E36*F36,2) -> 0 | M36: =ROUND(E36*H36,2) -> 0 | N36: =ROUND(E36*I36,2) -> 0 | O36: =ROUND(E36*J36,2) -> 0 | P36: =M36+N36+O36 -> 0
A37: 6 | C37: Grīda telpā Nr.001-25
A38: 6.1 | C38: Līmeņota koka apakškonstrukcija 150x60mm | D38: m2 | E38: 72.9 | H38: =ROUND(F38*G38,2) -> 0 | K38: =H38+I38+J38 -> 0 | L38: =ROUND(E38*F38,2) -> 0 | M38: =ROUND(E38*H38,2) -> 0 | N38: =ROUND(E38*I38,2) -> 0 | O38: =ROUND(E38*J38,2) -> 0 | P38: =M38+N38+O38 -> 0
A39: 6.2 | C39: OSB klājs 22mm | D39: m2 | E39: 72.9 | H39: =ROUND(F39*G39,2) -> 0 | K39: =H39+I39+J39 -> 0 | L39: =ROUND(E39*F39,2) -> 0 | M39: =ROUND(E39*H39,2) -> 0 | N39: =ROUND(E39*I39,2) -> 0 | O39: =ROUND(E39*J39,2) -> 0 | P39: =M39+N39+O39 -> 0
A40: 6.3 | C40: Poliuretāna līme | D40: m2 | E40: 72.9 | H40: =ROUND(F40*G40,2) -> 0 | K40: =H40+I40+J40 -> 0 | L40: =ROUND(E40*F40,2) -> 0 | M40: =ROUND(E40*H40,2) -> 0 | N40: =ROUND(E40*I40,2) -> 0 | O40: =ROUND(E40*J40,2) -> 0 | P40: =M40+N40+O40 -> 0
A41: 6.4 | C41: Slīpēta mitrumizturīga saplākšņa grīda (šuves špaktelēt, slīpēt, skrūves iedziļināt, špaktelēt, slīpēt) 21mm | D41: m2 | E41: 72.9 | H41: =ROUND(F41*G41,2) -> 0 | K41: =H41+I41+J41 -> 0 | L41: =ROUND(E41*F41,2) -> 0 | M41: =ROUND(E41*H41,2) -> 0 | N41: =ROUND(E41*I41,2) -> 0 | O41: =ROUND(E41*J41,2) -> 0 | P41: =M41+N41+O41 -> 0
A42: 6.5 | C42: Epoksīda/PU grunts | D42: m2 | E42: 72.9 | H42: =ROUND(F42*G42,2) -> 0 | K42: =H42+I42+J42 -> 0 | L42: =ROUND(E42*F42,2) -> 0 | M42: =ROUND(E42*H42,2) -> 0 | N42: =ROUND(E42*I42,2) -> 0 | O42: =ROUND(E42*J42,2) -> 0 | P42: =M42+N42+O42 -> 0
...

Sheet 1-6_logi
P1: 03.05.2017. MK noteikumu Nr.239 5.pielikums
C2: LOKĀLĀ TĀME Nr. | D2: 1-6
A3: LOGI
A4: (būvdarbu veids vai konstruktīvā elementa nosaukums)
A5: =Kopsav.!A7:I7 -> Objekta nosaukums: Ēkas Miera ielā 58a (kad. Nr. 0100 026 0092 005) un Ēkas Miera ielā 58a (kad. Nr. 0100 026 2024 005), Rīga daļas pārbūve Kino muzeja vajadzībām
A6: =KOPTĀME!A12 -> Būves nosaukums: Darbnīca, Teātris
A7: =KOPTĀME!A13 -> Objekta adrese: Miera ielā 58a, Rīga
A8: =KOPTĀME!A14 -> Pasūtījuma Nr. LKA 2026/14
A10: Tāme sastādīta 2026.gada tirgus cenās, pamatojoties uz AR daļas rasējumiem.
M11: Tāmes izmaksas | N11: =P18 -> 0 | P11: euro
M12: Tāme sastādīta | N12: =IF(KOPTĀME!B28=0,"",KOPTĀME!B28)
A14: Nr.p.k. | B14: Kods | C14: Būvdarbu nosaukums | D14: Mērvienība | E14: Daudzums | F14: Vienības izmaksas | L14: Kopā uz visu apjomu
F15: laika norma (c/h) | G15: darba samaksas likme* (euro/h) | H15: darba alga | I15: būvizstrādājumi | J15: mehānismi | K15: kopā | L15: darbietilpība (c/h) | M15: darba alga | N15: būvizstrādājumi | O15: mehānismi | P15: summa
A16: 1 | C16: Alumīnija konstrukcijas logu L1 1900x2280mm montāža, iesk.furnitūru, izolācijas lentas u.c.nepieciešamos materiālus (sask.ar ras.AR-11i) | D16: gb | E16: 2 | H16: =ROUND(F16*G16,2) -> 0 | K16: =H16+I16+J16 -> 0 | L16: =ROUND(E16*F16,2) -> 0 | M16: =ROUND(E16*H16,2) -> 0 | N16: =ROUND(E16*I16,2) -> 0 | O16: =ROUND(E16*J16,2) -> 0 | P16: =M16+N16+O16 -> 0
A17: 2 | C17: Alumīnija konstrukcijas logu L1a 1900x2280mm montāža, iesk.furnitūru, izolācijas lentas u.c.nepieciešamos materiālus (sask.ar ras.AR-11i) | D17: gb | E17: 3 | H17: =ROUND(F17*G17,2) -> 0 | K17: =H17+I17+J17 -> 0 | L17: =ROUND(E17*F17,2) -> 0 | M17: =ROUND(E17*H17,2) -> 0 | N17: =ROUND(E17*I17,2) -> 0 | O17: =ROUND(E17*J17,2) -> 0 | P17: =M17+N17+O17 -> 0
A18: TIEŠĀS IZMAKSAS KOPĀ, t. sk. darba devēja sociālais nodoklis (%) | L18: =SUM(L16:L17) -> 0 | M18: =SUM(M16:M17) -> 0 | N18: =SUM(N16:N17) -> 0 | O18: =SUM(O16:O17) -> 0 | P18: =SUM(P16:P17) -> 0
A20: Piezīmes.
A21: 1. Būvuzņēmējam jāievērtē darbu apjomu sarakstā minēto darbu veikšanai nepieciešamie materiāli un papildus darbi, kas nav minēti šajā sarakstā, bet bez
A22: kuriem nebūtu iespējama būvdarbu tehnoloģiski pareiza un spēkā esošiem normatīviem atbilstoša veikšana pilnā apmērā.
A23: 2. Darbu apjomu sarakstu skatīt kopā ar rasējumiem un specifikācijām. Gadījumā, ja darbu apjomi nesakrīt ar rasējumiem vai specifikācijām, par pareiziem
A24: jāuzskata rasējumos esošie darbu apjomi.
A25: 3. Atsevišķu materiālu apjomi doti bez rezerves.
A26: 4. Tāmēs ietvertos konkrēto ražotāju materiālus un izstrādājumus var aizvietot ar analogiem citu ražotāju materiāliem un izstrādājumiem, saskaņojot ar Arhitektu un Pasūtītāju.
C28: Sastādīja: | D28: =IF(KOPTĀME!B23=0,"",KOPTĀME!B23)
D29: (paraksts un tā atšifrējums, amats, uzņēmuma nosaukums, datums)
C31: Tāme sastādīta: | D31: =IF(KOPTĀME!B28=0,"",KOPTĀME!B28)
C33: Pārbaudīja: | D33: =IF(Kopsav.!C45=0,"",Kopsav.!C45)
D34: (paraksts un tā atšifrējums, amats, uzņēmuma nosaukums, datums)
C36: Sertifikāta Nr.: | D36: =IF(KOPTĀME!B26=0,"",KOPTĀME!B26)

Sheet 1-7_durvis
P1: 03.05.2017. MK noteikumu Nr.239 5.pielikums
C2: LOKĀLĀ TĀME Nr. | D2: 1-7
A3: DURVIS
A4: (būvdarbu veids vai konstruktīvā elementa nosaukums)
A5: =Kopsav.!A7:I7 -> Objekta nosaukums: Ēkas Miera ielā 58a (kad. Nr. 0100 026 0092 005) un Ēkas Miera ielā 58a (kad. Nr. 0100 026 2024 005), Rīga daļas pārbūve Kino muzeja vajadzībām
A6: =KOPTĀME!A12 -> Būves nosaukums: Darbnīca, Teātris
A7: =KOPTĀME!A13 -> Objekta adrese: Miera ielā 58a, Rīga
A8: =KOPTĀME!A14 -> Pasūtījuma Nr. LKA 2026/14
A10: Tāme sastādīta 2026.gada tirgus cenās, pamatojoties uz AR daļas rasējumiem.
M11: Tāmes izmaksas | N11: =P27 -> 0 | P11: euro
M12: Tāme sastādīta | N12: =IF(KOPTĀME!B28=0,"",KOPTĀME!B28)
A14: Nr.p.k. | B14: Kods | C14: Būvdarbu nosaukums | D14: Mērvienība | E14: Daudzums | F14: Vienības izmaksas | L14: Kopā uz visu apjomu
F15: laika norma (c/h) | G15: darba samaksas likme* (euro/h) | H15: darba alga | I15: būvizstrādājumi | J15: mehānismi | K15: kopā | L15: darbietilpība (c/h) | M15: darba alga | N15: būvizstrādājumi | O15: mehānismi | P15: summa
A16: 1 | C16: Jaunas divviru durvis, krāsots MDF D1 1400x2250mm, sask.ar rasējumu AR-11, iesk.furnitūru, izolācijas lentas u.c.nepieciešamos materiālus. | D16: kpl | E16: 1 | H16: =ROUND(F16*G16,2) -> 0 | K16: =H16+I16+J16 -> 0 | L16: =ROUND(E16*F16,2) -> 0 | M16: =ROUND(E16*H16,2) -> 0 | N16: =ROUND(E16*I16,2) -> 0 | O16: =ROUND(E16*J16,2) -> 0 | P16: =M16+N16+O16 -> 0
A17: 2 | C17: Jaunas durvis, krāsots MDF D2 900x2000mm, sask.ar rasējumu AR-11, iesk.furnitūru, izolācijas lentas u.c.nepieciešamos materiālus. | D17: kpl | E17: 1 | H17: =ROUND(F17*G17,2) -> 0 | K17: =H17+I17+J17 -> 0 | L17: =ROUND(E17*F17,2) -> 0 | M17: =ROUND(E17*H17,2) -> 0 | N17: =ROUND(E17*I17,2) -> 0 | O17: =ROUND(E17*J17,2) -> 0 | P17: =M17+N17+O17 -> 0
A18: 3 | C18: Jaunas metāla ārdurvis D3 800x2000mm, sask.ar rasējumu AR-11, iesk.furnitūru, izolācijas lentas u.c.nepieciešamos materiālus. | D18: kpl | E18: 1 | H18: =ROUND(F18*G18,2) -> 0 | K18: =H18+I18+J18 -> 0 | L18: =ROUND(E18*F18,2) -> 0 | M18: =ROUND(E18*H18,2) -> 0 | N18: =ROUND(E18*I18,2) -> 0 | O18: =ROUND(E18*J18,2) -> 0 | P18: =M18+N18+O18 -> 0
A19: 4 | C19: Jaunas durvis, krāsots MDF D4 1200x2150mm, sask.ar rasējumu AR-11, iesk.furnitūru, izolācijas lentas u.c.nepieciešamos materiālus. | D19: kpl | E19: 1 | H19: =ROUND(F19*G19,2) -> 0 | K19: =H19+I19+J19 -> 0 | L19: =ROUND(E19*F19,2) -> 0 | M19: =ROUND(E19*H19,2) -> 0 | N19: =ROUND(E19*I19,2) -> 0 | O19: =ROUND(E19*J19,2) -> 0 | P19: =M19+N19+O19 -> 0
A20: 5 | C20: Jaunas metāla durvis D5 1200x2150mm, EI30, sask.ar rasējumu AR-11, iesk.furnitūru, izolācijas lentas u.c.nepieciešamos materiālus. | D20: kpl | E20: 1 | H20: =ROUND(F20*G20,2) -> 0 | K20: =H20+I20+J20 -> 0 | L20: =ROUND(E20*F20,2) -> 0 | M20: =ROUND(E20*H20,2) -> 0 | N20: =ROUND(E20*I20,2) -> 0 | O20: =ROUND(E20*J20,2) -> 0 | P20: =M20+N20+O20 -> 0
A21: 6 | C21: Jaunas metāla durvis D5a 1200x2150mm, EI30, sask.ar rasējumu AR-11, iesk.furnitūru, izolācijas lentas u.c.nepieciešamos materiālus. | D21: kpl | E21: 1 | H21: =ROUND(F21*G21,2) -> 0 | K21: =H21+I21+J21 -> 0 | L21: =ROUND(E21*F21,2) -> 0 | M21: =ROUND(E21*H21,2) -> 0 | N21: =ROUND(E21*I21,2) -> 0 | O21: =ROUND(E21*J21,2) -> 0 | P21: =M21+N21+O21 -> 0
A22: 7 | C22: Jaunas durvis, krāsots MDF D6 800x2100mm, sask.ar rasējumu AR-11, iesk.furnitūru, izolācijas lentas u.c.nepieciešamos materiālus. | D22: kpl | E22: 2 | H22: =ROUND(F22*G22,2) -> 0 | K22: =H22+I22+J22 -> 0 | L22: =ROUND(E22*F22,2) -> 0 | M22: =ROUND(E22*H22,2) -> 0 | N22: =ROUND(E22*I22,2) -> 0 | O22: =ROUND(E22*J22,2) -> 0 | P22: =M22+N22+O22 -> 0
A23: 8 | C23: Jaunas durvis, krāsots MDF D7 1050x2100mm, sask.ar rasējumu AR-11, iesk.furnitūru, izolācijas lentas u.c.nepieciešamos materiālus. | D23: kpl | E23: 1 | H23: =ROUND(F23*G23,2) -> 0 | K23: =H23+I23+J23 -> 0 | L23: =ROUND(E23*F23,2) -> 0 | M23: =ROUND(E23*H23,2) -> 0 | N23: =ROUND(E23*I23,2) -> 0 | O23: =ROUND(E23*J23,2) -> 0 | P23: =M23+N23+O23 -> 0
A24: 9 | C24: Jaunas alumīnija konstrukcijas ārdurvis, 1400x2250mm, sask.ar rasējumu AR-11i, iesk.furnitūru, izolācijas lentas u.c.nepieciešamos materiālus. | D24: kpl | E24: 1 | H24: =ROUND(F24*G24,2) -> 0 | K24: =H24+I24+J24 -> 0 | L24: =ROUND(E24*F24,2) -> 0 | M24: =ROUND(E24*H24,2) -> 0 | N24: =ROUND(E24*I24,2) -> 0 | O24: =ROUND(E24*J24,2) -> 0 | P24: =M24+N24+O24 -> 0
A25: 10 | C25: Jaunas durvis, krāsots MDF 800x2100mm, sask.ar rasējumu AR-02i, iesk. visus nepieciešamos materiālus. | D25: kpl | E25: 1 | H25: =ROUND(F25*G25,2) -> 0 | K25: =H25+I25+J25 -> 0 | L25: =ROUND(E25*F25,2) -> 0 | M25: =ROUND(E25*H25,2) -> 0 | N25: =ROUND(E25*I25,2) -> 0 | O25: =ROUND(E25*J25,2) -> 0 | P25: =M25+N25+O25 -> 0
A26: 11 | C26: Durvju bloku pārvietošana, sask.ar rasējumu AR-02i, iesk.visus nepieciešamos materiālus. | D26: kpl | E26: 2 | H26: =ROUND(F26*G26,2) -> 0 | K26: =H26+I26+J26 -> 0 | L26: =ROUND(E26*F26,2) -> 0 | M26: =ROUND(E26*H26,2) -> 0 | N26: =ROUND(E26*I26,2) -> 0 | O26: =ROUND(E26*J26,2) -> 0 | P26: =M26+N26+O26 -> 0
A27: TIEŠĀS IZMAKSAS KOPĀ, t. sk. darba devēja sociālais nodoklis (%) | L27: =SUM(L16:L24) -> 0 | M27: =SUM(M16:M24) -> 0 | N27: =SUM(N16:N24) -> 0 | O27: =SUM(O16:O24) -> 0 | P27: =SUM(P16:P24) -> 0
A29: Piezīmes.
A30: 1. Būvuzņēmējam jāievērtē darbu apjomu sarakstā minēto darbu veikšanai nepieciešamie materiāli un papildus darbi, kas nav minēti šajā sarakstā, bet bez
A31: kuriem nebūtu iespējama būvdarbu tehnoloģiski pareiza un spēkā esošiem normatīviem atbilstoša veikšana pilnā apmērā.
A32: 2. Darbu apjomu sarakstu skatīt kopā ar rasējumiem un specifikācijām. Gadījumā, ja darbu apjomi nesakrīt ar rasējumiem vai specifikācijām, par pareiziem
A33: jāuzskata rasējumos esošie darbu apjomi.
A34: 3. Atsevišķu materiālu apjomi doti bez rezerves.
A35: 4. Tāmēs ietvertos konkrēto ražotāju materiālus un izstrādājumus var aizvietot ar analogiem citu ražotāju materiāliem un izstrādājumiem, saskaņojot ar Arhitektu un Pasūtītāju.
C37: Sastādīja: | D37: =IF(KOPTĀME!B23=0,"",KOPTĀME!B23)
D38: (paraksts un tā atšifrējums, amats, uzņēmuma nosaukums, datums)
C40: Tāme sastādīta: | D40: =IF(KOPTĀME!B28=0,"",KOPTĀME!B28)
C42: Pārbaudīja: | D42: =IF(Kopsav.!C45=0,"",Kopsav.!C45)
D43: (paraksts un tā atšifrējums, amats, uzņēmuma nosaukums, datums)
C45: Sertifikāta Nr.: | D45: =IF(KOPTĀME!B26=0,"",KOPTĀME!B26)

Sheet 1-8_dažādi darbi
P1: 03.05.2017. MK noteikumu Nr.239 5.pielikums
C2: LOKĀLĀ TĀME Nr. | D2: 1-8
A3: DAŽĀDI DARBI
A4: (būvdarbu veids vai konstruktīvā elementa nosaukums)
A5: =Kopsav.!A7:I7 -> Objekta nosaukums: Ēkas Miera ielā 58a (kad. Nr. 0100 026 0092 005) un Ēkas Miera ielā 58a (kad. Nr. 0100 026 2024 005), Rīga daļas pārbūve Kino muzeja vajadzībām
A6: =KOPTĀME!A12 -> Būves nosaukums: Darbnīca, Teātris
A7: =KOPTĀME!A13 -> Objekta adrese: Miera ielā 58a, Rīga
A8: =KOPTĀME!A14 -> Pasūtījuma Nr. LKA 2026/14
A10: Tāme sastādīta 2026.gada tirgus cenās, pamatojoties uz AR daļas rasējumiem.
M11: Tāmes izmaksas | N11: =P55 -> 0 | P11: euro
M12: Tāme sastādīta | N12: =IF(KOPTĀME!B28=0,"",KOPTĀME!B28)
A14: Nr.p.k. | B14: Kods | C14: Būvdarbu nosaukums | D14: Mērvienība | E14: Daudzums | F14: Vienības izmaksas | L14: Kopā uz visu apjomu
F15: laika norma (c/h) | G15: darba samaksas likme* (euro/h) | H15: darba alga | I15: būvizstrādājumi | J15: mehānismi | K15: kopā | L15: darbietilpība (c/h) | M15: darba alga | N15: būvizstrādājumi | O15: mehānismi | P15: summa
A16: 1 | C16: Mezgls 1, 2
A17: 1.1 | C17: Skārda lāsenis | D17: m | E17: 21.9 | H17: =ROUND(F17*G17,2) -> 0 | K17: =H17+I17+J17 -> 0 | L17: =ROUND(E17*F17,2) -> 0 | M17: =ROUND(E17*H17,2) -> 0 | N17: =ROUND(E17*I17,2) -> 0 | O17: =ROUND(E17*J17,2) -> 0 | P17: =M17+N17+O17 -> 0
A18: 1.2 | C18: Pretinsektu siets | D18: m | E18: 21.9 | H18: =ROUND(F18*G18,2) -> 0 | K18: =H18+I18+J18 -> 0 | L18: =ROUND(E18*F18,2) -> 0 | M18: =ROUND(E18*H18,2) -> 0 | N18: =ROUND(E18*I18,2) -> 0 | O18: =ROUND(E18*J18,2) -> 0 | P18: =M18+N18+O18 -> 0
A19: 1.3 | C19: Mitrumizturīgs saplāksnis 14mm | D19: m | E19: 21.9 | H19: =ROUND(F19*G19,2) -> 0 | K19: =H19+I19+J19 -> 0 | L19: =ROUND(E19*F19,2) -> 0 | M19: =ROUND(E19*H19,2) -> 0 | N19: =ROUND(E19*I19,2) -> 0 | O19: =ROUND(E19*J19,2) -> 0 | P19: =M19+N19+O19 -> 0
A20: 1.4 | C20: Cinkota skārda notekrene | D20: m | E20: 7.1 | H20: =ROUND(F20*G20,2) -> 0 | K20: =H20+I20+J20 -> 0 | L20: =ROUND(E20*F20,2) -> 0 | M20: =ROUND(E20*H20,2) -> 0 | N20: =ROUND(E20*I20,2) -> 0 | O20: =ROUND(E20*J20,2) -> 0 | P20: =M20+N20+O20 -> 0
A21: 1.5 | C21: Cinkota skārda notekcaurule | D21: m | E21: 2.5 | H21: =ROUND(F21*G21,2) -> 0 | K21: =H21+I21+J21 -> 0 | L21: =ROUND(E21*F21,2) -> 0 | M21: =ROUND(E21*H21,2) -> 0 | N21: =ROUND(E21*I21,2) -> 0 | O21: =ROUND(E21*J21,2) -> 0 | P21: =M21+N21+O21 -> 0
A22: 2 | C22: Mezgls 2
A23: 2.1 | C23: Skārda lāsenis | D23: m | E23: 14.8 | H23: =ROUND(F23*G23,2) -> 0 | K23: =H23+I23+J23 -> 0 | L23: =ROUND(E23*F23,2) -> 0 | M23: =ROUND(E23*H23,2) -> 0 | N23: =ROUND(E23*I23,2) -> 0 | O23: =ROUND(E23*J23,2) -> 0 | P23: =M23+N23+O23 -> 0
A24: 2.2 | C24: Pretinsektu siets | D24: m | E24: 14.8 | H24: =ROUND(F24*G24,2) -> 0 | K24: =H24+I24+J24 -> 0 | L24: =ROUND(E24*F24,2) -> 0 | M24: =ROUND(E24*H24,2) -> 0 | N24: =ROUND(E24*I24,2) -> 0 | O24: =ROUND(E24*J24,2) -> 0 | P24: =M24+N24+O24 -> 0
A25: 2.3 | C25: Mitrumizturīgs saplāksnis 14mm | D25: m | E25: 14.8 | H25: =ROUND(F25*G25,2) -> 0 | K25: =H25+I25+J25 -> 0 | L25: =ROUND(E25*F25,2) -> 0 | M25: =ROUND(E25*H25,2) -> 0 | N25: =ROUND(E25*I25,2) -> 0 | O25: =ROUND(E25*J25,2) -> 0 | P25: =M25+N25+O25 -> 0
A26: 3 | C26: Mezgls 3 (37,5m)
A27: 3.1 | C27: Grunts rakšana ar roku darbu | D27: m3 | E27: 38 | H27: =ROUND(F27*G27,2) -> 0 | K27: =H27+I27+J27 -> 0 | L27: =ROUND(E27*F27,2) -> 0 | M27: =ROUND(E27*H27,2) -> 0 | N27: =ROUND(E27*I27,2) -> 0 | O27: =ROUND(E27*J27,2) -> 0 | P27: =M27+N27+O27 -> 0
A28: 3.2 | C28: Izlīdzinošs, hidroizolējošs apmetums | D28: m2 | E28: 41.3 | H28: =ROUND(F28*G28,2) -> 0 | K28: =H28+I28+J28 -> 0 | L28: =ROUND(E28*F28,2) -> 0 | M28: =ROUND(E28*H28,2) -> 0 | N28: =ROUND(E28*I28,2) -> 0 | O28: =ROUND(E28*J28,2) -> 0 | P28: =M28+N28+O28 -> 0
A29: 3.3 | C29: Ekstrudēts putu polistirols 150mm | D29: m2 | E29: 41.3 | H29: =ROUND(F29*G29,2) -> 0 | K29: =H29+I29+J29 -> 0 | L29: =ROUND(E29*F29,2) -> 0 | M29: =ROUND(E29*H29,2) -> 0 | N29: =ROUND(E29*I29,2) -> 0 | O29: =ROUND(E29*J29,2) -> 0 | P29: =M29+N29+O29 -> 0
A30: 3.4 | C30: Masā krāsots, gluds cokola apmetums uz stikla šķiedras sieta, tonis NCS S8000-N | D30: m2 | E30: 3.8 | H30: =ROUND(F30*G30,2) -> 0 | K30: =H30+I30+J30 -> 0 | L30: =ROUND(E30*F30,2) -> 0 | M30: =ROUND(E30*H30,2) -> 0 | N30: =ROUND(E30*I30,2) -> 0 | O30: =ROUND(E30*J30,2) -> 0 | P30: =M30+N30+O30 -> 0
A31: 3.5 | C31: Rupju šķembu, fr.15-30, pamatojums 100mm uz blietētas grunts | D31: m3 | E31: 0.9 | H31: =ROUND(F31*G31,2) -> 0 | K31: =H31+I31+J31 -> 0 | L31: =ROUND(E31*F31,2) -> 0 | M31: =ROUND(E31*H31,2) -> 0 | N31: =ROUND(E31*I31,2) -> 0 | O31: =ROUND(E31*J31,2) -> 0 | P31: =M31+N31+O31 -> 0
A32: 3.6 | C32: Smalku šķembu, fr.15-30, slānis 50mm uz blietētas grunts | D32: m3 | E32: 0.425 | H32: =ROUND(F32*G32,2) -> 0 | K32: =H32+I32+J32 -> 0 | L32: =ROUND(E32*F32,2) -> 0 | M32: =ROUND(E32*H32,2) -> 0 | N32: =ROUND(E32*I32,2) -> 0 | O32: =ROUND(E32*J32,2) -> 0 | P32: =M32+N32+O32 -> 0
A33: 3.7 | C33: Ģeotekstils | D33: m2 | E33: 8.5 | H33: =ROUND(F33*G33,2) -> 0 | K33: =H33+I33+J33 -> 0 | L33: =ROUND(E33*F33,2) -> 0 | M33: =ROUND(E33*H33,2) -> 0 | N33: =ROUND(E33*I33,2) -> 0 | O33: =ROUND(E33*J33,2) -> 0 | P33: =M33+N33+O33 -> 0
A34: 3.8 | C34: Oļu kārta 100mm | D34: m2 | E34: 8.5 | H34: =ROUND(F34*G34,2) -> 0 | K34: =H34+I34+J34 -> 0 | L34: =ROUND(E34*F34,2) -> 0 | M34: =ROUND(E34*H34,2) -> 0 | N34: =ROUND(E34*I34,2) -> 0 | O34: =ROUND(E34*J34,2) -> 0 | P34: =M34+N34+O34 -> 0
A35: 3.9 | C35: Grunts aizbēršana ar roku darbu | D35: m3 | E35: 31 | H35: =ROUND(F35*G35,2) -> 0 | K35: =H35+I35+J35 -> 0 | L35: =ROUND(E35*F35,2) -> 0 | M35: =ROUND(E35*H35,2) -> 0 | N35: =ROUND(E35*I35,2) -> 0 | O35: =ROUND(E35*J35,2) -> 0 | P35: =M35+N35+O35 -> 0
A36: 3.10 | C36: Liekās grunts aizvešana vai izlīdzināšana | D36: m3 | E36: 7 | H36: =ROUND(F36*G36,2) -> 0 | K36: =H36+I36+J36 -> 0 | L36: =ROUND(E36*F36,2) -> 0 | M36: =ROUND(E36*H36,2) -> 0 | N36: =ROUND(E36*I36,2) -> 0 | O36: =ROUND(E36*J36,2) -> 0 | P36: =M36+N36+O36 -> 0
A37: 3.11 | C37: Cinkots locīts siltinājuma apakšējo malu fiksējošs leņķis | D37: kpl | E37: 1 | H37: =ROUND(F37*G37,2) -> 0 | K37: =H37+I37+J37 -> 0 | L37: =ROUND(E37*F37,2) -> 0 | M37: =ROUND(E37*H37,2) -> 0 | N37: =ROUND(E37*I37,2) -> 0 | O37: =ROUND(E37*J37,2) -> 0 | P37: =M37+N37+O37 -> 0
A38: 4 | C38: Mezgls 4 (23,7m)
