Workbook

Sheet KOPTĀME
C1: 03.05.2017. MK noteikumu Nr.239 7.pielikums
B2: APSTIPRINU
C4: (pasūtītāja paraksts un tā atšifrējums)
C5: Z.v.
C6: 20___.gada ___._________________
A9: BŪVNIECĪBAS KOPTĀME
A11: Objekta nosaukums: Ēkas Miera ielā 58a (kad. Nr. 0100 026 0092 005) un Ēkas Miera ielā 58a (kad. Nr. 0100 026 2024 005), Rīga daļas pārbūve Kino muzeja vajadzībām
A12: Būves nosaukums: Darbnīca, Teātris
A13: Objekta adrese: Miera ielā 58a, Rīga
A14: Pasūtījuma Nr. LKA 2026/14
A16: Nr.p.k. | B16: Objekta nosaukums | C16: Objekta izmaksas (euro)
A17: 1. | B17: =Kopsav.!A3 -> Ēkas Miera ielā 58a (kad. Nr. 0100 026 0092 005) un Ēkas Miera ielā 58a (kad. Nr. 0100 026 2024 005), Rīga daļas pārbūve Kino muzeja vajadzībām | C17: =Kopsav.!E38 -> 0
A18: KOPĀ | C18: =SUM(C17:C17) -> 0
A19: PVN 21% | C19: =ROUND(C18*0.21,2) -> 0
A21: Kopā ar PVN | B21: Kopā ar PVN | C21: =C18+C19 -> 0
A23: Sastādīja:
B24: (paraksts un tā atšifrējums, amats, uzņēmuma nosaukums, datums)
A26: Sertifikāta Nr.:
A28: Tāme sastādīta:

Sheet Kopsav.
I1: 03.05.2017. MK noteikumu Nr.239 6.pielikums
A2: KOPSAVILKUMA APRĒĶINS
A3: Ēkas Miera ielā 58a (kad. Nr. 0100 026 0092 005) un Ēkas Miera ielā 58a (kad. Nr. 0100 026 2024 005), Rīga daļas pārbūve Kino muzeja vajadzībām
A4: (būvdarba veids vai konstruktīvā elementa nosaukums)
A7: =KOPTĀME!A11 -> Objekta nosaukums: Ēkas Miera ielā 58a (kad. Nr. 0100 026 0092 005) un Ēkas Miera ielā 58a (kad. Nr. 0100 026 2024 005), Rīga daļas pārbūve Kino muzeja vajadzībām
A8: =KOPTĀME!A12 -> Būves nosaukums: Darbnīca, Teātris
A9: =KOPTĀME!A13 -> Objekta adrese: Miera ielā 58a, Rīga
A10: =KOPTĀME!A14 -> Pasūtījuma Nr. LKA 2026/14
A11: Būvniecības lieta Nr.BIS-BL-867688-115048 | G11: Par kopējo summu (euro) | H11: =E38 -> 0
G12: Kopējā darbietilpība, c/h | H12: =I34 -> 0
A14: Nr.p.k. | B14: Kods, tāmes Nr. | C14: Būvdarbu veids vai konstruktīvā elementa nosaukums | E14: Tāmes izmaksas | F14: Tai skaitā | I14: Darbietilpība c/h
F15: darba alga | G15: būvizstrādājumi | H15: mehānismi
C16: VISPĀRĒJIE BŪVDARBI
A17: 1 | B17: ='1-1_Demontāža'!D2 -> 1-1 | C17: ='1-1_Demontāža'!A3 -> DEMONTĀŽAS DARBI | E17: ='1-1_Demontāža'!P27 -> 0 | F17: ='1-1_Demontāža'!M27 -> 0 | G17: ='1-1_Demontāža'!N27 -> 0 | H17: ='1-1_Demontāža'!O27 -> 0 | I17: ='1-1_Demontāža'!L27 -> 0
A18: 2 | B18: ='1-2_BK'!D2 -> 1-2 | C18: ='1-2_BK'!A3 -> BŪVKONSTRUKCIJAS | E18: ='1-2_BK'!P93 -> 0 | F18: ='1-2_BK'!M93 -> 0 | G18: ='1-2_BK'!N93 -> 0 | H18: ='1-2_BK'!O93 -> 0 | I18: ='1-2_BK'!L93 -> 0
A19: 3 | B19: ='1-3_Sienas'!D2 -> 1-3 | C19: ='1-3_Sienas'!A3 -> SIENU KONSTRUKCIJAS | E19: ='1-3_Sienas'!P65 -> 0 | F19: ='1-3_Sienas'!M65 -> 0 | G19: ='1-3_Sienas'!N65 -> 0 | H19: ='1-3_Sienas'!O65 -> 0 | I19: ='1-3_Sienas'!L65 -> 0
A20: 4 | B20: ='1-4_Jumts'!D2 -> 1-4 | C20: ='1-4_Jumts'!A3 -> JUMTA KONSTRUKCIJAS | E20: ='1-4_Jumts'!P44 -> 0 | F20: ='1-4_Jumts'!M44 -> 0 | G20: ='1-4_Jumts'!N44 -> 0 | H20: ='1-4_Jumts'!O44 -> 0 | I20: ='1-4_Jumts'!L44 -> 0
A21: 5 | B21: ='1-5_grīdas'!D2 -> 1-5 | C21: ='1-5_grīdas'!A3 -> GRĪDU KONSTRUKCIJAS | E21: ='1-5_grīdas'!P44 -> 0 | F21: ='1-5_grīdas'!M44 -> 0 | G21: ='1-5_grīdas'!N44 -> 0 | H21: ='1-5_grīdas'!O44 -> 0 | I21: ='1-5_grīdas'!L44 -> 0
A22: 6 | B22: ='1-6_logi'!D2 -> 1-6 | C22: ='1-6_logi'!A3 -> LOGI | E22: ='1-6_logi'!P18 -> 0 | F22: ='1-6_logi'!M18 -> 0 | G22: ='1-6_logi'!N18 -> 0 | H22: ='1-6_logi'!O18 -> 0 | I22: ='1-6_logi'!L18 -> 0
A23: 7 | B23: ='1-7_durvis'!D2 -> 1-7 | C23: ='1-7_durvis'!A3 -> DURVIS | E23: ='1-7_durvis'!P27 -> 0 | F23: ='1-7_durvis'!M27 -> 0 | G23: ='1-7_durvis'!N27 -> 0 | H23: ='1-7_durvis'!O27 -> 0 | I23: ='1-7_durvis'!L27 -> 0
A24: 8 | B24: ='1-8_dažādi darbi'!D2 -> 1-8 | C24: ='1-8_dažādi darbi'!A3 -> DAŽĀDI DARBI | E24: ='1-8_dažādi darbi'!P55 -> 0 | F24: ='1-8_dažādi darbi'!M55 -> 0 | G24: ='1-8_dažādi darbi'!N55 -> 0 | H24: ='1-8_dažādi darbi'!O55 -> 0 | I24: ='1-8_dažādi darbi'!L55 -> 0
C25: SPECIALIZĒTIE DARBI- IEKŠĒJIE TĪKLI, SISTĒMAS
A26: 9 | B26: ='2-1_UK'!D2 -> 2-1 | C26: ='2-1_UK'!A3 -> ŪDENSAPGĀDE UN KANALIZĀCIJA | E26: ='2-1_UK'!P51 -> 0 | F26: ='2-1_UK'!M51 -> 0 | G26: ='2-1_UK'!N51 -> 0 | H26: ='2-1_UK'!O51 -> 0 | I26: ='2-1_UK'!L51 -> 0
A27: 10 | B27: ='2-2_AVK'!F2 -> 2-2 | C27: ='2-2_AVK'!A3 -> APKURE UN DZESĒŠANA | E27: ='2-2_AVK'!R96 -> 0 | F27: ='2-2_AVK'!O96 -> 0 | G27: ='2-2_AVK'!P96 -> 0 | H27: ='2-2_AVK'!Q96 -> 0 | I27: ='2-2_AVK'!N96 -> 0
A28: 11 | B28: ='2-3_AVK-V'!F2 -> 2-3 | C28: ='2-3_AVK-V'!A3 -> VENTILĀCIJA | E28: ='2-3_AVK-V'!R89 -> 0 | F28: ='2-3_AVK-V'!O89 -> 0 | G28: ='2-3_AVK-V'!P89 -> 0 | H28: ='2-3_AVK-V'!Q89 -> 0 | I28: ='2-3_AVK-V'!N89 -> 0
A29: 12 | B29: ='2-4_EL'!E2 -> 2-4 | C29: ='2-4_EL'!A3 -> ELEKTROAPGĀDE UN APGAISMOJUMS | E29: ='2-4_EL'!Q56 -> 0 | F29: ='2-4_EL'!N56 -> 0 | G29: ='2-4_EL'!O56 -> 0 | H29: ='2-4_EL'!P56 -> 0 | I29: ='2-4_EL'!M56 -> 0
A30: 13 | B30: ='2-5_UATS'!D2 -> 2-5 | C30: ='2-5_UATS'!A3 -> AUTOMĀTISKĀ UGUNSGRĒKA ATKLĀŠANAS UN TRAUKSMES SIGNALIZĀCIJAS SISTĒMA | E30: ='2-5_UATS'!P30 -> 0 | F30: ='2-5_UATS'!M30 -> 0 | G30: ='2-5_UATS'!N30 -> 0 | H30: ='2-5_UATS'!O30 -> 0 | I30: ='2-5_UATS'!L30 -> 0
A31: 14 | B31: ='2-6_ESS-TK,VN'!D2 -> 2-6 | C31: ='2-6_ESS-TK,VN'!A3 -> ELEKTRONISKO SAKARU SISTĒMAS-DATU TĪKLS UN VIDEONOVĒROŠANA | E31: ='2-6_ESS-TK,VN'!P61 -> 0 | F31: ='2-6_ESS-TK,VN'!M61 -> 0 | G31: ='2-6_ESS-TK,VN'!N61 -> 0 | H31: ='2-6_ESS-TK,VN'!O61 -> 0 | I31: ='2-6_ESS-TK,VN'!L61 -> 0
A32: 15 | B32: ='2-7_ESS-CI'!D2 -> 2-7 | C32: ='2-7_ESS-CI'!A3 -> ELEKTRONISKO SAKARU SISTĒMAS-CENTRĀLĀ IZZIŅOŠANAS SISTĒMA | E32: ='2-7_ESS-CI'!P27 -> 0 | F32: ='2-7_ESS-CI'!M27 -> 0 | G32: ='2-7_ESS-CI'!N27 -> 0 | H32: ='2-7_ESS-CI'!O27 -> 0 | I32: ='2-7_ESS-CI'!L27 -> 0
A33: 16 | B33: ='2-8_ESS-PK,AS'!D2 -> 2-8 | C33: ='2-8_ESS-PK,AS'!A3 -> ELEKTRONISKO SAKARU SISTĒMAS- APSARDZES SIGNALIZĀCIJAS SISTĒMA UN PIEKĻUVES KONTROLES SISTĒMA | E33: ='2-8_ESS-PK,AS'!P53 -> 0 | F33: ='2-8_ESS-PK,AS'!M53 -> 0 | G33: ='2-8_ESS-PK,AS'!N53 -> 0 | H33: ='2-8_ESS-PK,AS'!O53 -> 0 | I33: ='2-8_ESS-PK,AS'!L53 -> 0
A34: KOPĀ | E34: =SUM(E17:E33) -> 0 | F34: =SUM(F17:F33) -> 0 | G34: =SUM(G17:G33) -> 0 | H34: =SUM(H17:H33) -> 0 | I34: =SUM(I17:I33) -> 0
A35: Virsizdevumi (%) | E35: =ROUND(E34*D35,2) -> 0
A36: t.sk.darba aizsardzība | E36: =ROUND(D36*E35,2) -> 0
A37: Peļņa (%) | E37: =ROUND(E34*D37,2) -> 0
A38: Pavisam KOPĀ: | E38: =E34+E35+E37 -> 0
B40: Sastādīja: | C40: =IF(KOPTĀME!B23=0,"",KOPTĀME!B23)
C41: (paraksts un tā atšifrējums, amats, uzņēmuma nosaukums, datums)
B43: =KOPTĀME!A28 -> Tāme sastādīta: | C43: =IF(KOPTĀME!B28=0,"",KOPTĀME!B28)
B45: Pārbaudīja:
C46: (paraksts un tā atšifrējums, amats, uzņēmuma nosaukums, datums)
B48: Sertifikāta Nr.: | C48: =IF(KOPTĀME!B26=0,"",KOPTĀME!B26)

Sheet 1-1_Demontāža
P1: 03.05.2017. MK noteikumu Nr.239 5.pielikums
C2: LOKĀLĀ TĀME Nr. | D2: 1-1
A3: DEMONTĀŽAS DARBI
A4: (būvdarbu veids vai konstruktīvā elementa nosaukums)
A5: =Kopsav.!A7:I7 -> Objekta nosaukums: Ēkas Miera ielā 58a (kad. Nr. 0100 026 0092 005) un Ēkas Miera ielā 58a (kad. Nr. 0100 026 2024 005), Rīga daļas pārbūve Kino muzeja vajadzībām
A6: =KOPTĀME!A12 -> Būves nosaukums: Darbnīca, Teātris
A7: =KOPTĀME!A13 -> Objekta adrese: Miera ielā 58a, Rīga
A8: =KOPTĀME!A14 -> Pasūtījuma Nr. LKA 2026/14
A10: Tāme sastādīta 2026.gada tirgus cenās, pamatojoties uz AR daļas rasējumiem.
M11: Tāmes izmaksas | N11: =P27 -> 0 | P11: euro
M12: Tāme sastādīta | N12: =IF(KOPTĀME!B28=0,"",KOPTĀME!B28)
A14: Nr.p.k. | B14: Kods | C14: Būvdarbu nosaukums | D14: Mērvienība | E14: Daudzums | F14: Vienības izmaksas | L14: Kopā uz visu apjomu
F15: laika norma (c/h) | G15: darba samaksas likme* (euro/h) | H15: darba alga | I15: būvizstrādājumi | J15: mehānismi | K15: kopā | L15: darbietilpība (c/h) | M15: darba alga | N15: būvizstrādājumi | O15: mehānismi | P15: summa
A16: 1 | C16: Esošo logu demontāža | D16: gb | E16: 6 | H16: =ROUND(F16*G16,2) -> 0 | K16: =H16+I16+J16 -> 0 | L16: =ROUND(E16*F16,2) -> 0 | M16: =ROUND(E16*H16,2) -> 0 | N16: =ROUND(E16*I16,2) -> 0 | O16: =ROUND(E16*J16,2) -> 0 | P16: =M16+N16+O16 -> 0
A17: 2 | C17: Jumta paneļa demontāža | D17: m2 | E17: 5.6 | H17: =ROUND(F17*G17,2) -> 0 | K17: =H17+I17+J17 -> 0 | L17: =ROUND(E17*F17,2) -> 0 | M17: =ROUND(E17*H17,2) -> 0 | N17: =ROUND(E17*I17,2) -> 0 | O17: =ROUND(E17*J17,2) -> 0 | P17: =M17+N17+O17 -> 0
A18: 3 | C18: Esošā jumta seguma demontāža (iesk.visu, kas ir virs jumta paneļiem) | D18: m2 | E18: 276.2 | H18: =ROUND(F18*G18,2) -> 0 | K18: =H18+I18+J18 -> 0 | L18: =ROUND(E18*F18,2) -> 0 | M18: =ROUND(E18*H18,2) -> 0 | N18: =ROUND(E18*I18,2) -> 0 | O18: =ROUND(E18*J18,2) -> 0 | P18: =M18+N18+O18 -> 0
A19: 4 | C19: Sienu, starpsienu demontāža, logu ailu palielināšana | D19: m3 | E19: 39 | H19: =ROUND(F19*G19,2) -> 0 | K19: =H19+I19+J19 -> 0 | L19: =ROUND(E19*F19,2) -> 0 | M19: =ROUND(E19*H19,2) -> 0 | N19: =ROUND(E19*I19,2) -> 0 | O19: =ROUND(E19*J19,2) -> 0 | P19: =M19+N19+O19 -> 0
A20: 5 | C20: Tehnisko kāpņu uz palīgtelpu demontāža | D20: kpl | E20: 1 | H20: =ROUND(F20*G20,2) -> 0 | K20: =H20+I20+J20 -> 0 | L20: =ROUND(E20*F20,2) -> 0 | M20: =ROUND(E20*H20,2) -> 0 | N20: =ROUND(E20*I20,2) -> 0 | O20: =ROUND(E20*J20,2) -> 0 | P20: =M20+N20+O20 -> 0
A21: 6 | C21: Ratiņkrēslu pacēlāja demontāža, utilizācija | D21: kpl | E21: 1 | H21: =ROUND(F21*G21,2) -> 0 | K21: =H21+I21+J21 -> 0 | L21: =ROUND(E21*F21,2) -> 0 | M21: =ROUND(E21*H21,2) -> 0 | N21: =ROUND(E21*I21,2) -> 0 | O21: =ROUND(E21*J21,2) -> 0 | P21: =M21+N21+O21 -> 0
A22: 7 | C22: Metāla pandusa demontāža | D22: kpl | E22: 1 | H22: =ROUND(F22*G22,2) -> 0 | K22: =H22+I22+J22 -> 0 | L22: =ROUND(E22*F22,2) -> 0 | M22: =ROUND(E22*H22,2) -> 0 | N22: =ROUND(E22*I22,2) -> 0 | O22: =ROUND(E22*J22,2) -> 0 | P22: =M22+N22+O22 -> 0
A23: 8 | C23: Esošās margas demontāža | D23: kpl | E23: 1 | H23: =ROUND(F23*G23,2) -> 0 | K23: =H23+I23+J23 -> 0 | L23: =ROUND(E23*F23,2) -> 0 | M23: =ROUND(E23*H23,2) -> 0 | N23: =ROUND(E23*I23,2) -> 0 | O23: =ROUND(E23*J23,2) -> 0 | P23: =M23+N23+O23 -> 0
A24: 9 | C24: Esošā radiatora pārnešana | D24: kpl | E24: 1 | H24: =ROUND(F24*G24,2) -> 0 | K24: =H24+I24+J24 -> 0 | L24: =ROUND(E24*F24,2) -> 0 | M24: =ROUND(E24*H24,2) -> 0 | N24: =ROUND(E24*I24,2) -> 0 | O24: =ROUND(E24*J24,2) -> 0 | P24: =M24+N24+O24 -> 0
A25: 9.1. | C25: Esošās betona grīdas demontāžas | D25: m2 | E25: 269.2 | H25: =ROUND(F25*G25,2) -> 0 | K25: =H25+I25+J25 -> 0 | L25: =ROUND(E25*F25,2) -> 0 | M25: =ROUND(E25*H25,2) -> 0 | N25: =ROUND(E25*I25,2) -> 0 | O25: =ROUND(E25*J25,2) -> 0 | P25: =M25+N25+O25 -> 0
A26: 10 | C26: Demontēto elementu savākšana un utilizācija (k=1,3) | D26: m3 | E26: 304.98 | H26: =ROUND(F26*G26,2) -> 0 | K26: =H26+I26+J26 -> 0 | L26: =ROUND(E26*F26,2) -> 0 | M26: =ROUND(E26*H26,2) -> 0 | N26: =ROUND(E26*I26,2) -> 0 | O26: =ROUND(E26*J26,2) -> 0 | P26: =M26+N26+O26 -> 0
A27: TIEŠĀS IZMAKSAS KOPĀ, t. sk. darba devēja sociālais nodoklis (%) | L27: =SUM(L16:L26) -> 0 | M27: =SUM(M16:M26) -> 0 | N27: =SUM(N16:N26) -> 0 | O27: =SUM(O16:O26) -> 0 | P27: =SUM(P16:P26) -> 0
A29: Piezīmes:
A30: 1. Būvuzņēmējam jāievērtē darbu apjomu sarakstā minēto darbu veikšanai nepieciešamie materiāli un papildus darbi, kas nav minēti šajā sarakstā, bet bez
A31: kuriem nebūtu iespējama būvdarbu tehnoloģiski pareiza un spēkā esošiem normatīviem atbilstoša veikšana pilnā apmērā.
A32: 2. Darbu apjomu sarakstu skatīt kopā ar rasējumiem un specifikācijām. Gadījumā, ja darbu apjomi nesakrīt ar rasējumiem vai specifikācijām, par pareiziem
A33: jāuzskata rasējumos esošie darbu apjomi.
A34: 3. Atsevišķu materiālu apjomi doti bez rezerves.
A35: 4. Tāmēs ietvertos konkrēto ražotāju materiālus un izstrādājumus var aizvietot ar analogiem citu ražotāju materiāliem un izstrādājumiem, saskaņojot ar Arhitektu un Pasūtītāju.
A36: 5. Būvgružu apjomu precizēt būvniecības laikā!
C38: Sastādīja: | D38: =IF(KOPTĀME!B23=0,"",KOPTĀME!B23)
D39: (paraksts un tā atšifrējums, amats, uzņēmuma nosaukums, datums)
C41: Tāme sastādīta: | D41: =IF(KOPTĀME!B28=0,"",KOPTĀME!B28)
C43: Pārbaudīja: | D43: =IF(Kopsav.!C45=0,"",Kopsav.!C45)
D44: (paraksts un tā atšifrējums, amats, uzņēmuma nosaukums, datums)
C46: Sertifikāta Nr.: | D46: =IF(KOPTĀME!B26=0,"",KOPTĀME!B26)

Sheet 1-2_BK
P1: 03.05.2017. MK noteikumu Nr.239 5.pielikums
C2: LOKĀLĀ TĀME Nr. | D2: 1-2
A3: BŪVKONSTRUKCIJAS
A4: (būvdarbu veids vai konstruktīvā elementa nosaukums)
A5: =Kopsav.!A7:I7 -> Objekta nosaukums: Ēkas Miera ielā 58a (kad. Nr. 0100 026 0092 005) un Ēkas Miera ielā 58a (kad. Nr. 0100 026 2024 005), Rīga daļas pārbūve Kino muzeja vajadzībām
A6: =KOPTĀME!A12 -> Būves nosaukums: Darbnīca, Teātris
A7: =KOPTĀME!A13 -> Objekta adrese: Miera ielā 58a, Rīga
A8: =KOPTĀME!A14 -> Pasūtījuma Nr. LKA 2026/14
A10: Tāme sastādīta 2026.gada tirgus cenās, pamatojoties uz BK daļas rasējumiem.
M11: Tāmes izmaksas | N11: =P93 -> 0 | P11: euro
M12: Tāme sastādīta | N12: =IF(KOPTĀME!B28=0,"",KOPTĀME!B28)
A14: Nr.p.k. | B14: Kods | C14: Būvdarbu nosaukums | D14: Mērvienība | E14: Daudzums | F14: Vienības izmaksas | L14: Kopā uz visu apjomu
F15: laika norma (c/h) | G15: darba samaksas likme* (euro/h) | H15: darba alga | I15: būvizstrādājumi | J15: mehānismi | K15: kopā | L15: darbietilpība (c/h) | M15: darba alga | N15: būvizstrādājumi | O15: mehānismi | P15: summa
A16: 1 | C16: Pamati, grīda
A17: 1.1 | C17: Konstrukciju betonēšana- betons C30/37 XC2 + 4kg/m3 sintētiska polipropilēna makrofibra DURUS EasyFinish, iesk.veidņu montāžu, demontāžu, īri | D17: m3 | E17: 44 | H17: =ROUND(F17*G17,2) -> 0 | K17: =H17+I17+J17 -> 0 | L17: =ROUND(E17*F17,2) -> 0 | M17: =ROUND(E17*H17,2) -> 0 | N17: =ROUND(E17*I17,2) -> 0 | O17: =ROUND(E17*J17,2) -> 0 | P17: =M17+N17+O17 -> 0
A18: 1.2 | C18: Augšējais siets Ø8 B500 s.150x150 | D18: t | E18: 1.5 | H18: =ROUND(F18*G18,2) -> 0 | K18: =H18+I18+J18 -> 0 | L18: =ROUND(E18*F18,2) -> 0 | M18: =ROUND(E18*H18,2) -> 0 | N18: =ROUND(E18*I18,2) -> 0 | O18: =ROUND(E18*J18,2) -> 0 | P18: =M18+N18+O18 -> 0
A19: 1.3 | C19: Apakšējais siets Ø12 B500 s.150x150 | D19: t | E19: 3.2 | H19: =ROUND(F19*G19,2) -> 0 | K19: =H19+I19+J19 -> 0 | L19: =ROUND(E19*F19,2) -> 0 | M19: =ROUND(E19*H19,2) -> 0 | N19: =ROUND(E19*I19,2) -> 0 | O19: =ROUND(E19*J19,2) -> 0 | P19: =M19+N19+O19 -> 0
A20: 1.4 | C20: Augšējais siets Ø20 B500 s.150x150 | D20: t | E20: 0.72 | H20: =ROUND(F20*G20,2) -> 0 | K20: =H20+I20+J20 -> 0 | L20: =ROUND(E20*F20,2) -> 0 | M20: =ROUND(E20*H20,2) -> 0 | N20: =ROUND(E20*I20,2) -> 0 | O20: =ROUND(E20*J20,2) -> 0 | P20: =M20+N20+O20 -> 0
A21: 1.5 | C21: Pamatstiegrojums 2Ø20 B500 | D21: t | E21: 0.17 | H21: =ROUND(F21*G21,2) -> 0 | K21: =H21+I21+J21 -> 0 | L21: =ROUND(E21*F21,2) -> 0 | M21: =ROUND(E21*H21,2) -> 0 | N21: =ROUND(E21*I21,2) -> 0 | O21: =ROUND(E21*J21,2) -> 0 | P21: =M21+N21+O21 -> 0
A22: 1.6 | C22: Pamatstiegrojums 2Ø16 B500 | D22: t | E22: 0.11 | H22: =ROUND(F22*G22,2) -> 0 | K22: =H22+I22+J22 -> 0 | L22: =ROUND(E22*F22,2) -> 0 | M22: =ROUND(E22*H22,2) -> 0 | N22: =ROUND(E22*I22,2) -> 0 | O22: =ROUND(E22*J22,2) -> 0 | P22: =M22+N22+O22 -> 0
A23: 1.7 | C23: Aptveres Ø12 B500 | D23: t | E23: 0.16 | H23: =ROUND(F23*G23,2) -> 0 | K23: =H23+I23+J23 -> 0 | L23: =ROUND(E23*F23,2) -> 0 | M23: =ROUND(E23*H23,2) -> 0 | N23: =ROUND(E23*I23,2) -> 0 | O23: =ROUND(E23*J23,2) -> 0 | P23: =M23+N23+O23 -> 0
A24: 1.8 | C24: Šķautnes stiegrojums Ø8 s.150mm B500 | D24: t | E24: 0.19 | H24: =ROUND(F24*G24,2) -> 0 | K24: =H24+I24+J24 -> 0 | L24: =ROUND(E24*F24,2) -> 0 | M24: =ROUND(E24*H24,2) -> 0 | N24: =ROUND(E24*I24,2) -> 0 | O24: =ROUND(E24*J24,2) -> 0 | P24: =M24+N24+O24 -> 0
A25: 2 | C25: Sienas
A26: 2.1 | C26: Keramzītbetona bloku mūris 250mm, FIBO bloki 3 Mpa (vai līdzvērtīgi), iesk.mūrjavu un armatūru atbilstoši ražotāja tehnoloģijai | D26: m3 | E26: 50 | H26: =ROUND(F26*G26,2) -> 0 | K26: =H26+I26+J26 -> 0 | L26: =ROUND(E26*F26,2) -> 0 | M26: =ROUND(E26*H26,2) -> 0 | N26: =ROUND(E26*I26,2) -> 0 | O26: =ROUND(E26*J26,2) -> 0 | P26: =M26+N26+O26 -> 0
A27: 2.2 | C27: Konstrukciju betonēšana- betons C30/37 XC1, iesk.veidņu montāžu, demontāžu, īri | D27: m3 | E27: 0.45 | H27: =ROUND(F27*G27,2) -> 0 | K27: =H27+I27+J27 -> 0 | L27: =ROUND(E27*F27,2) -> 0 | M27: =ROUND(E27*H27,2) -> 0 | N27: =ROUND(E27*I27,2) -> 0 | O27: =ROUND(E27*J27,2) -> 0 | P27: =M27+N27+O27 -> 0
A28: 2.3 | C28: Stiegrojums Ø8 B500 s.150mm | D28: t | E28: 0.02 | H28: =ROUND(F28*G28,2) -> 0 | K28: =H28+I28+J28 -> 0 | L28: =ROUND(E28*F28,2) -> 0 | M28: =ROUND(E28*H28,2) -> 0 | N28: =ROUND(E28*I28,2) -> 0 | O28: =ROUND(E28*J28,2) -> 0 | P28: =M28+N28+O28 -> 0
A29: 2.4 | C29: Stiegrojums Ø12 B500 s.150mm | D29: t | E29: 0.06 | H29: =ROUND(F29*G29,2) -> 0 | K29: =H29+I29+J29 -> 0 | L29: =ROUND(E29*F29,2) -> 0 | M29: =ROUND(E29*H29,2) -> 0 | N29: =ROUND(E29*I29,2) -> 0 | O29: =ROUND(E29*J29,2) -> 0 | P29: =M29+N29+O29 -> 0
A30: 2.5 | C30: Stiegrojums Ø12 B500 s.150mm, L=200mm + HILTI HIT HY200 | D30: t | E30: 0.01 | H30: =ROUND(F30*G30,2) -> 0 | K30: =H30+I30+J30 -> 0 | L30: =ROUND(E30*F30,2) -> 0 | M30: =ROUND(E30*H30,2) -> 0 | N30: =ROUND(E30*I30,2) -> 0 | O30: =ROUND(E30*J30,2) -> 0 | P30: =M30+N30+O30 -> 0
A31: 3 | C31: Pārsedzes
A32: 3.1 | C32: Tērauda konstrukciju montāža- AP-1.0 UPN 220 S355 | D32: kg | E32: 170 | H32: =ROUND(F32*G32,2) -> 0 | K32: =H32+I32+J32 -> 0 | L32: =ROUND(E32*F32,2) -> 0 | M32: =ROUND(E32*H32,2) -> 0 | N32: =ROUND(E32*I32,2) -> 0 | O32: =ROUND(E32*J32,2) -> 0 | P32: =M32+N32+O32 -> 0
A33: 3.2 | C33: Tērauda ķīļi t10x65mm | D33: gb | E33: 9 | H33: =ROUND(F33*G33,2) -> 0 | K33: =H33+I33+J33 -> 0 | L33: =ROUND(E33*F33,2) -> 0 | M33: =ROUND(E33*H33,2) -> 0 | N33: =ROUND(E33*I33,2) -> 0 | O33: =ROUND(E33*J33,2) -> 0 | P33: =M33+N33+O33 -> 0
A34: 3.3 | C34: 100x680xt10 | D34: gb | E34: 7 | H34: =ROUND(F34*G34,2) -> 0 | K34: =H34+I34+J34 -> 0 | L34: =ROUND(E34*F34,2) -> 0 | M34: =ROUND(E34*H34,2) -> 0 | N34: =ROUND(E34*I34,2) -> 0 | O34: =ROUND(E34*J34,2) -> 0 | P34: =M34+N34+O34 -> 0
A35: 3.4 | C35: M16 kl.8.8 | D35: gb | E35: 9 | H35: =ROUND(F35*G35,2) -> 0 | K35: =H35+I35+J35 -> 0 | L35: =ROUND(E35*F35,2) -> 0 | M35: =ROUND(E35*H35,2) -> 0 | N35: =ROUND(E35*I35,2) -> 0 | O35: =ROUND(E35*J35,2) -> 0 | P35: =M35+N35+O35 -> 0
A36: 3.4 | C36: ID-1 | D36: gb | E36: 4 | H36: =ROUND(F36*G36,2) -> 0 | K36: =H36+I36+J36 -> 0 | L36: =ROUND(E36*F36,2) -> 0 | M36: =ROUND(E36*H36,2) -> 0 | N36: =ROUND(E36*I36,2) -> 0 | O36: =ROUND(E36*J36,2) -> 0 | P36: =M36+N36+O36 -> 0
A37: 3.5 | C37: FIBO pārsedzes montāža AP-1.1 185(h)*250*2090 | D37: gb | E37: 2 | H37: =ROUND(F37*G37,2) -> 0 | K37: =H37+I37+J37 -> 0 | L37: =ROUND(E37*F37,2) -> 0 | M37: =ROUND(E37*H37,2) -> 0 | N37: =ROUND(E37*I37,2) -> 0 | O37: =ROUND(E37*J37,2) -> 0 | P37: =M37+N37+O37 -> 0
A38: 3.6 | C38: FIBO pārsedzes montāža AP-1.12 185(h)*250*2390 | D38: gb | E38: 12 | H38: =ROUND(F38*G38,2) -> 0 | K38: =H38+I38+J38 -> 0 | L38: =ROUND(E38*F38,2) -> 0 | M38: =ROUND(E38*H38,2) -> 0 | N38: =ROUND(E38*I38,2) -> 0 | O38: =ROUND(E38*J38,2) -> 0 | P38: =M38+N38+O38 -> 0
A39: 4 | C39: Monolītais spilvens
A40: 4.1 | C40: Konstrukciju betonēšana- betons C30/37 XC1, iesk.veidņu montāžu, demontāžu, īri | D40: m3 | E40: 0.1 | H40: =ROUND(F40*G40,2) -> 0 | K40: =H40+I40+J40 -> 0 | L40: =ROUND(E40*F40,2) -> 0 | M40: =ROUND(E40*H40,2) -> 0 | N40: =ROUND(E40*I40,2) -> 0 | O40: =ROUND(E40*J40,2) -> 0 | P40: =M40+N40+O40 -> 0
A41: 4.2 | C41: Stiegrojums Ø12 B500 s.100x100mm | D41: t | E41: 0.06 | H41: =ROUND(F41*G41,2) -> 0 | K41: =H41+I41+J41 -> 0 | L41: =ROUND(E41*F41,2) -> 0 | M41: =ROUND(E41*H41,2) -> 0 | N41: =ROUND(E41*I41,2) -> 0 | O41: =ROUND(E41*J41,2) -> 0 | P41: =M41+N41+O41 -> 0
A42: 4.3 | C42: Ķīmiskā enkurmasa HILTI HIT HY 170 | D42: kpl | E42: 1 | H42: =ROUND(F42*G42,2) -> 0 | K42: =H42+I42+J42 -> 0 | L42: =ROUND(E42*F42,2) -> 0 | M42: =ROUND(E42*H42,2) -> 0 | N42: =ROUND(E42*I42,2) -> 0 | O42: =ROUND(E42*J42,2) -> 0 | P42: =M42+N42+O42 -> 0
A43: 5 | C43: Atvēruma aizpildīšana
A44: 5.1 | C44: Tērauda konstrukciju montāža- UPN 220 | D44: t | E44: 0.5 | H44: =ROUND(F44*G44,2) -> 0 | K44: =H44+I44+J44 -> 0 | L44: =ROUND(E44*F44,2) -> 0 | M44: =ROUND(E44*H44,2) -> 0 | N44: =ROUND(E44*I44,2) -> 0 | O44: =ROUND(E44*J44,2) -> 0 | P44: =M44+N44+O44 -> 0
A45: 5.2 | C45: Tērauda konstrukciju montāža- leņķis L80x10.0 L=160mm | D45: gb | E45: 6 | H45: =ROUND(F45*G45,2) -> 0 | K45: =H45+I45+J45 -> 0 | L45: =ROUND(E45*F45,2) -> 0 | M45: =ROUND(E45*H45,2) -> 0 | N45: =ROUND(E45*I45,2) -> 0 | O45: =ROUND(E45*J45,2) -> 0 | P45: =M45+N45+O45 -> 0
A46: 5.3 | C46: 2xM16 | D46: gb | E46: 12 | H46: =ROUND(F46*G46,2) -> 0 | K46: =H46+I46+J46 -> 0 | L46: =ROUND(E46*F46,2) -> 0 | M46: =ROUND(E46*H46,2) -> 0 | N46: =ROUND(E46*I46,2) -> 0 | O46: =ROUND(E46*J46,2) -> 0 | P46: =M46+N46+O46 -> 0
A47: 5.4 | C47: Tērauda konstrukciju montāža- leņķis L100x10.0 L=250 | D47: gb | E47: 4 | H47: =ROUND(F47*G47,2) -> 0 | K47: =H47+I47+J47 -> 0 | L47: =ROUND(E47*F47,2) -> 0 | M47: =ROUND(E47*H47,2) -> 0 | N47: =ROUND(E47*I47,2) -> 0 | O47: =ROUND(E47*J47,2) -> 0 | P47: =M47+N47+O47 -> 0
A48: 5.5 | C48: Bezrukuma java līmeņošanai | D48: m3 | E48: 0.01 | H48: =ROUND(F48*G48,2) -> 0 | K48: =H48+I48+J48 -> 0 | L48: =ROUND(E48*F48,2) -> 0 | M48: =ROUND(E48*H48,2) -> 0 | N48: =ROUND(E48*I48,2) -> 0 | O48: =ROUND(E48*J48,2) -> 0 | P48: =M48+N48+O48 -> 0
A49: 5.6 | C49: Konstrukciju betonēšana- betons C30/37 XC1, iesk.veidņu montāžu, demontāžu, īri | D49: m3 | E49: 0.8 | H49: =ROUND(F49*G49,2) -> 0 | K49: =H49+I49+J49 -> 0 | L49: =ROUND(E49*F49,2) -> 0 | M49: =ROUND(E49*H49,2) -> 0 | N49: =ROUND(E49*I49,2) -> 0 | O49: =ROUND(E49*J49,2) -> 0 | P49: =M49+N49+O49 -> 0
A50: 5.7 | C50: Stiegrojums Ø12 B500 s.100x100mm | D50: t | E50: 0.14 | H50: =ROUND(F50*G50,2) -> 0 | K50: =H50+I50+J50 -> 0 | L50: =ROUND(E50*F50,2) -> 0 | M50: =ROUND(E50*H50,2) -> 0 | N50: =ROUND(E50*I50,2) -> 0 | O50: =ROUND(E50*J50,2) -> 0 | P50: =M50+N50+O50 -> 0
A51: 5.8 | C51: Siltumizolācijas iebūve Thermowhite WD 100r | D51: m3 | E51: 0.66 | H51: =ROUND(F51*G51,2) -> 0 | K51: =H51+I51+J51 -> 0 | L51: =ROUND(E51*F51,2) -> 0 | M51: =ROUND(E51*H51,2) -> 0 | N51: =ROUND(E51*I51,2) -> 0 | O51: =ROUND(E51*J51,2) -> 0 | P51: =M51+N51+O51 -> 0
A52: 6 | C52: Metāla rāmis
A53: 6.1 | C53: Tērauda konstrukciju montāža- HE 160B | D53: t | E53: 1.47 | H53: =ROUND(F53*G53,2) -> 0 | K53: =H53+I53+J53 -> 0 | L53: =ROUND(E53*F53,2) -> 0 | M53: =ROUND(E53*H53,2) -> 0 | N53: =ROUND(E53*I53,2) -> 0 | O53: =ROUND(E53*J53,2) -> 0 | P53: =M53+N53+O53 -> 0
A54: 6.2 | C54: Tērauda konstrukciju montāža- plāksnes t20 | D54: t | E54: 0.02 | H54: =ROUND(F54*G54,2) -> 0 | K54: =H54+I54+J54 -> 0 | L54: =ROUND(E54*F54,2) -> 0 | M54: =ROUND(E54*H54,2) -> 0 | N54: =ROUND(E54*I54,2) -> 0 | O54: =ROUND(E54*J54,2) -> 0 | P54: =M54+N54+O54 -> 0
A55: 6.3 | C55: Vītņstienis 4M12 kl.8.8 + HILTI HIT HY 200 | D55: gb | E55: 8 | H55: =ROUND(F55*G55,2) -> 0 | K55: =H55+I55+J55 -> 0 | L55: =ROUND(E55*F55,2) -> 0 | M55: =ROUND(E55*H55,2) -> 0 | N55: =ROUND(E55*I55,2) -> 0 | O55: =ROUND(E55*J55,2) -> 0 | P55: =M55+N55+O55 -> 0
A56: 6.4 | C56: Tērauda konstrukciju montāža- UPN 140 | D56: t | E56: 0.12 | H56: =ROUND(F56*G56,2) -> 0 | K56: =H56+I56+J56 -> 0 | L56: =ROUND(E56*F56,2) -> 0 | M56: =ROUND(E56*H56,2) -> 0 | N56: =ROUND(E56*I56,2) -> 0 | O56: =ROUND(E56*J56,2) -> 0 | P56: =M56+N56+O56 -> 0
A57: 6.5 | C57: Tērauda konstrukciju montāža- leņķis L 80x10.0 L=100mm | D57: gb | E57: 14 | H57: =ROUND(F57*G57,2) -> 0 | K57: =H57+I57+J57 -> 0 | L57: =ROUND(E57*F57,2) -> 0 | M57: =ROUND(E57*H57,2) -> 0 | N57: =ROUND(E57*I57,2) -> 0 | O57: =ROUND(E57*J57,2) -> 0 | P57: =M57+N57+O57 -> 0
A58: 6.6 | C58: 2xM16 | D58: gb | E58: 28 | H58: =ROUND(F58*G58,2) -> 0 | K58: =H58+I58+J58 -> 0 | L58: =ROUND(E58*F58,2) -> 0 | M58: =ROUND(E58*H58,2) -> 0 | N58: =ROUND(E58*I58,2) -> 0 | O58: =ROUND(E58*J58,2) -> 0 | P58: =M58+N58+O58 -> 0
A59: 6.7 | C59: Betons C20/25 XC1 | D59: m3 | E59: 0.02 | H59: =ROUND(F59*G59,2) -> 0 | K59: =H59+I59+J59 -> 0 | L59: =ROUND(E59*F59,2) -> 0 | M59: =ROUND(E59*H59,2) -> 0 | N59: =ROUND(E59*I59,2) -> 0 | O59: =ROUND(E59*J59,2) -> 0 | P59: =M59+N59+O59 -> 0
A60: 7 | C60: Iekares konstrukcija
A61: 7.1 | C61: Tērauda konstrukciju montāža- UPN 260 | D61: t | E61: 0.03 | H61: =ROUND(F61*G61,2) -> 0 | K61: =H61+I61+J61 -> 0 | L61: =ROUND(E61*F61,2) -> 0 | M61: =ROUND(E61*H61,2) -> 0 | N61: =ROUND(E61*I61,2) -> 0 | O61: =ROUND(E61*J61,2) -> 0 | P61: =M61+N61+O61 -> 0
A62: 7.2 | C62: Riba t12 un iekare | D62: t | E62: 0.03 | H62: =ROUND(F62*G62,2) -> 0 | K62: =H62+I62+J62 -> 0 | L62: =ROUND(E62*F62,2) -> 0 | M62: =ROUND(E62*H62,2) -> 0 | N62: =ROUND(E62*I62,2) -> 0 | O62: =ROUND(E62*J62,2) -> 0 | P62: =M62+N62+O62 -> 0
A63: 8 | C63: Kāpnes
A64: 8.1 | C64: Finiera iebūve, t=25mm | D64: m2 | E64: 10 | H64: =ROUND(F64*G64,2) -> 0 | K64: =H64+I64+J64 -> 0 | L64: =ROUND(E64*F64,2) -> 0 | M64: =ROUND(E64*H64,2) -> 0 | N64: =ROUND(E64*I64,2) -> 0 | O64: =ROUND(E64*J64,2) -> 0 | P64: =M64+N64+O64 -> 0
A65: 8.2 | C65: Tērauda konstrukciju montāža- grīdas sijas RHS 60x40x4.0 | D65: t | E65: 0.15 | H65: =ROUND(F65*G65,2) -> 0 | K65: =H65+I65+J65 -> 0 | L65: =ROUND(E65*F65,2) -> 0 | M65: =ROUND(E65*H65,2) -> 0 | N65: =ROUND(E65*I65,2) -> 0 | O65: =ROUND(E65*J65,2) -> 0 | P65: =M65+N65+O65 -> 0
A66: 8.3 | C66: Tērauda konstrukciju montāža- loksnes t6x80x100 | D66: gb | E66: 26 | H66: =ROUND(F66*G66,2) -> 0 | K66: =H66+I66+J66 -> 0 | L66: =ROUND(E66*F66,2) -> 0 | M66: =ROUND(E66*H66,2) -> 0 | N66: =ROUND(E66*I66,2) -> 0 | O66: =ROUND(E66*J66,2) -> 0 | P66: =M66+N66+O66 -> 0
A67: 8.4 | C67: Betona enkuri M12 | D67: gb | E67: 26 | H67: =ROUND(F67*G67,2) -> 0 | K67: =H67+I67+J67 -> 0 | L67: =ROUND(E67*F67,2) -> 0 | M67: =ROUND(E67*H67,2) -> 0 | N67: =ROUND(E67*I67,2) -> 0 | O67: =ROUND(E67*J67,2) -> 0 | P67: =M67+N67+O67 -> 0
A68: 8.5 | C68: Tērauda konstrukciju montāža- statnis RHS 60x40x4.0 | D68: t | E68: 0.07 | H68: =ROUND(F68*G68,2) -> 0 | K68: =H68+I68+J68 -> 0 | L68: =ROUND(E68*F68,2) -> 0 | M68: =ROUND(E68*H68,2) -> 0 | N68: =ROUND(E68*I68,2) -> 0 | O68: =ROUND(E68*J68,2) -> 0 | P68: =M68+N68+O68 -> 0
A69: 8.6 | C69: Tērauda konstrukciju montāža- kāpņu sijas RHS 60x40x4.0 | D69: t | E69: 0.25 | H69: =ROUND(F69*G69,2) -> 0 | K69: =H69+I69+J69 -> 0 | L69: =ROUND(E69*F69,2) -> 0 | M69: =ROUND(E69*H69,2) -> 0 | N69: =ROUND(E69*I69,2) -> 0 | O69: =ROUND(E69*J69,2) -> 0 | P69: =M69+N69+O69 -> 0
A70: 8.7 | C70: Tērauda konstrukciju montāža- margas | D70: gb | E70: 2 | H70: =ROUND(F70*G70,2) -> 0 | K70: =H70+I70+J70 -> 0 | L70: =ROUND(E70*F70,2) -> 0 | M70: =ROUND(E70*H70,2) -> 0 | N70: =ROUND(E70*I70,2) -> 0 | O70: =ROUND(E70*J70,2) -> 0 | P70: =M70+N70+O70 -> 0
A71: 9 | C71: CLT konstrukcijas
A72: 9.1 | C72: CLT konstrukciju iebūve- CLT 120 (ugunsreakcijas klase vismaz B-s1, d0) | D72: m3 | E72: 10.8 | H72: =ROUND(F72*G72,2) -> 0 | K72: =H72+I72+J72 -> 0 | L72: =ROUND(E72*F72,2) -> 0 | M72: =ROUND(E72*H72,2) -> 0 | N72: =ROUND(E72*I72,2) -> 0 | O72: =ROUND(E72*J72,2) -> 0 | P72: =M72+N72+O72 -> 0
A73: 9.2 | C73: Vairoga konstrukcijas iebūve | D73: kpl | E73: 1 | H73: =ROUND(F73*G73,2) -> 0 | K73: =H73+I73+J73 -> 0 | L73: =ROUND(E73*F73,2) -> 0 | M73: =ROUND(E73*H73,2) -> 0 | N73: =ROUND(E73*I73,2) -> 0 | O73: =ROUND(E73*J73,2) -> 0 | P73: =M73+N73+O73 -> 0
A74: 9.3 | C74: Savienojuma elementi TITAN - TTP200 un TTP 300, TTF 200, WHTPT 300 | D74: kpl | E74: 1 | H74: =ROUND(F74*G74,2) -> 0 | K74: =H74+I74+J74 -> 0 | L74: =ROUND(E74*F74,2) -> 0 | M74: =ROUND(E74*H74,2) -> 0 | N74: =ROUND(E74*I74,2) -> 0 | O74: =ROUND(E74*J74,2) -> 0 | P74: =M74+N74+O74 -> 0
A75: 9.4 | C75: Mehāniskie savienotāji VGZ d9, HBS d6 | D75: kpl | E75: 1 | H75: =ROUND(F75*G75,2) -> 0 | K75: =H75+I75+J75 -> 0 | L75: =ROUND(E75*F75,2) -> 0 | M75: =ROUND(E75*H75,2) -> 0 | N75: =ROUND(E75*I75,2) -> 0 | O75: =ROUND(E75*J75,2) -> 0 | P75: =M75+N75+O75 -> 0
A76: 9.5 | C76: Membrāna | D76: kpl | E76: 1 | H76: =ROUND(F76*G76,2) -> 0 | K76: =H76+I76+J76 -> 0 | L76: =ROUND(E76*F76,2) -> 0 | M76: =ROUND(E76*H76,2) -> 0 | N76: =ROUND(E76*I76,2) -> 0 | O76: =ROUND(E76*J76,2) -> 0 | P76: =M76+N76+O76 -> 0
A77: 9.6 | C77: Konstrukciju iebūve- SL-1 L=2000mm | D77: gb | E77: 16 | H77: =ROUND(F77*G77,2) -> 0 | K77: =H77+I77+J77 -> 0 | L77: =ROUND(E77*F77,2) -> 0 | M77: =ROUND(E77*H77,2) -> 0 | N77: =ROUND(E77*I77,2) -> 0 | O77: =ROUND(E77*J77,2) -> 0 | P77: =M77+N77+O77 -> 0
A78: 9.7 | C78: Konstrukciju iebūve- SL-2 L=1200mm | D78: gb | E78: 1 | H78: =ROUND(F78*G78,2) -> 0 | K78: =H78+I78+J78 -> 0 | L78: =ROUND(E78*F78,2) -> 0 | M78: =ROUND(E78*H78,2) -> 0 | N78: =ROUND(E78*I78,2) -> 0 | O78: =ROUND(E78*J78,2) -> 0 | P78: =M78+N78+O78 -> 0
A79: 9.8 | C79: Tērauda konstrukciju montāža- leņķis 100x10.0 L=500mm | D79: gb | E79: 34 | H79: =ROUND(F79*G79,2) -> 0 | K79: =H79+I79+J79 -> 0 | L79: =ROUND(E79*F79,2) -> 0 | M79: =ROUND(E79*H79,2) -> 0 | N79: =ROUND(E79*I79,2) -> 0 | O79: =ROUND(E79*J79,2) -> 0 | P79: =M79+N79+O79 -> 0
A80: 9.9 | C80: Stinguma saites vītņstienis M16 kl.8.8 L=1260mm | D80: kpl | E80: 15 | H80: =ROUND(F80*G80,2) -> 0 | K80: =H80+I80+J80 -> 0 | L80: =ROUND(E80*F80,2) -> 0 | M80: =ROUND(E80*H80,2) -> 0 | N80: =ROUND(E80*I80,2) -> 0 | O80: =ROUND(E80*J80,2) -> 0 | P80: =M80+N80+O80 -> 0
A81: 9.10 | C81: Ruukki profila montāža LP-Z150 t=1.5 L=17820mm | D81: gb | E81: 3 | H81: =ROUND(F81*G81,2) -> 0 | K81: =H81+I81+J81 -> 0 | L81: =ROUND(E81*F81,2) -> 0 | M81: =ROUND(E81*H81,2) -> 0 | N81: =ROUND(E81*I81,2) -> 0 | O81: =ROUND(E81*J81,2) -> 0 | P81: =M81+N81+O81 -> 0
A82: 9.11 | C82: t4+t6 detaļas | D82: gb | E82: 18 | H82: =ROUND(F82*G82,2) -> 0 | K82: =H82+I82+J82 -> 0 | L82: =ROUND(E82*F82,2) -> 0 | M82: =ROUND(E82*H82,2) -> 0 | N82: =ROUND(E82*I82,2) -> 0 | O82: =ROUND(E82*J82,2) -> 0 | P82: =M82+N82+O82 -> 0
A83: 9.12 | C83: Kokskrūves 4M16 | D83: gb | E83: 4 | H83: =ROUND(F83*G83,2) -> 0 | K83: =H83+I83+J83 -> 0 | L83: =ROUND(E83*F83,2) -> 0 | M83: =ROUND(E83*H83,2) -> 0 | N83: =ROUND(E83*I83,2) -> 0 | O83: =ROUND(E83*J83,2) -> 0 | P83: =M83+N83+O83 -> 0
... A87: 9.14 | C87: SB 2M8 | D87: gb | E87: 32 | H87: =ROUND(F87*G87,2) -> 0 | K87: =H87+I87+J87 -> 0 | L87: =ROUND(E87*F87,2) -> 0 | M87: =ROUND(E87*H87,2) -> 0 | N87: =ROUND(E87*I87,2) -> 0 | O87: =ROUND(E87*J87,2) -> 0 | P87: =M87+N87+O87 -> 0
A88: 10 | C88: Pagaidu balstu uzstādīšana, nojaukšana | D88: kpl | E88: 1 | H88: =ROUND(F88*G88,2) -> 0 | K88: =H88+I88+J88 -> 0 | L88: =ROUND(E88*F88,2) -> 0 | M88: =ROUND(E88*H88,2) -> 0 | N88: =ROUND(E88*I88,2) -> 0 | O88: =ROUND(E88*J88,2) -> 0 | P88: =M88+N88+O88 -> 0
A89: 11 | C89: Metāla sijas demontāža, utilizācija | D89: kpl | E89: 1 | H89: =ROUND(F89*G89,2) -> 0 | K89: =H89+I89+J89 -> 0 | L89: =ROUND(E89*F89,2) -> 0 | M89: =ROUND(E89*H89,2) -> 0 | N89: =ROUND(E89*I89,2) -> 0 | O89: =ROUND(E89*J89,2) -> 0 | P89: =M89+N89+O89 -> 0
A90: 12 | C90: Pārsegums
A91: 12.1 | C91: Saliekamā dz/betona pārseguma paneļa HCS 220x1200x6000 montāža (apjomu precizēt būvniecības laikā) | D91: gb | E91: 8 | H91: =ROUND(F91*G91,2) -> 0 | K91: =H91+I91+J91 -> 0 | L91: =ROUND(E91*F91,2) -> 0 | M91: =ROUND(E91*H91,2) -> 0 | N91: =ROUND(E91*I91,2) -> 0 | O91: =ROUND(E91*J91,2) -> 0 | P91: =M91+N91+O91 -> 0
A92: 12.2 | C92: Pārseguma paneļu testēšana (ja nepieciešams) | D92: kpl | E92: 1 | H92: =ROUND(F92*G92,2) -> 0 | K92: =H92+I92+J92 -> 0 | L92: =ROUND(E92*F92,2) -> 0 | M92: =ROUND(E92*H92,2) -> 0 | N92: =ROUND(E92*I92,2) -> 0 | O92: =ROUND(E92*J92,2) -> 0 | P92: =M92+N92+O92 -> 0
A93: TIEŠĀS IZMAKSAS KOPĀ, t. sk. darba devēja sociālais nodoklis (%) | L93: =SUM(L16:L92) -> 0 | M93: =SUM(M16:M92) -> 0 | N93: =SUM(N16:N92) -> 0 | O93: =SUM(O16:O92) -> 0 | P93: =SUM(P16:P92) -> 0
A95: Piezīmes:
A96: 1. Būvuzņēmējam jāievērtē darbu apjomu sarakstā minēto darbu veikšanai nepieciešamie materiāli un papildus darbi, kas nav minēti šajā sarakstā, bet bez
A97: kuriem nebūtu iespējama būvdarbu tehnoloģiski pareiza un spēkā esošiem normatīviem atbilstoša veikšana pilnā apmērā.
A98: 2. Darbu apjomu sarakstu skatīt kopā ar rasējumiem un specifikācijām. Gadījumā, ja darbu apjomi nesakrīt ar rasējumiem vai specifikācijām, par pareiziem
A99: jāuzskata rasējumos esošie darbu apjomi.
A100: 3. Atsevišķu materiālu apjomi doti bez rezerves.
A101: 4. Tāmēs ietvertos konkrēto ražotāju materiālus un izstrādājumus var aizvietot ar analogiem citu ražotāju materiāliem un izstrādājumiem, saskaņojot ar Arhitektu un Pasūtītāju.
C103: Sastādīja: | D103: =IF(KOPTĀME!B23=0,"",KOPTĀME!B23)
D104: (paraksts un tā atšifrējums, amats, uzņēmuma nosaukums, datums)
C106: Tāme sastādīta: | D106: =IF(KOPTĀME!B28=0,"",KOPTĀME!B28)
C108: Pārbaudīja: | D108: =IF(Kopsav.!C45=0,"",Kopsav.!C45)
D109: (paraksts un tā atšifrējums, amats, uzņēmuma nosaukums, datums)
...

Sheet 1-3_Sienas
P1: 03.05.2017. MK noteikumu Nr.239 5.pielikums
C2: LOKĀLĀ TĀME Nr. | D2: 1-3
A3: SIENU KONSTRUKCIJAS
A4: (būvdarbu veids vai konstruktīvā elementa nosaukums)
A5: =Kopsav.!A7:I7 -> Objekta nosaukums: Ēkas Miera ielā 58a (kad. Nr. 0100 026 0092 005) un Ēkas Miera ielā 58a (kad. Nr. 0100 026 2024 005), Rīga daļas pārbūve Kino muzeja vajadzībām
A6: =KOPTĀME!A12 -> Būves nosaukums: Darbnīca, Teātris
A7: =KOPTĀME!A13 -> Objekta adrese: Miera ielā 58a, Rīga
A8: =KOPTĀME!A14 -> Pasūtījuma Nr. LKA 2026/14
A10: Tāme sastādīta 2026.gada tirgus cenās, pamatojoties uz AR daļas rasējumiem.
M11: Tāmes izmaksas | N11: =P65 -> 0 | P11: euro
M12: Tāme sastādīta | N12: =IF(KOPTĀME!B28=0,"",KOPTĀME!B28)
A14: Nr.p.k. | B14: Kods | C14: Būvdarbu nosaukums | D14: Mērvienība | E14: Daudzums | F14: Vienības izmaksas | L14: Kopā uz visu apjomu
F15: laika norma (c/h) | G15: darba samaksas likme* (euro/h) | H15: darba alga | I15: būvizstrādājumi | J15: mehānismi | K15: kopā | L15: darbietilpība (c/h) | M15: darba alga | N15: būvizstrādājumi | O15: mehānismi | P15: summa
A16: 1 | C16: Ārsienu konstrukcija S1 (esoša, papildus siltināta siena)
A17: 1.1 | C17: Kaļķa javas apmetums, virsmas faktūra analoga filmu skolai, krāsots caurspīdīgs ar Baumit metallic, tonis NCS S8000-N 20mm | D17: m2 | E17: 161.7 | H17: =ROUND(F17*G17,2) -> 0 | K17: =H17+I17+J17 -> 0 | L17: =ROUND(E17*F17,2) -> 0 | M17: =ROUND(E17*H17,2) -> 0 | N17: =ROUND(E17*I17,2) -> 0 | O17: =ROUND(E17*J17,2) -> 0 | P17: =M17+N17+O17 -> 0
A18: 1.2 | C18: Cinkots metāla siets 20x20mm, stieples biezums 0,8mm, stiprināts pie fasādes ar Weber Merk kronšteiniem | D18: m2 | E18: 161.7 | H18: =ROUND(F18*G18,2) -> 0 | K18: =H18+I18+J18 -> 0 | L18: =ROUND(E18*F18,2) -> 0 | M18: =ROUND(E18*H18,2) -> 0 | N18: =ROUND(E18*I18,2) -> 0 | O18: =ROUND(E18*J18,2) -> 0 | P18: =M18+N18+O18 -> 0
A19: 1.3 | C19: ISOVER 3 minerālvate uz Weber Merk kronšteiniem 200mm | D19: m2 | E19: 161.7 | H19: =ROUND(F19*G19,2) -> 0 | K19: =H19+I19+J19 -> 0 | L19: =ROUND(E19*F19,2) -> 0 | M19: =ROUND(E19*H19,2) -> 0 | N19: =ROUND(E19*I19,2) -> 0 | O19: =ROUND(E19*J19,2) -> 0 | P19: =M19+N19+O19 -> 0
A20: 1.4 | C20: Izlīdzinošais apmetums, mūra šuvju aizpildīšana 5mm | D20: m2 | E20: 161.7 | H20: =ROUND(F20*G20,2) -> 0 | K20: =H20+I20+J20 -> 0 | L20: =ROUND(E20*F20,2) -> 0 | M20: =ROUND(E20*H20,2) -> 0 | N20: =ROUND(E20*I20,2) -> 0 | O20: =ROUND(E20*J20,2) -> 0 | P20: =M20+N20+O20 -> 0
A21: 1.5 | C21: Esošā ķieģeļu mūra virsmas attīrīšana, noklāšana ar cietinošu, fiksējošu pārklājumu, gruntēšana | D21: m2 | E21: 161.7 | H21: =ROUND(F21*G21,2) -> 0 | K21: =H21+I21+J21 -> 0 | L21: =ROUND(E21*F21,2) -> 0 | M21: =ROUND(E21*H21,2) -> 0 | N21: =ROUND(E21*I21,2) -> 0 | O21: =ROUND(E21*J21,2) -> 0 | P21: =M21+N21+O21 -> 0
A22: 1.6 | C22: Ailu aizmūrējums, iesk.mūrjavu | D22: m3 | E22: 6.6 | H22: =ROUND(F22*G22,2) -> 0 | K22: =H22+I22+J22 -> 0 | L22: =ROUND(E22*F22,2) -> 0 | M22: =ROUND(E22*H22,2) -> 0 | N22: =ROUND(E22*I22,2) -> 0 | O22: =ROUND(E22*J22,2) -> 0 | P22: =M22+N22+O22 -> 0
A23: 1.7 | C23: Daļēja apmetuma demontāža. Esoša apdare, kura ir pietiekoši stabila un nekrīt nost, saglabājama, attīrāma un eksponējama | D23: m2 | E23: 161.7 | H23: =ROUND(F23*G23,2) -> 0 | K23: =H23+I23+J23 -> 0 | L23: =ROUND(E23*F23,2) -> 0 | M23: =ROUND(E23*H23,2) -> 0 | N23: =ROUND(E23*I23,2) -> 0 | O23: =ROUND(E23*J23,2) -> 0 | P23: =M23+N23+O23 -> 0
A24: 2 | C24: Ārsienu konstrukcija S2 (jauna siena) (REI-60/A1)
A25: 2.1 | C25: Izlīdzinošais apmetums, mūra šuvju aizpildīšana 5mm (ugunsreakcijas klase A1) | D25: m2 | E25: 121.2 | H25: =ROUND(F25*G25,2) -> 0 | K25: =H25+I25+J25 -> 0 | L25: =ROUND(E25*F25,2) -> 0 | M25: =ROUND(E25*H25,2) -> 0 | N25: =ROUND(E25*I25,2) -> 0 | O25: =ROUND(E25*J25,2) -> 0 | P25: =M25+N25+O25 -> 0
A26: 2.2 | C26: ISOVER minerālvate 2030mm uz jauna keramzītbetona bloku mūra (ugunsreakcijas klase A1) | D26: m2 | E26: 121.2 | H26: =ROUND(F26*G26,2) -> 0 | K26: =H26+I26+J26 -> 0 | L26: =ROUND(E26*F26,2) -> 0 | M26: =ROUND(E26*H26,2) -> 0 | N26: =ROUND(E26*I26,2) -> 0 | O26: =ROUND(E26*J26,2) -> 0 | P26: =M26+N26+O26 -> 0
A27: 2.3 | C27: Eksponēts bloku mūris, apstrādāts ar pretputekļu pārklājumu (ugunsreakcijas klase A1) | D27: m2 | E27: 121.2 | H27: =ROUND(F27*G27,2) -> 0 | K27: =H27+I27+J27 -> 0 | L27: =ROUND(E27*F27,2) -> 0 | M27: =ROUND(E27*H27,2) -> 0 | N27: =ROUND(E27*I27,2) -> 0 | O27: =ROUND(E27*J27,2) -> 0 | P27: =M27+N27+O27 -> 0
A28: 3 | C28: Ārsienu konstrukcija S3 (jauna siena- parapets (REI-60/A1))
A29: 3.1 | C29: Kaļķa javas apmetums, virsmas faktūra analoga filmu skolai, krāsots caurspīdīgs ar Baumit metallic, tonis NCS S8000-N 20mm (ugunsreakcijas klase A1) | D29: m2 | E29: 22.1 | H29: =ROUND(F29*G29,2) -> 0 | K29: =H29+I29+J29 -> 0 | L29: =ROUND(E29*F29,2) -> 0 | M29: =ROUND(E29*H29,2) -> 0 | N29: =ROUND(E29*I29,2) -> 0 | O29: =ROUND(E29*J29,2) -> 0 | P29: =M29+N29+O29 -> 0
A30: 3.2 | C30: Cinkots metāla siets 20x20mm, stieples biezums 0,8mm, stiprināts pie fasādes ar Weber Merk kronšteiniem (ugunsreakcijas klase A1) | D30: m2 | E30: 22.1 | H30: =ROUND(F30*G30,2) -> 0 | K30: =H30+I30+J30 -> 0 | L30: =ROUND(E30*F30,2) -> 0 | M30: =ROUND(E30*H30,2) -> 0 | N30: =ROUND(E30*I30,2) -> 0 | O30: =ROUND(E30*J30,2) -> 0 | P30: =M30+N30+O30 -> 0
A31: 3.3 | C31: Fasāžu akmens vates siltumizolācijas sistēma ʎ=0.037 (W/mxK), stiprināta pie fasādes ar dībeļiem (ugunsreakcijas klase A1) 50mm | D31: m2 | E31: 22.1 | H31: =ROUND(F31*G31,2) -> 0 | K31: =H31+I31+J31 -> 0 | L31: =ROUND(E31*F31,2) -> 0 | M31: =ROUND(E31*H31,2) -> 0 | N31: =ROUND(E31*I31,2) -> 0 | O31: =ROUND(E31*J31,2) -> 0 | P31: =M31+N31+O31 -> 0
A32: 3.4 | C32: Javas slānis 10mm (ugunsreakcijas klase A1) | D32: m2 | E32: 22.1 | H32: =ROUND(F32*G32,2) -> 0 | K32: =H32+I32+J32 -> 0 | L32: =ROUND(E32*F32,2) -> 0 | M32: =ROUND(E32*H32,2) -> 0 | N32: =ROUND(E32*I32,2) -> 0 | O32: =ROUND(E32*J32,2) -> 0 | P32: =M32+N32+O32 -> 0
A33: 3.5 | C33: Keramzītbetona bloku mūris 200mm, FIBO bloki 5 Mpa (vai līdzvērtīgi), iesk.mūrjavu un armatūru atbilstoši ražotāja tehnoloģijai (ugunsreakcijas klase A1) | D33: m3 | E33: 4.42 | H33: =ROUND(F33*G33,2) -> 0 | K33: =H33+I33+J33 -> 0 | L33: =ROUND(E33*F33,2) -> 0 | M33: =ROUND(E33*H33,2) -> 0 | N33: =ROUND(E33*I33,2) -> 0 | O33: =ROUND(E33*J33,2) -> 0 | P33: =M33+N33+O33 -> 0
A34: 3.6 | C34: Javas slānis 10mm (ugunsreakcijas klase A1) | D34: m2 | E34: 22.1 | H34: =ROUND(F34*G34,2) -> 0 | K34: =H34+I34+J34 -> 0 | L34: =ROUND(E34*F34,2) -> 0 | M34: =ROUND(E34*H34,2) -> 0 | N34: =ROUND(E34*I34,2) -> 0 | O34: =ROUND(E34*J34,2) -> 0 | P34: =M34+N34+O34 -> 0
A35: 3.7 | C35: Fasāžu akmens vates siltumizolācijas sistēma ʎ=0.037 (W/mxK), stiprināta pie fasādes ar dībeļiem 50mm (ugunsreakcijas klase A1) | D35: m2 | E35: 22.1 | H35: =ROUND(F35*G35,2) -> 0 | K35: =H35+I35+J35 -> 0 | L35: =ROUND(E35*F35,2) -> 0 | M35: =ROUND(E35*H35,2) -> 0 | N35: =ROUND(E35*I35,2) -> 0 | O35: =ROUND(E35*J35,2) -> 0 | P35: =M35+N35+O35 -> 0
A36: 3.8 | C36: Cinkots metāla siets 20x20mm, stieples biezums 0,8mm, stiprināts pie fasādes ar Weber Merk kronšteiniem (ugunsreakcijas klase A1) | D36: m2 | E36: 22.1 | H36: =ROUND(F36*G36,2) -> 0 | K36: =H36+I36+J36 -> 0 | L36: =ROUND(E36*F36,2) -> 0 | M36: =ROUND(E36*H36,2) -> 0 | N36: =ROUND(E36*I36,2) -> 0 | O36: =ROUND(E36*J36,2) -> 0 | P36: =M36+N36+O36 -> 0
A37: 3.9 | C37: Kaļķa javas apmetums, virsmas faktūra analoga filmu skolai, krāsots caurspīdīgs ar Baumit metallic, tonis NCS S8000-N 20mm (ugunsreakcijas klase A1) | D37: m2 | E37: 22.1 | H37: =ROUND(F37*G37,2) -> 0 | K37: =H37+I37+J37 -> 0 | L37: =ROUND(E37*F37,2) -> 0 | M37: =ROUND(E37*H37,2) -> 0 | N37: =ROUND(E37*I37,2) -> 0 | O37: =ROUND(E37*J37,2) -> 0 | P37: =M37+N37+O37 -> 0
A38: 4 | C38: Ārsienu konstrukcija S4 (jauna siena- jumta izbūve) (R-60/B-s1, d0)
A39: 4.1 | C39: Kaļķa javas apmetums, virsmas faktūra analoga filmu skolai, krāsots caurspīdīgs ar Baumit metallic, tonis NCS S8000-N 20mm | D39: m2 | E39: 66 | H39: =ROUND(F39*G39,2) -> 0 | K39: =H39+I39+J39 -> 0 | L39: =ROUND(E39*F39,2) -> 0 | M39: =ROUND(E39*H39,2) -> 0 | N39: =ROUND(E39*I39,2) -> 0 | O39: =ROUND(E39*J39,2) -> 0 | P39: =M39+N39+O39 -> 0
A40: 4.2 | C40: Cinkots metāla siets 20x20mm, stieples biezums 0,8mm, stiprināts pie fasādes ar Weber Merk kronšteiniem | D40: m2 | E40: 66 | H40: =ROUND(F40*G40,2) -> 0 | K40: =H40+I40+J40 -> 0 | L40: =ROUND(E40*F40,2) -> 0 | M40: =ROUND(E40*H40,2) -> 0 | N40: =ROUND(E40*I40,2) -> 0 | O40: =ROUND(E40*J40,2) -> 0 | P40: =M40+N40+O40 -> 0
A41: 4.3 | C41: ISOVER 3 minerālvate uz Weber Merk kronšteiniem 200mm | D41: m2 | E41: 66 | H41: =ROUND(F41*G41,2) -> 0 | K41: =H41+I41+J41 -> 0 | L41: =ROUND(E41*F41,2) -> 0 | M41: =ROUND(E41*H41,2) -> 0 | N41: =ROUND(E41*I41,2) -> 0 | O41: =ROUND(E41*J41,2) -> 0 | P41: =M41+N41+O41 -> 0
A42: 5 | C42: Iekšsienu konstrukcija S5 (jauna siena)
A43: 5.1 | C43: Karkasa starpsiena Knauf sistēma W112 (vai līdzvērtīga) | D43: m2 | E43: 99.8 | H43: =ROUND(F43*G43,2) -> 0 | K43: =H43+I43+J43 -> 0 | L43: =ROUND(E43*F43,2) -> 0 | M43: =ROUND(E43*H43,2) -> 0 | N43: =ROUND(E43*I43,2) -> 0 | O43: =ROUND(E43*J43,2) -> 0 | P43: =M43+N43+O43 -> 0
A44: 5.2 | C44: Sienas sagatavošana (špaktelēšana, slīpēšana un gruntēšana) un krāsošana 2x | D44: m2 | E44: 199.6 | H44: =ROUND(F44*G44,2) -> 0 | K44: =H44+I44+J44 -> 0 | L44: =ROUND(E44*F44,2) -> 0 | M44: =ROUND(E44*H44,2) -> 0 | N44: =ROUND(E44*I44,2) -> 0 | O44: =ROUND(E44*J44,2) -> 0 | P44: =M44+N44+O44 -> 0
A45: 6 | C45: Iekšsienu konstrukcija S5a (jauna siena)
A46: 6.1 | C46: Karkasa starpsiena Knauf sistēma W112 (vai līdzvērtīga) ar apdari mitrām telpām | D46: m2 | E46: 9.4 | H46: =ROUND(F46*G46,2) -> 0 | K46: =H46+I46+J46 -> 0 | L46: =ROUND(E46*F46,2) -> 0 | M46: =ROUND(E46*H46,2) -> 0 | N46: =ROUND(E46*I46,2) -> 0 | O46: =ROUND(E46*J46,2) -> 0 | P46: =M46+N46+O46 -> 0
A47: 6.2 | C47: Sienas sagatavošana (špaktelēšana, slīpēšana un gruntēšana) un krāsošana 2x | D47: m2 | E47: 9.4 | H47: =ROUND(F47*G47,2) -> 0 | K47: =H47+I47+J47 -> 0 | L47: =ROUND(E47*F47,2) -> 0 | M47: =ROUND(E47*H47,2) -> 0 | N47: =ROUND(E47*I47,2) -> 0 | O47: =ROUND(E47*J47,2) -> 0 | P47: =M47+N47+O47 -> 0
A48: 6.3 | C48: Sienas sagatavošana (špaktelēšana, slīpēšana un gruntēšana) un flīzēšana | D48: m2 | E48: 9.4 | H48: =ROUND(F48*G48,2) -> 0 | K48: =H48+I48+J48 -> 0 | L48: =ROUND(E48*F48,2) -> 0 | M48: =ROUND(E48*H48,2) -> 0 | N48: =ROUND(E48*I48,2) -> 0 | O48: =ROUND(E48*J48,2) -> 0 | P48: =M48+N48+O48 -> 0
A49: 7 | C49: Iekšsienu konstrukcija S6 (jauna siena)
A50: 7.1 | C50: Dubulta karkasa starpsiena Knauf sistēma W115 (vai līdzvērtīga) ar apdari mitrām telpām | D50: m2 | E50: 3.5 | H50: =ROUND(F50*G50,2) -> 0 | K50: =H50+I50+J50 -> 0 | L50: =ROUND(E50*F50,2) -> 0 | M50: =ROUND(E50*H50,2) -> 0 | N50: =ROUND(E50*I50,2) -> 0 | O50: =ROUND(E50*J50,2) -> 0 | P50: =M50+N50+O50 -> 0
A51: 7.2 | C51: Sienas sagatavošana (špaktelēšana, slīpēšana un gruntēšana) un krāsošana 2x | D51: m2 | E51: 7 | H51: =ROUND(F51*G51,2) -> 0 | K51: =H51+I51+J51 -> 0 | L51: =ROUND(E51*F51,2) -> 0 | M51: =ROUND(E51*H51,2) -> 0 | N51: =ROUND(E51*I51,2) -> 0 | O51: =ROUND(E51*J51,2) -> 0 | P51: =M51+N51+O51 -> 0
A52: 8 | C52: Iekšsienu konstrukcija S7 (jauna siena)
A53: 8.1 | C53: Esošās sienas piemūrējums kāpņu telpā (REI-60/A1) | D53: m3 | E53: 1 | H53: =ROUND(F53*G53,2) -> 0 | K53: =H53+I53+J53 -> 0 | L53: =ROUND(E53*F53,2) -> 0 | M53: =ROUND(E53*H53,2) -> 0 | N53: =ROUND(E53*I53,2) -> 0 | O53: =ROUND(E53*J53,2) -> 0 | P53: =M53+N53+O53 -> 0
A54: 8.2 | C54: Sienas sagatavošana (špaktelēšana, slīpēšana un gruntēšana) un krāsošana 2x | D54: m2 | E54: 2 | H54: =ROUND(F54*G54,2) -> 0 | K54: =H54+I54+J54 -> 0 | L54: =ROUND(E54*F54,2) -> 0 | M54: =ROUND(E54*H54,2) -> 0 | N54: =ROUND(E54*I54,2) -> 0 | O54: =ROUND(E54*J54,2) -> 0 | P54: =M54+N54+O54 -> 0
A55: 9 | C55: Iekšsienu konstrukcija S8 (jauna siena kino zālē)
A56: 9.1 | C56: Keramzītbetona bloku mūris 200mm, FIBO bloki 5 Mpa (vai līdzvērtīgi), iesk.mūrjavu un armatūru atbilstoši ražotāja tehnoloģijai | D56: m3 | E56: 10.44 | H56: =ROUND(F56*G56,2) -> 0 | K56: =H56+I56+J56 -> 0 | L56: =ROUND(E56*F56,2) -> 0 | M56: =ROUND(E56*H56,2) -> 0 | N56: =ROUND(E56*I56,2) -> 0 | O56: =ROUND(E56*J56,2) -> 0 | P56: =M56+N56+O56 -> 0
A57: 9.2 | C57: Akustiskā sienu apdare | D57: m2 | E57: 52.2 | H57: =ROUND(F57*G57,2) -> 0 | K57: =H57+I57+J57 -> 0 | L57: =ROUND(E57*F57,2) -> 0 | M57: =ROUND(E57*H57,2) -> 0 | N57: =ROUND(E57*I57,2) -> 0 | O57: =ROUND(E57*J57,2) -> 0 | P57: =M57+N57+O57 -> 0
A58: 10 | C58: Kaimiņu ārsienas papildus siltinājums
A59: 10.1 | C59: PAROC CGL 20cy akmens vates lameles uz ārsienas 150mm, iesk.līmi PAROC SW | D59: m2 | E59: 130 | H59: =ROUND(F59*G59,2) -> 0 | K59: =H59+I59+J59 -> 0 | L59: =ROUND(E59*F59,2) -> 0 | M59: =ROUND(E59*H59,2) -> 0 | N59: =ROUND(E59*I59,2) -> 0 | O59: =ROUND(E59*J59,2) -> 0 | P59: =M59+N59+O59 -> 0
A60: 11 | C60: Siena starp telpām 001-22 un 001-3
A61: 11.1 | C61: Daļēja apmetuma demontāža. Esoša apdare, kura ir pietiekoši stabila un nekrīt nost, saglabājama, attīrāma un eksponējama | D61: m2 | E61: 55 | H61: =ROUND(F61*G61,2) -> 0 | K61: =H61+I61+J61 -> 0 | L61: =ROUND(E61*F61,2) -> 0 | M61: =ROUND(E61*H61,2) -> 0 | N61: =ROUND(E61*I61,2) -> 0 | O61: =ROUND(E61*J61,2) -> 0 | P61: =M61+N61+O61 -> 0
A62: 12 | C62: Logu un durvju apmaļu apdare
A63: 12.1 | C63: Logu apmales apdare kā esošajām ailām | D63: m | E63: 32.3 | H63: =ROUND(F63*G63,2) -> 0 | K63: =H63+I63+J63 -> 0 | L63: =ROUND(E63*F63,2) -> 0 | M63: =ROUND(E63*H63,2) -> 0 | N63: =ROUND(E63*I63,2) -> 0 | O63: =ROUND(E63*J63,2) -> 0 | P63: =M63+N63+O63 -> 0
A64: 12.2 | C64: Durvju apmales apdare kā esošajām ailām | D64: m | E64: 23 | H64: =ROUND(F64*G64,2) -> 0 | K64: =H64+I64+J64 -> 0 | L64: =ROUND(E64*F64,2) -> 0 | M64: =ROUND(E64*H64,2) -> 0 | N64: =ROUND(E64*I64,2) -> 0 | O64: =ROUND(E64*J64,2) -> 0 | P64: =M64+N64+O64 -> 0
A65: TIEŠĀS IZMAKSAS KOPĀ, t. sk. darba devēja sociālais nodoklis (%) | L65: =SUM(L16:L59) -> 0 | M65: =SUM(M16:M59) -> 0 | N65: =SUM(N16:N59) -> 0 | O65: =SUM(O16:O59) -> 0 | P65: =SUM(P16:P59) -> 0
A67: Piezīmes.
A68: 1. Būvuzņēmējam jāievērtē darbu apjomu sarakstā minēto darbu veikšanai nepieciešamie materiāli un papildus darbi, kas nav minēti šajā sarakstā, bet bez
A69: kuriem nebūtu iespējama būvdarbu tehnoloģiski pareiza un spēkā esošiem normatīviem atbilstoša veikšana pilnā apmērā.
A70: 2. Darbu apjomu sarakstu skatīt kopā ar rasējumiem un specifikācijām. Gadījumā, ja darbu apjomi nesakrīt ar rasējumiem vai specifikācijām, par pareiziem
A71: jāuzskata rasējumos esošie darbu apjomi.
A72: 3. Atsevišķu materiālu apjomi doti bez rezerves.
A73: 4. Tāmēs ietvertos konkrēto ražotāju materiālus un izstrādājumus var aizvietot ar analogiem citu ražotāju materiāliem un izstrādājumiem, saskaņojot ar Arhitektu un Pasūtītāju.
C75: Sastādīja: | D75: =IF(KOPTĀME!B23=0,"",KOPTĀME!B23)
D76: (paraksts un tā atšifrējums, amats, uzņēmuma nosaukums, datums)
C78: Tāme sastādīta: | D78: =IF(KOPTĀME!B28=0,"",KOPTĀME!B28)
C80: Pārbaudīja: | D80: =IF(Kopsav.!C45=0,"",Kopsav.!C45)
D81: (paraksts un tā atšifrējums, amats, uzņēmuma nosaukums, datums)
C83: Sertifikāta Nr.: | D83: =IF(KOPTĀME!B26=0,"",KOPTĀME!B26)

Sheet 1-4_Jumts
P1: 03.05.2017. MK noteikumu Nr.239 5.pielikums
C2: LOKĀLĀ TĀME Nr. | D2: 1-4
A3: JUMTA KONSTRUKCIJAS
A4: (būvdarbu veids vai konstruktīvā elementa nosaukums)
A5: =Kopsav.!A7:I7 -> Objekta nosaukums: Ēkas Miera ielā 58a (kad. Nr. 0100 026 0092 005) un Ēkas Miera ielā 58a (kad. Nr. 0100 026 2024 005), Rīga daļas pārbūve Kino muzeja vajadzībām
A6: =KOPTĀME!A12 -> Būves nosaukums: Darbnīca, Teātris
A7: =KOPTĀME!A13 -> Objekta adrese: Miera ielā 58a, Rīga
A8: =KOPTĀME!A14 -> Pasūtījuma Nr. LKA 2026/14
A10: Tāme sastādīta 2026.gada tirgus cenās, pamatojoties uz AR daļas rasējumiem.
M11: Tāmes izmaksas | N11: =P44 -> 0 | P11: euro
M12: Tāme sastādīta | N12: =IF(KOPTĀME!B28=0,"",KOPTĀME!B28)
A14: Nr.p.k. | B14: Kods | C14: Būvdarbu nosaukums | D14: Mērvienība | E14: Daudzums | F14: Vienības izmaksas | L14: Kopā uz visu apjomu
F15: laika norma (c/h) | G15: darba samaksas likme* (euro/h) | H15: darba alga | I15: būvizstrādājumi | J15: mehānismi | K15: kopā | L15: darbietilpība (c/h) | M15: darba alga | N15: būvizstrādājumi | O15: mehānismi | P15: summa
A16: 1 | C16: Jumta konstrukcija J1 (esošs, siltināts jumts)
A17: 1.1 | C17: Ruukki viļņoto metāla lokšņu montāža Tokyo S18 18mm | D17: m2 | E17: 61.2 | H17: =ROUND(F17*G17,2) -> 0 | K17: =H17+I17+J17 -> 0 | L17: =ROUND(E17*F17,2) -> 0 | M17: =ROUND(E17*H17,2) -> 0 | N17: =ROUND(E17*I17,2) -> 0 | O17: =ROUND(E17*J17,2) -> 0 | P17: =M17+N17+O17 -> 0
A18: 1.2 | C18: Šķērslatojums 38x100mm | D18: m2 | E18: 61.2 | H18: =ROUND(F18*G18,2) -> 0 | K18: =H18+I18+J18 -> 0 | L18: =ROUND(E18*F18,2) -> 0 | M18: =ROUND(E18*H18,2) -> 0 | N18: =ROUND(E18*I18,2) -> 0 | O18: =ROUND(E18*J18,2) -> 0 | P18: =M18+N18+O18 -> 0
A19: 1.3 | C19: Garenlatojums 50x70mm | D19: m2 | E19: 61.2 | H19: =ROUND(F19*G19,2) -> 0 | K19: =H19+I19+J19 -> 0 | L19: =ROUND(E19*F19,2) -> 0 | M19: =ROUND(E19*H19,2) -> 0 | N19: =ROUND(E19*I19,2) -> 0 | O19: =ROUND(E19*J19,2) -> 0 | P19: =M19+N19+O19 -> 0
A20: 1.4 | C20: Difūzijas membrāna Tyvek Supro Plus tape vai līdzvērtīgs | D20: m2 | E20: 61.2 | H20: =ROUND(F20*G20,2) -> 0 | K20: =H20+I20+J20 -> 0 | L20: =ROUND(E20*F20,2) -> 0 | M20: =ROUND(E20*H20,2) -> 0 | N20: =ROUND(E20*I20,2) -> 0 | O20: =ROUND(E20*J20,2) -> 0 | P20: =M20+N20+O20 -> 0
A21: 1.5 | C21: Siltumizolācija <0,035 W/MK (ISOVER KL 35 vai līdzvērtīgs) 200mm | D21: m2 | E21: 61.2 | H21: =ROUND(F21*G21,2) -> 0 | K21: =H21+I21+J21 -> 0 | L21: =ROUND(E21*F21,2) -> 0 | M21: =ROUND(E21*H21,2) -> 0 | N21: =ROUND(E21*I21,2) -> 0 | O21: =ROUND(E21*J21,2) -> 0 | P21: =M21+N21+O21 -> 0
A22: 1.6 | C22: Koka karkass 50x200mm, solis 600mm | D22: m2 | E22: 61.2 | H22: =ROUND(F22*G22,2) -> 0 | K22: =H22+I22+J22 -> 0 | L22: =ROUND(E22*F22,2) -> 0 | M22: =ROUND(E22*H22,2) -> 0 | N22: =ROUND(E22*I22,2) -> 0 | O22: =ROUND(E22*J22,2) -> 0 | P22: =M22+N22+O22 -> 0
A23: 1.7 | C23: Tvaika izolācija Sd5m uz esošiem betona paneļiem (R-60/B-s1, d0) | D23: m2 | E23: 61.2 | H23: =ROUND(F23*G23,2) -> 0 | K23: =H23+I23+J23 -> 0 | L23: =ROUND(E23*F23,2) -> 0 | M23: =ROUND(E23*H23,2) -> 0 | N23: =ROUND(E23*I23,2) -> 0 | O23: =ROUND(E23*J23,2) -> 0 | P23: =M23+N23+O23 -> 0
A24: 2 | C24: Jumta konstrukcija J2 (esošs, siltināts jumts)
A25: 2.1 | C25: Ruukki viļņoto metāla lokšņu montāža Tokyo S18 18mm | D25: m2 | E25: 215 | H25: =ROUND(F25*G25,2) -> 0 | K25: =H25+I25+J25 -> 0 | L25: =ROUND(E25*F25,2) -> 0 | M25: =ROUND(E25*H25,2) -> 0 | N25: =ROUND(E25*I25,2) -> 0 | O25: =ROUND(E25*J25,2) -> 0 | P25: =M25+N25+O25 -> 0
A26: 2.2 | C26: Šķērslatojums 38x100mm | D26: m2 | E26: 215 | H26: =ROUND(F26*G26,2) -> 0 | K26: =H26+I26+J26 -> 0 | L26: =ROUND(E26*F26,2) -> 0 | M26: =ROUND(E26*H26,2) -> 0 | N26: =ROUND(E26*I26,2) -> 0 | O26: =ROUND(E26*J26,2) -> 0 | P26: =M26+N26+O26 -> 0
A27: 2.3 | C27: Garenlatojums 50x70mm | D27: m2 | E27: 215 | H27: =ROUND(F27*G27,2) -> 0 | K27: =H27+I27+J27 -> 0 | L27: =ROUND(E27*F27,2) -> 0 | M27: =ROUND(E27*H27,2) -> 0 | N27: =ROUND(E27*I27,2) -> 0 | O27: =ROUND(E27*J27,2) -> 0 | P27: =M27+N27+O27 -> 0
A28: 2.4 | C28: Difūzijas membrāna Tyvek Supro Plus tape vai līdzvērtīgs | D28: m2 | E28: 215 | H28: =ROUND(F28*G28,2) -> 0 | K28: =H28+I28+J28 -> 0 | L28: =ROUND(E28*F28,2) -> 0 | M28: =ROUND(E28*H28,2) -> 0 | N28: =ROUND(E28*I28,2) -> 0 | O28: =ROUND(E28*J28,2) -> 0 | P28: =M28+N28+O28 -> 0
A29: 2.5 | C29: Siltumizolācija <0,035 W/MK (ISOVER KL 35 vai līdzvērtīgs) 200mm | D29: m2 | E29: 215 | H29: =ROUND(F29*G29,2) -> 0 | K29: =H29+I29+J29 -> 0 | L29: =ROUND(E29*F29,2) -> 0 | M29: =ROUND(E29*H29,2) -> 0 | N29: =ROUND(E29*I29,2) -> 0 | O29: =ROUND(E29*J29,2) -> 0 | P29: =M29+N29+O29 -> 0
A30: 2.6 | C30: Koka karkass 50x200mm, solis 600mm | D30: m2 | E30: 215 | H30: =ROUND(F30*G30,2) -> 0 | K30: =H30+I30+J30 -> 0 | L30: =ROUND(E30*F30,2) -> 0 | M30: =ROUND(E30*H30,2) -> 0 | N30: =ROUND(E30*I30,2) -> 0 | O30: =ROUND(E30*J30,2) -> 0 | P30: =M30+N30+O30 -> 0
A31: 2.7 | C31: Tvaika izolācija Sd5m uz esošiem betona paneļiem (R-60/B-s1, d0) | D31: m2 | E31: 215 | H31: =ROUND(F31*G31,2) -> 0 | K31: =H31+I31+J31 -> 0 | L31: =ROUND(E31*F31,2) -> 0 | M31: =ROUND(E31*H31,2) -> 0 | N31: =ROUND(E31*I31,2) -> 0 | O31: =ROUND(E31*J31,2) -> 0 | P31: =M31+N31+O31 -> 0
A32: 3 | C32: Jumta konstrukcija J3 (jauns jumts)
A33: 3.1 | C33: Ruukki viļņoto metāla lokšņu montāža Tokyo S18 18mm | D33: m2 | E33: 28 | H33: =ROUND(F33*G33,2) -> 0 | K33: =H33+I33+J33 -> 0 | L33: =ROUND(E33*F33,2) -> 0 | M33: =ROUND(E33*H33,2) -> 0 | N33: =ROUND(E33*I33,2) -> 0 | O33: =ROUND(E33*J33,2) -> 0 | P33: =M33+N33+O33 -> 0
A34: 3.2 | C34: Šķērslatojums 38x100mm | D34: m2 | E34: 28 | H34: =ROUND(F34*G34,2) -> 0 | K34: =H34+I34+J34 -> 0 | L34: =ROUND(E34*F34,2) -> 0 | M34: =ROUND(E34*H34,2) -> 0 | N34: =ROUND(E34*I34,2) -> 0 | O34: =ROUND(E34*J34,2) -> 0 | P34: =M34+N34+O34 -> 0
A35: 3.3 | C35: Garenlatojums 50x70mm | D35: m2 | E35: 28 | H35: =ROUND(F35*G35,2) -> 0 | K35: =H35+I35+J35 -> 0 | L35: =ROUND(E35*F35,2) -> 0 | M35: =ROUND(E35*H35,2) -> 0 | N35: =ROUND(E35*I35,2) -> 0 | O35: =ROUND(E35*J35,2) -> 0 | P35: =M35+N35+O35 -> 0
A36: 3.4 | C36: Difūzijas membrāna Tyvek Supro Plus tape vai līdzvērtīgs | D36: m2 | E36: 28 | H36: =ROUND(F36*G36,2) -> 0 | K36: =H36+I36+J36 -> 0 | L36: =ROUND(E36*F36,2) -> 0 | M36: =ROUND(E36*H36,2) -> 0 | N36: =ROUND(E36*I36,2) -> 0 | O36: =ROUND(E36*J36,2) -> 0 | P36: =M36+N36+O36 -> 0
A37: 3.5 | C37: Siltumizolācija <0,035 W/MK (ISOVER KL 35 vai līdzvērtīgs) 200mm 350mm | D37: m2 | E37: 28 | H37: =ROUND(F37*G37,2) -> 0 | K37: =H37+I37+J37 -> 0 | L37: =ROUND(E37*F37,2) -> 0 | M37: =ROUND(E37*H37,2) -> 0 | N37: =ROUND(E37*I37,2) -> 0 | O37: =ROUND(E37*J37,2) -> 0 | P37: =M37+N37+O37 -> 0
A38: 3.6 | C38: Koka karkass 50x200mm 50x350mm, solis 600mm | D38: m2 | E38: 28 | H38: =ROUND(F38*G38,2) -> 0 | K38: =H38+I38+J38 -> 0 | L38: =ROUND(E38*F38,2) -> 0 | M38: =ROUND(E38*H38,2) -> 0 | N38: =ROUND(E38*I38,2) -> 0 | O38: =ROUND(E38*J38,2) -> 0 | P38: =M38+N38+O38 -> 0
A39: 3.7 | C39: Tvaika izolācija Sd5m uz esošiem betona paneļiem (R-60/B-s1, d0) | D39: m2 | E39: 28 | H39: =ROUND(F39*G39,2) -> 0 | K39: =H39+I39+J39 -> 0 | L39: =ROUND(E39*F39,2) -> 0 | M39: =ROUND(E39*H39,2) -> 0 | N39: =ROUND(E39*I39,2) -> 0 | O39: =ROUND(E39*J39,2) -> 0 | P39: =M39+N39+O39 -> 0
A40: 4 | C40: Tehniskās izbūves jumts
A41: 4.1 | C41: Papildus tehniskās izbūves jumta siltinājums 150mm, siltumizolācija <0,035 W/MK (ISOVER KL 35 vai līdzvērtīgs) | D41: m2 | E41: 27 | H41: =ROUND(F41*G41,2) -> 0 | K41: =H41+I41+J41 -> 0 | L41: =ROUND(E41*F41,2) -> 0 | M41: =ROUND(E41*H41,2) -> 0 | N41: =ROUND(E41*I41,2) -> 0 | O41: =ROUND(E41*J41,2) -> 0 | P41: =M41+N41+O41 -> 0
A42: 4.2 | C42: Koka karkass 50x150mm, solis 600mm | D42: m2 | E42: 27 | H42: =ROUND(F42*G42,2) -> 0 | K42: =H42+I42+J42 -> 0 | L42: =ROUND(E42*F42,2) -> 0 | M42: =ROUND(E42*H42,2) -> 0 | N42: =ROUND(E42*I42,2) -> 0 | O42: =ROUND(E42*J42,2) -> 0 | P42: =M42+N42+O42 -> 0
A43: 4.2 | C43: Papildus brusas jumta metāla kronšteina balstīšanai 75x150mm, L=6800mm, 2 gab. | D43: m3 | E43: 0.08 | H43: =ROUND(F43*G43,2) -> 0 | K43: =H43+I43+J43 -> 0 | L43: =ROUND(E43*F43,2) -> 0 | M43: =ROUND(E43*H43,2) -> 0 | N43: =ROUND(E43*I43,2) -> 0 | O43: =ROUND(E43*J43,2) -> 0 | P43: =M43+N43+O43 -> 0
A44: TIEŠĀS IZMAKSAS KOPĀ, t. sk. darba devēja sociālais nodoklis (%) | L44: =SUM(L16:L43) -> 0 | M44: =SUM(M16:M43) -> 0 | N44: =SUM(N16:N43) -> 0 | O44: =SUM(O16:O43) -> 0 | P44: =SUM(P16:P43) -> 0
A46: Piezīmes.
A47: 1. Būvuzņēmējam jāievērtē darbu apjomu sarakstā minēto darbu veikšanai nepieciešamie materiāli un papildus darbi, kas nav minēti šajā sarakstā, bet bez
A48: kuriem nebūtu iespējama būvdarbu tehnoloģiski pareiza un spēkā esošiem normatīviem atbilstoša veikšana pilnā apmērā.
A49: 2. Darbu apjomu sarakstu skatīt kopā ar rasējumiem un specifikācijām. Gadījumā, ja darbu apjomi nesakrīt ar rasējumiem vai specifikācijām, par pareiziem
A50: jāuzskata rasējumos esošie darbu apjomi.
A51: 3. Atsevišķu materiālu apjomi doti bez rezerves.
A52: 4. Tāmēs ietvertos konkrēto ražotāju materiālus un izstrādājumus var aizvietot ar analogiem citu ražotāju materiāliem un izstrādājumiem, saskaņojot ar Arhitektu un Pasūtītāju.
C54: Sastādīja: | D54: =IF(KOPTĀME!B23=0,"",KOPTĀME!B23)
D55: (paraksts un tā atšifrējums, amats, uzņēmuma nosaukums, datums)
C57: Tāme sastādīta: | D57: =IF(KOPTĀME!B28=0,"",KOPTĀME!B28)
C59: Pārbaudīja: | D59: =IF(Kopsav.!C45=0,"",Kopsav.!C45)
D60: (paraksts un tā atšifrējums, amats, uzņēmuma nosaukums, datums)
C62: Sertifikāta Nr.: | D62: =IF(KOPTĀME!B26=0,"",KOPTĀME!B26)

Sheet 1-5_grīdas
P1: 03.05.2017. MK noteikumu Nr.239 5.pielikums
C2: LOKĀLĀ TĀME Nr. | D2: 1-5
A3: GRĪDU KONSTRUKCIJAS
A4: (būvdarbu veids vai konstruktīvā elementa nosaukums)
A5: =Kopsav.!A7:I7 -> Objekta nosaukums: Ēkas Miera ielā 58a (kad. Nr. 0100 026 0092 005) un Ēkas Miera ielā 58a (kad. Nr. 0100 026 2024 005), Rīga daļas pārbūve Kino muzeja vajadzībām
A6: =KOPTĀME!A12 -> Būves nosaukums: Darbnīca, Teātris
A7: =KOPTĀME!A13 -> Objekta adrese: Miera ielā 58a, Rīga
A8: =KOPTĀME!A14 -> Pasūtījuma Nr. LKA 2026/14
A10: Tāme sastādīta 2026.gada tirgus cenās, pamatojoties uz AR daļas rasējumiem.
M11: Tāmes izmaksas | N11: =P44 -> 0 | P11: euro
M12: Tāme sastādīta | N12: =IF(KOPTĀME!B28=0,"",KOPTĀME!B28)
A14: Nr.p.k. | B14: Kods | C14: Būvdarbu nosaukums | D14: Mērvienība | E14: Daudzums | F14: Vienības izmaksas | L14: Kopā uz visu apjomu
F15: laika norma (c/h) | G15: darba samaksas likme* (euro/h) | H15: darba alga | I15: būvizstrādājumi | J15: mehānismi | K15: kopā | L15: darbietilpība (c/h) | M15: darba alga | N15: būvizstrādājumi | O15: mehānismi | P15: summa
A16: 1 | C16: Grīdu konstrukcija G1 (grīda uz grunts)
A17: 1.1 | C17: Ekstrudētā putupolistirola siltumizolācija 150mm | D17: m2 | E17: 203.7 | H17: =ROUND(F17*G17,2) -> 0 | K17: =H17+I17+J17 -> 0 | L17: =ROUND(E17*F17,2) -> 0 | M17: =ROUND(E17*H17,2) -> 0 | N17: =ROUND(E17*I17,2) -> 0 | O17: =ROUND(E17*J17,2) -> 0 | P17: =M17+N17+O17 -> 0
A18: 1.2 | C18: Horizontālās hidroizolācijas sistēma 3mm | D18: m2 | E18: 203.7 | H18: =ROUND(F18*G18,2) -> 0 | K18: =H18+I18+J18 -> 0 | L18: =ROUND(E18*F18,2) -> 0 | M18: =ROUND(E18*H18,2) -> 0 | N18: =ROUND(E18*I18,2) -> 0 | O18: =ROUND(E18*J18,2) -> 0 | P18: =M18+N18+O18 -> 0
A19: 1.3 | C19: Betons C12/15 sagatavošanas kārta 70mm | D19: m3 | E19: 14.3 | H19: =ROUND(F19*G19,2) -> 0 | K19: =H19+I19+J19 -> 0 | L19: =ROUND(E19*F19,2) -> 0 | M19: =ROUND(E19*H19,2) -> 0 | N19: =ROUND(E19*I19,2) -> 0 | O19: =ROUND(E19*J19,2) -> 0 | P19: =M19+N19+O19 -> 0
A20: 1.4 | C20: Dolomīta šķembu, fr.0-16, pamatojums 300mm uz blietētas grunts | D20: m3 | E20: 61.1 | H20: =ROUND(F20*G20,2) -> 0 | K20: =H20+I20+J20 -> 0 | L20: =ROUND(E20*F20,2) -> 0 | M20: =ROUND(E20*H20,2) -> 0 | N20: =ROUND(E20*I20,2) -> 0 | O20: =ROUND(E20*J20,2) -> 0 | P20: =M20+N20+O20 -> 0
A21: 1.4.1. | C21: Slīpēta, cietināta betona virsmas apdare | D21: m2 | E21: 203.7
A22: 1.5 | C22: Epoksīda pārklājums (-Elastīgs epoksīda/PU grīdas slānis ar pretslīdes piedevām- R10 klase ~3-5mm RAL-7045 (toni precizēt autoruzraudzības gaitā!) Piem.: Sika ComfortFloor PS-23) | D22: m2 | E22: 203.7 | H22: =ROUND(F22*G22,2) -> 0 | K22: =H22+I22+J22 -> 0 | L22: =ROUND(E22*F22,2) -> 0 | M22: =ROUND(E22*H22,2) -> 0 | N22: =ROUND(E22*I22,2) -> 0 | O22: =ROUND(E22*J22,2) -> 0 | P22: =M22+N22+O22 -> 0
A23: 2 | C23: Grīdu konstrukcija G2 (grīda uz grunts)
A24: 2.1 | C24: Ekstrudētā putupolistirola siltumizolācija 150mm | D24: m2 | E24: 65.5 | H24: =ROUND(F24*G24,2) -> 0 | K24: =H24+I24+J24 -> 0 | L24: =ROUND(E24*F24,2) -> 0 | M24: =ROUND(E24*H24,2) -> 0 | N24: =ROUND(E24*I24,2) -> 0 | O24: =ROUND(E24*J24,2) -> 0 | P24: =M24+N24+O24 -> 0
A25: 2.2 | C25: Horizontālās hidroizolācijas sistēma 3mm | D25: m2 | E25: 65.5 | H25: =ROUND(F25*G25,2) -> 0 | K25: =H25+I25+J25 -> 0 | L25: =ROUND(E25*F25,2) -> 0 | M25: =ROUND(E25*H25,2) -> 0 | N25: =ROUND(E25*I25,2) -> 0 | O25: =ROUND(E25*J25,2) -> 0 | P25: =M25+N25+O25 -> 0
A26: 2.3 | C26: Betons C12/15 sagatavošanas kārta 70mm | D26: m3 | E26: 4.6 | H26: =ROUND(F26*G26,2) -> 0 | K26: =H26+I26+J26 -> 0 | L26: =ROUND(E26*F26,2) -> 0 | M26: =ROUND(E26*H26,2) -> 0 | N26: =ROUND(E26*I26,2) -> 0 | O26: =ROUND(E26*J26,2) -> 0 | P26: =M26+N26+O26 -> 0
A27: 2.4 | C27: Dolomīta šķembu, fr.0-16, pamatojums 300mm uz blietētas grunts | D27: m3 | E27: 19.7 | H27: =ROUND(F27*G27,2) -> 0 | K27: =H27+I27+J27 -> 0 | L27: =ROUND(E27*F27,2) -> 0 | M27: =ROUND(E27*H27,2) -> 0 | N27: =ROUND(E27*I27,2) -> 0 | O27: =ROUND(E27*J27,2) -> 0 | P27: =M27+N27+O27 -> 0
A28: 2.5 | C28: Epoksīda pārklājums (-Elastīgs epoksīda/PU grīdas slānis ar pretslīdes piedevām- R10 klase ~3-5mm RAL-7045 (toni precizēt autoruzraudzības gaitā!) Piem.: Sika ComfortFloor PS-23) | D28: m2 | E28: 65.5 | H28: =ROUND(F28*G28,2) -> 0 | K28: =H28+I28+J28 -> 0 | L28: =ROUND(E28*F28,2) -> 0 | M28: =ROUND(E28*H28,2) -> 0 | N28: =ROUND(E28*I28,2) -> 0 | O28: =ROUND(E28*J28,2) -> 0 | P28: =M28+N28+O28 -> 0
A29: 3 | C29: Grīdu konstrukcija G3 (2.stāva grīda) (REI-60/B-s1, d0)
A30: 3.1 | C30: Siltumizolācijas aizpildījums (ISOVER KL 37 vai līdzvērtīgs) uz esošiem paneļiem 150-550mm (ugunsreakcijas klase vismaz B-s1, d0) | D30: m2 | E30: 20.9 | H30: =ROUND(F30*G30,2) -> 0 | K30: =H30+I30+J30 -> 0 | L30: =ROUND(E30*F30,2) -> 0 | M30: =ROUND(E30*H30,2) -> 0 | N30: =ROUND(E30*I30,2) -> 0 | O30: =ROUND(E30*J30,2) -> 0 | P30: =M30+N30+O30 -> 0
A31: 3.2 | C31: CLT paneļa virskārtas slīpēšana, ūdens bāzes lakas pārklājums | D31: m2 | E31: 20.9 | H31: =ROUND(F31*G31,2) -> 0 | K31: =H31+I31+J31 -> 0 | L31: =ROUND(E31*F31,2) -> 0 | M31: =ROUND(E31*H31,2) -> 0 | N31: =ROUND(E31*I31,2) -> 0 | O31: =ROUND(E31*J31,2) -> 0 | P31: =M31+N31+O31 -> 0
A32: 4 | C32: Griestu papildus siltināšana
A33: 4.1 | C33: Betona griestu paneļu attīrīšana, gruntēšana, virsmas izlīdzināšana | D33: m2 | E33: 270 | H33: =ROUND(F33*G33,2) -> 0 | K33: =H33+I33+J33 -> 0 | L33: =ROUND(E33*F33,2) -> 0 | M33: =ROUND(E33*H33,2) -> 0 | N33: =ROUND(E33*I33,2) -> 0 | O33: =ROUND(E33*J33,2) -> 0 | P33: =M33+N33+O33 -> 0
A34: 4.2 | C34: PAROC CGL 20cy akmens vates lameles uz griestiem 150mm, iesk.līmi PAROC SW | D34: m2 | E34: 270 | H34: =ROUND(F34*G34,2) -> 0 | K34: =H34+I34+J34 -> 0 | L34: =ROUND(E34*F34,2) -> 0 | M34: =ROUND(E34*H34,2) -> 0 | N34: =ROUND(E34*I34,2) -> 0 | O34: =ROUND(E34*J34,2) -> 0 | P34: =M34+N34+O34 -> 0
A35: 5 | C35: Panduss
A36: 5.1 | C36: Ar epoksīda grīdas krāsu (-Elastīgs epoksīda/PU grīdas slānis ar pretslīdes piedevām- R10 klase ~3-5mm RAL-7045 (toni precizēt autoruzraudzības gaitā!) Piem.: Sika ComfortFloor PS-23) krāsots mitrumizturīgais saplāksnis uz koka nesošās grīdas konstrukcijas | D36: m2 | E36: 93 | H36: =ROUND(F36*G36,2) -> 0 | K36: =H36+I36+J36 -> 0 | L36: =ROUND(E36*F36,2) -> 0 | M36: =ROUND(E36*H36,2) -> 0 | N36: =ROUND(E36*I36,2) -> 0 | O36: =ROUND(E36*J36,2) -> 0 | P36: =M36+N36+O36 -> 0
A37: 6 | C37: Grīda telpā Nr.001-25
A38: 6.1 | C38: Līmeņota koka apakškonstrukcija 150x60mm | D38: m2 | E38: 72.9 | H38: =ROUND(F38*G38,2) -> 0 | K38: =H38+I38+J38 -> 0 | L38: =ROUND(E38*F38,2) -> 0 | M38: =ROUND(E38*H38,2) -> 0 | N38: =ROUND(E38*I38,2) -> 0 | O38: =ROUND(E38*J38,2) -> 0 | P38: =M38+N38+O38 -> 0
A39: 6.2 | C39: OSB klājs 22mm | D39: m2 | E39: 72.9 | H39: =ROUND(F39*G39,2) -> 0 | K39: =H39+I39+J39 -> 0 | L39: =ROUND(E39*F39,2) -> 0 | M39: =ROUND(E39*H39,2) -> 0 | N39: =ROUND(E39*I39,2) -> 0 | O39: =ROUND(E39*J39,2) -> 0 | P39: =M39+N39+O39 -> 0
A40: 6.3 | C40: Poliuretāna līme | D40: m2 | E40: 72.9 | H40: =ROUND(F40*G40,2) -> 0 | K40: =H40+I40+J40 -> 0 | L40: =ROUND(E40*F40,2) -> 0 | M40: =ROUND(E40*H40,2) -> 0 | N40: =ROUND(E40*I40,2) -> 0 | O40: =ROUND(E40*J40,2) -> 0 | P40: =M40+N40+O40 -> 0
A41: 6.4 | C41: Slīpēta mitrumizturīga saplākšņa grīda (šuves špaktelēt, slīpēt, skrūves iedziļināt, špaktelēt, slīpēt) 21mm | D41: m2 | E41: 72.9 | H41: =ROUND(F41*G41,2) -> 0 | K41: =H41+I41+J41 -> 0 | L41: =ROUND(E41*F41,2) -> 0 | M41: =ROUND(E41*H41,2) -> 0 | N41: =ROUND(E41*I41,2) -> 0 | O41: =ROUND(E41*J41,2) -> 0 | P41: =M41+N41+O41 -> 0
A42: 6.5 | C42: Epoksīda/PU grunts | D42: m2 | E42: 72.9 | H42: =ROUND(F42*G42,2) -> 0 | K42: =H42+I42+J42 -> 0 | L42: =ROUND(E42*F42,2) -> 0 | M42: =ROUND(E42*H42,2) -> 0 | N42: =ROUND(E42*I42,2) -> 0 | O42: =ROUND(E42*J42,2) -> 0 | P42: =M42+N42+O42 -> 0
A43: 6.6 | C43: Elastīgas epoksīdu/PU grīdas slānis ar pretslīdes piedevām- R10 klase, RAL 7045, Sika ComfortFloor PS-23 vai līdzvērtīgs 3-5mm | D43: m2 | E43: 72.9 | H43: =ROUND(F43*G43,2) -> 0 | K43: =H43+I43+J43 -> 0 | L43: =ROUND(E43*F43,2) -> 0 | M43: =ROUND(E43*H43,2) -> 0 | N43: =ROUND(E43*I43,2) -> 0 | O43: =ROUND(E43*J43,2) -> 0 | P43: =M43+N43+O43 -> 0
A44: TIEŠĀS IZMAKSAS KOPĀ, t. sk. darba devēja sociālais nodoklis (%) | L44: =SUM(L16:L43) -> 0 | M44: =SUM(M16:M43) -> 0 | N44: =SUM(N16:N43) -> 0 | O44: =SUM(O16:O43) -> 0 | P44: =SUM(P16:P43) -> 0
A46: Piezīmes.
A47: 1. Būvuzņēmējam jāievērtē darbu apjomu sarakstā minēto darbu veikšanai nepieciešamie materiāli un papildus darbi, kas nav minēti šajā sarakstā, bet bez
A48: kuriem nebūtu iespējama būvdarbu tehnoloģiski pareiza un spēkā esošiem normatīviem atbilstoša veikšana pilnā apmērā.
A49: 2. Darbu apjomu sarakstu skatīt kopā ar rasējumiem un specifikācijām. Gadījumā, ja darbu apjomi nesakrīt ar rasējumiem vai specifikācijām, par pareiziem
A50: jāuzskata rasējumos esošie darbu apjomi.
A51: 3. Atsevišķu materiālu apjomi doti bez rezerves.
A52: 4. Tāmēs ietvertos konkrēto ražotāju materiālus un izstrādājumus var aizvietot ar analogiem citu ražotāju materiāliem un izstrādājumiem, saskaņojot ar Arhitektu un Pasūtītāju.
C54: Sastādīja: | D54: =IF(KOPTĀME!B23=0,"",KOPTĀME!B23)
D55: (paraksts un tā atšifrējums, amats, uzņēmuma nosaukums, datums)
C57: Tāme sastādīta: | D57: =IF(KOPTĀME!B28=0,"",KOPTĀME!B28)
C59: Pārbaudīja: | D59: =IF(Kopsav.!C45=0,"",Kopsav.!C45)
D60: (paraksts un tā atšifrējums, amats, uzņēmuma nosaukums, datums)
C62: Sertifikāta Nr.: | D62: =IF(KOPTĀME!B26=0,"",KOPTĀME!B26)

Sheet 1-6_logi
P1: 03.05.2017. MK noteikumu Nr.239 5.pielikums
C2: LOKĀLĀ TĀME Nr. | D2: 1-6
A3: LOGI
A4: (būvdarbu veids vai konstruktīvā elementa nosaukums)
A5: =Kopsav.!A7:I7 -> Objekta nosaukums: Ēkas Miera ielā 58a (kad. Nr. 0100 026 0092 005) un Ēkas Miera ielā 58a (kad. Nr. 0100 026 2024 005), Rīga daļas pārbūve Kino muzeja vajadzībām
A6: =KOPTĀME!A12 -> Būves nosaukums: Darbnīca, Teātris
A7: =KOPTĀME!A13 -> Objekta adrese: Miera ielā 58a, Rīga
A8: =KOPTĀME!A14 -> Pasūtījuma Nr. LKA 2026/14
A10: Tāme sastādīta 2026.gada tirgus cenās, pamatojoties uz AR daļas rasējumiem.
M11: Tāmes izmaksas | N11: =P18 -> 0 | P11: euro
M12: Tāme sastādīta | N12: =IF(KOPTĀME!B28=0,"",KOPTĀME!B28)
A14: Nr.p.k. | B14: Kods | C14: Būvdarbu nosaukums | D14: Mērvienība | E14: Daudzums | F14: Vienības izmaksas | L14: Kopā uz visu apjomu
F15: laika norma (c/h) | G15: darba samaksas likme* (euro/h) | H15: darba alga | I15: būvizstrādājumi | J15: mehānismi | K15: kopā | L15: darbietilpība (c/h) | M15: darba alga | N15: būvizstrādājumi | O15: mehānismi | P15: summa
A16: 1 | C16: Alumīnija konstrukcijas logu L1 1900x2280mm montāža, iesk.furnitūru, izolācijas lentas u.c.nepieciešamos materiālus (sask.ar ras.AR-11i) | D16: gb | E16: 2 | H16: =ROUND(F16*G16,2) -> 0 | K16: =H16+I16+J16 -> 0 | L16: =ROUND(E16*F16,2) -> 0 | M16: =ROUND(E16*H16,2) -> 0 | N16: =ROUND(E16*I16,2) -> 0 | O16: =ROUND(E16*J16,2) -> 0 | P16: =M16+N16+O16 -> 0
A17: 2 | C17: Alumīnija konstrukcijas logu L1a 1900x2280mm montāža, iesk.furnitūru, izolācijas lentas u.c.nepieciešamos materiālus (sask.ar ras.AR-11i) | D17: gb | E17: 3 | H17: =ROUND(F17*G17,2) -> 0 | K17: =H17+I17+J17 -> 0 | L17: =ROUND(E17*F17,2) -> 0 | M17: =ROUND(E17*H17,2) -> 0 | N17: =ROUND(E17*I17,2) -> 0 | O17: =ROUND(E17*J17,2) -> 0 | P17: =M17+N17+O17 -> 0
A18: TIEŠĀS IZMAKSAS KOPĀ, t. sk. darba devēja sociālais nodoklis (%) | L18: =SUM(L16:L17) -> 0 | M18: =SUM(M16:M17) -> 0 | N18: =SUM(N16:N17) -> 0 | O18: =SUM(O16:O17) -> 0 | P18: =SUM(P16:P17) -> 0
A20: Piezīmes.
A21: 1. Būvuzņēmējam jāievērtē darbu apjomu sarakstā minēto darbu veikšanai nepieciešamie materiāli un papildus darbi, kas nav minēti šajā sarakstā, bet bez
A22: kuriem nebūtu iespējama būvdarbu tehnoloģiski pareiza un spēkā esošiem normatīviem atbilstoša veikšana pilnā apmērā.
A23: 2. Darbu apjomu sarakstu skatīt kopā ar rasējumiem un specifikācijām. Gadījumā, ja darbu apjomi nesakrīt ar rasējumiem vai specifikācijām, par pareiziem
A24: jāuzskata rasējumos esošie darbu apjomi.
A25: 3. Atsevišķu materiālu apjomi doti bez rezerves.
A26: 4. Tāmēs ietvertos konkrēto ražotāju materiālus un izstrādājumus var aizvietot ar analogiem citu ražotāju materiāliem un izstrādājumiem, saskaņojot ar Arhitektu un Pasūtītāju.
C28: Sastādīja: | D28: =IF(KOPTĀME!B23=0,"",KOPTĀME!B23)
D29: (paraksts un tā atšifrējums, amats, uzņēmuma nosaukums, datums)
C31: Tāme sastādīta: | D31: =IF(KOPTĀME!B28=0,"",KOPTĀME!B28)
C33: Pārbaudīja: | D33: =IF(Kopsav.!C45=0,"",Kopsav.!C45)
D34: (paraksts un tā atšifrējums, amats, uzņēmuma nosaukums, datums)
C36: Sertifikāta Nr.: | D36: =IF(KOPTĀME!B26=0,"",KOPTĀME!B26)

Sheet 1-7_durvis
P1: 03.05.2017. MK noteikumu Nr.239 5.pielikums
C2: LOKĀLĀ TĀME Nr. | D2: 1-7
A3: DURVIS
A4: (būvdarbu veids vai konstruktīvā elementa nosaukums)
A5: =Kopsav.!A7:I7 -> Objekta nosaukums: Ēkas Miera ielā 58a (kad. Nr. 0100 026 0092 005) un Ēkas Miera ielā 58a (kad. Nr. 0100 026 2024 005), Rīga daļas pārbūve Kino muzeja vajadzībām
A6: =KOPTĀME!A12 -> Būves nosaukums: Darbnīca, Teātris
A7: =KOPTĀME!A13 -> Objekta adrese: Miera ielā 58a, Rīga
A8: =KOPTĀME!A14 -> Pasūtījuma Nr. LKA 2026/14
A10: Tāme sastādīta 2026.gada tirgus cenās, pamatojoties uz AR daļas rasējumiem.
M11: Tāmes izmaksas | N11: =P27 -> 0 | P11: euro
M12: Tāme sastādīta | N12: =IF(KOPTĀME!B28=0,"",KOPTĀME!B28)
A14: Nr.p.k. | B14: Kods | C14: Būvdarbu nosaukums | D14: Mērvienība | E14: Daudzums | F14: Vienības izmaksas | L14: Kopā uz visu apjomu
F15: laika norma (c/h) | G15: darba samaksas likme* (euro/h) | H15: darba alga | I15: būvizstrādājumi | J15: mehānismi | K15: kopā | L15: darbietilpība (c/h) | M15: darba alga | N15: būvizstrādājumi | O15: mehānismi | P15: summa
A16: 1 | C16: Jaunas divviru durvis, krāsots MDF D1 1400x2250mm, sask.ar rasējumu AR-11, iesk.furnitūru, izolācijas lentas u.c.nepieciešamos materiālus. | D16: kpl | E16: 1 | H16: =ROUND(F16*G16,2) -> 0 | K16: =H16+I16+J16 -> 0 | L16: =ROUND(E16*F16,2) -> 0 | M16: =ROUND(E16*H16,2) -> 0 | N16: =ROUND(E16*I16,2) -> 0 | O16: =ROUND(E16*J16,2) -> 0 | P16: =M16+N16+O16 -> 0
A17: 2 | C17: Jaunas durvis, krāsots MDF D2 900x2000mm, sask.ar rasējumu AR-11, iesk.furnitūru, izolācijas lentas u.c.nepieciešamos materiālus. | D17: kpl | E17: 1 | H17: =ROUND(F17*G17,2) -> 0 | K17: =H17+I17+J17 -> 0 | L17: =ROUND(E17*F17,2) -> 0 | M17: =ROUND(E17*H17,2) -> 0 | N17: =ROUND(E17*I17,2) -> 0 | O17: =ROUND(E17*J17,2) -> 0 | P17: =M17+N17+O17 -> 0
A18: 3 | C18: Jaunas metāla ārdurvis D3 800x2000mm, sask.ar rasējumu AR-11, iesk.furnitūru, izolācijas lentas u.c.nepieciešamos materiālus. | D18: kpl | E18: 1 | H18: =ROUND(F18*G18,2) -> 0 | K18: =H18+I18+J18 -> 0 | L18: =ROUND(E18*F18,2) -> 0 | M18: =ROUND(E18*H18,2) -> 0 | N18: =ROUND(E18*I18,2) -> 0 | O18: =ROUND(E18*J18,2) -> 0 | P18: =M18+N18+O18 -> 0
A19: 4 | C19: Jaunas durvis, krāsots MDF D4 1200x2150mm, sask.ar rasējumu AR-11, iesk.furnitūru, izolācijas lentas u.c.nepieciešamos materiālus. | D19: kpl | E19: 1 | H19: =ROUND(F19*G19,2) -> 0 | K19: =H19+I19+J19 -> 0 | L19: =ROUND(E19*F19,2) -> 0 | M19: =ROUND(E19*H19,2) -> 0 | N19: =ROUND(E19*I19,2) -> 0 | O19: =ROUND(E19*J19,2) -> 0 | P19: =M19+N19+O19 -> 0
A20: 5 | C20: Jaunas metāla durvis D5 1200x2150mm, EI30, sask.ar rasējumu AR-11, iesk.furnitūru, izolācijas lentas u.c.nepieciešamos materiālus. | D20: kpl | E20: 1 | H20: =ROUND(F20*G20,2) -> 0 | K20: =H20+I20+J20 -> 0 | L20: =ROUND(E20*F20,2) -> 0 | M20: =ROUND(E20*H20,2) -> 0 | N20: =ROUND(E20*I20,2) -> 0 | O20: =ROUND(E20*J20,2) -> 0 | P20: =M20+N20+O20 -> 0
A21: 6 | C21: Jaunas metāla durvis D5a 1200x2150mm, EI30, sask.ar rasējumu AR-11, iesk.furnitūru, izolācijas lentas u.c.nepieciešamos materiālus. | D21: kpl | E21: 1 | H21: =ROUND(F21*G21,2) -> 0 | K21: =H21+I21+J21 -> 0 | L21: =ROUND(E21*F21,2) -> 0 | M21: =ROUND(E21*H21,2) -> 0 | N21: =ROUND(E21*I21,2) -> 0 | O21: =ROUND(E21*J21,2) -> 0 | P21: =M21+N21+O21 -> 0
A22: 7 | C22: Jaunas durvis, krāsots MDF D6 800x2100mm, sask.ar rasējumu AR-11, iesk.furnitūru, izolācijas lentas u.c.nepieciešamos materiālus. | D22: kpl | E22: 2 | H22: =ROUND(F22*G22,2) -> 0 | K22: =H22+I22+J22 -> 0 | L22: =ROUND(E22*F22,2) -> 0 | M22: =ROUND(E22*H22,2) -> 0 | N22: =ROUND(E22*I22,2) -> 0 | O22: =ROUND(E22*J22,2) -> 0 | P22: =M22+N22+O22 -> 0
A23: 8 | C23: Jaunas durvis, krāsots MDF D7 1050x2100mm, sask.ar rasējumu AR-11, iesk.furnitūru, izolācijas lentas u.c.nepieciešamos materiālus. | D23: kpl | E23: 1 | H23: =ROUND(F23*G23,2) -> 0 | K23: =H23+I23+J23 -> 0 | L23: =ROUND(E23*F23,2) -> 0 | M23: =ROUND(E23*H23,2) -> 0 | N23: =ROUND(E23*I23,2) -> 0 | O23: =ROUND(E23*J23,2) -> 0 | P23: =M23+N23+O23 -> 0
A24: 9 | C24: Jaunas alumīnija konstrukcijas ārdurvis, 1400x2250mm, sask.ar rasējumu AR-11i, iesk.furnitūru, izolācijas lentas u.c.nepieciešamos materiālus. | D24: kpl | E24: 1 | H24: =ROUND(F24*G24,2) -> 0 | K24: =H24+I24+J24 -> 0 | L24: =ROUND(E24*F24,2) -> 0 | M24: =ROUND(E24*H24,2) -> 0 | N24: =ROUND(E24*I24,2) -> 0 | O24: =ROUND(E24*J24,2) -> 0 | P24: =M24+N24+O24 -> 0
A25: 10 | C25: Jaunas durvis, krāsots MDF 800x2100mm, sask.ar rasējumu AR-02i, iesk. visus nepieciešamos materiālus. | D25: kpl | E25: 1 | H25: =ROUND(F25*G25,2) -> 0 | K25: =H25+I25+J25 -> 0 | L25: =ROUND(E25*F25,2) -> 0 | M25: =ROUND(E25*H25,2) -> 0 | N25: =ROUND(E25*I25,2) -> 0 | O25: =ROUND(E25*J25,2) -> 0 | P25: =M25+N25+O25 -> 0
A26: 11 | C26: Durvju bloku pārvietošana, sask.ar rasējumu AR-02i, iesk.visus nepieciešamos materiālus. | D26: kpl | E26: 2 | H26: =ROUND(F26*G26,2) -> 0 | K26: =H26+I26+J26 -> 0 | L26: =ROUND(E26*F26,2) -> 0 | M26: =ROUND(E26*H26,2) -> 0 | N26: =ROUND(E26*I26,2) -> 0 | O26: =ROUND(E26*J26,2) -> 0 | P26: =M26+N26+O26 -> 0
A27: TIEŠĀS IZMAKSAS KOPĀ, t. sk. darba devēja sociālais nodoklis (%) | L27: =SUM(L16:L24) -> 0 | M27: =SUM(M16:M24) -> 0 | N27: =SUM(N16:N24) -> 0 | O27: =SUM(O16:O24) -> 0 | P27: =SUM(P16:P24) -> 0
A29: Piezīmes.
A30: 1. Būvuzņēmējam jāievērtē darbu apjomu sarakstā minēto darbu veikšanai nepieciešamie materiāli un papildus darbi, kas nav minēti šajā sarakstā, bet bez
A31: kuriem nebūtu iespējama būvdarbu tehnoloģiski pareiza un spēkā esošiem normatīviem atbilstoša veikšana pilnā apmērā.
A32: 2. Darbu apjomu sarakstu skatīt kopā ar rasējumiem un specifikācijām. Gadījumā, ja darbu apjomi nesakrīt ar rasējumiem vai specifikācijām, par pareiziem
A33: jāuzskata rasējumos esošie darbu apjomi.
A34: 3. Atsevišķu materiālu apjomi doti bez rezerves.
A35: 4. Tāmēs ietvertos konkrēto ražotāju materiālus un izstrādājumus var aizvietot ar analogiem citu ražotāju materiāliem un izstrādājumiem, saskaņojot ar Arhitektu un Pasūtītāju.
C37: Sastādīja: | D37: =IF(KOPTĀME!B23=0,"",KOPTĀME!B23)
D38: (paraksts un tā atšifrējums, amats, uzņēmuma nosaukums, datums)
C40: Tāme sastādīta: | D40: =IF(KOPTĀME!B28=0,"",KOPTĀME!B28)
C42: Pārbaudīja: | D42: =IF(Kopsav.!C45=0,"",Kopsav.!C45)
D43: (paraksts un tā atšifrējums, amats, uzņēmuma nosaukums, datums)
C45: Sertifikāta Nr.: | D45: =IF(KOPTĀME!B26=0,"",KOPTĀME!B26)

Sheet 1-8_dažādi darbi
P1: 03.05.2017. MK noteikumu Nr.239 5.pielikums
C2: LOKĀLĀ TĀME Nr. | D2: 1-8
A3: DAŽĀDI DARBI
A4: (būvdarbu veids vai konstruktīvā elementa nosaukums)
A5: =Kopsav.!A7:I7 -> Objekta nosaukums: Ēkas Miera ielā 58a (kad. Nr. 0100 026 0092 005) un Ēkas Miera ielā 58a (kad. Nr. 0100 026 2024 005), Rīga daļas pārbūve Kino muzeja vajadzībām
A6: =KOPTĀME!A12 -> Būves nosaukums: Darbnīca, Teātris
A7: =KOPTĀME!A13 -> Objekta adrese: Miera ielā 58a, Rīga
A8: =KOPTĀME!A14 -> Pasūtījuma Nr. LKA 2026/14
A10: Tāme sastādīta 2026.gada tirgus cenās, pamatojoties uz AR daļas rasējumiem.
M11: Tāmes izmaksas | N11: =P55 -> 0 | P11: euro
M12: Tāme sastādīta | N12: =IF(KOPTĀME!B28=0,"",KOPTĀME!B28)
A14: Nr.p.k. | B14: Kods | C14: Būvdarbu nosaukums | D14: Mērvienība | E14: Daudzums | F14: Vienības izmaksas | L14: Kopā uz visu apjomu
F15: laika norma (c/h) | G15: darba samaksas likme* (euro/h) | H15: darba alga | I15: būvizstrādājumi | J15: mehānismi | K15: kopā | L15: darbietilpība (c/h) | M15: darba alga | N15: būvizstrādājumi | O15: mehānismi | P15: summa
A16: 1 | C16: Mezgls 1, 2
A17: 1.1 | C17: Skārda lāsenis | D17: m | E17: 21.9 | H17: =ROUND(F17*G17,2) -> 0 | K17: =H17+I17+J17 -> 0 | L17: =ROUND(E17*F17,2) -> 0 | M17: =ROUND(E17*H17,2) -> 0 | N17: =ROUND(E17*I17,2) -> 0 | O17: =ROUND(E17*J17,2) -> 0 | P17: =M17+N17+O17 -> 0
A18: 1.2 | C18: Pretinsektu siets | D18: m | E18: 21.9 | H18: =ROUND(F18*G18,2) -> 0 | K18: =H18+I18+J18 -> 0 | L18: =ROUND(E18*F18,2) -> 0 | M18: =ROUND(E18*H18,2) -> 0 | N18: =ROUND(E18*I18,2) -> 0 | O18: =ROUND(E18*J18,2) -> 0 | P18: =M18+N18+O18 -> 0
A19: 1.3 | C19: Mitrumizturīgs saplāksnis 14mm | D19: m | E19: 21.9 | H19: =ROUND(F19*G19,2) -> 0 | K19: =H19+I19+J19 -> 0 | L19: =ROUND(E19*F19,2) -> 0 | M19: =ROUND(E19*H19,2) -> 0 | N19: =ROUND(E19*I19,2) -> 0 | O19: =ROUND(E19*J19,2) -> 0 | P19: =M19+N19+O19 -> 0
A20: 1.4 | C20: Cinkota skārda notekrene | D20: m | E20: 7.1 | H20: =ROUND(F20*G20,2) -> 0 | K20: =H20+I20+J20 -> 0 | L20: =ROUND(E20*F20,2) -> 0 | M20: =ROUND(E20*H20,2) -> 0 | N20: =ROUND(E20*I20,2) -> 0 | O20: =ROUND(E20*J20,2) -> 0 | P20: =M20+N20+O20 -> 0
A21: 1.5 | C21: Cinkota skārda notekcaurule | D21: m | E21: 2.5 | H21: =ROUND(F21*G21,2) -> 0 | K21: =H21+I21+J21 -> 0 | L21: =ROUND(E21*F21,2) -> 0 | M21: =ROUND(E21*H21,2) -> 0 | N21: =ROUND(E21*I21,2) -> 0 | O21: =ROUND(E21*J21,2) -> 0 | P21: =M21+N21+O21 -> 0
A22: 2 | C22: Mezgls 2
A23: 2.1 | C23: Skārda lāsenis | D23: m | E23: 14.8 | H23: =ROUND(F23*G23,2) -> 0 | K23: =H23+I23+J23 -> 0 | L23: =ROUND(E23*F23,2) -> 0 | M23: =ROUND(E23*H23,2) -> 0 | N23: =ROUND(E23*I23,2) -> 0 | O23: =ROUND(E23*J23,2) -> 0 | P23: =M23+N23+O23 -> 0
A24: 2.2 | C24: Pretinsektu siets | D24: m | E24: 14.8 | H24: =ROUND(F24*G24,2) -> 0 | K24: =H24+I24+J24 -> 0 | L24: =ROUND(E24*F24,2) -> 0 | M24: =ROUND(E24*H24,2) -> 0 | N24: =ROUND(E24*I24,2) -> 0 | O24: =ROUND(E24*J24,2) -> 0 | P24: =M24+N24+O24 -> 0
A25: 2.3 | C25: Mitrumizturīgs saplāksnis 14mm | D25: m | E25: 14.8 | H25: =ROUND(F25*G25,2) -> 0 | K25: =H25+I25+J25 -> 0 | L25: =ROUND(E25*F25,2) -> 0 | M25: =ROUND(E25*H25,2) -> 0 | N25: =ROUND(E25*I25,2) -> 0 | O25: =ROUND(E25*J25,2) -> 0 | P25: =M25+N25+O25 -> 0
A26: 3 | C26: Mezgls 3 (37,5m)
A27: 3.1 | C27: Grunts rakšana ar roku darbu | D27: m3 | E27: 38 | H27: =ROUND(F27*G27,2) -> 0 | K27: =H27+I27+J27 -> 0 | L27: =ROUND(E27*F27,2) -> 0 | M27: =ROUND(E27*H27,2) -> 0 | N27: =ROUND(E27*I27,2) -> 0 | O27: =ROUND(E27*J27,2) -> 0 | P27: =M27+N27+O27 -> 0
A28: 3.2 | C28: Izlīdzinošs, hidroizolējošs apmetums | D28: m2 | E28: 41.3 | H28: =ROUND(F28*G28,2) -> 0 | K28: =H28+I28+J28 -> 0 | L28: =ROUND(E28*F28,2) -> 0 | M28: =ROUND(E28*H28,2) -> 0 | N28: =ROUND(E28*I28,2) -> 0 | O28: =ROUND(E28*J28,2) -> 0 | P28: =M28+N28+O28 -> 0
A29: 3.3 | C29: Ekstrudēts putu polistirols 150mm | D29: m2 | E29: 41.3 | H29: =ROUND(F29*G29,2) -> 0 | K29: =H29+I29+J29 -> 0 | L29: =ROUND(E29*F29,2) -> 0 | M29: =ROUND(E29*H29,2) -> 0 | N29: =ROUND(E29*I29,2) -> 0 | O29: =ROUND(E29*J29,2) -> 0 | P29: =M29+N29+O29 -> 0
A30: 3.4 | C30: Masā krāsots, gluds cokola apmetums uz stikla šķiedras sieta, tonis NCS S8000-N | D30: m2 | E30: 3.8 | H30: =ROUND(F30*G30,2) -> 0 | K30: =H30+I30+J30 -> 0 | L30: =ROUND(E30*F30,2) -> 0 | M30: =ROUND(E30*H30,2) -> 0 | N30: =ROUND(E30*I30,2) -> 0 | O30: =ROUND(E30*J30,2) -> 0 | P30: =M30+N30+O30 -> 0
A31: 3.5 | C31: Rupju šķembu, fr.15-30, pamatojums 100mm uz blietētas grunts | D31: m3 | E31: 0.9 | H31: =ROUND(F31*G31,2) -> 0 | K31: =H31+I31+J31 -> 0 | L31: =ROUND(E31*F31,2) -> 0 | M31: =ROUND(E31*H31,2) -> 0 | N31: =ROUND(E31*I31,2) -> 0 | O31: =ROUND(E31*J31,2) -> 0 | P31: =M31+N31+O31 -> 0
A32: 3.6 | C32: Smalku šķembu, fr.15-30, slānis 50mm uz blietētas grunts | D32: m3 | E32: 0.425 | H32: =ROUND(F32*G32,2) -> 0 | K32: =H32+I32+J32 -> 0 | L32: =ROUND(E32*F32,2) -> 0 | M32: =ROUND(E32*H32,2) -> 0 | N32: =ROUND(E32*I32,2) -> 0 | O32: =ROUND(E32*J32,2) -> 0 | P32: =M32+N32+O32 -> 0
A33: 3.7 | C33: Ģeotekstils | D33: m2 | E33: 8.5 | H33: =ROUND(F33*G33,2) -> 0 | K33: =H33+I33+J33 -> 0 | L33: =ROUND(E33*F33,2) -> 0 | M33: =ROUND(E33*H33,2) -> 0 | N33: =ROUND(E33*I33,2) -> 0 | O33: =ROUND(E33*J33,2) -> 0 | P33: =M33+N33+O33 -> 0
A34: 3.8 | C34: Oļu kārta 100mm | D34: m2 | E34: 8.5 | H34: =ROUND(F34*G34,2) -> 0 | K34: =H34+I34+J34 -> 0 | L34: =ROUND(E34*F34,2) -> 0 | M34: =ROUND(E34*H34,2) -> 0 | N34: =ROUND(E34*I34,2) -> 0 | O34: =ROUND(E34*J34,2) -> 0 | P34: =M34+N34+O34 -> 0
A35: 3.9 | C35: Grunts aizbēršana ar roku darbu | D35: m3 | E35: 31 | H35: =ROUND(F35*G35,2) -> 0 | K35: =H35+I35+J35 -> 0 | L35: =ROUND(E35*F35,2) -> 0 | M35: =ROUND(E35*H35,2) -> 0 | N35: =ROUND(E35*I35,2) -> 0 | O35: =ROUND(E35*J35,2) -> 0 | P35: =M35+N35+O35 -> 0
A36: 3.10 | C36: Liekās grunts aizvešana vai izlīdzināšana | D36: m3 | E36: 7 | H36: =ROUND(F36*G36,2) -> 0 | K36: =H36+I36+J36 -> 0 | L36: =ROUND(E36*F36,2) -> 0 | M36: =ROUND(E36*H36,2) -> 0 | N36: =ROUND(E36*I36,2) -> 0 | O36: =ROUND(E36*J36,2) -> 0 | P36: =M36+N36+O36 -> 0
A37: 3.11 | C37: Cinkots locīts siltinājuma apakšējo malu fiksējošs leņķis | D37: kpl | E37: 1 | H37: =ROUND(F37*G37,2) -> 0 | K37: =H37+I37+J37 -> 0 | L37: =ROUND(E37*F37,2) -> 0 | M37: =ROUND(E37*H37,2) -> 0 | N37: =ROUND(E37*I37,2) -> 0 | O37: =ROUND(E37*J37,2) -> 0 | P37: =M37+N37+O37 -> 0
A38: 4 | C38: Mezgls 4 (23,7m)
A39: 4.1 | C39: WOLFIN skārda "wall connection" Fz bar +Profile EP 150 | D39: m | E39: 47.4 | H39: =ROUND(F39*G39,2) -> 0 | K39: =H39+I39+J39 -> 0 | L39: =ROUND(E39*F39,2) -> 0 | M39: =ROUND(E39*H39,2) -> 0 | N39: =ROUND(E39*I39,2) -> 0 | O39: =ROUND(E39*J39,2) -> 0 | P39: =M39+N39+O39 -> 0
A40: 5 | C40: Detaļa 1
A41: 5.1 | C41: Cinkota metāla caurule d40mm prožektoru stiprināšanai | D41: m | E41: 17.5 | H41: =ROUND(F41*G41,2) -> 0 | K41: =H41+I41+J41 -> 0 | L41: =ROUND(E41*F41,2) -> 0 | M41: =ROUND(E41*H41,2) -> 0 | N41: =ROUND(E41*I41,2) -> 0 | O41: =ROUND(E41*J41,2) -> 0 | P41: =M41+N41+O41 -> 0
A42: 6 | C42: Detaļa 2
A43: 6.1 | C43: Cinkota metāla caurule d40mm prožektoru stiprināšanai | D43: m | E43: 6.87 | H43: =ROUND(F43*G43,2) -> 0 | K43: =H43+I43+J43 -> 0 | L43: =ROUND(E43*F43,2) -> 0 | M43: =ROUND(E43*H43,2) -> 0 | N43: =ROUND(E43*I43,2) -> 0 | O43: =ROUND(E43*J43,2) -> 0 | P43: =M43+N43+O43 -> 0
A44: 7 | C44: Iekšējās apdares remonts
A45: 7.1 | C45: Iekšējās apdares remonts demontāžas vietās u.c., kur nepieciešams | D45: m2 | E45: 50 | H45: =ROUND(F45*G45,2) -> 0 | K45: =H45+I45+J45 -> 0 | L45: =ROUND(E45*F45,2) -> 0 | M45: =ROUND(E45*H45,2) -> 0 | N45: =ROUND(E45*I45,2) -> 0 | O45: =ROUND(E45*J45,2) -> 0 | P45: =M45+N45+O45 -> 0
A46: 8 | C46: Kāpnes uz jumta
A47: 8.1 | C47: Kāpnes K1- standarta cinkotas metāla trepes ar aizsarglokiem jumta un ventilācijas telpas piekļuvei | D47: kpl | E47: 1 | H47: =ROUND(F47*G47,2) -> 0 | K47: =H47+I47+J47 -> 0 | L47: =ROUND(E47*F47,2) -> 0 | M47: =ROUND(E47*H47,2) -> 0 | N47: =ROUND(E47*I47,2) -> 0 | O47: =ROUND(E47*J47,2) -> 0 | P47: =M47+N47+O47 -> 0
A48: 8.2 | C48: Kāpnes K2- standarta cinkotas metāla trepes ar aizsarglokiem jumta un ventilācijas telpas piekļuvei | D48: kpl | E48: 1 | H48: =ROUND(F48*G48,2) -> 0 | K48: =H48+I48+J48 -> 0 | L48: =ROUND(E48*F48,2) -> 0 | M48: =ROUND(E48*H48,2) -> 0 | N48: =ROUND(E48*I48,2) -> 0 | O48: =ROUND(E48*J48,2) -> 0 | P48: =M48+N48+O48 -> 0
A49: 9 | C49: Teritorija
A50: 9.1 | C50: Esošā bruģa krāsošana ar divkomponentu poliuretāna krāsu ar abrazīvu pildījumu, analogu LKA 1.kārtas koraļļu krāsas sastāvam | D50: m2 | E50: 147 | H50: =ROUND(F50*G50,2) -> 0 | K50: =H50+I50+J50 -> 0 | L50: =ROUND(E50*F50,2) -> 0 | M50: =ROUND(E50*H50,2) -> 0 | N50: =ROUND(E50*I50,2) -> 0 | O50: =ROUND(E50*J50,2) -> 0 | P50: =M50+N50+O50 -> 0
A51: 9.2 | C51: Sola izbūve | D51: kpl | E51: 1 | H51: =ROUND(F51*G51,2) -> 0 | K51: =H51+I51+J51 -> 0 | L51: =ROUND(E51*F51,2) -> 0 | M51: =ROUND(E51*H51,2) -> 0 | N51: =ROUND(E51*I51,2) -> 0 | O51: =ROUND(E51*J51,2) -> 0 | P51: =M51+N51+O51 -> 0
A52: 9.3 | C52: Esošās puķu dobes krāsošana | D52: gb | E52: 1 | H52: =ROUND(F52*G52,2) -> 0 | K52: =H52+I52+J52 -> 0 | L52: =ROUND(E52*F52,2) -> 0 | M52: =ROUND(E52*H52,2) -> 0 | N52: =ROUND(E52*I52,2) -> 0 | O52: =ROUND(E52*J52,2) -> 0 | P52: =M52+N52+O52 -> 0
A53: 9.4 | C53: Pārvietojami puķu podi | D53: m2 | E53: 11 | H53: =ROUND(F53*G53,2) -> 0 | K53: =H53+I53+J53 -> 0 | L53: =ROUND(E53*F53,2) -> 0 | M53: =ROUND(E53*H53,2) -> 0 | N53: =ROUND(E53*I53,2) -> 0 | O53: =ROUND(E53*J53,2) -> 0 | P53: =M53+N53+O53 -> 0
A54: 9.5 | C54: Pārvietojami velo statīvi | D54: kpl | E54: 1 | H54: =ROUND(F54*G54,2) -> 0 | K54: =H54+I54+J54 -> 0 | L54: =ROUND(E54*F54,2) -> 0 | M54: =ROUND(E54*H54,2) -> 0 | N54: =ROUND(E54*I54,2) -> 0 | O54: =ROUND(E54*J54,2) -> 0 | P54: =M54+N54+O54 -> 0
A55: TIEŠĀS IZMAKSAS KOPĀ, t. sk. darba devēja sociālais nodoklis (%) | L55: =SUM(L16:L51) -> 0 | M55: =SUM(M16:M51) -> 0 | N55: =SUM(N16:N51) -> 0 | O55: =SUM(O16:O51) -> 0 | P55: =SUM(P16:P51) -> 0
A57: Piezīmes.
A58: 1. Būvuzņēmējam jāievērtē darbu apjomu sarakstā minēto darbu veikšanai nepieciešamie materiāli un papildus darbi, kas nav minēti šajā sarakstā, bet bez
A59: kuriem nebūtu iespējama būvdarbu tehnoloģiski pareiza un spēkā esošiem normatīviem atbilstoša veikšana pilnā apmērā.
A60: 2. Darbu apjomu sarakstu skatīt kopā ar rasējumiem un specifikācijām. Gadījumā, ja darbu apjomi nesakrīt ar rasējumiem vai specifikācijām, par pareiziem
A61: jāuzskata rasējumos esošie darbu apjomi.
A62: 3. Atsevišķu materiālu apjomi doti bez rezerves.
A63: 4. Tāmēs ietvertos konkrēto ražotāju materiālus un izstrādājumus var aizvietot ar analogiem citu ražotāju materiāliem un izstrādājumiem, saskaņojot ar Arhitektu un Pasūtītāju.
C65: Sastādīja: | D65: =IF(KOPTĀME!B23=0,"",KOPTĀME!B23)
D66: (paraksts un tā atšifrējums, amats, uzņēmuma nosaukums, datums)
C68: Tāme sastādīta: | D68: =IF(KOPTĀME!B28=0,"",KOPTĀME!B28)
C70: Pārbaudīja: | D70: =IF(Kopsav.!C45=0,"",Kopsav.!C45)
D71: (paraksts un tā atšifrējums, amats, uzņēmuma nosaukums, datums)
C73: Sertifikāta Nr.: | D73: =IF(KOPTĀME!B26=0,"",KOPTĀME!B26)

Sheet 2-1_UK
P1: 03.05.2017. MK noteikumu Nr.239 5.pielikums
C2: LOKĀLĀ TĀME Nr. | D2: 2-1
A3: ŪDENSAPGĀDE UN KANALIZĀCIJA
A4: (būvdarbu veids vai konstruktīvā elementa nosaukums)
A5: =Kopsav.!A7:I7 -> Objekta nosaukums: Ēkas Miera ielā 58a (kad. Nr. 0100 026 0092 005) un Ēkas Miera ielā 58a (kad. Nr. 0100 026 2024 005), Rīga daļas pārbūve Kino muzeja vajadzībām
A6: =KOPTĀME!A12 -> Būves nosaukums: Darbnīca, Teātris
A7: =KOPTĀME!A13 -> Objekta adrese: Miera ielā 58a, Rīga
A8: =KOPTĀME!A14 -> Pasūtījuma Nr. LKA 2026/14
A10: Tāme sastādīta 2026.gada tirgus cenās, pamatojoties uz UK daļas rasējumiem.
M11: Tāmes izmaksas | N11: =P51 -> 0 | P11: euro
M12: Tāme sastādīta | N12: =IF(KOPTĀME!B28=0,"",KOPTĀME!B28)
A14: Nr.p.k. | B14: Kods | C14: Būvdarbu nosaukums | D14: Mērvienība | E14: Daudzums | F14: Vienības izmaksas | L14: Kopā uz visu apjomu
F15: laika norma (c/h) | G15: darba samaksas likme* (euro/h) | H15: darba alga | I15: būvizstrādājumi | J15: mehānismi | K15: kopā | L15: darbietilpība (c/h) | M15: darba alga | N15: būvizstrādājumi | O15: mehānismi | P15: summa
A16: 1 | C16: Aukstais ūdensvads Ū1
A17: 1.1 | C17: Ūdensvada caurule daudzslāņu OD25x2.5, PN10, ar fasondaļām un stiprinājumiem, ar pretkondensāta izolāciju 9mm, 0.040W/mK | D17: m | E17: 70 | H17: =ROUND(F17*G17,2) -> 0 | K17: =H17+I17+J17 -> 0 | L17: =ROUND(E17*F17,2) -> 0 | M17: =ROUND(E17*H17,2) -> 0 | N17: =ROUND(E17*I17,2) -> 0 | O17: =ROUND(E17*J17,2) -> 0 | P17: =M17+N17+O17 -> 0
A18: 1.2 | C18: Ūdensvada caurule daudzslāņu OD20x2.25, PN10, ar fasondaļām un stiprinājumiem, ar pretkondensāta izolāciju 9mm, 0.040W/mK | D18: m | E18: 15 | H18: =ROUND(F18*G18,2) -> 0 | K18: =H18+I18+J18 -> 0 | L18: =ROUND(E18*F18,2) -> 0 | M18: =ROUND(E18*H18,2) -> 0 | N18: =ROUND(E18*I18,2) -> 0 | O18: =ROUND(E18*J18,2) -> 0 | P18: =M18+N18+O18 -> 0
A19: 1.3 | C19: Ūdensvada caurule daudzslāņu OD16x2.0, PN10, ar fasondaļām un stiprinājumiem, ar pretkondensāta izolāciju 9mm, 0.040W/mK | D19: m | E19: 20 | H19: =ROUND(F19*G19,2) -> 0 | K19: =H19+I19+J19 -> 0 | L19: =ROUND(E19*F19,2) -> 0 | M19: =ROUND(E19*H19,2) -> 0 | N19: =ROUND(E19*I19,2) -> 0 | O19: =ROUND(E19*J19,2) -> 0 | P19: =M19+N19+O19 -> 0
A20: 1.4 | C20: Roku māzgatne, sifons , 2 ventiļi Dn15 | D20: kpl | E20: 2 | H20: =ROUND(F20*G20,2) -> 0 | K20: =H20+I20+J20 -> 0 | L20: =ROUND(E20*F20,2) -> 0 | M20: =ROUND(E20*H20,2) -> 0 | N20: =ROUND(E20*I20,2) -> 0 | O20: =ROUND(E20*J20,2) -> 0 | P20: =M20+N20+O20 -> 0
A21: 1.5 | C21: Iebūvējamā roku māzgatne, sifons, 2 ventiļi Dn15 | D21: kpl | E21: 1 | H21: =ROUND(F21*G21,2) -> 0 | K21: =H21+I21+J21 -> 0 | L21: =ROUND(E21*F21,2) -> 0 | M21: =ROUND(E21*H21,2) -> 0 | N21: =ROUND(E21*I21,2) -> 0 | O21: =ROUND(E21*J21,2) -> 0 | P21: =M21+N21+O21 -> 0
A22: 1.6 | C22: Invalīdu roku māzgatne, sifons, 2 ventiļi Dn15 | D22: kpl | E22: 1 | H22: =ROUND(F22*G22,2) -> 0 | K22: =H22+I22+J22 -> 0 | L22: =ROUND(E22*F22,2) -> 0 | M22: =ROUND(E22*H22,2) -> 0 | N22: =ROUND(E22*I22,2) -> 0 | O22: =ROUND(E22*J22,2) -> 0 | P22: =M22+N22+O22 -> 0
A23: 1.7 | C23: Klozetpods ar taisno izlaidi, skalošanas kasti, ventilis Dn15 | D23: kpl | E23: 2 | H23: =ROUND(F23*G23,2) -> 0 | K23: =H23+I23+J23 -> 0 | L23: =ROUND(E23*F23,2) -> 0 | M23: =ROUND(E23*H23,2) -> 0 | N23: =ROUND(E23*I23,2) -> 0 | O23: =ROUND(E23*J23,2) -> 0 | P23: =M23+N23+O23 -> 0
A24: 1.8 | C24: Invalīdu klozetpods ar taisno izlaidi, skalošanas kasti, ventilis Dn15 | D24: kpl | E24: 1 | H24: =ROUND(F24*G24,2) -> 0 | K24: =H24+I24+J24 -> 0 | L24: =ROUND(E24*F24,2) -> 0 | M24: =ROUND(E24*H24,2) -> 0 | N24: =ROUND(E24*I24,2) -> 0 | O24: =ROUND(E24*J24,2) -> 0 | P24: =M24+N24+O24 -> 0
A25: 1.9 | C25: Bezkontakta izlietnes jaucējkrāns, vertikālā montāža, ar sensoru un pieslēguma šļūteni | D25: kpl | E25: 5 | H25: =ROUND(F25*G25,2) -> 0 | K25: =H25+I25+J25 -> 0 | L25: =ROUND(E25*F25,2) -> 0 | M25: =ROUND(E25*H25,2) -> 0 | N25: =ROUND(E25*I25,2) -> 0 | O25: =ROUND(E25*J25,2) -> 0 | P25: =M25+N25+O25 -> 0
A26: 1.10 | C26: Klozetpoda skalošanas mehānisms, bezkontakta, ar sensoru | D26: kpl | E26: 3 | H26: =ROUND(F26*G26,2) -> 0 | K26: =H26+I26+J26 -> 0 | L26: =ROUND(E26*F26,2) -> 0 | M26: =ROUND(E26*H26,2) -> 0 | N26: =ROUND(E26*I26,2) -> 0 | O26: =ROUND(E26*J26,2) -> 0 | P26: =M26+N26+O26 -> 0
A27: 1.11 | C27: Ventilis Dn20 PN10 | D27: gb | E27: 3 | H27: =ROUND(F27*G27,2) -> 0 | K27: =H27+I27+J27 -> 0 | L27: =ROUND(E27*F27,2) -> 0 | M27: =ROUND(E27*H27,2) -> 0 | N27: =ROUND(E27*I27,2) -> 0 | O27: =ROUND(E27*J27,2) -> 0 | P27: =M27+N27+O27 -> 0
A28: 1.12 | C28: Ugunsdrošais blīvējums ūdensvada caurulēm | D28: obj | E28: 1 | H28: =ROUND(F28*G28,2) -> 0 | K28: =H28+I28+J28 -> 0 | L28: =ROUND(E28*F28,2) -> 0 | M28: =ROUND(E28*H28,2) -> 0 | N28: =ROUND(E28*I28,2) -> 0 | O28: =ROUND(E28*J28,2) -> 0 | P28: =M28+N28+O28 -> 0
A29: 1.13 | C29: Pārējie montāžas izstrādājumi | D29: kpl | E29: 1 | H29: =ROUND(F29*G29,2) -> 0 | K29: =H29+I29+J29 -> 0 | L29: =ROUND(E29*F29,2) -> 0 | M29: =ROUND(E29*H29,2) -> 0 | N29: =ROUND(E29*I29,2) -> 0 | O29: =ROUND(E29*J29,2) -> 0 | P29: =M29+N29+O29 -> 0
A30: 2 | C30: Karstais ūdensvads S3
A31: 2.1 | C31: Ūdensvada caurule daudzslāņu OD20x2.25, PN10, ar fasondaļām un stiprinājumiem, ar pretsiltuma izolāciju 20mm, 0.040W/mK | D31: m | E31: 10 | H31: =ROUND(F31*G31,2) -> 0 | K31: =H31+I31+J31 -> 0 | L31: =ROUND(E31*F31,2) -> 0 | M31: =ROUND(E31*H31,2) -> 0 | N31: =ROUND(E31*I31,2) -> 0 | O31: =ROUND(E31*J31,2) -> 0 | P31: =M31+N31+O31 -> 0
A32: 2.2 | C32: Ūdensvada caurule daudzslāņu OD16x2.0, PN10, ar fasondaļām un stiprinājumiem, ar pretsiltuma izolāciju 20mm, 0.040W/mK | D32: m | E32: 10 | H32: =ROUND(F32*G32,2) -> 0 | K32: =H32+I32+J32 -> 0 | L32: =ROUND(E32*F32,2) -> 0 | M32: =ROUND(E32*H32,2) -> 0 | N32: =ROUND(E32*I32,2) -> 0 | O32: =ROUND(E32*J32,2) -> 0 | P32: =M32+N32+O32 -> 0
A33: 2.3 | C33: Ventilis Dn20 PN10 | D33: gb | E33: 1 | H33: =ROUND(F33*G33,2) -> 0 | K33: =H33+I33+J33 -> 0 | L33: =ROUND(E33*F33,2) -> 0 | M33: =ROUND(E33*H33,2) -> 0 | N33: =ROUND(E33*I33,2) -> 0 | O33: =ROUND(E33*J33,2) -> 0 | P33: =M33+N33+O33 -> 0
A34: 2.4 | C34: Pārējie montāžas izstrādājumi | D34: kpl | E34: 1 | H34: =ROUND(F34*G34,2) -> 0 | K34: =H34+I34+J34 -> 0 | L34: =ROUND(E34*F34,2) -> 0 | M34: =ROUND(E34*H34,2) -> 0 | N34: =ROUND(E34*I34,2) -> 0 | O34: =ROUND(E34*J34,2) -> 0 | P34: =M34+N34+O34 -> 0
A35: 3 | C35: Ugunsdzēsības ūdensvads Ū2
A36: 3.1 | C36: N/t caurule OD33,7x3,2, PN10, ar fasondaļām un stiprinājumiem, ar pretkondensāta izolāciju 9mm, 0.040W/mK | D36: m | E36: 50 | H36: =ROUND(F36*G36,2) -> 0 | K36: =H36+I36+J36 -> 0 | L36: =ROUND(E36*F36,2) -> 0 | M36: =ROUND(E36*H36,2) -> 0 | N36: =ROUND(E36*I36,2) -> 0 | O36: =ROUND(E36*J36,2) -> 0 | P36: =M36+N36+O36 -> 0
A37: 3.2 | C37: Ugunsdzēsības krāna komplekts, iebūvejamā kaste ar DN25 krānu, 30m šļūteni, stobru HW-25W | D37: kpl | E37: 1 | H37: =ROUND(F37*G37,2) -> 0 | K37: =H37+I37+J37 -> 0 | L37: =ROUND(E37*F37,2) -> 0 | M37: =ROUND(E37*H37,2) -> 0 | N37: =ROUND(E37*I37,2) -> 0 | O37: =ROUND(E37*J37,2) -> 0 | P37: =M37+N37+O37 -> 0
A38: 3.3 | C38: Ugunsdrošais blīvējums ūdensvada caurulēm | D38: obj | E38: 1 | H38: =ROUND(F38*G38,2) -> 0 | K38: =H38+I38+J38 -> 0 | L38: =ROUND(E38*F38,2) -> 0 | M38: =ROUND(E38*H38,2) -> 0 | N38: =ROUND(E38*I38,2) -> 0 | O38: =ROUND(E38*J38,2) -> 0 | P38: =M38+N38+O38 -> 0
A39: 3.4 | C39: Pārējie montāžas izstrādājumi | D39: kpl | E39: 1 | H39: =ROUND(F39*G39,2) -> 0 | K39: =H39+I39+J39 -> 0 | L39: =ROUND(E39*F39,2) -> 0 | M39: =ROUND(E39*H39,2) -> 0 | N39: =ROUND(E39*I39,2) -> 0 | O39: =ROUND(E39*J39,2) -> 0 | P39: =M39+N39+O39 -> 0
A40: 4 | C40: Sadzīves kanalizācija K1
A41: 4.1 | C41: Pašteces kanalizācijas caurule OD50, PP, ar stiprinājumiem un fasondaļām | D41: m | E41: 15 | H41: =ROUND(F41*G41,2) -> 0 | K41: =H41+I41+J41 -> 0 | L41: =ROUND(E41*F41,2) -> 0 | M41: =ROUND(E41*H41,2) -> 0 | N41: =ROUND(E41*I41,2) -> 0 | O41: =ROUND(E41*J41,2) -> 0 | P41: =M41+N41+O41 -> 0
A42: 4.2 | C42: Pašteces kanalizācijas caurule OD110, PP, ar stiprinājumiem un fasondaļām | D42: m | E42: 15 | H42: =ROUND(F42*G42,2) -> 0 | K42: =H42+I42+J42 -> 0 | L42: =ROUND(E42*F42,2) -> 0 | M42: =ROUND(E42*H42,2) -> 0 | N42: =ROUND(E42*I42,2) -> 0 | O42: =ROUND(E42*J42,2) -> 0 | P42: =M42+N42+O42 -> 0
A43: 4.3 | C43: Noslēgtapa tīrīšanai no PP OD110 | D43: gb | E43: 1 | H43: =ROUND(F43*G43,2) -> 0 | K43: =H43+I43+J43 -> 0 | L43: =ROUND(E43*F43,2) -> 0 | M43: =ROUND(E43*H43,2) -> 0 | N43: =ROUND(E43*I43,2) -> 0 | O43: =ROUND(E43*J43,2) -> 0 | P43: =M43+N43+O43 -> 0
A44: 4.4 | C44: N/t traps ar sifonu, ar vertikālo izlaidi, Dn50 | D44: gb | E44: 1 | H44: =ROUND(F44*G44,2) -> 0 | K44: =H44+I44+J44 -> 0 | L44: =ROUND(E44*F44,2) -> 0 | M44: =ROUND(E44*H44,2) -> 0 | N44: =ROUND(E44*I44,2) -> 0 | O44: =ROUND(E44*J44,2) -> 0 | P44: =M44+N44+O44 -> 0
A45: 4.5 | C45: Pārējie montāžas izstrādājumi | D45: kpl | E45: 1 | H45: =ROUND(F45*G45,2) -> 0 | K45: =H45+I45+J45 -> 0 | L45: =ROUND(E45*F45,2) -> 0 | M45: =ROUND(E45*H45,2) -> 0 | N45: =ROUND(E45*I45,2) -> 0 | O45: =ROUND(E45*J45,2) -> 0 | P45: =M45+N45+O45 -> 0
A46: 5 | C46: Kondensāta novadīšana KO
A47: 5.1 | C47: Ūdensvada caurule daudzslāņu OD50x4.5, PN10, ar fasondaļām un stiprinājumiem, ar pretkondensāta izolāciju 9mm, 0.040W/mK | D47: m | E47: 60 | H47: =ROUND(F47*G47,2) -> 0 | K47: =H47+I47+J47 -> 0 | L47: =ROUND(E47*F47,2) -> 0 | M47: =ROUND(E47*H47,2) -> 0 | N47: =ROUND(E47*I47,2) -> 0 | O47: =ROUND(E47*J47,2) -> 0 | P47: =M47+N47+O47 -> 0
A48: 5.2 | C48: Ūdensvada caurule daudzslāņu OD25x2.5, PN10, ar fasondaļām un stiprinājumiem, ar pretkondensāta izolāciju 9mm, 0.040W/mK | D48: m | E48: 50 | H48: =ROUND(F48*G48,2) -> 0 | K48: =H48+I48+J48 -> 0 | L48: =ROUND(E48*F48,2) -> 0 | M48: =ROUND(E48*H48,2) -> 0 | N48: =ROUND(E48*I48,2) -> 0 | O48: =ROUND(E48*J48,2) -> 0 | P48: =M48+N48+O48 -> 0
A49: 5.3 | C49: Sifons OD50 | D49: gb | E49: 1 | H49: =ROUND(F49*G49,2) -> 0 | K49: =H49+I49+J49 -> 0 | L49: =ROUND(E49*F49,2) -> 0 | M49: =ROUND(E49*H49,2) -> 0 | N49: =ROUND(E49*I49,2) -> 0 | O49: =ROUND(E49*J49,2) -> 0 | P49: =M49+N49+O49 -> 0
A50: 5.4 | C50: Pārsūknēšanas bloks Grundfos Sololift2-D2 | D50: kpl | E50: 1 | H50: =ROUND(F50*G50,2) -> 0 | K50: =H50+I50+J50 -> 0 | L50: =ROUND(E50*F50,2) -> 0 | M50: =ROUND(E50*H50,2) -> 0 | N50: =ROUND(E50*I50,2) -> 0 | O50: =ROUND(E50*J50,2) -> 0 | P50: =M50+N50+O50 -> 0
A51: TIEŠĀS IZMAKSAS KOPĀ, t. sk. darba devēja sociālais nodoklis (%) | L51: =SUM(L16:L50) -> 0 | M51: =SUM(M16:M50) -> 0 | N51: =SUM(N16:N50) -> 0 | O51: =SUM(O16:O50) -> 0 | P51: =SUM(P16:P50) -> 0
A53: Piezīmes.
A54: 1. Būvuzņēmējam jāievērtē darbu apjomu sarakstā minēto darbu veikšanai nepieciešamie materiāli un papildus darbi, kas nav minēti šajā sarakstā, bet bez
A55: kuriem nebūtu iespējama būvdarbu tehnoloģiski pareiza un spēkā esošiem normatīviem atbilstoša veikšana pilnā apmērā.
A56: 2. Darbu apjomu sarakstu skatīt kopā ar rasējumiem un specifikācijām. Gadījumā, ja darbu apjomi nesakrīt ar rasējumiem vai specifikācijām, par pareiziem
A57: jāuzskata rasējumos esošie darbu apjomi.
A58: 3. Atsevišķu materiālu apjomi doti bez rezerves.
A59: 4. Tāmēs ietvertos konkrēto ražotāju materiālus un izstrādājumus var aizvietot ar analogiem citu ražotāju materiāliem un izstrādājumiem, saskaņojot ar Arhitektu un Pasūtītāju.
C61: Sastādīja: | D61: =IF(KOPTĀME!B23=0,"",KOPTĀME!B23)
D62: (paraksts un tā atšifrējums, amats, uzņēmuma nosaukums, datums)
C64: Tāme sastādīta: | D64: =IF(KOPTĀME!B28=0,"",KOPTĀME!B28)
C66: Pārbaudīja: | D66: =IF(Kopsav.!C45=0,"",Kopsav.!C45)
D67: (paraksts un tā atšifrējums, amats, uzņēmuma nosaukums, datums)
C69: Sertifikāta Nr.: | D69: =IF(KOPTĀME!B26=0,"",KOPTĀME!B26)

Sheet 2-2_AVK
R1: 03.05.2017. MK noteikumu Nr.239 5.pielikums
E2: LOKĀLĀ TĀME Nr. | F2: 2-2
A3: APKURE UN DZESĒŠANA
A4: (būvdarbu veids vai konstruktīvā elementa nosaukums)
A5: =Kopsav.!A7:I7 -> Objekta nosaukums: Ēkas Miera ielā 58a (kad. Nr. 0100 026 0092 005) un Ēkas Miera ielā 58a (kad. Nr. 0100 026 2024 005), Rīga daļas pārbūve Kino muzeja vajadzībām
A6: =KOPTĀME!A12 -> Būves nosaukums: Darbnīca, Teātris
A7: =KOPTĀME!A13 -> Objekta adrese: Miera ielā 58a, Rīga
A8: =KOPTĀME!A14 -> Pasūtījuma Nr. LKA 2026/14
A10: Tāme sastādīta 2026.gada tirgus cenās, pamatojoties uz AVK daļas rasējumiem.
O11: Tāmes izmaksas | P11: =R96 -> 0 | R11: euro
O12: Tāme sastādīta | P12: =IF(KOPTĀME!B28=0,"",KOPTĀME!B28)
A14: Nr.p.k. | B14: Kods | C14: Būvdarbu nosaukums | F14: Mērvienība | G14: Daudzums | H14: Vienības izmaksas | N14: Kopā uz visu apjomu
H15: laika norma (c/h) | I15: darba samaksas likme* (euro/h) | J15: darba alga | K15: būvizstrādājumi | L15: mehānismi | M15: kopā | N15: darbietilpība (c/h) | O15: darba alga | P15: būvizstrādājumi | Q15: mehānismi | R15: summa
A16: 1 | C16: Radiatoru apkure
A17: 1.1 | C17: Cauruļvads KAN-therm steel | D17: Ø15x1.2 | E17: Steel | F17: m | G17: 55 | J17: =ROUND(H17*I17,2) -> 0 | M17: =J17+K17+L17 -> 0 | N17: =ROUND(G17*H17,2) -> 0 | O17: =ROUND(G17*J17,2) -> 0 | P17: =ROUND(G17*K17,2) -> 0 | Q17: =ROUND(G17*L17,2) -> 0 | R17: =O17+P17+Q17 -> 0
A18: 1.2 | C18: Cauruļvads KAN-therm steel | D18: Ø18x1.2 | E18: Steel | F18: m | G18: 12 | J18: =ROUND(H18*I18,2) -> 0 | M18: =J18+K18+L18 -> 0 | N18: =ROUND(G18*H18,2) -> 0 | O18: =ROUND(G18*J18,2) -> 0 | P18: =ROUND(G18*K18,2) -> 0 | Q18: =ROUND(G18*L18,2) -> 0 | R18: =O18+P18+Q18 -> 0
A19: 1.3 | C19: Cauruļvads KAN-therm steel | D19: Ø22x1.5 | E19: Steel | F19: m | G19: 6 | J19: =ROUND(H19*I19,2) -> 0 | M19: =J19+K19+L19 -> 0 | N19: =ROUND(G19*H19,2) -> 0 | O19: =ROUND(G19*J19,2) -> 0 | P19: =ROUND(G19*K19,2) -> 0 | Q19: =ROUND(G19*L19,2) -> 0 | R19: =O19+P19+Q19 -> 0
A20: 1.4 | C20: Cauruļvads KAN-therm steel | D20: Ø28x1.5 | E20: Steel | F20: m | G20: 14 | J20: =ROUND(H20*I20,2) -> 0 | M20: =J20+K20+L20 -> 0 | N20: =ROUND(G20*H20,2) -> 0 | O20: =ROUND(G20*J20,2) -> 0 | P20: =ROUND(G20*K20,2) -> 0 | Q20: =ROUND(G20*L20,2) -> 0 | R20: =O20+P20+Q20 -> 0
A21: 1.5 | C21: Cauruļvads KAN-therm steel | D21: Ø35x1.5 | E21: Steel | F21: m | G21: 70 | J21: =ROUND(H21*I21,2) -> 0 | M21: =J21+K21+L21 -> 0 | N21: =ROUND(G21*H21,2) -> 0 | O21: =ROUND(G21*J21,2) -> 0 | P21: =ROUND(G21*K21,2) -> 0 | Q21: =ROUND(G21*L21,2) -> 0 | R21: =O21+P21+Q21 -> 0
A22: 1.6 | C22: Cauruļvads KAN-therm steel | D22: Ø42x1.5 | E22: Steel | F22: m | G22: 4 | J22: =ROUND(H22*I22,2) -> 0 | M22: =J22+K22+L22 -> 0 | N22: =ROUND(G22*H22,2) -> 0 | O22: =ROUND(G22*J22,2) -> 0 | P22: =ROUND(G22*K22,2) -> 0 | Q22: =ROUND(G22*L22,2) -> 0 | R22: =O22+P22+Q22 -> 0
A23: 1.7 | C23: Fasondaļas un veidgabali | E23: Steel | F23: gb | G23: 80 | J23: =ROUND(H23*I23,2) -> 0 | M23: =J23+K23+L23 -> 0 | N23: =ROUND(G23*H23,2) -> 0 | O23: =ROUND(G23*J23,2) -> 0 | P23: =ROUND(G23*K23,2) -> 0 | Q23: =ROUND(G23*L23,2) -> 0 | R23: =O23+P23+Q23 -> 0
A24: 1.8 | C24: Apkures radiators ar stiprinājuma kronšteiniem, ieksrūvējamo atgaisotāju un tukšošanas korķi, sānu pieslēgums | D24: C22 | E24: C22-900-600 | F24: kpl | G24: 6 | J24: =ROUND(H24*I24,2) -> 0 | M24: =J24+K24+L24 -> 0 | N24: =ROUND(G24*H24,2) -> 0 | O24: =ROUND(G24*J24,2) -> 0 | P24: =ROUND(G24*K24,2) -> 0 | Q24: =ROUND(G24*L24,2) -> 0 | R24: =O24+P24+Q24 -> 0
A25: 1.9 | C25: Apkures radiators ar stiprinājuma kronšteiniem, ieksrūvējamo atgaisotāju un tukšošanas korķi, sānu pieslēgums | D25: C33 | E25: C33-900-600 | F25: kpl | G25: 1 | J25: =ROUND(H25*I25,2) -> 0 | M25: =J25+K25+L25 -> 0 | N25: =ROUND(G25*H25,2) -> 0 | O25: =ROUND(G25*J25,2) -> 0 | P25: =ROUND(G25*K25,2) -> 0 | Q25: =ROUND(G25*L25,2) -> 0 | R25: =O25+P25+Q25 -> 0
A26: 1.10 | C26: Radiatora vārsts ar iepriekšēju ieregulēšanu | D26: DN15 | E26: RA-N 15 | F26: gb | G26: 7 | J26: =ROUND(H26*I26,2) -> 0 | M26: =J26+K26+L26 -> 0 | N26: =ROUND(G26*H26,2) -> 0 | O26: =ROUND(G26*J26,2) -> 0 | P26: =ROUND(G26*K26,2) -> 0 | Q26: =ROUND(G26*L26,2) -> 0 | R26: =O26+P26+Q26 -> 0
A27: 1.11 | C27: Radiatora vārsts | D27: DN15 | E27: RLV-15 | F27: gb | G27: 7 | J27: =ROUND(H27*I27,2) -> 0 | M27: =J27+K27+L27 -> 0 | N27: =ROUND(G27*H27,2) -> 0 | O27: =ROUND(G27*J27,2) -> 0 | P27: =ROUND(G27*K27,2) -> 0 | Q27: =ROUND(G27*L27,2) -> 0 | R27: =O27+P27+Q27 -> 0
A28: 1.12 | C28: Radiatora vārsta izpildmehānisms Nel=2W, 24V | E28: TWA-A | F28: gb | G28: 6 | J28: =ROUND(H28*I28,2) -> 0 | M28: =J28+K28+L28 -> 0 | N28: =ROUND(G28*H28,2) -> 0 | O28: =ROUND(G28*J28,2) -> 0 | P28: =ROUND(G28*K28,2) -> 0 | Q28: =ROUND(G28*L28,2) -> 0 | R28: =O28+P28+Q28 -> 0
A29: 1.13 | C29: Telpas termostats ar displēju Nel=2W, 24V | E29: Icon | F29: gb | G29: 1 | J29: =ROUND(H29*I29,2) -> 0 | M29: =J29+K29+L29 -> 0 | N29: =ROUND(G29*H29,2) -> 0 | O29: =ROUND(G29*J29,2) -> 0 | P29: =ROUND(G29*K29,2) -> 0 | Q29: =ROUND(G29*L29,2) -> 0 | R29: =O29+P29+Q29 -> 0
A30: 1.14 | C30: Radiatora termostatiska galviņa RA 2990 | E30: RA 2990 | F30: gb | G30: 1 | J30: =ROUND(H30*I30,2) -> 0 | M30: =J30+K30+L30 -> 0 | N30: =ROUND(G30*H30,2) -> 0 | O30: =ROUND(G30*J30,2) -> 0 | P30: =ROUND(G30*K30,2) -> 0 | Q30: =ROUND(G30*L30,2) -> 0 | R30: =O30+P30+Q30 -> 0
A31: 1.15 | C31: Automatiskais atgaisošanas ventils | D31: DN15 | F31: gb | G31: 2 | J31: =ROUND(H31*I31,2) -> 0 | M31: =J31+K31+L31 -> 0 | N31: =ROUND(G31*H31,2) -> 0 | O31: =ROUND(G31*J31,2) -> 0 | P31: =ROUND(G31*K31,2) -> 0 | Q31: =ROUND(G31*L31,2) -> 0 | R31: =O31+P31+Q31 -> 0
A32: 1.16 | C32: Tukšošanas ventilis | D32: DN20 | F32: gb | G32: 2 | J32: =ROUND(H32*I32,2) -> 0 | M32: =J32+K32+L32 -> 0 | N32: =ROUND(G32*H32,2) -> 0 | O32: =ROUND(G32*J32,2) -> 0 | P32: =ROUND(G32*K32,2) -> 0 | Q32: =ROUND(G32*L32,2) -> 0 | R32: =O32+P32+Q32 -> 0
A33: 1.17 | C33: Siltumizolācijas akmens vates čaula Paroc Hvac Section AluCoat T ar biezumu i=20mm | D33: Ø22x1.5 | E33: PHSALCT 22-20 | F33: m | G33: 6 | J33: =ROUND(H33*I33,2) -> 0 | M33: =J33+K33+L33 -> 0 | N33: =ROUND(G33*H33,2) -> 0 | O33: =ROUND(G33*J33,2) -> 0 | P33: =ROUND(G33*K33,2) -> 0 | Q33: =ROUND(G33*L33,2) -> 0 | R33: =O33+P33+Q33 -> 0
A34: 1.18 | C34: Siltumizolācijas akmens vates čaula Paroc Hvac Section AluCoat T ar biezumu i=20mm | D34: Ø28x1,5 | E34: PHSALCT 28-20 | F34: m | G34: 14 | J34: =ROUND(H34*I34,2) -> 0 | M34: =J34+K34+L34 -> 0 | N34: =ROUND(G34*H34,2) -> 0 | O34: =ROUND(G34*J34,2) -> 0 | P34: =ROUND(G34*K34,2) -> 0 | Q34: =ROUND(G34*L34,2) -> 0 | R34: =O34+P34+Q34 -> 0
A35: 1.19 | C35: Siltumizolācijas akmens vates čaula Paroc Hvac Section AluCoat T ar biezumu i=20mm | D35: Ø35x1.5 | E35: PHSALCT 35-20 | F35: m | G35: 70 | J35: =ROUND(H35*I35,2) -> 0 | M35: =J35+K35+L35 -> 0 | N35: =ROUND(G35*H35,2) -> 0 | O35: =ROUND(G35*J35,2) -> 0 | P35: =ROUND(G35*K35,2) -> 0 | Q35: =ROUND(G35*L35,2) -> 0 | R35: =O35+P35+Q35 -> 0
A36: 1.20 | C36: Siltumizolācijas akmens vates čaula Paroc Hvac Section AluCoat T ar biezumu i=20mm | D36: Ø42x1.5 | E36: PHSALCT 42-20 | F36: m | G36: 4 | J36: =ROUND(H36*I36,2) -> 0 | M36: =J36+K36+L36 -> 0 | N36: =ROUND(G36*H36,2) -> 0 | O36: =ROUND(G36*J36,2) -> 0 | P36: =ROUND(G36*K36,2) -> 0 | Q36: =ROUND(G36*L36,2) -> 0 | R36: =O36+P36+Q36 -> 0
A37: 1.21 | C37: Caurules stiprinājumi un palīgmateriāli | F37: gb | G37: 32 | J37: =ROUND(H37*I37,2) -> 0 | M37: =J37+K37+L37 -> 0 | N37: =ROUND(G37*H37,2) -> 0 | O37: =ROUND(G37*J37,2) -> 0 | P37: =ROUND(G37*K37,2) -> 0 | Q37: =ROUND(G37*L37,2) -> 0 | R37: =O37+P37+Q37 -> 0
A38: 1.22 | C38: Hermetizējošie materiāli | F38: kpl | G38: 1 | J38: =ROUND(H38*I38,2) -> 0 | M38: =J38+K38+L38 -> 0 | N38: =ROUND(G38*H38,2) -> 0 | O38: =ROUND(G38*J38,2) -> 0 | P38: =ROUND(G38*K38,2) -> 0 | Q38: =ROUND(G38*L38,2) -> 0 | R38: =O38+P38+Q38 -> 0
A39: 1.23 | C39: Ugunsdrošie EI30 hermetizējošie materiāli | E39: CFS-S ACR | F39: kpl | G39: 1 | J39: =ROUND(H39*I39,2) -> 0 | M39: =J39+K39+L39 -> 0 | N39: =ROUND(G39*H39,2) -> 0 | O39: =ROUND(G39*J39,2) -> 0 | P39: =ROUND(G39*K39,2) -> 0 | Q39: =ROUND(G39*L39,2) -> 0 | R39: =O39+P39+Q39 -> 0
A40: 1.24 | C40: Apkures sistēmas marķēšana, regulēšana un darbības pārbaude | F40: kpl | G40: 1 | J40: =ROUND(H40*I40,2) -> 0 | M40: =J40+K40+L40 -> 0 | N40: =ROUND(G40*H40,2) -> 0 | O40: =ROUND(G40*J40,2) -> 0 | P40: =ROUND(G40*K40,2) -> 0 | Q40: =ROUND(G40*L40,2) -> 0 | R40: =O40+P40+Q40 -> 0
A41: 2 | C41: Siltas grīdas apkure
A42: 2.1 | C42: Lokānā apsildes caurule PE-Xa | D42: Ø16x2.0 | F42: m | G42: 770 | J42: =ROUND(H42*I42,2) -> 0 | M42: =J42+K42+L42 -> 0 | N42: =ROUND(G42*H42,2) -> 0 | O42: =ROUND(G42*J42,2) -> 0 | P42: =ROUND(G42*K42,2) -> 0 | Q42: =ROUND(G42*L42,2) -> 0 | R42: =O42+P42+Q42 -> 0
A43: 2.2 | C43: Pieslēguma līkums kolektoram | D43: Ø16x2.0 | F43: gb | G43: 20 | J43: =ROUND(H43*I43,2) -> 0 | M43: =J43+K43+L43 -> 0 | N43: =ROUND(G43*H43,2) -> 0 | O43: =ROUND(G43*J43,2) -> 0 | P43: =ROUND(G43*K43,2) -> 0 | Q43: =ROUND(G43*L43,2) -> 0 | R43: =O43+P43+Q43 -> 0
A44: 2.3 | C44: 10-cilpu kolektors ar atgaisošanu, tukšošanu, balansēšanas un noslēgvārstiem | E44: Vario M 10X | F44: kpl | G44: 1 | J44: =ROUND(H44*I44,2) -> 0 | M44: =J44+K44+L44 -> 0 | N44: =ROUND(G44*H44,2) -> 0 | O44: =ROUND(G44*J44,2) -> 0 | P44: =ROUND(G44*K44,2) -> 0 | Q44: =ROUND(G44*L44,2) -> 0 | R44: =O44+P44+Q44 -> 0
A45: 2.4 | C45: Sadales skapis virsapmetuma | D45: 950x120x850(h) | E45: Vario | F45: gb | G45: 1 | J45: =ROUND(H45*I45,2) -> 0 | M45: =J45+K45+L45 -> 0 | N45: =ROUND(G45*H45,2) -> 0 | O45: =ROUND(G45*J45,2) -> 0 | P45: =ROUND(G45*K45,2) -> 0 | Q45: =ROUND(G45*L45,2) -> 0 | R45: =O45+P45+Q45 -> 0
A46: 2.5 | C46: Lodveida krāns | E46: G1 | F46: gb | G46: 2 | J46: =ROUND(H46*I46,2) -> 0 | M46: =J46+K46+L46 -> 0 | N46: =ROUND(G46*H46,2) -> 0 | O46: =ROUND(G46*J46,2) -> 0 | P46: =ROUND(G46*K46,2) -> 0 | Q46: =ROUND(G46*L46,2) -> 0 | R46: =O46+P46+Q46 -> 0
A47: 2.6 | C47: Izpildemhānisms Uponor smartix 24 V | F47: gb | G47: 10 | J47: =ROUND(H47*I47,2) -> 0 | M47: =J47+K47+L47 -> 0 | N47: =ROUND(G47*H47,2) -> 0 | O47: =ROUND(G47*J47,2) -> 0 | P47: =ROUND(G47*K47,2) -> 0 | Q47: =ROUND(G47*L47,2) -> 0 | R47: =O47+P47+Q47 -> 0
A48: 2.7 | C48: Vadības ierīce Uponor Smatrix Base modulis X-145 Bus 6x +Smatrix Base papildmodulis M-140 Bus 6x | F48: kpl | G48: 1 | J48: =ROUND(H48*I48,2) -> 0 | M48: =J48+K48+L48 -> 0 | N48: =ROUND(G48*H48,2) -> 0 | O48: =ROUND(G48*J48,2) -> 0 | P48: =ROUND(G48*K48,2) -> 0 | Q48: =ROUND(G48*L48,2) -> 0 | R48: =O48+P48+Q48 -> 0
A49: 2.8 | C49: Termostats UPONOR SMATRIX BASE DIGITAL T-146 BUS | F49: gb | G49: 1 | J49: =ROUND(H49*I49,2) -> 0 | M49: =J49+K49+L49 -> 0 | N49: =ROUND(G49*H49,2) -> 0 | O49: =ROUND(G49*J49,2) -> 0 | P49: =ROUND(G49*K49,2) -> 0 | Q49: =ROUND(G49*L49,2) -> 0 | R49: =O49+P49+Q49 -> 0
A50: 2.9 | C50: Zemgrīdas cauruļu ieklāšanas palīgmateriāli: Uponor Smart Tacker panel roll EPS DES 30-3mm, Uponor Tacker skava 14-20, Uponor Fix stiprināšanas sliede | F50: m2 | G50: 145 | J50: =ROUND(H50*I50,2) -> 0 | M50: =J50+K50+L50 -> 0 | N50: =ROUND(G50*H50,2) -> 0 | O50: =ROUND(G50*J50,2) -> 0 | P50: =ROUND(G50*K50,2) -> 0 | Q50: =ROUND(G50*L50,2) -> 0 | R50: =O50+P50+Q50 -> 0
A51: 2.10 | C51: Cirkulācijas sūknis G=1.26m3/h, dP=25kPa, Nel=0.027kW ~1f, ar vadības bloku | D51: ALPHA1 25-40 130 | F51: kpl | G51: 1 | J51: =ROUND(H51*I51,2) -> 0 | M51: =J51+K51+L51 -> 0 | N51: =ROUND(G51*H51,2) -> 0 | O51: =ROUND(G51*J51,2) -> 0 | P51: =ROUND(G51*K51,2) -> 0 | Q51: =ROUND(G51*L51,2) -> 0 | R51: =O51+P51+Q51 -> 0
A52: 2.11 | C52: 3-ceļu sajaukšanas vārsts Kvs=6.3 ar izpildmehānismu AMV435, 230V | D52: DN20 | E52: VRG3-20 | F52: kpl | G52: 1 | J52: =ROUND(H52*I52,2) -> 0 | M52: =J52+K52+L52 -> 0 | N52: =ROUND(G52*H52,2) -> 0 | O52: =ROUND(G52*J52,2) -> 0 | P52: =ROUND(G52*K52,2) -> 0 | Q52: =ROUND(G52*L52,2) -> 0 | R52: =O52+P52+Q52 -> 0
A53: 2.12 | C53: Siltas grīdas sistēmas marķēšana, regulēšana un darbības pārbaude | F53: kpl | G53: 1 | J53: =ROUND(H53*I53,2) -> 0 | M53: =J53+K53+L53 -> 0 | N53: =ROUND(G53*H53,2) -> 0 | O53: =ROUND(G53*J53,2) -> 0 | P53: =ROUND(G53*K53,2) -> 0 | Q53: =ROUND(G53*L53,2) -> 0 | R53: =O53+P53+Q53 -> 0
A54: 3 | C54: Siltuma sūknis
A55: 3.1 | C55: Siltumsūkņa ārējais bloks Apkure Qs=11.05kW; Dzesēšana Qdz=14kW; Nel=5.71kW ~3f | D55: 1118x523x864(h) | E55: MHA-V16W/D2RN8-B | F55: kpl | G55: 1 | J55: =ROUND(H55*I55,2) -> 0 | M55: =J55+K55+L55 -> 0 | N55: =ROUND(G55*H55,2) -> 0 | O55: =ROUND(G55*J55,2) -> 0 | P55: =ROUND(G55*K55,2) -> 0 | Q55: =ROUND(G55*L55,2) -> 0 | R55: =O55+P55+Q55 -> 0
A56: 3.2 | C56: Siltumsūkņa iekšējais bloks Apkure Qs=11.05kW; dT=45/40C; Dzesēšana Qdz=14kW; dT=7/12C ar iebūvēto siltummaini, cirkulācijas sūkni, elektrisko boileri Nel=9kW ~3f un iebūvēto automātiku | D56: 420x270x790(h) | E56: HB-A160/CDS90GN8-B | F56: kpl | G56: 1 | J56: =ROUND(H56*I56,2) -> 0 | M56: =J56+K56+L56 -> 0 | N56: =ROUND(G56*H56,2) -> 0 | O56: =ROUND(G56*J56,2) -> 0 | P56: =ROUND(G56*K56,2) -> 0 | Q56: =ROUND(G56*L56,2) -> 0 | R56: =O56+P56+Q56 -> 0
A57: 3.3 | C57: Rūpnieciski izolēts vara cauruļvads | D57: Ø9.52 | F57: m | G57: 3 | J57: =ROUND(H57*I57,2) -> 0 | M57: =J57+K57+L57 -> 0 | N57: =ROUND(G57*H57,2) -> 0 | O57: =ROUND(G57*J57,2) -> 0 | P57: =ROUND(G57*K57,2) -> 0 | Q57: =ROUND(G57*L57,2) -> 0 | R57: =O57+P57+Q57 -> 0
A58: 3.4 | C58: Rūpnieciski izolēts vara cauruļvads | D58: Ø15.9 | F58: m | G58: 3 | J58: =ROUND(H58*I58,2) -> 0 | M58: =J58+K58+L58 -> 0 | N58: =ROUND(G58*H58,2) -> 0 | O58: =ROUND(G58*J58,2) -> 0 | P58: =ROUND(G58*K58,2) -> 0 | Q58: =ROUND(G58*L58,2) -> 0 | R58: =O58+P58+Q58 -> 0
A59: 3.5 | C59: Cirkulācijas sūknis G=2.42m3/h, dP=35kPa, Nel=0.05kW ~1f, ar vadības bloku | D59: ALPHA2 25-80 180 | F59: kpl | G59: 1 | J59: =ROUND(H59*I59,2) -> 0 | M59: =J59+K59+L59 -> 0 | N59: =ROUND(G59*H59,2) -> 0 | O59: =ROUND(G59*J59,2) -> 0 | P59: =ROUND(G59*K59,2) -> 0 | Q59: =ROUND(G59*L59,2) -> 0 | R59: =O59+P59+Q59 -> 0
A60: 3.6 | C60: 3-ceļu sadales vārsts Kvs=10 ar izpildmehānismu AMV435, 230V | D60: DN25 | E60: VRG3-25 | F60: kpl | G60: 1 | J60: =ROUND(H60*I60,2) -> 0 | M60: =J60+K60+L60 -> 0 | N60: =ROUND(G60*H60,2) -> 0 | O60: =ROUND(G60*J60,2) -> 0 | P60: =ROUND(G60*K60,2) -> 0 | Q60: =ROUND(G60*L60,2) -> 0 | R60: =O60+P60+Q60 -> 0
A61: 3.7 | C61: Izplešanās trauks Varem 40L, 6bar | F61: gb | G61: 1 | J61: =ROUND(H61*I61,2) -> 0 | M61: =J61+K61+L61 -> 0 | N61: =ROUND(G61*H61,2) -> 0 | O61: =ROUND(G61*J61,2) -> 0 | P61: =ROUND(G61*K61,2) -> 0 | Q61: =ROUND(G61*L61,2) -> 0 | R61: =O61+P61+Q61 -> 0
A62: 3.8 | C62: Hidrauliskais atdalītājs DN32, G=3m3/h | D62: DN32 | F62: gb | G62: 1 | J62: =ROUND(H62*I62,2) -> 0 | M62: =J62+K62+L62 -> 0 | N62: =ROUND(G62*H62,2) -> 0 | O62: =ROUND(G62*J62,2) -> 0 | P62: =ROUND(G62*K62,2) -> 0 | Q62: =ROUND(G62*L62,2) -> 0 | R62: =O62+P62+Q62 -> 0
A63: 3.9 | C63: Freons R32 | F63: kg | G63: 1.84 | J63: =ROUND(H63*I63,2) -> 0 | M63: =J63+K63+L63 -> 0 | N63: =ROUND(G63*H63,2) -> 0 | O63: =ROUND(G63*J63,2) -> 0 | P63: =ROUND(G63*K63,2) -> 0 | Q63: =ROUND(G63*L63,2) -> 0 | R63: =O63+P63+Q63 -> 0
A64: 3.10 | C64: Siltumsūkņa sistēmas marķēšana, regulēšana un darbības pārbaude | F64: kpl | G64: 1 | J64: =ROUND(H64*I64,2) -> 0 | M64: =J64+K64+L64 -> 0 | N64: =ROUND(G64*H64,2) -> 0 | O64: =ROUND(G64*J64,2) -> 0 | P64: =ROUND(G64*K64,2) -> 0 | Q64: =ROUND(G64*L64,2) -> 0 | R64: =O64+P64+Q64 -> 0
A65: 4 | C65: Dzesēšanas kasetes
A66: 4.1 | C66: Dzesēšanas kasete Qdzes=2.0kW, Nel=0.05kW ~1f ar priekšējo paneli un kondensāta sūkni | E66: FCA-120 | F66: kpl | G66: 2 | J66: =ROUND(H66*I66,2) -> 0 | M66: =J66+K66+L66 -> 0 | N66: =ROUND(G66*H66,2) -> 0 | O66: =ROUND(G66*J66,2) -> 0 | P66: =ROUND(G66*K66,2) -> 0 | Q66: =ROUND(G66*L66,2) -> 0 | R66: =O66+P66+Q66 -> 0
A67: 4.2 | C67: Dzesēšanas kasete Qdzes=2.5kW, Nel=0.05kW ~1f ar priekšējo paneli un kondensāta sūkni | E67: FCA-220 | F67: kpl | G67: 4 | J67: =ROUND(H67*I67,2) -> 0 | M67: =J67+K67+L67 -> 0 | N67: =ROUND(G67*H67,2) -> 0 | O67: =ROUND(G67*J67,2) -> 0 | P67: =ROUND(G67*K67,2) -> 0 | Q67: =ROUND(G67*L67,2) -> 0 | R67: =O67+P67+Q67 -> 0
A68: 4.3 | C68: 3-ceļu sadales vārsts Kvs=1.6 ar izpildmehānismu AMV435, 230V | D68: DN15 | E68: VRG3-15 | F68: kpl | G68: 2 | J68: =ROUND(H68*I68,2) -> 0 | M68: =J68+K68+L68 -> 0 | N68: =ROUND(G68*H68,2) -> 0 | O68: =ROUND(G68*J68,2) -> 0 | P68: =ROUND(G68*K68,2) -> 0 | Q68: =ROUND(G68*L68,2) -> 0 | R68: =O68+P68+Q68 -> 0
A69: 4.4 | C69: 3-ceļu sadales vārsts Kvs=2.5 ar izpildmehānismu AMV435, 230V | D69: DN15 | E69: VRG3-15 | F69: kpl | G69: 4 | J69: =ROUND(H69*I69,2) -> 0 | M69: =J69+K69+L69 -> 0 | N69: =ROUND(G69*H69,2) -> 0 | O69: =ROUND(G69*J69,2) -> 0 | P69: =ROUND(G69*K69,2) -> 0 | Q69: =ROUND(G69*L69,2) -> 0 | R69: =O69+P69+Q69 -> 0
A70: 4.5 | C70: Balansēšanas vārsts | D70: DN20 | E70: STAD-20 | F70: gb | G70: 6 | J70: =ROUND(H70*I70,2) -> 0 | M70: =J70+K70+L70 -> 0 | N70: =ROUND(G70*H70,2) -> 0 | O70: =ROUND(G70*J70,2) -> 0 | P70: =ROUND(G70*K70,2) -> 0 | Q70: =ROUND(G70*L70,2) -> 0 | R70: =O70+P70+Q70 -> 0
A71: 4.6 | C71: Noslēgvārsts | D71: DN25 | E71: SV-25 | F71: gb | G71: 12 | J71: =ROUND(H71*I71,2) -> 0 | M71: =J71+K71+L71 -> 0 | N71: =ROUND(G71*H71,2) -> 0 | O71: =ROUND(G71*J71,2) -> 0 | P71: =ROUND(G71*K71,2) -> 0 | Q71: =ROUND(G71*L71,2) -> 0 | R71: =O71+P71+Q71 -> 0
A72: 4.7 | C72: Cauruļvads | D72: Ø28x1.5 | E72: Steel | F72: m | G72: 27 | J72: =ROUND(H72*I72,2) -> 0 | M72: =J72+K72+L72 -> 0 | N72: =ROUND(G72*H72,2) -> 0 | O72: =ROUND(G72*J72,2) -> 0 | P72: =ROUND(G72*K72,2) -> 0 | Q72: =ROUND(G72*L72,2) -> 0 | R72: =O72+P72+Q72 -> 0
A73: 4.8 | C73: Cauruļvads | D73: Ø35x1.5 | E73: Steel | F73: m | G73: 10 | J73: =ROUND(H73*I73,2) -> 0 | M73: =J73+K73+L73 -> 0 | N73: =ROUND(G73*H73,2) -> 0 | O73: =ROUND(G73*J73,2) -> 0 | P73: =ROUND(G73*K73,2) -> 0 | Q73: =ROUND(G73*L73,2) -> 0 | R73: =O73+P73+Q73 -> 0
A74: 4.9 | C74: Cauruļvads | D74: Ø42x1.5 | E74: Steel | F74: m | G74: 26 | J74: =ROUND(H74*I74,2) -> 0 | M74: =J74+K74+L74 -> 0 | N74: =ROUND(G74*H74,2) -> 0 | O74: =ROUND(G74*J74,2) -> 0 | P74: =ROUND(G74*K74,2) -> 0 | Q74: =ROUND(G74*L74,2) -> 0 | R74: =O74+P74+Q74 -> 0
A75: 4.10 | C75: Cauruļvads | D75: Ø54x1.5 | E75: Steel | F75: m | G75: 10 | J75: =ROUND(H75*I75,2) -> 0 | M75: =J75+K75+L75 -> 0 | N75: =ROUND(G75*H75,2) -> 0 | O75: =ROUND(G75*J75,2) -> 0 | P75: =ROUND(G75*K75,2) -> 0 | Q75: =ROUND(G75*L75,2) -> 0 | R75: =O75+P75+Q75 -> 0
A76: 4.11 | C76: Fasondaļas un veidgabali | E76: Steel | F76: gb | G76: 44 | J76: =ROUND(H76*I76,2) -> 0 | M76: =J76+K76+L76 -> 0 | N76: =ROUND(G76*H76,2) -> 0 | O76: =ROUND(G76*J76,2) -> 0 | P76: =ROUND(G76*K76,2) -> 0 | Q76: =ROUND(G76*L76,2) -> 0 | R76: =O76+P76+Q76 -> 0
A77: 4.12 | C77: Siltumizolācijas akmens vates čaula Paroc Hvac Section AluCoat T ar biezumu i=20mm | D77: Ø28x1,5 | E77: PHSALCT 28-20 | F77: m | G77: 27 | J77: =ROUND(H77*I77,2) -> 0 | M77: =J77+K77+L77 -> 0 | N77: =ROUND(G77*H77,2) -> 0 | O77: =ROUND(G77*J77,2) -> 0 | P77: =ROUND(G77*K77,2) -> 0 | Q77: =ROUND(G77*L77,2) -> 0 | R77: =O77+P77+Q77 -> 0
A78: 4.13 | C78: Siltumizolācijas akmens vates čaula Paroc Hvac Section AluCoat T ar biezumu i=20mm | D78: Ø35x1.5 | E78: PHSALCT 35-20 | F78: m | G78: 10 | J78: =ROUND(H78*I78,2) -> 0 | M78: =J78+K78+L78 -> 0 | N78: =ROUND(G78*H78,2) -> 0 | O78: =ROUND(G78*J78,2) -> 0 | P78: =ROUND(G78*K78,2) -> 0 | Q78: =ROUND(G78*L78,2) -> 0 | R78: =O78+P78+Q78 -> 0
A79: 4.14 | C79: Siltumizolācijas akmens vates čaula Paroc Hvac Section AluCoat T ar biezumu i=20mm | D79: Ø42x1.5 | E79: PHSALCT 42-20 | F79: m | G79: 26 | J79: =ROUND(H79*I79,2) -> 0 | M79: =J79+K79+L79 -> 0 | N79: =ROUND(G79*H79,2) -> 0 | O79: =ROUND(G79*J79,2) -> 0 | P79: =ROUND(G79*K79,2) -> 0 | Q79: =ROUND(G79*L79,2) -> 0 | R79: =O79+P79+Q79 -> 0
A80: 4.15 | C80: Siltumizolācijas akmens vates čaula Paroc Hvac Section AluCoat T ar biezumu i=30mm | D80: Ø54x1.5 | E80: PHSALCT 54-20 | F80: m | G80: 10 | J80: =ROUND(H80*I80,2) -> 0 | M80: =J80+K80+L80 -> 0 | N80: =ROUND(G80*H80,2) -> 0 | O80: =ROUND(G80*J80,2) -> 0 | P80: =ROUND(G80*K80,2) -> 0 | Q80: =ROUND(G80*L80,2) -> 0 | R80: =O80+P80+Q80 -> 0
A81: 4.16 | C81: Caurules stiprinājumi un palīgmateriāli | F81: gb | G81: 20 | J81: =ROUND(H81*I81,2) -> 0 | M81: =J81+K81+L81 -> 0 | N81: =ROUND(G81*H81,2) -> 0 | O81: =ROUND(G81*J81,2) -> 0 | P81: =ROUND(G81*K81,2) -> 0 | Q81: =ROUND(G81*L81,2) -> 0 | R81: =O81+P81+Q81 -> 0
A82: 4.17 | C82: Hermetizējošie materiāli | F82: kpl | G82: 1 | J82: =ROUND(H82*I82,2) -> 0 | M82: =J82+K82+L82 -> 0 | N82: =ROUND(G82*H82,2) -> 0 | O82: =ROUND(G82*J82,2) -> 0 | P82: =ROUND(G82*K82,2) -> 0 | Q82: =ROUND(G82*L82,2) -> 0 | R82: =O82+P82+Q82 -> 0
A83: 4.18 | C83: Ugunsdrošie EI30 hermetizējošie materiāli | E83: CFS-S ACR | F83: kpl | G83: 1 | J83: =ROUND(H83*I83,2) -> 0 | M83: =J83+K83+L83 -> 0 | N83: =ROUND(G83*H83,2) -> 0 | O83: =ROUND(G83*J83,2) -> 0 | P83: =ROUND(G83*K83,2) -> 0 | Q83: =ROUND(G83*L83,2) -> 0 | R83: =O83+P83+Q83 -> 0
A84: 4.19 | C84: Dzesēšanas sistēmas marķēšana, regulēšana un darbības pārbaude | F84: kpl | G84: 1 | J84: =ROUND(H84*I84,2) -> 0 | M84: =J84+K84+L84 -> 0 | N84: =ROUND(G84*H84,2) -> 0 | O84: =ROUND(G84*J84,2) -> 0 | P84: =ROUND(G84*K84,2) -> 0 | Q84: =ROUND(G84*L84,2) -> 0 | R84: =O84+P84+Q84 -> 0
A85: 5 | C85: K1 freona sistēma. Serveru telpa
A86: 5.1 | C86: Ārējais bloks ar dzēsēšanas apsaistes elementiem, stiprinājumiem un kronšteiniem; Qdzes=3.5kW; Nel=1.9kW ~1f, freons R32 | D86: 899x378x596(h) | E86: W1GRE-GWH12YD -S6DBA2A/O | F86: kpl | G86: 1 | J86: =ROUND(H86*I86,2) -> 0 | M86: =J86+K86+L86 -> 0 | N86: =ROUND(G86*H86,2) -> 0 | O86: =ROUND(G86*J86,2) -> 0 | P86: =ROUND(G86*K86,2) -> 0 | Q86: =ROUND(G86*L86,2) -> 0 | R86: =O86+P86+Q86 -> 0
A87: 5.2 | C87: Dzesēšanas konsole Qdzes=3.5kW, Nel=0.05kW ~1f | E87: W1GRE-GWH12YD -S6DBA2A/O | F87: kpl | G87: 1 | J87: =ROUND(H87*I87,2) -> 0 | M87: =J87+K87+L87 -> 0 | N87: =ROUND(G87*H87,2) -> 0 | O87: =ROUND(G87*J87,2) -> 0 | P87: =ROUND(G87*K87,2) -> 0 | Q87: =ROUND(G87*L87,2) -> 0 | R87: =O87+P87+Q87 -> 0
A88: 5.3 | C88: Rūpnieciski izolēts vara cauruļvads | D88: 1/4" | F88: m | G88: 6 | J88: =ROUND(H88*I88,2) -> 0 | M88: =J88+K88+L88 -> 0 | N88: =ROUND(G88*H88,2) -> 0 | O88: =ROUND(G88*J88,2) -> 0 | P88: =ROUND(G88*K88,2) -> 0 | Q88: =ROUND(G88*L88,2) -> 0 | R88: =O88+P88+Q88 -> 0
A89: 5.4 | C89: Rūpnieciski izolēts vara cauruļvads | D89: 3/8" | F89: m | G89: 6 | J89: =ROUND(H89*I89,2) -> 0 | M89: =J89+K89+L89 -> 0 | N89: =ROUND(G89*H89,2) -> 0 | O89: =ROUND(G89*J89,2) -> 0 | P89: =ROUND(G89*K89,2) -> 0 | Q89: =ROUND(G89*L89,2) -> 0 | R89: =O89+P89+Q89 -> 0
A90: 5.5 | C90: Fasondaļas un veidgabali | F90: kpl | G90: 1 | J90: =ROUND(H90*I90,2) -> 0 | M90: =J90+K90+L90 -> 0 | N90: =ROUND(G90*H90,2) -> 0 | O90: =ROUND(G90*J90,2) -> 0 | P90: =ROUND(G90*K90,2) -> 0 | Q90: =ROUND(G90*L90,2) -> 0 | R90: =O90+P90+Q90 -> 0
A91: 5.6 | C91: Freons R32 | F91: kg | G91: 1 | J91: =ROUND(H91*I91,2) -> 0 | M91: =J91+K91+L91 -> 0 | N91: =ROUND(G91*H91,2) -> 0 | O91: =ROUND(G91*J91,2) -> 0 | P91: =ROUND(G91*K91,2) -> 0 | Q91: =ROUND(G91*L91,2) -> 0 | R91: =O91+P91+Q91 -> 0
A92: 5.7 | C92: Caurules stiprinājumi un palīgmateriāli | F92: gb | G92: 4 | J92: =ROUND(H92*I92,2) -> 0 | M92: =J92+K92+L92 -> 0 | N92: =ROUND(G92*H92,2) -> 0 | O92: =ROUND(G92*J92,2) -> 0 | P92: =ROUND(G92*K92,2) -> 0 | Q92: =ROUND(G92*L92,2) -> 0 | R92: =O92+P92+Q92 -> 0
A93: 5.8 | C93: Hermetizējošie materiāli | F93: kpl | G93: 1 | J93: =ROUND(H93*I93,2) -> 0 | M93: =J93+K93+L93 -> 0 | N93: =ROUND(G93*H93,2) -> 0 | O93: =ROUND(G93*J93,2) -> 0 | P93: =ROUND(G93*K93,2) -> 0 | Q93: =ROUND(G93*L93,2) -> 0 | R93: =O93+P93+Q93 -> 0
A94: 5.9 | C94: Klimata kontroles sistēmas marķēšana, regulēšana un darbības pārbaude | F94: kpl | G94: 1 | J94: =ROUND(H94*I94,2) -> 0 | M94: =J94+K94+L94 -> 0 | N94: =ROUND(G94*H94,2) -> 0 | O94: =ROUND(G94*J94,2) -> 0 | P94: =ROUND(G94*K94,2) -> 0 | Q94: =ROUND(G94*L94,2) -> 0 | R94: =O94+P94+Q94 -> 0
A95: 6 | C95: Esoša radiatora pārlikšana un pieslēgums pie apkures caurulēm | F95: kpl | G95: 2 | J95: =ROUND(H95*I95,2) -> 0 | M95: =J95+K95+L95 -> 0 | N95: =ROUND(G95*H95,2) -> 0 | O95: =ROUND(G95*J95,2) -> 0 | P95: =ROUND(G95*K95,2) -> 0 | Q95: =ROUND(G95*L95,2) -> 0 | R95: =O95+P95+Q95 -> 0
A96: TIEŠĀS IZMAKSAS KOPĀ, t. sk. darba devēja sociālais nodoklis (%) | N96: =SUM(N16:N95) -> 0 | O96: =SUM(O16:O95) -> 0 | P96: =SUM(P16:P95) -> 0 | Q96: =SUM(Q16:Q95) -> 0 | R96: =SUM(R16:R95) -> 0
A98: Piezīmes.
A99: 1. Būvuzņēmējam jāievērtē darbu apjomu sarakstā minēto darbu veikšanai nepieciešamie materiāli un papildus darbi, kas nav minēti šajā sarakstā, bet bez
A100: kuriem nebūtu iespējama būvdarbu tehnoloģiski pareiza un spēkā esošiem normatīviem atbilstoša veikšana pilnā apmērā.
A101: 2. Darbu apjomu sarakstu skatīt kopā ar rasējumiem un specifikācijām. Gadījumā, ja darbu apjomi nesakrīt ar rasējumiem vai specifikācijām, par pareiziem
A102: jāuzskata rasējumos esošie darbu apjomi.
A103: 3. Atsevišķu materiālu apjomi doti bez rezerves.
...

Sheet 2-3_AVK-V
R1: 03.05.2017. MK noteikumu Nr.239 5.pielikums
E2: LOKĀLĀ TĀME Nr. | F2: 2-3
A3: VENTILĀCIJA
A4: (būvdarbu veids vai konstruktīvā elementa nosaukums)
A5: =Kopsav.!A7:I7 -> Objekta nosaukums: Ēkas Miera ielā 58a (kad. Nr. 0100 026 0092 005) un Ēkas Miera ielā 58a (kad. Nr. 0100 026 2024 005), Rīga daļas pārbūve Kino muzeja vajadzībām
A6: =KOPTĀME!A12 -> Būves nosaukums: Darbnīca, Teātris
A7: =KOPTĀME!A13 -> Objekta adrese: Miera ielā 58a, Rīga
A8: =KOPTĀME!A14 -> Pasūtījuma Nr. LKA 2026/14
A10: Tāme sastādīta 2026.gada tirgus cenās, pamatojoties uz AVK daļas rasējumiem.
O11: Tāmes izmaksas | P11: =R89 -> 0 | R11: euro
O12: Tāme sastādīta | P12: =IF(KOPTĀME!B28=0,"",KOPTĀME!B28)
A14: Nr.p.k. | B14: Kods | C14: Būvdarbu nosaukums | F14: Mērvienība | G14: Daudzums | H14: Vienības izmaksas | N14: Kopā uz visu apjomu
H15: laika norma (c/h) | I15: darba samaksas likme* (euro/h) | J15: darba alga | K15: būvizstrādājumi | L15: mehānismi | M15: kopā | N15: darbietilpība (c/h) | O15: darba alga | P15: būvizstrādājumi | Q15: mehānismi | R15: summa
A16: 1 | C16: AHU1
A17: 1.1 | C17: Gaisa pieplūdes-nosūces agregāts; Lp=3300m3/st, Ln=3300m3/st, ∆P=250/250 Pa (spiediens: pieplūdes/ nosūces + svaigais/ izmēšanas gaiss); rotora reģ. eff. 82.1%; iebūvētajs siltuma sūknis, Qsild=48.8kW, Qdzes=18.7kW; Nel=7.21kW ~3f, kompresors -freons R454B; gaisa filtrs ePM1-50% (piepl. F7), ePM10-60% (nosūc. M5); gaisa regulēšanas vārsti ar piedzīņu 2 gab.; pieplūdes ventilātors ar elektrodzinēju Nel=1.35kW,~1f; nosūces ventilātors ar elektrodzinēju Nel=1.35kW,~1f; ar vadības bloku un automātiku | D17: 1120/1510x2770 x1665(h) | E17: Envistar Flex 150 | F17: kpl | G17: 1 | J17: =ROUND(H17*I17,2) -> 0 | M17: =J17+K17+L17 -> 0 | N17: =ROUND(G17*H17,2) -> 0 | O17: =ROUND(G17*J17,2) -> 0 | P17: =ROUND(G17*K17,2) -> 0 | Q17: =ROUND(G17*L17,2) -> 0 | R17: =O17+P17+Q17 -> 0
A18: 1.2 | C18: Tvaika mitrinatājs ar tvaika šļuteni, mitruma sensoriem, vadības bloku un striprinājuma statīvu, Qmitr=5kg/h, Nel=3.75kW, ~3f | D18: 365x275x712(h) | E18: UE005 | F18: kpl | G18: 1 | J18: =ROUND(H18*I18,2) -> 0 | M18: =J18+K18+L18 -> 0 | N18: =ROUND(G18*H18,2) -> 0 | O18: =ROUND(G18*J18,2) -> 0 | P18: =ROUND(G18*K18,2) -> 0 | Q18: =ROUND(G18*L18,2) -> 0 | R18: =O18+P18+Q18 -> 0
A19: 1.3 | C19: Nerūsējoša tērauda gaisa vada posms (mitrināšanai) | D19: 400x300 | F19: m | G19: 1 | J19: =ROUND(H19*I19,2) -> 0 | M19: =J19+K19+L19 -> 0 | N19: =ROUND(G19*H19,2) -> 0 | O19: =ROUND(G19*J19,2) -> 0 | P19: =ROUND(G19*K19,2) -> 0 | Q19: =ROUND(G19*L19,2) -> 0 | R19: =O19+P19+Q19 -> 0
A20: 1.4 | C20: Gaisa ieņemšanas reste, nokrāsot fasādes tonī | D20: 800x600 | E20: RIS-800x600 | F20: gb | G20: 1 | J20: =ROUND(H20*I20,2) -> 0 | M20: =J20+K20+L20 -> 0 | N20: =ROUND(G20*H20,2) -> 0 | O20: =ROUND(G20*J20,2) -> 0 | P20: =ROUND(G20*K20,2) -> 0 | Q20: =ROUND(G20*L20,2) -> 0 | R20: =O20+P20+Q20 -> 0
A21: 1.5 | C21: Gaisa izmešanas reste, nokrāsot fasādes tonī | D21: 500x700 | E21: RIS-500x700 | F21: gb | G21: 1 | J21: =ROUND(H21*I21,2) -> 0 | M21: =J21+K21+L21 -> 0 | N21: =ROUND(G21*H21,2) -> 0 | O21: =ROUND(G21*J21,2) -> 0 | P21: =ROUND(G21*K21,2) -> 0 | Q21: =ROUND(G21*L21,2) -> 0 | R21: =O21+P21+Q21 -> 0
A22: 1.6 | C22: Gaisa vads | D22: 500x500 | E22: OF-500x500 | F22: m | G22: 2 | J22: =ROUND(H22*I22,2) -> 0 | M22: =J22+K22+L22 -> 0 | N22: =ROUND(G22*H22,2) -> 0 | O22: =ROUND(G22*J22,2) -> 0 | P22: =ROUND(G22*K22,2) -> 0 | Q22: =ROUND(G22*L22,2) -> 0 | R22: =O22+P22+Q22 -> 0
A23: 1.7 | C23: Gaisa vads | D23: 800x500 | E23: OF-800x500 | F23: m | G23: 1 | J23: =ROUND(H23*I23,2) -> 0 | M23: =J23+K23+L23 -> 0 | N23: =ROUND(G23*H23,2) -> 0 | O23: =ROUND(G23*J23,2) -> 0 | P23: =ROUND(G23*K23,2) -> 0 | Q23: =ROUND(G23*L23,2) -> 0 | R23: =O23+P23+Q23 -> 0
A24: 1.8 | C24: Gaisa vads | D24: 800x600 | E24: OF-800x600 | F24: m | G24: 1 | J24: =ROUND(H24*I24,2) -> 0 | M24: =J24+K24+L24 -> 0 | N24: =ROUND(G24*H24,2) -> 0 | O24: =ROUND(G24*J24,2) -> 0 | P24: =ROUND(G24*K24,2) -> 0 | Q24: =ROUND(G24*L24,2) -> 0 | R24: =O24+P24+Q24 -> 0
A25: 1.9 | C25: Fasondaļas un veidgabali kantainie | F25: gb | G25: 6 | J25: =ROUND(H25*I25,2) -> 0 | M25: =J25+K25+L25 -> 0 | N25: =ROUND(G25*H25,2) -> 0 | O25: =ROUND(G25*J25,2) -> 0 | P25: =ROUND(G25*K25,2) -> 0 | Q25: =ROUND(G25*L25,2) -> 0 | R25: =O25+P25+Q25 -> 0
A26: 1.10 | C26: Akmens vates paklājs ar folijas segkārtu i=50mm | E26: Hvac Lamella Mat AluCoat | F26: m2 | G26: 5 | J26: =ROUND(H26*I26,2) -> 0 | M26: =J26+K26+L26 -> 0 | N26: =ROUND(G26*H26,2) -> 0 | O26: =ROUND(G26*J26,2) -> 0 | P26: =ROUND(G26*K26,2) -> 0 | Q26: =ROUND(G26*L26,2) -> 0 | R26: =O26+P26+Q26 -> 0
A27: 1.11 | C27: Akmens vates paklājs ar folijas segkārtu i=100mm | E27: Hvac Lamella Mat AluCoat | F27: m2 | G27: 6 | J27: =ROUND(H27*I27,2) -> 0 | M27: =J27+K27+L27 -> 0 | N27: =ROUND(G27*H27,2) -> 0 | O27: =ROUND(G27*J27,2) -> 0 | P27: =ROUND(G27*K27,2) -> 0 | Q27: =ROUND(G27*L27,2) -> 0 | R27: =O27+P27+Q27 -> 0
A28: 1.12 | C28: Rūpnieciski izolēts gaisa vads P3 30mm | D28: 400x250 | E28: 15HS31 | F28: m | G28: 1 | J28: =ROUND(H28*I28,2) -> 0 | M28: =J28+K28+L28 -> 0 | N28: =ROUND(G28*H28,2) -> 0 | O28: =ROUND(G28*J28,2) -> 0 | P28: =ROUND(G28*K28,2) -> 0 | Q28: =ROUND(G28*L28,2) -> 0 | R28: =O28+P28+Q28 -> 0
A29: 1.13 | C29: Rūpnieciski izolēts gaisa vads P3 30mm | D29: 400x300 | E29: 15HS31 | F29: m | G29: 11 | J29: =ROUND(H29*I29,2) -> 0 | M29: =J29+K29+L29 -> 0 | N29: =ROUND(G29*H29,2) -> 0 | O29: =ROUND(G29*J29,2) -> 0 | P29: =ROUND(G29*K29,2) -> 0 | Q29: =ROUND(G29*L29,2) -> 0 | R29: =O29+P29+Q29 -> 0
A30: 1.14 | C30: Fasondaļas un veidgabali kantaiņie P3 | E30: 15HS32 | F30: gb | G30: 12 | J30: =ROUND(H30*I30,2) -> 0 | M30: =J30+K30+L30 -> 0 | N30: =ROUND(G30*H30,2) -> 0 | O30: =ROUND(G30*J30,2) -> 0 | P30: =ROUND(G30*K30,2) -> 0 | Q30: =ROUND(G30*L30,2) -> 0 | R30: =O30+P30+Q30 -> 0
A31: 1.15 | C31: Gumijas mitrumizturīgais parklājums | E31: GUMSKIN | F31: l | G31: 3.5 | J31: =ROUND(H31*I31,2) -> 0 | M31: =J31+K31+L31 -> 0 | N31: =ROUND(G31*H31,2) -> 0 | O31: =ROUND(G31*J31,2) -> 0 | P31: =ROUND(G31*K31,2) -> 0 | Q31: =ROUND(G31*L31,2) -> 0 | R31: =O31+P31+Q31 -> 0
A32: 1.16 | C32: Gaisa vadu savienojuma un stiprinājuma elementi | F32: kpl | G32: 1 | J32: =ROUND(H32*I32,2) -> 0 | M32: =J32+K32+L32 -> 0 | N32: =ROUND(G32*H32,2) -> 0 | O32: =ROUND(G32*J32,2) -> 0 | P32: =ROUND(G32*K32,2) -> 0 | Q32: =ROUND(G32*L32,2) -> 0 | R32: =O32+P32+Q32 -> 0
A33: 1.17 | C33: Gaisa vads | D33: 100 | E33: OS3-100 | F33: m | G33: 6 | J33: =ROUND(H33*I33,2) -> 0 | M33: =J33+K33+L33 -> 0 | N33: =ROUND(G33*H33,2) -> 0 | O33: =ROUND(G33*J33,2) -> 0 | P33: =ROUND(G33*K33,2) -> 0 | Q33: =ROUND(G33*L33,2) -> 0 | R33: =O33+P33+Q33 -> 0
A34: 1.18 | C34: Gaisa vads | D34: 400x200 | E34: OF-400-200 | F34: m | G34: 2 | J34: =ROUND(H34*I34,2) -> 0 | M34: =J34+K34+L34 -> 0 | N34: =ROUND(G34*H34,2) -> 0 | O34: =ROUND(G34*J34,2) -> 0 | P34: =ROUND(G34*K34,2) -> 0 | Q34: =ROUND(G34*L34,2) -> 0 | R34: =O34+P34+Q34 -> 0
A35: 1.19 | C35: Gaisa vads | D35: 400x250 | E35: OF-400-250 | F35: m | G35: 20 | J35: =ROUND(H35*I35,2) -> 0 | M35: =J35+K35+L35 -> 0 | N35: =ROUND(G35*H35,2) -> 0 | O35: =ROUND(G35*J35,2) -> 0 | P35: =ROUND(G35*K35,2) -> 0 | Q35: =ROUND(G35*L35,2) -> 0 | R35: =O35+P35+Q35 -> 0
A36: 1.20 | C36: Gaisa vads | D36: 400x300 | E36: OF-400-300 | F36: m | G36: 28 | J36: =ROUND(H36*I36,2) -> 0 | M36: =J36+K36+L36 -> 0 | N36: =ROUND(G36*H36,2) -> 0 | O36: =ROUND(G36*J36,2) -> 0 | P36: =ROUND(G36*K36,2) -> 0 | Q36: =ROUND(G36*L36,2) -> 0 | R36: =O36+P36+Q36 -> 0
A37: 1.21 | C37: Gaisa vads | D37: 400x400 | E37: OF-400-400 | F37: m | G37: 1 | J37: =ROUND(H37*I37,2) -> 0 | M37: =J37+K37+L37 -> 0 | N37: =ROUND(G37*H37,2) -> 0 | O37: =ROUND(G37*J37,2) -> 0 | P37: =ROUND(G37*K37,2) -> 0 | Q37: =ROUND(G37*L37,2) -> 0 | R37: =O37+P37+Q37 -> 0
A38: 1.22 | C38: Gaisa vads | D38: 600x500 | E38: OF-600-500 | F38: m | G38: 1 | J38: =ROUND(H38*I38,2) -> 0 | M38: =J38+K38+L38 -> 0 | N38: =ROUND(G38*H38,2) -> 0 | O38: =ROUND(G38*J38,2) -> 0 | P38: =ROUND(G38*K38,2) -> 0 | Q38: =ROUND(G38*L38,2) -> 0 | R38: =O38+P38+Q38 -> 0
A39: 1.23 | C39: Gaisa vads | D39: 800x500 | E39: OF-800-500 | F39: m | G39: 1 | J39: =ROUND(H39*I39,2) -> 0 | M39: =J39+K39+L39 -> 0 | N39: =ROUND(G39*H39,2) -> 0 | O39: =ROUND(G39*J39,2) -> 0 | P39: =ROUND(G39*K39,2) -> 0 | Q39: =ROUND(G39*L39,2) -> 0 | R39: =O39+P39+Q39 -> 0
A40: 1.24 | C40: Gaisa vads | D40: 1000x500 | E40: OF-1000-500 | F40: m | G40: 1 | J40: =ROUND(H40*I40,2) -> 0 | M40: =J40+K40+L40 -> 0 | N40: =ROUND(G40*H40,2) -> 0 | O40: =ROUND(G40*J40,2) -> 0 | P40: =ROUND(G40*K40,2) -> 0 | Q40: =ROUND(G40*L40,2) -> 0 | R40: =O40+P40+Q40 -> 0
A41: 1.25 | C41: Fasondaļas un veidgabali apaļie | F41: gb | G41: 3 | J41: =ROUND(H41*I41,2) -> 0 | M41: =J41+K41+L41 -> 0 | N41: =ROUND(G41*H41,2) -> 0 | O41: =ROUND(G41*J41,2) -> 0 | P41: =ROUND(G41*K41,2) -> 0 | Q41: =ROUND(G41*L41,2) -> 0 | R41: =O41+P41+Q41 -> 0
A42: 1.26 | C42: Fasondaļas un veidgabali kantainie | F42: gb | G42: 48 | J42: =ROUND(H42*I42,2) -> 0 | M42: =J42+K42+L42 -> 0 | N42: =ROUND(G42*H42,2) -> 0 | O42: =ROUND(G42*J42,2) -> 0 | P42: =ROUND(G42*K42,2) -> 0 | Q42: =ROUND(G42*L42,2) -> 0 | R42: =O42+P42+Q42 -> 0
A43: 1.27 | C43: Perforēts gaisa vads uz 270o grādiem | D43: 400 | E43: VSR-400-270 | F43: m | G43: 17 | J43: =ROUND(H43*I43,2) -> 0 | M43: =J43+K43+L43 -> 0 | N43: =ROUND(G43*H43,2) -> 0 | O43: =ROUND(G43*J43,2) -> 0 | P43: =ROUND(G43*K43,2) -> 0 | Q43: =ROUND(G43*L43,2) -> 0 | R43: =O43+P43+Q43 -> 0
A44: 1.28 | C44: Perforēts gaisa vads uz 2 x 90o grādiem | D44: 400 | E44: VSR-400-2x90 | F44: m | G44: 24 | J44: =ROUND(H44*I44,2) -> 0 | M44: =J44+K44+L44 -> 0 | N44: =ROUND(G44*H44,2) -> 0 | O44: =ROUND(G44*J44,2) -> 0 | P44: =ROUND(G44*K44,2) -> 0 | Q44: =ROUND(G44*L44,2) -> 0 | R44: =O44+P44+Q44 -> 0
A45: 1.29 | C45: Nosūces difuzors | D45: 100 | E45: ULA/A-100(E) | F45: gb | G45: 1 | J45: =ROUND(H45*I45,2) -> 0 | M45: =J45+K45+L45 -> 0 | N45: =ROUND(G45*H45,2) -> 0 | O45: =ROUND(G45*J45,2) -> 0 | P45: =ROUND(G45*K45,2) -> 0 | Q45: =ROUND(G45*L45,2) -> 0 | R45: =O45+P45+Q45 -> 0
A46: 1.30 | C46: Pārplūdes reste | D46: 200x100 | E46: TVC/OF-200-100 | F46: gb | G46: 1 | J46: =ROUND(H46*I46,2) -> 0 | M46: =J46+K46+L46 -> 0 | N46: =ROUND(G46*H46,2) -> 0 | O46: =ROUND(G46*J46,2) -> 0 | P46: =ROUND(G46*K46,2) -> 0 | Q46: =ROUND(G46*L46,2) -> 0 | R46: =O46+P46+Q46 -> 0
A47: 1.31 | C47: Regulēšanas vārsts | D47: 100 | E47: IRIS-100 | F47: gb | G47: 1 | J47: =ROUND(H47*I47,2) -> 0 | M47: =J47+K47+L47 -> 0 | N47: =ROUND(G47*H47,2) -> 0 | O47: =ROUND(G47*J47,2) -> 0 | P47: =ROUND(G47*K47,2) -> 0 | Q47: =ROUND(G47*L47,2) -> 0 | R47: =O47+P47+Q47 -> 0
A48: 1.32 | C48: VAV-vārsts ar izpildmehānismu, Nel=0.07kW 24V | D48: 400x200 | E48: TVE-Q-400x200 | F48: gb | G48: 4 | J48: =ROUND(H48*I48,2) -> 0 | M48: =J48+K48+L48 -> 0 | N48: =ROUND(G48*H48,2) -> 0 | O48: =ROUND(G48*J48,2) -> 0 | P48: =ROUND(G48*K48,2) -> 0 | Q48: =ROUND(G48*L48,2) -> 0 | R48: =O48+P48+Q48 -> 0
A49: 1.33 | C49: CO2 sensors | E49: Siemens QPA 2000 | F49: gb | G49: 2 | J49: =ROUND(H49*I49,2) -> 0 | M49: =J49+K49+L49 -> 0 | N49: =ROUND(G49*H49,2) -> 0 | O49: =ROUND(G49*J49,2) -> 0 | P49: =ROUND(G49*K49,2) -> 0 | Q49: =ROUND(G49*L49,2) -> 0 | R49: =O49+P49+Q49 -> 0
A50: 1.34 | C50: Trokšņu slāpētājs | D50: 400x300 | E50: SLRS 200/200 400 300 1000 | F50: gb | G50: 4 | J50: =ROUND(H50*I50,2) -> 0 | M50: =J50+K50+L50 -> 0 | N50: =ROUND(G50*H50,2) -> 0 | O50: =ROUND(G50*J50,2) -> 0 | P50: =ROUND(G50*K50,2) -> 0 | Q50: =ROUND(G50*L50,2) -> 0 | R50: =O50+P50+Q50 -> 0
A51: 1.35 | C51: Trokšņu slāpētājs | D51: 400x400 | E51: SLRS 200/200 400 400 1000 | F51: gb | G51: 2 | J51: =ROUND(H51*I51,2) -> 0 | M51: =J51+K51+L51 -> 0 | N51: =ROUND(G51*H51,2) -> 0 | O51: =ROUND(G51*J51,2) -> 0 | P51: =ROUND(G51*K51,2) -> 0 | Q51: =ROUND(G51*L51,2) -> 0 | R51: =O51+P51+Q51 -> 0
A52: 1.36 | C52: Trokšņu slāpētājs | D52: 800x500 | E52: SLRS 200/200 800 500 1000 | F52: gb | G52: 2 | J52: =ROUND(H52*I52,2) -> 0 | M52: =J52+K52+L52 -> 0 | N52: =ROUND(G52*H52,2) -> 0 | O52: =ROUND(G52*J52,2) -> 0 | P52: =ROUND(G52*K52,2) -> 0 | Q52: =ROUND(G52*L52,2) -> 0 | R52: =O52+P52+Q52 -> 0
A53: 1.37 | C53: Ugunsdrošais vārsts EI60 | D53: 400x250 | E53: UVS-400-250 | F53: gb | G53: 2 | J53: =ROUND(H53*I53,2) -> 0 | M53: =J53+K53+L53 -> 0 | N53: =ROUND(G53*H53,2) -> 0 | O53: =ROUND(G53*J53,2) -> 0 | P53: =ROUND(G53*K53,2) -> 0 | Q53: =ROUND(G53*L53,2) -> 0 | R53: =O53+P53+Q53 -> 0
A54: 1.38 | C54: Akmens vates paklājs ar folijas segkārtu i=30mm | E54: Hvac Lamella Mat AluCoat | F54: m2 | G54: 38 | J54: =ROUND(H54*I54,2) -> 0 | M54: =J54+K54+L54 -> 0 | N54: =ROUND(G54*H54,2) -> 0 | O54: =ROUND(G54*J54,2) -> 0 | P54: =ROUND(G54*K54,2) -> 0 | Q54: =ROUND(G54*L54,2) -> 0 | R54: =O54+P54+Q54 -> 0
A55: 1.39 | C55: Tīrīšanas lūka | D55: 200x100 | E55: IPF-200-100 | F55: gb | G55: 9 | J55: =ROUND(H55*I55,2) -> 0 | M55: =J55+K55+L55 -> 0 | N55: =ROUND(G55*H55,2) -> 0 | O55: =ROUND(G55*J55,2) -> 0 | P55: =ROUND(G55*K55,2) -> 0 | Q55: =ROUND(G55*L55,2) -> 0 | R55: =O55+P55+Q55 -> 0
A56: 1.40 | C56: Stiprināšanas materiāli un kronšteini | F56: gb | G56: 30 | J56: =ROUND(H56*I56,2) -> 0 | M56: =J56+K56+L56 -> 0 | N56: =ROUND(G56*H56,2) -> 0 | O56: =ROUND(G56*J56,2) -> 0 | P56: =ROUND(G56*K56,2) -> 0 | Q56: =ROUND(G56*L56,2) -> 0 | R56: =O56+P56+Q56 -> 0
A57: 1.41 | C57: Hermetizējošie materiāli | F57: kpl | G57: 1 | J57: =ROUND(H57*I57,2) -> 0 | M57: =J57+K57+L57 -> 0 | N57: =ROUND(G57*H57,2) -> 0 | O57: =ROUND(G57*J57,2) -> 0 | P57: =ROUND(G57*K57,2) -> 0 | Q57: =ROUND(G57*L57,2) -> 0 | R57: =O57+P57+Q57 -> 0
A58: 1.42 | C58: Ugunsdrošie EI30 hermetizējošie materiāli | E58: CFS-F FX | F58: kpl | G58: 1 | J58: =ROUND(H58*I58,2) -> 0 | M58: =J58+K58+L58 -> 0 | N58: =ROUND(G58*H58,2) -> 0 | O58: =ROUND(G58*J58,2) -> 0 | P58: =ROUND(G58*K58,2) -> 0 | Q58: =ROUND(G58*L58,2) -> 0 | R58: =O58+P58+Q58 -> 0
A59: 1.43 | C59: Ventilācijas sistēmas marķēšana, regulēšana un darbības pārbaude | F59: kpl | G59: 1 | J59: =ROUND(H59*I59,2) -> 0 | M59: =J59+K59+L59 -> 0 | N59: =ROUND(G59*H59,2) -> 0 | O59: =ROUND(G59*J59,2) -> 0 | P59: =ROUND(G59*K59,2) -> 0 | Q59: =ROUND(G59*L59,2) -> 0 | R59: =O59+P59+Q59 -> 0
A60: 2 | C60: Gaisa sausināšana
A61: 2.1 | C61: Adsorbcijas tipa gaisa sausinātājs Qsaus=7.4kg/h, Nel=9.8kW ~3f; L=1450m3/h, Lreģ=270m3/h, ar vadības bloku | D61: 649x734x942(h) | E61: TTR 1400 | F61: kpl | G61: 1 | J61: =ROUND(H61*I61,2) -> 0 | M61: =J61+K61+L61 -> 0 | N61: =ROUND(G61*H61,2) -> 0 | O61: =ROUND(G61*J61,2) -> 0 | P61: =ROUND(G61*K61,2) -> 0 | Q61: =ROUND(G61*L61,2) -> 0 | R61: =O61+P61+Q61 -> 0
A62: 2.2 | C62: Gaisa ieņemšanas/izmešanas reste, nokrāsot fasādes tonī | D62: 200 | E62: YGC-200 | F62: gb | G62: 2 | J62: =ROUND(H62*I62,2) -> 0 | M62: =J62+K62+L62 -> 0 | N62: =ROUND(G62*H62,2) -> 0 | O62: =ROUND(G62*J62,2) -> 0 | P62: =ROUND(G62*K62,2) -> 0 | Q62: =ROUND(G62*L62,2) -> 0 | R62: =O62+P62+Q62 -> 0
A63: 2.3 | C63: Rūpnieciski izolēts gaisa vads P3 30mm | D63: 400x250 | E63: 15HS31 | F63: m | G63: 1 | J63: =ROUND(H63*I63,2) -> 0 | M63: =J63+K63+L63 -> 0 | N63: =ROUND(G63*H63,2) -> 0 | O63: =ROUND(G63*J63,2) -> 0 | P63: =ROUND(G63*K63,2) -> 0 | Q63: =ROUND(G63*L63,2) -> 0 | R63: =O63+P63+Q63 -> 0
A64: 2.4 | C64: Rūpnieciski izolēts gaisa vads P3 30mm | D64: 400x300 | E64: 15HS31 | F64: m | G64: 9 | J64: =ROUND(H64*I64,2) -> 0 | M64: =J64+K64+L64 -> 0 | N64: =ROUND(G64*H64,2) -> 0 | O64: =ROUND(G64*J64,2) -> 0 | P64: =ROUND(G64*K64,2) -> 0 | Q64: =ROUND(G64*L64,2) -> 0 | R64: =O64+P64+Q64 -> 0
A65: 2.5 | C65: Fasondaļas un veidgabali kantaiņie P3 | E65: 15HS32 | F65: gb | G65: 19 | J65: =ROUND(H65*I65,2) -> 0 | M65: =J65+K65+L65 -> 0 | N65: =ROUND(G65*H65,2) -> 0 | O65: =ROUND(G65*J65,2) -> 0 | P65: =ROUND(G65*K65,2) -> 0 | Q65: =ROUND(G65*L65,2) -> 0 | R65: =O65+P65+Q65 -> 0
A66: 2.6 | C66: Gumijas mitrumizturīgais parklājums | E66: GUMSKIN | F66: l | G66: 3 | J66: =ROUND(H66*I66,2) -> 0 | M66: =J66+K66+L66 -> 0 | N66: =ROUND(G66*H66,2) -> 0 | O66: =ROUND(G66*J66,2) -> 0 | P66: =ROUND(G66*K66,2) -> 0 | Q66: =ROUND(G66*L66,2) -> 0 | R66: =O66+P66+Q66 -> 0
A67: 2.7 | C67: Gaisa vadu savienojuma un stiprinājuma elementi | F67: kpl | G67: 1 | J67: =ROUND(H67*I67,2) -> 0 | M67: =J67+K67+L67 -> 0 | N67: =ROUND(G67*H67,2) -> 0 | O67: =ROUND(G67*J67,2) -> 0 | P67: =ROUND(G67*K67,2) -> 0 | Q67: =ROUND(G67*L67,2) -> 0 | R67: =O67+P67+Q67 -> 0
A68: 2.8 | C68: Gaisa vads | D68: 160 | E68: OS3-160 | F68: m | G68: 3 | J68: =ROUND(H68*I68,2) -> 0 | M68: =J68+K68+L68 -> 0 | N68: =ROUND(G68*H68,2) -> 0 | O68: =ROUND(G68*J68,2) -> 0 | P68: =ROUND(G68*K68,2) -> 0 | Q68: =ROUND(G68*L68,2) -> 0 | R68: =O68+P68+Q68 -> 0
A69: 2.9 | C69: Gaisa vads | D69: 250 | E69: OS3-250 | F69: m | G69: 1 | J69: =ROUND(H69*I69,2) -> 0 | M69: =J69+K69+L69 -> 0 | N69: =ROUND(G69*H69,2) -> 0 | O69: =ROUND(G69*J69,2) -> 0 | P69: =ROUND(G69*K69,2) -> 0 | Q69: =ROUND(G69*L69,2) -> 0 | R69: =O69+P69+Q69 -> 0
A70: 2.10 | C70: Gaisa vads | D70: 400x250 | E70: OF-400x250 | F70: m | G70: 1 | J70: =ROUND(H70*I70,2) -> 0 | M70: =J70+K70+L70 -> 0 | N70: =ROUND(G70*H70,2) -> 0 | O70: =ROUND(G70*J70,2) -> 0 | P70: =ROUND(G70*K70,2) -> 0 | Q70: =ROUND(G70*L70,2) -> 0 | R70: =O70+P70+Q70 -> 0
A71: 2.11 | C71: Gaisa vads | D71: 400x300 | E71: OF-400x300 | F71: m | G71: 6 | J71: =ROUND(H71*I71,2) -> 0 | M71: =J71+K71+L71 -> 0 | N71: =ROUND(G71*H71,2) -> 0 | O71: =ROUND(G71*J71,2) -> 0 | P71: =ROUND(G71*K71,2) -> 0 | Q71: =ROUND(G71*L71,2) -> 0 | R71: =O71+P71+Q71 -> 0
A72: 2.12 | C72: Fasondaļas un veidgabali apaļie | F72: gb | G72: 2 | J72: =ROUND(H72*I72,2) -> 0 | M72: =J72+K72+L72 -> 0 | N72: =ROUND(G72*H72,2) -> 0 | O72: =ROUND(G72*J72,2) -> 0 | P72: =ROUND(G72*K72,2) -> 0 | Q72: =ROUND(G72*L72,2) -> 0 | R72: =O72+P72+Q72 -> 0
A73: 2.13 | C73: Fasondaļas un veidgabali kantainie | F73: gb | G73: 3 | J73: =ROUND(H73*I73,2) -> 0 | M73: =J73+K73+L73 -> 0 | N73: =ROUND(G73*H73,2) -> 0 | O73: =ROUND(G73*J73,2) -> 0 | P73: =ROUND(G73*K73,2) -> 0 | Q73: =ROUND(G73*L73,2) -> 0 | R73: =O73+P73+Q73 -> 0
A74: 2.14 | C74: Gaisa pieplūdes/nosūces reste | D74: 1000x300 | E74: SV-1-1000-300 | F74: gb | G74: 2 | J74: =ROUND(H74*I74,2) -> 0 | M74: =J74+K74+L74 -> 0 | N74: =ROUND(G74*H74,2) -> 0 | O74: =ROUND(G74*J74,2) -> 0 | P74: =ROUND(G74*K74,2) -> 0 | Q74: =ROUND(G74*L74,2) -> 0 | R74: =O74+P74+Q74 -> 0
A75: 2.15 | C75: Trokšņu slāpētājs | D75: 400x300 | E75: SLRS 200/200 400 300 1000 | F75: gb | G75: 2 | J75: =ROUND(H75*I75,2) -> 0 | M75: =J75+K75+L75 -> 0 | N75: =ROUND(G75*H75,2) -> 0 | O75: =ROUND(G75*J75,2) -> 0 | P75: =ROUND(G75*K75,2) -> 0 | Q75: =ROUND(G75*L75,2) -> 0 | R75: =O75+P75+Q75 -> 0
A76: 2.16 | C76: Trokšņu slāpētājs | D76: 400x300 | E76: SLRS 200/200 400 300 1500 | F76: gb | G76: 1 | J76: =ROUND(H76*I76,2) -> 0 | M76: =J76+K76+L76 -> 0 | N76: =ROUND(G76*H76,2) -> 0 | O76: =ROUND(G76*J76,2) -> 0 | P76: =ROUND(G76*K76,2) -> 0 | Q76: =ROUND(G76*L76,2) -> 0 | R76: =O76+P76+Q76 -> 0
A77: 2.17 | C77: Trokšņu slāpētājs | D77: 400x300 | E77: SLRS 200/200 400 300 500 | F77: gb | G77: 1 | J77: =ROUND(H77*I77,2) -> 0 | M77: =J77+K77+L77 -> 0 | N77: =ROUND(G77*H77,2) -> 0 | O77: =ROUND(G77*J77,2) -> 0 | P77: =ROUND(G77*K77,2) -> 0 | Q77: =ROUND(G77*L77,2) -> 0 | R77: =O77+P77+Q77 -> 0
A78: 2.18 | C78: Akmens vates paklājs ar folijas segkārtu i=30mm | E78: Hvac Lamella Mat AluCoat | F78: m2 | G78: 2 | J78: =ROUND(H78*I78,2) -> 0 | M78: =J78+K78+L78 -> 0 | N78: =ROUND(G78*H78,2) -> 0 | O78: =ROUND(G78*J78,2) -> 0 | P78: =ROUND(G78*K78,2) -> 0 | Q78: =ROUND(G78*L78,2) -> 0 | R78: =O78+P78+Q78 -> 0
A79: 2.19 | C79: Tīrīšanas lūka | D79: 200x100 | E79: IPF-200-100 | F79: gb | G79: 2 | J79: =ROUND(H79*I79,2) -> 0 | M79: =J79+K79+L79 -> 0 | N79: =ROUND(G79*H79,2) -> 0 | O79: =ROUND(G79*J79,2) -> 0 | P79: =ROUND(G79*K79,2) -> 0 | Q79: =ROUND(G79*L79,2) -> 0 | R79: =O79+P79+Q79 -> 0
A80: 2.20 | C80: Stiprināšanas materiāli un kronšteini | F80: gb | G80: 2 | J80: =ROUND(H80*I80,2) -> 0 | M80: =J80+K80+L80 -> 0 | N80: =ROUND(G80*H80,2) -> 0 | O80: =ROUND(G80*J80,2) -> 0 | P80: =ROUND(G80*K80,2) -> 0 | Q80: =ROUND(G80*L80,2) -> 0 | R80: =O80+P80+Q80 -> 0
A81: 2.21 | C81: Hermetizējošie materiāli | F81: kpl | G81: 1 | J81: =ROUND(H81*I81,2) -> 0 | M81: =J81+K81+L81 -> 0 | N81: =ROUND(G81*H81,2) -> 0 | O81: =ROUND(G81*J81,2) -> 0 | P81: =ROUND(G81*K81,2) -> 0 | Q81: =ROUND(G81*L81,2) -> 0 | R81: =O81+P81+Q81 -> 0
A82: 2.22 | C82: Ventilācijas sistēmas marķēšana, regulēšana un darbības pārbaude | F82: kpl | G82: 1 | J82: =ROUND(H82*I82,2) -> 0 | M82: =J82+K82+L82 -> 0 | N82: =ROUND(G82*H82,2) -> 0 | O82: =ROUND(G82*J82,2) -> 0 | P82: =ROUND(G82*K82,2) -> 0 | Q82: =ROUND(G82*L82,2) -> 0 | R82: =O82+P82+Q82 -> 0
A83: 3 | C83: Gaisa difuzoru pārlikšana WC mezglā | D83: 100 | F83: vietas | G83: 2 | J83: =ROUND(H83*I83,2) -> 0 | M83: =J83+K83+L83 -> 0 | N83: =ROUND(G83*H83,2) -> 0 | O83: =ROUND(G83*J83,2) -> 0 | P83: =ROUND(G83*K83,2) -> 0 | Q83: =ROUND(G83*L83,2) -> 0 | R83: =O83+P83+Q83 -> 0
A84: 4 | C84: Gaisa vads | D84: 100 | E84: OS3-100 | F84: m | G84: 3 | J84: =ROUND(H84*I84,2) -> 0 | M84: =J84+K84+L84 -> 0 | N84: =ROUND(G84*H84,2) -> 0 | O84: =ROUND(G84*J84,2) -> 0 | P84: =ROUND(G84*K84,2) -> 0 | Q84: =ROUND(G84*L84,2) -> 0 | R84: =O84+P84+Q84 -> 0
A85: 5 | C85: Gaisa difuzoru pārlikšana Hallē | D85: 100 | F85: vieta | G85: 1 | J85: =ROUND(H85*I85,2) -> 0 | M85: =J85+K85+L85 -> 0 | N85: =ROUND(G85*H85,2) -> 0 | O85: =ROUND(G85*J85,2) -> 0 | P85: =ROUND(G85*K85,2) -> 0 | Q85: =ROUND(G85*L85,2) -> 0 | R85: =O85+P85+Q85 -> 0
A86: 6 | C86: Gaisa vads | D86: 160 | E86: OS3-160 | F86: m | G86: 1 | J86: =ROUND(H86*I86,2) -> 0 | M86: =J86+K86+L86 -> 0 | N86: =ROUND(G86*H86,2) -> 0 | O86: =ROUND(G86*J86,2) -> 0 | P86: =ROUND(G86*K86,2) -> 0 | Q86: =ROUND(G86*L86,2) -> 0 | R86: =O86+P86+Q86 -> 0
A87: 7 | C87: Gaisa vads | D87: 200 | E87: OS3-200 | F87: m | G87: 14 | J87: =ROUND(H87*I87,2) -> 0 | M87: =J87+K87+L87 -> 0 | N87: =ROUND(G87*H87,2) -> 0 | O87: =ROUND(G87*J87,2) -> 0 | P87: =ROUND(G87*K87,2) -> 0 | Q87: =ROUND(G87*L87,2) -> 0 | R87: =O87+P87+Q87 -> 0
A88: 8 | C88: Esošo gaisa vadu demontāža un utilizācija, caurumu aizdare | F88: kpl | G88: 1 | J88: =ROUND(H88*I88,2) -> 0 | M88: =J88+K88+L88 -> 0 | N88: =ROUND(G88*H88,2) -> 0 | O88: =ROUND(G88*J88,2) -> 0 | P88: =ROUND(G88*K88,2) -> 0 | Q88: =ROUND(G88*L88,2) -> 0 | R88: =O88+P88+Q88 -> 0
A89: TIEŠĀS IZMAKSAS KOPĀ, t. sk. darba devēja sociālais nodoklis (%) | N89: =SUM(N16:N88) -> 0 | O89: =SUM(O16:O88) -> 0 | P89: =SUM(P16:P88) -> 0 | Q89: =SUM(Q16:Q88) -> 0 | R89: =SUM(R16:R88) -> 0
A91: Piezīmes.
A92: 1. Būvuzņēmējam jāievērtē darbu apjomu sarakstā minēto darbu veikšanai nepieciešamie materiāli un papildus darbi, kas nav minēti šajā sarakstā, bet bez
A93: kuriem nebūtu iespējama būvdarbu tehnoloģiski pareiza un spēkā esošiem normatīviem atbilstoša veikšana pilnā apmērā.
A94: 2. Darbu apjomu sarakstu skatīt kopā ar rasējumiem un specifikācijām. Gadījumā, ja darbu apjomi nesakrīt ar rasējumiem vai specifikācijām, par pareiziem
A95: jāuzskata rasējumos esošie darbu apjomi.
A96: 3. Atsevišķu materiālu apjomi doti bez rezerves.
A97: 4. Tāmēs ietvertos konkrēto ražotāju materiālus un izstrādājumus var aizvietot ar analogiem citu ražotāju materiāliem un izstrādājumiem, saskaņojot ar Arhitektu un Pasūtītāju.
E99: Sastādīja: | F99: =IF(KOPTĀME!B23=0,"",KOPTĀME!B23)
F100: (paraksts un tā atšifrējums, amats, uzņēmuma nosaukums, datums)
E102: Tāme sastādīta: | F102: =IF(KOPTĀME!B28=0,"",KOPTĀME!B28)
E104: Pārbaudīja: | F104: =IF(Kopsav.!C45=0,"",Kopsav.!C45)
F105: (paraksts un tā atšifrējums, amats, uzņēmuma nosaukums, datums)
E107: Sertifikāta Nr.: | F107: =IF(KOPTĀME!B26=0,"",KOPTĀME!B26)

Sheet 2-4_EL
Q1: 03.05.2017. MK noteikumu Nr.239 5.pielikums
D2: LOKĀLĀ TĀME Nr. | E2: 2-4
A3: ELEKTROAPGĀDE UN APGAISMOJUMS
A4: (būvdarbu veids vai konstruktīvā elementa nosaukums)
A5: =Kopsav.!A7:I7 -> Objekta nosaukums: Ēkas Miera ielā 58a (kad. Nr. 0100 026 0092 005) un Ēkas Miera ielā 58a (kad. Nr. 0100 026 2024 005), Rīga daļas pārbūve Kino muzeja vajadzībām
A6: =KOPTĀME!A12 -> Būves nosaukums: Darbnīca, Teātris
A7: =KOPTĀME!A13 -> Objekta adrese: Miera ielā 58a, Rīga
A8: =KOPTĀME!A14 -> Pasūtījuma Nr. LKA 2026/14
A10: Tāme sastādīta 2026.gada tirgus cenās, pamatojoties uz EL daļas rasējumiem.
N11: Tāmes izmaksas | O11: =Q56 -> 0 | Q11: euro
N12: Tāme sastādīta | O12: =IF(KOPTĀME!B28=0,"",KOPTĀME!B28)
A14: Nr.p.k. | B14: Kods | C14: Būvdarbu nosaukums | E14: Mērvienība | F14: Daudzums | G14: Vienības izmaksas | M14: Kopā uz visu apjomu
G15: laika norma (c/h) | H15: darba samaksas likme* (euro/h) | I15: darba alga | J15: būvizstrādājumi | K15: mehānismi | L15: kopā | M15: darbietilpība (c/h) | N15: darba alga | O15: būvizstrādājumi | P15: mehānismi | Q15: summa
A16: 1 | C16: Elektriskās sadalnes
A17: 1.1 | C17: Sadalnes skapis IP44, z/apm. (SS1) | D17: skat. EL-2.2 | E17: kpl | F17: 1 | I17: =ROUND(G17*H17,2) -> 0 | L17: =I17+J17+K17 -> 0 | M17: =ROUND(F17*G17,2) -> 0 | N17: =ROUND(F17*I17,2) -> 0 | O17: =ROUND(F17*J17,2) -> 0 | P17: =ROUND(F17*K17,2) -> 0 | Q17: =N17+O17+P17 -> 0
A18: 1.2 | C18: Izlādnis V20-C/3+NPE– 1 kompl. | E18: kpl | F18: 1 | I18: =ROUND(G18*H18,2) -> 0 | L18: =I18+J18+K18 -> 0 | M18: =ROUND(F18*G18,2) -> 0 | N18: =ROUND(F18*I18,2) -> 0 | O18: =ROUND(F18*J18,2) -> 0 | P18: =ROUND(F18*K18,2) -> 0 | Q18: =N18+O18+P18 -> 0
A19: 1.3 | C19: Pārējie montāžas izstrādājumi | E19: kpl | F19: 1 | I19: =ROUND(G19*H19,2) -> 0 | L19: =I19+J19+K19 -> 0 | M19: =ROUND(F19*G19,2) -> 0 | N19: =ROUND(F19*I19,2) -> 0 | O19: =ROUND(F19*J19,2) -> 0 | P19: =ROUND(F19*K19,2) -> 0 | Q19: =N19+O19+P19 -> 0
A20: 1.4. | C20: Esošās grupu sadalnes pārvietošana | E20: kompl. | F20: 1 | I20: =ROUND(G20*H20,2) -> 0 | L20: =I20+J20+K20 -> 0 | M20: =ROUND(F20*G20,2) -> 0 | N20: =ROUND(F20*I20,2) -> 0 | O20: =ROUND(F20*J20,2) -> 0 | P20: =ROUND(F20*K20,2) -> 0 | Q20: =N20+O20+P20 -> 0
A21: 2 | C21: Spēka iekšējie elektroapgādes tīkli
A22: 2.1 | C22: El. rozete z/a, 220V, 16A, IP20 | E22: gb | F22: 37 | I22: =ROUND(G22*H22,2) -> 0 | L22: =I22+J22+K22 -> 0 | M22: =ROUND(F22*G22,2) -> 0 | N22: =ROUND(F22*I22,2) -> 0 | O22: =ROUND(F22*J22,2) -> 0 | P22: =ROUND(F22*K22,2) -> 0 | Q22: =N22+O22+P22 -> 0
A23: 2.2 | C23: El. rozete z/a, 220V, 16A, IP44 | E23: gb | F23: 6 | I23: =ROUND(G23*H23,2) -> 0 | L23: =I23+J23+K23 -> 0 | M23: =ROUND(F23*G23,2) -> 0 | N23: =ROUND(F23*I23,2) -> 0 | O23: =ROUND(F23*J23,2) -> 0 | P23: =ROUND(F23*K23,2) -> 0 | Q23: =N23+O23+P23 -> 0
A24: 2.3 | C24: Pārējie montāžas izstrādājumi | E24: kpl | F24: 1 | I24: =ROUND(G24*H24,2) -> 0 | L24: =I24+J24+K24 -> 0 | M24: =ROUND(F24*G24,2) -> 0 | N24: =ROUND(F24*I24,2) -> 0 | O24: =ROUND(F24*J24,2) -> 0 | P24: =ROUND(F24*K24,2) -> 0 | Q24: =N24+O24+P24 -> 0
A25: 3 | C25: Instalācijas materiāli
A26: 3.1 | C26: 1-polu slēdzis z/a, 10A, IP20 | E26: gb | F26: 1 | I26: =ROUND(G26*H26,2) -> 0 | L26: =I26+J26+K26 -> 0 | M26: =ROUND(F26*G26,2) -> 0 | N26: =ROUND(F26*I26,2) -> 0 | O26: =ROUND(F26*J26,2) -> 0 | P26: =ROUND(F26*K26,2) -> 0 | Q26: =N26+O26+P26 -> 0
A27: 3.2 | C27: Sienas DALI dimmēšanas panelis, divpogu | D27: DALI Touch DA2 | E27: gb | F27: 3 | I27: =ROUND(G27*H27,2) -> 0 | L27: =I27+J27+K27 -> 0 | M27: =ROUND(F27*G27,2) -> 0 | N27: =ROUND(F27*I27,2) -> 0 | O27: =ROUND(F27*J27,2) -> 0 | P27: =ROUND(F27*K27,2) -> 0 | Q27: =N27+O27+P27 -> 0
A28: 3.3 | C28: Klātbūtnes sensors | E28: gb | F28: 5 | I28: =ROUND(G28*H28,2) -> 0 | L28: =I28+J28+K28 -> 0 | M28: =ROUND(F28*G28,2) -> 0 | N28: =ROUND(F28*I28,2) -> 0 | O28: =ROUND(F28*J28,2) -> 0 | P28: =ROUND(F28*K28,2) -> 0 | Q28: =N28+O28+P28 -> 0
A29: 3.4 | C29: Pārējie montāžas izstrādājumi | E29: kpl | F29: 1 | I29: =ROUND(G29*H29,2) -> 0 | L29: =I29+J29+K29 -> 0 | M29: =ROUND(F29*G29,2) -> 0 | N29: =ROUND(F29*I29,2) -> 0 | O29: =ROUND(F29*J29,2) -> 0 | P29: =ROUND(F29*K29,2) -> 0 | Q29: =N29+O29+P29 -> 0
A30: 4 | C30: Apgaismojuma iekšējie elektroapgādes tīkli
A31: 4.1 | C31: Iebūvejamais lineārais gaismeklis, 31W, 3200LM, ar DALI palaidēju, 4000K, IP20, L=2896mm | D31: Kalis 55 line RI LIN DPR, Intra lighting | E31: gb | F31: 8 | I31: =ROUND(G31*H31,2) -> 0 | L31: =I31+J31+K31 -> 0 | M31: =ROUND(F31*G31,2) -> 0 | N31: =ROUND(F31*I31,2) -> 0 | O31: =ROUND(F31*J31,2) -> 0 | P31: =ROUND(F31*K31,2) -> 0 | Q31: =N31+O31+P31 -> 0
A32: 4.2 | C32: Piekaramās sliedes gaismeklis, 20W, 2050LM, ar DALI palaidēju, 4000K | D32: Eye T 80 2050 lm 20 W 940 DALI L34° IP40 black, Intra lighting | E32: gb | F32: 40 | I32: =ROUND(G32*H32,2) -> 0 | L32: =I32+J32+K32 -> 0 | M32: =ROUND(F32*G32,2) -> 0 | N32: =ROUND(F32*I32,2) -> 0 | O32: =ROUND(F32*J32,2) -> 0 | P32: =ROUND(F32*K32,2) -> 0 | Q32: =N32+O32+P32 -> 0
A33: 4.3 | C33: Griestu gaismeklis, 9.5W, 1006lm, ar HF palaidēju, IP44, D200, IK04, 3000K | D33: Crux LED1x1100 E307 T830 OP | E33: gb | F33: 15 | I33: =ROUND(G33*H33,2) -> 0 | L33: =I33+J33+K33 -> 0 | M33: =ROUND(F33*G33,2) -> 0 | N33: =ROUND(F33*I33,2) -> 0 | O33: =ROUND(F33*J33,2) -> 0 | P33: =ROUND(F33*K33,2) -> 0 | Q33: =N33+O33+P33 -> 0
A34: 4.4 | C34: Griestu/sienas gaismeklis, 33W, 5094LM, ar HF palaidēju, 3000K IP66, IK10 | D34: Northcliffe Barat LED1x5400 G244 T830 PCPC OP LT80 | E34: gb | F34: 3 | I34: =ROUND(G34*H34,2) -> 0 | L34: =I34+J34+K34 -> 0 | M34: =ROUND(F34*G34,2) -> 0 | N34: =ROUND(F34*I34,2) -> 0 | O34: =ROUND(F34*J34,2) -> 0 | P34: =ROUND(F34*K34,2) -> 0 | Q34: =N34+O34+P34 -> 0
A35: 4.5 | C35: Fasādes gaismeklis, 14.3W, 1092lm, ar HF palaidēju, IP65, 3000K | D35: Northcliffe Eta M LED1x1200 D036 T830 | E35: gb | F35: 1 | I35: =ROUND(G35*H35,2) -> 0 | L35: =I35+J35+K35 -> 0 | M35: =ROUND(F35*G35,2) -> 0 | N35: =ROUND(F35*I35,2) -> 0 | O35: =ROUND(F35*J35,2) -> 0 | P35: =ROUND(F35*K35,2) -> 0 | Q35: =N35+O35+P35 -> 0
A36: 4.6 | C36: Prožektors, 8W, 990lm, ar HF palaidēju, IP65, IK10, 4000K | D36: Vizulo Robin | E36: gb | F36: 7 | I36: =ROUND(G36*H36,2) -> 0 | L36: =I36+J36+K36 -> 0 | M36: =ROUND(F36*G36,2) -> 0 | N36: =ROUND(F36*I36,2) -> 0 | O36: =ROUND(F36*J36,2) -> 0 | P36: =ROUND(F36*K36,2) -> 0 | Q36: =N36+O36+P36 -> 0
A37: 4.7 | C37: Virziena rādītājs ar LED spuldzēm, 1W, HF palaidēju, IP41, IK03, avārijas | D37: Northcliffe Taurus 1HLED G05 Deluxem | E37: gb | F37: 3 | I37: =ROUND(G37*H37,2) -> 0 | L37: =I37+J37+K37 -> 0 | M37: =ROUND(F37*G37,2) -> 0 | N37: =ROUND(F37*I37,2) -> 0 | O37: =ROUND(F37*J37,2) -> 0 | P37: =ROUND(F37*K37,2) -> 0 | Q37: =N37+O37+P37 -> 0
A38: 4.8 | C38: Avārijas gaismeklis 2.2W, IP41, 288lm | D38: GuideLed SL 13012.1 CG-S | E38: gb | F38: 3 | I38: =ROUND(G38*H38,2) -> 0 | L38: =I38+J38+K38 -> 0 | M38: =ROUND(F38*G38,2) -> 0 | N38: =ROUND(F38*I38,2) -> 0 | O38: =ROUND(F38*J38,2) -> 0 | P38: =ROUND(F38*K38,2) -> 0 | Q38: =N38+O38+P38 -> 0
A39: 4.9 | C39: Akumulātors avarijas gaismeklim, 3h | E39: gb | F39: 6 | I39: =ROUND(G39*H39,2) -> 0 | L39: =I39+J39+K39 -> 0 | M39: =ROUND(F39*G39,2) -> 0 | N39: =ROUND(F39*I39,2) -> 0 | O39: =ROUND(F39*J39,2) -> 0 | P39: =ROUND(F39*K39,2) -> 0 | Q39: =N39+O39+P39 -> 0
A40: 4.10 | C40: Pārējie montāžas izstrādājumi | E40: kpl | F40: 1 | I40: =ROUND(G40*H40,2) -> 0 | L40: =I40+J40+K40 -> 0 | M40: =ROUND(F40*G40,2) -> 0 | N40: =ROUND(F40*I40,2) -> 0 | O40: =ROUND(F40*J40,2) -> 0 | P40: =ROUND(F40*K40,2) -> 0 | Q40: =N40+O40+P40 -> 0
A41: 4.11. | C41: Gaismekļu sliede ar stiprinājumiem | D41: Intra lighting Eye T black | E41: m | F41: 60 | I41: =ROUND(G41*H41,2) -> 0 | L41: =I41+J41+K41 -> 0 | M41: =ROUND(F41*G41,2) -> 0 | N41: =ROUND(F41*I41,2) -> 0 | O41: =ROUND(F41*J41,2) -> 0 | P41: =ROUND(F41*K41,2) -> 0 | Q41: =N41+O41+P41 -> 0
A42: 5 | C42: Kabeļi, aizsargcaurules un apsildes materiāli.
A43: 5.1 | C43: Kabelis ar vara dzīslām 2x1,5mm2 | D43: XPJ-HF | E43: m | F43: 200 | I43: =ROUND(G43*H43,2) -> 0 | L43: =I43+J43+K43 -> 0 | M43: =ROUND(F43*G43,2) -> 0 | N43: =ROUND(F43*I43,2) -> 0 | O43: =ROUND(F43*J43,2) -> 0 | P43: =ROUND(F43*K43,2) -> 0 | Q43: =N43+O43+P43 -> 0
A44: 5.2 | C44: Kabelis ar vara dzīslām 3x1,5mm2 | D44: XPJ-HF | E44: m | F44: 600 | I44: =ROUND(G44*H44,2) -> 0 | L44: =I44+J44+K44 -> 0 | M44: =ROUND(F44*G44,2) -> 0 | N44: =ROUND(F44*I44,2) -> 0 | O44: =ROUND(F44*J44,2) -> 0 | P44: =ROUND(F44*K44,2) -> 0 | Q44: =N44+O44+P44 -> 0
A45: 5.3 | C45: Kabelis ar vara dzīslām 3x2,5mm2 | D45: XPJ-HF | E45: m | F45: 800 | I45: =ROUND(G45*H45,2) -> 0 | L45: =I45+J45+K45 -> 0 | M45: =ROUND(F45*G45,2) -> 0 | N45: =ROUND(F45*I45,2) -> 0 | O45: =ROUND(F45*J45,2) -> 0 | P45: =ROUND(F45*K45,2) -> 0 | Q45: =N45+O45+P45 -> 0
A46: 5.4 | C46: Kabelis ar vara dzīslām 5x2,5mm2 | D46: XPJ-HF | E46: m | F46: 300 | I46: =ROUND(G46*H46,2) -> 0 | L46: =I46+J46+K46 -> 0 | M46: =ROUND(F46*G46,2) -> 0 | N46: =ROUND(F46*I46,2) -> 0 | O46: =ROUND(F46*J46,2) -> 0 | P46: =ROUND(F46*K46,2) -> 0 | Q46: =N46+O46+P46 -> 0
A47: 5.5 | C47: Kabelis ar vara dzīslām 5x10mm2 | D47: XPJ-HF | E47: m | F47: 100 | I47: =ROUND(G47*H47,2) -> 0 | L47: =I47+J47+K47 -> 0 | M47: =ROUND(F47*G47,2) -> 0 | N47: =ROUND(F47*I47,2) -> 0 | O47: =ROUND(F47*J47,2) -> 0 | P47: =ROUND(F47*K47,2) -> 0 | Q47: =N47+O47+P47 -> 0
A48: 5.6 | C48: Montažas vads- dzeltenzaļš 1x6mm2 | E48: m | F48: 500 | I48: =ROUND(G48*H48,2) -> 0 | L48: =I48+J48+K48 -> 0 | M48: =ROUND(F48*G48,2) -> 0 | N48: =ROUND(F48*I48,2) -> 0 | O48: =ROUND(F48*J48,2) -> 0 | P48: =ROUND(F48*K48,2) -> 0 | Q48: =N48+O48+P48 -> 0
A49: 5.7 | C49: Plastmasas caurule, PVC 20 | D49: PVC 20 | E49: m | F49: 600 | I49: =ROUND(G49*H49,2) -> 0 | L49: =I49+J49+K49 -> 0 | M49: =ROUND(F49*G49,2) -> 0 | N49: =ROUND(F49*I49,2) -> 0 | O49: =ROUND(F49*J49,2) -> 0 | P49: =ROUND(F49*K49,2) -> 0 | Q49: =N49+O49+P49 -> 0
A50: 5.8 | C50: Plastmasas caurule, PVC 25 | D50: PVC 25 | E50: m | F50: 700 | I50: =ROUND(G50*H50,2) -> 0 | L50: =I50+J50+K50 -> 0 | M50: =ROUND(F50*G50,2) -> 0 | N50: =ROUND(F50*I50,2) -> 0 | O50: =ROUND(F50*J50,2) -> 0 | P50: =ROUND(F50*K50,2) -> 0 | Q50: =N50+O50+P50 -> 0
A51: 5.9 | C51: Plastmasas caurule, PVC 32 | D51: PVC 32 | E51: m | F51: 100 | I51: =ROUND(G51*H51,2) -> 0 | L51: =I51+J51+K51 -> 0 | M51: =ROUND(F51*G51,2) -> 0 | N51: =ROUND(F51*I51,2) -> 0 | O51: =ROUND(F51*J51,2) -> 0 | P51: =ROUND(F51*K51,2) -> 0 | Q51: =N51+O51+P51 -> 0
A52: 5.10 | C52: Pārējie montāžas izstrādājumi | E52: kpl | F52: 1 | I52: =ROUND(G52*H52,2) -> 0 | L52: =I52+J52+K52 -> 0 | M52: =ROUND(F52*G52,2) -> 0 | N52: =ROUND(F52*I52,2) -> 0 | O52: =ROUND(F52*J52,2) -> 0 | P52: =ROUND(F52*K52,2) -> 0 | Q52: =N52+O52+P52 -> 0
A53: 6 | C53: Kabeļu plaukti, trepes un renes
A54: 6.1 | C54: Ugunsdrošās montāžas putas CFS-F FX | D54: Tilpums 325ml | E54: gb | F54: 3 | I54: =ROUND(G54*H54,2) -> 0 | L54: =I54+J54+K54 -> 0 | M54: =ROUND(F54*G54,2) -> 0 | N54: =ROUND(F54*I54,2) -> 0 | O54: =ROUND(F54*J54,2) -> 0 | P54: =ROUND(F54*K54,2) -> 0 | Q54: =N54+O54+P54 -> 0
A55: 6.2 | C55: Pārējie montāžas izstrādājumi | E55: kpl | F55: 1 | I55: =ROUND(G55*H55,2) -> 0 | L55: =I55+J55+K55 -> 0 | M55: =ROUND(F55*G55,2) -> 0 | N55: =ROUND(F55*I55,2) -> 0 | O55: =ROUND(F55*J55,2) -> 0 | P55: =ROUND(F55*K55,2) -> 0 | Q55: =N55+O55+P55 -> 0
A56: TIEŠĀS IZMAKSAS KOPĀ, t. sk. darba devēja sociālais nodoklis (%) | M56: =SUM(M16:M55) -> 0 | N56: =SUM(N16:N55) -> 0 | O56: =SUM(O16:O55) -> 0 | P56: =SUM(P16:P55) -> 0 | Q56: =SUM(Q16:Q55) -> 0
A58: Piezīmes.
A59: 1. Būvuzņēmējam jāievērtē darbu apjomu sarakstā minēto darbu veikšanai nepieciešamie materiāli un papildus darbi, kas nav minēti šajā sarakstā, bet bez
A60: kuriem nebūtu iespējama būvdarbu tehnoloģiski pareiza un spēkā esošiem normatīviem atbilstoša veikšana pilnā apmērā.
A61: 2. Darbu apjomu sarakstu skatīt kopā ar rasējumiem un specifikācijām. Gadījumā, ja darbu apjomi nesakrīt ar rasējumiem vai specifikācijām, par pareiziem
A62: jāuzskata rasējumos esošie darbu apjomi.
A63: 3. Atsevišķu materiālu apjomi doti bez rezerves.
A64: 4. Tāmēs ietvertos konkrēto ražotāju materiālus un izstrādājumus var aizvietot ar analogiem citu ražotāju materiāliem un izstrādājumiem, saskaņojot ar Arhitektu un Pasūtītāju.
D66: Sastādīja: | E66: =IF(KOPTĀME!B23=0,"",KOPTĀME!B23)
E67: (paraksts un tā atšifrējums, amats, uzņēmuma nosaukums, datums)
D69: Tāme sastādīta: | E69: =IF(KOPTĀME!B28=0,"",KOPTĀME!B28)
D71: Pārbaudīja: | E71: =IF(Kopsav.!C45=0,"",Kopsav.!C45)
E72: (paraksts un tā atšifrējums, amats, uzņēmuma nosaukums, datums)
D74: Sertifikāta Nr.: | E74: =IF(KOPTĀME!B26=0,"",KOPTĀME!B26)

Sheet 2-5_UATS
P1: 03.05.2017. MK noteikumu Nr.239 5.pielikums
C2: LOKĀLĀ TĀME Nr. | D2: 2-5
A3: AUTOMĀTISKĀ UGUNSGRĒKA ATKLĀŠANAS UN TRAUKSMES SIGNALIZĀCIJAS SISTĒMA
A4: (būvdarbu veids vai konstruktīvā elementa nosaukums)
A5: =Kopsav.!A7:I7 -> Objekta nosaukums: Ēkas Miera ielā 58a (kad. Nr. 0100 026 0092 005) un Ēkas Miera ielā 58a (kad. Nr. 0100 026 2024 005), Rīga daļas pārbūve Kino muzeja vajadzībām
A6: =KOPTĀME!A12 -> Būves nosaukums: Darbnīca, Teātris
A7: =KOPTĀME!A13 -> Objekta adrese: Miera ielā 58a, Rīga
A8: =KOPTĀME!A14 -> Pasūtījuma Nr. LKA 2026/14
A10: Tāme sastādīta 2026.gada tirgus cenās, pamatojoties uz UATS daļas rasējumiem.
M11: Tāmes izmaksas | N11: =P30 -> 0 | P11: euro
M12: Tāme sastādīta | N12: =IF(KOPTĀME!B28=0,"",KOPTĀME!B28)
A14: Nr.p.k. | B14: Kods | C14: Būvdarbu nosaukums | D14: Mērvienība | E14: Daudzums | F14: Vienības izmaksas | L14: Kopā uz visu apjomu
F15: laika norma (c/h) | G15: darba samaksas likme* (euro/h) | H15: darba alga | I15: būvizstrādājumi | J15: mehānismi | K15: kopā | L15: darbietilpība (c/h) | M15: darba alga | N15: būvizstrādājumi | O15: mehānismi | P15: summa
A16: 1 | C16: EDI -20 Optiskais adrešu dūmu detektors | D16: gb | E16: 10 | H16: =ROUND(F16*G16,2) -> 0 | K16: =H16+I16+J16 -> 0 | L16: =ROUND(E16*F16,2) -> 0 | M16: =ROUND(E16*H16,2) -> 0 | N16: =ROUND(E16*I16,2) -> 0 | O16: =ROUND(E16*J16,2) -> 0 | P16: =M16+N16+O16 -> 0
A17: 2 | C17: EBI-11 detektoru bāze ar izolātoru | D17: gb | E17: 2 | H17: =ROUND(F17*G17,2) -> 0 | K17: =H17+I17+J17 -> 0 | L17: =ROUND(E17*F17,2) -> 0 | M17: =ROUND(E17*H17,2) -> 0 | N17: =ROUND(E17*I17,2) -> 0 | O17: =ROUND(E17*J17,2) -> 0 | P17: =M17+N17+O17 -> 0
A18: 3 | C18: EBI-12 detektoru bāze | D18: gb | E18: 8 | H18: =ROUND(F18*G18,2) -> 0 | K18: =H18+I18+J18 -> 0 | L18: =ROUND(E18*F18,2) -> 0 | M18: =ROUND(E18*H18,2) -> 0 | N18: =ROUND(E18*I18,2) -> 0 | O18: =ROUND(E18*J18,2) -> 0 | P18: =M18+N18+O18 -> 0
A19: 4 | C19: ECE-221 Adrešu rokas dektors ar montāžas kārbu un izolatoru | D19: gb | E19: 2 | H19: =ROUND(F19*G19,2) -> 0 | K19: =H19+I19+J19 -> 0 | L19: =ROUND(E19*F19,2) -> 0 | M19: =ROUND(E19*H19,2) -> 0 | N19: =ROUND(E19*I19,2) -> 0 | O19: =ROUND(E19*J19,2) -> 0 | P19: =M19+N19+O19 -> 0
A20: 5 | C20: EME212-I Ieejas un izejas modulis ar izolatoru | D20: gb | E20: 1 | H20: =ROUND(F20*G20,2) -> 0 | K20: =H20+I20+J20 -> 0 | L20: =ROUND(E20*F20,2) -> 0 | M20: =ROUND(E20*H20,2) -> 0 | N20: =ROUND(E20*I20,2) -> 0 | O20: =ROUND(E20*J20,2) -> 0 | P20: =M20+N20+O20 -> 0
A21: 6 | C21: Kabelis JE H(St)H 180/E30 1x2x0,8+0.8 detektoru cilpai | D21: m | E21: 275 | H21: =ROUND(F21*G21,2) -> 0 | K21: =H21+I21+J21 -> 0 | L21: =ROUND(E21*F21,2) -> 0 | M21: =ROUND(E21*H21,2) -> 0 | N21: =ROUND(E21*I21,2) -> 0 | O21: =ROUND(E21*J21,2) -> 0 | P21: =M21+N21+O21 -> 0
A22: 7 | C22: Kabelis JE H(St)H 180/E30 1x2x0.8+0.8 adrešu moduļu pieslēgumiem | D22: m | E22: 20 | H22: =ROUND(F22*G22,2) -> 0 | K22: =H22+I22+J22 -> 0 | L22: =ROUND(E22*F22,2) -> 0 | M22: =ROUND(E22*H22,2) -> 0 | N22: =ROUND(E22*I22,2) -> 0 | O22: =ROUND(E22*J22,2) -> 0 | P22: =M22+N22+O22 -> 0
A23: 8 | C23: LSZH Aizsargcaurules 16/20/25 mm | D23: m | E23: 130 | H23: =ROUND(F23*G23,2) -> 0 | K23: =H23+I23+J23 -> 0 | L23: =ROUND(E23*F23,2) -> 0 | M23: =ROUND(E23*H23,2) -> 0 | N23: =ROUND(E23*I23,2) -> 0 | O23: =ROUND(E23*J23,2) -> 0 | P23: =M23+N23+O23 -> 0
A24: 9 | C24: Stirpinājumi atbilstoši ugunsdrošības klasei E30 (100gb.) | D24: kpl | E24: 8 | H24: =ROUND(F24*G24,2) -> 0 | K24: =H24+I24+J24 -> 0 | L24: =ROUND(E24*F24,2) -> 0 | M24: =ROUND(E24*H24,2) -> 0 | N24: =ROUND(E24*I24,2) -> 0 | O24: =ROUND(E24*J24,2) -> 0 | P24: =M24+N24+O24 -> 0
A25: 10 | C25: Ugunsdrošais materiāls starpsienu caurumu aizpildīšanai | D25: kpl | E25: 2 | H25: =ROUND(F25*G25,2) -> 0 | K25: =H25+I25+J25 -> 0 | L25: =ROUND(E25*F25,2) -> 0 | M25: =ROUND(E25*H25,2) -> 0 | N25: =ROUND(E25*I25,2) -> 0 | O25: =ROUND(E25*J25,2) -> 0 | P25: =M25+N25+O25 -> 0
A26: 11 | C26: Montāžas kārbas E30 klase (1-6) spailes | D26: kpl | E26: 2 | H26: =ROUND(F26*G26,2) -> 0 | K26: =H26+I26+J26 -> 0 | L26: =ROUND(E26*F26,2) -> 0 | M26: =ROUND(E26*H26,2) -> 0 | N26: =ROUND(E26*I26,2) -> 0 | O26: =ROUND(E26*J26,2) -> 0 | P26: =M26+N26+O26 -> 0
A27: 12 | C27: Instalācijas palīgmateriāli | D27: kpl | E27: 1 | H27: =ROUND(F27*G27,2) -> 0 | K27: =H27+I27+J27 -> 0 | L27: =ROUND(E27*F27,2) -> 0 | M27: =ROUND(E27*H27,2) -> 0 | N27: =ROUND(E27*I27,2) -> 0 | O27: =ROUND(E27*J27,2) -> 0 | P27: =M27+N27+O27 -> 0
... A29: 14 | C29: UATS sistēmas programēšana un konfigurēšana. | D29: kpl | E29: 1 | H29: =ROUND(F29*G29,2) -> 0 | K29: =H29+I29+J29 -> 0 | L29: =ROUND(E29*F29,2) -> 0 | M29: =ROUND(E29*H29,2) -> 0 | N29: =ROUND(E29*I29,2) -> 0 | O29: =ROUND(E29*J29,2) -> 0 | P29: =M29+N29+O29 -> 0
A30: TIEŠĀS IZMAKSAS KOPĀ, t. sk. darba devēja sociālais nodoklis (%) | L30: =SUM(L16:L29) -> 0 | M30: =SUM(M16:M29) -> 0 | N30: =SUM(N16:N29) -> 0 | O30: =SUM(O16:O29) -> 0 | P30: =SUM(P16:P29) -> 0
A32: Piezīmes.
A33: 1. Būvuzņēmējam jāievērtē darbu apjomu sarakstā minēto darbu veikšanai nepieciešamie materiāli un papildus darbi, kas nav minēti šajā sarakstā, bet bez
A34: kuriem nebūtu iespējama būvdarbu tehnoloģiski pareiza un spēkā esošiem normatīviem atbilstoša veikšana pilnā apmērā.
A35: 2. Darbu apjomu sarakstu skatīt kopā ar rasējumiem un specifikācijām. Gadījumā, ja darbu apjomi nesakrīt ar rasējumiem vai specifikācijām, par pareiziem
A36: jāuzskata rasējumos esošie darbu apjomi.
A37: 3. Atsevišķu materiālu apjomi doti bez rezerves.
A38: 4. Tāmēs ietvertos konkrēto ražotāju materiālus un izstrādājumus var aizvietot ar analogiem citu ražotāju materiāliem un izstrādājumiem, saskaņojot ar Arhitektu un Pasūtītāju.
C40: Sastādīja: | D40: =IF(KOPTĀME!B23=0,"",KOPTĀME!B23)
D41: (paraksts un tā atšifrējums, amats, uzņēmuma nosaukums, datums)
C43: Tāme sastādīta: | D43: =IF(KOPTĀME!B28=0,"",KOPTĀME!B28)
C45: Pārbaudīja: | D45: =IF(Kopsav.!C45=0,"",Kopsav.!C45)
D46: (paraksts un tā atšifrējums, amats, uzņēmuma nosaukums, datums)
C48: Sertifikāta Nr.: | D48: =IF(KOPTĀME!B26=0,"",KOPTĀME!B26)

Sheet 2-6_ESS-TK,VN
P1: 03.05.2017. MK noteikumu Nr.239 5.pielikums
C2: LOKĀLĀ TĀME Nr. | D2: 2-6
A3: ELEKTRONISKO SAKARU SISTĒMAS-DATU TĪKLS UN VIDEONOVĒROŠANA
A4: (būvdarbu veids vai konstruktīvā elementa nosaukums)
A5: =Kopsav.!A7:I7 -> Objekta nosaukums: Ēkas Miera ielā 58a (kad. Nr. 0100 026 0092 005) un Ēkas Miera ielā 58a (kad. Nr. 0100 026 2024 005), Rīga daļas pārbūve Kino muzeja vajadzībām
A6: =KOPTĀME!A12 -> Būves nosaukums: Darbnīca, Teātris
A7: =KOPTĀME!A13 -> Objekta adrese: Miera ielā 58a, Rīga
A8: =KOPTĀME!A14 -> Pasūtījuma Nr. LKA 2026/14
A10: Tāme sastādīta 2026.gada tirgus cenās, pamatojoties uz ESS-TK, ESS-VN daļas rasējumiem.
M11: Tāmes izmaksas | N11: =P61 -> 0 | P11: euro
M12: Tāme sastādīta | N12: =IF(KOPTĀME!B28=0,"",KOPTĀME!B28)
A14: Nr.p.k. | B14: Kods | C14: Būvdarbu nosaukums | D14: Mērvienība | E14: Daudzums | F14: Vienības izmaksas | L14: Kopā uz visu apjomu
F15: laika norma (c/h) | G15: darba samaksas likme* (euro/h) | H15: darba alga | I15: būvizstrādājumi | J15: mehānismi | K15: kopā | L15: darbietilpība (c/h) | M15: darba alga | N15: būvizstrādājumi | O15: mehānismi | P15: summa
A16: 1 | C16: Datu tīkls
A17: 1.1 | C17: Komutācijas (datortīkla) skapis 19", ietilpība – ne mazāka kā 22U (600x600x1082) | D17: kpl | E17: 1 | H17: =ROUND(F17*G17,2) -> 0 | K17: =H17+I17+J17 -> 0 | L17: =ROUND(E17*F17,2) -> 0 | M17: =ROUND(E17*H17,2) -> 0 | N17: =ROUND(E17*I17,2) -> 0 | O17: =ROUND(E17*J17,2) -> 0 | P17: =M17+N17+O17 -> 0
A18: 1.2 | C18: Ventilatoru bloks ar termostatu | D18: kpl | E18: 1 | H18: =ROUND(F18*G18,2) -> 0 | K18: =H18+I18+J18 -> 0 | L18: =ROUND(E18*F18,2) -> 0 | M18: =ROUND(E18*H18,2) -> 0 | N18: =ROUND(E18*I18,2) -> 0 | O18: =ROUND(E18*J18,2) -> 0 | P18: =M18+N18+O18 -> 0
A19: 1.3 | C19: Zemējuma klemme komutācijas skapim | D19: gb | E19: 1 | H19: =ROUND(F19*G19,2) -> 0 | K19: =H19+I19+J19 -> 0 | L19: =ROUND(E19*F19,2) -> 0 | M19: =ROUND(E19*H19,2) -> 0 | N19: =ROUND(E19*I19,2) -> 0 | O19: =ROUND(E19*J19,2) -> 0 | P19: =M19+N19+O19 -> 0
A20: 1.4 | C20: Skrūves - uzgriežņi M6 (komutācijas skapim) | D20: kpl | E20: 5 | H20: =ROUND(F20*G20,2) -> 0 | K20: =H20+I20+J20 -> 0 | L20: =ROUND(E20*F20,2) -> 0 | M20: =ROUND(E20*H20,2) -> 0 | N20: =ROUND(E20*I20,2) -> 0 | O20: =ROUND(E20*J20,2) -> 0 | P20: =M20+N20+O20 -> 0
A21: 1.5 | C21: Zemējuma vads Cu 1x16mm | D21: m | E21: 10 | H21: =ROUND(F21*G21,2) -> 0 | K21: =H21+I21+J21 -> 0 | L21: =ROUND(E21*F21,2) -> 0 | M21: =ROUND(E21*H21,2) -> 0 | N21: =ROUND(E21*I21,2) -> 0 | O21: =ROUND(E21*J21,2) -> 0 | P21: =M21+N21+O21 -> 0
A22: 1.6 | C22: FO panelis ne mazāk kā 24portu Duplex SM | D22: kpl | E22: 1 | H22: =ROUND(F22*G22,2) -> 0 | K22: =H22+I22+J22 -> 0 | L22: =ROUND(E22*F22,2) -> 0 | M22: =ROUND(E22*H22,2) -> 0 | N22: =ROUND(E22*I22,2) -> 0 | O22: =ROUND(E22*J22,2) -> 0 | P22: =M22+N22+O22 -> 0
A23: 1.7 | C23: Pigtail FO SM | D23: gb | E23: 12 | H23: =ROUND(F23*G23,2) -> 0 | K23: =H23+I23+J23 -> 0 | L23: =ROUND(E23*F23,2) -> 0 | M23: =ROUND(E23*H23,2) -> 0 | N23: =ROUND(E23*I23,2) -> 0 | O23: =ROUND(E23*J23,2) -> 0 | P23: =M23+N23+O23 -> 0
A24: 1.8 | C24: Kapleris Duplex | D24: gb | E24: 6 | H24: =ROUND(F24*G24,2) -> 0 | K24: =H24+I24+J24 -> 0 | L24: =ROUND(E24*F24,2) -> 0 | M24: =ROUND(E24*H24,2) -> 0 | N24: =ROUND(E24*I24,2) -> 0 | O24: =ROUND(E24*J24,2) -> 0 | P24: =M24+N24+O24 -> 0
A25: 1.9 | C25: Termocaurule 60mm | D25: gb | E25: 12 | H25: =ROUND(F25*G25,2) -> 0 | K25: =H25+I25+J25 -> 0 | L25: =ROUND(E25*F25,2) -> 0 | M25: =ROUND(E25*H25,2) -> 0 | N25: =ROUND(E25*I25,2) -> 0 | O25: =ROUND(E25*J25,2) -> 0 | P25: =M25+N25+O25 -> 0
A26: 1.10 | C26: Fo patch kords SM | D26: gb | E26: 6 | H26: =ROUND(F26*G26,2) -> 0 | K26: =H26+I26+J26 -> 0 | L26: =ROUND(E26*F26,2) -> 0 | M26: =ROUND(E26*H26,2) -> 0 | N26: =ROUND(E26*I26,2) -> 0 | O26: =ROUND(E26*J26,2) -> 0 | P26: =M26+N26+O26 -> 0
A27: 1.11 | C27: Ne mzāk kā 24 portu datortīkla savienotājpanelis U/UTP CAT6 vai augstāka kategorija RJ-45 1U | D27: gb | E27: 2 | H27: =ROUND(F27*G27,2) -> 0 | K27: =H27+I27+J27 -> 0 | L27: =ROUND(E27*F27,2) -> 0 | M27: =ROUND(E27*H27,2) -> 0 | N27: =ROUND(E27*I27,2) -> 0 | O27: =ROUND(E27*J27,2) -> 0 | P27: =M27+N27+O27 -> 0
A28: 1.12 | C28: Kabeļu organizātors horizontāls 1U | D28: gb | E28: 3 | H28: =ROUND(F28*G28,2) -> 0 | K28: =H28+I28+J28 -> 0 | L28: =ROUND(E28*F28,2) -> 0 | M28: =ROUND(E28*H28,2) -> 0 | N28: =ROUND(E28*I28,2) -> 0 | O28: =ROUND(E28*J28,2) -> 0 | P28: =M28+N28+O28 -> 0
... A51: 1.35 | C51: Stiprinājumi ( kabeļiem, aizsargcaurulēm) (100 gab.) | D51: kpl | E51: 70 | H51: =ROUND(F51*G51,2) -> 0 | K51: =H51+I51+J51 -> 0 | L51: =ROUND(E51*F51,2) -> 0 | M51: =ROUND(E51*H51,2) -> 0 | N51: =ROUND(E51*I51,2) -> 0 | O51: =ROUND(E51*J51,2) -> 0 | P51: =M51+N51+O51 -> 0
A52: 2 | C52: Videonovērošanas tīkls
A53: 2.1 | C53: IP kamera DS-2CD2187G2H-LISU vismaz 8MP f2.8mm dome balta | D53: gb | E53: 11 | H53: =ROUND(F53*G53,2) -> 0 | K53: =H53+I53+J53 -> 0 | L53: =ROUND(E53*F53,2) -> 0 | M53: =ROUND(E53*H53,2) -> 0 | N53: =ROUND(E53*I53,2) -> 0 | O53: =ROUND(E53*J53,2) -> 0 | P53: =M53+N53+O53 -> 0
A54: 2.2 | C54: Sienas kronšteins DS-1272ZJ-120 ārējām video kamerām | D54: gb | E54: 2 | H54: =ROUND(F54*G54,2) -> 0 | K54: =H54+I54+J54 -> 0 | L54: =ROUND(E54*F54,2) -> 0 | M54: =ROUND(E54*H54,2) -> 0 | N54: =ROUND(E54*I54,2) -> 0 | O54: =ROUND(E54*J54,2) -> 0 | P54: =M54+N54+O54 -> 0
A55: 2.3 | C55: Videoieraksta iekārta NVR DS-7616NXI-K2 16-ch 2xHDD sloti | D55: gb | E55: 1 | H55: =ROUND(F55*G55,2) -> 0 | K55: =H55+I55+J55 -> 0 | L55: =ROUND(E55*F55,2) -> 0 | M55: =ROUND(E55*H55,2) -> 0 | N55: =ROUND(E55*I55,2) -> 0 | O55: =ROUND(E55*J55,2) -> 0 | P55: =M55+N55+O55 -> 0
A56: 2.4 | C56: Cietais disks vismaz 6TB | D56: gb | E56: 2 | H56: =ROUND(F56*G56,2) -> 0 | K56: =H56+I56+J56 -> 0 | L56: =ROUND(E56*F56,2) -> 0 | M56: =ROUND(E56*H56,2) -> 0 | N56: =ROUND(E56*I56,2) -> 0 | O56: =ROUND(E56*J56,2) -> 0 | P56: =M56+N56+O56 -> 0
A57: 2.5 | C57: Pārsprieguma aizsardzība ārējām video kamerām | D57: gb | E57: 2 | H57: =ROUND(F57*G57,2) -> 0 | K57: =H57+I57+J57 -> 0 | L57: =ROUND(E57*F57,2) -> 0 | M57: =ROUND(E57*H57,2) -> 0 | N57: =ROUND(E57*I57,2) -> 0 | O57: =ROUND(E57*J57,2) -> 0 | P57: =M57+N57+O57 -> 0
A58: 2.6 | C58: Kabelis CAT6 vai augstāka kategorija U/UTP 4x2x23AWG LSZH | D58: m | E58: 610 | H58: =ROUND(F58*G58,2) -> 0 | K58: =H58+I58+J58 -> 0 | L58: =ROUND(E58*F58,2) -> 0 | M58: =ROUND(E58*H58,2) -> 0 | N58: =ROUND(E58*I58,2) -> 0 | O58: =ROUND(E58*J58,2) -> 0 | P58: =M58+N58+O58 -> 0
A59: 2.7 | C59: Aizsargcaurules 16/20/25/32 mm LSZH | D59: m | E59: 300 | H59: =ROUND(F59*G59,2) -> 0 | K59: =H59+I59+J59 -> 0 | L59: =ROUND(E59*F59,2) -> 0 | M59: =ROUND(E59*H59,2) -> 0 | N59: =ROUND(E59*I59,2) -> 0 | O59: =ROUND(E59*J59,2) -> 0 | P59: =M59+N59+O59 -> 0
A60: 2.8 | C60: Stiprinājumi ( kabeļiem, aizsargcaurulēm) (100 gab.) | D60: kpl | E60: 18 | H60: =ROUND(F60*G60,2) -> 0 | K60: =H60+I60+J60 -> 0 | L60: =ROUND(E60*F60,2) -> 0 | M60: =ROUND(E60*H60,2) -> 0 | N60: =ROUND(E60*I60,2) -> 0 | O60: =ROUND(E60*J60,2) -> 0 | P60: =M60+N60+O60 -> 0
A61: TIEŠĀS IZMAKSAS KOPĀ, t. sk. darba devēja sociālais nodoklis (%) | L61: =SUM(L16:L60) -> 0 | M61: =SUM(M16:M60) -> 0 | N61: =SUM(N16:N60) -> 0 | O61: =SUM(O16:O60) -> 0 | P61: =SUM(P16:P60) -> 0
A63: Piezīmes.
A64: 1. Būvuzņēmējam jāievērtē darbu apjomu sarakstā minēto darbu veikšanai nepieciešamie materiāli un papildus darbi, kas nav minēti šajā sarakstā, bet bez
A65: kuriem nebūtu iespējama būvdarbu tehnoloģiski pareiza un spēkā esošiem normatīviem atbilstoša veikšana pilnā apmērā.
A66: 2. Darbu apjomu sarakstu skatīt kopā ar rasējumiem un specifikācijām. Gadījumā, ja darbu apjomi nesakrīt ar rasējumiem vai specifikācijām, par pareiziem
A67: jāuzskata rasējumos esošie darbu apjomi.
A68: 3. Atsevišķu materiālu apjomi doti bez rezerves.
A69: 4. Tāmēs ietvertos konkrēto ražotāju materiālus un izstrādājumus var aizvietot ar analogiem citu ražotāju materiāliem un izstrādājumiem, saskaņojot ar Arhitektu un Pasūtītāju.
C71: Sastādīja: | D71: =IF(KOPTĀME!B23=0,"",KOPTĀME!B23)
D72: (paraksts un tā atšifrējums, amats, uzņēmuma nosaukums, datums)
C74: Tāme sastādīta: | D74: =IF(KOPTĀME!B28=0,"",KOPTĀME!B28)
C76: Pārbaudīja: | D76: =IF(Kopsav.!C45=0,"",Kopsav.!C45)
D77: (paraksts un tā atšifrējums, amats, uzņēmuma nosaukums, datums)
C79: Sertifikāta Nr.: | D79: =IF(KOPTĀME!B26=0,"",KOPTĀME!B26)

Sheet 2-7_ESS-CI
P1: 03.05.2017. MK noteikumu Nr.239 5.pielikums
C2: LOKĀLĀ TĀME Nr. | D2: 2-7
A3: ELEKTRONISKO SAKARU SISTĒMAS-CENTRĀLĀ IZZIŅOŠANAS SISTĒMA
A4: (būvdarbu veids vai konstruktīvā elementa nosaukums)
A5: =Kopsav.!A7:I7 -> Objekta nosaukums: Ēkas Miera ielā 58a (kad. Nr. 0100 026 0092 005) un Ēkas Miera ielā 58a (kad. Nr. 0100 026 2024 005), Rīga daļas pārbūve Kino muzeja vajadzībām
A6: =KOPTĀME!A12 -> Būves nosaukums: Darbnīca, Teātris
A7: =KOPTĀME!A13 -> Objekta adrese: Miera ielā 58a, Rīga
A8: =KOPTĀME!A14 -> Pasūtījuma Nr. LKA 2026/14
A10: Tāme sastādīta 2026.gada tirgus cenās, pamatojoties uz ESS-CI daļas rasējumiem.
M11: Tāmes izmaksas | N11: =P27 -> 0 | P11: euro
M12: Tāme sastādīta | N12: =IF(KOPTĀME!B28=0,"",KOPTĀME!B28)
A14: Nr.p.k. | B14: Kods | C14: Būvdarbu nosaukums | D14: Mērvienība | E14: Daudzums | F14: Vienības izmaksas | L14: Kopā uz visu apjomu
F15: laika norma (c/h) | G15: darba samaksas likme* (euro/h) | H15: darba alga | I15: būvizstrādājumi | J15: mehānismi | K15: kopā | L15: darbietilpība (c/h) | M15: darba alga | N15: būvizstrādājumi | O15: mehānismi | P15: summa
A16: 1 | C16: Sienas akustiskais skaļrunis Bosch LB8-UM06E | D16: gb | E16: 7 | H16: =ROUND(F16*G16,2) -> 0 | K16: =H16+I16+J16 -> 0 | L16: =ROUND(E16*F16,2) -> 0 | M16: =ROUND(E16*H16,2) -> 0 | N16: =ROUND(E16*I16,2) -> 0 | O16: =ROUND(E16*J16,2) -> 0 | P16: =M16+N16+O16 -> 0
A17: 2 | C17: EVAC savienojuma konektors LBC 1256/00 | D17: gb | E17: 7 | H17: =ROUND(F17*G17,2) -> 0 | K17: =H17+I17+J17 -> 0 | L17: =ROUND(E17*F17,2) -> 0 | M17: =ROUND(E17*H17,2) -> 0 | N17: =ROUND(E17*I17,2) -> 0 | O17: =ROUND(E17*J17,2) -> 0 | P17: =M17+N17+O17 -> 0
A18: 3 | C18: Skaļruņu EOL elements PLN-1EOL | D18: gb | E18: 2 | H18: =ROUND(F18*G18,2) -> 0 | K18: =H18+I18+J18 -> 0 | L18: =ROUND(E18*F18,2) -> 0 | M18: =ROUND(E18*H18,2) -> 0 | N18: =ROUND(E18*I18,2) -> 0 | O18: =ROUND(E18*J18,2) -> 0 | P18: =M18+N18+O18 -> 0
A19: 4 | C19: Kabelis JE H(St)H 180/E30 1x2x0.8+0.8 skaļruņu līnijai | D19: m | E19: 170 | H19: =ROUND(F19*G19,2) -> 0 | K19: =H19+I19+J19 -> 0 | L19: =ROUND(E19*F19,2) -> 0 | M19: =ROUND(E19*H19,2) -> 0 | N19: =ROUND(E19*I19,2) -> 0 | O19: =ROUND(E19*J19,2) -> 0 | P19: =M19+N19+O19 -> 0
A20: 5 | C20: LSZH Aizsargcaurules 16/20/25 mm | D20: m | E20: 120 | H20: =ROUND(F20*G20,2) -> 0 | K20: =H20+I20+J20 -> 0 | L20: =ROUND(E20*F20,2) -> 0 | M20: =ROUND(E20*H20,2) -> 0 | N20: =ROUND(E20*I20,2) -> 0 | O20: =ROUND(E20*J20,2) -> 0 | P20: =M20+N20+O20 -> 0
A21: 6 | C21: Stirpinājumi atbilstoši ugunsdrošības klasei E30 (100gb.) | D21: kpl | E21: 5 | H21: =ROUND(F21*G21,2) -> 0 | K21: =H21+I21+J21 -> 0 | L21: =ROUND(E21*F21,2) -> 0 | M21: =ROUND(E21*H21,2) -> 0 | N21: =ROUND(E21*I21,2) -> 0 | O21: =ROUND(E21*J21,2) -> 0 | P21: =M21+N21+O21 -> 0
A22: 7 | C22: Ugunsdrošais materiāls starpsienu caurumu aizpildīšanai | D22: kpl | E22: 1 | H22: =ROUND(F22*G22,2) -> 0 | K22: =H22+I22+J22 -> 0 | L22: =ROUND(E22*F22,2) -> 0 | M22: =ROUND(E22*H22,2) -> 0 | N22: =ROUND(E22*I22,2) -> 0 | O22: =ROUND(E22*J22,2) -> 0 | P22: =M22+N22+O22 -> 0
A23: 8 | C23: Palīgmateriāli (skrūves, skavas, un citi montāžai nepieciešamie izstrādājumi) | D23: kpl | E23: 1 | H23: =ROUND(F23*G23,2) -> 0 | K23: =H23+I23+J23 -> 0 | L23: =ROUND(E23*F23,2) -> 0 | M23: =ROUND(E23*H23,2) -> 0 | N23: =ROUND(E23*I23,2) -> 0 | O23: =ROUND(E23*J23,2) -> 0 | P23: =M23+N23+O23 -> 0
A24: 9 | C24: Marķēšanas materiāli | D24: kpl | E24: 1 | H24: =ROUND(F24*G24,2) -> 0 | K24: =H24+I24+J24 -> 0 | L24: =ROUND(E24*F24,2) -> 0 | M24: =ROUND(E24*H24,2) -> 0 | N24: =ROUND(E24*I24,2) -> 0 | O24: =ROUND(E24*J24,2) -> 0 | P24: =M24+N24+O24 -> 0
A25: 10 | C25: ESS-CI sistēmas programēšana un konfigurēšana | D25: kpl | E25: 1 | H25: =ROUND(F25*G25,2) -> 0 | K25: =H25+I25+J25 -> 0 | L25: =ROUND(E25*F25,2) -> 0 | M25: =ROUND(E25*H25,2) -> 0 | N25: =ROUND(E25*I25,2) -> 0 | O25: =ROUND(E25*J25,2) -> 0 | P25: =M25+N25+O25 -> 0
A26: 11 | C26: Esošo skaļruņu EOL elementa PLN-1EOL demontāža | D26: kpl | E26: 2 | H26: =ROUND(F26*G26,2) -> 0 | K26: =H26+I26+J26 -> 0 | L26: =ROUND(E26*F26,2) -> 0 | M26: =ROUND(E26*H26,2) -> 0 | N26: =ROUND(E26*I26,2) -> 0 | O26: =ROUND(E26*J26,2) -> 0 | P26: =M26+N26+O26 -> 0
A27: TIEŠĀS IZMAKSAS KOPĀ, t. sk. darba devēja sociālais nodoklis (%) | L27: =SUM(L16:L26) -> 0 | M27: =SUM(M16:M26) -> 0 | N27: =SUM(N16:N26) -> 0 | O27: =SUM(O16:O26) -> 0 | P27: =SUM(P16:P26) -> 0
A29: Piezīmes.
A30: 1. Būvuzņēmējam jāievērtē darbu apjomu sarakstā minēto darbu veikšanai nepieciešamie materiāli un papildus darbi, kas nav minēti šajā sarakstā, bet bez
A31: kuriem nebūtu iespējama būvdarbu tehnoloģiski pareiza un spēkā esošiem normatīviem atbilstoša veikšana pilnā apmērā.
A32: 2. Darbu apjomu sarakstu skatīt kopā ar rasējumiem un specifikācijām. Gadījumā, ja darbu apjomi nesakrīt ar rasējumiem vai specifikācijām, par pareiziem
A33: jāuzskata rasējumos esošie darbu apjomi.
A34: 3. Atsevišķu materiālu apjomi doti bez rezerves.
A35: 4. Tāmēs ietvertos konkrēto ražotāju materiālus un izstrādājumus var aizvietot ar analogiem citu ražotāju materiāliem un izstrādājumiem, saskaņojot ar Arhitektu un Pasūtītāju.
C37: Sastādīja: | D37: =IF(KOPTĀME!B23=0,"",KOPTĀME!B23)
D38: (paraksts un tā atšifrējums, amats, uzņēmuma nosaukums, datums)
C40: Tāme sastādīta: | D40: =IF(KOPTĀME!B28=0,"",KOPTĀME!B28)
C42: Pārbaudīja: | D42: =IF(Kopsav.!C45=0,"",Kopsav.!C45)
D43: (paraksts un tā atšifrējums, amats, uzņēmuma nosaukums, datums)
C45: Sertifikāta Nr.: | D45: =IF(KOPTĀME!B26=0,"",KOPTĀME!B26)

Sheet 2-8_ESS-PK,AS
P1: 03.05.2017. MK noteikumu Nr.239 5.pielikums
C2: LOKĀLĀ TĀME Nr. | D2: 2-8
A3: ELEKTRONISKO SAKARU SISTĒMAS- APSARDZES SIGNALIZĀCIJAS SISTĒMA UN PIEKĻUVES KONTROLES SISTĒMA
A4: (būvdarbu veids vai konstruktīvā elementa nosaukums)
A5: =Kopsav.!A7:I7 -> Objekta nosaukums: Ēkas Miera ielā 58a (kad. Nr. 0100 026 0092 005) un Ēkas Miera ielā 58a (kad. Nr. 0100 026 2024 005), Rīga daļas pārbūve Kino muzeja vajadzībām
A6: =KOPTĀME!A12 -> Būves nosaukums: Darbnīca, Teātris
A7: =KOPTĀME!A13 -> Objekta adrese: Miera ielā 58a, Rīga
A8: =KOPTĀME!A14 -> Pasūtījuma Nr. LKA 2026/14
A10: Tāme sastādīta 2026.gada tirgus cenās, pamatojoties uz ESS-PK, AS daļas rasējumiem.
M11: Tāmes izmaksas | N11: =P53 -> 0 | P11: euro
M12: Tāme sastādīta | N12: =IF(KOPTĀME!B28=0,"",KOPTĀME!B28)
A14: Nr.p.k. | B14: Kods | C14: Būvdarbu nosaukums | D14: Mērvienība | E14: Daudzums | F14: Vienības izmaksas | L14: Kopā uz visu apjomu
F15: laika norma (c/h) | G15: darba samaksas likme* (euro/h) | H15: darba alga | I15: būvizstrādājumi | J15: mehānismi | K15: kopā | L15: darbietilpība (c/h) | M15: darba alga | N15: būvizstrādājumi | O15: mehānismi | P15: summa
A16: 1 | C16: Divu durvju+C19+A16:K53+C16:C49+C16:C50+C16:C+C16:C52 | D16: gb | E16: 1 | H16: =ROUND(F16*G16,2) -> 0 | K16: =H16+I16+J16 -> 0 | L16: =ROUND(E16*F16,2) -> 0 | M16: =ROUND(E16*H16,2) -> 0 | N16: =ROUND(E16*I16,2) -> 0 | O16: =ROUND(E16*J16,2) -> 0 | P16: =M16+N16+O16 -> 0
A17: 2 | C17: Vienu durvju kontrolieris FS8301 / FoxSec | D17: gb | E17: 1 | H17: =ROUND(F17*G17,2) -> 0 | K17: =H17+I17+J17 -> 0 | L17: =ROUND(E17*F17,2) -> 0 | M17: =ROUND(E17*H17,2) -> 0 | N17: =ROUND(E17*I17,2) -> 0 | O17: =ROUND(E17*J17,2) -> 0 | P17: =M17+N17+O17 -> 0
A18: 3 | C18: Montāžas kārba durvju moduļiem FS MC2925W / FoxSec | D18: gb | E18: 2 | H18: =ROUND(F18*G18,2) -> 0 | K18: =H18+I18+J18 -> 0 | L18: =ROUND(E18*F18,2) -> 0 | M18: =ROUND(E18*H18,2) -> 0 | N18: =ROUND(E18*I18,2) -> 0 | O18: =ROUND(E18*J18,2) -> 0 | P18: =M18+N18+O18 -> 0
A19: 4 | C19: Akumulators12V ietilpība ne mazāka kā 7Ah | D19: gb | E19: 2 | H19: =ROUND(F19*G19,2) -> 0 | K19: =H19+I19+J19 -> 0 | L19: =ROUND(E19*F19,2) -> 0 | M19: =ROUND(E19*H19,2) -> 0 | N19: =ROUND(E19*I19,2) -> 0 | O19: =ROUND(E19*J19,2) -> 0 | P19: =M19+N19+O19 -> 0
A20: 5 | C20: Durvju nolasītājs HID® iCLASS® SE™ R10 | D20: gb | E20: 3 | H20: =ROUND(F20*G20,2) -> 0 | K20: =H20+I20+J20 -> 0 | L20: =ROUND(E20*F20,2) -> 0 | M20: =ROUND(E20*H20,2) -> 0 | N20: =ROUND(E20*I20,2) -> 0 | O20: =ROUND(E20*J20,2) -> 0 | P20: =M20+N20+O20 -> 0
A21: 6 | C21: Durvju slēguma mehānisms (elektromagnētiskais sprūds) EFF-EFF 331.U81 | D21: gb | E21: 3 | H21: =ROUND(F21*G21,2) -> 0 | K21: =H21+I21+J21 -> 0 | L21: =ROUND(E21*F21,2) -> 0 | M21: =ROUND(E21*H21,2) -> 0 | N21: =ROUND(E21*I21,2) -> 0 | O21: =ROUND(E21*J21,2) -> 0 | P21: =M21+N21+O21 -> 0
A22: 7 | C22: Zonu papalšināšanas modulis NX-216E | D22: gb | E22: 1 | H22: =ROUND(F22*G22,2) -> 0 | K22: =H22+I22+J22 -> 0 | L22: =ROUND(E22*F22,2) -> 0 | M22: =ROUND(E22*H22,2) -> 0 | N22: =ROUND(E22*I22,2) -> 0 | O22: =ROUND(E22*J22,2) -> 0 | P22: =M22+N22+O22 -> 0
A23: 8 | C23: Montāžas kārba zonu paplašinātājam FS MC2925W / FoxSec | D23: gb | E23: 1 | H23: =ROUND(F23*G23,2) -> 0 | K23: =H23+I23+J23 -> 0 | L23: =ROUND(E23*F23,2) -> 0 | M23: =ROUND(E23*H23,2) -> 0 | N23: =ROUND(E23*I23,2) -> 0 | O23: =ROUND(E23*J23,2) -> 0 | P23: =M23+N23+O23 -> 0
A24: 9 | C24: Akumulators 12V ietilpība ne mazāka kā 7Ah | D24: gb | E24: 1 | H24: =ROUND(F24*G24,2) -> 0 | K24: =H24+I24+J24 -> 0 | L24: =ROUND(E24*F24,2) -> 0 | M24: =ROUND(E24*H24,2) -> 0 | N24: =ROUND(E24*I24,2) -> 0 | O24: =ROUND(E24*J24,2) -> 0 | P24: =M24+N24+O24 -> 0
A25: 10 | C25: Durvju magnēts Herkons SD series | D25: gb | E25: 2 | H25: =ROUND(F25*G25,2) -> 0 | K25: =H25+I25+J25 -> 0 | L25: =ROUND(E25*F25,2) -> 0 | M25: =ROUND(E25*H25,2) -> 0 | N25: =ROUND(E25*I25,2) -> 0 | O25: =ROUND(E25*J25,2) -> 0 | P25: =M25+N25+O25 -> 0
A26: 11 | C26: Infrasarkano staru detektors FLX-S-DT-X5 ar kronšteinu | D26: kpl | E26: 4 | H26: =ROUND(F26*G26,2) -> 0 | K26: =H26+I26+J26 -> 0 | L26: =ROUND(E26*F26,2) -> 0 | M26: =ROUND(E26*H26,2) -> 0 | N26: =ROUND(E26*I26,2) -> 0 | O26: =ROUND(E26*J26,2) -> 0 | P26: =M26+N26+O26 -> 0
A27: 12 | C27: Stikla plīšanas detektors Impaq | D27: kpl | E27: 2 | H27: =ROUND(F27*G27,2) -> 0 | K27: =H27+I27+J27 -> 0 | L27: =ROUND(E27*F27,2) -> 0 | M27: =ROUND(E27*H27,2) -> 0 | N27: =ROUND(E27*I27,2) -> 0 | O27: =ROUND(E27*J27,2) -> 0 | P27: =M27+N27+O27 -> 0
... A44: 29 | C44: Instalācijas palīgmateriāli | D44: kpl | E44: 1 | H44: =ROUND(F44*G44,2) -> 0 | K44: =H44+I44+J44 -> 0 | L44: =ROUND(E44*F44,2) -> 0 | M44: =ROUND(E44*H44,2) -> 0 | N44: =ROUND(E44*I44,2) -> 0 | O44: =ROUND(E44*J44,2) -> 0 | P44: =M44+N44+O44 -> 0
C45: ESS-AS sistēmas apjomi, ja nav pieejams zonu paplašinātājs NX-216E (pozīciju Nr. 7; 8; 9. vietā) | H45: =ROUND(F45*G45,2) -> 0 | K45: =H45+I45+J45 -> 0 | L45: =ROUND(E45*F45,2) -> 0 | M45: =ROUND(E45*H45,2) -> 0 | N45: =ROUND(E45*I45,2) -> 0 | O45: =ROUND(E45*J45,2) -> 0 | P45: =M45+N45+O45 -> 0
A46: 30 | C46: Zonu papalšināšanas modulis NXG-208N | D46: gb | E46: 1 | H46: =ROUND(F46*G46,2) -> 0 | K46: =H46+I46+J46 -> 0 | L46: =ROUND(E46*F46,2) -> 0 | M46: =ROUND(E46*H46,2) -> 0 | N46: =ROUND(E46*I46,2) -> 0 | O46: =ROUND(E46*J46,2) -> 0 | P46: =M46+N46+O46 -> 0
A47: 31 | C47: Montāžas kārba zonu paplašinātājam FS MC2925W / FoxSec | D47: gb | E47: 1 | H47: =ROUND(F47*G47,2) -> 0 | K47: =H47+I47+J47 -> 0 | L47: =ROUND(E47*F47,2) -> 0 | M47: =ROUND(E47*H47,2) -> 0 | N47: =ROUND(E47*I47,2) -> 0 | O47: =ROUND(E47*J47,2) -> 0 | P47: =M47+N47+O47 -> 0
A48: 32 | C48: Akumulators12V ietilpība ne mazāka kā 7Ah | D48: gb | E48: 1 | H48: =ROUND(F48*G48,2) -> 0 | K48: =H48+I48+J48 -> 0 | L48: =ROUND(E48*F48,2) -> 0 | M48: =ROUND(E48*H48,2) -> 0 | N48: =ROUND(E48*I48,2) -> 0 | O48: =ROUND(E48*J48,2) -> 0 | P48: =M48+N48+O48 -> 0
A49: 33 | C49: Kontroles paneļa centrāles pamata plate NX-8E-BO | D49: kpl | E49: 1 | H49: =ROUND(F49*G49,2) -> 0 | K49: =H49+I49+J49 -> 0 | L49: =ROUND(E49*F49,2) -> 0 | M49: =ROUND(E49*H49,2) -> 0 | N49: =ROUND(E49*I49,2) -> 0 | O49: =ROUND(E49*J49,2) -> 0 | P49: =M49+N49+O49 -> 0
A50: 34 | C50: Esošās centrāles pamata plates NX-8E demontāžā | D50: kpl | E50: 1 | H50: =ROUND(F50*G50,2) -> 0 | K50: =H50+I50+J50 -> 0 | L50: =ROUND(E50*F50,2) -> 0 | M50: =ROUND(E50*H50,2) -> 0 | N50: =ROUND(E50*I50,2) -> 0 | O50: =ROUND(E50*J50,2) -> 0 | P50: =M50+N50+O50 -> 0
A51: 35 | C51: Jaunās NX-8E-BO centrāles pamata plate montāža. | D51: kpl | E51: 1 | H51: =ROUND(F51*G51,2) -> 0 | K51: =H51+I51+J51 -> 0 | L51: =ROUND(E51*F51,2) -> 0 | M51: =ROUND(E51*H51,2) -> 0 | N51: =ROUND(E51*I51,2) -> 0 | O51: =ROUND(E51*J51,2) -> 0 | P51: =M51+N51+O51 -> 0
A52: 36 | C52: Sistēmas konfigurācijas un programmēšanas darbi | D52: kpl | E52: 1 | H52: =ROUND(F52*G52,2) -> 0 | K52: =H52+I52+J52 -> 0 | L52: =ROUND(E52*F52,2) -> 0 | M52: =ROUND(E52*H52,2) -> 0 | N52: =ROUND(E52*I52,2) -> 0 | O52: =ROUND(E52*J52,2) -> 0 | P52: =M52+N52+O52 -> 0
A53: TIEŠĀS IZMAKSAS KOPĀ, t. sk. darba devēja sociālais nodoklis (%) | L53: =SUM(L16:L52) -> 0 | M53: =SUM(M16:M52) -> 0 | N53: =SUM(N16:N52) -> 0 | O53: =SUM(O16:O52) -> 0 | P53: =SUM(P16:P52) -> 0
A55: Piezīmes.
A56: 1. Būvuzņēmējam jāievērtē darbu apjomu sarakstā minēto darbu veikšanai nepieciešamie materiāli un papildus darbi, kas nav minēti šajā sarakstā, bet bez
A57: kuriem nebūtu iespējama būvdarbu tehnoloģiski pareiza un spēkā esošiem normatīviem atbilstoša veikšana pilnā apmērā.
A58: 2. Darbu apjomu sarakstu skatīt kopā ar rasējumiem un specifikācijām. Gadījumā, ja darbu apjomi nesakrīt ar rasējumiem vai specifikācijām, par pareiziem
A59: jāuzskata rasējumos esošie darbu apjomi.
A60: 3. Atsevišķu materiālu apjomi doti bez rezerves.
A61: 4. Tāmēs ietvertos konkrēto ražotāju materiālus un izstrādājumus var aizvietot ar analogiem citu ražotāju materiāliem un izstrādājumiem, saskaņojot ar Arhitektu un Pasūtītāju.
C63: Sastādīja: | D63: =IF(KOPTĀME!B23=0,"",KOPTĀME!B23)
D64: (paraksts un tā atšifrējums, amats, uzņēmuma nosaukums, datums)
C66: Tāme sastādīta: | D66: =IF(KOPTĀME!B28=0,"",KOPTĀME!B28)
C68: Pārbaudīja: | D68: =IF(Kopsav.!C45=0,"",Kopsav.!C45)
D69: (paraksts un tā atšifrējums, amats, uzņēmuma nosaukums, datums)
C71: Sertifikāta Nr.: | D71: =IF(KOPTĀME!B26=0,"",KOPTĀME!B26)
