Workbook

Sheet KOPT
A1: BŪVNIECĪBAS KOPTĀME
A3: Būves nosaukums: | C3: =KOPS!D4 -> Ūdensapgādes un sadzīves kanalizācijas tīklu paplašināšana, kanalizācijas sūkņu staciju un to elektroapgādes pieslēgumu izbūve Jaunolaines ciemā, Olaines pagastā, Olaines novadā
A4: Būves adrese: | C4: =KOPS!D5 -> "ŪDRAINĪTES", "PIPARKŪKAS", JAUNOLAINES CIEMĀ, OLAINES PAG., OLAINES NOV.
A5: Pasūtītājs | C5: AS "Olaines ūdens un siltums"
A6: Tāme sastādīta: 2026.gada _______
A8: Nr.p.k. | B8: Objekta Nr. | C8: Objekta nosaukums | D8: Objekta izmaksas (euro)
A11: 1 | B11: 1 | C11: =KOPS!D3 -> Ūdensapgādes un sadzīves kanalizācijas tīklu paplašināšana, kanalizācijas sūkņu staciju un to elektroapgādes pieslēgumu izbūve Jaunolaines ciemā, Olaines pagastā, Olaines novadā | D11: =KOPS!D25 -> 0
C13: KOPĀ | D13: =SUM(D11:D12) -> 0
C14: PVN 21% | D14: =D13*21% -> 0
B18: Sastādīja
B20: Pārbaudīja

Sheet KOPS
D1: KOPSAVILKUMA APRĒĶINS Nr. 1
A3: Būves nosaukums: | D3: =D4 -> Ūdensapgādes un sadzīves kanalizācijas tīklu paplašināšana, kanalizācijas sūkņu staciju un to elektroapgādes pieslēgumu izbūve Jaunolaines ciemā, Olaines pagastā, Olaines novadā
A4: Objekta nosaukums: | D4: Ūdensapgādes un sadzīves kanalizācijas tīklu paplašināšana, kanalizācijas sūkņu staciju un to elektroapgādes pieslēgumu izbūve Jaunolaines ciemā, Olaines pagastā, Olaines novadā
A5: Objekta adrese: | D5: "ŪDRAINĪTES", "PIPARKŪKAS", JAUNOLAINES CIEMĀ, OLAINES PAG., OLAINES NOV.
A6: Pasūtītājs | D6: =KOPT!C5 -> AS "Olaines ūdens un siltums"
A7: Par kopējo summu, euro | D7: =D23 -> 0
A8: Kopējā darbietilpība, c/st | D8: =H19 -> 0
A9: =KOPT!A6 -> Tāme sastādīta: 2026.gada _______
A10: Nr.p.k. | B10: Kods, tāmes Nr. | C10: Būvdarbu veids vai konstruktīvā elementa nosaukums | D10: Tāmes izmaksas (euro) | E10: Tai skaitā | H10: Darbietilpība (c/h)
E11: Darba alga (euro) | F11: Būvizstrādājumi (euro) | G11: Mehānismi (euro)
A13: 1 | B13: 1-1 | C13: ŪDENSAPGĀDE Ū1 | D13: =Ū1!O52 -> 0 | E13: =Ū1!L52 -> 0 | F13: =Ū1!M52 -> 0 | G13: =Ū1!N52 -> 0 | H13: =Ū1!K52 -> 0
A14: 2 | B14: 1-2 | C14: PAŠTECES KANALIZĀCIJA K1 | D14: ='K1'!O53 -> 0 | E14: ='K1'!L53 -> 0 | F14: ='K1'!M53 -> 0 | G14: ='K1'!N53 -> 0 | H14: ='K1'!K53 -> 0
A15: 3 | B15: 1-3 | C15: KANALIZĀCIJAS SPIEDVADS Ksp-1-1 - Ksp-1-5 | D15: =K1s!O105 -> 0 | E15: =K1s!L105 -> 0 | F15: =K1s!M105 -> 0 | G15: =K1s!N105 -> 0 | H15: =K1s!K105 -> 0
A16: 4 | B16: 1-4 | C16: ELEKTROAPGĀDE | D16: =ELT!O36 -> 0 | E16: =ELT!L36 -> 0 | F16: =ELT!M36 -> 0 | G16: =ELT!N36 -> 0 | H16: =ELT!K36 -> 0
A17: 5 | B17: 1-5 | C17: SEGUMU ATJAUNOŠANA | D17: ='Seguma atjaunošana'!O22 -> 0 | E17: ='Seguma atjaunošana'!L22 -> 0 | F17: ='Seguma atjaunošana'!M22 -> 0 | G17: ='Seguma atjaunošana'!N22 -> 0 | H17: ='Seguma atjaunošana'!K22 -> 0
A18: 6 | B18: 1-6 | C18: MOBILIZĀCIJA UN BŪVLAUKUMA IEKĀRTOŠANA | D18: ='Mobilizācija un būvlaukuma iekā'!O21 -> 0 | E18: ='Mobilizācija un būvlaukuma iekā'!L21 -> 0 | F18: ='Mobilizācija un būvlaukuma iekā'!M21 -> 0 | G18: ='Mobilizācija un būvlaukuma iekā'!N21 -> 0 | H18: ='Mobilizācija un būvlaukuma iekā'!K21 -> 0
C19: Kopā | D19: =SUM(D13:D18) -> 0 | E19: =SUM(E13:E18) -> 0 | F19: =SUM(F13:F18) -> 0 | G19: =SUM(G13:G18) -> 0 | H19: =SUM(H13:H18) -> 0
C20: Virsizdevumi ______%
C21: t.sk. darba aizsardzībai____%
C22: Peļņa______%
C23: PAVISAM KOPĀ | D23: =D19+D20+D22 -> 0
C24: Finanšu rezerve neparedzētiem darbiem ____%
C25: PAVISAM KOPĀ | D25: =SUM(D23:D24) -> 0
A27: Piezīme. Būvlaukuma izveidošanas un uzturēšanas izmaksas iekļautas virsizdevumos.
C29: Sastādīja
C31: Pārbaudīja

Sheet Ū1
C1: LOKĀLĀ TĀME Nr.1-1
C2: =KOPS!C13 -> ŪDENSAPGĀDE Ū1
A4: Būves nosaukums: | C4: =KOPS!D3 -> Ūdensapgādes un sadzīves kanalizācijas tīklu paplašināšana, kanalizācijas sūkņu staciju un to elektroapgādes pieslēgumu izbūve Jaunolaines ciemā, Olaines pagastā, Olaines novadā
A5: Objekta nosaukums: | C5: =KOPS!D4 -> Ūdensapgādes un sadzīves kanalizācijas tīklu paplašināšana, kanalizācijas sūkņu staciju un to elektroapgādes pieslēgumu izbūve Jaunolaines ciemā, Olaines pagastā, Olaines novadā
A6: Objekta adrese: | C6: =KOPS!D5 -> "ŪDRAINĪTES", "PIPARKŪKAS", JAUNOLAINES CIEMĀ, OLAINES PAG., OLAINES NOV.
A7: Pasūtītājs: | C7: =KOPT!C5 -> AS "Olaines ūdens un siltums"
A8: =KOPT!A6 -> Tāme sastādīta: 2026.gada _______ | N8: Tāmes tiešās izmaksas euro bez PVN | O8: =O52 -> 0
A10: Nr.p.k. | B10: Būvdarbu nosaukums | C10: Mērvienība | D10: Daudzums | E10: Vienības izmaksas | K10: Kopā uz visu apjomu
E11: Laika norma (c/h) | F11: Darba samaksas likme (euro/h) | G11: Darba alga (euro) | H11: Būvizstrādājumi (euro) | I11: Mehānismi (euro) | J11: Kopā (euro) | K11: Darbietilpība (c/h) | L11: Darba alga (euro) | M11: Būvizstrādājumi (euro) | N11: Mehānismi (euro) | O11: Summa (euro)
B13: Ūdensapgāde Ū1 | Q13: =D13*0.1 -> 0
B14: Zemes darbi projektēto UKT tīklu darbu zonā | Q14: =D14*0.08 -> 0
A15: 1 | B15: Tranšejas rakšana un aizbēršana ūdensvada OD110 montāžai (ieskaitot grunts nomaiņu*, aizvešanu, atvešanu utt.) H÷ 2,00 m | C15: m | D15: 4501.141 | G15: =ROUND(E15*F15,2) -> 0 | J15: =SUM(G15:I15) -> 0 | K15: =ROUND(D15*E15,2) -> 0 | L15: =ROUND(D15*G15,2) -> 0 | M15: =ROUND(D15*H15,2) -> 0 | N15: =ROUND(I15*D15,2) -> 0 | O15: =SUM(L15:N15) -> 0 | Q15: =D15*0.08 -> 360.09128
A16: 2 | B16: Tranšejas rakšana un aizbēršana ūdensvada OD110 montāžai (ieskaitot grunts nomaiņu*, aizvešanu, atvešanu utt.) H÷ 2,00 m (atzari hidrantiem) | C16: m | D16: 9.8 | G16: =ROUND(E16*F16,2) -> 0 | J16: =SUM(G16:I16) -> 0 | K16: =ROUND(D16*E16,2) -> 0 | L16: =ROUND(D16*G16,2) -> 0 | M16: =ROUND(D16*H16,2) -> 0 | N16: =ROUND(I16*D16,2) -> 0 | O16: =SUM(L16:N16) -> 0 | Q16: =D16*0.04 -> 0.392
A17: 3 | B17: Tranšejas sienu nostiprināšana ar metāla vairogiem (divpusēji) pie dziļuma, kas lielāks par 1,5 m. *norādīts tekošais tranšejas garums, pieņemot, ka sienas nostiprinātas abās būvgrāvja pusēs | C17: m | D17: 4510.941 | G17: =ROUND(E17*F17,2) -> 0 | J17: =SUM(G17:I17) -> 0 | K17: =ROUND(D17*E17,2) -> 0 | L17: =ROUND(D17*G17,2) -> 0 | M17: =ROUND(D17*H17,2) -> 0 | N17: =ROUND(I17*D17,2) -> 0 | O17: =SUM(L17:N17) -> 0
A18: 4 | B18: Smilts pamatnes ierīkošana zem ūdensvada cauruļvadiem, h=15 cm | C18: m3 | D18: 617.82082 | G18: =ROUND(E18*F18,2) -> 0 | J18: =SUM(G18:I18) -> 0 | K18: =ROUND(D18*E18,2) -> 0 | L18: =ROUND(D18*G18,2) -> 0 | M18: =ROUND(D18*H18,2) -> 0 | N18: =ROUND(I18*D18,2) -> 0 | O18: =SUM(L18:N18) -> 0 | Q18: =SUM(Q13:Q17) -> 360.48328
A19: 5 | B19: Smilšu apbērums ūdensvada cauruļvadiem, h=15m | C19: m3 | D19: 1023.9836 | G19: =ROUND(E19*F19,2) -> 0 | J19: =SUM(G19:I19) -> 0 | K19: =ROUND(D19*E19,2) -> 0 | L19: =ROUND(D19*G19,2) -> 0 | M19: =ROUND(D19*H19,2) -> 0 | N19: =ROUND(I19*D19,2) -> 0 | O19: =SUM(L19:N19) -> 0 | Q19: =Q18*1.3 -> 468.62826
A20: 6 | B20: Gruntsūdens līmeņa pazemināšana | C20: m | D20: 4510.941 | G20: =ROUND(E20*F20,2) -> 0 | J20: =SUM(G20:I20) -> 0 | K20: =ROUND(D20*E20,2) -> 0 | L20: =ROUND(D20*G20,2) -> 0 | M20: =ROUND(D20*H20,2) -> 0 | N20: =ROUND(I20*D20,2) -> 0 | O20: =SUM(L20:N20) -> 0
B21: Ūdensvada pievadiem:
A22: 7 | B22: Tranšejas rakšana un aizbēršana ūdensapgādes OD32 tīklu pievadu montāžai (ieskaitot grunts nomaiņu*, aizvešanu, atvešanu utt.) H÷ 2,00 m | C22: m | D22: 1741.4 | G22: =ROUND(E22*F22,2) -> 0 | J22: =SUM(G22:I22) -> 0 | K22: =ROUND(D22*E22,2) -> 0 | L22: =ROUND(D22*G22,2) -> 0 | M22: =ROUND(D22*H22,2) -> 0 | N22: =ROUND(I22*D22,2) -> 0 | O22: =SUM(L22:N22) -> 0
A23: 8 | B23: Tranšejas sienu nostiprināšana ar metāla vairogiem (divpusēji) pie dziļuma, kas lielāks par 1,5 m. *norādīts tekošais tranšejas garums, pieņemot, ka sienas nostiprinātas abās būvgrāvja pusēs | C23: m | D23: 1741.4 | G23: =ROUND(E23*F23,2) -> 0 | J23: =SUM(G23:I23) -> 0 | K23: =ROUND(D23*E23,2) -> 0 | L23: =ROUND(D23*G23,2) -> 0 | M23: =ROUND(D23*H23,2) -> 0 | N23: =ROUND(I23*D23,2) -> 0 | O23: =SUM(L23:N23) -> 0
A24: 9 | B24: Smilts pamatnes ierīkošana zem ūdensvada cauruļvadiem, h=15 cm | C24: m3 | D24: 217.675 | G24: =ROUND(E24*F24,2) -> 0 | J24: =SUM(G24:I24) -> 0 | K24: =ROUND(D24*E24,2) -> 0 | L24: =ROUND(D24*G24,2) -> 0 | M24: =ROUND(D24*H24,2) -> 0 | N24: =ROUND(I24*D24,2) -> 0 | O24: =SUM(L24:N24) -> 0
A25: 10 | B25: Smilšu apbērums ūdensvada cauruļvadiem, h=15m | C25: m3 | D25: 261.21 | G25: =ROUND(E25*F25,2) -> 0 | J25: =SUM(G25:I25) -> 0 | K25: =ROUND(D25*E25,2) -> 0 | L25: =ROUND(D25*G25,2) -> 0 | M25: =ROUND(D25*H25,2) -> 0 | N25: =ROUND(I25*D25,2) -> 0 | O25: =SUM(L25:N25) -> 0
A26: 11 | B26: Gruntsūdens līmeņa pazemināšana | C26: m | D26: 1741.4 | G26: =ROUND(E26*F26,2) -> 0 | J26: =SUM(G26:I26) -> 0 | K26: =ROUND(D26*E26,2) -> 0 | L26: =ROUND(D26*G26,2) -> 0 | M26: =ROUND(D26*H26,2) -> 0 | N26: =ROUND(I26*D26,2) -> 0 | O26: =SUM(L26:N26) -> 0
B27: Ūdensvada montāžas darbi
A28: 12 | B28: Caurule SDR17 PE100 OD110 PN10; H÷ 2,00m; caurules montāža un ar to saistītie darbi | C28: m | D28: 4501.141 | G28: =ROUND(E28*F28,2) -> 0 | J28: =SUM(G28:I28) -> 0 | K28: =ROUND(D28*E28,2) -> 0 | L28: =ROUND(D28*G28,2) -> 0 | M28: =ROUND(D28*H28,2) -> 0 | N28: =ROUND(I28*D28,2) -> 0 | O28: =SUM(L28:N28) -> 0
A29: 13 | B29: Caurule SDR17 PE100 OD110 PN10; H÷ 2,00m; caurules montāža un ar to saistītie darbi (atzari hidrantiem) | C29: m | D29: 9.8 | G29: =ROUND(E29*F29,2) -> 0 | J29: =SUM(G29:I29) -> 0 | K29: =ROUND(D29*E29,2) -> 0 | L29: =ROUND(D29*G29,2) -> 0 | M29: =ROUND(D29*H29,2) -> 0 | N29: =ROUND(I29*D29,2) -> 0 | O29: =SUM(L29:N29) -> 0
A30: 14 | B30: Caurule SDR17 PE100 OD32 PN10; H÷2,0m; caurules montāža un ar to saistītie darbi | C30: m | D30: 1741.4 | G30: =ROUND(E30*F30,2) -> 0 | J30: =SUM(G30:I30) -> 0 | K30: =ROUND(D30*E30,2) -> 0 | L30: =ROUND(D30*G30,2) -> 0 | M30: =ROUND(D30*H30,2) -> 0 | N30: =ROUND(I30*D30,2) -> 0 | O30: =SUM(L30:N30) -> 0
A31: 15 | B31: Caurule SDR17 PE100 OD32 PN10; H÷2,0m; caurules montāža un ar to saistītie darbi (ūdensvada izbūve no sarkanās līnijas līdz zemes virsmai) | C31: m | D31: 891 | G31: =ROUND(E31*F31,2) -> 0 | J31: =SUM(G31:I31) -> 0 | K31: =ROUND(D31*E31,2) -> 0 | L31: =ROUND(D31*G31,2) -> 0 | M31: =ROUND(D31*H31,2) -> 0 | N31: =ROUND(I31*D31,2) -> 0 | O31: =SUM(L31:N31) -> 0
A32: 16 | B32: Virszemes tipa ugunsdzēsības hidrants DN100, PN16 ar C tipa satiksmes drošu izpildījumu ar blīvslēgu, h~ 2.0 m; caurules montāža un ar to saistītie darbi | C32: kpl | D32: 26 | G32: =ROUND(E32*F32,2) -> 0 | J32: =SUM(G32:I32) -> 0 | K32: =ROUND(D32*E32,2) -> 0 | L32: =ROUND(D32*G32,2) -> 0 | M32: =ROUND(D32*H32,2) -> 0 | N32: =ROUND(I32*D32,2) -> 0 | O32: =SUM(L32:N32) -> 0
A33: 17 | B33: Ugunsdzēsības hidranta informatīvā plāksne | C33: gb | D33: 26 | G33: =ROUND(E33*F33,2) -> 0 | J33: =SUM(G33:I33) -> 0 | K33: =ROUND(D33*E33,2) -> 0 | L33: =ROUND(D33*G33,2) -> 0 | M33: =ROUND(D33*H33,2) -> 0 | N33: =ROUND(I33*D33,2) -> 0 | O33: =SUM(L33:N33) -> 0
A34: 18 | B34: Atloku trejgabals DN100/100 | C34: gb | D34: 20 | G34: =ROUND(E34*F34,2) -> 0 | J34: =SUM(G34:I34) -> 0 | K34: =ROUND(D34*E34,2) -> 0 | L34: =ROUND(D34*G34,2) -> 0 | M34: =ROUND(D34*H34,2) -> 0 | N34: =ROUND(I34*D34,2) -> 0 | O34: =SUM(L34:N34) -> 0
A35: 19 | B35: Atloku aizbīdnis DN100 komplektā ar teleskopisko kāta pagarinātāju un noslēgkapi | C35: gb | D35: 40 | G35: =ROUND(E35*F35,2) -> 0 | J35: =SUM(G35:I35) -> 0 | K35: =ROUND(D35*E35,2) -> 0 | L35: =ROUND(D35*G35,2) -> 0 | M35: =ROUND(D35*H35,2) -> 0 | N35: =ROUND(I35*D35,2) -> 0 | O35: =SUM(L35:N35) -> 0
A36: 20 | B36: Atloku adapters DN100 PE caurulei OD110 | C36: gb | D36: 65 | G36: =ROUND(E36*F36,2) -> 0 | J36: =SUM(G36:I36) -> 0 | K36: =ROUND(D36*E36,2) -> 0 | L36: =ROUND(D36*G36,2) -> 0 | M36: =ROUND(D36*H36,2) -> 0 | N36: =ROUND(I36*D36,2) -> 0 | O36: =SUM(L36:N36) -> 0
A37: 21 | B37: Sedlu uzlika DN110/32 | C37: gb | D37: 297 | G37: =ROUND(E37*F37,2) -> 0 | J37: =SUM(G37:I37) -> 0 | K37: =ROUND(D37*E37,2) -> 0 | L37: =ROUND(D37*G37,2) -> 0 | M37: =ROUND(D37*H37,2) -> 0 | N37: =ROUND(I37*D37,2) -> 0 | O37: =SUM(L37:N37) -> 0
A38: 22 | B38: Ekspluatācijas ventīlis DN 1" ar ISO uzmavām PE OD 32 caurulei komplektā ar teleskopisko kāta pagarinātāju un noslēgkapi | C38: kpl | D38: 297 | G38: =ROUND(E38*F38,2) -> 0 | J38: =SUM(G38:I38) -> 0 | K38: =ROUND(D38*E38,2) -> 0 | L38: =ROUND(D38*G38,2) -> 0 | M38: =ROUND(D38*H38,2) -> 0 | N38: =ROUND(I38*D38,2) -> 0 | O38: =SUM(L38:N38) -> 0
A39: 23 | B39: EM līkums 45° PE OD110 | C39: gb | D39: 25 | G39: =ROUND(E39*F39,2) -> 0 | J39: =SUM(G39:I39) -> 0 | K39: =ROUND(D39*E39,2) -> 0 | L39: =ROUND(D39*G39,2) -> 0 | M39: =ROUND(D39*H39,2) -> 0 | N39: =ROUND(I39*D39,2) -> 0 | O39: =SUM(L39:N39) -> 0
... A50: 34 | B50: Šķērsojumi ar esošajām inženierkomunikācijām, atšurfēšana, nepārsniedzot 3m dziļumu, minimālā platība 1m², maksimālais garums 5m | C50: skaits | D50: 7 | G50: =ROUND(E50*F50,2) -> 0 | J50: =SUM(G50:I50) -> 0 | K50: =ROUND(D50*E50,2) -> 0 | L50: =ROUND(D50*G50,2) -> 0 | M50: =ROUND(D50*H50,2) -> 0 | N50: =ROUND(I50*D50,2) -> 0 | O50: =SUM(L50:N50) -> 0
J52: Tiešās izmaksas kopā, t. sk. darba devēja sociālais nodoklis (23,59%) | K52: =SUM(K13:K51) -> 0 | L52: =SUM(L13:L51) -> 0 | M52: =SUM(M13:M51) -> 0 | N52: =SUM(N13:N51) -> 0 | O52: =SUM(O13:O51) -> 0
B54: Sastādīja | E54: =KOPT!D18 -> 0
E55: =KOPT!D19 -> 0
...

Sheet K1
C1: LOKĀLĀ TĀME Nr.1-2
C2: =KOPS!C13 -> ŪDENSAPGĀDE Ū1
A4: Būves nosaukums: | C4: =KOPS!D3 -> Ūdensapgādes un sadzīves kanalizācijas tīklu paplašināšana, kanalizācijas sūkņu staciju un to elektroapgādes pieslēgumu izbūve Jaunolaines ciemā, Olaines pagastā, Olaines novadā
A5: Objekta nosaukums: | C5: =KOPS!D4 -> Ūdensapgādes un sadzīves kanalizācijas tīklu paplašināšana, kanalizācijas sūkņu staciju un to elektroapgādes pieslēgumu izbūve Jaunolaines ciemā, Olaines pagastā, Olaines novadā
A6: Objekta adrese: | C6: =KOPS!D5 -> "ŪDRAINĪTES", "PIPARKŪKAS", JAUNOLAINES CIEMĀ, OLAINES PAG., OLAINES NOV.
A7: Pasūtītājs | C7: =KOPT!C5 -> AS "Olaines ūdens un siltums"
A8: =KOPT!A6 -> Tāme sastādīta: 2026.gada _______ | N8: Tāmes tiešās izmaksas euro bez PVN | O8: =O53 -> 0
A10: Nr.p.k. | B10: Būvdarbu nosaukums | C10: Mērvienība | D10: Daudzums | E10: Vienības izmaksas | K10: Kopā uz visu apjomu
E11: Laika norma (c/h) | F11: Darba samaksas likme (euro/h) | G11: Darba alga (euro) | H11: Būvizstrādājumi (euro) | I11: Mehānismi (euro) | J11: Kopā (euro) | K11: Darbietilpība (c/h) | L11: Darba alga (euro) | M11: Būvizstrādājumi (euro) | N11: Mehānismi (euro) | O11: Summa (euro)
B13: Pašteces kanalizācija K1 | Q13: =D13*0.1 -> 0
B14: Zemes darbi projektēto UKT tīklu darbu zonā | Q14: =D14*0.08 -> 0
A15: 1 | B15: Tranšejas rakšana un aizbēršana pašteces kanalizācijas OD200 montāžai (ieskaitot grunts nomaiņu*, aizvešanu, atvešanu utt.) H÷ 1,0-1,5 m | C15: m | D15: 270.75 | G15: =ROUND(E15*F15,2) -> 0 | J15: =SUM(G15:I15) -> 0 | K15: =ROUND(D15*E15,2) -> 0 | L15: =ROUND(D15*G15,2) -> 0 | M15: =ROUND(D15*H15,2) -> 0 | N15: =ROUND(I15*D15,2) -> 0 | O15: =SUM(L15:N15) -> 0
A16: 2 | B16: Tranšejas rakšana un aizbēršana pašteces kanalizācijas OD200 montāžai (ieskaitot grunts nomaiņu*, aizvešanu, atvešanu utt.) H÷ 1,5-2,0 m | C16: m | D16: 1357.44 | G16: =ROUND(E16*F16,2) -> 0 | J16: =SUM(G16:I16) -> 0 | K16: =ROUND(D16*E16,2) -> 0 | L16: =ROUND(D16*G16,2) -> 0 | M16: =ROUND(D16*H16,2) -> 0 | N16: =ROUND(I16*D16,2) -> 0 | O16: =SUM(L16:N16) -> 0
A17: 3 | B17: Tranšejas rakšana un aizbēršana pašteces kanalizācijas OD200 montāžai (ieskaitot grunts nomaiņu*, aizvešanu, atvešanu utt.) H÷ 2,0-2,5 m | C17: m | D17: 1237.05 | G17: =ROUND(E17*F17,2) -> 0 | J17: =SUM(G17:I17) -> 0 | K17: =ROUND(D17*E17,2) -> 0 | L17: =ROUND(D17*G17,2) -> 0 | M17: =ROUND(D17*H17,2) -> 0 | N17: =ROUND(I17*D17,2) -> 0 | O17: =SUM(L17:N17) -> 0
A18: 4 | B18: Tranšejas rakšana un aizbēršana pašteces kanalizācijas OD200 montāžai (ieskaitot grunts nomaiņu*, aizvešanu, atvešanu utt.) H÷ 2,5-3,0 m | C18: m | D18: 643.85 | G18: =ROUND(E18*F18,2) -> 0 | J18: =SUM(G18:I18) -> 0 | K18: =ROUND(D18*E18,2) -> 0 | L18: =ROUND(D18*G18,2) -> 0 | M18: =ROUND(D18*H18,2) -> 0 | N18: =ROUND(I18*D18,2) -> 0 | O18: =SUM(L18:N18) -> 0
A19: 5 | B19: Tranšejas rakšana un aizbēršana pašteces kanalizācijas OD200 montāžai (ieskaitot grunts nomaiņu*, aizvešanu, atvešanu utt.) H÷ 3,0-3,50 m | C19: m | D19: 347 | G19: =ROUND(E19*F19,2) -> 0 | J19: =SUM(G19:I19) -> 0 | K19: =ROUND(D19*E19,2) -> 0 | L19: =ROUND(D19*G19,2) -> 0 | M19: =ROUND(D19*H19,2) -> 0 | N19: =ROUND(I19*D19,2) -> 0 | O19: =SUM(L19:N19) -> 0
A20: 6 | B20: Tranšejas rakšana un aizbēršana pašteces kanalizācijas OD200 montāžai (ieskaitot grunts nomaiņu*, aizvešanu, atvešanu utt.) H÷ 3,5-4,0 m | C20: m | D20: 25.4 | G20: =ROUND(E20*F20,2) -> 0 | J20: =SUM(G20:I20) -> 0 | K20: =ROUND(D20*E20,2) -> 0 | L20: =ROUND(D20*G20,2) -> 0 | M20: =ROUND(D20*H20,2) -> 0 | N20: =ROUND(I20*D20,2) -> 0 | O20: =SUM(L20:N20) -> 0
A21: 7 | B21: Tranšejas sienu nostiprināšana ar metāla vairogiem (divpusēji) pie dziļuma, kas lielāks par 1,50 m. *norādīts tekošais tranšejas garums, pieņemot, ka sienas nostiprinātas abās būvgrāvja pusēs | C21: m | D21: 3881.49 | G21: =ROUND(E21*F21,2) -> 0 | J21: =SUM(G21:I21) -> 0 | K21: =ROUND(D21*E21,2) -> 0 | L21: =ROUND(D21*G21,2) -> 0 | M21: =ROUND(D21*H21,2) -> 0 | N21: =ROUND(I21*D21,2) -> 0 | O21: =SUM(L21:N21) -> 0
A22: 8 | B22: Smilts pamatnes ierīkošana zem pašteces kanalizācijas un kanalizācijas spiedvada cauruļvadiem, h=15 cm | C22: m3 | D22: 582.2235 | G22: =ROUND(E22*F22,2) -> 0 | J22: =SUM(G22:I22) -> 0 | K22: =ROUND(D22*E22,2) -> 0 | L22: =ROUND(D22*G22,2) -> 0 | M22: =ROUND(D22*H22,2) -> 0 | N22: =ROUND(I22*D22,2) -> 0 | O22: =SUM(L22:N22) -> 0
A23: 9 | B23: Smilšu apbērums pašteces kanalizācijai un kanalizācijas spiedvada cauruļvadiem, h=15cm | C23: m3 | D23: 1238.1953 | G23: =ROUND(E23*F23,2) -> 0 | J23: =SUM(G23:I23) -> 0 | K23: =ROUND(D23*E23,2) -> 0 | L23: =ROUND(D23*G23,2) -> 0 | M23: =ROUND(D23*H23,2) -> 0 | N23: =ROUND(I23*D23,2) -> 0 | O23: =SUM(L23:N23) -> 0
A24: 10 | B24: Gruntsūdens līmeņa pazemināšana | C24: m | D24: 3881.49 | G24: =ROUND(E24*F24,2) -> 0 | J24: =SUM(G24:I24) -> 0 | K24: =ROUND(D24*E24,2) -> 0 | L24: =ROUND(D24*G24,2) -> 0 | M24: =ROUND(D24*H24,2) -> 0 | N24: =ROUND(I24*D24,2) -> 0 | O24: =SUM(L24:N24) -> 0
B25: Kanalizācijas pievadiem:
A26: 11 | B26: Tranšejas rakšana un aizbēršana kanalizācijas OD160 pievadu montāžai (ieskaitot grunts nomaiņu*, aizvešanu, atvešanu utt.) H ÷1,50m | C26: m | D26: 1731.8 | G26: =ROUND(E26*F26,2) -> 0 | J26: =SUM(G26:I26) -> 0 | K26: =ROUND(D26*E26,2) -> 0 | L26: =ROUND(D26*G26,2) -> 0 | M26: =ROUND(D26*H26,2) -> 0 | N26: =ROUND(I26*D26,2) -> 0 | O26: =SUM(L26:N26) -> 0
A27: 12 | B27: Smilts pamatnes ierīkošana zem pašteces kanalizācijas cauruļvadiem, h=15 cm | C27: m3 | D27: 249.3792 | G27: =ROUND(E27*F27,2) -> 0 | J27: =SUM(G27:I27) -> 0 | K27: =ROUND(D27*E27,2) -> 0 | L27: =ROUND(D27*G27,2) -> 0 | M27: =ROUND(D27*H27,2) -> 0 | N27: =ROUND(I27*D27,2) -> 0 | O27: =SUM(L27:N27) -> 0
A28: 13 | B28: Smilšu apbērums pašteces kanalizācijas cauruļvadiem, h=15cm | C28: m3 | D28: 481.4404 | G28: =ROUND(E28*F28,2) -> 0 | J28: =SUM(G28:I28) -> 0 | K28: =ROUND(D28*E28,2) -> 0 | L28: =ROUND(D28*G28,2) -> 0 | M28: =ROUND(D28*H28,2) -> 0 | N28: =ROUND(I28*D28,2) -> 0 | O28: =SUM(L28:N28) -> 0
A29: 14 | B29: Gruntsūdens līmeņa pazemināšana | C29: m | D29: 1731.8 | G29: =ROUND(E29*F29,2) -> 0 | J29: =SUM(G29:I29) -> 0 | K29: =ROUND(D29*E29,2) -> 0 | L29: =ROUND(D29*G29,2) -> 0 | M29: =ROUND(D29*H29,2) -> 0 | N29: =ROUND(I29*D29,2) -> 0 | O29: =SUM(L29:N29) -> 0
B30: Pašteces kanalizācijas K1 montāžas darbi
A31: 15 | B31: PP gofrēta dubultsienu kanalizācijas caurules ar uzmavām un blīvi OD200; H=1,0 - 1,5m, ieguldes klase SN8, montāža un ar to saistītie darbi | C31: m | D31: 270.75 | G31: =ROUND(E31*F31,2) -> 0 | J31: =SUM(G31:I31) -> 0 | K31: =ROUND(D31*E31,2) -> 0 | L31: =ROUND(D31*G31,2) -> 0 | M31: =ROUND(D31*H31,2) -> 0 | N31: =ROUND(I31*D31,2) -> 0 | O31: =SUM(L31:N31) -> 0
A32: 16 | B32: PP gofrēta dubultsienu kanalizācijas caurules ar uzmavām un blīvi OD200; H=1,5 - 2,0m, ieguldes klase SN8, montāža un ar to saistītie darbi | C32: m | D32: 1357.44 | G32: =ROUND(E32*F32,2) -> 0 | J32: =SUM(G32:I32) -> 0 | K32: =ROUND(D32*E32,2) -> 0 | L32: =ROUND(D32*G32,2) -> 0 | M32: =ROUND(D32*H32,2) -> 0 | N32: =ROUND(I32*D32,2) -> 0 | O32: =SUM(L32:N32) -> 0
A33: 17 | B33: PP gofrēta dubultsienu kanalizācijas caurules ar uzmavām un blīvi OD200; H=2,0 - 2,5m, ieguldes klase SN8, montāža un ar to saistītie darbi | C33: m | D33: 1237.05 | G33: =ROUND(E33*F33,2) -> 0 | J33: =SUM(G33:I33) -> 0 | K33: =ROUND(D33*E33,2) -> 0 | L33: =ROUND(D33*G33,2) -> 0 | M33: =ROUND(D33*H33,2) -> 0 | N33: =ROUND(I33*D33,2) -> 0 | O33: =SUM(L33:N33) -> 0
A34: 18 | B34: PP gofrēta dubultsienu kanalizācijas caurules ar uzmavām un blīvi OD200; H=2,5 - 3,0m, ieguldes klase SN8, montāža un ar to saistītie darbi | C34: m | D34: 643.85 | G34: =ROUND(E34*F34,2) -> 0 | J34: =SUM(G34:I34) -> 0 | K34: =ROUND(D34*E34,2) -> 0 | L34: =ROUND(D34*G34,2) -> 0 | M34: =ROUND(D34*H34,2) -> 0 | N34: =ROUND(I34*D34,2) -> 0 | O34: =SUM(L34:N34) -> 0
A35: 19 | B35: PP gofrēta dubultsienu kanalizācijas caurules ar uzmavām un blīvi OD200; H=3,0 - 3,5m, ieguldes klase SN8, montāža un ar to saistītie darbi | C35: m | D35: 347 | G35: =ROUND(E35*F35,2) -> 0 | J35: =SUM(G35:I35) -> 0 | K35: =ROUND(D35*E35,2) -> 0 | L35: =ROUND(D35*G35,2) -> 0 | M35: =ROUND(D35*H35,2) -> 0 | N35: =ROUND(I35*D35,2) -> 0 | O35: =SUM(L35:N35) -> 0
A36: 20 | B36: PP gofrēta dubultsienu kanalizācijas caurules ar uzmavām un blīvi OD200; H=3,5 - 4,0m, ieguldes klase SN8, montāža un ar to saistītie darbi | C36: m | D36: 25.4 | G36: =ROUND(E36*F36,2) -> 0 | J36: =SUM(G36:I36) -> 0 | K36: =ROUND(D36*E36,2) -> 0 | L36: =ROUND(D36*G36,2) -> 0 | M36: =ROUND(D36*H36,2) -> 0 | N36: =ROUND(I36*D36,2) -> 0 | O36: =SUM(L36:N36) -> 0
A37: 20 | B37: PP gludsienu kanalizācijas caurules ar uzmavām un blīvi OD160, H ÷1,50m ieguldes klase SN8, montāža un ar to saistītie darbi (Māju pievadi) | C37: m | D37: 1731.8 | G37: =ROUND(E37*F37,2) -> 0 | J37: =SUM(G37:I37) -> 0 | K37: =ROUND(D37*E37,2) -> 0 | L37: =ROUND(D37*G37,2) -> 0 | M37: =ROUND(D37*H37,2) -> 0 | N37: =ROUND(I37*D37,2) -> 0 | O37: =SUM(L37:N37) -> 0
A38: 21 | B38: PP skataka ID600 H=1,0-1,5m, aku vākiem ir jābūt montētiem uz armēta dzelzbetona slodzi kliedējoša atbalsta gredzena no C50/60 markas betona, ķeta vākiem D400 klases, teleskopa minimālais augstums 1000 mm, pamatne ar tekni rūpnieciski izgatavota, pievienojumiem; montāža un ar to saistītie darbi | C38: kpl | D38: 22 | G38: =ROUND(E38*F38,2) -> 0 | J38: =SUM(G38:I38) -> 0 | K38: =ROUND(D38*E38,2) -> 0 | L38: =ROUND(D38*G38,2) -> 0 | M38: =ROUND(D38*H38,2) -> 0 | N38: =ROUND(I38*D38,2) -> 0 | O38: =SUM(L38:N38) -> 0
A39: 22 | B39: PP skataka ID600 H=1,5-2,0m, aku vākiem ir jābūt montētiem uz armēta dzelzbetona slodzi kliedējoša atbalsta gredzena no C50/60 markas betona, ķeta vākiem D400 klases, teleskopa minimālais augstums 1000 mm, pamatne ar tekni rūpnieciski izgatavota, pievienojumiem, montāža un ar to saistītie darbi | C39: kpl | D39: 67 | G39: =ROUND(E39*F39,2) -> 0 | J39: =SUM(G39:I39) -> 0 | K39: =ROUND(D39*E39,2) -> 0 | L39: =ROUND(D39*G39,2) -> 0 | M39: =ROUND(D39*H39,2) -> 0 | N39: =ROUND(I39*D39,2) -> 0 | O39: =SUM(L39:N39) -> 0
A40: 23 | B40: PP skataka ID600 H=2,0-2,50m, aku vākiem ir jābūt montētiem uz armēta dzelzbetona slodzi kliedējoša atbalsta gredzena no C50/60 markas betona, ķeta vākiem D400 klases, teleskopa minimālais augstums 1000 mm, pamatne ar tekni rūpnieciski izgatavota, pievienojumiem, montāža un ar to saistītie darbi | C40: kpl | D40: 57 | G40: =ROUND(E40*F40,2) -> 0 | J40: =SUM(G40:I40) -> 0 | K40: =ROUND(D40*E40,2) -> 0 | L40: =ROUND(D40*G40,2) -> 0 | M40: =ROUND(D40*H40,2) -> 0 | N40: =ROUND(I40*D40,2) -> 0 | O40: =SUM(L40:N40) -> 0
A41: 24 | B41: PP skataka ID600 H=2,50-3,00m, aku vākiem ir jābūt montētiem uz armēta dzelzbetona slodzi kliedējoša atbalsta gredzena no C50/60 markas betona, ķeta vākiem D400 klases, teleskopa minimālais augstums 1000 mm, pamatne ar tekni rūpnieciski izgatavota, pievienojumiem, montāža un ar to saistītie darbi | C41: kpl | D41: 28 | G41: =ROUND(E41*F41,2) -> 0 | J41: =SUM(G41:I41) -> 0 | K41: =ROUND(D41*E41,2) -> 0 | L41: =ROUND(D41*G41,2) -> 0 | M41: =ROUND(D41*H41,2) -> 0 | N41: =ROUND(I41*D41,2) -> 0 | O41: =SUM(L41:N41) -> 0
A42: 25 | B42: PP skataka ID600 H=3,00-3,50m, aku vākiem ir jābūt montētiem uz armēta dzelzbetona slodzi kliedējoša atbalsta gredzena no C50/60 markas betona, ķeta vākiem D400 klases, teleskopa minimālais augstums 1000 mm, pamatne ar tekni rūpnieciski izgatavota, pievienojumiem, montāža un ar to saistītie darbi | C42: kpl | D42: 3 | G42: =ROUND(E42*F42,2) -> 0 | J42: =SUM(G42:I42) -> 0 | K42: =ROUND(D42*E42,2) -> 0 | L42: =ROUND(D42*G42,2) -> 0 | M42: =ROUND(D42*H42,2) -> 0 | N42: =ROUND(I42*D42,2) -> 0 | O42: =SUM(L42:N42) -> 0
... A51: 34 | B51: Pašteces kanalizācijas trases nospraušana | C51: m | D51: 5613.29 | G51: =ROUND(E51*F51,2) -> 0 | J51: =SUM(G51:I51) -> 0 | K51: =ROUND(D51*E51,2) -> 0 | L51: =ROUND(D51*G51,2) -> 0 | M51: =ROUND(D51*H51,2) -> 0 | N51: =ROUND(I51*D51,2) -> 0 | O51: =SUM(L51:N51) -> 0
...

Sheet K1s
C1: LOKĀLĀ TĀME Nr.1-3
C2: =KOPS!C13 -> ŪDENSAPGĀDE Ū1
A4: Būves nosaukums: | C4: =KOPS!D3 -> Ūdensapgādes un sadzīves kanalizācijas tīklu paplašināšana, kanalizācijas sūkņu staciju un to elektroapgādes pieslēgumu izbūve Jaunolaines ciemā, Olaines pagastā, Olaines novadā
A5: Objekta nosaukums: | C5: =KOPS!D4 -> Ūdensapgādes un sadzīves kanalizācijas tīklu paplašināšana, kanalizācijas sūkņu staciju un to elektroapgādes pieslēgumu izbūve Jaunolaines ciemā, Olaines pagastā, Olaines novadā
A6: Objekta adrese: | C6: =KOPS!D5 -> "ŪDRAINĪTES", "PIPARKŪKAS", JAUNOLAINES CIEMĀ, OLAINES PAG., OLAINES NOV.
A7: Pasūtītājs | C7: =KOPT!C5 -> AS "Olaines ūdens un siltums"
A8: =KOPT!A6 -> Tāme sastādīta: 2026.gada _______ | N8: Tāmes tiešās izmaksas euro bez PVN | O8: =O105 -> 0
A10: Nr.p.k. | B10: Būvdarbu nosaukums | C10: Mērvienība | D10: Daudzums | E10: Vienības izmaksas | K10: Kopā uz visu apjomu
E11: Laika norma (c/h) | F11: Darba samaksas likme (euro/h) | G11: Darba alga (euro) | H11: Būvizstrādājumi (euro) | I11: Mehānismi (euro) | J11: Kopā (euro) | K11: Darbietilpība (c/h) | L11: Darba alga (euro) | M11: Būvizstrādājumi (euro) | N11: Mehānismi (euro) | O11: Summa (euro)
B13: Kanalizācijas spiedvads Ksp1-1 | Q13: =D13*0.1 -> 0
B14: Zemes darbi projektēto UKT tīklu darbu zonā | Q14: =D14*0.08 -> 0
A15: 1 | B15: Tranšejas rakšana un aizbēršana kanalizācijas spiedvada OD63 montāžai (ieskaitot grunts nomaiņu*, aizvešanu, atvešanu utt.) H÷ 2,00 m | C15: m | D15: 70.775 | G15: =ROUND(E15*F15,2) -> 0 | J15: =SUM(G15:I15) -> 0 | K15: =ROUND(D15*E15,2) -> 0 | L15: =ROUND(D15*G15,2) -> 0 | M15: =ROUND(D15*H15,2) -> 0 | N15: =ROUND(I15*D15,2) -> 0 | O15: =SUM(L15:N15) -> 0
A16: 2 | B16: Tranšejas sienu nostiprināšana ar metāla vairogiem (divpusēji) pie dziļuma, kas lielāks par 1,50 m. *norādīts tekošais tranšejas garums, pieņemot, ka sienas nostiprinātas abās būvgrāvja pusēs | C16: m | D16: 70.775 | G16: =ROUND(E16*F16,2) -> 0 | J16: =SUM(G16:I16) -> 0 | K16: =ROUND(D16*E16,2) -> 0 | L16: =ROUND(D16*G16,2) -> 0 | M16: =ROUND(D16*H16,2) -> 0 | N16: =ROUND(I16*D16,2) -> 0 | O16: =SUM(L16:N16) -> 0
A17: 3 | B17: Smilts pamatnes ierīkošana zem pašteces kanalizācijas un kanalizācijas spiedvada cauruļvadiem, h=15 cm | C17: m3 | D17: 9.696175 | G17: =ROUND(E17*F17,2) -> 0 | J17: =SUM(G17:I17) -> 0 | K17: =ROUND(D17*E17,2) -> 0 | L17: =ROUND(D17*G17,2) -> 0 | M17: =ROUND(D17*H17,2) -> 0 | N17: =ROUND(I17*D17,2) -> 0 | O17: =SUM(L17:N17) -> 0
A18: 4 | B18: Smilšu apbērums pašteces kanalizācijai un kanalizācijas spiedvada cauruļvadiem, h=15cm | C18: m3 | D18: 16.065925 | G18: =ROUND(E18*F18,2) -> 0 | J18: =SUM(G18:I18) -> 0 | K18: =ROUND(D18*E18,2) -> 0 | L18: =ROUND(D18*G18,2) -> 0 | M18: =ROUND(D18*H18,2) -> 0 | N18: =ROUND(I18*D18,2) -> 0 | O18: =SUM(L18:N18) -> 0
A19: 5 | B19: Gruntsūdens līmeņa pazemināšana | C19: m | D19: 70.775 | G19: =ROUND(E19*F19,2) -> 0 | J19: =SUM(G19:I19) -> 0 | K19: =ROUND(D19*E19,2) -> 0 | L19: =ROUND(D19*G19,2) -> 0 | M19: =ROUND(D19*H19,2) -> 0 | N19: =ROUND(I19*D19,2) -> 0 | O19: =SUM(L19:N19) -> 0
B20: Kanalizācijas spiedvads Ksp1-1 montāžas darbi
A21: 6 | B21: KSS-1 korpuss HDPE Ø1500, H=4,58 m; ar aizslēdzamu vāku - uzstādīšana, savienošana ar kanalizācijas pienākošo pašteces vadu un aizejošo kanalizācijas spiedvadu, iekšējās apsaistes ierīkošana | C21: kpl | D21: 1 | G21: =ROUND(E21*F21,2) -> 0 | J21: =SUM(G21:I21) -> 0 | K21: =ROUND(D21*E21,2) -> 0 | L21: =ROUND(D21*G21,2) -> 0 | M21: =ROUND(D21*H21,2) -> 0 | N21: =ROUND(I21*D21,2) -> 0 | O21: =SUM(L21:N21) -> 0
A22: 7 | B22: Iegremdējams sūknis Q=2,0 l/s ar frekvenču pārveidotāju | C22: kpl | D22: 2 | G22: =ROUND(E22*F22,2) -> 0 | J22: =SUM(G22:I22) -> 0 | K22: =ROUND(D22*E22,2) -> 0 | L22: =ROUND(D22*G22,2) -> 0 | M22: =ROUND(D22*H22,2) -> 0 | N22: =ROUND(I22*D22,2) -> 0 | O22: =SUM(L22:N22) -> 0
A23: 8 | B23: Caurule SDR17 PE100 OD63 PN10; H ÷ 2,0 m, montāža un ar to saistītie darbi | C23: m | D23: 70.775 | G23: =ROUND(E23*F23,2) -> 0 | J23: =SUM(G23:I23) -> 0 | K23: =ROUND(D23*E23,2) -> 0 | L23: =ROUND(D23*G23,2) -> 0 | M23: =ROUND(D23*H23,2) -> 0 | N23: =ROUND(I23*D23,2) -> 0 | O23: =SUM(L23:N23) -> 0
A24: 9 | B24: EM līkums 45° PE OD63 | C24: gb. | D24: 4 | G24: =ROUND(E24*F24,2) -> 0 | J24: =SUM(G24:I24) -> 0 | K24: =ROUND(D24*E24,2) -> 0 | L24: =ROUND(D24*G24,2) -> 0 | M24: =ROUND(D24*H24,2) -> 0 | N24: =ROUND(I24*D24,2) -> 0 | O24: =SUM(L24:N24) -> 0
A25: 10 | B25: EM līkums 10-44° PE OD63 | C25: gb. | D25: 2 | G25: =ROUND(E25*F25,2) -> 0 | J25: =SUM(G25:I25) -> 0 | K25: =ROUND(D25*E25,2) -> 0 | L25: =ROUND(D25*G25,2) -> 0 | M25: =ROUND(D25*H25,2) -> 0 | N25: =ROUND(I25*D25,2) -> 0 | O25: =SUM(L25:N25) -> 0
A26: 11 | B26: Betona C16/20 balsti veidgabalu stiprināšanai, V=0,1m3* | C26: gb. | D26: 6 | G26: =ROUND(E26*F26,2) -> 0 | J26: =SUM(G26:I26) -> 0 | K26: =ROUND(D26*E26,2) -> 0 | L26: =ROUND(D26*G26,2) -> 0 | M26: =ROUND(D26*H26,2) -> 0 | N26: =ROUND(I26*D26,2) -> 0 | O26: =SUM(L26:N26) -> 0
A27: 12 | B27: Grodu tipa PE spiediena dzēšanas aka DN625, H=1.78m, komplektā ar betona gredzenu, 40tn ķeta lūku un vāku; montāža un ar to saistītie darbi | C27: kpl. | D27: 1 | G27: =ROUND(E27*F27,2) -> 0 | J27: =SUM(G27:I27) -> 0 | K27: =ROUND(D27*E27,2) -> 0 | L27: =ROUND(D27*G27,2) -> 0 | M27: =ROUND(D27*H27,2) -> 0 | N27: =ROUND(I27*D27,2) -> 0 | O27: =SUM(L27:N27) -> 0
A28: 13 | B28: Aku vāku apbetonēšana, betons C50/60 | C28: gb. | D28: 1 | G28: =ROUND(E28*F28,2) -> 0 | J28: =SUM(G28:I28) -> 0 | K28: =ROUND(D28*E28,2) -> 0 | L28: =ROUND(D28*G28,2) -> 0 | M28: =ROUND(D28*H28,2) -> 0 | N28: =ROUND(I28*D28,2) -> 0 | O28: =SUM(L28:N28) -> 0
A29: 14 | B29: Kanalizācijas spiedvada hidrauliskā pārbaude | C29: m | D29: 70.775 | G29: =ROUND(E29*F29,2) -> 0 | J29: =SUM(G29:I29) -> 0 | K29: =ROUND(D29*E29,2) -> 0 | L29: =ROUND(D29*G29,2) -> 0 | M29: =ROUND(D29*H29,2) -> 0 | N29: =ROUND(I29*D29,2) -> 0 | O29: =SUM(L29:N29) -> 0
A30: 15 | B30: Kanalizācijas spiedvada trases nospraušana | C30: m | D30: 70.775 | G30: =ROUND(E30*F30,2) -> 0 | J30: =SUM(G30:I30) -> 0 | K30: =ROUND(D30*E30,2) -> 0 | L30: =ROUND(D30*G30,2) -> 0 | M30: =ROUND(D30*H30,2) -> 0 | N30: =ROUND(I30*D30,2) -> 0 | O30: =SUM(L30:N30) -> 0
B31: Kanalizācijas spiedvads Ksp1-2
B32: Zemes darbi projektēto UKT tīklu darbu zonā | Q32: =D32*0.08 -> 0
A33: 16 | B33: Tranšejas rakšana un aizbēršana kanalizācijas spiedvada OD75 montāžai (ieskaitot grunts nomaiņu*, aizvešanu, atvešanu utt.) H÷ 2,00 m | C33: m | D33: 284.7 | G33: =ROUND(E33*F33,2) -> 0 | J33: =SUM(G33:I33) -> 0 | K33: =ROUND(D33*E33,2) -> 0 | L33: =ROUND(D33*G33,2) -> 0 | M33: =ROUND(D33*H33,2) -> 0 | N33: =ROUND(I33*D33,2) -> 0 | O33: =SUM(L33:N33) -> 0
A34: 17 | B34: Tranšejas sienu nostiprināšana ar metāla vairogiem (divpusēji) pie dziļuma, kas lielāks par 1,50 m. *norādīts tekošais tranšejas garums, pieņemot, ka sienas nostiprinātas abās būvgrāvja pusēs | C34: m | D34: 284.7 | G34: =ROUND(E34*F34,2) -> 0 | J34: =SUM(G34:I34) -> 0 | K34: =ROUND(D34*E34,2) -> 0 | L34: =ROUND(D34*G34,2) -> 0 | M34: =ROUND(D34*H34,2) -> 0 | N34: =ROUND(I34*D34,2) -> 0 | O34: =SUM(L34:N34) -> 0
A35: 18 | B35: Smilts pamatnes ierīkošana zem pašteces kanalizācijas un kanalizācijas spiedvada cauruļvadiem, h=15 cm | C35: m3 | D35: 39.0039 | G35: =ROUND(E35*F35,2) -> 0 | J35: =SUM(G35:I35) -> 0 | K35: =ROUND(D35*E35,2) -> 0 | L35: =ROUND(D35*G35,2) -> 0 | M35: =ROUND(D35*H35,2) -> 0 | N35: =ROUND(I35*D35,2) -> 0 | O35: =SUM(L35:N35) -> 0
A36: 19 | B36: Smilšu apbērums pašteces kanalizācijai un kanalizācijas spiedvada cauruļvadiem, h=15cm | C36: m3 | D36: 64.6269 | G36: =ROUND(E36*F36,2) -> 0 | J36: =SUM(G36:I36) -> 0 | K36: =ROUND(D36*E36,2) -> 0 | L36: =ROUND(D36*G36,2) -> 0 | M36: =ROUND(D36*H36,2) -> 0 | N36: =ROUND(I36*D36,2) -> 0 | O36: =SUM(L36:N36) -> 0
A37: 20 | B37: Gruntsūdens līmeņa pazemināšana | C37: m | D37: 284.7 | G37: =ROUND(E37*F37,2) -> 0 | J37: =SUM(G37:I37) -> 0 | K37: =ROUND(D37*E37,2) -> 0 | L37: =ROUND(D37*G37,2) -> 0 | M37: =ROUND(D37*H37,2) -> 0 | N37: =ROUND(I37*D37,2) -> 0 | O37: =SUM(L37:N37) -> 0
B38: Kanalizācijas spiedvada Ksp1-2 montāžas darbi
A39: 21 | B39: KSS-2 korpuss HDPE Ø1500, H=3,69 m; ar aizslēdzamu vāku - uzstādīšana, savienošana ar kanalizācijas pienākošo pašteces vadu un aizejošo kanalizācijas spiedvadu, iekšējās apsaistes ierīkošana | C39: kpl | D39: 1 | G39: =ROUND(E39*F39,2) -> 0 | J39: =SUM(G39:I39) -> 0 | K39: =ROUND(D39*E39,2) -> 0 | L39: =ROUND(D39*G39,2) -> 0 | M39: =ROUND(D39*H39,2) -> 0 | N39: =ROUND(I39*D39,2) -> 0 | O39: =SUM(L39:N39) -> 0
A40: 22 | B40: Iegremdējams sūknis Q=3,0 l/s ar frekvenču pārveidotāju | C40: kpl | D40: 2 | G40: =ROUND(E40*F40,2) -> 0 | J40: =SUM(G40:I40) -> 0 | K40: =ROUND(D40*E40,2) -> 0 | L40: =ROUND(D40*G40,2) -> 0 | M40: =ROUND(D40*H40,2) -> 0 | N40: =ROUND(I40*D40,2) -> 0 | O40: =SUM(L40:N40) -> 0
A41: 23 | B41: Caurule SDR17 PE100 OD75 PN10; H ÷ 2,0 m, montāža un ar to saistītie darbi | C41: m | D41: 284.7 | G41: =ROUND(E41*F41,2) -> 0 | J41: =SUM(G41:I41) -> 0 | K41: =ROUND(D41*E41,2) -> 0 | L41: =ROUND(D41*G41,2) -> 0 | M41: =ROUND(D41*H41,2) -> 0 | N41: =ROUND(I41*D41,2) -> 0 | O41: =SUM(L41:N41) -> 0
A42: 24 | B42: EM līkums 45° PE OD75 | C42: gb. | D42: 3 | G42: =ROUND(E42*F42,2) -> 0 | J42: =SUM(G42:I42) -> 0 | K42: =ROUND(D42*E42,2) -> 0 | L42: =ROUND(D42*G42,2) -> 0 | M42: =ROUND(D42*H42,2) -> 0 | N42: =ROUND(I42*D42,2) -> 0 | O42: =SUM(L42:N42) -> 0
A43: 25 | B43: EM līkums 10-44° PE OD75 | C43: gb. | D43: 4 | G43: =ROUND(E43*F43,2) -> 0 | J43: =SUM(G43:I43) -> 0 | K43: =ROUND(D43*E43,2) -> 0 | L43: =ROUND(D43*G43,2) -> 0 | M43: =ROUND(D43*H43,2) -> 0 | N43: =ROUND(I43*D43,2) -> 0 | O43: =SUM(L43:N43) -> 0
...

Sheet ELT
C1: LOKĀLĀ TĀME Nr.1-4
C2: =KOPS!C13 -> ŪDENSAPGĀDE Ū1
A4: Būves nosaukums: | C4: =KOPS!D3 -> Ūdensapgādes un sadzīves kanalizācijas tīklu paplašināšana, kanalizācijas sūkņu staciju un to elektroapgādes pieslēgumu izbūve Jaunolaines ciemā, Olaines pagastā, Olaines novadā
A5: Objekta nosaukums: | C5: =KOPS!D4 -> Ūdensapgādes un sadzīves kanalizācijas tīklu paplašināšana, kanalizācijas sūkņu staciju un to elektroapgādes pieslēgumu izbūve Jaunolaines ciemā, Olaines pagastā, Olaines novadā
A6: Objekta adrese: | C6: =KOPS!D5 -> "ŪDRAINĪTES", "PIPARKŪKAS", JAUNOLAINES CIEMĀ, OLAINES PAG., OLAINES NOV.
A7: Pasūtītājs | C7: =KOPT!C5 -> AS "Olaines ūdens un siltums"
A8: =KOPT!A6 -> Tāme sastādīta: 2026.gada _______ | N8: Tāmes tiešās izmaksas euro bez PVN | O8: =O36 -> 0
A10: Nr.p.k. | B10: Būvdarbu nosaukums | C10: Mērvienība | D10: Daudzums | E10: Vienības izmaksas | K10: Kopā uz visu apjomu
E11: Laika norma (c/h) | F11: Darba samaksas likme (euro/h) | G11: Darba alga (euro) | H11: Būvizstrādājumi (euro) | I11: Mehānismi (euro) | J11: Kopā (euro) | K11: Darbietilpība (c/h) | L11: Darba alga (euro) | M11: Būvizstrādājumi (euro) | N11: Mehānismi (euro) | O11: Summa (euro)
B13: Elektroapgāde | Q13: =D13*0.1 -> 0
B14: Montāžas un demontāžas darbu izmaksas | Q14: =D14*0.08 -> 0
A15: 1 | B15: Tranšeja – bedre kabeļa vai citu apakšzemes komunikāciju apsekošanai (šurfēšana) | C15: gb | D15: 5 | G15: =ROUND(E15*F15,2) -> 0 | J15: =SUM(G15:I15) -> 0 | K15: =ROUND(D15*E15,2) -> 0 | L15: =ROUND(D15*G15,2) -> 0 | M15: =ROUND(D15*H15,2) -> 0 | N15: =ROUND(I15*D15,2) -> 0 | O15: =SUM(L15:N15) -> 0
A16: 2 | B16: Tranšejas rakšana un aizbēršana viena līdz divu kabeļu (caurules) guldīšanai 1m dziļumā | C16: m | D16: 91.5 | G16: =ROUND(E16*F16,2) -> 0 | J16: =SUM(G16:I16) -> 0 | K16: =ROUND(D16*E16,2) -> 0 | L16: =ROUND(D16*G16,2) -> 0 | M16: =ROUND(D16*H16,2) -> 0 | N16: =ROUND(I16*D16,2) -> 0 | O16: =SUM(L16:N16) -> 0
A17: 3 | B17: ZS kabeļa līdz 35 mm² ievēršana caurulē | C17: m | D17: 117 | G17: =ROUND(E17*F17,2) -> 0 | J17: =SUM(G17:I17) -> 0 | K17: =ROUND(D17*E17,2) -> 0 | L17: =ROUND(D17*G17,2) -> 0 | M17: =ROUND(D17*H17,2) -> 0 | N17: =ROUND(I17*D17,2) -> 0 | O17: =SUM(L17:N17) -> 0
A18: 4 | B18: ZS kabeļa līdz 35 mm² montāža uz plauktiem, kabeļu tuneļos, kanālos, balstos | C18: m | D18: 7.5 | G18: =ROUND(E18*F18,2) -> 0 | J18: =SUM(G18:I18) -> 0 | K18: =ROUND(D18*E18,2) -> 0 | L18: =ROUND(D18*G18,2) -> 0 | M18: =ROUND(D18*H18,2) -> 0 | N18: =ROUND(I18*D18,2) -> 0 | O18: =SUM(L18:N18) -> 0
A19: 5 | B19: Kabeļu aizsargcaurules d=līdz 110 mm ieguldīšana gatavā tranšejā | C19: m | D19: 109 | G19: =ROUND(E19*F19,2) -> 0 | J19: =SUM(G19:I19) -> 0 | K19: =ROUND(D19*E19,2) -> 0 | L19: =ROUND(D19*G19,2) -> 0 | M19: =ROUND(D19*H19,2) -> 0 | N19: =ROUND(I19*D19,2) -> 0 | O19: =SUM(L19:N19) -> 0
A20: 6 | B20: ZS plastmasas izolācijas kabeļa līdz 35 mm² gala apdare | C20: gb | D20: 20 | G20: =ROUND(E20*F20,2) -> 0 | J20: =SUM(G20:I20) -> 0 | K20: =ROUND(D20*E20,2) -> 0 | L20: =ROUND(D20*G20,2) -> 0 | M20: =ROUND(D20*H20,2) -> 0 | N20: =ROUND(I20*D20,2) -> 0 | O20: =SUM(L20:N20) -> 0
A21: 7 | B21: Kabeļlentas ieklāšana tranšejā | C21: m | D21: 109 | G21: =ROUND(E21*F21,2) -> 0 | J21: =SUM(G21:I21) -> 0 | K21: =ROUND(D21*E21,2) -> 0 | L21: =ROUND(D21*G21,2) -> 0 | M21: =ROUND(D21*H21,2) -> 0 | N21: =ROUND(I21*D21,2) -> 0 | O21: =SUM(L21:N21) -> 0
A22: 8 | B22: Cilpas F-0 pret. mērīšana | C22: objekts | D22: 1 | G22: =ROUND(E22*F22,2) -> 0 | J22: =SUM(G22:I22) -> 0 | K22: =ROUND(D22*E22,2) -> 0 | L22: =ROUND(D22*G22,2) -> 0 | M22: =ROUND(D22*H22,2) -> 0 | N22: =ROUND(I22*D22,2) -> 0 | O22: =SUM(L22:N22) -> 0
A23: 9 | B23: EPL vai sarkanās līnijas nospraušana | C23: km | D23: 0.092 | G23: =ROUND(E23*F23,2) -> 0 | J23: =SUM(G23:I23) -> 0 | K23: =ROUND(D23*E23,2) -> 0 | L23: =ROUND(D23*G23,2) -> 0 | M23: =ROUND(D23*H23,2) -> 0 | N23: =ROUND(I23*D23,2) -> 0 | O23: =SUM(L23:N23) -> 0
A24: 10 | B24: EPL digitālā uzmērīšana | C24: km | D24: 0.092 | G24: =ROUND(E24*F24,2) -> 0 | J24: =SUM(G24:I24) -> 0 | K24: =ROUND(D24*E24,2) -> 0 | L24: =ROUND(D24*G24,2) -> 0 | M24: =ROUND(D24*H24,2) -> 0 | N24: =ROUND(I24*D24,2) -> 0 | O24: =SUM(L24:N24) -> 0
A25: 11 | B25: Rakšanas atļaujas saņemšana | C25: objekts | D25: 1 | G25: =ROUND(E25*F25,2) -> 0 | J25: =SUM(G25:I25) -> 0 | K25: =ROUND(D25*E25,2) -> 0 | L25: =ROUND(D25*G25,2) -> 0 | M25: =ROUND(D25*H25,2) -> 0 | N25: =ROUND(I25*D25,2) -> 0 | O25: =SUM(L25:N25) -> 0
B26: Iekārtu un materiālu izmaksas
A27: 12 | B27: Kabelis Cu 5x6 (Summā iekļauta 5% rezerve) | C27: m | D27: 141 | G27: =ROUND(E27*F27,2) -> 0 | J27: =SUM(G27:I27) -> 0 | K27: =ROUND(D27*E27,2) -> 0 | L27: =ROUND(D27*G27,2) -> 0 | M27: =ROUND(D27*H27,2) -> 0 | N27: =ROUND(I27*D27,2) -> 0 | O27: =SUM(L27:N27) -> 0
A28: 13 | B28: Kabeļu gala apdare SEH5 65-15 | C28: gb | D28: 20 | G28: =ROUND(E28*F28,2) -> 0 | J28: =SUM(G28:I28) -> 0 | K28: =ROUND(D28*E28,2) -> 0 | L28: =ROUND(D28*G28,2) -> 0 | M28: =ROUND(D28*H28,2) -> 0 | N28: =ROUND(I28*D28,2) -> 0 | O28: =SUM(L28:N28) -> 0
A29: 14 | B29: Kabeļa brīdinājuma lenta 0,4 kV kabelim (Summā iekļauta 5% rezerve) | C29: m | D29: 122 | G29: =ROUND(E29*F29,2) -> 0 | J29: =SUM(G29:I29) -> 0 | K29: =ROUND(D29*E29,2) -> 0 | L29: =ROUND(D29*G29,2) -> 0 | M29: =ROUND(D29*H29,2) -> 0 | N29: =ROUND(I29*D29,2) -> 0 | O29: =SUM(L29:N29) -> 0
A30: 15 | B30: Gofrēta kabeļu aizsargcaurule 50, 750N | C30: m | D30: 123 | G30: =ROUND(E30*F30,2) -> 0 | J30: =SUM(G30:I30) -> 0 | K30: =ROUND(D30*E30,2) -> 0 | L30: =ROUND(D30*G30,2) -> 0 | M30: =ROUND(D30*H30,2) -> 0 | N30: =ROUND(I30*D30,2) -> 0 | O30: =SUM(L30:N30) -> 0
A31: 16 | B31: Kabeļu birkas, ārtipa | C31: gb | D31: 20 | G31: =ROUND(E31*F31,2) -> 0 | J31: =SUM(G31:I31) -> 0 | K31: =ROUND(D31*E31,2) -> 0 | L31: =ROUND(D31*G31,2) -> 0 | M31: =ROUND(D31*H31,2) -> 0 | N31: =ROUND(I31*D31,2) -> 0 | O31: =SUM(L31:N31) -> 0
A32: 17 | B32: Sadalne, KKS sadalne, IP65 (skat.shēmu) komplektā ar pamatni un atkārtoto zemējumu | C32: kpl | D32: 5 | G32: =ROUND(E32*F32,2) -> 0 | J32: =SUM(G32:I32) -> 0 | K32: =ROUND(D32*E32,2) -> 0 | L32: =ROUND(D32*G32,2) -> 0 | M32: =ROUND(D32*H32,2) -> 0 | N32: =ROUND(I32*D32,2) -> 0 | O32: =SUM(L32:N32) -> 0
A33: 18 | B33: Cinkota zemējuma stieple d10mm | C33: m | D33: 37 | G33: =ROUND(E33*F33,2) -> 0 | J33: =SUM(G33:I33) -> 0 | K33: =ROUND(D33*E33,2) -> 0 | L33: =ROUND(D33*G33,2) -> 0 | M33: =ROUND(D33*H33,2) -> 0 | N33: =ROUND(I33*D33,2) -> 0 | O33: =SUM(L33:N33) -> 0
A34: 19 | B34: Palīgmateriāli: skrūves, savilces, izolācijas lenta, dībeļi, aizsargcaurule (kabeļiem balstu pamatos) u.c. | C34: kpl | D34: 1 | G34: =ROUND(E34*F34,2) -> 0 | J34: =SUM(G34:I34) -> 0 | K34: =ROUND(D34*E34,2) -> 0 | L34: =ROUND(D34*G34,2) -> 0 | M34: =ROUND(D34*H34,2) -> 0 | N34: =ROUND(I34*D34,2) -> 0 | O34: =SUM(L34:N34) -> 0
J36: Tiešās izmaksas kopā, t. sk. darba devēja sociālais nodoklis (23,59%) | K36: =SUM(K13:K35) -> 0 | L36: =SUM(L13:L35) -> 0 | M36: =SUM(M13:M35) -> 0 | N36: =SUM(N13:N35) -> 0 | O36: =SUM(O13:O35) -> 0
B38: Sastādīja | E38: =KOPT!D18 -> 0
E39: =KOPT!D19 -> 0
B40: Pārbaudīja | E40: =KOPT!D20 -> 0
E41: =KOPT!D21 -> 0

Sheet Seguma atjaunošana
C1: LOKĀLĀ TĀME Nr.1-5
C2: =KOPS!C13 -> ŪDENSAPGĀDE Ū1
A4: Būves nosaukums: | C4: =KOPS!D3 -> Ūdensapgādes un sadzīves kanalizācijas tīklu paplašināšana, kanalizācijas sūkņu staciju un to elektroapgādes pieslēgumu izbūve Jaunolaines ciemā, Olaines pagastā, Olaines novadā
A5: Objekta nosaukums: | C5: =KOPS!D4 -> Ūdensapgādes un sadzīves kanalizācijas tīklu paplašināšana, kanalizācijas sūkņu staciju un to elektroapgādes pieslēgumu izbūve Jaunolaines ciemā, Olaines pagastā, Olaines novadā
A6: Objekta adrese: | C6: =KOPS!D5 -> "ŪDRAINĪTES", "PIPARKŪKAS", JAUNOLAINES CIEMĀ, OLAINES PAG., OLAINES NOV.
A7: Pasūtītājs | C7: =KOPT!C5 -> AS "Olaines ūdens un siltums"
A8: =KOPT!A6 -> Tāme sastādīta: 2026.gada _______ | N8: Tāmes tiešās izmaksas euro bez PVN | O8: =O22 -> 0
A10: Nr.p.k. | B10: Būvdarbu nosaukums | C10: Mērvienība | D10: Daudzums | E10: Vienības izmaksas | K10: Kopā uz visu apjomu
E11: Laika norma (c/h) | F11: Darba samaksas likme (euro/h) | G11: Darba alga (euro) | H11: Būvizstrādājumi (euro) | I11: Mehānismi (euro) | J11: Kopā (euro) | K11: Darbietilpība (c/h) | L11: Darba alga (euro) | M11: Būvizstrādājumi (euro) | N11: Mehānismi (euro) | O11: Summa (euro)
B13: UKT darba zonā | Q13: =D13*0.1 -> 0
A14: 1 | B14: Nesaistītu minerālmateriālu maisījuma (grants/šķembu) seguma noņemšana, utilizācija | C14: m2 | D14: 2923.975 | G14: =ROUND(E14*F14,2) -> 0 | J14: =SUM(G14:I14) -> 0 | K14: =ROUND(D14*E14,2) -> 0 | L14: =ROUND(D14*G14,2) -> 0 | M14: =ROUND(D14*H14,2) -> 0 | N14: =ROUND(I14*D14,2) -> 0 | O14: =SUM(L14:N14) -> 0
A15: 2 | B15: Nesaistītu minerālmateriālu maisījuma (grants/šķembu) seguma atjaunošana
A16: 2.1. | B16: Minerālmateriālu maisījums 0/32s seguma būvniecība, (AADTj, pievestā ≤100), h=10 cm | C16: m2 | D16: 2923.975 | G16: =ROUND(E16*F16,2) -> 0 | J16: =SUM(G16:I16) -> 0 | K16: =ROUND(D16*E16,2) -> 0 | L16: =ROUND(D16*G16,2) -> 0 | M16: =ROUND(D16*H16,2) -> 0 | N16: =ROUND(I16*D16,2) -> 0 | O16: =SUM(L16:N16) -> 0
A17: 2.2. | B17: Minerālmateriālu maisījums 0/63pn seguma būvniecība, (AADTj, smagie ≤100), h=20 cm | C17: m2 | D17: 2923.975 | G17: =ROUND(E17*F17,2) -> 0 | J17: =SUM(G17:I17) -> 0 | K17: =ROUND(D17*E17,2) -> 0 | L17: =ROUND(D17*G17,2) -> 0 | M17: =ROUND(D17*H17,2) -> 0 | N17: =ROUND(I17*D17,2) -> 0 | O17: =SUM(L17:N17) -> 0
A18: 2.3. | B18: Nepastiprinātas salizturīgās kārtas, h min=40 cm, tranšejas platumā | C18: m2 | D18: 2923.975 | G18: =ROUND(E18*F18,2) -> 0 | J18: =SUM(G18:I18) -> 0 | K18: =ROUND(D18*E18,2) -> 0 | L18: =ROUND(D18*G18,2) -> 0 | M18: =ROUND(D18*H18,2) -> 0 | N18: =ROUND(I18*D18,2) -> 0 | O18: =SUM(L18:N18) -> 0
A19: 3 | B19: Zāliena seguma noņemšana, utilizācija | C19: m2 | D19: 15907.677 | G19: =ROUND(E19*F19,2) -> 0 | J19: =SUM(G19:I19) -> 0 | K19: =ROUND(D19*E19,2) -> 0 | L19: =ROUND(D19*G19,2) -> 0 | M19: =ROUND(D19*H19,2) -> 0 | N19: =ROUND(I19*D19,2) -> 0 | O19: =SUM(L19:N19) -> 0
A20: 4 | B20: Zāliena seguma atjaunošana, tai skaitā melnzeme un izlīdzināšana (hvid=10cm) slānī Apzaļumošana ar augu zemi NN-3*, h=10 cm | C20: m2 | D20: 15907.677 | G20: =ROUND(E20*F20,2) -> 0 | J20: =SUM(G20:I20) -> 0 | K20: =ROUND(D20*E20,2) -> 0 | L20: =ROUND(D20*G20,2) -> 0 | M20: =ROUND(D20*H20,2) -> 0 | N20: =ROUND(I20*D20,2) -> 0 | O20: =SUM(L20:N20) -> 0
J22: Tiešās izmaksas kopā, t. sk. darba devēja sociālais nodoklis (23,59%) | K22: =SUM(K13:K21) -> 0 | L22: =SUM(L13:L21) -> 0 | M22: =SUM(M13:M21) -> 0 | N22: =SUM(N13:N21) -> 0 | O22: =SUM(O13:O21) -> 0
B24: Sastādīja | E24: =KOPT!D18 -> 0
E25: =KOPT!D19 -> 0
B26: Pārbaudīja | E26: =KOPT!D20 -> 0
E27: =KOPT!D21 -> 0

Sheet Mobilizācija un būvlaukuma iekā
C1: LOKĀLĀ TĀME Nr.1-6
C2: Mobilizācija un būvlaukuma iekārtošana
A4: Būves nosaukums: | C4: =KOPS!D3 -> Ūdensapgādes un sadzīves kanalizācijas tīklu paplašināšana, kanalizācijas sūkņu staciju un to elektroapgādes pieslēgumu izbūve Jaunolaines ciemā, Olaines pagastā, Olaines novadā
A5: Objekta nosaukums: | C5: =KOPS!D4 -> Ūdensapgādes un sadzīves kanalizācijas tīklu paplašināšana, kanalizācijas sūkņu staciju un to elektroapgādes pieslēgumu izbūve Jaunolaines ciemā, Olaines pagastā, Olaines novadā
A6: Objekta adrese: | C6: =KOPS!D5 -> "ŪDRAINĪTES", "PIPARKŪKAS", JAUNOLAINES CIEMĀ, OLAINES PAG., OLAINES NOV.
A7: Pasūtītājs | C7: =KOPT!C5 -> AS "Olaines ūdens un siltums"
A8: =KOPT!A6 -> Tāme sastādīta: 2026.gada _______ | N8: Tāmes tiešās izmaksas euro bez PVN | O8: =O21 -> 0
A10: Nr.p.k. | B10: Būvdarbu nosaukums | C10: Mērvienība | D10: Daudzums | E10: Vienības izmaksas | K10: Kopā uz visu apjomu
E11: Laika norma (c/h) | F11: Darba samaksas likme (euro/h) | G11: Darba alga (euro) | H11: Būvizstrādājumi (euro) | I11: Mehānismi (euro) | J11: Kopā (euro) | K11: Darbietilpība (c/h) | L11: Darba alga (euro) | M11: Būvizstrādājumi (euro) | N11: Mehānismi (euro) | O11: Summa (euro)
B12: Mobilizācija un būvlaukuma iekārtošana
A13: 1 | B13: Mobilā žoga nomas izmaksas | C13: kpl. | D13: 1 | G13: =ROUND(E13*F13,2) -> 0 | J13: =SUM(G13:I13) -> 0 | K13: =ROUND(D13*E13,2) -> 0 | L13: =ROUND(D13*G13,2) -> 0 | M13: =ROUND(D13*H13,2) -> 0 | N13: =ROUND(I13*D13,2) -> 0 | O13: =SUM(L13:N13) -> 0
A14: 2 | B14: Sadzīves telpu piegāde un pieslēgums komunikācijām, aizvešana pēc būvdarbu veikšanas | C14: obj. | D14: 1 | G14: =ROUND(E14*F14,2) -> 0 | J14: =SUM(G14:I14) -> 0 | K14: =ROUND(D14*E14,2) -> 0 | L14: =ROUND(D14*G14,2) -> 0 | M14: =ROUND(D14*H14,2) -> 0 | N14: =ROUND(I14*D14,2) -> 0 | O14: =SUM(L14:N14) -> 0
A15: 3 | B15: Strādnieku/ darbu vadītāja vagoniņa nomas izmaksas | C15: obj. | D15: 1 | G15: =ROUND(E15*F15,2) -> 0 | J15: =SUM(G15:I15) -> 0 | K15: =ROUND(D15*E15,2) -> 0 | L15: =ROUND(D15*G15,2) -> 0 | M15: =ROUND(D15*H15,2) -> 0 | N15: =ROUND(I15*D15,2) -> 0 | O15: =SUM(L15:N15) -> 0
A16: 4 | B16: WC uzstādīšana/ aizvešana apkalpošana un noma | C16: obj. | D16: 1 | G16: =ROUND(E16*F16,2) -> 0 | J16: =SUM(G16:I16) -> 0 | K16: =ROUND(D16*E16,2) -> 0 | L16: =ROUND(D16*G16,2) -> 0 | M16: =ROUND(D16*H16,2) -> 0 | N16: =ROUND(I16*D16,2) -> 0 | O16: =SUM(L16:N16) -> 0
A17: 5 | B17: Materiālu krautnes laukuma organizēšana, pēc būvdarbu pabeigšanas vietas sakārtošana | C17: obj. | D17: 1 | G17: =ROUND(E17*F17,2) -> 0 | J17: =SUM(G17:I17) -> 0 | K17: =ROUND(D17*E17,2) -> 0 | L17: =ROUND(D17*G17,2) -> 0 | M17: =ROUND(D17*H17,2) -> 0 | N17: =ROUND(I17*D17,2) -> 0 | O17: =SUM(L17:N17) -> 0
A18: 6 | B18: Satiksmes organizācijas izdevumi | C18: obj. | D18: 1 | G18: =ROUND(E18*F18,2) -> 0 | J18: =SUM(G18:I18) -> 0 | K18: =ROUND(D18*E18,2) -> 0 | L18: =ROUND(D18*G18,2) -> 0 | M18: =ROUND(D18*H18,2) -> 0 | N18: =ROUND(I18*D18,2) -> 0 | O18: =SUM(L18:N18) -> 0
A19: 7 | B19: Būvtāfeles un ES KF informatīvā stenda izgatavošana un uzstādīšana | C19: gab,, | D19: 2 | G19: =ROUND(E19*F19,2) -> 0 | J19: =SUM(G19:I19) -> 0 | K19: =ROUND(D19*E19,2) -> 0 | L19: =ROUND(D19*G19,2) -> 0 | M19: =ROUND(D19*H19,2) -> 0 | N19: =ROUND(I19*D19,2) -> 0 | O19: =SUM(L19:N19) -> 0
A20: 8 | B20: Ugunsdzēsēju stends, tas uzstādīšana | C20: gab. | D20: 1 | G20: =ROUND(E20*F20,2) -> 0 | J20: =SUM(G20:I20) -> 0 | K20: =ROUND(D20*E20,2) -> 0 | L20: =ROUND(D20*G20,2) -> 0 | M20: =ROUND(D20*H20,2) -> 0 | N20: =ROUND(I20*D20,2) -> 0 | O20: =SUM(L20:N20) -> 0
J21: Tiešās izmaksas kopā, t. sk. darba devēja sociālais nodoklis (23,59%) | K21: =SUM(K13:K20) -> 0 | L21: =SUM(L13:L20) -> 0 | M21: =SUM(M13:M20) -> 0 | N21: =SUM(N13:N20) -> 0 | O21: =SUM(O13:O20) -> 0
B23: Sastādīja
B25: Pārbaudīja
