Workbook

Sheet Kop.DA-2
I1: 2.2.1.pielikums
A4: Kopsavilkuma aprēķini pa darbu veidiem vai konstruktīvo elementu veidiem
D5: Ēkas remonta darbi
C6: (darba veids vai konstruktīvā elementa nosaukums)
A7: Būves nosaukums: | D7: Agroresursu un ekonomikas institūta Bioekonomikas nodaļas ēkas remonta darbi Nr.2.-2.daļa
A8: Objekta nosaukums: | D8: Agroresursu un ekonomikas institūta Bioekonomikas nodaļas ēkas remonta darbi Nr.2.-2.daļa
A9: Objekta adrese: | D9: Struktoru 14, Rīga
A10: Pasūtījuma Nr. | D10: AREI 2026/14
C11: Par kopejo summu, EUR
C12: Kopējā darbietilpība, c/h
A14: Nr.p.k. | B14: kods; tāmes Nr: | C14: Darba veids vai konstruktīvā elementa nosaukums
A16: 1 | B16: LT-3 | C16: Sienu kosmētiskais remonts 5. stāva foajē telpās.
A17: 2 | B17: LT-4 | C17: 5. stāva gaiteņa (telpa Nr. 505) sienu kosmētiskais remonts.
A18: 3 | B18: LT-5 | C18: 5. stāva telpas T-504 sienu kosmētiskais remonts.
A19: 4 | B19: LT-6 | C19: Sienu kosmētiskais remonts 5. stāvs telpa T-503
A20: 5 | B20: LT-7 | C20: Sienu kosmētiskais remonts 4. stāva foajē telpās.
A21: 6 | B21: LT-12 | C21: 4. stāva gaiteņa sienu kosmētiskais remonts
A22: 7 | B22: LT-13 | C22: Sienu kosmētiskais remonts 5. stāva GAITENIS
A26: Sastādīja
C27: (paraksts un tā atšifrējums, datums)
A29: Tāme sastādīta:
A31: Pārbaudīja
C32: (paraksts un tā atšifrējums, datums)

Sheet 4. stāvs foajē
C1: Būvdarbu apjomu saraksts Nr. | D1: 7
C2: Sienu kosmētiskais remonts 4. stāva foajē telpās.
C3: (darba veids vai konstruktīvā elementa nosaukums)
C4: Būves nosaukums: | D4: ='Kop.DA-2'!D7 -> Agroresursu un ekonomikas institūta Bioekonomikas nodaļas ēkas remonta darbi Nr.2.-2.daļa
C5: Objekta nosaukums: | D5: ='Kop.DA-2'!D8 -> Agroresursu un ekonomikas institūta Bioekonomikas nodaļas ēkas remonta darbi Nr.2.-2.daļa
C6: Objekta adrese: | D6: ='Kop.DA-2'!D9 -> Struktoru 14, Rīga
C7: Pasūtījuma Nr. | D7: AREI 2026/14
A8: Tāme sastādīta 2026. gada tirgus cenās, pamatojoties uz uzmērijumiem objektā un Pasūtītāja norādījumiem
A11: Nr.p.k. | B11: Kods | C11: Darba nosaukums | D11: Mērvienība | E11: Daudzums
C13: Sagatavošanas darbi
A14: 1 | B14: 03-00000 | C14: Durvju un logu bloku aizsardzība būvdarbu laikā, izmantojot remonta plēvi FOLSEN un līmlenti. | D14: st | E14: 5
A15: 2 | B15: 02-00000 | C15: Griestu konstrukcijas aizsardzība būvdarbu laikā, izmantojot remonta plēvi FOLSEN un līmlenti. | D15: m2 | E15: 58.06
A16: 3 | B16: 02-00000 | C16: Grīdas seguma aizsardzība būvdarbu laikā, izmantojot aizsargpapīru remonta darbiem 125 g/m2 + līmlenti. | D16: m2 | E16: 58.06
A17: 4 | B17: 02-00000 | C17: Margu konstrukcijas aizsardzība būvdarbu laikā, izmantojot remonta plēvi FOLSEN un līmlenti. | D17: tm | E17: 7.52
C18: Demontāžas darbi
A19: 1 | B19: 02-00000 | C19: Grīdlīstes demontāža, saglabājot tās atkārtotai montāžai pēc būvdarbu pabeigšanas. | D19: tm | E19: 13.81
A20: 2 | B20: 02-00000 | C20: Durvju apmales demontāza, saglabājot tās atkārtotai montāžai pēc būvdarbu pabeigšanas. | D20: tm | E20: 34.6
A21: 3 | B21: 02-00000 | C21: Radiatora demontāža, ieskaitot apkures sistēmas pievadcaurules demontāžu. | D21: gb | E21: 3
A22: 4 | B22: 02-00000 | C22: Būvgružu iekraušana konteinera, izvešana, utilizācija (Big Bag maiss vai cita alternātiva) | D22: m3 | E22: 2
C23: Montāžas darbi
C24: Sienas
A25: 1 | B25: 02-00000 | C25: Sienas sagatavošana apdares darbiem (Esošo uzlīmēto/nokrāsoto tapešu lokāls remonts (atlīmējušos malu nogriešana/pārlīmēšana, tukšumu špaktelēšana vienā līmenī ar struktūru, slīpēšana un gruntēšana) pirms telpas galējās pārkrāsošanas. | D25: m2 | E25: 63.13
A26: 2 | B26: 10-00000 | C26: Sienas krāsošana (Sadolin Bindo 7 Klasiski matēta krāsa sienām BW + tonis) | D26: m2 | E26: 63.13
A27: 3 | B27: 10-00000 | C27: Durvju un logu aiļu sagatavošana apdares darbiem, krāsošana. | D27: m2 | E27: 4.29
C28: Grīda
A29: 1 | B29: 10-00000 | C29: Grīdlīstes sagatavošana krāsošanai: slīpēšana, špaktelēšana un krāsošana. | D29: tm | E29: 13.81
A30: 2 | B30: 10-00000 | C30: Grīdlīstes montāža, savstarpējo savienojumu vietu, kā arī pieslēgumu pie sienas un grīdas apstrāde ar hermētiķi. | D30: tm | E30: 13.81
C31: Dažādi darbi
A32: 1 | B32: 10-00000 | C32: Durvju apmales sagatavošana krāsošanai: slīpēšana, špaktelēšana un krāsošana. | D32: tm | E32: 34.6
A33: 2 | B33: 10-00000 | C33: Durvju apmales montāža, savstarpējo savienojumu vietu, kā arī pieslēgumu pie sienas, durvju karbas un grīdas apstrāde ar hermētiķi. | D33: tm | E33: 34.6
A34: 3 | B34: 17-00000 | C34: Tērauda radiators, tips - ar sānu pieslēgumu, komplektā - korķis, atgaisošanas ventilis, stiprinājumi 22-500x1200. Ieskaitot radiatora termostata ventiļi dn15, radiatora termostata galvu, radiatora atgaitas pieslēgums dn15, karbona tērauda caurule, d 18 x 1.2 | D34: gab. | E34: 3
A35: 4 | B35: 10-00000 | C35: Esošo elektroinstalācijas PVC kabeļu kanālu (paneļu) lokāls remonts, bojāto posmu nomaiņa ar jauniem analoģiska izmēra paneļiem, to mehāniska piestiprināšana pie pamatnes un virsmu mazgāšana (attīrīšana), atjaunojot vizuālo un tehnisko stāvokli. | D35: obj | E35: 1
A36: PIEZĪMES:
A37: !!! | B37: Saskaņā ar LBN 501-17 "Būvizmaksu noteikšanas kārtība" lokālo tāmju formā, darba devēja sociālo nodokli (23,59%)
B38: un transporta izdevumus (%) iekļauj vienības izmaksās, neuzrāda atsevišķi
A39: !!! | B39: Visu darbu veidi un materiālu daudzumi ir notekti teorētiski. Sienas un griestu platības dotas plakņu projekcijās,
B40: bez koeficientiem, defekti – atbilstoši vizuālai apsekošanai bez platības rezervēm
A41: !!! | B41: Būvuzņēmējam ir jāievērtē darbu daudzumos minēto darbu veikšanai nepieciešamie materiāli un papilddarbi, kas nav
B42: minēti šajā sarakstā, bet bez kuriem nav iespējama galveno būvdarbu tehnoloģiski pareiza izpilde pēc spēkā
B43: esošajiem normatīviem.
A44: !!! | B44: Būvuzņēmējam ir jāapseko objekts uz vietas . Gadījumā, kad nav skaidri saprotama kāda darba veida
B45: vai materiāla nepieciešamā informācija, obligāti sazināties ar pasūtītāju pirms līguma noslēgšanas
A46: !!! | B46: Visus nepieciešamos materiālus un izstrādājumus iebūvēt atbilstoši konkrētā ražotāja instrukcijām un noteikumiem
A48: Sastādīja
C49: (paraksts un tā atšifrējums, datums)
A51: Tāme sastādīta:
A53: Pārbaudīja
C54: (paraksts un tā atšifrējums, datums)
A56: Sertifikāta Nr

Sheet Gaitenis 4 stāvs
C1: Būvdarbu apjomu saraksts Nr. | D1: 12
C2: 4. stāva gaiteņa sienu kosmētiskais remonts
C3: (darba veids vai konstruktīvā elementa nosaukums)
C4: Būves nosaukums: | D4: ='Kop.DA-2'!D7 -> Agroresursu un ekonomikas institūta Bioekonomikas nodaļas ēkas remonta darbi Nr.2.-2.daļa
C5: Objekta nosaukums: | D5: ='Kop.DA-2'!D8 -> Agroresursu un ekonomikas institūta Bioekonomikas nodaļas ēkas remonta darbi Nr.2.-2.daļa
C6: Objekta adrese: | D6: ='Kop.DA-2'!D9 -> Struktoru 14, Rīga
C7: Pasūtījuma Nr. | D7: AREI 2026/14
A8: Tāme sastādīta 2026. gada tirgus cenās, pamatojoties uz uzmērijumiem objektā un Pasūtītāja norādījumiem
A11: Nr.p.k. | B11: Kods | C11: Darba nosaukums | D11: Mērvienība | E11: Daudzums
C13: Sagatavošanas darbi
A14: 1 | B14: 03-00000 | C14: Durvju un logu bloku aizsardzība būvdarbu laikā, izmantojot remonta plēvi FOLSEN un līmlenti. | D14: st | E14: 6
A15: 2 | B15: 02-00000 | C15: Griestu konstrukcijas aizsardzība būvdarbu laikā, izmantojot remonta plēvi FOLSEN un līmlenti. | D15: m2 | E15: 52.8
A16: 3 | B16: 02-00000 | C16: Grīdas seguma aizsardzība būvdarbu laikā, izmantojot aizsargpapīru remonta darbiem 125 g/m2 + līmlenti. | D16: m2 | E16: 52.8
A17: 4 | B17: 02-00000 | C17: Sienu apzīmējumu demontāža pirms apdares darbiem un atjaunošana pēc darbu pabeigšanas (ugunsdzēsības balonu novietojuma norādes, kabinetu nosaukumi). | D17: k-ts | E17: 1
C18: Demontāžas darbi
A19: 1 | B19: 02-00000 | C19: Grīdlīstes demontāža, saglabājot tās atkārtotai montāžai pēc būvdarbu pabeigšanas. | D19: tm | E19: 38
A20: 2 | B20: 02-00000 | C20: Durvju apmales demontāza, saglabājot tās atkārtotai montāžai pēc būvdarbu pabeigšanas. | D20: tm | E20: 70
A21: 3 | B21: 02-00000 | C21: Radiatora demontāža, ieskaitot apkures sistēmas pievadcaurules demontāžu. | D21: gb | E21: 2
A22: 4 | B22: 02-00000 | C22: Būvgružu iekraušana konteinera, izvešana, utilizācija (Big Bag maiss vai cita alternātiva) | D22: m3 | E22: 1
C23: Montāžas darbi
C24: Sienas
A25: 1 | B25: 02-00000 | C25: Sienas sagatavošana apdares darbiem (Esošo uzlīmēto/nokrāsoto tapešu lokāls remonts (atlīmējušos malu nogriešana/pārlīmēšana, tukšumu špaktelēšana vienā līmenī ar struktūru, slīpēšana un gruntēšana) pirms telpas galējās pārkrāsošanas. | D25: m2 | E25: 94
A26: 2 | B26: 10-00000 | C26: Sienas krāsošana (Sadolin Bindo 7 Klasiski matēta krāsa sienām BW + tonis) | D26: m2 | E26: 94
A27: 3 | B27: 10-00000 | C27: Durvju un logu aiļu sagatavošana apdares darbiem, krāsošana. | D27: m2 | E27: 3.02
C28: Grīda
A29: 1 | B29: 10-00000 | C29: Grīdlīstes sagatavošana krāsošanai: slīpēšana, špaktelēšana un krāsošana. | D29: tm | E29: 37
A30: 2 | B30: 10-00000 | C30: Grīdlīstes montāža, savstarpējo savienojumu vietu, kā arī pieslēgumu pie sienas un grīdas apstrāde ar hermētiķi. | D30: tm | E30: 37
C31: Dažādi darbi
A32: 1 | B32: 10-00000 | C32: Durvju apmales sagatavošana krāsošanai: slīpēšana, špaktelēšana un krāsošana. | D32: tm | E32: 70
A33: 2 | B33: 10-00000 | C33: Durvju apmales montāža, savstarpējo savienojumu vietu, kā arī pieslēgumu pie sienas, durvju karbas un grīdas apstrāde ar hermētiķi. | D33: tm | E33: 70
A34: 3 | B34: 17-00000 | C34: Tērauda radiators, tips - ar sānu pieslēgumu, komplektā - korķis, atgaisošanas ventilis, stiprinājumi 22-500x1200. Ieskaitot radiatora termostata ventiļi dn15, radiatora termostata galvu, radiatora atgaitas pieslēgums dn15, karbona tērauda caurule, d 18 x 1.2 | D34: gab. | E34: 2
A35: 4 | B35: 10-00000 | C35: Esošās apkures caurules sagatavošana krāsošanas darbiem: virsmas pārslīpēšana un nenoturīgās krāsas kārtas noņemšana.( Caurules diametrs 20-30mm) | D35: tm | E35: 6
A36: 5 | B36: 10-00000 | C36: Esošās apkures caurules krāsošana ( Caurules diametrs 20-30mm) | D36: tm | E36: 6
A37: 6 | B37: 10-00000 | C37: Esošās ventilācijas restes (300x300mm) demontāža un jaunas analoģiska izmēra ventilācijas restes piegāde un montāža, nodrošinot gaisa vadu savienojuma hermetizāciju un stiprinājumu | D37: gb | E37: 1
A38: 7 | B38: 10-00000 | C38: Esošās ventilācijas restes (200x200mm) demontāža un jaunas analoģiska izmēra ventilācijas restes piegāde un montāža, nodrošinot gaisa vadu savienojuma hermetizāciju un stiprinājumu | D38: gb | E38: 3
A39: 8 | B39: 18-00000 | C39: Esošās elektroinstalācijas kontaktligzdas demontāža, vadu galu elektriskā izolēšana (sertificētu spaiļu uzstādīšana) un kontaktligzdas atveres aizdare , nodrošinot pilnīgu elektrodrošību. | D39: gb | E39: 1
A40: 9 | B40: 10-00000 | C40: Esošo elektroinstalācijas PVC kabeļu kanālu (paneļu) lokāls remonts, bojāto posmu nomaiņa ar jauniem analoģiska izmēra paneļiem, to mehāniska piestiprināšana pie pamatnes un virsmu mazgāšana (attīrīšana), atjaunojot vizuālo un tehnisko stāvokli. | D40: obj | E40: 1
A41: PIEZĪMES:
A42: !!! | B42: Saskaņā ar LBN 501-17 "Būvizmaksu noteikšanas kārtība" lokālo tāmju formā, darba devēja sociālo nodokli (23,59%)
B43: un transporta izdevumus (%) iekļauj vienības izmaksās, neuzrāda atsevišķi
A44: !!! | B44: Visu darbu veidi un materiālu daudzumi ir notekti teorētiski. Sienas un griestu platības dotas plakņu projekcijās,
B45: bez koeficientiem, defekti – atbilstoši vizuālai apsekošanai bez platības rezervēm
A46: !!! | B46: Būvuzņēmējam ir jāievērtē darbu daudzumos minēto darbu veikšanai nepieciešamie materiāli un papilddarbi, kas nav
B47: minēti šajā sarakstā, bet bez kuriem nav iespējama galveno būvdarbu tehnoloģiski pareiza izpilde pēc spēkā
B48: esošajiem normatīviem.
A49: !!! | B49: Būvuzņēmējam ir jāapseko objekts uz vietas . Gadījumā, kad nav skaidri saprotama kāda darba veida
B50: vai materiāla nepieciešamā informācija, obligāti sazināties ar pasūtītāju pirms līguma noslēgšanas
A51: !!! | B51: Visus nepieciešamos materiālus un izstrādājumus iebūvēt atbilstoši konkrētā ražotāja instrukcijām un noteikumiem
A53: Sastādīja
C54: (paraksts un tā atšifrējums, datums)
A56: Tāme sastādīta:
A58: Pārbaudīja
C59: (paraksts un tā atšifrējums, datums)
A61: Sertifikāta Nr

Sheet 5. stāvs foajē
C1: Būvdarbu apjomu saraksts Nr. | D1: 3
C2: Sienu kosmētiskais remonts 5. stāva foajē telpās.
C3: (darba veids vai konstruktīvā elementa nosaukums)
C4: Būves nosaukums: | D4: ='Kop.DA-2'!D7 -> Agroresursu un ekonomikas institūta Bioekonomikas nodaļas ēkas remonta darbi Nr.2.-2.daļa
C5: Objekta nosaukums: | D5: ='Kop.DA-2'!D8 -> Agroresursu un ekonomikas institūta Bioekonomikas nodaļas ēkas remonta darbi Nr.2.-2.daļa
C6: Objekta adrese: | D6: ='Kop.DA-2'!D9 -> Struktoru 14, Rīga
C7: Pasūtījuma Nr. | D7: AREI 2026/14
A8: Tāme sastādīta 2026. gada tirgus cenās, pamatojoties uz uzmērijumiem objektā un Pasūtītāja norādījumiem
A11: Nr.p.k. | B11: Kods | C11: Darba nosaukums | D11: Mērvienība | E11: Daudzums
C13: Sagatavošanas darbi
A14: 1 | B14: 03-00000 | C14: Durvju un logu bloku aizsardzība būvdarbu laikā, izmantojot remonta plēvi FOLSEN un līmlenti. | D14: st | E14: 4
A15: 2 | B15: 02-00000 | C15: Griestu konstrukcijas aizsardzība būvdarbu laikā, izmantojot remonta plēvi FOLSEN un līmlenti. | D15: m2 | E15: 58.06
A16: 3 | B16: 02-00000 | C16: Grīdas seguma aizsardzība būvdarbu laikā, izmantojot aizsargpapīru remonta darbiem 125 g/m2 + līmlenti. | D16: m2 | E16: 58.06
A17: 4 | B17: 02-00000 | C17: Margu konstrukcijas aizsardzība būvdarbu laikā, izmantojot remonta plēvi FOLSEN un līmlenti. | D17: tm | E17: 7.52
C18: Demontāžas darbi
A19: 1 | B19: 02-00000 | C19: Grīdlīstes demontāža, saglabājot tās atkārtotai montāžai pēc būvdarbu pabeigšanas. | D19: tm | E19: 15.7
A20: 2 | B20: 02-00000 | C20: Durvju apmales demontāza, saglabājot tās atkārtotai montāžai pēc būvdarbu pabeigšanas. | D20: tm | E20: 45.61
A21: 3 | B21: 02-00000 | C21: Radiatora aizsargvairoga demontāža | D21: gb | E21: 1
A22: 4 | B22: 02-00000 | C22: Radiatora demontāža, ieskaitot apkures sistēmas pievadcaurules demontāžu. | D22: gb | E22: 2
A23: 5 | B23: 02-00000 | C23: Būvgružu iekraušana konteinera, izvešana, utilizācija (Big Bag maiss vai cita alternātiva) | D23: m3 | E23: 1
C24: Montāžas darbi
C25: Sienas
A26: 1 | B26: 02-00000 | C26: Sienas sagatavošana apdares darbiem (Esošo uzlīmēto/nokrāsoto tapešu lokāls remonts (atlīmējušos malu nogriešana/pārlīmēšana, tukšumu špaktelēšana vienā līmenī ar struktūru, slīpēšana un gruntēšana) pirms telpas galējās pārkrāsošanas. | D26: m2 | E26: 71.2
A27: 2 | B27: 10-00000 | C27: Sienas krāsošana (Sadolin Bindo 7 Klasiski matēta krāsa sienām BW + tonis) | D27: m2 | E27: 71.2
A28: 3 | B28: 10-00000 | C28: Durvju un logu aiļu sagatavošana apdares darbiem, krāsošana. | D28: m2 | E28: 4.28
A29: 4 | B29: 10-00000 | C29: Sienas apdares atjaunošana pēc radiatoru aizsargvairogu demontāžas, tai skaitā sienu sagatavošana apdarei – špaktelēšana, slīpēšana un krāsošana. | D29: m2 | E29: 10
C30: Grīda
A31: 1 | B31: 10-00000 | C31: Grīdlīstes sagatavošana krāsošanai: slīpēšana, špaktelēšana un krāsošana. | D31: tm | E31: 15.7
A32: 2 | B32: 10-00000 | C32: Grīdlīstes montāža, savstarpējo savienojumu vietu, kā arī pieslēgumu pie sienas un grīdas apstrāde ar hermētiķi. | D32: tm | E32: 15.7
C33: Dažādi darbi
A34: 1 | B34: 10-00000 | C34: Durvju apmales sagatavošana krāsošanai: slīpēšana, špaktelēšana un krāsošana. | D34: tm | E34: 45.61
A35: 2 | B35: 10-00000 | C35: Durvju apmales montāža, savstarpējo savienojumu vietu, kā arī pieslēgumu pie sienas, durvju karbas un grīdas apstrāde ar hermētiķi. | D35: tm | E35: 45.61
A36: 3 | B36: 17-00000 | C36: Tērauda radiators, tips - ar sānu pieslēgumu, komplektā - korķis, atgaisošanas ventilis, stiprinājumi 22-500x1200. Ieskaitot radiatora termostata ventiļi dn15, radiatora termostata galvu, radiatora atgaitas pieslēgums dn15, karbona tērauda caurule, d 18 x 1.2 | D36: gab. | E36: 2
A37: 4 | B37: 10-00000 | C37: Esošo elektroinstalācijas PVC kabeļu kanālu (paneļu) lokāls remonts, bojāto posmu nomaiņa ar jauniem analoģiska izmēra paneļiem, to mehāniska piestiprināšana pie pamatnes un virsmu mazgāšana (attīrīšana), atjaunojot vizuālo un tehnisko stāvokli. | D37: obj | E37: 1
A38: PIEZĪMES:
A39: !!! | B39: Saskaņā ar LBN 501-17 "Būvizmaksu noteikšanas kārtība" lokālo tāmju formā, darba devēja sociālo nodokli (23,59%)
B40: un transporta izdevumus (%) iekļauj vienības izmaksās, neuzrāda atsevišķi
A41: !!! | B41: Visu darbu veidi un materiālu daudzumi ir notekti teorētiski. Sienas un griestu platības dotas plakņu projekcijās,
B42: bez koeficientiem, defekti – atbilstoši vizuālai apsekošanai bez platības rezervēm
A43: !!! | B43: Būvuzņēmējam ir jāievērtē darbu daudzumos minēto darbu veikšanai nepieciešamie materiāli un papilddarbi, kas nav
B44: minēti šajā sarakstā, bet bez kuriem nav iespējama galveno būvdarbu tehnoloģiski pareiza izpilde pēc spēkā
B45: esošajiem normatīviem.
A46: !!! | B46: Būvuzņēmējam ir jāapseko objekts uz vietas . Gadījumā, kad nav skaidri saprotama kāda darba veida
B47: vai materiāla nepieciešamā informācija, obligāti sazināties ar pasūtītāju pirms līguma noslēgšanas
A48: !!! | B48: Visus nepieciešamos materiālus un izstrādājumus iebūvēt atbilstoši konkrētā ražotāja instrukcijām un noteikumiem
A50: Sastādīja
C51: (paraksts un tā atšifrējums, datums)
A53: Tāme sastādīta:
A55: Pārbaudīja
C56: (paraksts un tā atšifrējums, datums)
A58: Sertifikāta Nr

Sheet 5. stāvs Gaitenis
C1: Būvdarbu apjomu saraksts Nr. | D1: 13
C2: Sienu kosmētiskais remonts 5. stāva GAITENIS
C3: (darba veids vai konstruktīvā elementa nosaukums)
C4: Būves nosaukums: | D4: ='Kop.DA-2'!D7 -> Agroresursu un ekonomikas institūta Bioekonomikas nodaļas ēkas remonta darbi Nr.2.-2.daļa
C5: Objekta nosaukums: | D5: ='Kop.DA-2'!D8 -> Agroresursu un ekonomikas institūta Bioekonomikas nodaļas ēkas remonta darbi Nr.2.-2.daļa
C6: Objekta adrese: | D6: ='Kop.DA-2'!D9 -> Struktoru 14, Rīga
C7: Pasūtījuma Nr. | D7: AREI 2026/14
A8: Tāme sastādīta 2026. gada tirgus cenās, pamatojoties uz uzmērijumiem objektā un Pasūtītāja norādījumiem
A11: Nr.p.k. | B11: Kods | C11: Darba nosaukums | D11: Mērvienība | E11: Daudzums
C13: Sagatavošanas darbi
A14: 1 | B14: 03-00000 | C14: Durvju un logu bloku aizsardzība būvdarbu laikā, izmantojot remonta plēvi FOLSEN un līmlenti. | D14: st | E14: 3
A15: 2 | B15: 02-00000 | C15: Griestu konstrukcijas aizsardzība būvdarbu laikā, izmantojot remonta plēvi FOLSEN un līmlenti. | D15: m2 | E15: 12.94
A16: 3 | B16: 02-00000 | C16: Grīdas seguma aizsardzība būvdarbu laikā, izmantojot aizsargpapīru remonta darbiem 125 g/m2 + līmlenti. | D16: m2 | E16: 17.94
C17: Demontāžas darbi
A18: 1 | B18: 02-00000 | C18: Griestu sagatavošana apdares darbiem ( nenoturīgu apdares slāņu demontāža un virsmu mazgāšana). | D18: m2 | E18: 8
A19: 2 | B19: 02-00000 | C19: Grīdlīstes demontāža, saglabājot tās atkārtotai montāžai pēc būvdarbu pabeigšanas. | D19: tm | E19: 17
A20: 3 | B20: 02-00000 | C20: Durvju apmales demontāza, saglabājot tās atkārtotai montāžai pēc būvdarbu pabeigšanas. | D20: tm | E20: 20.4
A21: 4 | B21: 02-00000 | C21: Radiatora aizsargvairoga demontāža | D21: gb | E21: 1
A22: 5 | B22: 02-00000 | C22: Radiatora demontāža, ieskaitot apkures sistēmas pievadcaurules demontāžu. | D22: gb | E22: 2
A23: 6 | B23: 02-00000 | C23: Būvgružu iekraušana konteinera, izvešana, utilizācija (Big Bag maiss vai cita alternātiva) | D23: m3 | E23: 1
C24: Montāžas darbi
C25: Sienas
A26: 1 | B26: 02-00000 | C26: Sienas sagatavošana apdares darbiem (Esošo uzlīmēto/nokrāsoto tapešu lokāls remonts (atlīmējušos malu nogriešana/pārlīmēšana, tukšumu špaktelēšana vienā līmenī ar struktūru, slīpēšana un gruntēšana) pirms telpas galējās pārkrāsošanas. | D26: m2 | E26: 44
A27: 2 | B27: 10-00000 | C27: Sienas krāsošana (Sadolin Bindo 7 Klasiski matēta krāsa sienām BW + tonis) | D27: m2 | E27: 44
A28: 3 | B28: 10-00000 | C28: Durvju un logu aiļu sagatavošana apdares darbiem, krāsošana. | D28: m2 | E28: 0.9
C29: Griesti
A30: 1 | B30: 10-00000 | C30: Griestu gruntēšana | D30: m2 | E30: 8
A31: 2 | B31: 10-00000 | C31: Griestu sagatavošana apdares darbiem, špaktelēšana ar Norgips Extra Finish gatavo apdares špakteli vai ekvivalentu ( Spakteļmasas biezums >2mm). | D31: m2 | E31: 8
A32: 3 | B32: 10-00000 | C32: Griestu krāsošana (Sadolin Bindo 3 Klasiski matēta krāsa sienām BW ) | D32: m2 | E32: 8
C33: Grīda
A34: 1 | B34: 10-00000 | C34: Grīdlīstes sagatavošana krāsošanai: slīpēšana, špaktelēšana un krāsošana. | D34: tm | E34: 17
A35: 2 | B35: 10-00000 | C35: Grīdlīstes montāža, savstarpējo savienojumu vietu, kā arī pieslēgumu pie sienas un grīdas apstrāde ar hermētiķi. | D35: tm | E35: 17
C36: Dažādi darbi
A37: 1 | B37: 10-00000 | C37: Durvju apmales sagatavošana krāsošanai: slīpēšana, špaktelēšana un krāsošana. | D37: tm | E37: 20.4
A38: 2 | B38: 10-00000 | C38: Durvju apmales montāža, savstarpējo savienojumu vietu, kā arī pieslēgumu pie sienas, durvju karbas un grīdas apstrāde ar hermētiķi. | D38: tm | E38: 20.4
A39: 3 | B39: 10-00000 | C39: Durvju vertnes sagatavošana krāsošanai: slīpēšana, špaktelēšana un krāsošana. | D39: m2 | E39: 8.15
A40: 4 | B40: 17-00000 | C40: Tērauda radiators, tips - ar sānu pieslēgumu, komplektā - korķis, atgaisošanas ventilis, stiprinājumi 22-500x1200. Ieskaitot radiatora termostata ventiļi dn15, radiatora termostata galvu, radiatora atgaitas pieslēgums dn15, karbona tērauda caurule, d 18 x 1.2 | D40: gab. | E40: 2
A41: 5 | B41: 10-00000 | C41: Esošo elektroinstalācijas PVC kabeļu kanālu (paneļu) lokāls remonts, bojāto posmu nomaiņa ar jauniem analoģiska izmēra paneļiem, to mehāniska piestiprināšana pie pamatnes un virsmu mazgāšana (attīrīšana), atjaunojot vizuālo un tehnisko stāvokli. | D41: obj | E41: 1
A42: PIEZĪMES:
A43: !!! | B43: Saskaņā ar LBN 501-17 "Būvizmaksu noteikšanas kārtība" lokālo tāmju formā, darba devēja sociālo nodokli (23,59%)
B44: un transporta izdevumus (%) iekļauj vienības izmaksās, neuzrāda atsevišķi
A45: !!! | B45: Visu darbu veidi un materiālu daudzumi ir notekti teorētiski. Sienas un griestu platības dotas plakņu projekcijās,
B46: bez koeficientiem, defekti – atbilstoši vizuālai apsekošanai bez platības rezervēm
A47: !!! | B47: Būvuzņēmējam ir jāievērtē darbu daudzumos minēto darbu veikšanai nepieciešamie materiāli un papilddarbi, kas nav
B48: minēti šajā sarakstā, bet bez kuriem nav iespējama galveno būvdarbu tehnoloģiski pareiza izpilde pēc spēkā
B49: esošajiem normatīviem.
A50: !!! | B50: Būvuzņēmējam ir jāapseko objekts uz vietas . Gadījumā, kad nav skaidri saprotama kāda darba veida
B51: vai materiāla nepieciešamā informācija, obligāti sazināties ar pasūtītāju pirms līguma noslēgšanas
A52: !!! | B52: Visus nepieciešamos materiālus un izstrādājumus iebūvēt atbilstoši konkrētā ražotāja instrukcijām un noteikumiem
A54: Sastādīja
C55: (paraksts un tā atšifrējums, datums)
A57: Tāme sastādīta:
A59: Pārbaudīja
C60: (paraksts un tā atšifrējums, datums)
A62: Sertifikāta Nr

Sheet 5, stāvs Telpa 503
C1: Būvdarbu apjomu saraksts Nr. | D1: 6
C2: Sienu kosmētiskais remonts 5. stāvs telpa T-503
C3: (darba veids vai konstruktīvā elementa nosaukums)
C4: Būves nosaukums: | D4: ='Kop.DA-2'!D7 -> Agroresursu un ekonomikas institūta Bioekonomikas nodaļas ēkas remonta darbi Nr.2.-2.daļa
C5: Objekta nosaukums: | D5: ='Kop.DA-2'!D8 -> Agroresursu un ekonomikas institūta Bioekonomikas nodaļas ēkas remonta darbi Nr.2.-2.daļa
C6: Objekta adrese: | D6: ='Kop.DA-2'!D9 -> Struktoru 14, Rīga
C7: Pasūtījuma Nr. | D7: AREI 2026/14
A8: Tāme sastādīta 2026. gada tirgus cenās, pamatojoties uz uzmērijumiem objektā un Pasūtītāja norādījumiem
A11: Nr.p.k. | B11: Kods | C11: Darba nosaukums | D11: Mērvienība | E11: Daudzums
C13: Demontāžas darbi
A14: 1 | B14: 02-00000 | C14: Telpas konstrukciju un tajā esošo materiālo vērtību (mēbeļu, iekārtu) pilna apsegšana un aizsardzība pirms būvdarbu uzsākšanas, kā arī telpas sakopšana pēc darbu pabeigšanas. | D14: obj | E14: 1
A15: 2 | B15: 02-00000 | C15: Radiatora aizsargvairoga demontāža | D15: gb | E15: 1
A16: 3 | B16: 02-00000 | C16: Radiatora demontāža, ieskaitot apkures sistēmas pievadcaurules demontāžu. | D16: gb | E16: 2
A17: 4 | B17: 02-00000 | C17: Būvgružu iekraušana konteinera, izvešana, utilizācija (Big Bag maiss vai cita alternātiva) | D17: m3 | E17: 0.5
A18: 5 | B18: 10-00000 | C18: Sienas apdares atjaunošana pēc radiatoru aizsargvairogu demontāžas, tai skaitā sienu sagatavošana apdarei – špaktelēšana, slīpēšana un krāsošana. | D18: m2 | E18: 10
C19: Montāžas darbi
C20: Sienas
A21: 1 | B21: 10-00000 | C21: Esošo sienu gruntēšana | D21: m2 | E21: 8.9
A22: 2 | B22: 10-00000 | C22: Sienu sagatavošana apdares darbiem, stūru montāža un špaktelēšana ar Norgips Extra Finish gatavo apdares špakteli vai ekvivalentu ( Spakteļmasas biezums >2mm). | D22: m2 | E22: 8.9
A23: 3 | B23: 10-00000 | C23: Sienas krāsošana (Sadolin Bindo 7 Klasiski matēta krāsa sienām BW + tonis) | D23: m2 | E23: 8.9
C24: Dažādi darbi
A25: 1 | B25: 17-00000 | C25: Tērauda radiators, tips - ar sānu pieslēgumu, komplektā - korķis, atgaisošanas ventilis, stiprinājumi 22-500x1200. Ieskaitot radiatora termostata ventiļi dn15, radiatora termostata galvu, radiatora atgaitas pieslēgums dn15, karbona tērauda caurule, d 18 x 1.2 | D25: gab. | E25: 4
A26: 2 | B26: 17-00000 | C26: Esošo vājstrāvas kabeļu un PVC paneļu (kabeļu kanālu) kompleksa sakārtošana un pārmontāža pēc radiatora aizsargpaneļa demontāžas, nodrošinot kabeļu drošu fiksāciju, paneļu vizuālo taisnumu un aizsardzību pret mehāniskiem bojājumiem. | D26: obj | E26: 1
A27: PIEZĪMES:
A28: !!! | B28: Saskaņā ar LBN 501-17 "Būvizmaksu noteikšanas kārtība" lokālo tāmju formā, darba devēja sociālo nodokli (23,59%)
B29: un transporta izdevumus (%) iekļauj vienības izmaksās, neuzrāda atsevišķi
A30: !!! | B30: Visu darbu veidi un materiālu daudzumi ir notekti teorētiski. Sienas un griestu platības dotas plakņu projekcijās,
B31: bez koeficientiem, defekti – atbilstoši vizuālai apsekošanai bez platības rezervēm
A32: !!! | B32: Būvuzņēmējam ir jāievērtē darbu daudzumos minēto darbu veikšanai nepieciešamie materiāli un papilddarbi, kas nav
B33: minēti šajā sarakstā, bet bez kuriem nav iespējama galveno būvdarbu tehnoloģiski pareiza izpilde pēc spēkā
B34: esošajiem normatīviem.
A35: !!! | B35: Būvuzņēmējam ir jāapseko objekts uz vietas . Gadījumā, kad nav skaidri saprotama kāda darba veida
B36: vai materiāla nepieciešamā informācija, obligāti sazināties ar pasūtītāju pirms līguma noslēgšanas
A37: !!! | B37: Visus nepieciešamos materiālus un izstrādājumus iebūvēt atbilstoši konkrētā ražotāja instrukcijām un noteikumiem
A39: Sastādīja
C40: (paraksts un tā atšifrējums, datums)
A42: Tāme sastādīta:
A44: Pārbaudīja
C45: (paraksts un tā atšifrējums, datums)
A47: Sertifikāta Nr

Sheet 5. stāvs Telpa 504
C1: Būvdarbu apjomu saraksts Nr. | D1: 5
C2: 5. stāva telpas T-504 sienu kosmētiskais remonts.
C3: (darba veids vai konstruktīvā elementa nosaukums)
C4: Būves nosaukums: | D4: ='Kop.DA-2'!D7 -> Agroresursu un ekonomikas institūta Bioekonomikas nodaļas ēkas remonta darbi Nr.2.-2.daļa
C5: Objekta nosaukums: | D5: ='Kop.DA-2'!D8 -> Agroresursu un ekonomikas institūta Bioekonomikas nodaļas ēkas remonta darbi Nr.2.-2.daļa
C6: Objekta adrese: | D6: ='Kop.DA-2'!D9 -> Struktoru 14, Rīga
C7: Pasūtījuma Nr. | D7: AREI 2026/14
A8: Tāme sastādīta 2026. gada tirgus cenās, pamatojoties uz uzmērijumiem objektā un Pasūtītāja norādījumiem
A11: Nr.p.k. | B11: Kods | C11: Darba nosaukums | D11: Mērvienība | E11: Daudzums
C13: Sagatavošanas darbi
A14: 1 | B14: 03-00000 | C14: Durvju un logu bloku aizsardzība būvdarbu laikā, izmantojot remonta plēvi FOLSEN un līmlenti. | D14: st | E14: 2
C15: Demontāžas darbi
A16: 1 | B16: 02-00000 | C16: Piekaramo griestu konstrukcijas plākšņu demontāža, saglabājot esošo karkasu. | D16: m2 | E16: 37.76
A17: 2 | B17: 02-00000 | C17: Grīdlīstes demontāža, saglabājot tās atkārtotai montāžai pēc būvdarbu pabeigšanas. | D17: tm | E17: 26.48
A18: 3 | B18: 02-00000 | C18: Durvju apmales demontāza, saglabājot tās atkārtotai montāžai pēc būvdarbu pabeigšanas. | D18: tm | E18: 5.2
A19: 4 | B19: 02-00000 | C19: Grīdas seguma demontāža | D19: m2 | E19: 37.76
A20: 5 | B20: 02-00000 | C20: Esošā kondicioniera bloka demontāža, kā arī pieslēgumu hermetizēšana un aizdare. | D20: gb | E20: 1
A21: 6 | B21: 02-00000 | C21: Radiatora aizsargvairoga demontāža | D21: gb | E21: 1
A22: 7 | B22: 02-00000 | C22: Radiatora demontāža, ieskaitot apkures sistēmas pievadcaurules demontāžu. | D22: gb | E22: 2
A23: 8 | B23: 02-00000 | C23: Būvgružu iekraušana konteinera, izvešana, utilizācija (Big Bag maiss vai cita alternātiva) | D23: m3 | E23: 2
C24: Montāžas darbi
C25: Sienas
A26: 1 | B26: 02-00000 | C26: Sienas sagatavošana apdares darbiem (Esošo uzlīmēto/nokrāsoto tapešu lokāls remonts (atlīmējušos malu nogriešana/pārlīmēšana, tukšumu špaktelēšana vienā līmenī ar struktūru, slīpēšana un gruntēšana) pirms telpas galējās pārkrāsošanas. | D26: m2 | E26: 61.56
A27: 2 | B27: 10-00000 | C27: Sienas krāsošana (Sadolin Bindo 7 Klasiski matēta krāsa sienām BW + tonis) | D27: m2 | E27: 61.56
A28: 3 | B28: 10-00000 | C28: Durvju un logu aiļu sagatavošana apdares darbiem, krāsošana. | D28: m2 | E28: 5
A29: 4 | B29: 10-00000 | C29: Sienas apdares atjaunošana pēc radiatoru aizsargvairogu demontāžas, tai skaitā sienu sagatavošana apdarei – špaktelēšana, slīpēšana un krāsošana. | D29: m2 | E29: 8
C30: Sienas
C31: Griesti.
A32: 1 | B32: 10-00000 | C32: Piekārto griestu plākšņu montāža (Knauf AMF ECOMIN Filigran minerālšķiedru griesti 13x600x1200mm, iepak. ) Veikt griestu karkasa izlīdzināšanu, kā arī pārbaudīt un nepieciešamības gadījumā nostiprināt stiprinājumus. | D32: m² | E32: 37.76
C33: Grīda
A34: 1 | B34: 10-00000 | C34: Esošo grīdas plākšņu papildu nostiprināšana pie dzelzsubetona pārseguma paneļa, caur koka lāgām izurbjot caurumus un veicot mehānisku fiksāciju ar dībeļnaglām, lai likvidētu grīdas izlieci un čīkstēšanu pirms gala apdares. | D34: m2 | E34: 37.76
A35: 2 | B35: 10-00000 | C35: Lamināta seguma montāža, izmantojot mitrumizturīgu laminātu 2000 × 242 × 12 mm, AC5, 33. klase vai ekvivalentu, ieskaitot apakšklāja ieklāšanu (Konstruktor FF zemparketa izolācija 4,8 mm, 0,59 × 0,79 m vai ekvivalents) | D35: m2 | E35: 37.76
A36: 3 | B36: 10-00000 | C36: Grīdlīstes montāža (Grīdlīste Domoletti 548468/FU084L, 240 cm x 8 cm x 1.5 cm, ) | D36: tm | E36: 26.48
C37: Dažādi darbi
A38: 1 | B38: 10-00000 | C38: Durvju apmaļu sagatavošana, slīpēšana, krāsošana divās kārtās un montāža | D38: tm
A39: 2 | B39: 10-00000 | C39: Esošo apkures stāvvadu telpas robežās sagatavošana krāsošanai, slīpēšana un krāsošana ar pusmatētu radiatoru krāsu Radiator vai ekvivalentu. | D39: gb
A40: 3 | B40: 17-00000 | C40: Apgaismojuma armatūras montāža – LED panelis 40 W, 4000 K, 600 × 600 mm vai ekvivalents, ieskaitot visus montāžai nepieciešamos palīgmateriālus. | D40: gb | E40: 4
A41: 4 | B41: 17-00000 | C41: Tērauda radiators, tips - ar sānu pieslēgumu, komplektā - korķis, atgaisošanas ventilis, stiprinājumi 22-500x1200. Ieskaitot radiatora termostata ventiļi dn15, radiatora termostata galvu, radiatora atgaitas pieslēgums dn15, karbona tērauda caurule, d 18 x 1.2 | D41: gab. | E41: 1
A42: 5 | B42: 18-00000 | C42: Ugunsdzēsības detektora pārvietošana un uzstādīšana jaunajās griestu plāksnēs. | D42: gb | E42: 1
A43: 6 | B43: 10-00000 | C43: Esošo elektroinstalācijas PVC kabeļu kanālu (paneļu) lokāls remonts, bojāto posmu nomaiņa ar jauniem analoģiska izmēra paneļiem, to mehāniska piestiprināšana pie pamatnes un virsmu mazgāšana (attīrīšana), atjaunojot vizuālo un tehnisko stāvokli. | D43: obj | E43: 1
A44: PIEZĪMES:
A45: !!! | B45: Saskaņā ar LBN 501-17 "Būvizmaksu noteikšanas kārtība" lokālo tāmju formā, darba devēja sociālo nodokli (23,59%)
B46: un transporta izdevumus (%) iekļauj vienības izmaksās, neuzrāda atsevišķi
A47: !!! | B47: Visu darbu veidi un materiālu daudzumi ir notekti teorētiski. Sienas un griestu platības dotas plakņu projekcijās,
B48: bez koeficientiem, defekti – atbilstoši vizuālai apsekošanai bez platības rezervēm
A49: !!! | B49: Būvuzņēmējam ir jāievērtē darbu daudzumos minēto darbu veikšanai nepieciešamie materiāli un papilddarbi, kas nav
B50: minēti šajā sarakstā, bet bez kuriem nav iespējama galveno būvdarbu tehnoloģiski pareiza izpilde pēc spēkā
B51: esošajiem normatīviem.
A52: !!! | B52: Būvuzņēmējam ir jāapseko objekts uz vietas . Gadījumā, kad nav skaidri saprotama kāda darba veida
B53: vai materiāla nepieciešamā informācija, obligāti sazināties ar pasūtītāju pirms līguma noslēgšanas
A54: !!! | B54: Visus nepieciešamos materiālus un izstrādājumus iebūvēt atbilstoši konkrētā ražotāja instrukcijām un noteikumiem
A56: Sastādīja
C57: (paraksts un tā atšifrējums, datums)
A59: Tāme sastādīta:
A61: Pārbaudīja
C62: (paraksts un tā atšifrējums, datums)
A64: Sertifikāta Nr

Sheet 5. stāvs Gaitenis T505
C1: Būvdarbu apjomu saraksts Nr. | D1: 4
C2: 5. stāva gaiteņa (telpa Nr. 505) sienu kosmētiskais remonts.
C3: (darba veids vai konstruktīvā elementa nosaukums)
C4: Būves nosaukums: | D4: ='Kop.DA-2'!D7 -> Agroresursu un ekonomikas institūta Bioekonomikas nodaļas ēkas remonta darbi Nr.2.-2.daļa
C5: Objekta nosaukums: | D5: ='Kop.DA-2'!D8 -> Agroresursu un ekonomikas institūta Bioekonomikas nodaļas ēkas remonta darbi Nr.2.-2.daļa
C6: Objekta adrese: | D6: ='Kop.DA-2'!D9 -> Struktoru 14, Rīga
C7: Pasūtījuma Nr. | D7: AREI 2026/14
A8: Tāme sastādīta 2026. gada tirgus cenās, pamatojoties uz uzmērijumiem objektā un Pasūtītāja norādījumiem
A11: Nr.p.k. | B11: Kods | C11: Darba nosaukums | D11: Mērvienība | E11: Daudzums
C13: Sagatavošanas darbi
A14: 1 | B14: 03-00000 | C14: Durvju un logu bloku aizsardzība būvdarbu laikā, izmantojot remonta plēvi FOLSEN un līmlenti. | D14: st | E14: 3
A15: 2 | B15: 02-00000 | C15: Griestu konstrukcijas aizsardzība būvdarbu laikā, izmantojot remonta plēvi FOLSEN un līmlenti. | D15: m2 | E15: 12.23
A16: 3 | B16: 02-00000 | C16: Grīdas seguma aizsardzība būvdarbu laikā, izmantojot aizsargpapīru remonta darbiem 125 g/m2 + līmlenti. | D16: m2 | E16: 12.23
C17: Demontāžas darbi
A18: 1 | B18: 02-00000 | C18: Grīdlīstes demontāža, saglabājot tās atkārtotai montāžai pēc būvdarbu pabeigšanas. | D18: tm | E18: 13.34
A19: 2 | B19: 02-00000 | C19: Durvju apmales demontāza, saglabājot tās atkārtotai montāžai pēc būvdarbu pabeigšanas. | D19: tm | E19: 11.86
A20: 3 | B20: 02-00000 | C20: Būvgružu iekraušana konteinera, izvešana, utilizācija (Big Bag maiss vai cita alternātiva) | D20: m3 | E20: 0.5
C21: Montāžas darbi
C22: Sienas
A23: 1 | B23: 02-00000 | C23: Sienas sagatavošana apdares darbiem (Esošo uzlīmēto/nokrāsoto tapešu lokāls remonts (atlīmējušos malu nogriešana/pārlīmēšana, tukšumu špaktelēšana vienā līmenī ar struktūru, slīpēšana un gruntēšana) pirms telpas galējās pārkrāsošanas. | D23: m2 | E23: 34.14
A24: 2 | B24: 10-00000 | C24: Sienas krāsošana (Sadolin Bindo 7 Klasiski matēta krāsa sienām BW + tonis) | D24: m2 | E24: 34.14
C25: Grīda
A26: 1 | B26: 10-00000 | C26: Grīdlīstes sagatavošana krāsošanai: slīpēšana, špaktelēšana un krāsošana. | D26: tm | E26: 13.34
A27: 2 | B27: 10-00000 | C27: Grīdlīstes montāža, savstarpējo savienojumu vietu, kā arī pieslēgumu pie sienas un grīdas apstrāde ar hermētiķi. | D27: tm | E27: 13.34
C28: Dažādi darbi
A29: 1 | B29: 10-00000 | C29: Durvju apmales sagatavošana krāsošanai: slīpēšana, špaktelēšana un krāsošana. | D29: tm | E29: 11.86
A30: 2 | B30: 10-00000 | C30: Durvju apmales montāža, savstarpējo savienojumu vietu, kā arī pieslēgumu pie sienas, durvju karbas un grīdas apstrāde ar hermētiķi. | D30: tm | E30: 11.86
A31: 3 | B31: 10-00000 | C31: Durvju vertnes sagatavošana krāsošanai: slīpēšana, špaktelēšana un krāsošana. | D31: m2 | E31: 7.29
A32: 4 | B32: 10-00000 | C32: Dekoratīvās pārejas līstes montāža grīdas segumu savienojuma vietā. | D32: tm | E32: 0.9
A33: 5 | B33: 10-00000 | C33: Informatīvo uzlīmju un plākšņu atjaunošana pēc telpu kosmētiskā remonta | D33: obj. | E33: 1
A34: 6 | B34: 10-00000 | C34: Esošo elektroinstalācijas PVC kabeļu kanālu (paneļu) lokāls remonts, bojāto posmu nomaiņa ar jauniem analoģiska izmēra paneļiem, to mehāniska piestiprināšana pie pamatnes un virsmu mazgāšana (attīrīšana), atjaunojot vizuālo un tehnisko stāvokli. | D34: obj | E34: 1
A35: PIEZĪMES:
A36: !!! | B36: Saskaņā ar LBN 501-17 "Būvizmaksu noteikšanas kārtība" lokālo tāmju formā, darba devēja sociālo nodokli (23,59%)
B37: un transporta izdevumus (%) iekļauj vienības izmaksās, neuzrāda atsevišķi
A38: !!! | B38: Visu darbu veidi un materiālu daudzumi ir notekti teorētiski. Sienas un griestu platības dotas plakņu projekcijās,
B39: bez koeficientiem, defekti – atbilstoši vizuālai apsekošanai bez platības rezervēm
A40: !!! | B40: Būvuzņēmējam ir jāievērtē darbu daudzumos minēto darbu veikšanai nepieciešamie materiāli un papilddarbi, kas nav
B41: minēti šajā sarakstā, bet bez kuriem nav iespējama galveno būvdarbu tehnoloģiski pareiza izpilde pēc spēkā
B42: esošajiem normatīviem.
A43: !!! | B43: Būvuzņēmējam ir jāapseko objekts uz vietas . Gadījumā, kad nav skaidri saprotama kāda darba veida
B44: vai materiāla nepieciešamā informācija, obligāti sazināties ar pasūtītāju pirms līguma noslēgšanas
A45: !!! | B45: Visus nepieciešamos materiālus un izstrādājumus iebūvēt atbilstoši konkrētā ražotāja instrukcijām un noteikumiem
A47: Sastādīja
C48: (paraksts un tā atšifrējums, datums)
A50: Tāme sastādīta:
A52: Pārbaudīja
C53: (paraksts un tā atšifrējums, datums)
A55: Sertifikāta Nr
