Workbook

Sheet Kops
D2: Kopsavilkuma aprēķins
C3: =D6 -> Daudzfunkcionālā inovāciju centra rūpniecības iela 2, Ventspilī 4.stāva telpu pārplānošana
D4: (darba veids vai konstruktīvā elementa nosaukums)
B6: Objekta nosaukums: | D6: Daudzfunkcionālā inovāciju centra rūpniecības iela 2, Ventspilī 4.stāva telpu pārplānošana
B7: Būves nosaukums: | D7: Daudzfunkcionālā inovāciju centra rūpniecības iela 2, Ventspilī 4.stāva telpu pārplānošana
B8: Objekta adrese: | D8: Rūpniecības iela 2, Ventspils
D9: Par kopējo summmu (eiro) | E9: =E26 -> 0
D10: Kopējā darbietilpība (c/h) | E10: =I22 -> 0
B12: Nr. p.k. | C12: Kods, tāmes Nr. | D12: Būvdarbu veids vai konstruktīvā elementa nosaukums | E12: Tāmes izmaksas | F12: Tai skaitā | I12: Darbietilpība (c/h)
F13: darba alga | G13: būvizstrādājumi | H13: mehānismi
B16: 1 | C16: 1 | D16: =AR!C3 -> Vispārceltniskie darbi | E16: =AR!P38 -> 0 | F16: =AR!M38 -> 0 | G16: =AR!N38 -> 0 | H16: =AR!O38 -> 0 | I16: =AR!L38 -> 0
B17: 2 | C17: 2 | D17: =AVK!C3 -> Apkure, ventilācija, kondicionēšana | E17: =AVK!Q52 -> 0 | F17: =AVK!N52 -> 0 | G17: =AVK!O52 -> 0 | H17: =AVK!P52 -> 0 | I17: =AVK!M52 -> 0
B18: 3 | C18: 3 | D18: =UK!C3 -> Ūdensapgāde (iekšējā) | E18: =UK!Q22 -> 0 | F18: =UK!N22 -> 0 | G18: =UK!O22 -> 0 | H18: =UK!P22 -> 0 | I18: =UK!M22 -> 0
B19: 4 | C19: 4 | D19: =EL!C3 -> Elektroapgāde (iekšējā) | E19: =EL!Q55 -> 0 | F19: =EL!N55 -> 0 | G19: =EL!O55 -> 0 | H19: =EL!P55 -> 0 | I19: =EL!M55 -> 0
B20: 5 | C20: 5 | D20: ='ESS-PK'!C3 -> Piekļuves kontrole | E20: ='ESS-PK'!Q34 -> 0 | F20: ='ESS-PK'!N34 -> 0 | G20: ='ESS-PK'!O34 -> 0 | H20: ='ESS-PK'!P34 -> 0 | I20: ='ESS-PK'!M34 -> 0
B21: 6 | C21: 6 | D21: =UATS!B3 -> Ugunsgrēka atklāšanas un trauksmes signalizācijas sistēmas | E21: =UATS!Q37 -> 0 | F21: =UATS!N37 -> 0 | G21: =UATS!O37 -> 0 | H21: =UATS!P37 -> 0 | I21: =UATS!M37 -> 0
D22: Kopā
D23: Virsizdevumi (__%)
D24: t.sk.darba aizsardzība
D25: Peļņa (__%)
D26: Pavisam kopā | E26: =SUM(E22:E23,E25:E25) -> 0
B28: Sastādīja:
C29: (paraksts un tā atšifrējums, datums)
B32: Pārbaudīja:
C33: (paraksts un tā atšifrējums, datums)

Sheet AR
C2: Lokālā tāme Nr. 1
C3: Vispārceltniskie darbi
C4: (būvdarbu veids vai konstruktīvā elementa nosaukums)
A6: Objekta nosaukums: | C6: Daudzfunkcionālā inovāciju centra rūpniecības iela 2, Ventspilī 4.stāva telpu pārplānošana
A7: Būves nosaukums: | C7: Daudzfunkcionālā inovāciju centra rūpniecības iela 2, Ventspilī 4.stāva telpu pārplānošana
A8: Objekta adrese: | C8: Rūpniecības iela 2, Ventspils
P9: Tāme sastādīta …..................................
A10: Nr. p.k. | B10: Kods | C10: Būvdarbu nosaukums | D10: Mērv. | E10: Daudz. | F10: Vienības izmaksas | L10: Kopā uz visu apjomu
F11: laika norma (c/h) | G11: darba samaksas likme (euro/h) | H11: darba alga | I11: būv- izstrādājumi | J11: mehānismi | K11: Kopā | L11: darbietilpība (c/h) | M11: darba alga | N11: būv- izstrādājumi | O11: mehānismi | P11: summa
A14: 1 | C14: Starpsienas | F14: 0 | G14: 0 | H14: 0 | I14: 0 | J14: 0 | K14: =ROUND(SUM(H14:J14),2) -> 0 | L14: =ROUND(F14*E14,2) -> 0 | M14: =ROUND(H14*E14,2) -> 0 | N14: =ROUND(I14*E14,2) -> 0 | O14: =ROUND(J14*E14,2) -> 0 | P14: =SUM(M14:O14) -> 0
A15: 2 | C15: S-07 | F15: 0 | G15: 0 | H15: 0 | I15: 0 | J15: 0 | K15: =ROUND(SUM(H15:J15),2) -> 0 | L15: =ROUND(F15*E15,2) -> 0 | M15: =ROUND(H15*E15,2) -> 0 | N15: =ROUND(I15*E15,2) -> 0 | O15: =ROUND(J15*E15,2) -> 0 | P15: =SUM(M15:O15) -> 0
A16: 3 | C16: Virsmas apdare, špaktelēts, slīpēts, krāsots, tonis NCS S1000-N vai ekvivalents | D16: m2 | E16: 55
A17: 4 | C17: Knauf GKB 12.5mm vai ekvivalents | D17: m2 | E17: 57
A18: 5 | C18: Knauf GKB 12.5mm vai ekvivalents | D18: m2 | E18: 57
A19: 6 | C19: Profils CW 100 ar soli 600 mm vai ekvivalents | D19: m2 | E19: 57
A20: 7 | C20: Knauf Insulation TP115 minerālā izolācija (16.8 kg/m3) 100mm, klase A min 30kg/m3 vai ekvivalents | D20: m2 | E20: 57
A21: 8 | C21: Knauf GKB 12.5mm vai ekvivalents | D21: m2 | E21: 57
A22: 9 | C22: Knauf GKB 12.5mm vai ekvivalents | D22: m2 | E22: 57
A23: 10 | C23: Virsmas apdare, špaktelēts, slīpēts, krāsots, tonis NCS S1000-N vai ekvivalents | D23: m2 | E23: 55
A24: 11 | C24: Esošās starpsienas
A25: 12 | C25: Virsmas apdare, krāsots - tonis NCS S1000-N. t.sk. lokāli špaktelēts, slīpēts. Vai ekvivalents | D25: m2 | E25: 42
A26: 13 | C26: Stikla starpsienas
A27: 14 | C27: Pg-50_N, 3600x3300 mm, gluda matēta virsma, krāsota RAL 9006; Akustika - 31dB; t.sk. durvis 1000x2400mm, rokturis - inox, durvju aizvērējs - ar sliedi, eņģes - cilindriskas, slēdzene - inox. Ar piekļuves kontroli. Vai ekvivalents | D27: m2 | E27: 11.88
A28: 15 | C28: Pg-51_N, 4270x3300 mm, gluda matēta virsma, krāsota RAL 9006; Akustika 31dB; t.sk. durvis 1000x2400 mm, rokturis - inox, durvju aizvērējs - ar sliedi, eņģes - cilindriskas, slēdzene - inox. Ar piekļuve kontroli. Vai ekvivalents | D28: m2 | E28: 14.091
A29: 16 | C29: Pg-52_N, 5600x3000 mm, gluda matēta virsma, krāsota RAL 9006; Akustiba 31dB; t.sk. durvis 1000x2400 mm, rokturis - inox, durvju aizvērējs - ar sliedi, eņģes - cilindriskas, slēdzene - inox. Ar piekļuves kontroli. Vai ekvivalents | D29: m2 | E29: 16.8
A30: 17 | C30: Pg-53_N, 5030x3000 mm, gluda matēta virsma, krāsota RAL 9006; Akustiba 31dB; t.sk. durvis 1000x2400 mm, rokturis - inox, durvju aizvērējs - ar sliedi, eņģes - cilindriskas, slēdzene - inox. Ar piekļuve kontroli. Vai ekvivalents | D30: m2 | E30: 15.09
A31: 18 | C31: Grīdas
A32: 19 | C32: Esošo grīdas apdares demontāža | D32: m2 | E32: 38.8
A33: 20 | C33: Jaunās grīdas apdare PVC - nodilumizturības klase 42, pretslīdes koeficients R10, ugunsreakcijas klase Bfl-s1 – Tarkett Rekord Antracite 25120003, virsslānis 0.8 mm vai ekvivalents | D33: m2 | E33: 38.8
A34: 21 | C34: Jauno starpsienu grīdlīstes | D34: m | E34: 20.56
A35: 22 | C35: Stiklu starpsienu grīdlīstes no vienas puses | D35: m | E35: 14.5
A36: 23 | C36: Griesti
A37: 24 | C37: Esošo piekārto griestu pārvietošana atbilstoši telpai. | D37: kpl | E37: 1
C38: Tiešās izmaksas kopā, t.sk. darba devēja sociālais nodoklis (23.59%) | L38: =SUM(L14:L37) -> 0 | M38: =SUM(M14:M37) -> 0 | N38: =SUM(N14:N37) -> 0 | O38: =SUM(O14:O37) -> 0 | P38: =SUM(P14:P37) -> 0
A40: Piezīmes:
A41: 1. | B41: Būvuzņēmējam jāievērtē darbu apjomu sarakstā minēto darbu veikšanai nepieciešamie materiāli, palīgmateriāli un
B42: papildus darbi, kas nav minēti šajā sarakstā, bet bez kuriem nebūtu iespējama būvdarbu tehnoloģiski pareiza un
B43: spēkā esošiem normatīviem atbilstoša veikšana pilnā apmērā, tai skaitā detalizētu darba rasējumu izstrāde, ja tādi
B44: nepieciešami, un šajos rasējumos uzrādīto risinājumu realizācija.
A45: 2. | B45: Atsevišķu materiālu apjomi doti bez rezerves.
A46: 3. | B46: Saskaņojot ar pasūtītāju, projektētāju un, ja nepieciešams, ar inženierkomunikāciju ekspluatējošo
B47: organizāciju iespējams izmantot ekvivalentas kvalitātes citu ražotāju izstrādājumus.
A49: Sastādīja:
B50: (paraksts un tā atšifrējums, datums)
A52: Pārbaudīja:
B53: (paraksts un tā atšifrējums, datums)

Sheet AVK
C2: Lokālā tāme Nr. 2
C3: Apkure, ventilācija, kondicionēšana
C4: (būvdarbu veids vai konstruktīvā elementa nosaukums)
A6: Objekta nosaukums: | C6: Daudzfunkcionālā inovāciju centra rūpniecības iela 2, Ventspilī 4.stāva telpu pārplānošana
A7: Būves nosaukums: | C7: Daudzfunkcionālā inovāciju centra rūpniecības iela 2, Ventspilī 4.stāva telpu pārplānošana
A8: Objekta adrese: | C8: Rūpniecības iela 2, Ventspils
Q9: Tāme sastādīta …..................................
A10: Nr. p.k. | B10: Kods | C10: Būvdarbu nosaukums | D10: Izmēri | E10: Mērv. | F10: Daudz. | G10: Vienības izmaksas | M10: Kopā uz visu apjomu
G11: laika norma (c/h) | H11: darba samaksas likme (euro/h) | I11: darba alga | J11: būv- izstrādājumi | K11: mehānismi | L11: Kopā | M11: darbietilpība (c/h) | N11: darba alga | O11: būv- izstrādājumi | P11: mehānismi | Q11: summa
A14: 1 | C14: Esošas sistēmas PN5 pārbūve | G14: 0 | H14: 0 | I14: 0 | J14: 0 | K14: 0 | L14: =ROUND(SUM(I14:K14),2) -> 0 | M14: =ROUND(G14*F14,2) -> 0 | N14: =ROUND(I14*F14,2) -> 0 | O14: =ROUND(J14*F14,2) -> 0 | P14: =ROUND(K14*F14,2) -> 0 | Q14: =SUM(N14:P14) -> 0
A15: 2 | C15: Pārplūdes ierīce "Swegon" ORTOa-500 vai ekvivalents | D15: 500x50 | E15: gb | F15: 4
A16: 3 | C16: Sienas savienojums “Swegon” VGR-500 vai ekvivalents | D16: 500x50 | E16: gb | F16: 2
A17: 4 | C17: Pārplūdes ierīce “Swegon” ORTOA-800 vai ekvivalents | D17: 800x50 | E17: gb | F17: 2
A18: 5 | C18: Sienas savienojums “Swegon” VGR-800 vai ekvivalents | D18: 800x50 | E18: gb | F18: 1
A19: 6 | C19: Reste “Swegon” GRCb-200, brīvais laukums 90% vai ekvivalents | D19: Ø200 | E19: gb | F19: 2
A20: 7 | C20: Trokšņa slāpētājs “Lindab” LRCB 200 500 vai ekvivalents | D20: Ø200 | E20: gb | F20: 1
A21: 8 | C21: Gaisa vads, cinkota skārda biezums 0.5 mm (ieskaitot uzmavas) | D21: Ø125 | E21: m | F21: 8
A22: 9 | C22: Gaisa vads, cinkota skārda biezums 0.5 mm (ieskaitot uzmavas) | D22: Ø200 | E22: m | F22: 12
A23: 10 | C23: Cinkota skārda gaisa vada līkums 45° | D23: Ø200 | E23: gb | F23: 2
A24: 11 | C24: Cinkota skārda gaisa vada līkums 90° | D24: Ø125 | E24: gb | F24: 2
A25: 12 | C25: Cinkota skārda gaisa vada līkums 90° | D25: Ø200 | E25: gb | F25: 1
A26: 13 | C26: Sedli apaļam gaisa vadam | D26: 200/200 | E26: gb | F26: 1
A27: 14 | C27: Porgumijas izolācija Armaflex UD-13-99/EA vai ekvivalents | D27: 13mm | E27: m2 | F27: 10
A28: 15 | C28: Izolācijas montāžas palīgmateriāli | E28: kpl | F28: 1
A29: 16 | C29: Atvērumu aizdare un hermetizācija | E29: kpl | F29: 1
A30: 17 | C30: Stiprinājumi un balsti | E30: kpl | F30: 1
A31: 18 | C31: Esošu gaisa vadu demontāža | E31: m | F31: 12
A32: 19 | C32: Esošu gaisa sadalītāju demontāža un pārvietošana | E32: gb | F32: 4
A33: 20 | C33: Ventilācijas sistēmas aerodinamiskā regulēšana | E33: kpl | F33: 1
A34: 21 | C34: Montāžas komplekts, palīgmateriāli | E34: kpl | F34: 1
A35: 22 | C35: Esošās sistēmas K3 pārbūve
A36: 23 | C36: Kapara caurules spolē Ø6,35 x 0,8 mm | E36: m | F36: 7
A37: 24 | C37: Kapara caurules spolē Ø9,52 x 0,8 mm | E37: m | F37: 2
A38: 25 | C38: Kapara caurules stangās Ø12,7 x 1,0 mm | E38: m | F38: 5
A39: 26 | C39: Kapara cauruļvadu veidgabali | E39: gb | F39: 14
A40: 27 | C40: Cauruļvadu porgumijas izolācijas čaulas Kaiflex EF-T-2m-13x006 vai ekvivalents | D40: Ø6, b=13 mm | E40: m | F40: 7
A41: 28 | C41: Cauruļvadu porgumijas izolācijas čaulas Kaiflex EF-T-2m-13x010 vai ekvivalents | D41: Ø10, b=13 mm | E41: m | F41: 2
A42: 29 | C42: Cauruļvadu porgumijas izolācijas čaulas Kaiflex EF-T-2m-13x012 vai ekvivalents | D42: Ø12, b=13 mm | E42: m | F42: 5
A43: 30 | C43: Izolācijas montāžas palīgmateriāli | E43: kpl | F43: 1
A44: 31 | C44: Freons R410A, palīgmateriāli | E44: kpl | F44: 1
A45: 32 | C45: Cauruļvadu stiprinājumi un balsti | E45: kpl | F45: 1
A46: 33 | C46: Atvērumu aizdare un hermetizācija | E46: kpl | F46: 1
A47: 34 | C47: Vājstrāvu un elektroinstalācijas kabeļi un palīgmateriāli | E47: kpl | F47: 1
A48: 35 | C48: Esošu cauruļvadu demontāža | E48: m | F48: 3
A49: 36 | C49: Esošu telpas dzesētāju demontāža un pārvietošana | E49: gb | F49: 3
A50: 37 | C50: Freona rekuperācija un uzpildīšana | E50: kpl | F50: 1
A51: 38 | C51: Montāžas komplekts, palīgmateriāli | E51: kpl | F51: 1
C52: Tiešās izmaksas kopā, t.sk. darba devēja sociālais nodoklis (23.59%) | M52: =SUM(M14:M51) -> 0 | N52: =SUM(N14:N51) -> 0 | O52: =SUM(O14:O51) -> 0 | P52: =SUM(P14:P51) -> 0 | Q52: =SUM(Q14:Q51) -> 0
A54: Piezīmes:
A55: 1. | B55: Būvuzņēmējam jāievērtē darbu apjomu sarakstā minēto darbu veikšanai nepieciešamie materiāli, palīgmateriāli un
B56: papildus darbi, kas nav minēti šajā sarakstā, bet bez kuriem nebūtu iespējama būvdarbu tehnoloģiski pareiza un
B57: spēkā esošiem normatīviem atbilstoša veikšana pilnā apmērā, tai skaitā detalizētu darba rasējumu izstrāde, ja tādi
B58: nepieciešami, un šajos rasējumos uzrādīto risinājumu realizācija.
A59: 2. | B59: Atsevišķu materiālu apjomi doti bez rezerves.
A60: 3. | B60: Saskaņojot ar pasūtītāju, projektētāju un, ja nepieciešams, ar inženierkomunikāciju ekspluatējošo
B61: organizāciju iespējams izmantot ekvivalentas kvalitātes citu ražotāju izstrādājumus.
A63: Sastādīja:
B64: (paraksts un tā atšifrējums, datums)
A66: Pārbaudīja:
B67: (paraksts un tā atšifrējums, datums)

Sheet UK
C2: Lokālā tāme Nr. 3
C3: Ūdensapgāde (iekšējā)
C4: (būvdarbu veids vai konstruktīvā elementa nosaukums)
A6: Objekta nosaukums: | C6: Daudzfunkcionālā inovāciju centra rūpniecības iela 2, Ventspilī 4.stāva telpu pārplānošana
A7: Būves nosaukums: | C7: Daudzfunkcionālā inovāciju centra rūpniecības iela 2, Ventspilī 4.stāva telpu pārplānošana
A8: Objekta adrese: | C8: Rūpniecības iela 2, Ventspils
Q9: Tāme sastādīta …..................................
A10: Nr. p.k. | B10: Kods | C10: Būvdarbu nosaukums | D10: Piezīmes | E10: Mērv. | F10: Daudz. | G10: Vienības izmaksas | M10: Kopā uz visu apjomu
G11: laika norma (c/h) | H11: darba samaksas likme (euro/h) | I11: darba alga | J11: būv- izstrādājumi | K11: mehānismi | L11: Kopā | M11: darbietilpība (c/h) | N11: darba alga | O11: būv- izstrādājumi | P11: mehānismi | Q11: summa
A14: 1 | C14: Kondensāta kanalizācija K3 darbi | G14: 0 | H14: 0 | I14: 0 | J14: 0 | K14: 0 | L14: =ROUND(SUM(I14:K14),2) -> 0 | M14: =ROUND(G14*F14,2) -> 0 | N14: =ROUND(I14*F14,2) -> 0 | O14: =ROUND(J14*F14,2) -> 0 | P14: =ROUND(K14*F14,2) -> 0 | Q14: =SUM(N14:P14) -> 0
A15: 2 | C15: Uponor caurule (iekšdarbiem) OD32 PP SN4 montāža vai ekvivalents | E15: m | F15: 5
A16: 3 | C16: Pieslēgums pie telpas dzesētāja | E16: gb | F16: 3
A17: 4 | C17: Esošās caurules OD32 demontāža | E17: m | F17: 1
A18: 5 | C18: Kondensāta kanalizācija K3 materiāli
A19: 6 | C19: Uponor caurule (iekšdarbiem) ar uzmavu OD32 PP SN4 vai ekvivalents | D19: Uponor | E19: m | F19: 5
A20: 7 | C20: Līkums OD32-450 | D20: Uponor | E20: gb | F20: 5
A21: 8 | C21: Stiprinājuma skavas caurulei OD32 | E21: gb | F21: 5
C22: Tiešās izmaksas kopā, t.sk. darba devēja sociālais nodoklis (23.59%) | M22: =SUM(M14:M21) -> 0 | N22: =SUM(N14:N21) -> 0 | O22: =SUM(O14:O21) -> 0 | P22: =SUM(P14:P21) -> 0 | Q22: =SUM(Q14:Q21) -> 0
A24: Piezīmes:
A25: 1. | B25: Būvuzņēmējam jāievērtē darbu apjomu sarakstā minēto darbu veikšanai nepieciešamie materiāli, palīgmateriāli un
B26: papildus darbi, kas nav minēti šajā sarakstā, bet bez kuriem nebūtu iespējama būvdarbu tehnoloģiski pareiza un
B27: spēkā esošiem normatīviem atbilstoša veikšana pilnā apmērā, tai skaitā detalizētu darba rasējumu izstrāde, ja tādi
B28: nepieciešami, un šajos rasējumos uzrādīto risinājumu realizācija.
A29: 2. | B29: Atsevišķu materiālu apjomi doti bez rezerves.
A30: 3. | B30: Saskaņojot ar pasūtītāju, projektētāju un, ja nepieciešams, ar inženierkomunikāciju ekspluatējošo
B31: organizāciju iespējams izmantot ekvivalentas kvalitātes citu ražotāju izstrādājumus.
A33: Sastādīja:
B34: (paraksts un tā atšifrējums, datums)
A37: Pārbaudīja:
B38: (paraksts un tā atšifrējums, datums)

Sheet EL
A2: Lokālā tāme Nr. 4
C3: Elektroapgāde (iekšējā)
C4: (būvdarbu veids vai konstruktīvā elementa nosaukums)
A6: Objekta nosaukums: | C6: Daudzfunkcionālā inovāciju centra rūpniecības iela 2, Ventspilī 4.stāva telpu pārplānošana
A7: Būves nosaukums: | C7: Daudzfunkcionālā inovāciju centra rūpniecības iela 2, Ventspilī 4.stāva telpu pārplānošana
A8: Objekta adrese: | C8: Rūpniecības iela 2, Ventspils
Q9: Tāme sastādīta …..................................
A10: Nr. p.k. | B10: Kods | C10: Būvdarbu nosaukums | D10: Piezīmes | E10: Mērv. | F10: Daudz. | G10: Vienības izmaksas | M10: Kopā uz visu apjomu
G11: laika norma (c/h) | H11: darba samaksas likme (euro/h) | I11: darba alga | J11: būv- izstrādājumi | K11: mehānismi | L11: Kopā | M11: darbietilpība (c/h) | N11: darba alga | O11: būv- izstrādājumi | P11: mehānismi | Q11: summa
A14: 1 | C14: Spēka tīkli | G14: 0 | H14: 0 | I14: 0 | J14: 0 | K14: 0 | L14: =ROUND(SUM(I14:K14),2) -> 0 | M14: =ROUND(G14*F14,2) -> 0 | N14: =ROUND(I14*F14,2) -> 0 | O14: =ROUND(J14*F14,2) -> 0 | P14: =ROUND(K14*F14,2) -> 0 | Q14: =SUM(N14:P14) -> 0
A15: 2 | C15: Kabelis ar vara dzīslām, Cu 3x2.5 vai ekvivalents | D15: Min. Dca-s2,d2,a2 | E15: m | F15: 125
A16: 3 | C16: Zemējuma izolēts vads, Cu 4 vai ekvivalents | D16: Min. Dca-s2,d2,a2 | E16: m | F16: 35
A17: 4 | C17: Kontaktligzda ar kārbu un rāmīti, 2-vietīga; 1P+N+Z 16A; z/a | D17: tips un tonis analogs esošām | E17: kpl | F17: 4
A18: 5 | C18: Nozarkārba, v/a; IP44 | E18: gb | F18: 3
A19: 6 | C19: Plastmasas instalācijas caurule ar distances stiprinājumu, savienojumiem un līkumiem, D20, LSHF vai ekvivalents | E19: m | F19: 135
A20: 7 | C20: Plastmasas gofrētā caurule, D20, LSHF vai ekvivalents | E20: m | F20: 25
A21: 8 | C21: Apgaismojuma tīkli
A22: 9 | C22: Kabelis ar vara dzīslām, Cu 3x1.5 | D22: Min. Dca-s2,d2,a2 | E22: m | F22: 100
A23: 10 | C23: Kabelis ar vara dzīslām, Cu 2x1.5 | D23: Min. Dca-s2,d2,a2 | E23: m | F23: 100
A24: 11 | C24: Gaismeklis ar LED un stiprinājuma elementiem, Kalis 65 S MPR L=3095; 8140lm; 91W; 3000K; IP20; DALI vai ekvivalents | D24: saudzīgi demontēt, uzstādīt jaunajā vietā | E24: kpl | F24: 1
A25: 12 | C25: Gaismeklis ar LED un stiprinājuma elementiem, Kalis 65 S MPR L=4492; 10880lm; 132W; 3000K; IP20; DALI vai ekvivalents | E25: kpl | F25: 2
A26: 13 | C26: Gaismeklis ar LED un stiprinājuma elementiem, Kalis 65 S MPR L=1695; 4440lm; 50W; 3000K; IP20; DALI vai ekvivalents | E26: kpl | F26: 2
A27: 14 | C27: Gaismeklis ar LED un stiprinājuma elementiem, ONPLANA D11 OTA22 3000-830 ET DD 01; DALI; 25W; 2900lm; D445; 3000K; IP40 (RAL9006) vai ekvivalents | E27: kpl | F27: 10
A28: 15 | C28: Apgaismojuma slēdzis ar kārbu un rāmīti, DALI MCU; 1P 10A; z/a; IP20; RAL9006 vai ekvivalents | E28: kpl | F28: 4
A29: 16 | C29: Nozarkārba, v/a; IP44 | E29: gb | F29: 5
A30: 17 | C30: Slēdža sienas montāžas kārba, 1-viet. | D30: izmantot esošiem, pāceltiem slēdžiem, precizēt tipu un toni | E30: gb | F30: 2
A31: 18 | C31: Slēdža rāmītis, 1-viet. | E31: gb | F31: 2
A32: 19 | C32: Slēdža sienas montāžas kārba, 2-viet. | E32: gb | F32: 1
A33: 20 | C33: Slēdža rāmītis, 2-viet. | E33: gb | F33: 1
A34: 21 | C34: Plastmasas instalācijas caurule ar distances stiprinājumu, savienojumiem un līkumiem, D20, LSHF | E34: m | F34: 100
A35: 22 | C35: Plastmasas gofrētā caurule, D20, LSHF vai ekvivalents | E35: m | F35: 100
A36: 23 | C36: Avārijas apgaismojuma tīkli
A37: 24 | C37: Kabelis ar vara dzīslām, Cu 3x2.5 vai ekvivalents | E37: m | F37: 25
A38: 25 | C38: Avārijas apgaismojuma gaismeklis kopā ar stiprinājuma elementiem, INFINITY II B ar "TRAUKSMES POGA" piktogrammu; LED 3W, pelēkā krāsā vai ekvivalents | D38: saudzīgi demontēt, uzstādīt jaunajā vietā | E38: kpl | F38: 1
A39: 26 | C39: Avārijas apgaismojuma gaismeklis kopā ar stiprinājuma elementiem, AXNO; LED 3W, pelēkā krāsā vai ekvivalents | D39: saudzīgi demontēt, uzstādīt jaunajā vietā | E39: kpl | F39: 1
A40: 27 | C40: Nozarkārba, v/a; IP44 | E40: gb | F40: 4
A41: 28 | C41: Plastmasas instalācijas caurule ar distances stiprinājumu, savienojumiem un līkumiem, D20, LSHF vai ekvivalents | E41: m | F41: 20
A42: 29 | C42: Plastmasas gofrētā caurule, D20, LSHF vai ekvivalents | E42: m | F42: 5
A43: 30 | C43: Sistēmas konfigurēšana un programmēšana | E43: kpl | F43: 1
A44: 31 | C44: Objekta marķēšana ar ugunsdzēsības līdzekļu zīmēm | E44: obj | F44: 1
A45: 32 | C45: Visam objektam
A46: 33 | C46: Ugunsdrošais blīvējums kabeļu caurvadiem | E46: obj | F46: 1
A47: 34 | C47: Neuzskaitītie palīgmateriāli | E47: obj | F47: 1
A48: 35 | C48: Caurumu kalšana starpsienās | E48: obj | F48: 1
A49: 36 | C49: Esošās (saglabājamās) kabeļu instalācijas pārbaude, mērījumi, nostiprināšana, aizsardzība pret mehaniskiem bojajumiem, marķējums (atbilstoši MK noteikumiem Nr.238) | E49: obj | F49: 1
A50: 37 | C50: Jaunās kabeļu instalācijas pārbaude, mērījumi, nomarķējums (atbilstoši MK noteikumiem Nr.238) | E50: obj | F50: 1
A51: 38 | C51: Nevajadzīgas instalācijas atvienošana, saudzīga demontāža | E51: obj | F51: 1
A52: 39 | C52: Sienas atjaunošana | D52: esošas ģipškartona sienas, kur paredzēta apgaismojuma slēdžu demontāža vai pārlikšana | E52: obj | F52: 1
A53: 40 | C53: Nevajadzīgo caurumu aizdare | E53: obj | F53: 1
A54: 41 | C54: Izpilddokumentācijas izstrāde | E54: obj | F54: 1
C55: Tiešās izmaksas kopā, t.sk. darba devēja sociālais nodoklis (23.59%) | M55: =SUM(M14:M54) -> 0 | N55: =SUM(N14:N54) -> 0 | O55: =SUM(O14:O54) -> 0 | P55: =SUM(P14:P54) -> 0 | Q55: =SUM(Q14:Q54) -> 0
A57: Piezīmes:
A58: 1. | B58: Būvuzņēmējam jāievērtē darbu apjomu sarakstā minēto darbu veikšanai nepieciešamie materiāli, palīgmateriāli un
B59: papildus darbi, kas nav minēti šajā sarakstā, bet bez kuriem nebūtu iespējama būvdarbu tehnoloģiski pareiza un
B60: spēkā esošiem normatīviem atbilstoša veikšana pilnā apmērā, tai skaitā detalizētu darba rasējumu izstrāde, ja tādi
B61: nepieciešami, un šajos rasējumos uzrādīto risinājumu realizācija.
A62: 2. | B62: Atsevišķu materiālu apjomi doti bez rezerves.
A63: 3. | B63: Saskaņojot ar pasūtītāju, projektētāju un, ja nepieciešams, ar inženierkomunikāciju ekspluatējošo
B64: organizāciju iespējams izmantot ekvivalentas kvalitātes citu ražotāju izstrādājumus.
A66: Sastādīja:
B67: (paraksts un tā atšifrējums, datums)
A69: Pārbaudīja:
B70: (paraksts un tā atšifrējums, datums)

Sheet ESS-PK
A2: Lokālā tāme Nr. 5
C3: Piekļuves kontrole
C4: (būvdarbu veids vai konstruktīvā elementa nosaukums)
A6: Objekta nosaukums: | C6: Daudzfunkcionālā inovāciju centra rūpniecības iela 2, Ventspilī 4.stāva telpu pārplānošana
A7: Būves nosaukums: | C7: Daudzfunkcionālā inovāciju centra rūpniecības iela 2, Ventspilī 4.stāva telpu pārplānošana
A8: Objekta adrese: | C8: Rūpniecības iela 2, Ventspils
Q9: Tāme sastādīta …..................................
A10: Nr. p.k. | B10: Kods | C10: Būvdarbu nosaukums | D10: Piezīmes | E10: Mērv. | F10: Daudz. | G10: Vienības izmaksas | M10: Kopā uz visu apjomu
G11: laika norma (c/h) | H11: darba samaksas likme (euro/h) | I11: darba alga | J11: būv- izstrādājumi | K11: mehānismi | L11: Kopā | M11: darbietilpība (c/h) | N11: darba alga | O11: būv- izstrādājumi | P11: mehānismi | Q11: summa
A14: 1 | C14: Darbi un materiāli | G14: 0 | H14: 0 | I14: 0 | J14: 0 | K14: 0 | L14: =ROUND(SUM(I14:K14),2) -> 0 | M14: =ROUND(G14*F14,2) -> 0 | N14: =ROUND(I14*F14,2) -> 0 | O14: =ROUND(J14*F14,2) -> 0 | P14: =ROUND(K14*F14,2) -> 0 | Q14: =SUM(N14:P14) -> 0
A15: 2 | C15: 2 durvju kontrolieris ar korpusu un barošanas bloku, FS7302PX12 vai ekvivalents | D15: analogs esošiem | E15: kpl | F15: 2
A16: 3 | C16: Akumulatoru baterija 12V 7Ah, FG20721 vai ekvivalents | E16: gb | F16: 2
A17: 4 | C17: Nolasītājs, AY-K12C vai ekvivalents | E17: gb | F17: 4
A18: 5 | C18: Proximity kartiņa nelokāma (darba frekvence 125kHz) vai ekvivalents | D18: precizēt pie pasūtītāja | E18: obj | F18: 1
A19: 6 | C19: Kabelis ar vara dzīslām, Cu 3x1.5 vai ekvivalents | D19: Min. Dca-s2,d2,a2 | E19: m | F19: 35
A20: 7 | C20: Datu kabelis FTP 4x2x0.5 Cat5e vai ekvivalents | E20: m | F20: 115
A21: 8 | C21: Kabelis, 12V 2x1 LSZH vai ekvivalents | E21: m | F21: 140
A22: 9 | C22: Plastmasas instalācijas caurule ar distances stiprinājumu, savienojumiem un līkumiem, D16, LSHF vai ekvivalents | E22: m | F22: 250
A23: 10 | C23: Plastmasas gofrētā caurule, D16, LSHF vai ekvivalents | E23: m | F23: 40
A24: 11 | C24: Ugunsdrošais blīvējums kabeļu caurvadiem | E24: obj | F24: 1
A25: 12 | C25: Neuzskaitītie palīgmateriāli | E25: obj | F25: 1
A26: 13 | C26: Caurumu kalšana starpsienās | E26: obj | F26: 1
A27: 14 | C27: Kabeļu instalācijas pārbaude, mērījumi, nomarķējums (atbilstoši MK noteikumiem Nr.238) | E27: obj | F27: 1
A28: 15 | C28: Sistēmas konfigurēšana un programmēšana | E28: kpl | F28: 1
A29: 16 | C29: Zonu kartes un izpilddokumentācijas izstrāde | E29: obj | F29: 1
A30: 17 | C30: Esošās piekļuves kontroles sistēmas posma pārbūve(kabeļa atvienojums, karšu nolasītāja saudzīga demontāža, kabeļa un nolasītāja pārlikšana jaunajā vietā, pārbaude) | D30: P.K.21/1 | E30: kpl | F30: 1
A31: 18 | C31: Sienas atjaunošana | D31: esošas ģipškartona sienas, kur paredzēta kabeļa un nolasītāja demontāža un pārlikšana | E31: obj | F31: 1
A32: 19 | C32: Nevajadzīgo caurumu aizdare | E32: obj | F32: 1
G33: 0 | H33: 0 | I33: 0 | J33: 0 | K33: 0 | L33: =ROUND(SUM(I33:K33),2) -> 0 | M33: =ROUND(G33*F33,2) -> 0 | N33: =ROUND(I33*F33,2) -> 0 | O33: =ROUND(J33*F33,2) -> 0 | P33: =ROUND(K33*F33,2) -> 0 | Q33: =SUM(N33:P33) -> 0
C34: Tiešās izmaksas kopā, t.sk. darba devēja sociālais nodoklis (23.59%) | M34: =SUM(M14:M33) -> 0 | N34: =SUM(N14:N33) -> 0 | O34: =SUM(O14:O33) -> 0 | P34: =SUM(P14:P33) -> 0 | Q34: =SUM(Q14:Q33) -> 0
A36: Piezīmes:
A37: 1. | B37: Būvuzņēmējam jāievērtē darbu apjomu sarakstā minēto darbu veikšanai nepieciešamie materiāli, palīgmateriāli un
B38: papildus darbi, kas nav minēti šajā sarakstā, bet bez kuriem nebūtu iespējama būvdarbu tehnoloģiski pareiza un
B39: spēkā esošiem normatīviem atbilstoša veikšana pilnā apmērā, tai skaitā detalizētu darba rasējumu izstrāde, ja tādi
B40: nepieciešami, un šajos rasējumos uzrādīto risinājumu realizācija.
A41: 2. | B41: Atsevišķu materiālu apjomi doti bez rezerves.
A42: 3. | B42: Saskaņojot ar pasūtītāju, projektētāju un, ja nepieciešams, ar inženierkomunikāciju ekspluatējošo
B43: organizāciju iespējams izmantot ekvivalentas kvalitātes citu ražotāju izstrādājumus.
A45: Sastādīja:
B46: (paraksts un tā atšifrējums, datums)
A48: Pārbaudīja:
B49: (paraksts un tā atšifrējums, datums)

Sheet UATS
A2: Lokālā tāme Nr. 6
B3: Ugunsgrēka atklāšanas un trauksmes signalizācijas sistēmas
B4: (būvdarbu veids vai konstruktīvā elementa nosaukums)
A6: Objekta nosaukums: | C6: Daudzfunkcionālā inovāciju centra rūpniecības iela 2, Ventspilī 4.stāva telpu pārplānošana
A7: Būves nosaukums: | C7: Daudzfunkcionālā inovāciju centra rūpniecības iela 2, Ventspilī 4.stāva telpu pārplānošana
A8: Objekta adrese: | C8: Rūpniecības iela 2, Ventspils
Q9: Tāme sastādīta …..................................
A10: Nr. p.k. | B10: Kods | C10: Būvdarbu nosaukums | D10: Piezīmes | E10: Mērv. | F10: Daudz. | G10: Vienības izmaksas | M10: Kopā uz visu apjomu
G11: laika norma (c/h) | H11: darba samaksas likme (euro/h) | I11: darba alga | J11: būv- izstrādājumi | K11: mehānismi | L11: Kopā | M11: darbietilpība (c/h) | N11: darba alga | O11: būv- izstrādājumi | P11: mehānismi | Q11: summa
A14: 1 | C14: Darbi un materiāli | G14: 0 | H14: 0 | I14: 0 | J14: 0 | K14: 0 | L14: =ROUND(SUM(I14:K14),2) -> 0 | M14: =ROUND(G14*F14,2) -> 0 | N14: =ROUND(I14*F14,2) -> 0 | O14: =ROUND(J14*F14,2) -> 0 | P14: =ROUND(K14*F14,2) -> 0 | Q14: =SUM(N14:P14) -> 0
A15: 2 | C15: Adrešu optiskais dūmu detektors, SensoIRIS S130/31060049 vai ekvivalents | D15: analogs esošiem | E15: gb | F15: 3
A16: 3 | C16: Adrešu optiskais dūmu detektors, SensoIRIS S130 IS vai ekvivalents | E16: gb | F16: 1
A17: 4 | C17: Bāze, SensoIRIS B124/31060047 vai ekvivalents | E17: gb | F17: 4
A18: 5 | C18: Adrešu optiskais dūmu detektors, SensoIRIS S130/31060049 vai ekvivalents | D18: saudzīgi demontēt, pārbaudīt, uzstādīt jaunajā vietā | E18: gb | F18: 2
A19: 6 | C19: Adrešu trauksmes poga, SensoIRIS MCP 150 vai ekvivalents | E19: gb | F19: 1
A20: 7 | C20: Trauksmes sirēna 24V, ar strobu, adrešu, WS vai ekvivalents | E20: gb | F20: 1
A21: 8 | C21: Ugunsizturīgā savienojuma kārba KSK 100_PO IP54 vai ekvivalents | E21: gb | F21: 2
A22: 9 | C22: Ugunsizturīgs kabelis, E30 2x1+1, JE-H(St)H-FE 180/E30 2x1.0+1 vai ekvivalents | E22: m | F22: 100
A23: 10 | C23: Halogēnbrīvā instalācijas caurule 1516EHF_KA, D16 ar līkumiem, savienojumiem vai ekvivalents | D23: kabeļu guldīšanai atklāti pa sienām, griestiem | E23: m | F23: 100
A24: 11 | C24: Ugunsizturīgie metāliskās un halogēnbrīvās caurules stiprinājums 5220 ZN vai ekvivalents | E24: gb | F24: 300
A25: 12 | C25: Skrūves SB 6.3x35 vai ekvivalents | E25: gb | F25: 300
A26: 13 | C26: Ugunsdrošais blīvējums kabeļu caurvadiem | E26: obj | F26: 1
A27: 14 | C27: Neuzskaitītie palīgmateriāli | E27: obj | F27: 1
A28: 15 | C28: Caurumu kalšana starpsienās | E28: obj | F28: 1
A29: 16 | C29: Sistēmas konfigurēšana un programmēšana | E29: kpl | F29: 1
A30: 17 | C30: Objekta marķēšana ar ugunsdzēsības līdzekļu zīmēm | E30: obj | F30: 1
A31: 18 | C31: Zonu kartes un izpilddokumentācijas izstrāde | E31: obj | F31: 1
A32: 19 | C32: Esošās(saglabājamās) kabeļu instalācijas pārbaude, mērījumi, nostiprināšana, aizsardzība pret mehaniskiem bojajumiem, marķējums (atbilstoši MK noteikumiem Nr.238) | E32: obj | F32: 1
A33: 20 | C33: Jaunās kabeļu instalācijas pārbaude, mērījumi, nomarķējums (atbilstoši MK noteikumiem Nr.238) | E33: obj | F33: 1
A34: 21 | C34: Nevajadzīgas instalācijas atvienošana, saudzīga demontāža | E34: m | F34: 50
A35: 22 | C35: Nevajadzīgo caurumu aizdare | E35: obj | F35: 1
G36: 0 | H36: 0 | I36: 0 | J36: 0 | K36: 0 | L36: =ROUND(SUM(I36:K36),2) -> 0 | M36: =ROUND(G36*F36,2) -> 0 | N36: =ROUND(I36*F36,2) -> 0 | O36: =ROUND(J36*F36,2) -> 0 | P36: =ROUND(K36*F36,2) -> 0 | Q36: =SUM(N36:P36) -> 0
C37: Tiešās izmaksas kopā, t.sk. darba devēja sociālais nodoklis (23.59%) | M37: =SUM(M14:M36) -> 0 | N37: =SUM(N14:N36) -> 0 | O37: =SUM(O14:O36) -> 0 | P37: =SUM(P14:P36) -> 0 | Q37: =SUM(Q14:Q36) -> 0
A39: Piezīmes:
A40: 1. | B40: Būvuzņēmējam jāievērtē darbu apjomu sarakstā minēto darbu veikšanai nepieciešamie materiāli, palīgmateriāli un
B41: papildus darbi, kas nav minēti šajā sarakstā, bet bez kuriem nebūtu iespējama būvdarbu tehnoloģiski pareiza un
B42: spēkā esošiem normatīviem atbilstoša veikšana pilnā apmērā, tai skaitā detalizētu darba rasējumu izstrāde, ja tādi
B43: nepieciešami, un šajos rasējumos uzrādīto risinājumu realizācija.
A44: 2. | B44: Atsevišķu materiālu apjomi doti bez rezerves.
A45: 3. | B45: Saskaņojot ar pasūtītāju, projektētāju un, ja nepieciešams, ar inženierkomunikāciju ekspluatējošo
B46: organizāciju iespējams izmantot ekvivalentas kvalitātes citu ražotāju izstrādājumus.
A48: Sastādīja:
B49: (paraksts un tā atšifrējums, datums)
A51: Pārbaudīja:
B52: (paraksts un tā atšifrējums, datums)
