Workbook
Name __xlnm.Print_Area_1: #REF!
Name __xlnm.Print_Titles_1: #REF!

Sheet Buvn.kopt.
G1: 7. pielikums
E2: Iepirkuma Id. Nr. RSU 2026/133/AK
A3: Finanšu piedāvājuma veidne | G3: nolikumam
A5: Būvobjekta nosaukums: | C5: Vispārīgā vienošanās iekšējās apdares atjaunošanas un inženiertīklu remonta darbu veikšanai RSU nekustamajos īpašumos
A6: Būves nosaukums: | C6: Remonta darbi vispārīgās vienošanās ietvaros
A7: Objekta adrese: | C7: RSU nekustamie īpašumi
B9: Nr.p.k. | C9: Atsevišķu darbu nosaukums | D9: Būvobjekta izmaksas (Euro)
B10: 1 | C10: Demontāžas darbi | D10: ='Kops.aprēķins_Nr.1'!F16 -> 0
B11: 2 | C11: Vispārējie remontdarbi ēkā | D11: ='Kops.aprēķins_Nr.2 '!F19 -> 0
B12: 3 | C12: Inženiertīklu remontdarbi ēkā | D12: ='Kops.aprēķins_Nr.3'!F16 -> 0
C13: Kopā:
B15: PVN (______%)
B17: Piezīmes:
B18: 1. Pretendentam finanšu piedāvājumā (tostarp tāmē un koptāmē) visas summas jānorāda euro, noapaļotas līdz divām zīmēm aiz komata.
B20: Sastādīja: ___________________________________
B21: /vārds uzvārds, paraksts/
B23: Apstiprināja: _________________________________
B24: /vārds uzvārds, paraksts/

Sheet Kops.aprēķins_Nr.1
A2: Kopsavilkuma aprēķins Nr. 1
A3: Demontāžas darbi
A4: Būvobjekta nosaukums: | C4: Vispārīgā vienošanās iekšējās apdares atjaunošanas un inženiertīklu remonta darbu veikšanai RSU nekustamajos īpašumos
A5: Būves nosaukums: | C5: ='Buvn.kopt.'!C6 -> Remonta darbi vispārīgās vienošanās ietvaros
A6: Objekta adrese: | C6: RSU nekustamie īpašumi
B9: Nr.p.k. | C9: Kods, tāmes Nr. | D9: Būvdarbu veids vai konstruktīvā elementa nosaukums | F9: Tāmes izmaksas (Euro)
B11: 1 | C11: Lok. Nr. 1-1 | D11: Demontāžas darbi | F11: ='LT_1-1'!F109 -> 0
B12: Kopā: | F12: =SUM(F11:F11) -> 0
B13: Virsizdevumi (______%)1
B14: t. sk. darba aizsardzība
B15: Peļņa (_____%)2
B16: Kopējā summa bez PVN: | F16: =F12+F13+F15 -> 0
B18: Piezīmes:
B19: 1Maksimālais virsizdevumu apmērs procentos (%) atbilstoši Tehniskajā specifikācijā noteiktajām prasībām, kas Vispārīgās vienošanās un iepirkuma līguma izpildes laikā nevar tikt palielināts
B20: 2Maksimālais peļņas apmērs procentos (%) atbilstoši Tehniskajā specifikācijā noteiktajām prasībām, kas Vispārīgās vienošanās un iepirkuma līguma izpildes laikā nevar tikt palielināts
B23: Koptāme ir sagatavota, pamatojoties uz Pretendenta iesniegto vienības cenu tāmi (lokālā tāme Nr.1-1)
B26: ='[1]Buvn.kopt.'!B20 -> Sastādīja: ______________________________________
B27: ='[1]Buvn.kopt.'!B21 -> /vārds uzvārds, paraksts/
B29: ='[1]Buvn.kopt.'!B23 -> Apstiprināja: __________________________________
B30: ='[1]Buvn.kopt.'!B24 -> /vārds uzvārds, paraksts/

Sheet LT_1-1
A1: Lokālā tāme Nr.1-1
A2: ='Buvn.kopt.'!C10 -> Demontāžas darbi
A3: (būvdarbu veids vai konstruktīvā elementa nosaukums)
A5: Būvobjekta nosaukums: | B5: ='Buvn.kopt.'!C5 -> Vispārīgā vienošanās iekšējās apdares atjaunošanas un inženiertīklu remonta darbu veikšanai RSU nekustamajos īpašumos
A6: Būves nosaukums: | B6: Remonta darbi vispārīgās vienošanās ietvaros
A7: Objekta adrese: | B7: RSU nekustamie īpašumi
C9: Tāme sastādīta 2026.gada tirgus cenās
A10: Nr.p.k. | B10: Būvdarbu nosaukums | C10: Mērvienība | D10: Apjoms | E10: Vienības cena1 | F10: Starpsumma, EUR
B12: Sagatavošanās darbi
A13: 1 | B13: Objekta apsekošana, darba zonas norobežošana, blakus esošo konstrukciju, grīdu, sienu, mēbeļu un aprīkojuma aizsardzība pret bojājumiem un putekļiem būvdarbu laikā, t.sk. aizsargplēvju, kartona, aizsargpaneļu un citu pagaidu aizsardzības līdzekļu uzstādīšana un demontāža. | C13: k-ts | D13: 1
A14: 2 | B14: Ugunsdrošības signalizācijas sistēmas darbības nepārtrauktības nodrošināšana būvdarbu laikā, t.sk. detektoru īslaicīga aizsardzība, kompensējošo pasākumu organizēšana, saskaņošana ar apsardzes un apsaimniekošanas dienestiem. | C14: k-ts | D14: 1
B15: Iekšējās apdares un iebūvēto elementu demontāžas darbi
A16: 3 | B16: Esošo sienu apdares slāņu (tapetes, krāsojums, dekoratīvie pārklājumi, lokāla špaktele) noņemšana līdz stabilai pamatnei. Ietver virsmas attīrīšanu no atlupušiem materiāliem un līmju atlikumiem. | C16: m2 | D16: 1
A17: 4 | B17: Esošo griestu apdares slāņu (krāsojums, dekoratīvie pārklājumi u.c.) noņemšana līdz stabilai pamatnei, virsmas attīrīšana no atlupušiem materiāliem. | C17: m2 | D17: 1
A18: 5 | B18: Keramisko vai akmens masas flīžu demontāža no sienām kopā ar līmes vai javas atlikumu noņemšanu nepieciešamajā apjomā un pamatnes attīrīšanu. | C18: m2 | D18: 1
A19: 6 | B19: Keramisko vai akmens masas flīžu demontāža no grīdām kopā ar līmes vai javas atlikumu noņemšanu nepieciešamajā apjomā un pamatnes attīrīšanu. | C19: m2 | D19: 1
A20: 7 | B20: Koka dēļu grīdas seguma demontāža kopā ar stiprinājumiem, nepieciešamības gadījumā lokālu apakškonstrukcijas elementu demontāžu. | C20: m2 | D20: 1
A21: 8 | B21: Linoleja seguma demontāža kopā ar līmes atlikumu noņemšanu nepieciešamajā apjomā un pamatnes attīrīšanu. | C21: m2 | D21: 1
A22: 9 | B22: Lamināta grīdas seguma un apakšklāja demontāža, ieskaitot stiprinājumu un savienojumu elementu noņemšanu. | C22: m2 | D22: 1
A23: 10 | B23: Vinila grīdas seguma demontāža kopā ar līmes atlikumu noņemšanu nepieciešamajā apjomā un pamatnes attīrīšanu. | C23: m2 | D23: 1
A24: 11 | B24: Esošo paklājflīžu demontāža kopā ar līmes atlikumu noņemšanu nepieciešamajā apjomā un pamatnes attīrīšanu turpmākajiem darbiem. | C24: m2 | D24: 1
A25: 12 | B25: Koka, MDF, PVC vai metāla grīdlīstu demontāža kopā ar stiprinājumiem un blīvējuma materiāliem. | C25: m | D25: 1
A26: 13 | B26: Betona grīdas slāņa demontāža vai izkalšana līdz 80 mm biezumam, ieskaitot lokālu pamatnes attīrīšanu un izlīdzināšanu pēc demontāžas. | C26: m2 | D26: 1
A27: 14 | B27: Betona grīdas slāņa demontāža vai izkalšana no 81 līdz 200 mm biezumam, ieskaitot nepieciešamo griešanu, armatūras pārgriešanu (ja nepieciešams), pamatnes attīrīšanu un izlīdzināšanu pēc demontāžas | C27: m2 | D27: 1
... A53: 40 | B53: Esošās pārsedzes demontāža virs ailas, t.sk. pagaidu balstu un nostiprinājumu uzstādīšana nepieciešamajā apjomā. | C53: m | D53: 1
B54: Inženiertehnisko sistēmu demontāža
A55: 41 | B55: Elektroinstalācijas elementu demontāža vienas telpas vai funkcionāli nodalītas zonas robežās, t.sk. kabeļi, rozetes, slēdži, sadales kārbas, stiprinājumi un citi redzamie elektroinstalācijas elementi. | C55: k-ts | D55: 1
A56: 42 | B56: Griestos, sienās vai citās konstrukcijās iebūvētu elementu (gaismekļi, sensori, detektori, skaļruņi u.c.) demontāža pirms būvdarbiem un atkārtota uzstādīšana pēc darbu pabeigšanas. | C56: k-ts | D56: 1
A57: 43 | B57: Apgaismes ķermeņa atvienošana no elektrotīkla, demontāža un novietošana Pasūtītāja norādītajā vietā vai nodošana utilizācijai. | C57: gab. | D57: 1
A58: 44 | B58: Elektro sadales skapja demontāža līdz 12 grupām, t.sk. atvienošana no elektrotīkla, automātslēdžu un citu komponentu demontāža, kabeļu atvienošana un marķēšana nepieciešamajā apjomā. | C58: gab. | D58: 1
A59: 45 | B59: Elektro sadales skapja demontāža virs 12 grupām, t.sk. atvienošana no elektrotīkla, komponentu demontāža, kabeļu atvienošana un marķēšana nepieciešamajā apjomā. | C59: gab. | D59: 1
A60: 46 | B60: Slēdžu, kontaktrozešu un sadales kārbu demontāža, t.sk. atvienošana no elektrotīkla, vadu galu izolēšana un darba vietas sakārtošana. | C60: gab. | D60: 1
A61: 47 | B61: Kabeļu renes, kabeļu kanālu vai aizsargkanālu demontāža, t.sk. stiprinājumu, piekaru un montāžas elementu demontāža, darba zonas sakārtošana pēc darbu pabeigšanas. | C61: m | D61: 1
A62: 48 | B62: Elektroapgādes kabeļu demontāža kopā ar stiprinājumiem un montāžas elementiem. Ietver kabeļu atvienošanu un izņemšanu no redzamajām trasēm. | C62: m | D62: 1
A63: 49 | B63: Speciālā tehnoloģiskā aprīkojuma un skapju (velkmes skapji, tehnoloģiskie skapji, ventilējami skapji un līdzīgas konstrukcijas) demontāža, t.sk. elektroapgādes, ventilācijas, ūdensapgādes, kanalizācijas, gāzu vai citu pieslēgumu atvienošana nepieciešamajā apjomā, stiprinājumu noņemšana un darba zonas sakārtošana. | C63: gab. | D63: 1
A64: 50 | B64: Speciālo tehnoloģisko sistēmu elementu (gāzu paneļi, noslēgarmatūra, reduktori, tehnoloģiskie pieslēguma punkti, redzamie cauruļvadi un citi sistēmas elementi) demontāža, t.sk. droša sistēmas atvienošana un darba zonas sakārtošana. | C64: gab. | D64: 1
A65: 51 | B65: Nerūsējošā tērauda vai cita speciāla izpildījuma izlietņu un mazgātavu demontāža, t.sk. sifona, maisītāja, pievadu un stiprinājumu atvienošana, darba zonas sakārtošana pēc demontāžas. | C65: gab. | D65: 1
A66: 52 | B66: Vājstrāvu sistēmu (datu, telefona, TV, audio, vadības sistēmu u.c.) kabeļu demontāža kopā ar stiprinājumiem un montāžas elementiem. | C66: m | D66: 1
... A93: 79 | B93: Cirkulācijas sūkņa demontāža, t.sk. atvienošana no cauruļvadu sistēmas un elektroapgādes. | C93: gab. | D93: 1
B94: Mēbeļu, aprīkojuma un inventāra demontāža
...

Sheet Kops.aprēķins_Nr.2 
A2: Kopsavilkuma aprēķins Nr. 2
A3: Vispārējie remontdarbi ēkā
A4: Būvobjekta nosaukums: | C4: Vispārīgā vienošanās iekšējās apdares atjaunošanas un inženiertīklu remonta darbu veikšanai RSU nekustamajos īpašumos
A5: Būves nosaukums: | C5: Remonta darbi vispārīgās vienošanās ietvaros
A6: Objekta adrese: | C6: RSU nekustamie īpašumi
B9: Nr.p.k. | C9: Kods, tāmes Nr. | D9: Būvdarbu veids vai konstruktīvā elementa nosaukums | F9: Tāmes izmaksas (Euro)
B11: 1 | C11: Lok. Nr. 2-1 | D11: Logu un durvju remonts, atjaunošana vai ierīkošana | F11: ='LT_2-1'!G105 -> 0
B12: 2 | C12: Lok. Nr. 2-2 | D12: Sienu, griestu, grīdu konstrukciju atjaunošanas darbi | F12: ='LT_2-2'!G84 -> 0
B13: 3 | C13: Lok. Nr. 2-3 | D13: Griestu, sienu un grīdu apdares remonta darbi | F13: ='LT_2-3'!G113 -> 0
B14: 4 | C14: Lok. Nr. 2-4 | D14: Dažādi darbi | F14: ='LT_2-4'!G50 -> 0
B15: Kopā: | F15: =SUM(F11:F14) -> 0
B16: Virsizdevumi (______%)1
B17: t. sk. darba aizsardzība
B18: Peļņa (_____%)2
B19: Kopējā summa bez PVN: | F19: =F15+F16+F18 -> 0
B21: Piezīmes:
B22: 1Maksimālais virsizdevumu apmērs procentos (%) atbilstoši Tehniskajā specifikācijā noteiktajām prasībām, kas Vispārīgās vienošanās un iepirkuma līguma izpildes laikā nevar tikt palielināts
B23: 2Maksimālais peļņas apmērs procentos (%) atbilstoši Tehniskajā specifikācijā noteiktajām prasībām, kas Vispārīgās vienošanās un iepirkuma līguma izildes laikā nevar tikt palielināts
B26: Koptāme ir sagatavota, pamatojoties uz Pretendenta iesniegto vienības cenu tāmēm (lokālā tāme nr. 2-1, Nr. 2-2, Nr. 2-3 un Nr. 2-4).
B28: ='[1]Buvn.kopt.'!B23 -> Apstiprināja: __________________________________
B29: ='[1]Buvn.kopt.'!B24 -> /vārds uzvārds, paraksts/
B31: Apstiprināja: __________________________________
B32: /vārds uzvārds, paraksts/

Sheet LT_2-1
A1: Lokālā tāme Nr.2-1
A2: Durvju un logu remonts, atjaunošana vai ierīkošana
A3: (būvdarbu veids vai konstruktīvā elementa nosaukums)
A5: ='Buvn.kopt.'!A5 -> Būvobjekta nosaukums: | B5: ='Buvn.kopt.'!C5 -> Vispārīgā vienošanās iekšējās apdares atjaunošanas un inženiertīklu remonta darbu veikšanai RSU nekustamajos īpašumos
A6: ='Buvn.kopt.'!A6 -> Būves nosaukums: | B6: Remonta darbi vispārīgās vienošanās ietvaros
A7: Objekta adrese: | B7: RSU nekustamie īpašumi
D9: Tāme sastādīta 2026.gada tirgus cenās
A10: Nr.p.k. | B10: Būvdarbu nosaukums | C10: Ražotājs / sistēma precizējama DU | D10: Mērvienība | E10: Apjoms | F10: Vienības cena1 | G10: Starpsumma, EUR
B12: Sagatavošanās darbi
A13: 1 | B13: Vispārēji sagatavošanas darbi. Objekta apsekošana, darba zonas norobežošana, blakus esošo virsmu, mēbeļu un aprīkojuma aizsardzība pret bojājumiem un putekļiem, darba vietas sagatavošana un sakārtošana pēc darbu pabeigšanas. | D13: k-ts | E13: 1
B14: Logu iekšējās palodzes (dziļums līdz 500 mm)
A15: 2 | B15: PVC vai laminētas MDF palodzes piegāde un uzstādīšana. PVC vai laminētas MDF palodzes piegāde un uzstādīšana loga ailē, t.sk. piegriešana, stiprināšana, montāžas materiāli, savienojumu apstrāde un darba zonas sakārtošana. | D15: m | E15: 1
A16: 3 | B16: Masīvkoka vai kompozītmateriāla palodzes piegāde un uzstādīšana. Masīvkoka vai kompozītmateriāla palodzes piegāde un uzstādīšana, t.sk. piegriešana, stiprināšana, montāžas materiāli, savienojumu apstrāde un darba zonas sakārtošana. | D16: m | E16: 1
B17: Logu izbūves un remonta darbi
A18: 4 | B18: PVC logu bloku piegāde un montāža. PVC logu bloku piegāde un montāža, t.sk. rāmis, vērtnes, stiklojums, furnitūra, stiprinājumi, montāžas materiāli, blīvējumi, regulēšana un funkcionālā pārbaude. Stikla biezums, slāņu sastāvs un izmēri precizējami Darba uzdevumā
A19: 4.1. | B19: PVC logu bloku piegāde un montāža ar divu stiklu paketi | D19: m2 | E19: 1
A20: 4.2. | B20: PVC logu bloku piegāde un montāža ar trīs stiklu paketi | D20: m2 | E20: 1
A21: 5 | B21: Alumīnija logu bloku piegāde un montāža. Alumīnija logu bloku piegāde un montāža, t.sk. profilsistēma, stiklojums, furnitūra, stiprinājumi, blīvējumi, regulēšana un funkcionālā pārbaude. | C21: Schüco AWS 75.SI+ vai ekvivalents risinājums
A22: 5.1. | B22: Alumīnija logu bloku piegāde un montāža ar divu stiklu paketi | D22: m2 | E22: 1
A23: 5.2. | B23: Alumīnija logu bloku piegāde un montāža ar trīs stiklu paketi | D23: m2 | E23: 1
A24: 6 | B24: Koka logu bloku piegāde un montāža. Koka logu bloku piegāde un montāža, t.sk. stiklojums, furnitūra, stiprinājumi, blīvējumi, virsmu apstrāde, regulēšana un funkcionālā pārbaude.
A25: 6.1. | B25: Koka logu bloku piegāde un montāža ar divu stiklu paketi | D25: m2 | E25: 1
A26: 6.2. | B26: Koka logu bloku piegāde un montāža ar trīs stiklu paketi | D26: m2 | E26: 1
A27: 7 | B27: Logu aiļu apdares atjaunošana pēc loga nomaiņas. Loga ailes apdares atjaunošana pēc loga montāžas, t.sk. bojāto apdares slāņu atjaunošana, špaktelēšana, krāsošana un citi nepieciešamie apdares darbi. | D27: m2 | E27: 1
A28: 8 | B28: Iekšējās logu ailes PVC apdares paneļu piegāde un montāža, t.sk. pamatnes sagatavošana, PVC apdares paneļu piegriešana un montāža, stiprinājumi, savienojumu un stūru profili, pieslēgumu hermetizācija pie loga rāmja un sienas konstrukcijām, nepieciešamie apdares elementi, darba zonas sakārtošana un atkritumu savākšana. Paneļu krāsa, faktūra, biezums un izmēri precizējami Darba uzdevumā. | D28: m2 | E28: 1
A29: 9 | B29: Esošo logu stiklojuma aprīkošana ar trieciendrošu aizsargplēvi. Trieciendrošās aizsargplēves piegāde un uzstādīšana esošam stiklojumam, t.sk. stikla virsmas sagatavošana, plēves uzklāšana un malu apstrāde. | D29: m2 | E29: 1
A30: 10 | B30: Esošo logu aprīkošana ar slēdzamu furnitūru. Slēdzamas furnitūras piegāde un uzstādīšana esošam logam, t.sk. nepieciešamie stiprinājumi, regulēšana un funkcionālā pārbaude. | D30: gab. | E30: 1
A31: 11 | B31: Esošā PVC neveramā loga pārbūve par veramu. Esoša PVC loga pārbūve, nodrošinot vērtnes atvēršanas funkciju, t.sk. nepieciešamās furnitūras, mehānismu un blīvējumu uzstādīšana un regulēšana. | D31: gab. | E31: 1
A32: 12 | B32: Stiklojuma elementu piegāde un montāža, t.sk. stiprinājumi, blīvējumi un montāža. Stikla biezums un izmēri precizējami Darba uzdevumā
A33: 12.1. | B33: Rūdīta stikla elementa piegāde un montāža | D33: m2 | E33: 1
A34: 12.2. | B34: Laminēta stikla elementa piegāde un montāža | D34: m2 | E34: 1
A35: 12.3. | B35: Ugunsdroša stiklojuma elementa piegāde un montāža. Ugunsizturības klase (EI30, EI60 vai ekvivalents risinājums) | D35: m2 | E35: 1
A36: 13 | B36: Metāla režģu izgatavošana un uzstādīšana logu ailēs no karsti cinkota un pulverkrāsota tērauda, t.sk. režģa konstrukcija, stiprinājumi, virsmas apstrāde un montāžas darbi. Krāsa (RAL tonis vai ekvivalents risinājums) un tehniskie parametri precizējami Darba uzdevumā.
A37: 13.1. | B37: Neatveramu metāla režģu izgatavošana, piegāde un uzstādīšana logu ailēs no karsti cinkota un pulverkrāsota tērauda, t.sk. stiprinājumi un montāžas darbi. | D37: m2 | E37: 1
A38: 13.2. | B38: Atveramu metāla režģu izgatavošana, piegāde un uzstādīšana logu ailēs no karsti cinkota un pulverkrāsota tērauda, t.sk. eņģes, slēdzene, stiprinājumi un montāžas darbi. | D38: m2 | E38: 1
A39: 14 | B39: Logu blīvgumiju nomaiņa. Esošo blīvgumiju demontāža un jaunu blīvgumiju piegāde un uzstādīšana, nodrošinot loga hermētiskumu un pareizu darbību. | D39: m | E39: 1
A40: 15 | B40: Logu furnitūras pārbaude un regulēšana. Esošās furnitūras pārbaude, regulēšana, eļļošana un loga darbības atjaunošana nepieciešamajā apjomā. | D40: gab. | E40: 1
A41: 16 | B41: Loga mehānisma vai slēdzenes nomaiņa. Bojāta loga mehānisma, slēdzenes vai cita furnitūras mezgla (izņemot rokturi) nomaiņa, t.sk. piegāde, montāža, regulēšana un funkcionālā pārbaude. | D41: gab. | E41: 1
A42: 17 | B42: Loga roktura nomaiņa. Bojāta vai nolietota loga roktura demontāža un jauna loga roktura piegāde un uzstādīšana, t.sk. nepieciešamie stiprinājumi, regulēšana un loga atvēršanas/aizvēršanas funkcionalitātes pārbaude. | D42: gab. | E42: 1
A43: 18 | B43: Loga ūdens notekprofila (pilienmalas) nomaiņa. Esošā loga ūdens notekprofila demontāža un jauna profila piegāde un uzstādīšana, t.sk. stiprinājumi, hermetizācija un funkcionālā pārbaude. | D43: gab. | E43: 1
...

Sheet LT_2-2
A1: Lokālā tāme Nr.2-2
A2: Sienu, griestu, grīdu konstrukciju atjaunošanas darbi
A3: (būvdarbu veids vai konstruktīvā elementa nosaukums)
A5: ='Buvn.kopt.'!A5 -> Būvobjekta nosaukums: | B5: ='Buvn.kopt.'!C5 -> Vispārīgā vienošanās iekšējās apdares atjaunošanas un inženiertīklu remonta darbu veikšanai RSU nekustamajos īpašumos
A6: ='Buvn.kopt.'!A6 -> Būves nosaukums: | B6: Remonta darbi vispārīgās vienošanās ietvaros
A7: Objekta adrese: | B7: RSU nekustamie īpašumi
D9: Tāme sastādīta 2026.gada tirgus cenās
A10: Nr.p.k. | B10: Būvdarbu nosaukums | C10: Ražotājs / sistēma precizējama DU | D10: Mērvienība | E10: Apjoms | F10: Vienības cena1 | G10: Starpsumma, EUR
B12: Sagatavošanās darbi
A13: 1 | B13: Vispārēji sagatavošanas darbi. Objekta apsekošana, darba zonas norobežošana, blakus esošo virsmu, mēbeļu un aprīkojuma aizsardzība pret bojājumiem un putekļiem, darba vietas sagatavošana un sakārtošana pēc darbu pabeigšanas. | D13: k-ts | E13: 1
B14: Griestu konstrukcijas izbūves un remonta darbi
A15: 2 | B15: Standarta moduļgriesti 600×600 mm. Standarta iekaramo moduļgriestu sistēmas izbūve, t.sk. nesošais karkass, piekares, perimetra profili un griestu plāksnes. Ietver sistēmas pielāgošanu apgaismojumam, ventilācijai un citām iebūvējamām ierīcēm. Paneļu klase (A, B, C vai ekvivalents risinājums) precizējama Darba uzdevumā. | C15: Armstrong, OWA, Ecophon vai ekvivalents | D15: m2 | E15: 1
A16: 3 | B16: Higiēniskie / mitrumizturīgie moduļgriesti 600×600 mm. Higiēnisko vai mitrumizturīgo moduļgriestu sistēmas izbūve, t.sk. profilu sistēma, piekares, perimetra profili un griestu plāksnes. Higiēnas klase (ISO 5–8 vai ekvivalents risinājums) un mitrumizturības prasības precizējamas Darba uzdevumā. | C16: Ecophon Hygiene, Rockfon MediCare, Armstrong Bioguard vai ekvivalents | D16: m2 | E16: 1
A17: 4 | B17: Akustiskie moduļgriesti ar paaugstinātu skaņas absorbciju. Akustisko moduļgriestu sistēmas izbūve, t.sk. profilu sistēma, piekares un akustiskās griestu plāksnes. Skaņas absorbcijas koeficients (αw ≥ 0,65 vai ekvivalents risinājums). Paneļu biezums (piem., 15–40 mm vai ekvivalents risinājums), skaņas absorbcijas klase un citi tehniskie parametri precizējami Darba uzdevumā. | C17: Ecophon, Rockfon, Armstrong vai ekvivalents | D17: m2 | E17: 1
A18: 5 | B18: Iekārtie ģipškartona griesti. Ģipškartona griestu izbūve uz metāla karkasa, t.sk. plākšņu montāža, šuvju armēšana, špaktelēšana un virsmas sagatavošana krāsošanai. Plākšņu slāņu skaits un biezums (piem., 1×12,5 mm; 2×12,5 mm vai ekvivalents risinājums) precizējami Darba uzdevumā. Ietver nepieciešamo piekaru, stiprinājumu un pieslēgumu izbūvi pie esošajām konstrukcijām. | D18: m2 | E18: 1
A19: 6 | B19: Iekārtie mitrumizturīgie ģipškartona griesti. Mitrumizturīgu ģipškartona griestu izbūve uz metāla karkasa, t.sk. plākšņu montāža, šuvju armēšana, špaktelēšana un virsmas sagatavošana apdarei. Plākšņu slāņu skaits un biezums (piem., 1×12,5 mm; 2×12,5 mm vai ekvivalents risinājums) precizējami Darba uzdevumā. Ietver nepieciešamo piekaru, stiprinājumu un pieslēgumu izbūvi pie esošajām konstrukcijām. | C19: Knauf, Rigips vai ekvivalents | D19: m2 | E19: 1
A20: 7 | B20: Iekārtie ugunsdrošie ģipškartona griesti EI30. Sertificētas EI30 griestu sistēmas izbūve, t.sk. metāla karkass, ugunsdrošās plāksnes un mezglu izveide. Plākšņu slāņu skaits un biezums (piem., 1×12,5 mm; 2×12,5 mm vai ekvivalents risinājums) precizējami Darba uzdevumā. Ietver nepieciešamo piekaru, stiprinājumu un pieslēgumu izbūvi pie esošajām konstrukcijām. | C20: Knauf, Rigips vai ekvivalenta sertificēta sistēma | D20: m2 | E20: 1
A21: 8 | B21: Iekārtie ugunsdrošie ģipškartona griesti EI60. Sertificētas EI60 griestu sistēmas izbūve, t.sk. metāla karkass, ugunsdrošās plāksnes un mezglu izveide. Plākšņu slāņu skaits un biezums (piem., 1×12,5 mm; 2×12,5 mm vai ekvivalents risinājums) precizējami Darba uzdevumā. Ietver nepieciešamo piekaru, stiprinājumu un pieslēgumu izbūvi pie esošajām konstrukcijām. | C21: Knauf, Rigips vai ekvivalenta sertificēta sistēma | D21: m2 | E21: 1
A22: 9 | B22: Akustiskie perforēto ģipškartona plākšņu griesti. Akustisko perforēto ģipškartona griestu izbūve, t.sk. metāla karkass, perforētās plāksnes, akustiskais pildījums, šuvju apstrāde un virsmas sagatavošana ekspluatācijai. Skaņas absorbcijas koeficients (αw ≥ 0,65 vai ekvivalents risinājums) un perforācijas veids precizējami Darba uzdevumā. Ietver nepieciešamo piekaru, stiprinājumu un pieslēgumu izbūvi pie esošajām konstrukcijām. | C22: Knauf Cleaneo, Rigips Gyptone vai ekvivalents | D22: m2 | E22: 1
A23: 10 | B23: Moduļgriestu paneļu atkārtota montāža pēc inženiertīklu darbiem. Iepriekš demontētu moduļgriestu paneļu atkārtota montāža pēc inženiertīklu izbūves vai remonta darbiem, t.sk. paneļu pārbaude, bojāto stiprinājumu nomaiņa un griestu plaknes atjaunošana. | C23: Esošā sistēma | D23: m2 | E23: 1
A24: 11 | B24: Ģipškartona griestu lokāla atjaunošana pēc inženiertīklu izbūves. Esošu ģipškartona griestu lokāls remonts pēc inženiertīklu izbūves vai remonta darbiem, t.sk. aizdaru vietu atjaunošana, lokāla karkasa papildināšana nepieciešamajā apjomā, šuvju armēšana, špaktelēšana un virsmas sagatavošana turpmākajai apdarei. | C24: Esošā sistēma | D24: m2 | E24: 1
A25: 12 | B25: Griestu karkasa lokāla atjaunošana pēc inženiertīklu izbūves. Esošā iekaramo griestu vai ģipškartona griestu metāla karkasa lokāla papildināšana vai nomaiņa pēc inženiertīklu izbūves vai remonta darbiem, t.sk. profilu, piekares elementu un stiprinājumu nomaiņa nepieciešamajā apjomā. | D25: m2 | E25: 1
B26: Ģipškartona starpsienu izbūves un remonta darbi
A27: 13 | B27: Ģipškartona starpsienas izbūve ar kopējo biezumu ap 100-125 mm, t.sk. metāla karkass, minerālvates pildījums (≥50 mm), ģipškartona plākšņu apšuvums abās pusēs, stiprinājumi, šuvju armēšana, špaktelēšana un virsmas sagatavošana apdarei. Ietver pieslēgumu izveidi pie esošajām konstrukcijām un nepieciešamo hermetizāciju. Sistēmas ražotājs precizējams Darba uzdevumā. | C27: Knauf, Rigips vai ekvivalents | D27: m2 | E27: 1
A28: 14 | B28: Mitrumizturīga ģipškartona starpsienas izbūve ar kopējo biezumu ap 100-125 mm telpās ar paaugstinātu mitruma līmeni, t.sk. metāla karkass, minerālvates pildījums (≥50 mm), mitrumizturīgās ģipškartona plāksnes abās pusēs, stiprinājumi, šuvju apstrāde un virsmas sagatavošana turpmākajai apdarei. Sistēmas ražotājs precizējams Darba uzdevumā. | C28: Knauf, Rigips vai ekvivalents | D28: m2 | E28: 1
A29: 15 | B29: Ģipškartona starpsienas izbūve ar paaugstinātu skaņas izolāciju Rw ≥ 45 dB, kopējais biezums ap 125-150 mm, t.sk. metāla karkass, akustiskā minerālvate, daudzslāņu ģipškartona apšuvums, stiprinājumi, šuvju apstrāde un hermetizācija. Ietver visus sistēmas elementus projektā vai Darba uzdevumā noteikto akustisko parametru nodrošināšanai. Sistēmas ražotājs precizējams Darba uzdevumā. | C29: Knauf, Rigips vai ekvivalents | D29: m2 | E29: 1
A30: 16 | B30: Ugunsdrošas ģipškartona starpsienas izbūve ar ugunsnoturību EI60, kopējais biezums ap 125-150 mm, t.sk. metāla karkass, minerālvates pildījums, ugunsdrošās ģipškartona plāksnes, stiprinājumi, šuvju armēšana, ugunsdrošo mezglu izbūve un virsmas sagatavošana apdarei. Izmantojama sertificēta ugunsdrošo starpsienu sistēma ar attiecīgo ugunsizturības klasi. Sistēmas ražotājs precizējams Darba uzdevumā. | C30: Knauf, Rigips vai ekvivalents | D30: m2 | E30: 1
A31: 17 | B31: Ugunsdrošas un akustiskas ģipškartona starpsienas izbūve ar ugunsnoturību EI60 un skaņas izolāciju Rw ≥ 50 dB, izmantojama sertificēta ugunsdrošo starpsienu sistēma ar attiecīgo ugunsizturības klasi. Kopējais biezums ap 150 mm, t.sk. metāla karkass, akustiskā minerālvate, daudzslāņu ugunsdrošo ģipškartona plākšņu apšuvums, stiprinājumi, šuvju apstrāde, hermetizācija un ugunsdrošo mezglu izbūve. Ietver visus sistēmas elementus nepieciešamo ugunsdrošības un akustikas parametru nodrošināšanai. Sistēmas ražotājs precizējams Darba uzdevumā. | C31: Knauf, Rigips vai ekvivalents | D31: m2 | E31: 1
A32: 18 | B32: Esošas sienas apšuvuma izbūve akustisko īpašību uzlabošanai, t.sk. metāla karkass, akustiskā minerālvate (≥50 mm), ģipškartona plākšņu apšuvums, stiprinājumi, šuvju armēšana, špaktelēšana un virsmas sagatavošana apdarei. Ietver pieslēgumus pie blakus esošajām konstrukcijām, akustisko mezglu izveidi un hermetizāciju. Kopējais sistēmas biezums ap 75-125 mm, ja projektā vai Darba uzdevumā nav noteikts citādi. Sistēmas ražotājs precizējams Darba uzdevumā. | C32: Knauf, Rigips vai ekvivalents | D32: m2 | E32: 1
A33: 19 | B33: Esošas sienas ugunsdrošā apšuvuma izbūve ugunsizturības prasību paaugstināšanai, t.sk. metāla karkass, minerālvates pildījums (ja nepieciešams), ugunsdrošās ģipškartona plāksnes, stiprinājumi, šuvju armēšana, ugunsdrošo mezglu izbūve un virsmas sagatavošana apdarei. Ietver pieslēgumu izveidi pie blakus esošajām konstrukcijām un ugunsdrošo savienojumu hermetizāciju. Konstrukcijai jānodrošina projektā vai Darba uzdevumā noteiktā ugunsizturības klase (EI30, EI60 vai augstāka). | C33: Knauf, Rigips vai ekvivalents | D33: m2 | E33: 1
A34: 20 | B34: Ārsienas iekšējās siltināšanas sistēmas izbūve, t.sk. metāla vai koka karkass, siltumizolācijas materiāls (≥50 mm), nepieciešamā tvaika izolācija, ģipškartona apšuvums, stiprinājumi, šuvju armēšana, špaktelēšana un virsmas sagatavošana apdarei. Ietver visu pieslēgumu izveidi pie ailām, grīdām, griestiem un blakus konstrukcijām, kā arī nepieciešamo hermetizāciju. Kopējais sistēmas biezums ap 75-150 mm, ja projektā vai Darba uzdevumā nav noteikts citādi. | C34: Knauf, Rigips vai ekvivalenta sistēma | D34: m2 | E34: 1
A35: 21 | B35: Logu un durvju aiļu siltināšana un apdare. Logu un durvju aiļu siltināšana pēc logu vai durvju nomaiņas vai sienu siltināšanas darbiem, t.sk. siltumizolācijas materiālu iestrāde, ģipškartona vai cita apšuvuma izbūve, stūru profili, šuvju apstrāde, špaktelēšana un virsmas sagatavošana apdarei. | D35: m2 | E35: 1
A36: 22 | B36: Elektroinstalācijas elementu pielāgošana siltinātās sienās. Elektroinstalācijas elementu (kontaktrozetes, slēdži, datu pieslēgumi, sadales kārbas un citi elementi) pārbūve vai pielāgošana sienu siltināšanas vai apšuvuma darbu laikā, t.sk. montāžas kārbu pārvietošana, pagarināšana vai nomaiņa un elementu atkārtota uzstādīšana. | D36: gab. | E36: 1
A37: 23 | B37: Šahtu sienu izbūve. Inženiertīklu šahtu norobežojošo sienu izbūve, t.sk. metāla karkass, ģipškartona vai ugunsdrošo plākšņu apšuvums, nepieciešamā izolācija, stiprinājumi, šuvju apstrāde un pieslēgumu izveide pie blakus konstrukcijām. Ietver risinājumus atbilstoši ugunsdrošības un ekspluatācijas prasībām. | C37: Knauf, Rigips vai ekvivalents | D37: m2 | E37: 1
A38: 24 | B38: Tehniskās apkalpošanas lūkas izbūve līdz 300×300 mm. Revīzijas vai tehniskās apkalpošanas lūkas piegāde un montāža ģipškartona sienās vai griestos, t.sk. rāmis, vērtne, stiprinājumi un pieslēgumu izveide pie konstrukcijām. | C38: Knauf, Revizor, Alumatic vai ekvivalents | D38: gab. | E38: 1
A39: 25 | B39: Tehniskās apkalpošanas lūkas izbūve no 300×300 mm līdz 600×600 mm. Revīzijas vai tehniskās apkalpošanas lūkas piegāde un montāža ģipškartona sienās vai griestos, t.sk. rāmis, vērtne, stiprinājumi un pieslēgumu izveide pie konstrukcijām. | C39: Knauf, Revizor, Alumatic vai ekvivalents | D39: gab. | E39: 1
A40: 26 | B40: Tehniskās apkalpošanas lūka virs 600×600 mm. Revīzijas vai tehniskās apkalpošanas lūkas piegāde un montāža ar izmēru virs 600×600 mm, t.sk. rāmis, vērtne, stiprinājumi un pieslēgumi pie konstrukcijām. Izmēri precizējami Darba uzdevumā. | D40: gab. | E40: 1
A41: 27 | B41: Ugunsdrošās tehniskās lūkas EI30-EI60 līdz 600×600 mm. Ugunsdrošas revīzijas lūkas piegāde un montāža sienās vai griestos ar ugunsnoturību EI30-EI60, t.sk. rāmis, vērtne, stiprinājumi, blīvējumi un ugunsdrošo mezglu izbūve. | C41: Knauf, Promat, Revizor vai ekvivalents | D41: gab. | E41: 1
A42: 28 | B42: Ugunsdrošās tehniskās lūkas EI90-EI120 līdz 600×600 mm. Ugunsdrošas revīzijas lūkas piegāde un montāža sienās vai griestos ar ugunsnoturību EI90 - EI120, t.sk. rāmis, vērtne, stiprinājumi, blīvējumi un ugunsdrošo mezglu izbūve. | C42: Knauf, Promat, Revizor vai ekvivalents | D42: gab. | E42: 1
A43: 29 | B43: Flīzējamas revīzijas lūkas izbūve līdz 600×600 mm. Flīzējamai revīzijas lūkai paredzētas sistēmas piegāde un montāža sanitārajos mezglos vai tehniskajās telpās, nodrošinot piekļuvi inženiertīkliem un iespēju saglabāt vienotu sienas apdari. | C43: Revizor, Alumatic vai ekvivalents | D43: gab. | E43: 1
...

Sheet LT_2-3
A1: Lokālā tāme Nr.2-3
A2: Griestu, sienu un grīdu apdares remonta darbi
A3: (būvdarbu veids vai konstruktīvā elementa nosaukums)
A5: ='Buvn.kopt.'!A5 -> Būvobjekta nosaukums: | B5: ='Buvn.kopt.'!C5 -> Vispārīgā vienošanās iekšējās apdares atjaunošanas un inženiertīklu remonta darbu veikšanai RSU nekustamajos īpašumos
A6: ='Buvn.kopt.'!A6 -> Būves nosaukums: | B6: Remonta darbi vispārīgās vienošanās ietvaros
A7: Objekta adrese: | B7: RSU nekustamie īpašumi
D9: Tāme sastādīta 2026.gada tirgus cenās
A10: Nr.p.k. | B10: Būvdarbu nosaukums | C10: Ražotājs / sistēma precizējama DU | D10: Mērvienība | E10: Apjoms | F10: Vienības cena1 | G10: Starpsumma, EUR
B12: Sagatavošanās darbi
A13: 1 | B13: Vispārēji sagatavošanas darbi. Objekta apsekošana, darba zonas norobežošana, blakus esošo virsmu, mēbeļu un aprīkojuma aizsardzība pret bojājumiem un putekļiem, darba vietas sagatavošana un sakārtošana pēc darbu pabeigšanas. | D13: k-ts | E13: 1
B14: Griestu apdares darbi
A15: 2 | B15: Griestu šuvju un plaisu remonts. Esošo griestu šuvju, plaisu un lokālu bojājumu remonts, t.sk. bojāto vietu attīrīšana, armēšana (ja nepieciešams), špaktelēšana, slīpēšana un virsmas sagatavošana turpmākai apdarei. | D15: m2 | E15: 1
A16: 3 | B16: Griestu virsmu apstrāde pret pelējumu un sēnīti. Pelējuma vai bioloģiskā piesārņojuma skarto griestu virsmu apstrāde, t.sk. virsmas mehāniska attīrīšana, dezinfekcija, pretsēnīšu līdzekļu uzklāšana un virsmas sagatavošana turpmākai apdarei. | D16: m2 | E16: 1
A17: 4 | B17: Esošā apmetuma špaktelēšana un gruntēšana (griesti). Esošā apmetuma virsmas izlīdzināšana, t.sk. lokālu defektu novēršana, špaktelēšana, slīpēšana, gruntēšana un virsmas sagatavošana krāsošanai. | D17: m2 | E17: 1
A18: 5 | B18: Griestu virsmas gruntēšana pirms krāsošanas. Gruntējoša sastāva uzklāšana uz sagatavotas griestu virsmas, nodrošinot pamatnes saķeri un vienmērīgu apdares materiālu uzklāšanu. | D18: m2 | E18: 1
A19: 6 | B19: Dzelzsbetona griestu virsmas krāsošana 2 kārtās. Sagatavotas dzelzsbetona griestu virsmas krāsošana divās kārtās ar ūdens dispersijas krāsu vai ekvivalentu materiālu, t.sk. lokāla piesegšana un darba zonas sakārtošana. | D19: m2 | E19: 1
A20: 7 | B20: Ģipškartona griestu virsmas izlīdzināšana un krāsošana 2 kārtās. Ģipškartona griestu virsmas špaktelēšana, slīpēšana, gruntēšana un krāsošana divās kārtās. Krāsai jānodrošina vienmērīgs matēts pārklājums bez redzamām svītrām un spīduma atšķirībām. | D20: m2 | E20: 1
A21: 8 | B21: Griestu redzamo konstrukciju un inženiertīklu krāsošana. Redzamo metāla konstrukciju, cauruļvadu, ventilācijas kanālu un citu inženiertīklu virsmu sagatavošana un krāsošana nepieciešamajā apjomā. | D21: m2 | E21: 1
A22: 9 | B22: Inženiertīklu ugunsdrošo šķērsojumu aizdare EI60. Inženiertīklu šķērsojumu ugunsdroša aizdare konstrukcijās ar ugunsnoturību EI60, izmantojot sertificētas ugunsdrošās sistēmas atbilstoši ražotāja tehnoloģijai. Viena šķērsojuma vieta līdz 0,25 m², ja Darba uzdevumā nav noteikts citādi. | C22: Hilti, Promat, Knauf vai ekvivalents | D22: gab. | E22: 1
A23: 10 | B23: Inženiertīklu ugunsdrošo šķērsojumu aizdare EI120. Inženiertīklu šķērsojumu ugunsdroša aizdare konstrukcijās ar ugunsnoturību EI120, izmantojot sertificētas ugunsdrošās sistēmas atbilstoši ražotāja tehnoloģijai. Viena šķērsojuma vieta līdz 0,25 m², ja Darba uzdevumā nav noteikts citādi. | C23: Hilti, Promat, Knauf vai ekvivalents | D23: gab. | E23: 1
A24: 11 | B24: Griestu lokāls remonts. Lokālu griestu bojājumu novēršana, t.sk. bojāto vietu remonts, špaktelēšana, slīpēšana un virsmas sagatavošana turpmākai apdarei. | D24: m2 | E24: 1
B25: Sienu apdares darbi
A26: 12 | B26: Sienu virsmu apstrāde pret pelējumu un sēnīti. Pelējuma vai bioloģiskā piesārņojuma skarto sienu virsmu apstrāde, t.sk. virsmas attīrīšana, dezinfekcija, pretsēnīšu līdzekļu uzklāšana un virsmas sagatavošana turpmākai apdarei. | D26: m2 | E26: 1
A27: 13 | B27: Pilnpārklājuma armējošā stiklašķiedras sieta iestrāde. Armējošā stiklašķiedras sieta iestrāde sienu virsmās plaisu novēršanai un pamatnes stiprināšanai, t.sk. līmes sastāva uzklāšana, sieta iestrāde un virsmas sagatavošana turpmākai apdarei. | D27: m2 | E27: 1
A28: 14 | B28: Ārējo stūru profilu uzstādīšana. Metāla vai PVC stūru profilu piegāde un uzstādīšana sienu ārējo stūru aizsardzībai, t.sk. iestrāde apdares kārtā un virsmas sagatavošana turpmākai apdarei. | D28: m | E28: 1
A29: 15 | B29: Nerūsējošā tērauda aizsargstūru piegāde un uzstādīšana sienu ārējo stūru aizsardzībai, t.sk. stiprinājumi un montāža. Stūra izmēri un tērauda marka (AISI 304 vai ekvivalents risinājums) precizējami Darba uzdevumā | D29: m | E29: 1
A30: 16 | B30: Triecienizturīgu sienu aizsargjoslu piegāde un uzstādīšana sienu aizsardzībai pret mehāniskiem bojājumiem, t.sk. stiprinājumi, gala elementi, savienojumi un montāža. Aizsargjoslu materiāls (HPL, PVC vai ekvivalents risinājums), profila augstums (piem., 100–300 mm), krāsa un stiprināšanas veids precizējami Darba uzdevumā. | C30: Gerflor, CS Acrovyn, Gradus vai ekvivalents | D30: m | E30: 1
A31: 17 | B31: Elektroinstalācijas nišu un atvērumu lokāla atjaunošana. Elektroinstalācijas rozešu, slēdžu, sadales kārbu un citu atvērumu lokāla atjaunošana pēc montāžas vai pārbūves darbiem, t.sk. aizpildīšana, špaktelēšana un virsmas sagatavošana apdarei. | D31: gab. | E31: 1
A32: 18 | B32: Akustiskā hermētiķa iestrāde pieslēgumos. Akustiskā hermētiķa iestrāde sienu, griestu, starpsienu un citu konstrukciju pieslēguma vietās skaņas izolācijas īpašību nodrošināšanai. | D32: m | E32: 1
A33: 19 | B33: Cementa-kaļķa apmetuma uzklāšana līdz 30 mm. Cementa-kaļķa apmetuma izbūve uz sagatavotas pamatnes, t.sk. virsmas attīrīšana, gruntēšana, apmetuma uzklāšana un virsmas sagatavošana turpmākai apdarei. Slāņa biezums līdz 30 mm. | D33: m2 | E33: 1
A34: 20 | B34: Ģipša apmetuma uzklāšana līdz 30 mm. Ģipša apmetuma izbūve uz sagatavotas pamatnes, t.sk. virsmas attīrīšana, gruntēšana, apmetuma uzklāšana un virsmas sagatavošana turpmākai apdarei. Slāņa biezums līdz 30 mm. | D34: m2 | E34: 1
A35: 21 | B35: Sanācijas apmetuma izbūve. Difūzijai atvērta sanācijas apmetuma (renovācijas apmetuma) sistēmas izbūve uz sagatavotas minerālas pamatnes, t.sk. saķeres slāņa izveide, sanācijas apmetuma uzklāšana, virsmas izlīdzināšana un sagatavošana turpmākai apdarei. Apmetumam jābūt paredzētam mitru un sāļu bojātu mūra vai betona konstrukciju atjaunošanai, ar augstu tvaika caurlaidību un paaugstinātu porainību. Slāņa biezums 20-30 mm, ja projektā vai Darba uzdevumā nav noteikts citādi. | C35: Remmers, Baumit, Weber vai ekvivalents | D35: m2 | E35: 1
A36: 22 | B36: Esošu sienu sagatavošana krāsošanai. Esošo sienu virsmu sagatavošana krāsošanai, t.sk. lokāla defektu novēršana, špaktelēšana, slīpēšana, gruntēšana un virsmas attīrīšana. | D36: m2 | E36: 1
A37: 23 | B37: Ģipškartona sienu sagatavošana krāsošanai. Ģipškartona sienu šuvju un stiprinājumu vietu apstrāde, pilna špaktelēšana (ja nepieciešams), slīpēšana, gruntēšana un virsmas sagatavošana krāsošanai. | D37: m2 | E37: 1
A38: 24 | B38: Dzelzsbetona sienu krāsošana 2 kārtās. Sagatavotu dzelzsbetona sienu virsmu krāsošana divās kārtās ar ūdens dispersijas krāsu vai ekvivalentu materiālu. Krāsas spīduma pakāpe: Gloss 10 - 12 vai ekvivalenta matēta/zīdaini matēta apdare. Krāsošana veicama vismaz 2 kārtās uz sagatavotas un nogruntētas pamatnes. Krāsai jāatbilst vismaz EN 13300 1. vai 2. mitrās berzes izturības klasei. | D38: m2 | E38: 1
A39: 25 | B39: Ģipškartona sienu krāsošana 2 kārtās. Sagatavotu ģipškartona sienu krāsošana divās kārtās ar ūdens dispersijas krāsu vai ekvivalentu materiālu. Krāsas spīduma pakāpe: Gloss 10 - 12 vai ekvivalenta matēta/zīdaini matēta apdare. Krāsošana veicama vismaz 2 kārtās uz sagatavotas un nogruntētas pamatnes. Krāsai jāatbilst vismaz EN 13300 1. vai 2. mitrās berzes izturības klasei. | D39: m2 | E39: 1
A40: 26 | B40: Sienu hidroizolācijas sistēmas izbūve telpās ar paaugstinātu mitruma līmeni (sanmezglos, dušās u.c.), t.sk. pamatnes gruntēšana, hidroizolācijas materiāla iestrāde vismaz divās kārtās, hidroizolācijas lentu un manšešu iestrāde, kā arī pieslēgumu hermetizācija. Hidroizolācijas sistēma izbūvējama atbilstoši ražotāja tehnoloģijai. Materiāls un izbūves augstums precizējami Darba uzdevumā. | C40: Mapei, Sika, Ceresit vai ekvivalents | D40: m2 | E40: 1
A41: 27 | B41: Sienu flīzēšana ar akmens masas flīzēm sanmezglos un dušās. Akmens masas flīžu ieklāšana sienām sanitārajos mezglos un dušās, t.sk. līmes sastāvs, flīžu piegriešana, šuvošana un pieslēgumu apstrāde. Flīžu izmērs un formāts precizējams Darba uzdevumā. | D41: m2 | E41: 1
A42: 28 | B42: Sienu flīzēšana ar akmens masas flīzēm publiskās telpās. Akmens masas flīžu ieklāšana sienām koridoros, vestibilos, laboratorijās un citās publiskās telpās, t.sk. šuvošana un apdares mezglu izveide. Flīžu izmērs un formāts precizējams Darba uzdevumā. | D42: m2 | E42: 1
A43: 29 | B43: Virtuves sienas flīzēšana virs darba virsmas. Sienas flīzēšana virtuves zonās virs darba virsmas, t.sk. pieslēgumu izveide pie rozetēm, darba virsmām un citām konstrukcijām. | D43: m2 | E43: 1
...

Sheet LT_2-4
A1: Lokālā tāme Nr.2-4
A2: Dažādi darbi
A3: (būvdarbu veids vai konstruktīvā elementa nosaukums)
A5: ='Buvn.kopt.'!A5 -> Būvobjekta nosaukums: | B5: ='Buvn.kopt.'!C5 -> Vispārīgā vienošanās iekšējās apdares atjaunošanas un inženiertīklu remonta darbu veikšanai RSU nekustamajos īpašumos
A6: ='Buvn.kopt.'!A6 -> Būves nosaukums: | B6: Remonta darbi vispārīgās vienošanās ietvaros
A7: Objekta adrese: | B7: ='[1]Buvn.kopt.'!C7 -> RSU nekustamie īpašumi
D9: Tāme sastādīta 2026.gada tirgus cenās
A10: Nr.p.k. | B10: Būvdarbu nosaukums | C10: Ražotājs / sistēma precizējama DU | D10: Mērvienība | E10: Apjoms | F10: Vienības cena1 | G10: Starpsumma, EUR
B12: Sagatavošanās darbi
A13: 1 | B13: Objekta apsekošana, darba zonas norobežošana, blakus esošo virsmu, mēbeļu un aprīkojuma aizsardzība pret bojājumiem un putekļiem, darba vietas sagatavošana, būvgružu savākšana un darba zonas sakārtošana pēc darbu pabeigšanas. | D13: k-ts | E13: 1
B14: Dažādi darbi
A15: 2 | B15: Inženierkomunikāciju šahtu apšuvuma atjaunošana no ģipškartona plāksnēm (GKB 12,5 mm vai ekvivalents) uz metāla karkasa, t.sk. bojāto daļu demontāža, karkasa atjaunošana, apšuvuma montāža, šuvju apstrāde, gruntēšana un krāsošana divās kārtās. | C15: Knauf, Rigips vai ekvivalents | D15: m2 | E15: 1
A16: 3 | B16: Koka vai finiera rampas izgatavošana un uzstādīšana līmeņu starpību un sliekšņu pārvarēšanai, t.sk. materiālu piegāde, izgatavošana, stiprinājumi, virsmu apstrāde un montāža. Vienas rampas garums līdz 2,0 m, platums līdz 1,2 m un līmeņu starpība līdz 150 mm, ja Darba uzdevumā nav noteikts citādi. Rampai jānodrošina droša ekspluatācija un stabilitāte paredzētajai slodzei. | D16: gab. | E16: 1
A17: 4 | B17: Koka laipu izbūve pagrabos, jumtos, tehniskajās telpās un citās ekspluatācijas zonās, t.sk. nesošā karkasa izbūve, seguma ieklāšana, stiprinājumi un virsmu apstrāde. Konstrukcijas risinājums, izmēri un nestspējas prasības precizējamas Darba uzdevumā, laipas seguma dēļu biezums vismaz 28 mm vai ekvivalents, ja Darba uzdevumā nav noteikts citādi. Koksnes materiāliem jābūt piemērotiem attiecīgajiem ekspluatācijas apstākļiem. | D17: m2 | E17: 1
A18: 5 | B18: Metāla kāpņu margu remonts. Esošo metāla margu bojāto daļu remonts, t.sk. bojāto elementu nomaiņa, virsmu sagatavošana, pretkorozijas apstrāde, gruntēšana un krāsošana. | D18: m | E18: 1
A19: 6 | B19: Krāsotu tērauda margu piegāde un montāža. Tērauda margu izgatavošana, piegāde un montāža, t.sk. stiprinājumi, metinājumu apstrāde, gruntēšana un krāsošana. Margu augstums 900 - 1100 mm, ja Darba uzdevumā nav noteikts citādi. | D19: m | E19: 1
A20: 7 | B20: Nerūsējošā tērauda (AISI 304 vai ekvivalents) margu vai atbalstu piegāde un montāža, t.sk. kronšteini un stiprinājumi pie esošajām konstrukcijām. Diametrs Ø45 - 50 mm, ja Darba uzdevumā nav noteikts citādi. | D20: m | E20: 1
A21: 8 | B21: Braila raksta plāksnīšu izgatavošana un uzstādīšana pieejamības prasību nodrošināšanai. Izmērs, saturs un izvietojums precizējams Darba uzdevumā. Stiprināšana ar līmi vai mehāniskiem stiprinājumiem atbilstoši pamatnei. | C21: Modul Design, Signcode vai ekvivalents | D21: gab. | E21: 1
A22: 9 | B22: Mēbeļu izjaukšana, pārvietošana un atkārtota salikšana remontdarbu veikšanai vienā objektā vai telpā. 1 k-ts = viena telpa vai viena mēbeļu grupa līdz 10 vienībām, ja Darba uzdevumā nav noteikts citādi. | D22: k-ts | E22: 1
A23: 10 | B23: Esošu mēbeļu un aprīkojuma demontāža, iznešana, iekraušana, transportēšana un nodošana atkritumu apsaimniekotājam atbilstoši normatīvo aktu prasībām. Ietver darba zonas sakārtošanu un būvgružu savākšanu. 1 k-ts = viena telpa vai Darba uzdevumā noteikts apjoms. | D23: k-ts | E23: 1
A24: 11 | B24: Izlietnes skapīša komplekta piegāde un montāža, t.sk. skapītis, izlietne, maisītājs, sifons, spogulis, stiprinājumi un pieslēgšana esošajiem inženiertīkliem bez to pārbūves. Izmēri, materiāli un aprīkojuma komplektācija precizējama Darba uzdevumā. Ietver montāžu, regulēšanu un funkcionālo pārbaudi. | C24: Ifö, Gustavsberg, Geberit vai ekvivalents | D24: gab. | E24: 1
A25: 12 | B25: Lamināta darba virsmas piegāde un montāža virtuvēs, laboratorijās vai citās telpās, t.sk. piegriešana, izgriezumi izlietnēm un iekārtām, malu apstrāde, stiprinājumi un montāža. Darba virsmas biezums vismaz 28 mm, darba virsmas dziļums līdz 600 mm, ja Darba uzdevumā nav noteikts citādi. Dekors un apdare precizējami Darba uzdevumā. | C25: Egger, Kronospan, Pfleiderer vai ekvivalents | D25: m | E25: 1
A26: 13 | B26: Kompakta HPL darba virsmas piegāde un montāža laboratorijās, virtuvēs vai citās intensīvas ekspluatācijas telpās, t.sk. piegriešana, izgriezumi izlietnēm un iekārtām, malu apstrāde, stiprinājumi un montāža. Virsmas biezums vismaz 12 mm, darba virsmas dziļums līdz 600 mm, ja Darba uzdevumā nav noteikts citādi. Materiālam jābūt mitrumizturīgam un mehāniski noturīgam. | C26: Fundermax, Trespa, Compact Interior vai ekvivalents | D26: m | E26: 1
A27: 14 | B27: Spoguļa piegāde un montāža pie sienas konstrukcijām, t.sk. stiprinājumi un regulēšana. Izmērs precizējams Darba uzdevumā. | D27: gab. | E27: 1
A28: 15 | B28: Karnīžu, žalūziju vai aizkaru stangu montāža pie sienas vai griestu konstrukcijām, t.sk. stiprinājumi. Karnīžu vai stangu garums līdz 3 m, ja Darba uzdevumā nav noteikts citādi. | D28: gab. | E28: 1
A29: 16 | B29: Plauktu, skapīšu, turētāju un citu nelielu aprīkojuma elementu montāža pie sienām vai citām konstrukcijām. 1 gab. = viena aprīkojuma vienība līdz 30 kg, ja Darba uzdevumā nav noteikts citādi. | D29: gab. | E29: 1
A30: 17 | B30: Dušas krēsla piegāde un montāža pie sienas vai grīdas konstrukcijām, t.sk. stiprinājumi un regulēšana. Ietver stiprināšanu pie nesošās konstrukcijas vai iepriekš izbūvēta pastiprinājuma. | C30: Pressalit, HEWI, Etac vai ekvivalents | D30: gab. | E30: 1
A31: 18 | B31: Nelielu tehnisko atveru hermetizācija pēc būvdarbiem, izmantojot putas, javu vai hermētiķus. 1 gab. = viena atvere līdz 0,05 m². | D31: gab. | E31: 1
A32: 19 | B32: Lokāla atveru vai nišu pielāgošana aprīkojuma vai stiprinājumu uzstādīšanai bez nesošo konstrukciju pārbūves. | D32: gab. | E32: 1
A33: 20 | B33: Ventilācijas restu vai difuzoru demontāža apdares darbu veikšanai un atkārtota montāža pēc darbu pabeigšanas. | D33: gab. | E33: 1
A34: 21 | B34: Sadzīves tehnikas uzstādīšana un pieslēgšana esošajiem elektroapgādes un/vai ūdensapgādes tīkliem, neveicot inženiertīklu pārbūvi. Ietver iekārtas novietošanu, pieslēgšanu, regulēšanu un funkcionālo pārbaudi. Iekārtas veids precizējams Darba uzdevumā. | D34: gab. | E34: 1
A35: 22 | B35: Informācijas stendu, tāfeļu un ekrānu demontāža un atkārtota montāža. Esošu informācijas stendu, tāfeļu, monitoru vai ekrānu saudzīga demontāža un atkārtota montāža pēc remontdarbu pabeigšanas, t.sk. stiprinājumu noņemšana un uzstādīšana, līmeņošana un regulēšana. Elektroapgādes un datu tīklu pārbūve pozīcijā nav iekļauta. | D35: gab. | E35: 1
A36: 23 | B36: Telpu numurzīmju, informatīvo plākšņu, drošības zīmju un citu apzīmējumu piegāde un montāža pie sienām, durvīm vai citām konstrukcijām, t.sk. stiprinājumi. Zīmju saturs, izmēri un dizains precizējami Darba uzdevumā. | C36: Saskaņā ar RSU dizaina vadlīnijām | D36: gab. | E36: 1
A37: 24 | B37: Pie sienas stiprināma aprīkojuma montāža, t.sk. plaukti, turētāji, dozatori, TV kronšteini, informācijas ekrāni un cits aprīkojums, ietverot nepieciešamos stiprinājumus un montāžu pie attiecīgās sienas konstrukcijas. Aprīkojuma veids, izmēri un stiprināšanas prasības precizējamas Darba uzdevumā. Elektroapgādes un inženiertīklu izbūve pozīcijā nav iekļauta. Pozīcija neietver sienu pastiprinājumu izbūvi. 1 gab. = viena aprīkojuma vienība līdz 50 kg, ja Darba uzdevumā nav noteikts citādi. Ja aprīkojuma masa pārsniedz 50 kg vai nepieciešama sienas pastiprinājuma izbūve, darbi vērtējami atsevišķi. | D37: gab. | E37: 1
A38: 25 | B38: Telpas sagatavošana ekspluatācijai pēc būvdarbiem. Palīgdarbu kopums telpas sagatavošanai lietošanai pēc būvdarbu pabeigšanas, t.sk. mēbeļu izvietošana, nelielu aprīkojuma elementu montāža, būvgružu un iepakojuma savākšana un virsmu uzkopšana. 1 k-ts = viena telpa līdz 50 m². | D38: k-ts | E38: 1
A39: 26 | B39: Dažādi palīgdarbi būvniecības laikā. Palīgdarbi būvniecības vai remontdarbu laikā, kas nav iekļauti citās tāmes pozīcijās. Darbi veicami tikai pēc Pasūtītāja rakstiska norādījuma. | D39: cilv./st. | E39: 1
A40: 27 | B40: Pagaidu siena no karkasa un plēves. Pagaidu norobežojošās sienas izbūve no koka vai metāla karkasa ar plēves pārklājumu, t.sk. montāža un demontāža. Sienas augstums līdz 3,0 m, ja Darba uzdevumā nav noteikts citādi. | D40: m2 | E40: 1
A41: 28 | B41: Pagaidu siena no karkasa un plātņu materiāla. Pagaidu sienas izbūve no karkasa ar OSB, finiera vai ekvivalenta materiāla apšuvumu, t.sk. montāža un demontāža. | D41: m2 | E41: 1
A42: 29 | B42: Pagaidu siena no metāla karkasa un ģipškartona. Pagaidu sienas izbūve no metāla karkasa un ģipškartona plāksnēm, t.sk. šuvju apstrāde un krāsošana. | D42: m2 | E42: 1
A43: 30 | B43: Pagaidu ugunsdrošu konstrukciju izbūve remontdarbu laikā, nodrošinot ugunsizturību vismaz EI30 atbilstoši sertificētai sistēmai un ražotāja tehnoloģijai. | C43: Knauf, Promat vai ekvivalenta sertificēta sistēma | D43: m2 | E43: 1
...

Sheet Kops.aprēķins_Nr.3
A2: Kopsavilkuma aprēķins Nr. 3
A3: Inženiertīklu remontdarbi
A4: Būvobjekta nosaukums: | C4: Vispārīgā vienošanās iekšējās apdares atjaunošanas un inženiertīklu remonta darbu veikšanai RSU nekustamajos īpašumos
A5: Būves nosaukums: | C5: Remonta darbi vispārīgās vienošanās ietvaros
A6: Objekta adrese: | C6: RSU nekustamie īpašumi
B9: Nr.p.k. | C9: Kods, tāmes Nr. | D9: Būvdarbu veids vai konstruktīvā elementa nosaukums | F9: Tāmes izmaksas (Euro)
B11: 1 | C11: Lok.Nr. 3-1 | D11: Inženiertīklu remontdarbi ēkā | F11: ='LT_3-1'!G285 -> 0
B12: Kopā: | F12: =SUM(F11:F11) -> 0
B13: Virsizdevumi (______%)1
B14: t. sk. darba aizsardzība
B15: Peļņa (_____%)2
B16: Kopējā summa bez PVN: | F16: =F12+F13+F15 -> 0
B18: Piezīmes:
B19: 1Maksimālais virsizdevumu apmērs procentos (%) atbilstoši Tehniskajā specifikācijā noteiktajām prasībām, kas Vispārīgās vienošanās un iepirkuma līguma izpildes laikā nevar tikt palielināts
B20: 2Maksimālais peļņas apmērs procentos (%) atbilstoši Tehniskajā specifikācijā noteiktajām prasībām, kas Vispārīgās vienošanās un iepirkuma līguma izpildes laikā nevar tikt palielināts
B23: Koptāme ir sagatavota, pamatojoties uz Pretendenta iesniegto vienības cenu tāmi (lokālā tāme nr. 3-1)
B25: ='[1]Buvn.kopt.'!B20 -> Sastādīja: ______________________________________
B26: ='[1]Buvn.kopt.'!B21 -> /vārds uzvārds, paraksts/
B28: Apstiprināja: __________________________________
B29: /vārds uzvārds, paraksts/

Sheet LT_3-1
A1: Lokālā tāme Nr. 3-1
A2: Inženiertīklu remontdarbi ēkā
A3: (būvdarbu veids vai konstruktīvā elementa nosaukums)
A5: Būvobjekta nosaukums: | B5: Vispārīgā vienošanās iekšējās apdares atjaunošanas un inženiertīklu remonta darbu veikšanai RSU nekustamajos īpašumos
A6: Būves nosaukums: | B6: Remonta darbi vispārīgās vienošanās ietvaros
A7: Objekta adrese: | B7: RSU nekustamie īpašumi
D9: Tāme sastādīta 2026.gada tirgus cenās
A10: Nr.p.k. | B10: Būvdarbu nosaukums | C10: Ražotājs / sistēma precizējama DU | D10: Mērvienība | E10: Apjoms | F10: Vienības cena1 | G10: Starpsumma, EUR
B12: Sagatavošanās un palīgdarbi
A13: 1 | B13: Objekta un esošo inženiertīklu apsekošana pirms darbu uzsākšanas, darba zonas norobežošana, brīdinājuma zīmju izvietošana, blakus esošo konstrukciju, aprīkojuma un mēbeļu aizsardzība pret bojājumiem un putekļiem, kā arī darba vietas sagatavošana būvdarbu veikšanai. 1 k-ts = viens objekts vai Darba uzdevumā noteikts apjoms. | D13: k-ts | E13: 1
A14: 2 | B14: Esošo elektroapgādes, apkures, ūdensapgādes, kanalizācijas vai citu inženiertīklu atslēgšana, iztukšošana, drošības pasākumu veikšana un sagatavošana remontdarbiem. Ietver darbu koordināciju ar ēkas apsaimniekotāju vai atbildīgajām personām. 1 k-ts = viens objekts vai sistēma. | D14: k-ts | E14: 1
A15: 3 | B15: Esošo inženiertīklu elementu demontāža, t.sk. gaismekļi, slēdži, rozetes, sadales kārbas, radiatori, sanitārtehniskās ierīces, ventiļi, restes, detektori un citi elementi. Ietver stiprinājumu noņemšanu, atvienošanu no sistēmām un sagatavošanu utilizācijai vai atkārtotai montāžai. 1 gab. = viena iekārta vai elements. | D15: gab. | E15: 1
A16: 4 | B16: Pagaidu inženiertīklu risinājumu izbūve vai nodrošināšana būvdarbu laikā, lai saglabātu ēkas vai telpu funkcionalitāti, t.sk. pagaidu elektroapgāde, ūdensapgāde, kanalizācija, apkure vai citi nepieciešamie pieslēgumi. Risinājums precizējams Darba uzdevumā. | D16: k-ts | E16: 1
A17: 5 | B17: Būvgružu, demontēto materiālu un iepakojuma savākšana, šķirošana, iznešana, iekraušana, transportēšana un nodošana atkritumu apsaimniekotājam atbilstoši normatīvo aktu prasībām. Ietver darba zonas sakārtošanu pēc darbu pabeigšanas. 1 k-ts = viens objekts vai Darba uzdevumā noteikts apjoms. | D17: k-ts | E17: 1
A18: 6 | B18: Jaunizbūvēto vai pārbūvēto inženiertīklu marķēšana un identifikācija atbilstoši normatīvo aktu prasībām un Pasūtītāja standartiem, t.sk. kabeļu, cauruļvadu, sadalņu, ventiļu un citu elementu marķējumu izgatavošana un uzstādīšana. | D18: k-ts | E18: 1
A19: 7 | B19: Izbūvēto vai pārbūvēto inženiertīklu pārbaudes, regulēšana, funkcionālā testēšana, mērījumu veikšana un sagatavošana nodošanai ekspluatācijā, t.sk. nepieciešamo protokolu un izpilddokumentācijas sagatavošana. Ietver sistēmu ieregulēšanu un nodošanu Pasūtītājam. | D19: k-ts | E19: 1
B20: Apkures sistēma
A21: 8 | B21: Apkures sistēmas vai tās daļas iztukšošana pirms būvdarbu veikšanas un atkārtota uzpildīšana pēc darbu pabeigšanas, t.sk. sistēmas atgaisošana, hermētiskuma pārbaude un sagatavošana ekspluatācijai. Ietver nepieciešamos palīgdarbus sistēmas drošai ekspluatācijas atjaunošanai. 1 k-ts = viena sistēma, stāvvads vai Darba uzdevumā noteikts apjoms. | D21: k-ts | E21: 1
A22: 9 | B22: Apkures sistēmas cauruļvadu izbūve vai nomaiņa, t.sk. cauruļu piegāde, montāža, stiprinājumi, fasona daļas un pieslēgumu izveide pie esošās sistēmas. Cauruļvadu materiāls (tērauds, daudzslāņu caurules vai ekvivalents risinājums) un montāžas veids precizējams Darba uzdevumā.
A23: 9.1. | B23: Tērauda cauruļvadu izbūve vai nomaiņa, diametrs DN15–DN20. | D23: m | E23: 1
A24: 9.2. | B24: Tērauda cauruļvadu izbūve vai nomaiņa, diametrs DN25–DN32. | D24: m | E24: 1
A25: 9.3. | B25: Daudzslāņu cauruļvadu izbūve vai nomaiņa, diametrs DN15–DN20. | D25: m | E25: 1
A26: 9.4. | B26: Daudzslāņu cauruļvadu izbūve vai nomaiņa, diametrs DN25–DN32. | D26: m | E26: 1
A27: 10 | B27: Apkures cauruļvadu siltumizolācijas izbūve vai bojātās izolācijas atjaunošana, t.sk. izolācijas materiālu piegāde, montāža un savienojumu apstrāde. Izolācijas materiāls un biezums nosakāms atbilstoši normatīvo aktu prasībām vai Darba uzdevumam. | C27: Armacell, K-Flex vai ekvivalents
A28: 10.1. | B28: Izolācijas biezums 13 mm. | D28: m | E28: 1
A29: 10.2. | B29: Izolācijas biezums 20 mm. | D29: m | E29: 1
A30: 10.3. | B30: Izolācijas biezums 30 mm. | D30: m | E30: 1
A31: 11 | B31: Noslēgarmatūras (lodveida krāni, ventiļi vai ekvivalents risinājums) piegāde un uzstādīšana vai nomaiņa apkures sistēmā, t.sk. pieslēgumu izveide, blīvējumi un hermētiskuma pārbaude. Armatūras diametrs precizējams Darba uzdevumā. | C31: Danfoss, Oventrop, Herz vai ekvivalents
A32: 11.1. | B32: Lodveida krāni, ventiļi vai ekvivalents risinājums ar diametru DN15–DN20. | D32: gab. | E32: 1
A33: 11.2. | B33: Lodveida krāni, ventiļi vai ekvivalents risinājums ar diametru DN25–DN32. | D33: gab. | E33: 1
A34: 12 | B34: Balansēšanas vārstu piegāde un uzstādīšana vai nomaiņa apkures sistēmas hidrauliskā režīma nodrošināšanai, t.sk. regulēšana, iestatīšana un marķēšana. Vārsta diametrs un parametri precizējami Darba uzdevumā. | C34: Danfoss, Oventrop, IMI TA vai ekvivalents
A35: 12.1. | B35: Balansēšanas vārsts ar diametru DN15–DN20. | D35: gab. | E35: 1
A36: 12.2. | B36: Balansēšanas vārsts ar diametru DN25–DN32. | D36: gab. | E36: 1
A37: 13 | B37: Termostatisko ventiļu piegāde un uzstādīšana vai nomaiņa radiatoru pieslēgumos, t.sk. pieslēgumu izveide, blīvējumi un regulēšana. Pieslēguma diametrs DN15–DN20, ja Darba uzdevumā nav noteikts citādi. Ventiļa tips precizējams Darba uzdevumā. | C37: Danfoss, Oventrop, IMI Heimeier vai ekvivalents | D37: gab. | E37: 1
A38: 14 | B38: Termostatisko galvu piegāde un uzstādīšana vai nomaiņa radiatoriem, nodrošinot telpas temperatūras regulēšanu. Termogalvas tips un iestatījumi precizējami Darba uzdevumā. | C38: Danfoss, Oventrop, IMI Heimeier vai ekvivalents | D38: gab. | E38: 1
A39: 15 | B39: Automātisko atgaisotāju piegāde un uzstādīšana vai nomaiņa apkures sistēmā, t.sk. pieslēgumu izveide un hermētiskuma pārbaude. Pieslēguma izmērs ½"–¾", ja Darba uzdevumā nav noteikts citādi. | C39: Flamco, Spirotech, Oventrop vai ekvivalents | D39: gab. | E39: 1
A40: 16 | B40: Esoša radiatora demontāža, t.sk. atvienošana no sistēmas, iztukšošana, stiprinājumu noņemšana un sagatavošana utilizācijai vai atkārtotai montāžai. | D40: gab. | E40: 1
A41: 17 | B41: Tērauda paneļu radiatora piegāde un montāža, t.sk. stiprinājumi, ventiļi, pieslēgumi, atgaisotājs un regulēšana. Radiatora tips, izmērs, pieslēguma veids (sānu vai apakšējais) un siltuma jauda precizējami Darba uzdevumā. | C41: Purmo, Kermi vai ekvivalents
A42: 17.1. | B42: Radiatora tips 22, augstums līdz 600 mm, garums līdz 600 mm. | D42: gab. | E42: 1
A43: 17.2. | B43: Radiatora tips 22, augstums līdz 600 mm, garums no 601 līdz 1200 mm. | D43: gab. | E43: 1
...
