Workbook
Name __xlnm.Print_Area_1: #REF!
Name __xlnm.Print_Titles_1: #REF!

Sheet Buvn.kopt.
G1: 7. pielikums
E2: Iepirkuma Id. Nr. RSU 2026/133/AK
A3: Finanšu piedāvājuma veidne | G3: nolikumam
A5: Būvobjekta nosaukums: | C5: Vispārīgā vienošanās iekšējās apdares atjaunošanas un inženiertīklu remonta darbu veikšanai RSU nekustamajos īpašumos
A6: Būves nosaukums: | C6: Remonta darbi vispārīgās vienošanās ietvaros
A7: Objekta adrese: | C7: RSU nekustamie īpašumi
B9: Nr.p.k. | C9: Atsevišķu darbu nosaukums | D9: Būvobjekta izmaksas (Euro)
B10: 1 | C10: Demontāžas darbi | D10: ='Kops.aprēķins_Nr.1'!F16 -> 0
B11: 2 | C11: Vispārējie remontdarbi ēkā | D11: ='Kops.aprēķins_Nr.2 '!F19 -> 0
B12: 3 | C12: Inženiertīklu remontdarbi ēkā | D12: ='Kops.aprēķins_Nr.3'!F16 -> 0
C13: Kopā:
B15: PVN (______%)
B17: Piezīmes:
B18: 1. Pretendentam finanšu piedāvājumā (tostarp tāmē un koptāmē) visas summas jānorāda euro, noapaļotas līdz divām zīmēm aiz komata.
B20: Sastādīja: ___________________________________
B21: /vārds uzvārds, paraksts/
B23: Apstiprināja: _________________________________
B24: /vārds uzvārds, paraksts/

Sheet Kops.aprēķins_Nr.1
A2: Kopsavilkuma aprēķins Nr. 1
A3: Demontāžas darbi
A4: Būvobjekta nosaukums: | C4: Vispārīgā vienošanās iekšējās apdares atjaunošanas un inženiertīklu remonta darbu veikšanai RSU nekustamajos īpašumos
A5: Būves nosaukums: | C5: ='Buvn.kopt.'!C6 -> Remonta darbi vispārīgās vienošanās ietvaros
A6: Objekta adrese: | C6: RSU nekustamie īpašumi
B9: Nr.p.k. | C9: Kods, tāmes Nr. | D9: Būvdarbu veids vai konstruktīvā elementa nosaukums | F9: Tāmes izmaksas (Euro)
B11: 1 | C11: Lok. Nr. 1-1 | D11: Demontāžas darbi | F11: ='LT_1-1'!F109 -> 0
B12: Kopā: | F12: =SUM(F11:F11) -> 0
B13: Virsizdevumi (______%)1
B14: t. sk. darba aizsardzība
B15: Peļņa (_____%)2
B16: Kopējā summa bez PVN: | F16: =F12+F13+F15 -> 0
B18: Piezīmes:
B19: 1Maksimālais virsizdevumu apmērs procentos (%) atbilstoši Tehniskajā specifikācijā noteiktajām prasībām, kas Vispārīgās vienošanās un iepirkuma līguma izpildes laikā nevar tikt palielināts
B20: 2Maksimālais peļņas apmērs procentos (%) atbilstoši Tehniskajā specifikācijā noteiktajām prasībām, kas Vispārīgās vienošanās un iepirkuma līguma izpildes laikā nevar tikt palielināts
B23: Koptāme ir sagatavota, pamatojoties uz Pretendenta iesniegto vienības cenu tāmi (lokālā tāme Nr.1-1)
B26: ='[1]Buvn.kopt.'!B20 -> Sastādīja: ______________________________________
B27: ='[1]Buvn.kopt.'!B21 -> /vārds uzvārds, paraksts/
B29: ='[1]Buvn.kopt.'!B23 -> Apstiprināja: __________________________________
B30: ='[1]Buvn.kopt.'!B24 -> /vārds uzvārds, paraksts/

Sheet LT_1-1
A1: Lokālā tāme Nr.1-1
A2: ='Buvn.kopt.'!C10 -> Demontāžas darbi
A3: (būvdarbu veids vai konstruktīvā elementa nosaukums)
A5: Būvobjekta nosaukums: | B5: ='Buvn.kopt.'!C5 -> Vispārīgā vienošanās iekšējās apdares atjaunošanas un inženiertīklu remonta darbu veikšanai RSU nekustamajos īpašumos
A6: Būves nosaukums: | B6: Remonta darbi vispārīgās vienošanās ietvaros
A7: Objekta adrese: | B7: RSU nekustamie īpašumi
C9: Tāme sastādīta 2026.gada tirgus cenās
A10: Nr.p.k. | B10: Būvdarbu nosaukums | C10: Mērvienība | D10: Apjoms | E10: Vienības cena1 | F10: Starpsumma, EUR
B12: Sagatavošanās darbi
A13: 1 | B13: Objekta apsekošana, darba zonas norobežošana, blakus esošo konstrukciju, grīdu, sienu, mēbeļu un aprīkojuma aizsardzība pret bojājumiem un putekļiem būvdarbu laikā, t.sk. aizsargplēvju, kartona, aizsargpaneļu un citu pagaidu aizsardzības līdzekļu uzstādīšana un demontāža. | C13: k-ts | D13: 1
A14: 2 | B14: Ugunsdrošības signalizācijas sistēmas darbības nepārtrauktības nodrošināšana būvdarbu laikā, t.sk. detektoru īslaicīga aizsardzība, kompensējošo pasākumu organizēšana, saskaņošana ar apsardzes un apsaimniekošanas dienestiem. | C14: k-ts | D14: 1
B15: Iekšējās apdares un iebūvēto elementu demontāžas darbi
A16: 3 | B16: Esošo sienu apdares slāņu (tapetes, krāsojums, dekoratīvie pārklājumi, lokāla špaktele) noņemšana līdz stabilai pamatnei. Ietver virsmas attīrīšanu no atlupušiem materiāliem un līmju atlikumiem. | C16: m2 | D16: 1
A17: 4 | B17: Esošo griestu apdares slāņu (krāsojums, dekoratīvie pārklājumi u.c.) noņemšana līdz stabilai pamatnei, virsmas attīrīšana no atlupušiem materiāliem. | C17: m2 | D17: 1
A18: 5 | B18: Keramisko vai akmens masas flīžu demontāža no sienām kopā ar līmes vai javas atlikumu noņemšanu nepieciešamajā apjomā un pamatnes attīrīšanu. | C18: m2 | D18: 1
A19: 6 | B19: Keramisko vai akmens masas flīžu demontāža no grīdām kopā ar līmes vai javas atlikumu noņemšanu nepieciešamajā apjomā un pamatnes attīrīšanu. | C19: m2 | D19: 1
A20: 7 | B20: Koka dēļu grīdas seguma demontāža kopā ar stiprinājumiem, nepieciešamības gadījumā lokālu apakškonstrukcijas elementu demontāžu. | C20: m2 | D20: 1
A21: 8 | B21: Linoleja seguma demontāža kopā ar līmes atlikumu noņemšanu nepieciešamajā apjomā un pamatnes attīrīšanu. | C21: m2 | D21: 1
A22: 9 | B22: Lamināta grīdas seguma un apakšklāja demontāža, ieskaitot stiprinājumu un savienojumu elementu noņemšanu. | C22: m2 | D22: 1
A23: 10 | B23: Vinila grīdas seguma demontāža kopā ar līmes atlikumu noņemšanu nepieciešamajā apjomā un pamatnes attīrīšanu. | C23: m2 | D23: 1
A24: 11 | B24: Esošo paklājflīžu demontāža kopā ar līmes atlikumu noņemšanu nepieciešamajā apjomā un pamatnes attīrīšanu turpmākajiem darbiem. | C24: m2 | D24: 1
A25: 12 | B25: Koka, MDF, PVC vai metāla grīdlīstu demontāža kopā ar stiprinājumiem un blīvējuma materiāliem. | C25: m | D25: 1
A26: 13 | B26: Betona grīdas slāņa demontāža vai izkalšana līdz 80 mm biezumam, ieskaitot lokālu pamatnes attīrīšanu un izlīdzināšanu pēc demontāžas. | C26: m2 | D26: 1
A27: 14 | B27: Betona grīdas slāņa demontāža vai izkalšana no 81 līdz 200 mm biezumam, ieskaitot nepieciešamo griešanu, armatūras pārgriešanu (ja nepieciešams), pamatnes attīrīšanu un izlīdzināšanu pēc demontāžas | C27: m2 | D27: 1
... A53: 40 | B53: Esošās pārsedzes demontāža virs ailas, t.sk. pagaidu balstu un nostiprinājumu uzstādīšana nepieciešamajā apjomā. | C53: m | D53: 1
B54: Inženiertehnisko sistēmu demontāža
A55: 41 | B55: Elektroinstalācijas elementu demontāža vienas telpas vai funkcionāli nodalītas zonas robežās, t.sk. kabeļi, rozetes, slēdži, sadales kārbas, stiprinājumi un citi redzamie elektroinstalācijas elementi. | C55: k-ts | D55: 1
A56: 42 | B56: Griestos, sienās vai citās konstrukcijās iebūvētu elementu (gaismekļi, sensori, detektori, skaļruņi u.c.) demontāža pirms būvdarbiem un atkārtota uzstādīšana pēc darbu pabeigšanas. | C56: k-ts | D56: 1
A57: 43 | B57: Apgaismes ķermeņa atvienošana no elektrotīkla, demontāža un novietošana Pasūtītāja norādītajā vietā vai nodošana utilizācijai. | C57: gab. | D57: 1
A58: 44 | B58: Elektro sadales skapja demontāža līdz 12 grupām, t.sk. atvienošana no elektrotīkla, automātslēdžu un citu komponentu demontāža, kabeļu atvienošana un marķēšana nepieciešamajā apjomā. | C58: gab. | D58: 1
A59: 45 | B59: Elektro sadales skapja demontāža virs 12 grupām, t.sk. atvienošana no elektrotīkla, komponentu demontāža, kabeļu atvienošana un marķēšana nepieciešamajā apjomā. | C59: gab. | D59: 1
A60: 46 | B60: Slēdžu, kontaktrozešu un sadales kārbu demontāža, t.sk. atvienošana no elektrotīkla, vadu galu izolēšana un darba vietas sakārtošana. | C60: gab. | D60: 1
A61: 47 | B61: Kabeļu renes, kabeļu kanālu vai aizsargkanālu demontāža, t.sk. stiprinājumu, piekaru un montāžas elementu demontāža, darba zonas sakārtošana pēc darbu pabeigšanas. | C61: m | D61: 1
A62: 48 | B62: Elektroapgādes kabeļu demontāža kopā ar stiprinājumiem un montāžas elementiem. Ietver kabeļu atvienošanu un izņemšanu no redzamajām trasēm. | C62: m | D62: 1
A63: 49 | B63: Speciālā tehnoloģiskā aprīkojuma un skapju (velkmes skapji, tehnoloģiskie skapji, ventilējami skapji un līdzīgas konstrukcijas) demontāža, t.sk. elektroapgādes, ventilācijas, ūdensapgādes, kanalizācijas, gāzu vai citu pieslēgumu atvienošana nepieciešamajā apjomā, stiprinājumu noņemšana un darba zonas sakārtošana. | C63: gab. | D63: 1
A64: 50 | B64: Speciālo tehnoloģisko sistēmu elementu (gāzu paneļi, noslēgarmatūra, reduktori, tehnoloģiskie pieslēguma punkti, redzamie cauruļvadi un citi sistēmas elementi) demontāža, t.sk. droša sistēmas atvienošana un darba zonas sakārtošana. | C64: gab. | D64: 1
A65: 51 | B65: Nerūsējošā tērauda vai cita speciāla izpildījuma izlietņu un mazgātavu demontāža, t.sk. sifona, maisītāja, pievadu un stiprinājumu atvienošana, darba zonas sakārtošana pēc demontāžas. | C65: gab. | D65: 1
A66: 52 | B66: Vājstrāvu sistēmu (datu, telefona, TV, audio, vadības sistēmu u.c.) kabeļu demontāža kopā ar stiprinājumiem un montāžas elementiem. | C66: m | D66: 1
... A93: 79 | B93: Cirkulācijas sūkņa demontāža, t.sk. atvienošana no cauruļvadu sistēmas un elektroapgādes. | C93: gab. | D93: 1
B94: Mēbeļu, aprīkojuma un inventāra demontāža
A95: 80 | B95: Iebūvētu mēbeļu, skapju, plauktu un citu interjera elementu demontāža, t.sk. stiprinājumu noņemšana un izjaukšana transportēšanai. | C95: k-ts | D95: 1
A96: 81 | B96: Virtuves mēbeļu, darba virsmu, skapju, sadzīves tehnikas un saistītā aprīkojuma demontāža. | C96: k-ts | D96: 1
A97: 82 | B97: Laboratorijas mēbeļu, darba galdu, virsmu, plauktu un citu laboratorijas aprīkojuma konstrukciju demontāža. | C97: k-ts | D97: 1
A98: 83 | B98: Žalūziju, projekcijas ekrānu, televizoru, monitoru, stiprinājumu un cita prezentāciju aprīkojuma demontāža. | C98: k-ts | D98: 1
A99: 84 | B99: Brīvi stāvošu mēbeļu pārvietošana (viena telpa vai funkcionāli nodalīta zona) no darba zonas uz pagaidu novietojuma vietu un atkārtota novietošana sākotnējā vai Pasūtītāja norādītajā vietā pēc darbu pabeigšanas. | C99: k-ts | D99: 1
A100: 85 | B100: Metāla plauktu sistēmu demontāža, t.sk. plauktu, statņu, stiprinājumu un citu konstrukcijas elementu izjaukšana, darba zonas sakārtošana pēc demontāžas. | C100: k-ts | D100: 1
A101: 86 | B101: Spoguļa demontāža kopā ar stiprinājumiem, līmes vai montāžas elementu noņemšanu nepieciešamajā apjomā. Ietver darba zonas sakārtošanu pēc demontāžas un demontētā spoguļa novietošanu Pasūtītāja norādītajā vietā vai sagatavošanu utilizācijai. | C101: gab. | D101: 1
B102: Būvgružu apsaimniekošana
A103: 87 | B103: Būvgružu savākšana, šķirošana, transportēšana objektā un iekraušana konteinerā, t.sk. būvgružu savākšana darba zonā, pārvietošana līdz konteineram vai iekraušanas vietai un iekraušana konteinerā. Konteinera noma un atkritumu utilizācija nav iekļauta. | C103: m3 | D103: 1
A104: 88 | B104: Būvgružu nonešana pa kāpnēm, ja kravas lifts nav pieejams vai tā izmantošana nav iespējama, t.sk. būvgružu transportēšana no darba zonas līdz konteineram vai iekraušanas vietai. | C104: m3 | D104: 1
A105: 89 | B105: Būvgružu konteinera piegāde, noma un izvešana līdz 8 m³ tilpumam, t.sk. būvniecības atkritumu utilizācija atbilstoši normatīvo aktu prasībām. | C105: gab. | D105: 1
A106: 90 | B106: Būvgružu konteinera piegāde, noma un izvešana līdz 15 m³ tilpumam, t.sk. būvniecības atkritumu utilizācija atbilstoši normatīvo aktu prasībām. | C106: gab. | D106: 1
A107: 91 | B107: Būvgružu konteinera piegāde, noma un izvešana līdz 30 m³ tilpumam, t.sk. būvniecības atkritumu utilizācija atbilstoši normatīvo aktu prasībām. | C107: gab. | D107: 1
A108: 92 | B108: Citi neuzskaitīti demontāžas darbi pēc Pasūtītāja norādījuma. Norādāma viena darba stunda, ieskaitot nepieciešamo rokas instrumentu un elektroinstrumentu izmantošanu. Pozīcija izmantojama tikai pēc Pasūtītāja iepriekšēja rakstiska saskaņojuma. | C108: h | D108: 1
B109: Kopā:
A111: Piezīmes:
A112: 1 Jāaizpilda visas darbu pozīciju /vienību cenu ailes ar skaitlisku vērtību (cenu), kas apliecina, ka attiecīgie būvdarbi tiks nodrošināti pilnā apjomā atbilstoši Darba uzdevumam, Tehniskai specifikācijai un Būves tehniskajam uzdevumam. Vienības cenā jāiekļauj visas izmaksas, kas nepieciešamas pilnvērtīga, droša un ekspluatācijai gatava rezultāta nodrošināšanai.
A115: Faktiskie konkrētā objekta darbu apjomi tiks noteikti katrā atsevišķā Darba uzdevumā Vispārīgās vienošanās ietvaros.
A117: Sastādīja: ___________________________________________________________________________________________
A118: (paraksts un tā atšifrējums, datums)
A119: Tāme sastādīta: ____. gada _________________
A121: Pārbaudīja: __________________________________________________________________________________________
A122: (paraksts un tā atšifrējums, datums)
A124: Sertifikāta Nr. ______________________________

Sheet Kops.aprēķins_Nr.2 
A2: Kopsavilkuma aprēķins Nr. 2
A3: Vispārējie remontdarbi ēkā
A4: Būvobjekta nosaukums: | C4: Vispārīgā vienošanās iekšējās apdares atjaunošanas un inženiertīklu remonta darbu veikšanai RSU nekustamajos īpašumos
A5: Būves nosaukums: | C5: Remonta darbi vispārīgās vienošanās ietvaros
A6: Objekta adrese: | C6: RSU nekustamie īpašumi
B9: Nr.p.k. | C9: Kods, tāmes Nr. | D9: Būvdarbu veids vai konstruktīvā elementa nosaukums | F9: Tāmes izmaksas (Euro)
B11: 1 | C11: Lok. Nr. 2-1 | D11: Logu un durvju remonts, atjaunošana vai ierīkošana | F11: ='LT_2-1'!G105 -> 0
B12: 2 | C12: Lok. Nr. 2-2 | D12: Sienu, griestu, grīdu konstrukciju atjaunošanas darbi | F12: ='LT_2-2'!G84 -> 0
B13: 3 | C13: Lok. Nr. 2-3 | D13: Griestu, sienu un grīdu apdares remonta darbi | F13: ='LT_2-3'!G113 -> 0
B14: 4 | C14: Lok. Nr. 2-4 | D14: Dažādi darbi | F14: ='LT_2-4'!G50 -> 0
B15: Kopā: | F15: =SUM(F11:F14) -> 0
B16: Virsizdevumi (______%)1
B17: t. sk. darba aizsardzība
B18: Peļņa (_____%)2
B19: Kopējā summa bez PVN: | F19: =F15+F16+F18 -> 0
B21: Piezīmes:
B22: 1Maksimālais virsizdevumu apmērs procentos (%) atbilstoši Tehniskajā specifikācijā noteiktajām prasībām, kas Vispārīgās vienošanās un iepirkuma līguma izpildes laikā nevar tikt palielināts
B23: 2Maksimālais peļņas apmērs procentos (%) atbilstoši Tehniskajā specifikācijā noteiktajām prasībām, kas Vispārīgās vienošanās un iepirkuma līguma izildes laikā nevar tikt palielināts
B26: Koptāme ir sagatavota, pamatojoties uz Pretendenta iesniegto vienības cenu tāmēm (lokālā tāme nr. 2-1, Nr. 2-2, Nr. 2-3 un Nr. 2-4).
B28: ='[1]Buvn.kopt.'!B23 -> Apstiprināja: __________________________________
B29: ='[1]Buvn.kopt.'!B24 -> /vārds uzvārds, paraksts/
B31: Apstiprināja: __________________________________
B32: /vārds uzvārds, paraksts/

Sheet LT_2-1
A1: Lokālā tāme Nr.2-1
A2: Durvju un logu remonts, atjaunošana vai ierīkošana
A3: (būvdarbu veids vai konstruktīvā elementa nosaukums)
A5: ='Buvn.kopt.'!A5 -> Būvobjekta nosaukums: | B5: ='Buvn.kopt.'!C5 -> Vispārīgā vienošanās iekšējās apdares atjaunošanas un inženiertīklu remonta darbu veikšanai RSU nekustamajos īpašumos
A6: ='Buvn.kopt.'!A6 -> Būves nosaukums: | B6: Remonta darbi vispārīgās vienošanās ietvaros
A7: Objekta adrese: | B7: RSU nekustamie īpašumi
D9: Tāme sastādīta 2026.gada tirgus cenās
A10: Nr.p.k. | B10: Būvdarbu nosaukums | C10: Ražotājs / sistēma precizējama DU | D10: Mērvienība | E10: Apjoms | F10: Vienības cena1 | G10: Starpsumma, EUR
B12: Sagatavošanās darbi
A13: 1 | B13: Vispārēji sagatavošanas darbi. Objekta apsekošana, darba zonas norobežošana, blakus esošo virsmu, mēbeļu un aprīkojuma aizsardzība pret bojājumiem un putekļiem, darba vietas sagatavošana un sakārtošana pēc darbu pabeigšanas. | D13: k-ts | E13: 1
B14: Logu iekšējās palodzes (dziļums līdz 500 mm)
A15: 2 | B15: PVC vai laminētas MDF palodzes piegāde un uzstādīšana. PVC vai laminētas MDF palodzes piegāde un uzstādīšana loga ailē, t.sk. piegriešana, stiprināšana, montāžas materiāli, savienojumu apstrāde un darba zonas sakārtošana. | D15: m | E15: 1
A16: 3 | B16: Masīvkoka vai kompozītmateriāla palodzes piegāde un uzstādīšana. Masīvkoka vai kompozītmateriāla palodzes piegāde un uzstādīšana, t.sk. piegriešana, stiprināšana, montāžas materiāli, savienojumu apstrāde un darba zonas sakārtošana. | D16: m | E16: 1
B17: Logu izbūves un remonta darbi
A18: 4 | B18: PVC logu bloku piegāde un montāža. PVC logu bloku piegāde un montāža, t.sk. rāmis, vērtnes, stiklojums, furnitūra, stiprinājumi, montāžas materiāli, blīvējumi, regulēšana un funkcionālā pārbaude. Stikla biezums, slāņu sastāvs un izmēri precizējami Darba uzdevumā
A19: 4.1. | B19: PVC logu bloku piegāde un montāža ar divu stiklu paketi | D19: m2 | E19: 1
A20: 4.2. | B20: PVC logu bloku piegāde un montāža ar trīs stiklu paketi | D20: m2 | E20: 1
A21: 5 | B21: Alumīnija logu bloku piegāde un montāža. Alumīnija logu bloku piegāde un montāža, t.sk. profilsistēma, stiklojums, furnitūra, stiprinājumi, blīvējumi, regulēšana un funkcionālā pārbaude. | C21: Schüco AWS 75.SI+ vai ekvivalents risinājums
A22: 5.1. | B22: Alumīnija logu bloku piegāde un montāža ar divu stiklu paketi | D22: m2 | E22: 1
A23: 5.2. | B23: Alumīnija logu bloku piegāde un montāža ar trīs stiklu paketi | D23: m2 | E23: 1
A24: 6 | B24: Koka logu bloku piegāde un montāža. Koka logu bloku piegāde un montāža, t.sk. stiklojums, furnitūra, stiprinājumi, blīvējumi, virsmu apstrāde, regulēšana un funkcionālā pārbaude.
A25: 6.1. | B25: Koka logu bloku piegāde un montāža ar divu stiklu paketi | D25: m2 | E25: 1
A26: 6.2. | B26: Koka logu bloku piegāde un montāža ar trīs stiklu paketi | D26: m2 | E26: 1
A27: 7 | B27: Logu aiļu apdares atjaunošana pēc loga nomaiņas. Loga ailes apdares atjaunošana pēc loga montāžas, t.sk. bojāto apdares slāņu atjaunošana, špaktelēšana, krāsošana un citi nepieciešamie apdares darbi. | D27: m2 | E27: 1
A28: 8 | B28: Iekšējās logu ailes PVC apdares paneļu piegāde un montāža, t.sk. pamatnes sagatavošana, PVC apdares paneļu piegriešana un montāža, stiprinājumi, savienojumu un stūru profili, pieslēgumu hermetizācija pie loga rāmja un sienas konstrukcijām, nepieciešamie apdares elementi, darba zonas sakārtošana un atkritumu savākšana. Paneļu krāsa, faktūra, biezums un izmēri precizējami Darba uzdevumā. | D28: m2 | E28: 1
A29: 9 | B29: Esošo logu stiklojuma aprīkošana ar trieciendrošu aizsargplēvi. Trieciendrošās aizsargplēves piegāde un uzstādīšana esošam stiklojumam, t.sk. stikla virsmas sagatavošana, plēves uzklāšana un malu apstrāde. | D29: m2 | E29: 1
A30: 10 | B30: Esošo logu aprīkošana ar slēdzamu furnitūru. Slēdzamas furnitūras piegāde un uzstādīšana esošam logam, t.sk. nepieciešamie stiprinājumi, regulēšana un funkcionālā pārbaude. | D30: gab. | E30: 1
A31: 11 | B31: Esošā PVC neveramā loga pārbūve par veramu. Esoša PVC loga pārbūve, nodrošinot vērtnes atvēršanas funkciju, t.sk. nepieciešamās furnitūras, mehānismu un blīvējumu uzstādīšana un regulēšana. | D31: gab. | E31: 1
A32: 12 | B32: Stiklojuma elementu piegāde un montāža, t.sk. stiprinājumi, blīvējumi un montāža. Stikla biezums un izmēri precizējami Darba uzdevumā
A33: 12.1. | B33: Rūdīta stikla elementa piegāde un montāža | D33: m2 | E33: 1
A34: 12.2. | B34: Laminēta stikla elementa piegāde un montāža | D34: m2 | E34: 1
A35: 12.3. | B35: Ugunsdroša stiklojuma elementa piegāde un montāža. Ugunsizturības klase (EI30, EI60 vai ekvivalents risinājums) | D35: m2 | E35: 1
A36: 13 | B36: Metāla režģu izgatavošana un uzstādīšana logu ailēs no karsti cinkota un pulverkrāsota tērauda, t.sk. režģa konstrukcija, stiprinājumi, virsmas apstrāde un montāžas darbi. Krāsa (RAL tonis vai ekvivalents risinājums) un tehniskie parametri precizējami Darba uzdevumā.
A37: 13.1. | B37: Neatveramu metāla režģu izgatavošana, piegāde un uzstādīšana logu ailēs no karsti cinkota un pulverkrāsota tērauda, t.sk. stiprinājumi un montāžas darbi. | D37: m2 | E37: 1
A38: 13.2. | B38: Atveramu metāla režģu izgatavošana, piegāde un uzstādīšana logu ailēs no karsti cinkota un pulverkrāsota tērauda, t.sk. eņģes, slēdzene, stiprinājumi un montāžas darbi. | D38: m2 | E38: 1
A39: 14 | B39: Logu blīvgumiju nomaiņa. Esošo blīvgumiju demontāža un jaunu blīvgumiju piegāde un uzstādīšana, nodrošinot loga hermētiskumu un pareizu darbību. | D39: m | E39: 1
A40: 15 | B40: Logu furnitūras pārbaude un regulēšana. Esošās furnitūras pārbaude, regulēšana, eļļošana un loga darbības atjaunošana nepieciešamajā apjomā. | D40: gab. | E40: 1
A41: 16 | B41: Loga mehānisma vai slēdzenes nomaiņa. Bojāta loga mehānisma, slēdzenes vai cita furnitūras mezgla (izņemot rokturi) nomaiņa, t.sk. piegāde, montāža, regulēšana un funkcionālā pārbaude. | D41: gab. | E41: 1
A42: 17 | B42: Loga roktura nomaiņa. Bojāta vai nolietota loga roktura demontāža un jauna loga roktura piegāde un uzstādīšana, t.sk. nepieciešamie stiprinājumi, regulēšana un loga atvēršanas/aizvēršanas funkcionalitātes pārbaude. | D42: gab. | E42: 1
A43: 18 | B43: Loga ūdens notekprofila (pilienmalas) nomaiņa. Esošā loga ūdens notekprofila demontāža un jauna profila piegāde un uzstādīšana, t.sk. stiprinājumi, hermetizācija un funkcionālā pārbaude. | D43: gab. | E43: 1
A44: 19 | B44: Loga montāžas šuvju atjaunošana. Esošo logu montāžas šuvju atjaunošana, t.sk. bojāto blīvējumu demontāža, montāžas putu papildināšana vai nomaiņa, tvaika un pretvēja blīvējuma atjaunošana (ja paredzēts), hermetizācija un pieslēgumu apdare, pēc nepieciešamības atjaunojot arī montāžas lentas. | D44: m | E44: 1
A45: 20 | B45: Logu stikla paketes nomaiņa. Esošās stikla paketes demontāža un jaunas stikla paketes piegāde un montāža, t.sk. stiklojuma līstu demontāža un atkārtota montāža, blīvējumu atjaunošana vai nomaiņa, regulēšana un funkcionālā pārbaude. Stikla paketes veids, stikla sastāvs, biezums un citi tehniskie parametri precizējami Darba uzdevumā. | D45: m2 | E45: 1
B46: Durvju izbūves un remonta darbi
A47: 21 | B47: MDF iekšdurvis ar krāsotu apdari. MDF durvju bloka piegāde un montāža, t.sk. durvju vērtne, kārba, aplodas, standarta furnitūra, stiprinājumi, montāžas materiāli, regulēšana un funkcionālā pārbaude. Durvju biezums vai konstrukcijas klase precizējama Darba uzdevumā. Mērvienība piemērojama pēc durvju bloka ārējā izmēra. | D47: m2 | E47: 1
A48: 22 | B48: MDF iekšdurvis ar krāsotu apdari un stiklojumu. MDF durvju bloka ar stiklojumu piegāde un montāža, t.sk. drošs stiklojums, kārba, aplodas, furnitūra, stiprinājumi, regulēšana un funkcionālā pārbaude.Durvju biezums vai konstrukcijas klase precizējama Darba uzdevumā. Mērvienība piemērojama pēc durvju bloka ārējā izmēra. | D48: m2 | E48: 1
A49: 23 | B49: MDF iekšdurvis ar HPL apdari. MDF durvju bloka ar HPL apdari piegāde un montāža, t.sk. durvju vērtne, kārba, aplodas, furnitūra, stiprinājumi, regulēšana un funkcionālā pārbaude. Durvju biezums vai konstrukcijas klase precizējama Darba uzdevumā. Mērvienība piemērojama pēc durvju bloka ārējā izmēra. | D49: m2 | E49: 1
A50: 24 | B50: MDF iekšdurvis ar HPL apdari un stiklojumu. MDF durvju bloka ar HPL apdari un stiklojumu piegāde un montāža, t.sk. durvju vērtne, stiklojums, kārba, aplodas, furnitūra, stiprinājumi, montāžas materiāli, regulēšana un funkcionālā pārbaude. Durvju biezums vai konstrukcijas klase precizējama Darba uzdevumā. Mērvienība piemērojama pēc durvju bloka ārējā izmēra. | D50: m2 | E50: 1
A51: 25 | B51: MDF iekšdurvis ar piekļuves kontroles sistēmu. MDF durvju bloka piegāde un montāža, paredzot risinājumu piekļuves kontroles sistēmas elementu uzstādīšanai vai integrācijai, t.sk. nepieciešamie kabeļu caurvadi, furnitūra, regulēšana un funkcionālā pārbaude. Durvju apdares veids (krāsota vai HPL apdare), biezums un stiklojuma nepieciešamība nosakāma Darba uzdevumā. Mērvienība piemērojama pēc durvju bloka ārējā izmēra. | D51: m2 | E51: 1
A52: 26 | B52: MDF ugunsdrošās durvis EI30. Sertificētu ugunsdrošo MDF durvju piegāde un montāža atbilstoši ugunsdrošības prasībām, t.sk. ugunsdrošā kārba, blīvējumi, furnitūra, stiprinājumi, regulēšana un funkcionālā pārbaude. Mērvienība piemērojama pēc durvju bloka ārējā izmēra. | D52: m2 | E52: 1
A53: 27 | B53: MDF evakuācijas durvis ar antipanik furnitūru. Evakuācijas durvju piegāde un montāža, t.sk. antipanik furnitūra, durvju aizvērējs (ja paredzēts), stiprinājumi, regulēšana un funkcionālā pārbaude. | D53: m2 | E53: 1
A54: 28 | B54: Akustiskās MDF durvis. Akustisko MDF durvju piegāde un montāža ar skaņas izolācijas īpašībām, t.sk. blīvējumi, furnitūra, kārba, stiprinājumi, regulēšana un funkcionālā pārbaude. Durvju skaņas izolācijas rādītājs (Rw, dB) precizējams Darba uzdevumā, bet ne mazāks par Rw 35 dB | D54: m2 | E54: 1
A55: 29 | B55: Bīdāmās MDF durvis. Bīdāmo MDF durvju sistēmas piegāde un montāža, t.sk. vērtne, vadotnes, furnitūra, amortizācijas elementi, regulēšana un funkcionālā pārbaude. | D55: m2 | E55: 1
A56: 30 | B56: Metāla durvis bez stiklojuma. Metāla durvju bloka piegāde un montāža, t.sk. vērtne, kārba, furnitūra, stiprinājumi, virsmas apdare, regulēšana un funkcionālā pārbaude.Krāsa (RAL tonis vai ekvivalents risinājums), stiklojuma apjoms un citi tehniskie parametri precizējami Darba uzdevumā | D56: m2 | E56: 1
A57: 31 | B57: Metāla durvis ar stiklojumu. Metāla durvju bloka ar stiklojumu piegāde un montāža, t.sk. drošs stiklojums, kārba, furnitūra, stiprinājumi, regulēšana un funkcionālā pārbaude. Krāsa (RAL tonis vai ekvivalents risinājums), stiklojuma apjoms un citi tehniskie parametri precizējami Darba uzdevumā | D57: m2 | E57: 1
A58: 32 | B58: Metāla ugunsdrošās durvis EI30 - EI60. Sertificētu ugunsdrošo metāla durvju piegāde un montāža atbilstoši ugunsdrošības prasībām, t.sk. kārba, blīvējumi, furnitūra, stiprinājumi, regulēšana un funkcionālā pārbaude. Krāsa (RAL tonis vai ekvivalents risinājums), stiklojuma apjoms un citi tehniskie parametri precizējami Darba uzdevumā | D58: m2 | E58: 1
... A61: 35 | B61: Metāla dūmnecaurlaidīgās durvis Sa/S200. Dūmnecaurlaidīgu metāla durvju piegāde un montāža, t.sk. nepieciešamie blīvējumi, furnitūra, stiprinājumi, regulēšana un funkcionālā pārbaude. Krāsa (RAL tonis vai ekvivalents risinājums), stiklojuma apjoms un citi tehniskie parametri precizējami Darba uzdevumā | D61: m2 | E61: 1
A62: 36 | B62: Alumīnija durvis. Alumīnija durvju bloka piegāde un montāža, t.sk. alumīnija profilsistēma, durvju vērtne, stiklojums (ja paredzēts), furnitūra, stiprinājumi, blīvējumi, regulēšana un funkcionālā pārbaude. Profilu sistēma: Schüco vai ekvivalents risinājums ar līdzvērtīgām tehniskajām un ekspluatācijas īpašībām. Konkrētā sistēma un sērija precizējama Darba uzdevumā | C62: Schüco ADS 75 HD.HI vai ekvivalents risinājums. Profilsistēma, stiklojums, furnitūra un blīvējumi jāizmanto kā viena ražotāja sertificēta sistēma vai savstarpēji savietojams sistēmas risinājums. | D62: m2 | E62: 1
A63: 37 | B63: Alumīnija divviru durvis. Alumīnija divviru durvju bloka piegāde un montāža, t.sk. furnitūra, vērtņu sinhronizācijas elementi, stiklojums (ja paredzēts), regulēšana un funkcionālā pārbaude. Profilu sistēma: Schüco vai ekvivalents risinājums. Konkrētā sistēma un sērija precizējama Darba uzdevumā. | C63: Schüco ADS 75 HD.HI vai ekvivalents risinājums. Profilsistēma, stiklojums, furnitūra un blīvējumi jāizmanto kā viena ražotāja sertificēta sistēma vai savstarpēji savietojams sistēmas risinājums. | D63: m2 | E63: 1
A64: 38 | B64: Alumīnija durvis ar piekļuves kontroles sistēmu. Alumīnija durvju bloka piegāde un montāža, paredzot piekļuves kontroles sistēmas integrāciju, t.sk. nepieciešamos konstrukcijas risinājumus, furnitūru, regulēšanu un funkcionālo pārbaudi. Profilu sistēma: Schüco vai ekvivalents risinājums. Konkrētā sistēma un sērija precizējama Darba uzdevumā. | C64: Schüco ADS 75 HD.HI vai ekvivalents risinājums. Profilsistēma, stiklojums, furnitūra un blīvējumi jāizmanto kā viena ražotāja sertificēta sistēma vai savstarpēji savietojams sistēmas risinājums. | D64: m2 | E64: 1
A65: 39 | B65: Ugunsdrošās alumīnija durvis. Sertificētu ugunsdrošu alumīnija durvju piegāde un montāža, t.sk. ugunsdrošais stiklojums (ja paredzēts), blīvējumi, furnitūra, regulēšana un funkcionālā pārbaude. Profilu sistēma: Schüco vai ekvivalents risinājums. Konkrētā sistēma un sērija precizējama Darba uzdevumā | C65: Schüco ADS 75 HD.HI vai ekvivalents risinājums. Profilsistēma, stiklojums, furnitūra un blīvējumi jāizmanto kā viena ražotāja sertificēta sistēma vai savstarpēji savietojams sistēmas risinājums.
A66: 39.1. | B66: Stiklota alumīnija starpsiena ar ugunsizturības klasi EI30 | D66: m2 | E66: 1
A67: 39.2. | B67: Stiklota alumīnija starpsiena ar ugunsizturības klasi EI60 | D67: m2 | E67: 1
A68: 40 | B68: Alumīnija akustiskās durvis. Alumīnija durvju bloka piegāde un montāža ar paaugstinātu skaņas izolāciju, t.sk. akustiskie blīvējumi, furnitūra, regulēšana un funkcionālā pārbaude. Skaņas izolācijas rādītājs (Rw, dB) un profilsistēma precizējami Darba uzdevumā. | C68: Schüco ADS 75 HD.HI vai ekvivalents risinājums. Profilsistēma, stiklojums, furnitūra un blīvējumi jāizmanto kā viena ražotāja sertificēta sistēma vai savstarpēji savietojams sistēmas risinājums. | D68: m2 | E68: 1
A69: 41 | B69: Automātiskās alumīnija durvis. Automātisko alumīnija durvju sistēmas piegāde un montāža, t.sk. automātika, vadības elementi, drošības sensori, regulēšana, programmēšana un funkcionālā pārbaude. Profilu sistēma: Schüco vai ekvivalents risinājums. Konkrētā sistēma un sērija precizējama Darba uzdevumā. | C69: Schüco profils + GEZE, Dormakaba vai Record automātika, vai ekvivalents risinājums. Profilsistēma, stiklojums, furnitūra un blīvējumi jāizmanto kā viena ražotāja sertificēta sistēma vai savstarpēji savietojams sistēmas risinājums. | D69: m2 | E69: 1
A70: 42 | B70: Stiklota alumīnija starpsiena ar durvīm. Stiklotas alumīnija starpsienas ar integrētām durvīm piegāde un montāža, t.sk. profilsistēma, stiklojums, furnitūra, stiprinājumi, blīvējumi, regulēšana un funkcionālā pārbaude. Profilu sistēma: Schüco vai ekvivalents risinājums. Konkrētā sistēma un sērija precizējama Darba uzdevumā. | C70: Schüco Interior vai ekvivalents risinājums. Profilsistēma, stiklojums, furnitūra un blīvējumi jāizmanto kā viena ražotāja sertificēta sistēma vai savstarpēji savietojams sistēmas risinājums. | D70: m2 | E70: 1
A71: 43 | B71: Ugunsdrošas stiklotas alumīnija starpsienas. Sertificētu ugunsdrošu stiklotu alumīnija starpsienu piegāde un montāža, t.sk. ugunsdrošais stiklojums, blīvējumi, stiprinājumi, regulēšana un funkcionālā pārbaude. Profilu sistēma: Schüco vai ekvivalents risinājums. Konkrētā sistēma un sērija precizējama Darba uzdevumā | C71: Schüco FireStop ADS/FWS vai ekvivalents risinājums. Profilsistēma, stiklojums, furnitūra un blīvējumi jāizmanto kā viena ražotāja sertificēta sistēma vai savstarpēji savietojams sistēmas risinājums.
A72: 43.1. | B72: Stiklota alumīnija starpsiena ar ugunsizturības klasi EI30 | D72: m2 | E72: 1
A73: 43.2. | B73: Stiklota alumīnija starpsiena ar ugunsizturības klasi EI60 | D73: m2 | E73: 1
A74: 44 | B74: Esošu durvju aprīkošana un integrācija piekļuves kontroles sistēmā. Esošu durvju pielāgošana piekļuves kontroles sistēmas darbībai, t.sk. elektromagnētiskās slēdzenes, elektromagnētiskās aiztures, piekļuves lasītāja, durvju kontakta, atvēršanas pogas vai citu sistēmas elementu uzstādīšana, pieslēgšana, regulēšana un funkcionālā pārbaude. | C74: Savietojama ar Pasūtītāja esošo PKS sistēmu | D74: gab. | E74: 1
A75: 45 | B75: Esošu durvju integrācija Master Key sistēmā. Esošo durvju slēdzeņu, cilindru un saistītās furnitūras pielāgošana vai nomaiņa Master Key sistēmas prasībām, t.sk. cilindru piegāde, uzstādīšana, regulēšana un funkcionālā pārbaude. | C75: Savietojama ar Pasūtītāja esošo Master Key sistēmu (piem., ASSA ABLOY, EVVA, dormakaba vai ekvivalents risinājums) | D75: gab. | E75: 1
A76: 46 | B76: Bojātas vai nolietotas durvju furnitūras (rokturi, cilindri, atdures, fiksatori un citi furnitūras elementi) demontāža un nomaiņa, t.sk. nepieciešamo stiprinājumu piegāde, regulēšana un funkcionālā pārbaude. Izņemot gadījumus, kad izmantojama atsevišķa pozīcija „Durvju slēdzenes nomaiņa” vai „Durvju aizvērēja uzstādīšana vai nomaiņa”. | D76: gab. | E76: 1
A77: 47 | B77: Durvju slēdzenes nomaiņa. Esošās slēdzenes demontāža un jaunas slēdzenes piegāde un uzstādīšana, t.sk. nepieciešamā furnitūra, regulēšana un funkcionālā pārbaude. | D77: gab. | E77: 1
A78: 48 | B78: Durvju aizvērēja uzstādīšana vai nomaiņa. Durvju aizvērēja piegāde, uzstādīšana vai nomaiņa, t.sk. stiprinājumi, regulēšana, aizvēršanās ātruma iestatīšana un funkcionālā pārbaude. | D78: gab. | E78: 1
A79: 49 | B79: Durvju eņģu regulēšana vai nomaiņa. Esošo eņģu regulēšana vai bojātu eņģu nomaiņa, t.sk. stiprinājumu atjaunošana nepieciešamajā apjomā, nodrošinot durvju pareizu darbību, vērtnes novietojumu un funkcionālo pārbaudi. | D79: gab. | E79: 1
A80: 50 | B80: Durvju blīvgumiju nomaiņa. Esošo blīvgumiju demontāža un jaunu blīvgumiju piegāde un uzstādīšana durvju vērtnē un/vai kārbā, nodrošinot hermētiskumu, skaņas izolāciju un pareizu durvju darbību. | D80: m | E80: 1
A81: 51 | B81: Durvju stiklojuma vai stikla paketes nomaiņa. Bojāta vai demontējama stiklojuma vai stikla paketes nomaiņa durvju vērtnē, t.sk. stikla piegāde, montāža, blīvējumu un stiprinājumu atjaunošana, regulēšana un darba zonas sakārtošana. | D81: m2 | E81: 1
A82: 52 | B82: Durvju pildiņa nomaiņa. Bojātas vai nolietotas durvju pildiņas demontāža un jaunas pildiņas piegāde un uzstādīšana, t.sk. stiprinājumu, apdares elementu un savienojumu atjaunošana nepieciešamajā apjomā. | D82: m2 | E82: 1
A83: 53 | B83: Durvju vērtnes lokāls remonts. Durvju vērtnes lokālu bojājumu novēršana, t.sk. skrāpējumu, iespiedumu, šķembu, atslāņojumu un citu nelielu mehānisku bojājumu remonts, virsmas sagatavošana turpmākai apdarei. | D83: m2 | E83: 1
A84: 54 | B84: Koka vai MDF durvju virsmas atjaunošana un pārkrāsošana. Esošās durvju virsmas sagatavošana, t.sk. lokāla špaktelēšana, slīpēšana, gruntēšana un pārkrāsošana vai cita apdares pārklājuma atjaunošana nepieciešamajā apjomā. | D84: m2 | E84: 1
A85: 55 | B85: HPL apdares durvju lokāls remonts. HPL apdares virsmas lokālu bojājumu novēršana vai atjaunošana nepieciešamajā apjomā, t.sk. malu, savienojumu un apdares elementu sakārtošana. | D85: m2 | E85: 1
A86: 56 | B86: Metāla durvju virsmas atjaunošana un pārkrāsošana. Metāla durvju virsmas sagatavošana, lokāla korozijas un mehānisku bojājumu novēršana, gruntēšana un pārkrāsošana nepieciešamajā apjomā. | D86: m2 | E86: 1
A87: 57 | B87: Durvju kārbas remonts vai atjaunošana. Esošās durvju kārbas bojājumu novēršana, stiprinājumu atjaunošana, regulēšana, deformāciju novēršana un apdares atjaunošana nepieciešamajā apjomā. | D87: m | E87: 1
A88: 58 | B88: Durvju automātikas remonts vai nomaiņa. Esošās durvju automātikas remonts vai nomaiņa, t.sk. automātikas mezglu, vadības elementu, sensoru vai piedziņas elementu nomaiņa, regulēšana un funkcionālā pārbaude. | C88: GEZE, Dormakaba, Record vai ekvivalents risinājums | D88: gab. | E88: 1
A89: 59 | B89: Grīdas durvju atduras piegāde un montāža, t.sk. stiprinājumi, urbšana, montāža un regulēšana. Atduras materiāls (nerūsējošais tērauds, alumīnijs, plastmasa vai ekvivalents), diametrs, augstums un stiprināšanas veids precizējami Darba uzdevumā. | D89: gab. | E89: 1
A90: 60 | B90: Sienas durvju atduras piegāde un montāža, t.sk. stiprinājumi, montāža un regulēšana. Atduras materiāls (nerūsējošais tērauds, alumīnijs, gumija, plastmasa vai ekvivalents), garums un stiprināšanas veids precizējami Darba uzdevumā. | D90: gab. | E90: 1
A91: 61 | B91: Magnētisko durvju atduru piegāde un montāža, nodrošinot durvju fiksāciju atvērtā stāvoklī, t.sk. magnētiskais elements, pretplāksne, stiprinājumi, montāža un regulēšana. Atduras tips (grīdas vai sienas), noturēšanas spēks, materiāls un apdare precizējami Darba uzdevumā. | D91: gab. | E91: 1
A92: 62 | B92: Amortizējošo durvju atduru piegāde un montāža, nodrošinot durvju trieciena slāpēšanu un sienu vai durvju aizsardzību, t.sk. stiprinājumi un montāža. Atduras materiāls, izmēri, amortizācijas veids un stiprināšanas risinājums precizējami Darba uzdevumā. | D92: gab. | E92: 1
A93: 63 | B93: Durvju sliekšņa nomaiņa. Esošā sliekšņa demontāža un jauna sliekšņa piegāde un uzstādīšana, t.sk. stiprinājumi, hermetizācija, regulēšana un funkcionālā pārbaude. | D93: gab. | E93: 1
A94: 64 | B94: Durvju aplodu nomaiņa vai atjaunošana. Esošo aplodu demontāža un jaunu aplodu piegāde un montāža vai bojāto aplodu atjaunošana, t.sk. stiprinājumi, pieslēgumu apdare un regulēšana. | D94: m | E94: 1
A95: 65 | B95: Durvju regulēšana bez detaļu nomaiņas. Esošu durvju regulēšana, neveicot furnitūras vai citu detaļu nomaiņu, t.sk. vērtnes stāvokļa, eņģu, slēdzenes, aizvērēja un citu regulējamo elementu iestatīšana, nodrošinot pareizu durvju atvēršanu, aizvēršanu un funkcionālo darbību. | D95: gab. | E95: 1
A96: 66 | B96: Konstrukciju deformācijas un montāžas šuvju hermetizācija ar elastīgu hermētiķi, t.sk. pamatnes sagatavošana, grunts, šuves profils un hermētiķa iestrāde. | D96: m | E96: 1
B97: Ailu pārsedžu izbūve
A98: 67 | B98: FIBO U-bloku pārsedzes izbūve līdz 200 mm sienas biezumam. Armētas FIBO U - bloku pārsedzes izbūve virs ailām sienās līdz 200 mm biezumam, t.sk. pagaidu balsti, veidņi, armējums, betonēšana, betona kopšana un veidņu demontāža. | D98: m | E98: 1
A99: 68 | B99: FIBO U-bloku pārsedzes izbūve sienām virs 200 mm biezuma. Armētas FIBO U - bloku pārsedzes izbūve virs ailām sienās virs 200 mm biezuma, t.sk. pagaidu balsti, veidņi, armējums, betonēšana, betona kopšana un veidņu demontāža. | D99: m | E99: 1
A100: 69 | B100: Metāla pārsedzes izbūve līdz 200 mm sienas biezumam. Metāla pārsedzes (leņķdzelži, UPE, IPE vai ekvivalenti profili) piegāde un montāža virs ailām sienās līdz 200 mm biezumam, t.sk. balsti, enkurošana, nepieciešamie savienojumi, pretkorozijas aizsardzība un darba zonas sakārtošana. | D100: m | E100: 1
A101: 70 | B101: Metāla pārsedzes izbūve sienām virs 200 mm biezuma. Metāla pārsedzes (UPE, IPE, HEA vai ekvivalenti profili) piegāde un montāža virs ailām sienās virs 200 mm biezuma, t.sk. balsti, enkurošana, nepieciešamie savienojumi, pretkorozijas aizsardzība un darba zonas sakārtošana. | D101: m | E101: 1
A102: 71 | B102: Monolītas dzelzsbetona pārsedzes izbūve. Monolītas dzelzsbetona pārsedzes izbūve virs ailām, t.sk. veidņi, armējums, betonēšana, betona kopšana, veidņu demontāža un darba zonas sakārtošana. | D102: m | E102: 1
A103: 72 | B103: Pastiprinātas metāla pārsedzes izbūve. Pastiprinātas nestspējas metāla pārsedzes izbūve virs ailām, t.sk. metāla profilu (IPE, HEA, HEB vai ekvivalenti) piegāde un montāža, pagaidu balsti, enkurošana, savienojumu izbūve, pretkorozijas aizsardzība un darba zonas sakārtošana. Konkrētais profila veids, izmēri un nestspējas prasības nosakāmas projektā vai Darba uzdevumā. | D103: m | E103: 1
A104: 73 | B104: Pastiprinātas monolīta dzelzsbetona pārsedzes izbūve. Pastiprinātas nestspējas monolītas dzelzsbetona pārsedzes izbūve virs ailām, t.sk. veidņi, armējums, betonēšana, betona kopšana, veidņu demontāža un darba zonas sakārtošana. Konkrētais šķērsgriezums, armējums un nestspējas prasības nosakāmas projektā vai Darba uzdevumā. | D104: m | E104: 1
B105: Kopā:
...

Sheet LT_2-2
A1: Lokālā tāme Nr.2-2
A2: Sienu, griestu, grīdu konstrukciju atjaunošanas darbi
A3: (būvdarbu veids vai konstruktīvā elementa nosaukums)
A5: ='Buvn.kopt.'!A5 -> Būvobjekta nosaukums: | B5: ='Buvn.kopt.'!C5 -> Vispārīgā vienošanās iekšējās apdares atjaunošanas un inženiertīklu remonta darbu veikšanai RSU nekustamajos īpašumos
A6: ='Buvn.kopt.'!A6 -> Būves nosaukums: | B6: Remonta darbi vispārīgās vienošanās ietvaros
A7: Objekta adrese: | B7: RSU nekustamie īpašumi
D9: Tāme sastādīta 2026.gada tirgus cenās
A10: Nr.p.k. | B10: Būvdarbu nosaukums | C10: Ražotājs / sistēma precizējama DU | D10: Mērvienība | E10: Apjoms | F10: Vienības cena1 | G10: Starpsumma, EUR
B12: Sagatavošanās darbi
A13: 1 | B13: Vispārēji sagatavošanas darbi. Objekta apsekošana, darba zonas norobežošana, blakus esošo virsmu, mēbeļu un aprīkojuma aizsardzība pret bojājumiem un putekļiem, darba vietas sagatavošana un sakārtošana pēc darbu pabeigšanas. | D13: k-ts | E13: 1
B14: Griestu konstrukcijas izbūves un remonta darbi
A15: 2 | B15: Standarta moduļgriesti 600×600 mm. Standarta iekaramo moduļgriestu sistēmas izbūve, t.sk. nesošais karkass, piekares, perimetra profili un griestu plāksnes. Ietver sistēmas pielāgošanu apgaismojumam, ventilācijai un citām iebūvējamām ierīcēm. Paneļu klase (A, B, C vai ekvivalents risinājums) precizējama Darba uzdevumā. | C15: Armstrong, OWA, Ecophon vai ekvivalents | D15: m2 | E15: 1
A16: 3 | B16: Higiēniskie / mitrumizturīgie moduļgriesti 600×600 mm. Higiēnisko vai mitrumizturīgo moduļgriestu sistēmas izbūve, t.sk. profilu sistēma, piekares, perimetra profili un griestu plāksnes. Higiēnas klase (ISO 5–8 vai ekvivalents risinājums) un mitrumizturības prasības precizējamas Darba uzdevumā. | C16: Ecophon Hygiene, Rockfon MediCare, Armstrong Bioguard vai ekvivalents | D16: m2 | E16: 1
A17: 4 | B17: Akustiskie moduļgriesti ar paaugstinātu skaņas absorbciju. Akustisko moduļgriestu sistēmas izbūve, t.sk. profilu sistēma, piekares un akustiskās griestu plāksnes. Skaņas absorbcijas koeficients (αw ≥ 0,65 vai ekvivalents risinājums). Paneļu biezums (piem., 15–40 mm vai ekvivalents risinājums), skaņas absorbcijas klase un citi tehniskie parametri precizējami Darba uzdevumā. | C17: Ecophon, Rockfon, Armstrong vai ekvivalents | D17: m2 | E17: 1
A18: 5 | B18: Iekārtie ģipškartona griesti. Ģipškartona griestu izbūve uz metāla karkasa, t.sk. plākšņu montāža, šuvju armēšana, špaktelēšana un virsmas sagatavošana krāsošanai. Plākšņu slāņu skaits un biezums (piem., 1×12,5 mm; 2×12,5 mm vai ekvivalents risinājums) precizējami Darba uzdevumā. Ietver nepieciešamo piekaru, stiprinājumu un pieslēgumu izbūvi pie esošajām konstrukcijām. | D18: m2 | E18: 1
A19: 6 | B19: Iekārtie mitrumizturīgie ģipškartona griesti. Mitrumizturīgu ģipškartona griestu izbūve uz metāla karkasa, t.sk. plākšņu montāža, šuvju armēšana, špaktelēšana un virsmas sagatavošana apdarei. Plākšņu slāņu skaits un biezums (piem., 1×12,5 mm; 2×12,5 mm vai ekvivalents risinājums) precizējami Darba uzdevumā. Ietver nepieciešamo piekaru, stiprinājumu un pieslēgumu izbūvi pie esošajām konstrukcijām. | C19: Knauf, Rigips vai ekvivalents | D19: m2 | E19: 1
A20: 7 | B20: Iekārtie ugunsdrošie ģipškartona griesti EI30. Sertificētas EI30 griestu sistēmas izbūve, t.sk. metāla karkass, ugunsdrošās plāksnes un mezglu izveide. Plākšņu slāņu skaits un biezums (piem., 1×12,5 mm; 2×12,5 mm vai ekvivalents risinājums) precizējami Darba uzdevumā. Ietver nepieciešamo piekaru, stiprinājumu un pieslēgumu izbūvi pie esošajām konstrukcijām. | C20: Knauf, Rigips vai ekvivalenta sertificēta sistēma | D20: m2 | E20: 1
A21: 8 | B21: Iekārtie ugunsdrošie ģipškartona griesti EI60. Sertificētas EI60 griestu sistēmas izbūve, t.sk. metāla karkass, ugunsdrošās plāksnes un mezglu izveide. Plākšņu slāņu skaits un biezums (piem., 1×12,5 mm; 2×12,5 mm vai ekvivalents risinājums) precizējami Darba uzdevumā. Ietver nepieciešamo piekaru, stiprinājumu un pieslēgumu izbūvi pie esošajām konstrukcijām. | C21: Knauf, Rigips vai ekvivalenta sertificēta sistēma | D21: m2 | E21: 1
A22: 9 | B22: Akustiskie perforēto ģipškartona plākšņu griesti. Akustisko perforēto ģipškartona griestu izbūve, t.sk. metāla karkass, perforētās plāksnes, akustiskais pildījums, šuvju apstrāde un virsmas sagatavošana ekspluatācijai. Skaņas absorbcijas koeficients (αw ≥ 0,65 vai ekvivalents risinājums) un perforācijas veids precizējami Darba uzdevumā. Ietver nepieciešamo piekaru, stiprinājumu un pieslēgumu izbūvi pie esošajām konstrukcijām. | C22: Knauf Cleaneo, Rigips Gyptone vai ekvivalents | D22: m2 | E22: 1
A23: 10 | B23: Moduļgriestu paneļu atkārtota montāža pēc inženiertīklu darbiem. Iepriekš demontētu moduļgriestu paneļu atkārtota montāža pēc inženiertīklu izbūves vai remonta darbiem, t.sk. paneļu pārbaude, bojāto stiprinājumu nomaiņa un griestu plaknes atjaunošana. | C23: Esošā sistēma | D23: m2 | E23: 1
A24: 11 | B24: Ģipškartona griestu lokāla atjaunošana pēc inženiertīklu izbūves. Esošu ģipškartona griestu lokāls remonts pēc inženiertīklu izbūves vai remonta darbiem, t.sk. aizdaru vietu atjaunošana, lokāla karkasa papildināšana nepieciešamajā apjomā, šuvju armēšana, špaktelēšana un virsmas sagatavošana turpmākajai apdarei. | C24: Esošā sistēma | D24: m2 | E24: 1
A25: 12 | B25: Griestu karkasa lokāla atjaunošana pēc inženiertīklu izbūves. Esošā iekaramo griestu vai ģipškartona griestu metāla karkasa lokāla papildināšana vai nomaiņa pēc inženiertīklu izbūves vai remonta darbiem, t.sk. profilu, piekares elementu un stiprinājumu nomaiņa nepieciešamajā apjomā. | D25: m2 | E25: 1
B26: Ģipškartona starpsienu izbūves un remonta darbi
A27: 13 | B27: Ģipškartona starpsienas izbūve ar kopējo biezumu ap 100-125 mm, t.sk. metāla karkass, minerālvates pildījums (≥50 mm), ģipškartona plākšņu apšuvums abās pusēs, stiprinājumi, šuvju armēšana, špaktelēšana un virsmas sagatavošana apdarei. Ietver pieslēgumu izveidi pie esošajām konstrukcijām un nepieciešamo hermetizāciju. Sistēmas ražotājs precizējams Darba uzdevumā. | C27: Knauf, Rigips vai ekvivalents | D27: m2 | E27: 1
A28: 14 | B28: Mitrumizturīga ģipškartona starpsienas izbūve ar kopējo biezumu ap 100-125 mm telpās ar paaugstinātu mitruma līmeni, t.sk. metāla karkass, minerālvates pildījums (≥50 mm), mitrumizturīgās ģipškartona plāksnes abās pusēs, stiprinājumi, šuvju apstrāde un virsmas sagatavošana turpmākajai apdarei. Sistēmas ražotājs precizējams Darba uzdevumā. | C28: Knauf, Rigips vai ekvivalents | D28: m2 | E28: 1
A29: 15 | B29: Ģipškartona starpsienas izbūve ar paaugstinātu skaņas izolāciju Rw ≥ 45 dB, kopējais biezums ap 125-150 mm, t.sk. metāla karkass, akustiskā minerālvate, daudzslāņu ģipškartona apšuvums, stiprinājumi, šuvju apstrāde un hermetizācija. Ietver visus sistēmas elementus projektā vai Darba uzdevumā noteikto akustisko parametru nodrošināšanai. Sistēmas ražotājs precizējams Darba uzdevumā. | C29: Knauf, Rigips vai ekvivalents | D29: m2 | E29: 1
A30: 16 | B30: Ugunsdrošas ģipškartona starpsienas izbūve ar ugunsnoturību EI60, kopējais biezums ap 125-150 mm, t.sk. metāla karkass, minerālvates pildījums, ugunsdrošās ģipškartona plāksnes, stiprinājumi, šuvju armēšana, ugunsdrošo mezglu izbūve un virsmas sagatavošana apdarei. Izmantojama sertificēta ugunsdrošo starpsienu sistēma ar attiecīgo ugunsizturības klasi. Sistēmas ražotājs precizējams Darba uzdevumā. | C30: Knauf, Rigips vai ekvivalents | D30: m2 | E30: 1
A31: 17 | B31: Ugunsdrošas un akustiskas ģipškartona starpsienas izbūve ar ugunsnoturību EI60 un skaņas izolāciju Rw ≥ 50 dB, izmantojama sertificēta ugunsdrošo starpsienu sistēma ar attiecīgo ugunsizturības klasi. Kopējais biezums ap 150 mm, t.sk. metāla karkass, akustiskā minerālvate, daudzslāņu ugunsdrošo ģipškartona plākšņu apšuvums, stiprinājumi, šuvju apstrāde, hermetizācija un ugunsdrošo mezglu izbūve. Ietver visus sistēmas elementus nepieciešamo ugunsdrošības un akustikas parametru nodrošināšanai. Sistēmas ražotājs precizējams Darba uzdevumā. | C31: Knauf, Rigips vai ekvivalents | D31: m2 | E31: 1
A32: 18 | B32: Esošas sienas apšuvuma izbūve akustisko īpašību uzlabošanai, t.sk. metāla karkass, akustiskā minerālvate (≥50 mm), ģipškartona plākšņu apšuvums, stiprinājumi, šuvju armēšana, špaktelēšana un virsmas sagatavošana apdarei. Ietver pieslēgumus pie blakus esošajām konstrukcijām, akustisko mezglu izveidi un hermetizāciju. Kopējais sistēmas biezums ap 75-125 mm, ja projektā vai Darba uzdevumā nav noteikts citādi. Sistēmas ražotājs precizējams Darba uzdevumā. | C32: Knauf, Rigips vai ekvivalents | D32: m2 | E32: 1
A33: 19 | B33: Esošas sienas ugunsdrošā apšuvuma izbūve ugunsizturības prasību paaugstināšanai, t.sk. metāla karkass, minerālvates pildījums (ja nepieciešams), ugunsdrošās ģipškartona plāksnes, stiprinājumi, šuvju armēšana, ugunsdrošo mezglu izbūve un virsmas sagatavošana apdarei. Ietver pieslēgumu izveidi pie blakus esošajām konstrukcijām un ugunsdrošo savienojumu hermetizāciju. Konstrukcijai jānodrošina projektā vai Darba uzdevumā noteiktā ugunsizturības klase (EI30, EI60 vai augstāka). | C33: Knauf, Rigips vai ekvivalents | D33: m2 | E33: 1
A34: 20 | B34: Ārsienas iekšējās siltināšanas sistēmas izbūve, t.sk. metāla vai koka karkass, siltumizolācijas materiāls (≥50 mm), nepieciešamā tvaika izolācija, ģipškartona apšuvums, stiprinājumi, šuvju armēšana, špaktelēšana un virsmas sagatavošana apdarei. Ietver visu pieslēgumu izveidi pie ailām, grīdām, griestiem un blakus konstrukcijām, kā arī nepieciešamo hermetizāciju. Kopējais sistēmas biezums ap 75-150 mm, ja projektā vai Darba uzdevumā nav noteikts citādi. | C34: Knauf, Rigips vai ekvivalenta sistēma | D34: m2 | E34: 1
A35: 21 | B35: Logu un durvju aiļu siltināšana un apdare. Logu un durvju aiļu siltināšana pēc logu vai durvju nomaiņas vai sienu siltināšanas darbiem, t.sk. siltumizolācijas materiālu iestrāde, ģipškartona vai cita apšuvuma izbūve, stūru profili, šuvju apstrāde, špaktelēšana un virsmas sagatavošana apdarei. | D35: m2 | E35: 1
A36: 22 | B36: Elektroinstalācijas elementu pielāgošana siltinātās sienās. Elektroinstalācijas elementu (kontaktrozetes, slēdži, datu pieslēgumi, sadales kārbas un citi elementi) pārbūve vai pielāgošana sienu siltināšanas vai apšuvuma darbu laikā, t.sk. montāžas kārbu pārvietošana, pagarināšana vai nomaiņa un elementu atkārtota uzstādīšana. | D36: gab. | E36: 1
A37: 23 | B37: Šahtu sienu izbūve. Inženiertīklu šahtu norobežojošo sienu izbūve, t.sk. metāla karkass, ģipškartona vai ugunsdrošo plākšņu apšuvums, nepieciešamā izolācija, stiprinājumi, šuvju apstrāde un pieslēgumu izveide pie blakus konstrukcijām. Ietver risinājumus atbilstoši ugunsdrošības un ekspluatācijas prasībām. | C37: Knauf, Rigips vai ekvivalents | D37: m2 | E37: 1
A38: 24 | B38: Tehniskās apkalpošanas lūkas izbūve līdz 300×300 mm. Revīzijas vai tehniskās apkalpošanas lūkas piegāde un montāža ģipškartona sienās vai griestos, t.sk. rāmis, vērtne, stiprinājumi un pieslēgumu izveide pie konstrukcijām. | C38: Knauf, Revizor, Alumatic vai ekvivalents | D38: gab. | E38: 1
A39: 25 | B39: Tehniskās apkalpošanas lūkas izbūve no 300×300 mm līdz 600×600 mm. Revīzijas vai tehniskās apkalpošanas lūkas piegāde un montāža ģipškartona sienās vai griestos, t.sk. rāmis, vērtne, stiprinājumi un pieslēgumu izveide pie konstrukcijām. | C39: Knauf, Revizor, Alumatic vai ekvivalents | D39: gab. | E39: 1
A40: 26 | B40: Tehniskās apkalpošanas lūka virs 600×600 mm. Revīzijas vai tehniskās apkalpošanas lūkas piegāde un montāža ar izmēru virs 600×600 mm, t.sk. rāmis, vērtne, stiprinājumi un pieslēgumi pie konstrukcijām. Izmēri precizējami Darba uzdevumā. | D40: gab. | E40: 1
A41: 27 | B41: Ugunsdrošās tehniskās lūkas EI30-EI60 līdz 600×600 mm. Ugunsdrošas revīzijas lūkas piegāde un montāža sienās vai griestos ar ugunsnoturību EI30-EI60, t.sk. rāmis, vērtne, stiprinājumi, blīvējumi un ugunsdrošo mezglu izbūve. | C41: Knauf, Promat, Revizor vai ekvivalents | D41: gab. | E41: 1
A42: 28 | B42: Ugunsdrošās tehniskās lūkas EI90-EI120 līdz 600×600 mm. Ugunsdrošas revīzijas lūkas piegāde un montāža sienās vai griestos ar ugunsnoturību EI90 - EI120, t.sk. rāmis, vērtne, stiprinājumi, blīvējumi un ugunsdrošo mezglu izbūve. | C42: Knauf, Promat, Revizor vai ekvivalents | D42: gab. | E42: 1
A43: 29 | B43: Flīzējamas revīzijas lūkas izbūve līdz 600×600 mm. Flīzējamai revīzijas lūkai paredzētas sistēmas piegāde un montāža sanitārajos mezglos vai tehniskajās telpās, nodrošinot piekļuvi inženiertīkliem un iespēju saglabāt vienotu sienas apdari. | C43: Revizor, Alumatic vai ekvivalents | D43: gab. | E43: 1
A44: 30 | B44: Esošas tehniskās lūkas atkārtota montāža pēc inženiertīklu darbiem. Iepriekš demontētas tehniskās vai revīzijas lūkas atkārtota montāža pēc inženiertīklu izbūves vai remonta darbiem, t.sk. regulēšana, stiprinājumu atjaunošana un funkcionālā pārbaude. | D44: gab. | E44: 1
A45: 31 | B45: Sienas pastiprinājuma elementi iekārtu stiprināšanai. Papildu pastiprinājumu izbūve sienu konstrukcijās smagāku iekārtu, mēbeļu, sanitārtehnisko ierīču, televizoru, laboratorijas aprīkojuma vai cita aprīkojuma stiprināšanai, t.sk. saplākšņa, metāla profilu vai citu pastiprinošu elementu iestrāde konstrukcijā. Pastiprinājumu novietojums un nestspējas prasības precizējamas Darba uzdevumā. | D45: m2 | E45: 1
A46: 32 | B46: Atveres izbūve esošā ģipškartona starpsienā. Atveres izbūve esošā ģipškartona starpsienā durvju, revīzijas lūku vai inženierkomunikāciju izbūvei, t.sk. karkasa pastiprināšana, malas apstrāde un pieslēgumu atjaunošana. | D46: gab. | E46: 1
A47: 33 | B47: Ugunsdrošo un akustisko pieslēgumu hermetizācija. Starpsienu un apšuvumu pieslēgumu hermetizācija pie grīdām, griestiem, sienām, ailām un citām konstrukcijām, izmantojot ugunsdrošus vai akustiskus blīvējuma materiālus atbilstoši sistēmas prasībām. | D47: m | E47: 1
A48: 34 | B48: Akustisko sienas paneļu montāža uz apakškonstrukcijas. Akustisko sienas paneļu (piemēram, Ecophon vai ekvivalents) piegāde un montāža uz metāla, koka vai ražotāja paredzētas apakškonstrukcijas, t.sk. pamatnes sagatavošana, karkasa izbūve, stiprinājumi, paneļu montāža, savienojumu un malu apstrāde. Ietver nepieciešamo regulēšanu un sistēmas pabeigšanu atbilstoši ražotāja prasībām. Paneļu veids, apdare, krāsa un akustiskie parametri precizējami projektā vai Darba uzdevumā. | C48: Ecophon, Rockfon vai ekvivalents | D48: m2 | E48: 1
A49: 35 | B49: Akustisko sienas paneļu montāža ar līmēšanas metodi. Akustisko sienas paneļu (piemēram, Ecophon vai ekvivalents) piegāde un montāža ar līmēšanas metodi uz sagatavotas pamatnes, t.sk. virsmas attīrīšana, gruntēšana nepieciešamajā apjomā, paneļu līmēšana, savienojumu un malu apstrāde. Ietver sistēmas izbūvi atbilstoši ražotāja prasībām. Paneļu veids, apdare, krāsa un akustiskie parametri precizējami projektā vai Darba uzdevumā. | C49: Ecophon, Rockfon vai ekvivalents | D49: m2 | E49: 1
B50: Grīdu konstrukciju izbūves un remonta darbi
A51: 36 | B51: Grīdas nesošā betona kārtas izbūve uz sagatavotas pamatnes, t.sk. pamatnes sagatavošana, betonēšana, armējuma iestrāde, virsmas līdzināšana, betona kopšana un sagatavošana turpmāko grīdas konstrukcijas slāņu izbūvei. Betona klase C20/25 vai augstāka, kārtas biezums 80–120 mm. Armējuma veids, diametrs un daudzums precizējami Darba uzdevumā. Nepieciešamības gadījumā ietver distancerus, lokālus veidņus un deformācijas šuvju izveidi. | D51: m2 | E51: 1
A52: 37 | B52: Lokāls betona konstrukciju remonts ar remonta javu, t.sk. bojāto vietu sagatavošana, attīrīšana, remonta javas iestrāde, virsmas izlīdzināšana un apstrāde | D52: m2 | E52: 1
A53: 38 | B53: Cementa estrich izlīdzinošā kārta uz sagatavotas pamatnes. Cementa estrich kārtas izbūve uz sagatavotas pamatnes, t.sk. nepieciešamo dilatācijas šuvju izveide, virsmas līdzināšana un sagatavošana turpmāko grīdas segumu ieklāšanai. Estrich biezums 40–80 mm, ja projektā vai Darba uzdevumā nav noteikts citādi. Virsmas kvalitātes klase un līdzenuma prasības precizējamas Darba uzdevumā. | D53: m2 | E53: 1
A54: 39 | B54: Grīdas konstrukcijā izveidojušās šuves vai rievas aizpilde pēc starpsienu demontāžas, t.sk. pamatnes attīrīšana, gruntēšana, armēšana (ja nepieciešams), aizpildīšana ar remontjavu vai citu piemērotu materiālu, virsmas izlīdzināšana un sagatavošana turpmākā grīdas seguma izbūvei vai atjaunošanai. | D54: m | E54: 1
A55: 40 | B55: Izlīdzinošās kārtas izbūve, t.sk. virsmas sagatavošana, gruntēšana un materiāla iestrāde.
A56: 40.1. | B56: Izlīdzinošās kārtas izbūve biezumā līdz 10 mm. Precīzs biezums un materiāla veids precizējami Darba uzdevumā | D56: m2 | E56: 1
A57: 40.2. | B57: Izlīdzinošās kārtas izbūve biezumā no 10 līdz 30 mm. Precīzs biezums un materiāla veids precizējami Darba uzdevumā | D57: m2 | E57: 1
A58: 41 | B58: Tvaika izolācijas slāņa ieklāšana grīdā. Tvaika izolācijas slāņa izbūve grīdas konstrukcijā, t.sk. plēves ieklāšana, savienojumu pārlaidumi, līmēšana, hermetizācija un pieslēgumu izveide pie norobežojošajām konstrukcijām. | D58: m2 | E58: 1
A59: 42 | B59: Siltuma izolācijas slānis grīdā (EPS/XPS). Siltumizolācijas slāņa izbūve grīdas konstrukcijā, izmantojot EPS vai XPS plāksnes, biezums 30-100 mm, EPS 100 vai ekvivalenta stiprības klase, t.sk. materiālu piegāde, ieklāšana, piegriešana un savienojumu izveide atbilstoši Darba uzdevumam. | D59: m2 | E59: 1
A60: 43 | B60: Vieglais siltumizolācijas un izlīdzinošais pildījums grīdā. Vieglā siltumizolācijas un izlīdzinošā pildījuma iestrāde grīdas konstrukcijā, t.sk. pamatnes sagatavošana, materiāla iestrāde, līdzināšana un sagatavošana turpmāko slāņu izbūvei. Slāņa biezums 50-250 mm, ja projektā vai Darba uzdevumā nav noteikts citādi. | D60: m2 | E60: 1
A61: 44 | B61: Hidroizolācijas sistēma mitrām telpām. Hidroizolācijas sistēmas izbūve sanitārajos mezglos, dušās un citās mitrās telpās, t.sk. pamatnes sagatavošana, gruntēšana, hidroizolācijas kārtu iestrāde, stūru lentu, manžešu un citu sistēmas elementu montāža atbilstoši ražotāja prasībām. Hidroizolācijas sistēma vai klase (piem., 1K, 2K, cementa vai polimēru sistēma, vai ekvivalents risinājums) precizējama Darba uzdevumā. Sistēmai jābūt pilnībā savstarpēji savietojamai (grunts, hidroizolācija, lentes, manšetes, līmes). | C61: Mapei, Sika, Ceresit vai ekvivalents | D61: m2 | E61: 1
A62: 45 | B62: Hidroizolācijas lokāla atjaunošana pēc inženiertīklu izbūves. Esošās hidroizolācijas sistēmas lokāla atjaunošana pēc inženierkomunikāciju izbūves vai remonta, t.sk. pamatnes sagatavošana, hidroizolācijas materiālu iestrāde, stūru lentu, manžešu un pieslēgumu atjaunošana. | D62: m2 | E62: 1
A63: 46 | B63: Sausās grīdas sistēma no ģipša šķiedras plāksnēm. Sausās grīdas sistēmas izbūve no ģipša šķiedras plāksnēm, t.sk. izlīdzinošā pildījuma iestrāde (ja nepieciešams), plākšņu montāža, savienojumu izveide un virsmas sagatavošana turpmākajai apdarei. Kopējais plākšņu biezums 20-25 mm, ja projektā vai Darba uzdevumā nav noteikts citādi. | C63: Knauf Brio, Fermacell vai ekvivalents | D63: m2 | E63: 1
A64: 47 | B64: Perimetra skaņas izolācijas lentes ieklāšana. Skaņas izolācijas lentes ieklāšana gar grīdas pieslēgumiem pie sienām, kolonnām un citām konstrukcijām, nodrošinot konstrukciju akustisko atdalīšanu. | D64: m | E64: 1
A65: 48 | B65: Grīdas deformācijas šuvju izveide un aizpilde. Deformācijas šuvju izveide grīdas konstrukcijā un aizpilde ar elastīgiem materiāliem, t.sk. nepieciešamo profilu vai hermētiķu iestrāde un šuvju apstrāde. | D65: m | E65: 1
A66: 49 | B66: Koka lāgu izbūve. Koka lāgu sistēmas izbūve grīdas konstrukcijā, t.sk. lāgu piegāde, izlīdzināšana, stiprināšana un nepieciešamo balstu vai starpliku uzstādīšana. Lāgu šķērsgriezums aptuveni 50×100 mm, solis 300-600 mm, ja projektā vai Darba uzdevumā nav noteikts citādi. Koksnes suga un apdares veids precizējami Darba uzdevumā. | D66: m2 | E66: 1
A67: 50 | B67: Saplākšņa vai OSB plākšņu ieklāšana grīdā. Saplākšņa vai OSB plākšņu ieklāšana uz sagatavotas pamatnes vai lāgām, t.sk. plākšņu piegāde, piegriešana, mehāniskā stiprināšana un savienojumu izveide. Plākšņu biezums precizējams Darba uzdevumā. | D67: m2 | E67: 1
A68: 51 | B68: Saplākšņa vai OSB plākšņu savienojumu apstrāde. Saplākšņa vai OSB plākšņu savienojumu vietu špaktelēšana, slīpēšana un virsmas sagatavošana gala grīdas seguma ieklāšanai. | D68: m2 | E68: 1
A69: 52 | B69: Koka dēļu grīdas izbūve ar apdari. Koka dēļu grīdas izbūve uz sagatavotas pamatnes vai lāgām, t.sk. stiprināšana, slīpēšana un gala apdares veikšana (eļļošana, lakošana vai krāsošana) atbilstoši Darba uzdevumam. | D69: m2 | E69: 1
A70: 53 | B70: Paceltās grīdas sistēmas izbūve. Paceltās grīdas sistēmas izbūve uz sagatavotas pamatnes, t.sk. regulējamu balstu sistēma, nesošā konstrukcija, paceltās grīdas paneļi, stiprinājumi un nepieciešamie savienojuma elementi. Ietver sistēmas līmeņošanu, piegriešanu pie sienām, kolonnām un inženiertīklu izvadiem, kā arī sagatavošanu ekspluatācijai. Paceltās grīdas augstums 100-300 mm, paneļu nestspēja vismaz 4 kN/m², ja projektā vai Darba uzdevumā nav noteikts citādi. | C70: Lindner, Kingspan, MERO vai ekvivalents | D70: m2 | E70: 1
A71: 54 | B71: Paceltās grīdas paneļu atkārtota montāža pēc inženiertīklu darbiem. Iepriekš demontētu paceltās grīdas paneļu atkārtota montāža pēc inženiertīklu izbūves, pārbūves vai remonta darbiem, t.sk. paneļu pārbaude, bojāto stiprinājumu vai balstu nomaiņa nepieciešamajā apjomā, sistēmas līmeņošana, piegriešana un sagatavošana turpmākai ekspluatācijai. | C71: Lindner, Kingspan, MERO vai ekvivalents | D71: m2 | E71: 1
A72: 55 | B72: Parketa grīdas slīpēšana un lakošana. Esošas parketa grīdas atjaunošana, t.sk. virsmas slīpēšana, lokāla bojājumu novēršana nepieciešamajā apjomā un vairākkārtēja lakošana saskaņā ar izvēlēto sistēmu. | D72: m2 | E72: 1
A73: 56 | B73: Parketa grīdas lokāls remonts. Bojātu vai nolietotu parketa elementu lokāla nomaiņa vai atjaunošana, t.sk. seguma līmeņošanas, stiprināšanas un virsmas sagatavošanas darbi. | D73: m2 | E73: 1
A74: 57 | B74: Parketa aizsargpārklājuma atjaunošana bez slīpēšanas. Esoša parketa grīdas aizsargpārklājuma atjaunošana, veicot virsmas attīrīšanu un jauna lakas vai eļļas aizsargkārtas uzklāšanu atbilstoši ražotāja tehnoloģijai. | D74: m2 | E74: 1
A75: 58 | B75: Grīdas seguma lokāla atjaunošana pēc inženiertīklu izbūves. Grīdas konstrukcijas un seguma atjaunošana pēc inženiertīklu izbūves vai remonta darbiem, t.sk. pamatnes atjaunošana, seguma pielāgošana un pieslēgumu izveide pie esošā grīdas seguma. | D75: m2 | E75: 1
A76: 59 | B76: Pakāpiena virsmas lokāls remonts. Kāpņu pakāpiena lokālu bojājumu novēršana, t.sk. bojāto vietu remonts, izlīdzināšana un virsmas sagatavošana turpmākai ekspluatācijai. | D76: gab. | E76: 1
A77: 60 | B77: Kāpņu laukuma virsmas sagatavošana apdarei. Kāpņu laukuma virsmas sagatavošana jauna seguma vai apdares izbūvei, t.sk. virsmas attīrīšana, lokālu bojājumu novēršana, slīpēšana un izlīdzināšana nepieciešamajā apjomā. | D77: m2 | E77: 1
A78: 61 | B78: Industriālā kājslauķa sistēmas demontāža. Esošās industriālās kājslauķa sistēmas demontāža ieejas zonā, t.sk. kājslauķa elementu, rāmja un stiprinājumu noņemšana, darba zonas sakārtošana un pamatnes sagatavošana turpmākajiem darbiem. | D78: m2 | E78: 1
A79: 62 | B79: Industriālā kājslauķa sistēmas piegāde un montāža. Industriālās kājslauķa sistēmas piegāde un montāža ieejas zonā, t.sk. rāmja, kājslauķa elementu, stiprinājumu un nepieciešamo pieslēgumu izbūve, regulēšana un sagatavošana ekspluatācijai. | C79: Emco, AluMat vai ekvivalents | D79: m2 | E79: 1
B80: WC un dušu starpsienu izbūve (tualešu un mazgātavu telpās)
A81: 63 | B81: WC kabīņu starpsienu sistēmas izbūve. WC kabīņu starpsienu sistēmas piegāde un montāža sanitārajos mezglos, t.sk. HPL paneļi vai ekvivalents materiāls, balsta kājas, stiprinājumi, profili un furnitūra. Paneļu biezums 12-18 mm, kabīņu augstums ap 2000 mm, apakšējā brīvkārta 150-200 mm, ja projektā vai Darba uzdevumā nav noteikts citādi. Ietver regulēšanu un sagatavošanu ekspluatācijai. Krāsa un furnitūras veids precizējami Darba uzdevumā. | C81: ALSANIT, SANIPRO, Kemmlit vai ekvivalents | D81: m2 | E81: 1
A82: 64 | B82: WC kabīņu durvju piegāde un montāža. WC kabīņu durvju piegāde un montāža komplektā ar eņģēm, slēdzeni vai aizbīdni, rokturiem, aizņemtības indikatoru un citu nepieciešamo furnitūru. Durvju atvēruma platums parasti ≥600 mm, ja projektā vai Darba uzdevumā nav noteikts citādi. Ietver regulēšanu un funkcionālo pārbaudi. | C82: ALSANIT, SANIPRO, Kemmlit vai ekvivalents | D82: gab. | E82: 1
A83: 65 | B83: WC kabīņu durvju nomaiņa vai remonts. Esošu WC kabīņu durvju remonts vai nomaiņa, t.sk. durvju vērtnes, eņģu, slēdzenes, aizbīdņa, rokturu, aizņemtības indikatora un citas furnitūras nomaiņa vai regulēšana. Ietver stiprinājumu atjaunošanu un funkcionālo pārbaudi. | C83: ALSANIT, SANIPRO, Kemmlit vai ekvivalents | D83: gab. | E83: 1
B84: Kopā:
A86: Piezīmes:
A87: 1 Jāaizpilda visas darbu pozīciju /vienību cenu ailes ar skaitlisku vērtību (cenu), kas apliecina, ka attiecīgie būvdarbi tiks nodrošināti pilnā apjomā atbilstoši Darba uzdevumam, Tehniskai specifikācijai un Būves tehniskajam uzdevumam. Vienības cenā jāiekļauj visas izmaksas, kas nepieciešamas pilnvērtīga, droša un ekspluatācijai gatava rezultāta nodrošināšanai.
A90: Faktiskie konkrētā objekta darbu apjomi tiks noteikti katrā atsevišķā Darba uzdevumā Vispārīgās vienošanās ietvaros.
A92: Sastādīja: ___________________________________________________________________________________________
A93: (paraksts un tā atšifrējums, datums)
A94: Tāme sastādīta: ____. gada _________________
A96: Pārbaudīja: __________________________________________________________________________________________
A97: (paraksts un tā atšifrējums, datums)
A99: Sertifikāta Nr. ______________________________

Sheet LT_2-3
A1: Lokālā tāme Nr.2-3
A2: Griestu, sienu un grīdu apdares remonta darbi
A3: (būvdarbu veids vai konstruktīvā elementa nosaukums)
A5: ='Buvn.kopt.'!A5 -> Būvobjekta nosaukums: | B5: ='Buvn.kopt.'!C5 -> Vispārīgā vienošanās iekšējās apdares atjaunošanas un inženiertīklu remonta darbu veikšanai RSU nekustamajos īpašumos
A6: ='Buvn.kopt.'!A6 -> Būves nosaukums: | B6: Remonta darbi vispārīgās vienošanās ietvaros
A7: Objekta adrese: | B7: RSU nekustamie īpašumi
D9: Tāme sastādīta 2026.gada tirgus cenās
A10: Nr.p.k. | B10: Būvdarbu nosaukums | C10: Ražotājs / sistēma precizējama DU | D10: Mērvienība | E10: Apjoms | F10: Vienības cena1 | G10: Starpsumma, EUR
B12: Sagatavošanās darbi
A13: 1 | B13: Vispārēji sagatavošanas darbi. Objekta apsekošana, darba zonas norobežošana, blakus esošo virsmu, mēbeļu un aprīkojuma aizsardzība pret bojājumiem un putekļiem, darba vietas sagatavošana un sakārtošana pēc darbu pabeigšanas. | D13: k-ts | E13: 1
B14: Griestu apdares darbi
A15: 2 | B15: Griestu šuvju un plaisu remonts. Esošo griestu šuvju, plaisu un lokālu bojājumu remonts, t.sk. bojāto vietu attīrīšana, armēšana (ja nepieciešams), špaktelēšana, slīpēšana un virsmas sagatavošana turpmākai apdarei. | D15: m2 | E15: 1
A16: 3 | B16: Griestu virsmu apstrāde pret pelējumu un sēnīti. Pelējuma vai bioloģiskā piesārņojuma skarto griestu virsmu apstrāde, t.sk. virsmas mehāniska attīrīšana, dezinfekcija, pretsēnīšu līdzekļu uzklāšana un virsmas sagatavošana turpmākai apdarei. | D16: m2 | E16: 1
A17: 4 | B17: Esošā apmetuma špaktelēšana un gruntēšana (griesti). Esošā apmetuma virsmas izlīdzināšana, t.sk. lokālu defektu novēršana, špaktelēšana, slīpēšana, gruntēšana un virsmas sagatavošana krāsošanai. | D17: m2 | E17: 1
A18: 5 | B18: Griestu virsmas gruntēšana pirms krāsošanas. Gruntējoša sastāva uzklāšana uz sagatavotas griestu virsmas, nodrošinot pamatnes saķeri un vienmērīgu apdares materiālu uzklāšanu. | D18: m2 | E18: 1
A19: 6 | B19: Dzelzsbetona griestu virsmas krāsošana 2 kārtās. Sagatavotas dzelzsbetona griestu virsmas krāsošana divās kārtās ar ūdens dispersijas krāsu vai ekvivalentu materiālu, t.sk. lokāla piesegšana un darba zonas sakārtošana. | D19: m2 | E19: 1
A20: 7 | B20: Ģipškartona griestu virsmas izlīdzināšana un krāsošana 2 kārtās. Ģipškartona griestu virsmas špaktelēšana, slīpēšana, gruntēšana un krāsošana divās kārtās. Krāsai jānodrošina vienmērīgs matēts pārklājums bez redzamām svītrām un spīduma atšķirībām. | D20: m2 | E20: 1
A21: 8 | B21: Griestu redzamo konstrukciju un inženiertīklu krāsošana. Redzamo metāla konstrukciju, cauruļvadu, ventilācijas kanālu un citu inženiertīklu virsmu sagatavošana un krāsošana nepieciešamajā apjomā. | D21: m2 | E21: 1
A22: 9 | B22: Inženiertīklu ugunsdrošo šķērsojumu aizdare EI60. Inženiertīklu šķērsojumu ugunsdroša aizdare konstrukcijās ar ugunsnoturību EI60, izmantojot sertificētas ugunsdrošās sistēmas atbilstoši ražotāja tehnoloģijai. Viena šķērsojuma vieta līdz 0,25 m², ja Darba uzdevumā nav noteikts citādi. | C22: Hilti, Promat, Knauf vai ekvivalents | D22: gab. | E22: 1
A23: 10 | B23: Inženiertīklu ugunsdrošo šķērsojumu aizdare EI120. Inženiertīklu šķērsojumu ugunsdroša aizdare konstrukcijās ar ugunsnoturību EI120, izmantojot sertificētas ugunsdrošās sistēmas atbilstoši ražotāja tehnoloģijai. Viena šķērsojuma vieta līdz 0,25 m², ja Darba uzdevumā nav noteikts citādi. | C23: Hilti, Promat, Knauf vai ekvivalents | D23: gab. | E23: 1
A24: 11 | B24: Griestu lokāls remonts. Lokālu griestu bojājumu novēršana, t.sk. bojāto vietu remonts, špaktelēšana, slīpēšana un virsmas sagatavošana turpmākai apdarei. | D24: m2 | E24: 1
B25: Sienu apdares darbi
A26: 12 | B26: Sienu virsmu apstrāde pret pelējumu un sēnīti. Pelējuma vai bioloģiskā piesārņojuma skarto sienu virsmu apstrāde, t.sk. virsmas attīrīšana, dezinfekcija, pretsēnīšu līdzekļu uzklāšana un virsmas sagatavošana turpmākai apdarei. | D26: m2 | E26: 1
A27: 13 | B27: Pilnpārklājuma armējošā stiklašķiedras sieta iestrāde. Armējošā stiklašķiedras sieta iestrāde sienu virsmās plaisu novēršanai un pamatnes stiprināšanai, t.sk. līmes sastāva uzklāšana, sieta iestrāde un virsmas sagatavošana turpmākai apdarei. | D27: m2 | E27: 1
A28: 14 | B28: Ārējo stūru profilu uzstādīšana. Metāla vai PVC stūru profilu piegāde un uzstādīšana sienu ārējo stūru aizsardzībai, t.sk. iestrāde apdares kārtā un virsmas sagatavošana turpmākai apdarei. | D28: m | E28: 1
A29: 15 | B29: Nerūsējošā tērauda aizsargstūru piegāde un uzstādīšana sienu ārējo stūru aizsardzībai, t.sk. stiprinājumi un montāža. Stūra izmēri un tērauda marka (AISI 304 vai ekvivalents risinājums) precizējami Darba uzdevumā | D29: m | E29: 1
A30: 16 | B30: Triecienizturīgu sienu aizsargjoslu piegāde un uzstādīšana sienu aizsardzībai pret mehāniskiem bojājumiem, t.sk. stiprinājumi, gala elementi, savienojumi un montāža. Aizsargjoslu materiāls (HPL, PVC vai ekvivalents risinājums), profila augstums (piem., 100–300 mm), krāsa un stiprināšanas veids precizējami Darba uzdevumā. | C30: Gerflor, CS Acrovyn, Gradus vai ekvivalents | D30: m | E30: 1
A31: 17 | B31: Elektroinstalācijas nišu un atvērumu lokāla atjaunošana. Elektroinstalācijas rozešu, slēdžu, sadales kārbu un citu atvērumu lokāla atjaunošana pēc montāžas vai pārbūves darbiem, t.sk. aizpildīšana, špaktelēšana un virsmas sagatavošana apdarei. | D31: gab. | E31: 1
A32: 18 | B32: Akustiskā hermētiķa iestrāde pieslēgumos. Akustiskā hermētiķa iestrāde sienu, griestu, starpsienu un citu konstrukciju pieslēguma vietās skaņas izolācijas īpašību nodrošināšanai. | D32: m | E32: 1
A33: 19 | B33: Cementa-kaļķa apmetuma uzklāšana līdz 30 mm. Cementa-kaļķa apmetuma izbūve uz sagatavotas pamatnes, t.sk. virsmas attīrīšana, gruntēšana, apmetuma uzklāšana un virsmas sagatavošana turpmākai apdarei. Slāņa biezums līdz 30 mm. | D33: m2 | E33: 1
A34: 20 | B34: Ģipša apmetuma uzklāšana līdz 30 mm. Ģipša apmetuma izbūve uz sagatavotas pamatnes, t.sk. virsmas attīrīšana, gruntēšana, apmetuma uzklāšana un virsmas sagatavošana turpmākai apdarei. Slāņa biezums līdz 30 mm. | D34: m2 | E34: 1
A35: 21 | B35: Sanācijas apmetuma izbūve. Difūzijai atvērta sanācijas apmetuma (renovācijas apmetuma) sistēmas izbūve uz sagatavotas minerālas pamatnes, t.sk. saķeres slāņa izveide, sanācijas apmetuma uzklāšana, virsmas izlīdzināšana un sagatavošana turpmākai apdarei. Apmetumam jābūt paredzētam mitru un sāļu bojātu mūra vai betona konstrukciju atjaunošanai, ar augstu tvaika caurlaidību un paaugstinātu porainību. Slāņa biezums 20-30 mm, ja projektā vai Darba uzdevumā nav noteikts citādi. | C35: Remmers, Baumit, Weber vai ekvivalents | D35: m2 | E35: 1
A36: 22 | B36: Esošu sienu sagatavošana krāsošanai. Esošo sienu virsmu sagatavošana krāsošanai, t.sk. lokāla defektu novēršana, špaktelēšana, slīpēšana, gruntēšana un virsmas attīrīšana. | D36: m2 | E36: 1
A37: 23 | B37: Ģipškartona sienu sagatavošana krāsošanai. Ģipškartona sienu šuvju un stiprinājumu vietu apstrāde, pilna špaktelēšana (ja nepieciešams), slīpēšana, gruntēšana un virsmas sagatavošana krāsošanai. | D37: m2 | E37: 1
A38: 24 | B38: Dzelzsbetona sienu krāsošana 2 kārtās. Sagatavotu dzelzsbetona sienu virsmu krāsošana divās kārtās ar ūdens dispersijas krāsu vai ekvivalentu materiālu. Krāsas spīduma pakāpe: Gloss 10 - 12 vai ekvivalenta matēta/zīdaini matēta apdare. Krāsošana veicama vismaz 2 kārtās uz sagatavotas un nogruntētas pamatnes. Krāsai jāatbilst vismaz EN 13300 1. vai 2. mitrās berzes izturības klasei. | D38: m2 | E38: 1
A39: 25 | B39: Ģipškartona sienu krāsošana 2 kārtās. Sagatavotu ģipškartona sienu krāsošana divās kārtās ar ūdens dispersijas krāsu vai ekvivalentu materiālu. Krāsas spīduma pakāpe: Gloss 10 - 12 vai ekvivalenta matēta/zīdaini matēta apdare. Krāsošana veicama vismaz 2 kārtās uz sagatavotas un nogruntētas pamatnes. Krāsai jāatbilst vismaz EN 13300 1. vai 2. mitrās berzes izturības klasei. | D39: m2 | E39: 1
A40: 26 | B40: Sienu hidroizolācijas sistēmas izbūve telpās ar paaugstinātu mitruma līmeni (sanmezglos, dušās u.c.), t.sk. pamatnes gruntēšana, hidroizolācijas materiāla iestrāde vismaz divās kārtās, hidroizolācijas lentu un manšešu iestrāde, kā arī pieslēgumu hermetizācija. Hidroizolācijas sistēma izbūvējama atbilstoši ražotāja tehnoloģijai. Materiāls un izbūves augstums precizējami Darba uzdevumā. | C40: Mapei, Sika, Ceresit vai ekvivalents | D40: m2 | E40: 1
A41: 27 | B41: Sienu flīzēšana ar akmens masas flīzēm sanmezglos un dušās. Akmens masas flīžu ieklāšana sienām sanitārajos mezglos un dušās, t.sk. līmes sastāvs, flīžu piegriešana, šuvošana un pieslēgumu apstrāde. Flīžu izmērs un formāts precizējams Darba uzdevumā. | D41: m2 | E41: 1
A42: 28 | B42: Sienu flīzēšana ar akmens masas flīzēm publiskās telpās. Akmens masas flīžu ieklāšana sienām koridoros, vestibilos, laboratorijās un citās publiskās telpās, t.sk. šuvošana un apdares mezglu izveide. Flīžu izmērs un formāts precizējams Darba uzdevumā. | D42: m2 | E42: 1
A43: 29 | B43: Virtuves sienas flīzēšana virs darba virsmas. Sienas flīzēšana virtuves zonās virs darba virsmas, t.sk. pieslēgumu izveide pie rozetēm, darba virsmām un citām konstrukcijām. | D43: m2 | E43: 1
A44: 30 | B44: REHAU akrila sienas paneļu vai ekvivalenta izbūve. Akrila sienas paneļu sistēmas piegāde un montāža laboratorijās, virtuvēs vai citās telpās, kur nepieciešama viegli kopjama un mehāniski izturīga virsma. Paneļu biezums vismaz 4 mm vai atbilstoši ražotāja sistēmai. | C44: REHAU vai ekvivalents | D44: m2 | E44: 1
A45: 31 | B45: PVC sienu stūru aizsarguzliku montāža. PVC aizsargprofilu piegāde un montāža sienu stūru aizsardzībai intensīvas ekspluatācijas telpās. | D45: m | E45: 1
A46: 32 | B46: Sienu aizsargpaneļu izgatavošana un montāža. Sienu aizsargpaneļu piegāde un montāža koridoros, auditorijās, laboratorijās un citās telpās sienu aizsardzībai pret mehāniskiem bojājumiem. Paneļu materiāls – HPL, PVC vai ekvivalents materiāls ar paaugstinātu mehānisko izturību. | C46: Abet Laminati, Fundermax, Formica vai ekvivalents | D46: m2 | E46: 1
A47: 33 | B47: Nerūsējošā tērauda sienu aizsarglokšņu piegāde un montāža sienu aizsardzībai pret mehāniskiem bojājumiem, t.sk. uzmērīšana, piegriešana, stiprinājumi vai līmēšana, savienojumu izveide un montāža. Izmantojams nerūsējošais tērauds AISI 304 vai ekvivalents, loksnes biezums 0,8–1,5 mm, virsmas apdare (slīpēta, matēta vai cita) un izmēri precizējami Darba uzdevumā. | D47: m2 | E47: 1
A48: 34 | B48: Liftu kabīņu sienu aizsargpaneļu piegāde un montāža sienu aizsardzībai remontdarbu, pārvākšanās vai ekspluatācijas laikā, t.sk. paneļu izgatavošana, stiprinājumi, aizsargpārklājumi un montāža. Paneļu materiāls (saplāksnis, HPL, kompozītmateriāls vai ekvivalents risinājums), biezums, stiprināšanas veids un izmēri precizējami Darba uzdevumā. | D48: m | E48: 1
A49: 35 | B49: Nerūsējošā tērauda stūru aizsargu piegāde un montāža sienu ārējo stūru aizsardzībai pret mehāniskiem bojājumiem, t.sk. uzmērīšana, piegriešana, stiprinājumi vai līmēšana un montāža. Izmantojams nerūsējošais tērauds AISI 304 vai ekvivalents, metāla biezums 0,8–1,5 mm, aizsarga platums, augstums un virsmas apdare precizējami Darba uzdevumā. | D49: m | E49: 1
A50: 36 | B50: Sienu aizsargmargu piegāde un montāža. Sienu aizsargmargu sistēmas piegāde un montāža, t.sk. profili, stiprinājumi un montāža pie sienas konstrukcijām. Aizsargmargām jābūt izgatavotām no triecienizturīga PVC, HPL vai ekvivalenta materiāla ar alumīnija nesošo profilu vai ekvivalentu risinājumu. Margu augstums no grīdas 800-900 mm, ja Darba uzdevumā nav noteikts citādi. | C50: Gerflor, CS Acrovyn, Gradus vai ekvivalents | D50: m | E50: 1
A51: 37 | B51: Plaisu aizdare sienās. Plaisu attīrīšana, armēšana (ja nepieciešams), aizpildīšana un virsmas sagatavošana turpmākai apdarei. | D51: m | E51: 1
A52: 38 | B52: Radiatoru virsmu sagatavošana un krāsošana. Radiatoru virsmu attīrīšana, slīpēšana, gruntēšana un krāsošana nepieciešamajā apjomā. | D52: gab. | E52: 1
A53: 39 | B53: Dekoratīvu cauruļu un radiatoru nosegkonstrukciju izbūve, t.sk. karkasa izbūve, apšuvuma izgatavošana un montāža, stiprinājumi, revīzijas atvērumu vai noņemamu elementu izbūve un pieslēgumu izveide pie esošajām konstrukcijām. Konstrukcijas materiāls (ģipškartons, HPL, MFC, MDF, perforēts metāls vai ekvivalents), izmēri un apdares veids precizējami Darba uzdevumā. Konstrukcijai jānodrošina piekļuve noslēgarmatūrai un brīva radiatoru siltuma atdeve. | D53: m | E53: 1
A54: 40 | B54: Dekoratīvu inženierkomunikāciju nosegkonstrukciju izbūve, t.sk. karkasa izbūve, apšuvuma montāža, revīzijas lūku izbūve, stiprinājumi, šuvju apstrāde un virsmas sagatavošana apdarei. Konstrukcijas materiāls (ģipškartons, ugunsdrošās vai mitrumizturīgās plāksnes, HPL, metāls vai ekvivalents), ugunsizturības klase un apdares prasības precizējamas Darba uzdevumā. Nepieciešamības gadījumā jānodrošina piekļuve inženierkomunikāciju apkopei un remontam. | D54: m2 | E54: 1
A55: 41 | B55: Koka virsmu sagatavošana un krāsošana/lazēšana. Koka virsmu slīpēšana, lokāla defektu novēršana, gruntēšana un krāsošana vai lazēšana atbilstoši izvēlētajai apdares sistēmai. | D55: m2 | E55: 1
A56: 42 | B56: Cauruļvadu virsmu sagatavošana un krāsošana. Redzamo metāla cauruļvadu virsmu attīrīšana, gruntēšana un krāsošana nepieciešamajā apjomā. | D56: m | E56: 1
A57: 43 | B57: Lokāla sienu apdares atjaunošana pēc inženiertīklu izbūves, t.sk. aizdaru vietu remonts, špaktelēšana, gruntēšana un krāsošana. | D57: m2 | E57: 1
B58: Ar hidrofobizējošu pārklājumu
A59: 44 | B59: Esošā bojātā apmetuma un krāsas slāņu mehāniska noņemšana līdz stabilai pamatnei. Virsmas mehāniska attīrīšana no sāļiem, drupām un putekļiem ar birstēm un/vai ūdens strūklu. | D59: m2 | E59: 1
A60: 45 | B60: Virsmas apstrāde ar pretpelējuma un sāļu neitralizēšanas līdzekli. | D60: m2 | E60: 1
A61: 46 | B61: Plaisu un atsegumu aizpildīšana ar remonta javu. Virsmas izlīdzināšana ar mitrumizturīgu remonta javu. | D61: m2 | E61: 1
A62: 47 | B62: Minerālās hidroizolācijas pārklājuma uzklāšana (2–3 kārtās) uz sagatavotās virsmas, t.sk. stūru un šuvju apstrāde ar hidroizolācijas lenti vai speciālu šuvju javu | C62: Remmers, Mapei, Schomburg, Weber vai ekvivalents | D62: m2 | E62: 1
A63: 48 | B63: Hidroizolācijas slāņa pārklāšana ar mitrumizturīgu, difūzijai atvērtu apmetumu | D63: m2 | E63: 1
A64: 49 | B64: Sienas nogruntēšana un krāsošana ar tvaikcaurlaidīgu, mitrumizturīgu krāsu | D64: m2 | E64: 1
B65: Ar hidroizolācijas materiāla iestrādi sienās ar urbuma metodi
A66: 50 | B66: Esošā bojātā apmetuma un krāsas slāņu mehāniska noņemšana līdz stabilai pamatnei.Virsmas mehāniska attīrīšana no sāļiem, drupām un putekļiem ar birstēm un/vai ūdens strūklu. | D66: m2 | E66: 1
A67: 51 | B67: Urbumu izveide sienās, ar urbuma biezumu 2/3 no sienas biezuma, ar urbuma diametru 12 - 18mm, urbuma attālums vienam no otra 10 - 12cm, urbuma leņķis aptuveni 30° - 45° pret horizontu (lai injekcijas šķidrums nosēstos kapilāros un veidotu nepārtrauktu barjeru) | D67: m | E67: 1
A68: 52 | B68: Hidroizolācijas materiāla iestrāde zem spiediena caur sprauslām/pakeriem, urbumu vietu aizpildīšana ar cementa bāzes hidroizolācijas javu pēc sprauslu/pakeru noņemšanas | C68: Remmers, Mapei, Schomburg, Weber vai ekvivalents | D68: m | E68: 1
B69: Grīdu apdares darbi
A70: 53 | B70: Pelējuma/sēnīšu skarto vietu apstrāde grīdās. Pelējuma vai sēnīšu skarto grīdas virsmu lokāla attīrīšana un apstrāde ar pretsēnīšu līdzekļiem, t.sk. bojāto vietu mehāniska attīrīšana, dezinfekcija un virsmas sagatavošana turpmākajiem darbiem. | D70: m2 | E70: 1
A71: 54 | B71: Grīdas konstrukcijas ierīkošana ar siltumizolāciju un klonu. Grīdas konstrukcijas izbūve uz sagatavotas pamatnes, t.sk. tvaika izolācija, siltumizolācija, atdalošais slānis, perimetra lenta, cementa vai anhidrīta klons un virsmas sagatavošana gala seguma ieklāšanai. Konstrukcijas kopējais biezums 50 - 150 mm, ja Darba uzdevumā nav noteikts citādi. Siltumizolācijas materiāls - EPS, XPS vai minerālvate atbilstoši projektam vai Darba uzdevumam. | D71: m2 | E71: 1
A72: 55 | B72: Grīdu izlīdzināšana ar pašizlīdzinošo sastāvu (3-30 mm). Grīdas pamatnes izlīdzināšana ar pašizlīdzinošo sastāvu, t.sk. virsmas attīrīšana, gruntēšana, izlīdzinošās masas iestrāde un virsmas sagatavošana grīdas seguma ieklāšanai. Slāņa biezums 3- 30 mm. | D72: m2 | E72: 1
A73: 56 | B73: Slīpuma veidošana mitrās telpās. Grīdas virsmas sagatavošana ar nepieciešamā slīpuma izveidi ūdens novadei uz trapu vai noteku, t.sk. lokāla virsmas izlīdzināšana un sagatavošana hidroizolācijas vai flīzēšanas darbiem. Projektētais slīpums 1,5-2,0 % virzienā uz trapu vai noteku, ja projektā vai Darba uzdevumā nav noteikts citādi. | D73: m2 | E73: 1
A74: 57 | B74: Dušas trapa iestrādes mezgls. Dušas trapa piegāde un iestrāde grīdas konstrukcijā, t.sk. nostiprināšana, pieslēgšana kanalizācijas sistēmai, hidroizolācijas mezgla izveide un sagatavošana turpmākajiem apdares darbiem. Ietver trapu ar nerūsējošā tērauda resti un pieslēgumu kanalizācijas sistēmai. Trapa veids un izmērs precizējams Darba uzdevumā. | C74: ACO, Viega, HL vai ekvivalents | D74: gab. | E74: 1
A75: 58 | B75: Ieliekama grīdas apkalpes/revīzijas lūka līdz 600×600 mm. Ieliekamas grīdas lūkas piegāde un montāža piekļuvei inženierkomunikācijām, t.sk. rāmis, vāks, stiprinājumi, līmeņošana un pielāgošana paredzētajam grīdas segumam. Paredzēta piekļuve inženierkomunikācijām, ar vāku, kas pielāgojams paredzētajam grīdas segumam. | C75: Revizor, Alumatic vai ekvivalents | D75: gab. | E75: 1
A76: 59 | B76: Grīdas hidroizolācijas sistēma mitrām telpām. Hidroizolācijas sistēmas izbūve sanitārajos mezglos, dušās un citās mitrās telpās, t.sk. gruntēšana, hidroizolācijas kārtu uzklāšana, stūru lentu, manžešu un pieslēgumu mezglu izbūve. Hidroizolācijas sistēma izpildāma vismaz 2 kārtās, ievērojot ražotāja tehnoloģiju. | C76: Mapei, Sika, Ceresit vai ekvivalents | D76: m2 | E76: 1
A77: 60 | B77: Tekstila paklājflīžu seguma ieklāšana. Tekstila paklājflīžu seguma piegāde un ieklāšana uz sagatavotas pamatnes, t.sk. līmēšana, piegriešana, savienojumu izveide un darba zonas sakārtošana. Seguma tonis un raksts precizējams Darba uzdevumā. | C77: Interface, Tarkett, Forbo vai ekvivalents | D77: m2 | E77: 1
A78: 61 | B78: Heterogēna PVC grīdas seguma ieklāšana. PVC grīdas seguma piegāde un ieklāšana uz sagatavotas pamatnes, t.sk. gruntēšana, līmēšana, šuvju apstrāde un seguma piegriešana pie sienām un konstrukcijām. PVC seguma biezums vismaz 2,0 mm, nodilumkārta vismaz 0,7 mm, piemērots publiskām telpām ar intensīvu ekspluatāciju. | C78: Tarkett, Gerflor, Forbo vai ekvivalents | D78: m2 | E78: 1
A79: 62 | B79: Linoleja seguma ieklāšana. Linoleja seguma piegāde un ieklāšana uz sagatavotas pamatnes, t.sk. līmēšana, šuvju metināšana, piegriešana un darba zonas sakārtošana. Linolejs paredzēts publiskām telpām ar intensīvu ekspluatāciju, biezums vismaz 2,5 mm, ja Darba uzdevumā nav noteikts citādi. | C79: Forbo Marmoleum, Tarkett vai ekvivalents | D79: m2 | E79: 1
A80: 63 | B80: Linoleja seguma ieklāšana ar uzlocījumu uz sienām. Linoleja seguma piegāde un ieklāšana ar uzlocījumu uz sienām, t.sk. pamatnes sagatavošana, līmēšana, šuvju metināšana un higiēniska pieslēguma izveide pie sienām. Uzlocījuma augstums 100 mm, ja Darba uzdevumā nav noteikts citādi. | C80: Forbo Marmoleum, Tarkett vai ekvivalents | D80: m2 | E80: 1
A81: 64 | B81: Kvarca vinila grīdas seguma ieklāšana. Kvarca vinila grīdas seguma piegāde un ieklāšana uz sagatavotas pamatnes, t.sk. pamatnes sagatavošana, seguma montāža, piegriešana, pāreju un pieslēgumu izveide. Seguma nodilumkārta vismaz 0,55 mm, ekspluatācijas klase 33 vai augstāka, ja Darba uzdevumā nav noteikts citādi. | C81: Tarkett, Gerflor, Forbo vai ekvivalents | D81: m2 | E81: 1
A82: 65 | B82: Akmens masas flīžu ieklāšana grīdās sanmezglos un dušās. Akmens masas flīžu ieklāšana grīdās sanitārajos mezglos un dušās, t.sk. līmēšana, piegriešana, šuvju aizpildīšana, pieslēgumu izveide pie trapu mezgliem un virsmas attīrīšana.Flīžu pretslīdes klase un ekspluatācijas prasības precizējamas Darba uzdevumā. | C82: Marazzi, RAK Ceramics vai ekvivalents | D82: m2 | E82: 1
A83: 66 | B83: Akmens masas flīžu ieklāšana publiskās telpās. Akmens masas flīžu ieklāšana vestibilos, koridoros, laboratorijās un citās publiskās telpās, t.sk. līmēšana, piegriešana, šuvju aizpildīšana un virsmas attīrīšana. Flīžu pretslīdes klase un ekspluatācijas prasības precizējamas Darba uzdevumā. | C83: Marazzi, RAK Ceramics vai ekvivalents | D83: m2 | E83: 1
A84: 67 | B84: Flīžu seguma lokāls remonts. Esoša keramikas vai akmens masas flīžu seguma lokāls remonts, t.sk. bojāto flīžu un pamatnes sagatavošana, flīžu nomaiņa vai atjaunošana, līmēšana, šuvju aizpildīšana un virsmas attīrīšana. Remontētajam segumam pēc iespējas jānodrošina vizuāla un funkcionāla atbilstība esošajam segumam. | D84: m2 | E84: 1
A85: 68 | B85: Flīžu šuvju pāršuvošana un silikona šuvju atjaunošana. Esošo flīžu šuvju atjaunošana, t.sk. bojāto šuvju izņemšana, pāršuvošana, silikona šuvju nomaiņa stūros un pieslēgumos, kā arī virsmas attīrīšana. | D85: m | E85: 1
A86: 69 | B86: Pretputekļu pārklājuma uzklāšana uz betonētas grīdas. Pretputekļu pārklājuma sistēmas uzklāšana uz betonētas grīdas virsmas, t.sk. pamatnes attīrīšana, gruntēšana un pārklājuma iestrāde atbilstoši ražotāja tehnoloģijai. | C86: Sika, Mapei, Master Builders vai ekvivalents | D86: m2 | E86: 1
A87: 70 | B87: Epoksīda grīdas pārklājuma ierīkošana. Epoksīda grīdas pārklājuma sistēmas izbūve uz sagatavotas pamatnes, t.sk. virsmas sagatavošana, gruntēšana, pārklājuma iestrāde un darba zonas sakārtošana. Pārklājuma veids un biezums precizējams Darba uzdevumā. Pārklājuma biezums 2-3 mm, ja Darba uzdevumā nav noteikts citādi. | C87: Sika, Mapei, Remmers vai ekvivalents | D87: m2 | E87: 1
A88: 71 | B88: Koka lāgu izbūve. Koka lāgu sistēmas izbūve uz sagatavotas pamatnes, t.sk. lāgu izlīmeņošana, stiprināšana un sagatavošana turpmākās grīdas konstrukcijas izbūvei. | D88: m2 | E88: 1
A89: 72 | B89: Saplākšņa vai OSB plākšņu ieklāšana grīdā. Saplākšņa vai OSB plākšņu ieklāšana uz sagatavotas pamatnes vai lāgu konstrukcijas, t.sk. piegriešana, stiprināšana un virsmas sagatavošana turpmākai apdarei. Plākšņu biezums vismaz 18 mm, ja Darba uzdevumā nav noteikts citādi. | D89: m2 | E89: 1
A90: 73 | B90: Saplākšņa vai OSB plākšņu savienojumu apstrāde. Saplākšņa vai OSB plākšņu savienojumu un stiprinājumu vietu apstrāde, t.sk. špaktelēšana, slīpēšana un virsmas sagatavošana gala seguma ieklāšanai. | D90: m2 | E90: 1
A91: 74 | B91: Koka dēļu grīdas izbūve ar apdari. Koka dēļu grīdas izbūve uz sagatavotas pamatnes, t.sk. seguma montāža, stiprināšana, slīpēšana un apdares pārklājuma uzklāšana. | D91: m2 | E91: 1
A92: 75 | B92: Parketa grīdas slīpēšana un lakošana. Esošās parketa grīdas slīpēšana, virsmas sagatavošana un lakošana vairākās kārtās, nodrošinot vienmērīgu un ekspluatācijai piemērotu virsmu. Lakošana vismaz 2-3 kārtās. | D92: m2 | E92: 1
A93: 76 | B93: Sporta zāles parketa grīdas slīpēšana un lakošana. Esošās sporta zāles parketa grīdas slīpēšana, virsmas sagatavošana un lakošana vairākās kārtās ar sporta grīdām paredzētu laku vai ekvivalentu materiālu, nodrošinot augstu nodilumizturību un atbilstošas slīdes īpašības intensīvai ekspluatācijai. | C93: Bona Sportive, Junckers vai ekvivalents | D93: m2 | E93: 1
A94: 77 | B94: Sporta laukumu marķējuma uzklāšana vai atjaunošana. Sporta laukumu marķējuma līniju uzklāšana vai atjaunošana uz sporta zāles grīdas, izmantojot nodilumizturīgus materiālus. Marķējuma veids, krāsa un sporta veids precizējams Darba uzdevumā. | D94: m | E94: 1
A95: 78 | B95: Parketa grīdas lokāls remonts. Bojātu parketa elementu nomaiņa vai atjaunošana, t.sk. virsmas izlīdzināšana, slīpēšana un lokāla apdares atjaunošana nepieciešamajā apjomā. | D95: m2 | E95: 1
A96: 79 | B96: Grīdas seguma lokāla atjaunošana pēc inženiertīklu izbūves. Grīdas seguma atjaunošana pēc inženiertīklu izbūves vai remonta darbiem, nodrošinot seguma, šuvju un apdares vizuālu un funkcionālu atbilstību esošajam segumam. | D96: m2 | E96: 1
A97: 80 | B97: Pakāpiena virsmas lokāls remonts. Kāpņu pakāpiena lokālu bojājumu novēršana, t.sk. atdauzījumu, plaisu vai nodilušu vietu remonts un virsmas atjaunošana. | D97: gab. | E97: 1
A98: 81 | B98: Kāpņu laukuma virsmas sagatavošana apdarei. Kāpņu laukuma virsmas attīrīšana, izlīdzināšana, lokālu defektu novēršana un sagatavošana turpmākai apdares pārklājuma izbūvei. | D98: m2 | E98: 1
A99: 82 | B99: Pretslīdes lentu uzstādīšana uz pakāpieniem. Pretslīdes lentu piegāde un uzstādīšana uz kāpņu pakāpieniem, nodrošinot drošu pārvietošanos un nepieciešamo saķeri ekspluatācijas laikā. | D99: m | E99: 1
A100: 83 | B100: Alumīnija grīdas pārejas profilu piegāde un montāža dažādu grīdas segumu savienojumu vietās, t.sk. profili, stiprinājumi un montāža. Profila redzamais platums 20-50 mm, ja Darba uzdevumā nav noteikts citādi. Krāsa un apdare precizējama Darba uzdevumā. Profila augstums pielāgojams savienojamo segumu biezumam. | D100: m | E100: 1
A101: 84 | B101: Nerūsējošā tērauda grīdas pārejas profilu piegāde un montāža dažādu grīdas segumu savienojumu vietās, t.sk. profili, stiprinājumi un montāža. Profila redzamais platums 20-50 mm, ja Darba uzdevumā nav noteikts citādi. Virsmas apdare un izpildījums precizējami Darba uzdevumā. Profila augstums pielāgojams savienojamo segumu biezumam. | D101: m | E101: 1
A102: 85 | B102: Koka grīdlīstu piegāde un montāža, t.sk. piegriešana, stūru un savienojumu izveide, stiprināšana, pieslēgumu izveide pie durvju ailām un citām konstrukcijām, kā arī virsmas attīrīšana pēc darbu pabeigšanas. Grīdlīstu augstums 60-100 mm, ja Darba uzdevumā nav noteikts citādi. | D102: m | E102: 1
A103: 86 | B103: Esošu koka grīdlīstu saudzīga demontāža, attīrīšana, slīpēšana, lakošana vai apdares atjaunošana un atkārtota montāža ar nepieciešamo piegriešanu, savienojumu izveidi un stiprināšanu. Grīdlīstu augstums 60-100 mm, ja Darba uzdevumā nav noteikts citādi. | D103: m | E103: 1
...

Sheet LT_2-4
A1: Lokālā tāme Nr.2-4
A2: Dažādi darbi
A3: (būvdarbu veids vai konstruktīvā elementa nosaukums)
A5: ='Buvn.kopt.'!A5 -> Būvobjekta nosaukums: | B5: ='Buvn.kopt.'!C5 -> Vispārīgā vienošanās iekšējās apdares atjaunošanas un inženiertīklu remonta darbu veikšanai RSU nekustamajos īpašumos
A6: ='Buvn.kopt.'!A6 -> Būves nosaukums: | B6: Remonta darbi vispārīgās vienošanās ietvaros
A7: Objekta adrese: | B7: ='[1]Buvn.kopt.'!C7 -> RSU nekustamie īpašumi
D9: Tāme sastādīta 2026.gada tirgus cenās
A10: Nr.p.k. | B10: Būvdarbu nosaukums | C10: Ražotājs / sistēma precizējama DU | D10: Mērvienība | E10: Apjoms | F10: Vienības cena1 | G10: Starpsumma, EUR
B12: Sagatavošanās darbi
A13: 1 | B13: Objekta apsekošana, darba zonas norobežošana, blakus esošo virsmu, mēbeļu un aprīkojuma aizsardzība pret bojājumiem un putekļiem, darba vietas sagatavošana, būvgružu savākšana un darba zonas sakārtošana pēc darbu pabeigšanas. | D13: k-ts | E13: 1
B14: Dažādi darbi
A15: 2 | B15: Inženierkomunikāciju šahtu apšuvuma atjaunošana no ģipškartona plāksnēm (GKB 12,5 mm vai ekvivalents) uz metāla karkasa, t.sk. bojāto daļu demontāža, karkasa atjaunošana, apšuvuma montāža, šuvju apstrāde, gruntēšana un krāsošana divās kārtās. | C15: Knauf, Rigips vai ekvivalents | D15: m2 | E15: 1
A16: 3 | B16: Koka vai finiera rampas izgatavošana un uzstādīšana līmeņu starpību un sliekšņu pārvarēšanai, t.sk. materiālu piegāde, izgatavošana, stiprinājumi, virsmu apstrāde un montāža. Vienas rampas garums līdz 2,0 m, platums līdz 1,2 m un līmeņu starpība līdz 150 mm, ja Darba uzdevumā nav noteikts citādi. Rampai jānodrošina droša ekspluatācija un stabilitāte paredzētajai slodzei. | D16: gab. | E16: 1
A17: 4 | B17: Koka laipu izbūve pagrabos, jumtos, tehniskajās telpās un citās ekspluatācijas zonās, t.sk. nesošā karkasa izbūve, seguma ieklāšana, stiprinājumi un virsmu apstrāde. Konstrukcijas risinājums, izmēri un nestspējas prasības precizējamas Darba uzdevumā, laipas seguma dēļu biezums vismaz 28 mm vai ekvivalents, ja Darba uzdevumā nav noteikts citādi. Koksnes materiāliem jābūt piemērotiem attiecīgajiem ekspluatācijas apstākļiem. | D17: m2 | E17: 1
A18: 5 | B18: Metāla kāpņu margu remonts. Esošo metāla margu bojāto daļu remonts, t.sk. bojāto elementu nomaiņa, virsmu sagatavošana, pretkorozijas apstrāde, gruntēšana un krāsošana. | D18: m | E18: 1
A19: 6 | B19: Krāsotu tērauda margu piegāde un montāža. Tērauda margu izgatavošana, piegāde un montāža, t.sk. stiprinājumi, metinājumu apstrāde, gruntēšana un krāsošana. Margu augstums 900 - 1100 mm, ja Darba uzdevumā nav noteikts citādi. | D19: m | E19: 1
A20: 7 | B20: Nerūsējošā tērauda (AISI 304 vai ekvivalents) margu vai atbalstu piegāde un montāža, t.sk. kronšteini un stiprinājumi pie esošajām konstrukcijām. Diametrs Ø45 - 50 mm, ja Darba uzdevumā nav noteikts citādi. | D20: m | E20: 1
A21: 8 | B21: Braila raksta plāksnīšu izgatavošana un uzstādīšana pieejamības prasību nodrošināšanai. Izmērs, saturs un izvietojums precizējams Darba uzdevumā. Stiprināšana ar līmi vai mehāniskiem stiprinājumiem atbilstoši pamatnei. | C21: Modul Design, Signcode vai ekvivalents | D21: gab. | E21: 1
A22: 9 | B22: Mēbeļu izjaukšana, pārvietošana un atkārtota salikšana remontdarbu veikšanai vienā objektā vai telpā. 1 k-ts = viena telpa vai viena mēbeļu grupa līdz 10 vienībām, ja Darba uzdevumā nav noteikts citādi. | D22: k-ts | E22: 1
A23: 10 | B23: Esošu mēbeļu un aprīkojuma demontāža, iznešana, iekraušana, transportēšana un nodošana atkritumu apsaimniekotājam atbilstoši normatīvo aktu prasībām. Ietver darba zonas sakārtošanu un būvgružu savākšanu. 1 k-ts = viena telpa vai Darba uzdevumā noteikts apjoms. | D23: k-ts | E23: 1
A24: 11 | B24: Izlietnes skapīša komplekta piegāde un montāža, t.sk. skapītis, izlietne, maisītājs, sifons, spogulis, stiprinājumi un pieslēgšana esošajiem inženiertīkliem bez to pārbūves. Izmēri, materiāli un aprīkojuma komplektācija precizējama Darba uzdevumā. Ietver montāžu, regulēšanu un funkcionālo pārbaudi. | C24: Ifö, Gustavsberg, Geberit vai ekvivalents | D24: gab. | E24: 1
A25: 12 | B25: Lamināta darba virsmas piegāde un montāža virtuvēs, laboratorijās vai citās telpās, t.sk. piegriešana, izgriezumi izlietnēm un iekārtām, malu apstrāde, stiprinājumi un montāža. Darba virsmas biezums vismaz 28 mm, darba virsmas dziļums līdz 600 mm, ja Darba uzdevumā nav noteikts citādi. Dekors un apdare precizējami Darba uzdevumā. | C25: Egger, Kronospan, Pfleiderer vai ekvivalents | D25: m | E25: 1
A26: 13 | B26: Kompakta HPL darba virsmas piegāde un montāža laboratorijās, virtuvēs vai citās intensīvas ekspluatācijas telpās, t.sk. piegriešana, izgriezumi izlietnēm un iekārtām, malu apstrāde, stiprinājumi un montāža. Virsmas biezums vismaz 12 mm, darba virsmas dziļums līdz 600 mm, ja Darba uzdevumā nav noteikts citādi. Materiālam jābūt mitrumizturīgam un mehāniski noturīgam. | C26: Fundermax, Trespa, Compact Interior vai ekvivalents | D26: m | E26: 1
A27: 14 | B27: Spoguļa piegāde un montāža pie sienas konstrukcijām, t.sk. stiprinājumi un regulēšana. Izmērs precizējams Darba uzdevumā. | D27: gab. | E27: 1
A28: 15 | B28: Karnīžu, žalūziju vai aizkaru stangu montāža pie sienas vai griestu konstrukcijām, t.sk. stiprinājumi. Karnīžu vai stangu garums līdz 3 m, ja Darba uzdevumā nav noteikts citādi. | D28: gab. | E28: 1
A29: 16 | B29: Plauktu, skapīšu, turētāju un citu nelielu aprīkojuma elementu montāža pie sienām vai citām konstrukcijām. 1 gab. = viena aprīkojuma vienība līdz 30 kg, ja Darba uzdevumā nav noteikts citādi. | D29: gab. | E29: 1
A30: 17 | B30: Dušas krēsla piegāde un montāža pie sienas vai grīdas konstrukcijām, t.sk. stiprinājumi un regulēšana. Ietver stiprināšanu pie nesošās konstrukcijas vai iepriekš izbūvēta pastiprinājuma. | C30: Pressalit, HEWI, Etac vai ekvivalents | D30: gab. | E30: 1
A31: 18 | B31: Nelielu tehnisko atveru hermetizācija pēc būvdarbiem, izmantojot putas, javu vai hermētiķus. 1 gab. = viena atvere līdz 0,05 m². | D31: gab. | E31: 1
A32: 19 | B32: Lokāla atveru vai nišu pielāgošana aprīkojuma vai stiprinājumu uzstādīšanai bez nesošo konstrukciju pārbūves. | D32: gab. | E32: 1
A33: 20 | B33: Ventilācijas restu vai difuzoru demontāža apdares darbu veikšanai un atkārtota montāža pēc darbu pabeigšanas. | D33: gab. | E33: 1
A34: 21 | B34: Sadzīves tehnikas uzstādīšana un pieslēgšana esošajiem elektroapgādes un/vai ūdensapgādes tīkliem, neveicot inženiertīklu pārbūvi. Ietver iekārtas novietošanu, pieslēgšanu, regulēšanu un funkcionālo pārbaudi. Iekārtas veids precizējams Darba uzdevumā. | D34: gab. | E34: 1
A35: 22 | B35: Informācijas stendu, tāfeļu un ekrānu demontāža un atkārtota montāža. Esošu informācijas stendu, tāfeļu, monitoru vai ekrānu saudzīga demontāža un atkārtota montāža pēc remontdarbu pabeigšanas, t.sk. stiprinājumu noņemšana un uzstādīšana, līmeņošana un regulēšana. Elektroapgādes un datu tīklu pārbūve pozīcijā nav iekļauta. | D35: gab. | E35: 1
A36: 23 | B36: Telpu numurzīmju, informatīvo plākšņu, drošības zīmju un citu apzīmējumu piegāde un montāža pie sienām, durvīm vai citām konstrukcijām, t.sk. stiprinājumi. Zīmju saturs, izmēri un dizains precizējami Darba uzdevumā. | C36: Saskaņā ar RSU dizaina vadlīnijām | D36: gab. | E36: 1
A37: 24 | B37: Pie sienas stiprināma aprīkojuma montāža, t.sk. plaukti, turētāji, dozatori, TV kronšteini, informācijas ekrāni un cits aprīkojums, ietverot nepieciešamos stiprinājumus un montāžu pie attiecīgās sienas konstrukcijas. Aprīkojuma veids, izmēri un stiprināšanas prasības precizējamas Darba uzdevumā. Elektroapgādes un inženiertīklu izbūve pozīcijā nav iekļauta. Pozīcija neietver sienu pastiprinājumu izbūvi. 1 gab. = viena aprīkojuma vienība līdz 50 kg, ja Darba uzdevumā nav noteikts citādi. Ja aprīkojuma masa pārsniedz 50 kg vai nepieciešama sienas pastiprinājuma izbūve, darbi vērtējami atsevišķi. | D37: gab. | E37: 1
A38: 25 | B38: Telpas sagatavošana ekspluatācijai pēc būvdarbiem. Palīgdarbu kopums telpas sagatavošanai lietošanai pēc būvdarbu pabeigšanas, t.sk. mēbeļu izvietošana, nelielu aprīkojuma elementu montāža, būvgružu un iepakojuma savākšana un virsmu uzkopšana. 1 k-ts = viena telpa līdz 50 m². | D38: k-ts | E38: 1
A39: 26 | B39: Dažādi palīgdarbi būvniecības laikā. Palīgdarbi būvniecības vai remontdarbu laikā, kas nav iekļauti citās tāmes pozīcijās. Darbi veicami tikai pēc Pasūtītāja rakstiska norādījuma. | D39: cilv./st. | E39: 1
A40: 27 | B40: Pagaidu siena no karkasa un plēves. Pagaidu norobežojošās sienas izbūve no koka vai metāla karkasa ar plēves pārklājumu, t.sk. montāža un demontāža. Sienas augstums līdz 3,0 m, ja Darba uzdevumā nav noteikts citādi. | D40: m2 | E40: 1
A41: 28 | B41: Pagaidu siena no karkasa un plātņu materiāla. Pagaidu sienas izbūve no karkasa ar OSB, finiera vai ekvivalenta materiāla apšuvumu, t.sk. montāža un demontāža. | D41: m2 | E41: 1
A42: 29 | B42: Pagaidu siena no metāla karkasa un ģipškartona. Pagaidu sienas izbūve no metāla karkasa un ģipškartona plāksnēm, t.sk. šuvju apstrāde un krāsošana. | D42: m2 | E42: 1
A43: 30 | B43: Pagaidu ugunsdrošu konstrukciju izbūve remontdarbu laikā, nodrošinot ugunsizturību vismaz EI30 atbilstoši sertificētai sistēmai un ražotāja tehnoloģijai. | C43: Knauf, Promat vai ekvivalenta sertificēta sistēma | D43: m2 | E43: 1
A44: 31 | B44: Pagaidu elektroapgādes risinājumu izbūve remontdarbu laikā, t.sk. sadales skapji, pagarinātāji un aizsardzības ierīces. Elektroapgādes risinājumiem jāatbilst spēkā esošajām elektrodrošības prasībām. | D44: k-ts | E44: 1
A45: 32 | B45: Dūmu izplatīšanās ierobežošana būvdarbu laikā. Pagaidu blīvējumu vai ugunsdrošu aizsegu izveide šahtās, atverēs un inženierkomunikāciju šķērsojumos remontdarbu laikā. Pagaidu risinājumi demontējami pēc darbu pabeigšanas. | D45: k-ts | E45: 1
A46: 33 | B46: Šķērveida pacēlāja noma līdz 12 m. Šķērveida pacēlāja noma, t.sk. transporta izdevumi. Pacelšanas augstums līdz 12 m. | D46: d/n | E46: 1
A47: 34 | B47: Šķērveida pacēlāja noma no 12 līdz 25 m. Šķērveida pacēlāja noma, t.sk. transporta izdevumi. Pacelšanas augstums 12–25 m. | D47: d/n | E47: 1
A48: 35 | B48: Teleskopiskā pacēlāja noma, ar darba augstumu līdz 19 m. Teleskopiskā pacēlāja noma, t.sk. transporta izdevumi. | D48: d/n | E48: 1
A49: 36 | B49: Alumīnija sastatņu torņa noma līdz 6 m. Saliekamu alumīnija sastatņu noma, t.sk. transporta izdevumi. | D49: d/n | E49: 1
B50: Kopā:
A52: Piezīmes:
A53: 1 Jāaizpilda visas darbu pozīciju /vienību cenu ailes ar skaitlisku vērtību (cenu), kas apliecina, ka attiecīgie būvdarbi tiks nodrošināti pilnā apjomā atbilstoši Darba uzdevumam, Tehniskai specifikācijai un Būves tehniskajam uzdevumam. Vienības cenā jāiekļauj visas izmaksas, kas nepieciešamas pilnvērtīga, droša un ekspluatācijai gatava rezultāta nodrošināšanai.
A56: Faktiskie konkrētā objekta darbu apjomi tiks noteikti katrā atsevišķā Darba uzdevumā Vispārīgās vienošanās ietvaros.
A58: Sastādīja: ___________________________________________________________________________________________
A59: (paraksts un tā atšifrējums, datums)
A60: Tāme sastādīta: ____. gada _________________
A62: Pārbaudīja: __________________________________________________________________________________________
A63: (paraksts un tā atšifrējums, datums)
A65: Sertifikāta Nr. ______________________________

Sheet Kops.aprēķins_Nr.3
A2: Kopsavilkuma aprēķins Nr. 3
A3: Inženiertīklu remontdarbi
A4: Būvobjekta nosaukums: | C4: Vispārīgā vienošanās iekšējās apdares atjaunošanas un inženiertīklu remonta darbu veikšanai RSU nekustamajos īpašumos
A5: Būves nosaukums: | C5: Remonta darbi vispārīgās vienošanās ietvaros
A6: Objekta adrese: | C6: RSU nekustamie īpašumi
B9: Nr.p.k. | C9: Kods, tāmes Nr. | D9: Būvdarbu veids vai konstruktīvā elementa nosaukums | F9: Tāmes izmaksas (Euro)
B11: 1 | C11: Lok.Nr. 3-1 | D11: Inženiertīklu remontdarbi ēkā | F11: ='LT_3-1'!G285 -> 0
B12: Kopā: | F12: =SUM(F11:F11) -> 0
B13: Virsizdevumi (______%)1
B14: t. sk. darba aizsardzība
B15: Peļņa (_____%)2
B16: Kopējā summa bez PVN: | F16: =F12+F13+F15 -> 0
B18: Piezīmes:
B19: 1Maksimālais virsizdevumu apmērs procentos (%) atbilstoši Tehniskajā specifikācijā noteiktajām prasībām, kas Vispārīgās vienošanās un iepirkuma līguma izpildes laikā nevar tikt palielināts
B20: 2Maksimālais peļņas apmērs procentos (%) atbilstoši Tehniskajā specifikācijā noteiktajām prasībām, kas Vispārīgās vienošanās un iepirkuma līguma izpildes laikā nevar tikt palielināts
B23: Koptāme ir sagatavota, pamatojoties uz Pretendenta iesniegto vienības cenu tāmi (lokālā tāme nr. 3-1)
B25: ='[1]Buvn.kopt.'!B20 -> Sastādīja: ______________________________________
B26: ='[1]Buvn.kopt.'!B21 -> /vārds uzvārds, paraksts/
B28: Apstiprināja: __________________________________
B29: /vārds uzvārds, paraksts/

Sheet LT_3-1
A1: Lokālā tāme Nr. 3-1
A2: Inženiertīklu remontdarbi ēkā
A3: (būvdarbu veids vai konstruktīvā elementa nosaukums)
A5: Būvobjekta nosaukums: | B5: Vispārīgā vienošanās iekšējās apdares atjaunošanas un inženiertīklu remonta darbu veikšanai RSU nekustamajos īpašumos
A6: Būves nosaukums: | B6: Remonta darbi vispārīgās vienošanās ietvaros
A7: Objekta adrese: | B7: RSU nekustamie īpašumi
D9: Tāme sastādīta 2026.gada tirgus cenās
A10: Nr.p.k. | B10: Būvdarbu nosaukums | C10: Ražotājs / sistēma precizējama DU | D10: Mērvienība | E10: Apjoms | F10: Vienības cena1 | G10: Starpsumma, EUR
B12: Sagatavošanās un palīgdarbi
A13: 1 | B13: Objekta un esošo inženiertīklu apsekošana pirms darbu uzsākšanas, darba zonas norobežošana, brīdinājuma zīmju izvietošana, blakus esošo konstrukciju, aprīkojuma un mēbeļu aizsardzība pret bojājumiem un putekļiem, kā arī darba vietas sagatavošana būvdarbu veikšanai. 1 k-ts = viens objekts vai Darba uzdevumā noteikts apjoms. | D13: k-ts | E13: 1
A14: 2 | B14: Esošo elektroapgādes, apkures, ūdensapgādes, kanalizācijas vai citu inženiertīklu atslēgšana, iztukšošana, drošības pasākumu veikšana un sagatavošana remontdarbiem. Ietver darbu koordināciju ar ēkas apsaimniekotāju vai atbildīgajām personām. 1 k-ts = viens objekts vai sistēma. | D14: k-ts | E14: 1
A15: 3 | B15: Esošo inženiertīklu elementu demontāža, t.sk. gaismekļi, slēdži, rozetes, sadales kārbas, radiatori, sanitārtehniskās ierīces, ventiļi, restes, detektori un citi elementi. Ietver stiprinājumu noņemšanu, atvienošanu no sistēmām un sagatavošanu utilizācijai vai atkārtotai montāžai. 1 gab. = viena iekārta vai elements. | D15: gab. | E15: 1
A16: 4 | B16: Pagaidu inženiertīklu risinājumu izbūve vai nodrošināšana būvdarbu laikā, lai saglabātu ēkas vai telpu funkcionalitāti, t.sk. pagaidu elektroapgāde, ūdensapgāde, kanalizācija, apkure vai citi nepieciešamie pieslēgumi. Risinājums precizējams Darba uzdevumā. | D16: k-ts | E16: 1
A17: 5 | B17: Būvgružu, demontēto materiālu un iepakojuma savākšana, šķirošana, iznešana, iekraušana, transportēšana un nodošana atkritumu apsaimniekotājam atbilstoši normatīvo aktu prasībām. Ietver darba zonas sakārtošanu pēc darbu pabeigšanas. 1 k-ts = viens objekts vai Darba uzdevumā noteikts apjoms. | D17: k-ts | E17: 1
A18: 6 | B18: Jaunizbūvēto vai pārbūvēto inženiertīklu marķēšana un identifikācija atbilstoši normatīvo aktu prasībām un Pasūtītāja standartiem, t.sk. kabeļu, cauruļvadu, sadalņu, ventiļu un citu elementu marķējumu izgatavošana un uzstādīšana. | D18: k-ts | E18: 1
A19: 7 | B19: Izbūvēto vai pārbūvēto inženiertīklu pārbaudes, regulēšana, funkcionālā testēšana, mērījumu veikšana un sagatavošana nodošanai ekspluatācijā, t.sk. nepieciešamo protokolu un izpilddokumentācijas sagatavošana. Ietver sistēmu ieregulēšanu un nodošanu Pasūtītājam. | D19: k-ts | E19: 1
B20: Apkures sistēma
A21: 8 | B21: Apkures sistēmas vai tās daļas iztukšošana pirms būvdarbu veikšanas un atkārtota uzpildīšana pēc darbu pabeigšanas, t.sk. sistēmas atgaisošana, hermētiskuma pārbaude un sagatavošana ekspluatācijai. Ietver nepieciešamos palīgdarbus sistēmas drošai ekspluatācijas atjaunošanai. 1 k-ts = viena sistēma, stāvvads vai Darba uzdevumā noteikts apjoms. | D21: k-ts | E21: 1
A22: 9 | B22: Apkures sistēmas cauruļvadu izbūve vai nomaiņa, t.sk. cauruļu piegāde, montāža, stiprinājumi, fasona daļas un pieslēgumu izveide pie esošās sistēmas. Cauruļvadu materiāls (tērauds, daudzslāņu caurules vai ekvivalents risinājums) un montāžas veids precizējams Darba uzdevumā.
A23: 9.1. | B23: Tērauda cauruļvadu izbūve vai nomaiņa, diametrs DN15–DN20. | D23: m | E23: 1
A24: 9.2. | B24: Tērauda cauruļvadu izbūve vai nomaiņa, diametrs DN25–DN32. | D24: m | E24: 1
A25: 9.3. | B25: Daudzslāņu cauruļvadu izbūve vai nomaiņa, diametrs DN15–DN20. | D25: m | E25: 1
A26: 9.4. | B26: Daudzslāņu cauruļvadu izbūve vai nomaiņa, diametrs DN25–DN32. | D26: m | E26: 1
A27: 10 | B27: Apkures cauruļvadu siltumizolācijas izbūve vai bojātās izolācijas atjaunošana, t.sk. izolācijas materiālu piegāde, montāža un savienojumu apstrāde. Izolācijas materiāls un biezums nosakāms atbilstoši normatīvo aktu prasībām vai Darba uzdevumam. | C27: Armacell, K-Flex vai ekvivalents
A28: 10.1. | B28: Izolācijas biezums 13 mm. | D28: m | E28: 1
A29: 10.2. | B29: Izolācijas biezums 20 mm. | D29: m | E29: 1
A30: 10.3. | B30: Izolācijas biezums 30 mm. | D30: m | E30: 1
A31: 11 | B31: Noslēgarmatūras (lodveida krāni, ventiļi vai ekvivalents risinājums) piegāde un uzstādīšana vai nomaiņa apkures sistēmā, t.sk. pieslēgumu izveide, blīvējumi un hermētiskuma pārbaude. Armatūras diametrs precizējams Darba uzdevumā. | C31: Danfoss, Oventrop, Herz vai ekvivalents
A32: 11.1. | B32: Lodveida krāni, ventiļi vai ekvivalents risinājums ar diametru DN15–DN20. | D32: gab. | E32: 1
A33: 11.2. | B33: Lodveida krāni, ventiļi vai ekvivalents risinājums ar diametru DN25–DN32. | D33: gab. | E33: 1
A34: 12 | B34: Balansēšanas vārstu piegāde un uzstādīšana vai nomaiņa apkures sistēmas hidrauliskā režīma nodrošināšanai, t.sk. regulēšana, iestatīšana un marķēšana. Vārsta diametrs un parametri precizējami Darba uzdevumā. | C34: Danfoss, Oventrop, IMI TA vai ekvivalents
A35: 12.1. | B35: Balansēšanas vārsts ar diametru DN15–DN20. | D35: gab. | E35: 1
A36: 12.2. | B36: Balansēšanas vārsts ar diametru DN25–DN32. | D36: gab. | E36: 1
A37: 13 | B37: Termostatisko ventiļu piegāde un uzstādīšana vai nomaiņa radiatoru pieslēgumos, t.sk. pieslēgumu izveide, blīvējumi un regulēšana. Pieslēguma diametrs DN15–DN20, ja Darba uzdevumā nav noteikts citādi. Ventiļa tips precizējams Darba uzdevumā. | C37: Danfoss, Oventrop, IMI Heimeier vai ekvivalents | D37: gab. | E37: 1
A38: 14 | B38: Termostatisko galvu piegāde un uzstādīšana vai nomaiņa radiatoriem, nodrošinot telpas temperatūras regulēšanu. Termogalvas tips un iestatījumi precizējami Darba uzdevumā. | C38: Danfoss, Oventrop, IMI Heimeier vai ekvivalents | D38: gab. | E38: 1
A39: 15 | B39: Automātisko atgaisotāju piegāde un uzstādīšana vai nomaiņa apkures sistēmā, t.sk. pieslēgumu izveide un hermētiskuma pārbaude. Pieslēguma izmērs ½"–¾", ja Darba uzdevumā nav noteikts citādi. | C39: Flamco, Spirotech, Oventrop vai ekvivalents | D39: gab. | E39: 1
A40: 16 | B40: Esoša radiatora demontāža, t.sk. atvienošana no sistēmas, iztukšošana, stiprinājumu noņemšana un sagatavošana utilizācijai vai atkārtotai montāžai. | D40: gab. | E40: 1
A41: 17 | B41: Tērauda paneļu radiatora piegāde un montāža, t.sk. stiprinājumi, ventiļi, pieslēgumi, atgaisotājs un regulēšana. Radiatora tips, izmērs, pieslēguma veids (sānu vai apakšējais) un siltuma jauda precizējami Darba uzdevumā. | C41: Purmo, Kermi vai ekvivalents
A42: 17.1. | B42: Radiatora tips 22, augstums līdz 600 mm, garums līdz 600 mm. | D42: gab. | E42: 1
A43: 17.2. | B43: Radiatora tips 22, augstums līdz 600 mm, garums no 601 līdz 1200 mm. | D43: gab. | E43: 1
A44: 17.3. | B44: Radiatora tips 22, augstums līdz 600 mm, garums no 1201 līdz 2000 mm. | D44: gab. | E44: 1
A45: 17.4. | B45: Radiatora tips 33, augstums līdz 600 mm, garums līdz 600 mm. | D45: gab. | E45: 1
A46: 17.5. | B46: Radiatora tips 33, augstums līdz 600 mm, garums no 601 līdz 1200 mm. | D46: gab. | E46: 1
A47: 17.6. | B47: Radiatora tips 33, augstums līdz 600 mm, garums no 1201 līdz 2000 mm. | D47: gab. | E47: 1
A48: 18 | B48: Higiēnas tipa radiatora bez konvekcijas plāksnēm un augšējā režģa, piegāde un montāža telpām ar paaugstinātām higiēnas prasībām, t.sk. stiprinājumi, ventiļi, pieslēgumi un regulēšana. Radiatora tips, izmērs, siltuma jauda un pieslēguma veids (sānu vai apakšējais) precizējami Darba uzdevumā. | C48: Purmo Hygiene, Kermi Therm X2 Hygiene vai ekvivalents
A49: 18.1. | B49: Higiēnas tipa radiators bez konvekcijas plāksnēm un augšējā režģa, augstums līdz 600 mm, garums līdz 600 mm. | D49: gab. | E49: 1
A50: 18.2. | B50: Higiēnas tipa radiators bez konvekcijas plāksnēm un augšējā režģa, augstums līdz 600 mm, garums no 601 līdz 1200 mm. | D50: gab. | E50: 1
A51: 18.3. | B51: Higiēnas tipa radiators bez konvekcijas plāksnēm un augšējā režģa, augstums līdz 600 mm, garums no 1201 līdz 2000 mm. | D51: gab. | E51: 1
A52: 19 | B52: Esošo radiatora stiprinājumu remonts vai nomaiņa, t.sk. kronšteinu piegāde, nostiprināšana pie sienas konstrukcijām un radiatora novietojuma regulēšana. | D52: gab. | E52: 1
A53: 20 | B53: Apkures sistēmas vai tās daļas skalošana, lai novērstu nosēdumus un piesārņojumu, t.sk. sistēmas piepildīšana, skalošana un sagatavošana ekspluatācijai. 1 k-ts = viena sistēma vai Darba uzdevumā noteikts apjoms. | D53: k-ts | E53: 1
A54: 21 | B54: Apkures sistēmas hermētiskuma un izturības pārbaude ar paaugstinātu spiedienu atbilstoši normatīvo aktu prasībām, t.sk. pārbaudes protokola sagatavošana. 1 k-ts = viena sistēma vai Darba uzdevumā noteikts apjoms. | D54: k-ts | E54: 1
A55: 22 | B55: Apkures sistēmas hidrauliskā balansēšana un regulēšana, nodrošinot projektētās plūsmas un vienmērīgu siltuma sadali, t.sk. balansēšanas vārstu iestatīšana un sistēmas ieregulēšana. 1 k-ts = viena sistēma vai Darba uzdevumā noteikts apjoms. | D55: k-ts | E55: 1
A56: 23 | B56: Radiatora termostatiskā ieliktņa (vārsta serdeņa) nomaiņa, t.sk. apkures sistēmas sagatavošana darbu veikšanai, bojātā ieliktņa demontāža, jauna termostatiskā ieliktņa piegāde un uzstādīšana, blīvējumu nomaiņa (ja nepieciešams), apkures sistēmas uzpildīšana, atgaisošana, hermētiskuma pārbaude un funkcionālā pārbaude. Termostatiskā ieliktņa tips un izmērs precizējami Darba uzdevumā. | D56: gab. | E56: 1
A57: 24 | B57: Radiatora dekoratīvā pārsega demontāža un atkārtota montāža, t.sk. pārsega saudzīga demontāža pirms remontdarbiem, stiprinājumu noņemšana un saglabāšana vai nepieciešamības gadījumā nomaiņa, dekoratīvā pārsega atkārtota uzstādīšana pēc darbu pabeigšanas, stiprinājumu regulēšana un funkcionālā pārbaude. Pārsega veids, materiāls un stiprināšanas risinājums precizējami Darba uzdevumā. | D57: gab. | E57: 1
A58: 25 | B58: Čuguna radiatora restaurācija. Esoša čuguna radiatora demontāža, atvienošana no apkures sistēmas, transportēšana līdz restaurācijas vietai, virsmas attīrīšana (smilšu strūkla, skrotēšana vai ekvivalenta tehnoloģija), bojājumu lokāls remonts, gruntēšana un krāsošana, radiatora iekšējā skalošana, atkārtota uzstādīšana esošajā vietā, pieslēgšana apkures sistēmai, sistēmas uzpildīšana, atgaisošana, hermētiskuma pārbaude un funkcionālā pārbaude. Nepieciešamības gadījumā ietver blīvju un stiprinājumu nomaiņu | D58: gab. | E58: 1
B59: Ūdensapgādes un kanalizācijas sistēma
A60: 26 | B60: Aukstā ūdens cauruļvadu izbūve vai nomaiņa, t.sk. cauruļu piegāde, montāža, stiprinājumi, fasona daļas un pieslēgumu izveide pie esošās sistēmas. Cauruļvadu materiāls (PP-R, daudzslāņu caurules vai ekvivalents risinājums), montāžas veids precizējams Darba uzdevumā. | C60: Uponor, Aquatherm, Wavin vai ekvivalents
A61: 26.1. | B61: Aukstā ūdens cauruļvadu izbūve vai nomaiņa ar diametru DN15–DN20. | D61: m | E61: 1
A62: 26.2. | B62: Aukstā ūdens cauruļvadu izbūve vai nomaiņa ar diametru DN25–DN32. | D62: m | E62: 1
A63: 27 | B63: Karstā ūdens cauruļvadu izbūve vai nomaiņa, t.sk. cauruļu piegāde, montāža, stiprinājumi, fasona daļas un pieslēgumu izveide pie esošās sistēmas. Cauruļvadu materiāls (PP-R, daudzslāņu caurules vai ekvivalents risinājums), montāžas veids precizējams Darba uzdevumā. | C63: Uponor, Aquatherm, Wavin vai ekvivalents
A64: 27.1. | B64: Karstā ūdens cauruļvadu izbūve vai nomaiņa ar diametru DN15–DN20. | D64: m | E64: 1
A65: 27.2. | B65: Karstā ūdens cauruļvadu izbūve vai nomaiņa ar diametru DN25–DN32. | D65: m | E65: 1
A66: 28 | B66: Kanalizācijas cauruļvadu izbūve vai nomaiņa, t.sk. cauruļu piegāde, montāža, stiprinājumi, fasona daļas, pieslēgumu izveide un hermētiskuma nodrošināšana un nepieciešamā slīpuma izveide atbilstoši normatīvo aktu prasībām. Cauruļvadu materiāls (PVC, PP vai ekvivalents risinājums) un montāžas veids precizējams Darba uzdevumā.
A67: 28.1. | B67: Kanalizācijas cauruļvadu izbūve vai nomaiņa ar diametru DN50. | D67: m | E67: 1
A68: 28.2. | B68: Kanalizācijas cauruļvadu izbūve vai nomaiņa ar diametru DN75–DN110. | D68: m | E68: 1
A69: 29 | B69: Ūdensapgādes cauruļvadu siltumizolācijas izbūve vai bojātās izolācijas atjaunošana, t.sk. izolācijas materiālu piegāde, montāža un savienojumu apstrāde. Izolācijas materiāls un biezums nosakāms atbilstoši normatīvo aktu prasībām vai Darba uzdevumam. | C69: Armacell, K-Flex vai ekvivalents
A70: 29.1. | B70: Ūdensapgādes cauruļvadu izolācijas izbūve vai atjaunošana cauruļvadiem ar diametru DN15–DN20, izolācijas biezums 13 mm. | D70: m | E70: 1
A71: 29.2. | B71: Ūdensapgādes cauruļvadu izolācijas izbūve vai atjaunošana cauruļvadiem ar diametru DN25–DN32, izolācijas biezums 20 mm. | D71: m | E71: 1
A72: 29.3. | B72: Ūdensapgādes cauruļvadu izolācijas izbūve vai atjaunošana cauruļvadiem ar diametru DN40 un lielākiem, izolācijas biezums 30 mm vai atbilstoši normatīvo aktu prasībām. | D72: m | E72: 1
A73: 30 | B73: Noslēgarmatūras (lodveida krāni, ventiļi vai ekvivalents risinājums) piegāde un uzstādīšana vai nomaiņa ūdensapgādes sistēmās, t.sk. pieslēgumu izveide, blīvējumi un hermētiskuma pārbaude.
A74: 30.1. | B74: Noslēgarmatūra ar diametru DN15–DN20. | D74: gab. | E74: 1
A75: 30.2. | B75: Noslēgarmatūra ar diametru DN25–DN32. | D75: gab. | E75: 1
A76: 31 | B76: Izlietnes piegāde un montāža, t.sk. stiprinājumi, pieslēgumi un regulēšana. Izlietnes tips (iebūvējama, uzliekama, sienas vai ekvivalents risinājums), materiāls un izmēri precizējami Darba uzdevumā. | C76: Ifö, Gustavsberg, Geberit vai ekvivalents | D76: gab. | E76: 1
A77: 32 | B77: Maisītāja piegāde un montāža, t.sk. pieslēguma lokanās šļūtenes, stiprinājumi un regulēšana. Maisītāja tips (galda, sienas, sensoru vai ekvivalents) precizējams Darba uzdevumā.
A78: 32.1. | B78: Mehāniska maisītāja piegāde un montāža, t.sk. pieslēgumi un regulēšana. | C78: Hansgrohe, Grohe, Oras vai ekvivalents | D78: gab. | E78: 1
A79: 32.2. | B79: Sensoru maisītāja piegāde un montāža, t.sk. vadības bloks un regulēšana. Elektroapgādes izbūve pozīcijā nav iekļauta. | C79: Oras, Delabie vai ekvivalents | D79: gab. | E79: 1
A80: 33 | B80: Sifona piegāde un montāža, t.sk. pieslēgumu izveide, blīvējumi un hermētiskuma pārbaude. Sifona tips precizējams Darba uzdevumā. | D80: gab. | E80: 1
A81: 34 | B81: WC poda piegāde un montāža, t.sk. stiprinājumi, pieslēgumi kanalizācijas un ūdensapgādes sistēmām, regulēšana un funkcionālā pārbaude. WC poda tips (grīdas, piekaramais vai ekvivalents risinājums) precizējams Darba uzdevumā. | C81: Ifö, Gustavsberg, Geberit vai ekvivalents | D81: gab. | E81: 1
A82: 35 | B82: Iebūvējamā skalojamā mehānisma (mehānisms ar divu režīmu skalošanu vai ekvivalents risinājums) piegāde un montāža, t.sk. montāžas rāmis, skalošanas tvertne, pieslēgumi, stiprinājumi un regulēšana. Mehānisma tips, izmēri un aktivizācijas plāksnes/pogas veids precizējami Darba uzdevumā. | C82: Geberit, TECE vai ekvivalents | D82: gab. | E82: 1
A83: 36 | B83: Pisuāra piegāde un montāža, t.sk. stiprinājumi, sifons, pieslēgumi un regulēšana. Pisuāra tips (mehānisks, sensoru vai ekvivalents) precizējams Darba uzdevumā.
A84: 36.1. | B84: Mehānisks pisuārs ar manuālu vai spiedpogas skalošanu. | C84: Geberit, Ifö vai ekvivalents | D84: gab. | E84: 1
A85: 36.2. | B85: Sensora pisuāra piegāde un montāža, t.sk. automātiskās skalošanas sensora, vadības bloka, elektromagnētiskā skalošanas vārsta un nepieciešamo pieslēguma elementu uzstādīšana, pieslēgšana esošajiem ūdensapgādes, kanalizācijas un elektroapgādes tīkliem, regulēšana un funkcionālā pārbaude. Sensora veids, barošanas spriegums un komplektācija precizējami Darba uzdevumā. | C85: Geberit, TECE vai ekvivalents | D85: gab. | E85: 1
A86: 37 | B86: Dušas maisītāja piegāde un montāža, t.sk. pieslēgumi, stiprinājumi un regulēšana. Maisītāja tips precizējams Darba uzdevumā.
A87: 37.1. | B87: Virsapmetuma dušas maisītāja piegāde un montāža, t.sk. pieslēgumi, stiprinājumi un regulēšana. | C87: Hansgrohe, Grohe vai ekvivalents | D87: gab. | E87: 1
A88: 37.2. | B88: Termostatiskā dušas maisītāja piegāde un montāža, t.sk. pieslēgumi, stiprinājumi un regulēšana. | C88: Hansgrohe, Grohe vai ekvivalents | D88: gab. | E88: 1
A89: 37.3. | B89: Zemapmetuma dušas maisītāja sistēmas piegāde un montāža, t.sk. iebūvējamā daļa, dekoratīvais panelis, vadības elementi un pieslēgumi. Sienu izbūve un apdares atjaunošana pozīcijā nav iekļauta. | C89: Hansgrohe iBox, Grohe Rapido vai ekvivalents | D89: gab. | E89: 1
A90: 38 | B90: Dušas komplekta (dušas galva, rokas duša, stienis vai turētājs un šļūtene) piegāde un montāža. Komplektācijas veids precizējams Darba uzdevumā. | C90: Hansgrohe, Grohe vai ekvivalents | D90: gab. | E90: 1
A91: 39 | B91: Dušas trapa piegāde un montāža, t.sk. pieslēgums kanalizācijai, hidroizolācijas mezgla izveide un hermētiskuma nodrošināšana. Trapa tips un izmēri precizējami Darba uzdevumā.
A92: 39.1. | B92: Punktveida dušas trapa piegāde un montāža, t.sk. pieslēgums kanalizācijai, hidroizolācijas mezgla izveide un hermētiskuma nodrošināšana. Trapa izmērs 100×100 mm vai ekvivalents risinājums, ja Darba uzdevumā nav noteikts citādi. | C92: HL, Viega, ACO vai ekvivalents | D92: gab. | E92: 1
A93: 39.2. | B93: Lineārā dušas trapa piegāde un montāža, t.sk. pieslēgums kanalizācijai, hidroizolācijas mezgla izveide un hermētiskuma nodrošināšana. Trapa garums 600–1000 mm vai ekvivalents, ja Darba uzdevumā nav noteikts citādi. | C93: ACO, TECE, Viega vai ekvivalents | D93: gab. | E93: 1
A94: 40 | B94: Nerūsējošā tērauda izlietnes piegāde un montāža, t.sk. stiprinājumi, pieslēgumi un regulēšana. Izlietnes izmēri, bļodu skaits un montāžas veids precizējami Darba uzdevumā. | C94: Franke, Blanco vai ekvivalents
A95: 40.1. | B95: Nerūsējošā tērauda vienas bļodas izlietnes piegāde un montāža, t.sk. stiprinājumi, pieslēgumi un regulēšana. Izlietnes izmēri un montāžas veids (uz galda, zem virsmas vai sienas) precizējami Darba uzdevumā. | D95: gab. | E95: 1
A96: 40.2. | B96: Nerūsējošā tērauda divu bļodu izlietnes piegāde un montāža, t.sk. stiprinājumi, pieslēgumi un regulēšana. Izlietnes izmēri un montāžas veids (uz galda, zem virsmas vai sienas) precizējami Darba uzdevumā. | D96: gab. | E96: 1
A97: 41 | B97: Izlietnes, maisītāja vai WC elastīgo pievadu piegāde un nomaiņa, t.sk. pieslēgšana un hermētiskuma pārbaude. | D97: gab. | E97: 1
A98: 42 | B98: Grīdas trapa restes nomaiņa, t.sk. esošās restes demontāža, jaunas restes piegāde un uzstādīšana, stiprinājumu regulēšana, pieslēguma pārbaude un funkcionālā pārbaude. Restes materiāls (nerūsējošais tērauds, čuguns vai ekvivalents), izmērs un slodzes klase precizējami Darba uzdevumā. | D98: gab. | E98: 1
A99: 43 | B99: Avārijas acu skalošanas ierīces piegāde un montāža, t.sk. pieslēgumi ūdensapgādes sistēmai, stiprinājumi, regulēšana un funkcionālā pārbaude. Ierīces tips (acu skalošanas ierīce, acu un sejas skalošanas ierīce) precizējams Darba uzdevumā. | C99: Broen-LAB, Haws vai ekvivalents | D99: gab. | E99: 1
A100: 44 | B100: Ūdensapgādes un kanalizācijas sistēmu hermētiskuma un spiediena pārbaude atbilstoši normatīvo aktu prasībām, t.sk. pārbaudes protokolu sagatavošana. 1 k-ts = viena sistēma vai Darba uzdevumā noteikts apjoms. | D100: k-ts | E100: 1
A101: 45 | B101: Ūdensapgādes un kanalizācijas sistēmu skalošana, dezinfekcija (ja nepieciešams), regulēšana un sagatavošana nodošanai ekspluatācijā, t.sk. izpilddokumentācijas nodošana Pasūtītājam. 1 k-ts = viena sistēma vai Darba uzdevumā noteikts apjoms. | D101: k-ts | E101: 1
B102: Elektroapgādes sistēma
A103: 46 | B103: Mini sadalnes izbūve vai nomaiņa (līdz 4 moduļiem), t.sk. sadalnes korpusa, DIN sliedes, automātslēdžu un citu nepieciešamo komponentu piegāde un uzstādīšana, pieslēgšana esošajai elektroinstalācijai, marķēšana un funkcionālā pārbaude. | C103: ABB, Schneider Electric, Hager vai ekvivalents | D103: gab. | E103: 1
...
