Workbook

Sheet Lapa1
C1: DZ.p.k. | D1: Aizkraukle | E1: Jaunjelgava | F1: Nereta | G1: Koknsese | H1: Pļaviņas | I1: Skrīveri
C2: 1 | D2: ='A1- Gaismas 2-17'!P62 -> 0 | E2: =#REF! -> #REF! | F2: =#REF! -> #REF! | G2: =#REF! -> #REF! | H2: =#REF! -> #REF! | I2: =#REF! -> #REF!
C3: 2 | D3: ='A2- Gaismas 8-13'!P58 -> 0 | E3: =#REF! -> #REF! | G3: =#REF! -> #REF! | H3: =#REF! -> #REF! | I3: =#REF! -> #REF!
C4: 3 | D4: ='A3- Jaunceltnes 53-58'!P57 -> 0 | E4: =#REF! -> #REF! | G4: =#REF! -> #REF! | H4: =#REF! -> #REF!
C5: 4 | D5: ='A4- Lāčplēša 12-43'!P155 -> 0 | E5: =#REF! -> #REF! | G5: =#REF! -> #REF! | H5: =#REF! -> #REF!
C6: 5 | D6: ='A5- Lāčplēša 15-12'!P58 -> 0 | E6: =#REF! -> #REF! | G6: =#REF! -> #REF!
C7: 6 | D7: ='A6- Lāčplēša 19-33'!P56 -> 0 | E7: =#REF! -> #REF! | G7: =#REF! -> #REF!
C8: 7 | D8: ='A7- Lāčplēša 29-18'!P58 -> 0 | G8: =#REF! -> #REF!
C9: 8 | D9: ='A8- Lāčplēša 37-19'!P65 -> 0 | G9: =#REF! -> #REF!
C10: 9 | D10: ='A9- Lāčplēša 37-24'!P59 -> 0 | G10: =#REF! -> #REF!
C11: 10 | D11: =#REF! -> #REF! | G11: =#REF! -> #REF!
C12: 11 | D12: ='A11- Spīdolas 16-18'!P57 -> 0 | G12: =#REF! -> #REF!
C13: 12 | D13: ='A12- Sprīdīša 4-59'!P64 -> 0 | G13: =#REF! -> #REF!
C14: 13 | G14: =#REF! -> #REF!
D15: =SUM(D2:D14) -> #REF! | E15: =SUM(E2:E14) -> #REF! | F15: =SUM(F2:F14) -> #REF! | G15: =SUM(G2:G14) -> #REF! | H15: =SUM(H2:H14) -> #REF! | I15: =SUM(I2:I14) -> #REF! | J15: =SUM(D15:I15) -> #REF!
A16: visizdevumi | B16: =C16/100 -> 0.0052425556 | C16: 0.52425556 | D16: =D15/100*C16 -> #REF! | E16: =E15/100*C16 -> #REF! | F16: =F15/100*C16 -> #REF! | G16: =G15/100*C16 -> #REF! | H16: =H15/100*C16 -> #REF! | I16: =I15/100*C16 -> #REF! | J16: =J15/100*C16 -> #REF!
A17: peļņa | B17: =C17/100 -> 0.01 | C17: 1 | D17: =D15/100*C17 -> #REF! | E17: =E15/100*C17 -> #REF! | F17: =F15/100*C17 -> #REF! | G17: =G15/100*C17 -> #REF! | H17: =H15/100*C17 -> #REF! | I17: =I15/100*C17 -> #REF! | J17: =J15/100*C17 -> #REF!
A18: kopā | D18: =D17+D16+D15 -> #REF! | E18: =E17+E16+E15 -> #REF! | F18: =F17+F16+F15 -> #REF! | G18: =G17+G16+G15 -> #REF! | H18: =H17+H16+H15 -> #REF! | I18: =I17+I16+I15 -> #REF! | J18: =J17+J16+J15 -> #REF!
C19: pvn | D19: =D18/100*21 -> #REF! | E19: =E18/100*21 -> #REF! | F19: =F18/100*21 -> #REF! | G19: =G18/100*21 -> #REF! | H19: =H18/100*21 -> #REF! | I19: =I18/100*21 -> #REF! | J19: =J18/100*21 -> #REF!
D20: =D19+D18 -> #REF! | E20: =E19+E18 -> #REF! | F20: =F19+F18 -> #REF! | G20: =G19+G18 -> #REF! | H20: =H19+H18 -> #REF! | I20: =I19+I18 -> #REF! | J20: =J19+J18 -> #REF! | M20: =kopsavilkums!#REF! -> #REF!
C21: no koptames | D21: =kopsavilkums!#REF! -> #REF! | E21: =kopsavilkums!#REF! -> #REF! | F21: =kopsavilkums!#REF! -> #REF! | G21: =kopsavilkums!#REF! -> #REF! | H21: =kopsavilkums!#REF! -> #REF! | I21: =kopsavilkums!#REF! -> #REF! | J21: =kopsavilkums!#REF! -> #REF! | M21: =M20-J20 -> #REF!
M23: =J21-M20 -> #REF!

Sheet kopsavilkums
C2: Piedāvājuma kopsavilkums projekta Nr. 4.3.1.3/1/25/A/052 "Sociālo mājokļu atjaunošana Aizkraukles novadā" ietvaros, Aizkrauklē
E4: Adrese | F4: Piedāvātā līgumcena
D5: 1 | E5: Gaismas iela 2-17 | F5: ='A1- Gaismas 2-17'!P66 -> 0
D6: 2 | E6: Gaismas iela 8-13 | F6: ='A2- Gaismas 8-13'!P62 -> 0
D7: 3 | E7: Jaunceltnes 53- 58 | F7: ='A3- Jaunceltnes 53-58'!P61 -> 0
D8: 4 | E8: Lāčplēša 12- 43 | F8: ='A4- Lāčplēša 12-43'!P159 -> 0
D9: 5 | E9: Lāčplēša 15- 12 | F9: ='A5- Lāčplēša 15-12'!P62 -> 0
D10: 6 | E10: Lāčplēša 19- 33 | F10: ='A6- Lāčplēša 19-33'!P60 -> 0
D11: 7 | E11: Lāčplēša 29 - 18 | F11: ='A7- Lāčplēša 29-18'!P62 -> 0
D12: 8 | E12: Lāčplēša 37- 19 | F12: ='A8- Lāčplēša 37-19'!P69 -> 0
D13: 9 | E13: Lāčplēša 37- 24 | F13: ='A9- Lāčplēša 37-24'!P63 -> 0
D14: 10 | E14: Spīdolas 16- 18 | F14: ='A11- Spīdolas 16-18'!P61 -> 0
D15: 11 | E15: Sprīdīša 4- 59 | F15: ='A12- Sprīdīša 4-59'!P68 -> 0
D16: Kopsumma (ar PVN)
D17: Attiecināmā summa (AR PVN)
D18: Starpība
D25: PVN
D26: Kopsumma bez PVN

Sheet A1- Gaismas 2-17
A1: Lokālā tāme Nr. 1
A3: Vispārējie būvdarbi - Dzīvokļa atjaunošana
A4: (būvdarbu veids vai konstruktīvā elementa nosaukums)
A5: Objekta nosaukums: Gaismas iela 2-17
A6: Būves nosaukums: Daudzdzīvokļu dzīvojamā māja
A7: Objekta adrese: Gaismas iela 2-17, Aizkraukle, Aizkraukles novads, LV-5101
A8: Pasūtījuma Nr:
A10: Tāme sastādīta 2025.gada tirgus cenās, pamatojoties uz uzmērījumiem dabā | K10: Tāmes izmaksas
M12: Tāme sastādīta :
F14: Vienības izmaksas | L14: Kopā uz visu apjomu
A15: Nr.p.k. | B15: Kods | C15: Darba nosaukums | D15: Mērvienība | E15: Daudzums | F15: Laika norma (c/h). | G15: Darba samaksas likme (euro/h) | H15: Darba alga (euro) | I15: Būvizstrādājumi (euro) | J15: Mehānismi (euro) | K15: Kopā (euro) | L15: Darbietilpība (c/h) | M15: Darba alga (euro) | N15: Būvizstrādājumi (euro) | O15: Mehānismi (euro) | P15: Summa (euro)
A16: 1 | B16: 2 | C16: 3 | D16: 4 | E16: 5 | F16: 6 | G16: 7 | H16: 8 | I16: 9 | J16: 10 | K16: 11 | L16: 12 | M16: 13 | N16: 14 | O16: 15 | P16: 16
C17: Dzīvoklis Nr.17 | D17: m2 | E17: 44,2
C18: Demontāžas darbi
A19: 1 | C19: Esošo ārdurvju/iekšdurvju 900x2050mm demontāža | D19: kpl | E19: 5
A20: 2 | C20: Esošo logu demontāža | D20: m2 | E20: 8
A21: 3 | C21: Esošo logu palodžu demontāža | D21: m | E21: 9
A22: 4 | C22: Esošās elektroinstalācijas - griestu lampas, sienu lampas, kontakti, slēdži, demontāža | D22: gb | E22: 17
A23: 5 | C23: Esošās vannas un WC poda demontāža | D23: kpl | E23: 1
A24: 6 | C24: Vecās santehnikas demontāža | D24: gb | E24: 2
A25: 7 | C25: Griestu vecās apdares noņemšana, tapetes, krāsa, balsinājums utt… | D25: m2 | E25: 42
A26: 8 | C26: Sienu vecās apdares noņemšana, tapetes, krāsa, flīzes, apmetums utt… | D26: m2 | E26: 102
A27: 9 | C27: Grīdu vecās apdares noņemšana – linolejs, krāsa, preskartons, flīzes utt… | D27: m2 | E27: 44.2
C28: Aiļu aizpildījumu elementi
A29: 10 | C29: Jaunu Priedes koka (lakotu) durvju 700-900x2050mm ar stiklojumu vai bez montāža, tai sk., furnitūra, kleidas | D29: kpl | E29: 3
A30: 11 | C30: Jaunu metāla ārdurvju 700-900x2050mm montāža, tai sk., furnitūra, kleidas | D30: kpl | E30: 1
A31: 12 | C31: PVC logu uzstādīšana | D31: m2 | E31: 8
A32: 13 | C32: Palodžu uzstādīšana - PVC vai kokskaidas b=150 - 400mm | D32: m | E32: 9
A33: 14 | C33: Logu aiļu apdare | D33: m | E33: 13
C34: Montāžas un apdares darbi
C35: Griesti
A36: 15 | C36: Griestu plaknes (dz.betona paneļi vai reģipša apšuvums) sagatavošana apdarei, tai sk., gruntēšana pa kārtām, špaktelēšana, slīpēšana, pēc nepieciešamības sieta iestrāde šuvēs | D36: m2 | E36: 42
A37: 16 | C37: Griestu krāsošana ar ūdens emulsijas krāsu iekšdarbiem 2. kārtās, tai sk., nepieciešamie palīgdarbi | D37: m2 | E37: 42
A38: 17 | C38: Griestu un sienu plaknes apšūšana ar PVC apdares dēļiem 2700x100x10mm, tai sk., montāžas stiprinājumi, PVC montāžas līste karkasam, nobeigumu līstes | D38: m2 | E38: 17
C39: Sienas
A40: 18 | C40: Sienu un ailu sagatavošana apdarei, tai sk., gruntēšana pa kārtām, špaktelēšana, slīpēšana, pēc nepieciešamības sieta iestrāde šuvēs, plaisās | D40: m2 | E40: 102
A41: 19 | C41: Sienu un ailu krāsošana ar ūdens emulsijas krāsu iekšdarbiem 2. kārtās, tai sk., nepieciešamie palīgdarbi | D41: m2 | E41: 102
C42: Grīdas
A43: 20 | C43: Esošās grīdas pamatnes (koka dēļi), sagatavošana lamināta ieklāšanai, tai sk., nelīdzenumu pieslīpēšana, pievilkšana, atputekļošana | D43: m2 | E43: 42
A44: 21 | C44: Lamināta grīdas seguma 32. klase 8mm ierīkošana, tai sk., apakšklājs 2-8mm biezumā | D44: m2 | E44: 37
...

Sheet A2-  Gaismas 8-13
A1: Lokālā tāme Nr. 2
A3: Vispārējie būvdarbi - Dzīvokļa atjaunošana
A4: (būvdarbu veids vai konstruktīvā elementa nosaukums)
A5: Objekta nosaukums: Gaismas iela 8-13
A6: Būves nosaukums: Daudzdzīvokļu dzīvojamā māja
A7: Objekta adrese: Gaismas iela 8-13, Aizkraukle, Aizkraukles novads, LV-5101
A8: Pasūtījuma Nr:
A10: Tāme sastādīta 2025.gada tirgus cenās, pamatojoties uz uzmērījumiem dabā | K10: Tāmes izmaksas
M12: Tāme sastādīta :
F14: Vienības izmaksas | L14: Kopā uz visu apjomu
A15: Nr.p.k. | B15: Kods | C15: Darba nosaukums | D15: Mērvienība | E15: Daudzums | F15: Laika norma (c/h). | G15: Darba samaksas likme (euro/h) | H15: Darba alga (euro) | I15: Būvizstrādājumi (euro) | J15: Mehānismi (euro) | K15: Kopā (euro) | L15: Darbietilpība (c/h) | M15: Darba alga (euro) | N15: Būvizstrādājumi (euro) | O15: Mehānismi (euro) | P15: Summa (euro)
A16: 1 | B16: 2 | C16: 3 | D16: 4 | E16: 5 | F16: 6 | G16: 7 | H16: 8 | I16: 9 | J16: 10 | K16: 11 | L16: 12 | M16: 13 | N16: 14 | O16: 15 | P16: 16
C17: Dzīvoklis Nr.13 | D17: m2 | E17: 37,05
C18: Demontāžas darbi
A19: 1 | C19: Esošo ārdurvju/iekšdurvju 900x2050mm demontāža | D19: kpl | E19: 4
A20: 2 | C20: Esošās elektroinstalācijas - griestu lampas, sienu lampas, kontakti, slēdži, demontāža | D20: gb | E20: 20
A21: 3 | C21: Esošās vannas un WC poda demontāža | D21: kpl | E21: 1
A22: 4 | C22: Vecās santehnikas demontāža | D22: gb | E22: 2
A23: 5 | C23: Griestu vecās apdares noņemšana, tapetes, krāsa, balsinājums utt… | D23: m2 | E23: 35
A24: 6 | C24: Sienu vecās apdares noņemšana, tapetes, krāsa, flīzes, apmetums utt… | D24: m2 | E24: 108
A25: 7 | C25: Grīdu vecās apdares noņemšana – linolejs, krāsa, preskartons, flīzes utt… | D25: m2 | E25: 37
C26: Aiļu aizpildījumu elementi
A27: 8 | C27: Jaunu Priedes koka (lakotu) durvju 700-900x2050mm ar stiklojumu vai bez montāža, tai sk., furnitūra, kleidas | D27: kpl | E27: 4
C28: Montāžas un apdares darbi
C29: Griesti
A30: 9 | C30: Griestu plaknes (dz.betona paneļi vai reģipša apšuvums) sagatavošana apdarei, tai sk., gruntēšana pa kārtām, špaktelēšana, slīpēšana, pēc nepieciešamības sieta iestrāde šuvēs | D30: m2 | E30: 35
A31: 10 | C31: Griestu krāsošana ar ūdens emulsijas krāsu iekšdarbiem 2. kārtās, tai sk., nepieciešamie palīgdarbi | D31: m2 | E31: 35
A32: 11 | C32: Griestu un sienu plaknes apšūšana ar PVC apdares dēļiem 2700x100x10mm, tai sk., montāžas stiprinājumi, PVC montāžas līste karkasam, nobeigumu līstes | D32: m2 | E32: 17
C33: Sienas
A34: 12 | C34: Gipškartona starpsienu izveide b=125mm, tai sk., profili 100mm, gīpškartons no abām pusēm, izolācija un montāžas stiprinājumi | D34: m2 | E34: 4
A35: 13 | C35: Sienu un ailu sagatavošana apdarei, tai sk., gruntēšana pa kārtām, špaktelēšana, slīpēšana, pēc nepieciešamības sieta iestrāde šuvēs, plaisās | D35: m2 | E35: 104
A36: 14 | C36: Sienu un ailu krāsošana ar ūdens emulsijas krāsu iekšdarbiem 2. kārtās, tai sk., nepieciešamie palīgdarbi | D36: m2 | E36: 104
C37: Grīdas
A38: 15 | C38: Esošās grīdas pamatnes (koka dēļi), sagatavošana lamināta ieklāšanai, tai sk., nelīdzenumu pieslīpēšana, pievilkšana, atputekļošana | D38: m2 | E38: 35
A39: 16 | C39: Lamināta grīdas seguma 32. klase 8mm ierīkošana, tai sk., apakšklājs 2-8mm biezumā | D39: m2 | E39: 29
A40: 17 | C40: Flīžu grīdas seguma ierīkošana, tai sk., grunts, šuvošana, hermetizācija | D40: m2 | E40: 2.5
A41: 18 | C41: Jāuna Dabīgā vai homogēnā (vienslāņa) linoleja grīdas seguma 34/43kl. ierīkošana, tai sk., līme un šuvju diegs, (toni saskaņot ar Pasūtītāju, atbilstoši higiēnas prasībām) | D41: m2 | E41: 6
A42: 19 | C42: PVC grīdlīstu 55mm un segumu savienojošo metāla līstu ierīkošana, tai sk., savienojumi un montāžas stiprinājumi | D42: m | E42: 50
C43: Specializētie darbi – iekšējie tīkli, sistēmas
C44: Elektroinstalācijas darbi
...

Sheet A3- Jaunceltnes 53-58
A1: Lokālā tāme Nr. 3
A3: Vispārējie būvdarbi - Dzīvokļa atjaunošana
A4: (būvdarbu veids vai konstruktīvā elementa nosaukums)
A5: Objekta nosaukums: Jaunceltnes iela 53-58
A6: Būves nosaukums: Daudzdzīvokļu dzīvojamā māja
A7: Objekta adrese: Jaunceltnes iela 53-58, Aizkraukle, Aizkraukles novads, LV-5101
A8: Pasūtījuma Nr:
A10: Tāme sastādīta 2025.gada tirgus cenās, pamatojoties uz uzmērījumiem dabā | K10: Tāmes izmaksas
M12: Tāme sastādīta :
F14: Vienības izmaksas | L14: Kopā uz visu apjomu
A15: Nr.p.k. | B15: Kods | C15: Darba nosaukums | D15: Mērvienība | E15: Daudzums | F15: Laika norma (c/h). | G15: Darba samaksas likme (euro/h) | H15: Darba alga (euro) | I15: Būvizstrādājumi (euro) | J15: Mehānismi (euro) | K15: Kopā (euro) | L15: Darbietilpība (c/h) | M15: Darba alga (euro) | N15: Būvizstrādājumi (euro) | O15: Mehānismi (euro) | P15: Summa (euro)
A16: 1 | B16: 2 | C16: 3 | D16: 4 | E16: 5 | F16: 6 | G16: 7 | H16: 8 | I16: 9 | J16: 10 | K16: 11 | L16: 12 | M16: 13 | N16: 14 | O16: 15 | P16: 16
C17: Dzīvoklis Nr.58 | D17: m2 | E17: 32,45
C18: Demontāžas darbi
A19: 1 | C19: Esošo ārdurvju/iekšdurvju 900x2050mm demontāža | D19: kpl | E19: 5
A20: 2 | C20: Esošās elektroinstalācijas - griestu lampas, sienu lampas, kontakti, slēdži, demontāža | D20: gb | E20: 17
A21: 3 | C21: Esošās Duškabīnes un WC poda demontāža | D21: kpl | E21: 1
A22: 4 | C22: Vecās santehnikas demontāža | D22: gb | E22: 3
A23: 5 | C23: Griestu vecās apdares noņemšana, krāsa, balsinājums utt… | D23: m2 | E23: 29
A24: 6 | C24: Sienu vecās apdares noņemšana, tapetes, krāsa, flīzes, apmetums utt… | D24: m2 | E24: 110
A25: 7 | C25: Grīdu vecās apdares noņemšana – linolejs, krāsa, preskartons, flīzes utt… | D25: m2 | E25: 32.5
C26: Aiļu aizpildījumu elementi
A27: 8 | C27: Jaunu Priedes koka (lakotu) durvju 700-900x2050mm ar stiklojumu vai bez montāža, tai sk., furnitūra, kleidas | D27: kpl | E27: 4
A28: 9 | C28: Jaunu metāla ārdurvju 700-900x2050mm montāža, tai sk., furnitūra, kleidas | D28: kpl | E28: 1
C29: Montāžas un apdares darbi
C30: Griesti
A31: 10 | C31: Griestu plaknes (dz.betona paneļi vai reģipša apšuvums) sagatavošana apdarei, tai sk., gruntēšana pa kārtām, špaktelēšana, slīpēšana, pēc nepieciešamības sieta iestrāde šuvēs | D31: m2 | E31: 29
A32: 11 | C32: Griestu krāsošana ar ūdens emulsijas krāsu iekšdarbiem 2. kārtās, tai sk., nepieciešamie palīgdarbi | D32: m2 | E32: 29
A33: 12 | C33: Griestu un sienu plaknes apšūšana ar PVC apdares dēļiem 2700x100x10mm, tai sk., montāžas stiprinājumi, PVC montāžas līste karkasam, nobeigumu līstes | D33: m2 | E33: 31
C34: Sienas
A35: 13 | C35: Sienu un ailu sagatavošana apdarei, tai sk., gruntēšana pa kārtām, špaktelēšana, slīpēšana, pēc nepieciešamības sieta iestrāde šuvēs, plaisās | D35: m2 | E35: 88
A36: 14 | C36: Sienu un ailu krāsošana ar ūdens emulsijas krāsu iekšdarbiem 2. kārtās, tai sk., nepieciešamie palīgdarbi | D36: m2 | E36: 88
C37: Grīdas
A38: 15 | C38: Esošās grīdas pamatnes (koka dēļi), sagatavošana lamināta ieklāšanai, tai sk., nelīdzenumu pieslīpēšana, pievilkšana, atputekļošana | D38: m2 | E38: 29
A39: 16 | C39: Lamināta grīdas seguma 32. klase 8mm ierīkošana, tai sk., apakšklājs 2-8mm biezumā | D39: m2 | E39: 21
A40: 17 | C40: Flīžu grīdas seguma ierīkošana, tai sk., grunts, šuvošana, hermetizācija | D40: m2 | E40: 4
A41: 18 | C41: Jāuna Dabīgā vai homogēnā (vienslāņa) linoleja grīdas seguma 34/43kl. ierīkošana, tai sk., līme un šuvju diegs, (toni saskaņot ar Pasūtītāju, atbilstoši higiēnas prasībām) | D41: m2 | E41: 8
A42: 19 | C42: PVC grīdlīstu 55mm un segumu savienojošo metāla līstu ierīkošana, tai sk., savienojumi un montāžas stiprinājumi | D42: m | E42: 40
C43: Specializētie darbi – iekšējie tīkli, sistēmas
C44: Elektroinstalācijas darbi
...

Sheet A4- Lāčplēša 12-43
A1: Lokālā tāme Nr. 4
A3: Vispārējie būvdarbi - Dzīvokļa atjaunošana
A4: (būvdarbu veids vai konstruktīvā elementa nosaukums)
A5: Objekta nosaukums: Lāčplēša iela 12-43
A6: Būves nosaukums: Daudzdzīvokļu dzīvojamā māja
A7: Objekta adrese: Lāčplēša iela 12-43, Aizkraukle, Aizkraukles novads, LV-5101
A8: Pasūtījuma Nr:
A10: Tāme sastādīta 2025.gada tirgus cenās, pamatojoties uz uzmērījumiem dabā | K10: Tāmes izmaksas
M12: Tāme sastādīta :
F14: Vienības izmaksas | L14: Kopā uz visu apjomu
A15: Nr.p.k. | B15: Kods | C15: Darba nosaukums | D15: Mērvienība | E15: Daudzums | F15: Laika norma (c/h). | G15: Darba samaksas likme (euro/h) | H15: Darba alga (euro) | I15: Būvizstrādājumi (euro) | J15: Mehānismi (euro) | K15: Kopā (euro) | L15: Darbietilpība (c/h) | M15: Darba alga (euro) | N15: Būvizstrādājumi (euro) | O15: Mehānismi (euro) | P15: Summa (euro)
A16: 1 | B16: 2 | C16: 3 | D16: 4 | E16: 5 | F16: 6 | G16: 7 | H16: 8 | I16: 9 | J16: 10 | K16: 11 | L16: 12 | M16: 13 | N16: 14 | O16: 15 | P16: 16
C17: Dzīvoklis Nr.43 | D17: m2 | E17: =E18+E37+E60+E77+E95+E114+E133 -> 55.6
C18: Koridors | D18: m2 | E18: 5.33
A19: 1 | C19: Finiera, koka starpsienas sakapīša starp koridori un virtuvi demontāža | D19: m2 | E19: 3.5
A20: 2 | C20: Esošās elektroinstalācijas - 3-polu slēdži, demontāža | D20: gb | E20: 2
A21: 3 | C21: Griestu balsinājuma notīrīšana | D21: m2 | E21: 5.33
A22: 4 | C22: Sienu apdares - tapetes, vecais krāsojums, demontāža | D22: m2 | E22: 20.4
A23: 5 | C23: Grīdas seguma - linolejs, demontāža | D23: m2 | E23: 5.33
A24: 6 | C24: Ārdurvju ailu ierīkošana, līmējot reģipša loksnes b=250mm, tai sk., montāžas stiprinājumi, pieslēguma līstes durvīm | D24: m | E24: 5
A25: 7 | C25: Griestu plaknes (dz.betona paneļi) sagatavošana apdarei, tai sk., gruntēšana pa kārtām, špaktelēšana, slīpēšana, pēc nepieciešamības sieta iestrāde šuvēs | D25: m2 | E25: 5.33
A26: 8 | C26: Ķieģeļu nišas apmešana, tai sk., sagatavošana, gruntēšana, apmetums līdz 10mm, iestrādājot stikla šķiedras sietu | D26: m2 | E26: 6.15
A27: 9 | C27: Sienu sagatavošana apdarei, tai sk., gruntēšana pa kārtām, špaktelēšana, slīpēšana, pēc nepieciešamības sieta iestrāde šuvēs, plaisās | D27: m2 | E27: 21.6
A28: 10 | C28: Esošās grīdas pamatnes (koka dēļi), sagatavošana lamināta ieklāšanai, tai sk., nelīdzenumu pieslīpēšana, pievilkšana, atputekļošana | D28: m2 | E28: 5.33
A29: 11 | C29: Griestu krāsošana ar ūdens emulsijas krāsu iekšdarbiem 2. kārtās, tai sk., nepieciešamie palīgdarbi | D29: m2 | E29: 5.33
A30: 12 | C30: Sienu krāsošana ar ūdens emulsijas krāsu iekšdarbiem 2. kārtās, tai sk., nepieciešamie palīgdarbi | D30: m2 | E30: 21.6
... A35: 17 | C35: Jauna griestu virsapmetuma Lampas montāža, piem: LED gaismeklis BESA 24W, 2400lm, siltā/neitrālā gaisma, kantains/apaļš, vai ekvivalents | D35: kpl | E35: 1
C36: kopā:
C37: Virtuve | D37: m2 | E37: 6.95
A38: 18 | C38: Esošo koka karkasa durvju 700x2050mm ar stiklojumu demontāža | D38: kpl | E38: 1
A39: 19 | C39: Esošās elektroinstalācijas - griestu lampa, sienu lampas, kontakti un slēdži demontāža | D39: kpl | E39: 1
A40: 20 | C40: Esošās tērauda izlietnes ar koka karkasa skapīti un finiera virsmu demontāža | D40: kpl | E40: 1
A41: 21 | C41: Esošās reģipša griestu konstrukcijas demontāža | D41: m2 | E41: 6.95
A42: 22 | C42: Esošā sienu apšuvuma - dekoratīvie elementi un reģipša sienu konstr., ar apšuvumu demontāža | D42: m2 | E42: 10
A43: 23 | C43: Griestu balsinājuma notīrīšana | D43: m2 | E43: 6.95
A44: 24 | C44: Sienu apdares - flīzes, vecais krāsojums, demontāža, tai sk., logu ailes | D44: m2 | E44: 16
A45: 25 | C45: Grīdas seguma - linolejs, demontāža | D45: m2 | E45: 6.95
A46: 26 | C46: Ģipškartona konstrukcijas starpsienas b=125mm, starp virtuvi un koridoru ierīkošana, tai sk., profili 100mm, gīpškartons, izolācija un montāžas stiprinājumi | D46: m2 | E46: 1
A47: 27 | C47: Jaunu Priedes koka (lakotu) durvju 700x2050mm ar stiklojumu montāža, tai sk., furnitūra, kleidas no vienas puses | D47: kpl | E47: 1
A48: 28 | C48: Sienu un ailu sagatavošana apdarei, tai sk., gruntēšana pa kārtām, špaktelēšana, slīpēšana, pēc nepieciešamības sieta iestrāde šuvēs, plaisās | D48: m2 | E48: 26
...

Sheet A5-  Lāčplēša 15-12
A1: Lokālā tāme Nr. 5
A3: Vispārējie būvdarbi - Dzīvokļa atjaunošana
A4: (būvdarbu veids vai konstruktīvā elementa nosaukums)
A5: Objekta nosaukums: Lāčplēša iela 15-12
A6: Būves nosaukums: Daudzdzīvokļu dzīvojamā māja
A7: Objekta adrese: Lāčplēša iela 15-12, Aizkraukle, Aizkraukles novads, LV-5101
A8: Pasūtījuma Nr:
A10: Tāme sastādīta 2025.gada tirgus cenās, pamatojoties uz uzmērījumiem dabā | K10: Tāmes izmaksas
M12: Tāme sastādīta :
F14: Vienības izmaksas | L14: Kopā uz visu apjomu
A15: Nr.p.k. | B15: Kods | C15: Darba nosaukums | D15: Mērvienība | E15: Daudzums | F15: Laika norma (c/h). | G15: Darba samaksas likme (euro/h) | H15: Darba alga (euro) | I15: Būvizstrādājumi (euro) | J15: Mehānismi (euro) | K15: Kopā (euro) | L15: Darbietilpība (c/h) | M15: Darba alga (euro) | N15: Būvizstrādājumi (euro) | O15: Mehānismi (euro) | P15: Summa (euro)
A16: 1 | B16: 2 | C16: 3 | D16: 4 | E16: 5 | F16: 6 | G16: 7 | H16: 8 | I16: 9 | J16: 10 | K16: 11 | L16: 12 | M16: 13 | N16: 14 | O16: 15 | P16: 16
C17: Dzīvoklis Nr.12 | D17: m2 | E17: 31,1
C18: Demontāžas darbi
A19: 1 | C19: Esošo ārdurvju/iekšdurvju 900x2050mm demontāža | D19: kpl | E19: 3
A20: 2 | C20: Esošās elektroinstalācijas - griestu lampas, sienu lampas, kontakti, slēdži, demontāža | D20: gb | E20: 16
A21: 3 | C21: Esošās vannas un WC poda demontāža | D21: kpl | E21: 1
A22: 4 | C22: Vecās santehnikas demontāža | D22: gb | E22: 2
A23: 5 | C23: Griestu vecās apdares noņemšana, tapetes, krāsa, balsinājums utt… | D23: m2 | E23: 28.7
A24: 6 | C24: Sienu vecās apdares noņemšana, tapetes, krāsa, flīzes, apmetums utt… | D24: m2 | E24: 98
A25: 7 | C25: Grīdu vecās apdares noņemšana – linolejs, krāsa, preskartons, flīzes utt… | D25: m2 | E25: 31.1
C26: Aiļu aizpildījumu elementi
A27: 8 | C27: Jaunu Priedes koka (lakotu) durvju 700-900x2050mm ar stiklojumu vai bez montāža, tai sk., furnitūra, kleidas no vienas puses | D27: kpl | E27: 2
A28: 9 | C28: Jaunu metāla ārdurvju durvju 900x2050mm montāža, tai sk., furnitūra, kleidas no vienas puses | D28: kpl | E28: 1
C29: Montāžas un apdares darbi
C30: Griesti
A31: 10 | C31: Griestu plaknes (dz.betona paneļi) sagatavošana apdarei, tai sk., gruntēšana pa kārtām, špaktelēšana, slīpēšana, pēc nepieciešamības sieta iestrāde šuvēs | D31: m2 | E31: 28.7
A32: 11 | C32: Griestu krāsošana ar ūdens emulsijas krāsu iekšdarbiem 2. kārtās, tai sk., nepieciešamie palīgdarbi | D32: m2 | E32: 28.7
A33: 12 | C33: Griestu un sienu plaknes apšūšana ar PVC apdares dēļiem 2700x100x10mm, tai sk., montāžas stiprinājumi, PVC montāžas līste karkasam, nobeigumu līstes | D33: m2 | E33: 17
C34: Sienas
A35: 13 | C35: Sienu un ailu sagatavošana apdarei, tai sk., gruntēšana pa kārtām, špaktelēšana, slīpēšana, pēc nepieciešamības sieta iestrāde šuvēs, plaisās | D35: m2 | E35: 98
A36: 14 | C36: Sienu un ailu krāsošana ar ūdens emulsijas krāsu iekšdarbiem 2. kārtās, tai sk., nepieciešamie palīgdarbi | D36: m2 | E36: 98
C37: Grīdas
A38: 15 | C38: Grīdas pamatnes sagatavošana, vieglbetona izlīdzonošās kārtas b=80mm ierīkošana, tai sk.,stiegrojums | D38: m2 | E38: 2.4
A39: 16 | C39: Lamināta grīdas seguma 32. klase 8mm ierīkošana, tai sk., apakšklājs 2-8mm biezumā | D39: m2 | E39: 22.9
A40: 17 | C40: Flīžu grīdas seguma ierīkošana, tai sk., grunts, šuvošana, hermetizācija | D40: m2 | E40: 2.4
A41: 18 | C41: Jāuna Dabīgā vai homogēnā (vienslāņa) linoleja grīdas seguma 34/43kl. ierīkošana, tai sk., līme un šuvju diegs, (toni saskaņot ar Pasūtītāju, atbilstoši higiēnas prasībām) | D41: m2 | E41: 5.8
A42: 19 | C42: PVC grīdlīstu 55mm un segumu savienojošo metāla līstu ierīkošana, tai sk., savienojumi un montāžas stiprinājumi | D42: m | E42: 42
C43: Specializētie darbi – iekšējie tīkli, sistēmas
C44: Elektroinstalācijas darbi
...

Sheet A6- Lāčplēša 19-33
A1: Lokālā tāme Nr. 6
A3: Vispārējie būvdarbi - Dzīvokļa atjaunošana
A4: (būvdarbu veids vai konstruktīvā elementa nosaukums)
A5: Objekta nosaukums: Lāčplēša iela 19-33
A6: Būves nosaukums: Daudzdzīvokļu dzīvojamā māja
A7: Objekta adrese: Lāčplēša iela 19-33, Aizkraukle, Aizkraukles novads, LV-5101
A8: Pasūtījuma Nr:
A10: Tāme sastādīta 2025.gada tirgus cenās, pamatojoties uz uzmērījumiem dabā | K10: Tāmes izmaksas
M12: Tāme sastādīta :
F14: Vienības izmaksas | L14: Kopā uz visu apjomu
A15: Nr.p.k. | B15: Kods | C15: Darba nosaukums | D15: Mērvienība | E15: Daudzums | F15: Laika norma (c/h). | G15: Darba samaksas likme (euro/h) | H15: Darba alga (euro) | I15: Būvizstrādājumi (euro) | J15: Mehānismi (euro) | K15: Kopā (euro) | L15: Darbietilpība (c/h) | M15: Darba alga (euro) | N15: Būvizstrādājumi (euro) | O15: Mehānismi (euro) | P15: Summa (euro)
A16: 1 | B16: 2 | C16: 3 | D16: 4 | E16: 5 | F16: 6 | G16: 7 | H16: 8 | I16: 9 | J16: 10 | K16: 11 | L16: 12 | M16: 13 | N16: 14 | O16: 15 | P16: 16
C17: Dzīvoklis Nr.33 | D17: m2 | E17: 40,35
C18: Demontāžas darbi
A19: 1 | C19: Esošo ārdurvju/iekšdurvju 900x2050mm demontāža | D19: kpl | E19: 1
A20: 2 | C20: Esošās elektroinstalācijas - griestu lampas, sienu lampas, kontakti, slēdži, demontāža | D20: gb | E20: 18
A21: 3 | C21: Esošās Duškabīnes un WC poda demontāža | D21: kpl | E21: 1
A22: 4 | C22: Vecās santehnikas demontāža | D22: gb | E22: 2
A23: 5 | C23: Griestu vecās apdares noņemšana, tapetes, krāsa, balsinājums utt… | D23: m2 | E23: 38
A24: 6 | C24: Sienu vecās apdares noņemšana, tapetes, krāsa, flīzes, apmetums utt… | D24: m2 | E24: 113
A25: 7 | C25: Grīdu vecās apdares noņemšana – linolejs, krāsa, preskartons, flīzes utt… | D25: m2 | E25: 40
C26: Aiļu aizpildījumu elementi
A27: 8 | C27: Jaunu Priedes koka (lakotu) durvju 700-900x2050mm ar stiklojumu vai bez montāža, tai sk., furnitūra, kleidas | D27: kpl | E27: 3
C28: Montāžas un apdares darbi
C29: Griesti
A30: 9 | C30: Griestu plaknes (dz.betona paneļi vai reģipša apšuvums) sagatavošana apdarei, tai sk., gruntēšana pa kārtām, špaktelēšana, slīpēšana, pēc nepieciešamības sieta iestrāde šuvēs | D30: m2 | E30: 39
A31: 10 | C31: Griestu krāsošana ar ūdens emulsijas krāsu iekšdarbiem 2. kārtās, tai sk., nepieciešamie palīgdarbi | D31: m2 | E31: 39
A32: 11 | C32: Griestu un sienu plaknes apšūšana ar PVC apdares dēļiem 2700x100x10mm, tai sk., montāžas stiprinājumi, PVC montāžas līste karkasam, nobeigumu līstes | D32: m2 | E32: 18
C33: Sienas
A34: 12 | C34: Sienu un ailu sagatavošana apdarei, tai sk., gruntēšana pa kārtām, špaktelēšana, slīpēšana, pēc nepieciešamības sieta iestrāde šuvēs, plaisās | D34: m2 | E34: 113
A35: 13 | C35: Sienu un ailu krāsošana ar ūdens emulsijas krāsu iekšdarbiem 2. kārtās, tai sk., nepieciešamie palīgdarbi | D35: m2 | E35: 113
C36: Grīdas
A37: 14 | C37: Esošās grīdas pamatnes (koka dēļi), sagatavošana lamināta ieklāšanai, tai sk., nelīdzenumu pieslīpēšana, pievilkšana, atputekļošana | D37: m2 | E37: 39
A38: 15 | C38: Lamināta grīdas seguma 32. klase 8mm ierīkošana, tai sk., apakšklājs 2-8mm biezumā | D38: m2 | E38: 33
A39: 16 | C39: Flīžu grīdas seguma ierīkošana, tai sk., grunts, šuvošana, hermetizācija | D39: m2 | E39: 3
A40: 17 | C40: Jāuna Dabīgā vai homogēnā (vienslāņa) linoleja grīdas seguma 34/43kl. ierīkošana, tai sk., līme un šuvju diegs, (toni saskaņot ar Pasūtītāju, atbilstoši higiēnas prasībām) | D40: m2 | E40: 6
A41: 18 | C41: PVC grīdlīstu 55mm un segumu savienojošo metāla līstu ierīkošana, tai sk., savienojumi un montāžas stiprinājumi | D41: m | E41: 51
C42: Specializētie darbi – iekšējie tīkli, sistēmas
C43: Elektroinstalācijas darbi
A44: 19 | C44: Rozetes vai slēdža montāža esošā vietā | D44: kpl | E44: 13
...

Sheet A7-  Lāčplēša 29-18
A1: Lokālā tāme Nr. 7
A3: Vispārējie būvdarbi - Dzīvokļa atjaunošana
A4: (būvdarbu veids vai konstruktīvā elementa nosaukums)
A5: Objekta nosaukums: Lāčplēša iela 29-18
A6: Būves nosaukums: Daudzdzīvokļu dzīvojamā māja
A7: Objekta adrese: Lāčplēša iela 29-18, Aizkraukle, Aizkraukles novads, LV-5101
A8: Pasūtījuma Nr:
A10: Tāme sastādīta 2025.gada tirgus cenās, pamatojoties uz uzmērījumiem dabā | K10: Tāmes izmaksas
M12: Tāme sastādīta :
F14: Vienības izmaksas | L14: Kopā uz visu apjomu
A15: Nr.p.k. | B15: Kods | C15: Darba nosaukums | D15: Mērvienība | E15: Daudzums | F15: Laika norma (c/h). | G15: Darba samaksas likme (euro/h) | H15: Darba alga (euro) | I15: Būvizstrādājumi (euro) | J15: Mehānismi (euro) | K15: Kopā (euro) | L15: Darbietilpība (c/h) | M15: Darba alga (euro) | N15: Būvizstrādājumi (euro) | O15: Mehānismi (euro) | P15: Summa (euro)
A16: 1 | B16: 2 | C16: 3 | D16: 4 | E16: 5 | F16: 6 | G16: 7 | H16: 8 | I16: 9 | J16: 10 | K16: 11 | L16: 12 | M16: 13 | N16: 14 | O16: 15 | P16: 16
C17: Dzīvoklis Nr.29 | D17: m2 | E17: 45,68
C18: Demontāžas darbi
A19: 1 | C19: Esošo ārdurvju/iekšdurvju 900x2050mm demontāža | D19: kpl | E19: 6
A20: 2 | C20: Esošās elektroinstalācijas - griestu lampas, sienu lampas, kontakti, slēdži, demontāža | D20: gb | E20: 22
A21: 3 | C21: Esošās vannas un WC poda demontāža | D21: kpl | E21: 1
A22: 4 | C22: Vecās santehnikas demontāža | D22: gb | E22: 2
A23: 5 | C23: Griestu vecās apdares noņemšana, tapetes, krāsa, balsinājums utt… | D23: m2 | E23: 43
A24: 6 | C24: Sienu vecās apdares noņemšana, tapetes, krāsa, flīzes, apmetums utt… | D24: m2 | E24: 118
A25: 7 | C25: Grīdu vecās apdares noņemšana – linolejs, krāsa, preskartons, flīzes utt… | D25: m2 | E25: 46
C26: Aiļu aizpildījumu elementi
A27: 8 | C27: Jaunu Priedes koka (lakotu) durvju 700-900x2050mm ar stiklojumu vai bez montāža, tai sk., furnitūra, kleidas | D27: kpl | E27: 5
A28: 9 | C28: Jaunu metāla ārdurvju 700-900x2050mm montāža, tai sk., furnitūra, kleidas | D28: kpl | E28: 1
C29: Montāžas un apdares darbi
C30: Griesti
A31: 10 | C31: Griestu plaknes (dz.betona paneļi) sagatavošana apdarei, tai sk., gruntēšana pa kārtām, špaktelēšana, slīpēšana, pēc nepieciešamības sieta iestrāde šuvēs | D31: m2 | E31: 43
A32: 11 | C32: Griestu krāsošana ar ūdens emulsijas krāsu iekšdarbiem 2. kārtās, tai sk., nepieciešamie palīgdarbi | D32: m2 | E32: 43
A33: 12 | C33: Griestu un sienu plaknes apšūšana ar PVC apdares dēļiem 2700x100x10mm, tai sk., montāžas stiprinājumi, PVC montāžas līste karkasam, nobeigumu līstes | D33: m2 | E33: 43
C34: Sienas
A35: 13 | C35: Sienu un ailu sagatavošana apdarei, tai sk., gruntēšana pa kārtām, špaktelēšana, slīpēšana, pēc nepieciešamības sieta iestrāde šuvēs, plaisās | D35: m2 | E35: 118
A36: 14 | C36: Sienu un ailu krāsošana ar ūdens emulsijas krāsu iekšdarbiem 2. kārtās, tai sk., nepieciešamie palīgdarbi | D36: m2 | E36: 118
C37: Grīdas
A38: 15 | C38: Esošās grīdas pamatnes (koka dēļi), sagatavošana lamināta ieklāšanai, tai sk., nelīdzenumu pieslīpēšana, pievilkšana, atputekļošana | D38: m2 | E38: 43
A39: 16 | C39: Lamināta grīdas seguma 32. klase 8mm ierīkošana, tai sk., apakšklājs 2-8mm biezumā | D39: m2 | E39: 37
A40: 17 | C40: Flīžu grīdas seguma ierīkošana, tai sk., grunts, šuvošana, hermetizācija | D40: m2 | E40: 3
A41: 18 | C41: Jāuna Dabīgā vai homogēnā (vienslāņa) linoleja grīdas seguma 34/43kl. ierīkošana, tai sk., līme un šuvju diegs, (toni saskaņot ar Pasūtītāju, atbilstoši higiēnas prasībām) | D41: m2 | E41: 7
A42: 19 | C42: PVC grīdlīstu 55mm un segumu savienojošo metāla līstu ierīkošana, tai sk., savienojumi un montāžas stiprinājumi | D42: m | E42: 55
C43: Specializētie darbi – iekšējie tīkli, sistēmas
C44: Elektroinstalācijas darbi
...

Sheet A8- Lāčplēša 37-19
A1: Lokālā tāme Nr. 8
A3: Vispārējie būvdarbi - Dzīvokļa atjaunošana
A4: (būvdarbu veids vai konstruktīvā elementa nosaukums)
A5: Objekta nosaukums: Lāčplēša iela 37-19
A6: Būves nosaukums: Daudzdzīvokļu dzīvojamā māja
A7: Objekta adrese: Lāčplēša iela 37-19, Aizkraukle, Aizkraukles novads, LV-5101
A8: Pasūtījuma Nr:
A10: Tāme sastādīta 2025.gada tirgus cenās, pamatojoties uz uzmērījumiem dabā | K10: Tāmes izmaksas
M12: Tāme sastādīta :
F14: Vienības izmaksas | L14: Kopā uz visu apjomu
A15: Nr.p.k. | B15: Kods | C15: Darba nosaukums | D15: Mērvienība | E15: Daudzums | F15: Laika norma (c/h). | G15: Darba samaksas likme (euro/h) | H15: Darba alga (euro) | I15: Būvizstrādājumi (euro) | J15: Mehānismi (euro) | K15: Kopā (euro) | L15: Darbietilpība (c/h) | M15: Darba alga (euro) | N15: Būvizstrādājumi (euro) | O15: Mehānismi (euro) | P15: Summa (euro)
A16: 1 | B16: 2 | C16: 3 | D16: 4 | E16: 5 | F16: 6 | G16: 7 | H16: 8 | I16: 9 | J16: 10 | K16: 11 | L16: 12 | M16: 13 | N16: 14 | O16: 15 | P16: 16
C17: Dzīvoklis Nr.19 | D17: m2 | E17: 36.3
C18: Demontāžas darbi
A19: 1 | C19: Esošo ārdurvju/iekšdurvju 900x2050mm demontāža | D19: kpl | E19: 4
A20: 2 | C20: Esošo logu demontāža | D20: m2 | E20: 4.8
A21: 3 | C21: Esošo logu palodžu demontāža | D21: m | E21: 6.8
A22: 4 | C22: Esošās elektroinstalācijas - griestu lampas, sienu lampas, kontakti, slēdži, demontāža | D22: gb | E22: 12
A23: 5 | C23: Esošās Duškabīnes un WC poda demontāža | D23: kpl | E23: 2
A24: 6 | C24: Vecās santehnikas demontāža | D24: gb | E24: 2
A25: 7 | C25: Griestu vecās apdares noņemšana, tapetes, krāsa, balsinājums utt… | D25: m2 | E25: 33
A26: 8 | C26: Sienu vecās apdares noņemšana, tapetes, krāsa, flīzes, apmetums utt… | D26: m2 | E26: 102
A27: 9 | C27: Grīdu vecās apdares noņemšana – linolejs, krāsa, preskartons, flīzes utt… | D27: m2 | E27: 36.3
C28: Aiļu aizpildījumu elementi
A29: 10 | C29: Jaunu Priedes koka (lakotu) durvju 700-900x2050mm ar stiklojumu vai bez montāža, tai sk., furnitūra, kleidas | D29: kpl | E29: 3
A30: 11 | C30: Jaunu metāla ārdurvju 700-900x2050mm montāža, tai sk., furnitūra, kleidas | D30: kpl | E30: 1
A31: 12 | C31: PVC logu uzstādīšana | D31: m2 | E31: 4.8
A32: 13 | C32: Palodžu uzstādīšana - PVC vai kokskaidas b=150 - 400mm | D32: m | E32: 6.8
A33: 14 | C33: Logu aiļu apdare | D33: m | E33: 9
C34: Montāžas un apdares darbi
C35: Griesti
A36: 15 | C36: Griestu plaknes (dz.betona paneļi vai reģipša apšuvums) sagatavošana apdarei, tai sk., gruntēšana pa kārtām, špaktelēšana, slīpēšana, pēc nepieciešamības sieta iestrāde šuvēs | D36: m2 | E36: 33
A37: 16 | C37: Griestu krāsošana ar ūdens emulsijas krāsu iekšdarbiem 2. kārtās, tai sk., nepieciešamie palīgdarbi | D37: m2 | E37: 33
A38: 17 | C38: Griestu un sienu plaknes apšūšana ar PVC apdares dēļiem 2700x100x10mm, tai sk., montāžas stiprinājumi, PVC montāžas līste karkasam, nobeigumu līstes | D38: m2 | E38: 16
C39: Sienas
A40: 18 | C40: Gipškartona starpsienu izveide b=125mm, tai sk., profili 100mm, gīpškartons no abām pusēm, izolācija un montāžas stiprinājumi | D40: m2 | E40: 2
A41: 19 | C41: Sienu un ailu sagatavošana apdarei, tai sk., gruntēšana pa kārtām, špaktelēšana, slīpēšana, pēc nepieciešamības sieta iestrāde šuvēs, plaisās | D41: m2 | E41: 90
A42: 20 | C42: Sienu un ailu krāsošana ar ūdens emulsijas krāsu iekšdarbiem 2. kārtās, tai sk., nepieciešamie palīgdarbi | D42: m2 | E42: 90
C43: Grīdas
A44: 21 | C44: Esošās grīdas pamatnes (koka dēļi), sagatavošana lamināta ieklāšanai, tai sk., nelīdzenumu pieslīpēšana, pievilkšana, atputekļošana | D44: m2 | E44: 33
...

Sheet A9- Lāčplēša  37-24
A1: Lokālā tāme Nr. 9
A3: Vispārējie būvdarbi - Dzīvokļa atjaunošana
A4: (būvdarbu veids vai konstruktīvā elementa nosaukums)
A5: Objekta nosaukums: Lāčplēša iela 37-24
A6: Būves nosaukums: Daudzdzīvokļu dzīvojamā māja
A7: Objekta adrese: Lāčplēša iela 37-24, Aizkraukle, Aizkraukles novads, LV-5101
A8: Pasūtījuma Nr:
A10: Tāme sastādīta 2025.gada tirgus cenās, pamatojoties uz uzmērījumiem dabā | K10: Tāmes izmaksas
M12: Tāme sastādīta :
F14: Vienības izmaksas | L14: Kopā uz visu apjomu
A15: Nr.p.k. | B15: Kods | C15: Darba nosaukums | D15: Mērvienība | E15: Daudzums | F15: Laika norma (c/h). | G15: Darba samaksas likme (euro/h) | H15: Darba alga (euro) | I15: Būvizstrādājumi (euro) | J15: Mehānismi (euro) | K15: Kopā (euro) | L15: Darbietilpība (c/h) | M15: Darba alga (euro) | N15: Būvizstrādājumi (euro) | O15: Mehānismi (euro) | P15: Summa (euro)
A16: 1 | B16: 2 | C16: 3 | D16: 4 | E16: 5 | F16: 6 | G16: 7 | H16: 8 | I16: 9 | J16: 10 | K16: 11 | L16: 12 | M16: 13 | N16: 14 | O16: 15 | P16: 16
C17: Dzīvoklis Nr.24 | D17: m2 | E17: 35,4
C18: Demontāžas darbi
A19: 1 | C19: Esošo ārdurvju/iekšdurvju 900x2050mm demontāža | D19: kpl | E19: 4
A20: 2 | C20: Esošās elektroinstalācijas - griestu lampas, sienu lampas, kontakti, slēdži, demontāža | D20: gb | E20: 16
A21: 3 | C21: Esošās Duškabīnes un WC poda demontāža | D21: kpl | E21: 1
A22: 4 | C22: Vecās santehnikas demontāža | D22: gb | E22: 2
A23: 5 | C23: Griestu vecās apdares noņemšana, krāsa, balsinājums utt… | D23: m2 | E23: 32
A24: 6 | C24: Sienu vecās apdares noņemšana, tapetes, krāsa, flīzes, apmetums utt… | D24: m2 | E24: 102
A25: 7 | C25: Grīdu vecās apdares noņemšana – linolejs, krāsa, preskartons, flīzes utt… | D25: m2 | E25: 35.4
C26: Aiļu aizpildījumu elementi
A27: 8 | C27: Jaunu Priedes koka (lakotu) durvju 700-900x2050mm ar stiklojumu vai bez montāža, tai sk., furnitūra, kleidas | D27: kpl | E27: 3
A28: 9 | C28: Jaunu metāla ārdurvju 700-900x2050mm montāža, tai sk., furnitūra, kleidas | D28: kpl | E28: 1
C29: Montāžas un apdares darbi
C30: Griesti
A31: 10 | C31: Griestu plaknes (dz.betona paneļi) sagatavošana apdarei, tai sk., gruntēšana pa kārtām, špaktelēšana, slīpēšana, pēc nepieciešamības sieta iestrāde šuvēs | D31: m2 | E31: 32
A32: 11 | C32: Griestu krāsošana ar ūdens emulsijas krāsu iekšdarbiem 2. kārtās, tai sk., nepieciešamie palīgdarbi | D32: m2 | E32: 32
A33: 12 | C33: Griestu un sienu plaknes apšūšana ar PVC apdares dēļiem 2700x100x10mm, tai sk., montāžas stiprinājumi, PVC montāžas līste karkasam, nobeigumu līstes | D33: m2 | E33: 20
C34: Sienas
A35: 13 | C35: Sienu un ailu sagatavošana apdarei, tai sk., gruntēšana pa kārtām, špaktelēšana, slīpēšana, pēc nepieciešamības sieta iestrāde šuvēs, plaisās | D35: m2 | E35: 95
A36: 14 | C36: Sienu un ailu krāsošana ar ūdens emulsijas krāsu iekšdarbiem 2. kārtās, tai sk., nepieciešamie palīgdarbi | D36: m2 | E36: 95
C37: Grīdas
A38: 15 | C38: Esošās grīdas pamatnes (koka dēļi), sagatavošana lamināta ieklāšanai, tai sk., nelīdzenumu pieslīpēšana, pievilkšana, atputekļošana | D38: m2 | E38: 32
A39: 16 | C39: Lamināta grīdas seguma 32. klase 8mm ierīkošana, tai sk., apakšklājs 2-8mm biezumā | D39: m2 | E39: 27
A40: 17 | C40: Flīžu grīdas seguma ierīkošana, tai sk., grunts, šuvošana, hermetizācija | D40: m2 | E40: 3.5
A41: 18 | C41: Jāuna Dabīgā vai homogēnā (vienslāņa) linoleja grīdas seguma 34/43kl. ierīkošana, tai sk., līme un šuvju diegs, (toni saskaņot ar Pasūtītāju, atbilstoši higiēnas prasībām) | D41: m2 | E41: 6
A42: 19 | C42: PVC grīdlīstu 55mm un segumu savienojošo metāla līstu ierīkošana, tai sk., savienojumi un montāžas stiprinājumi | D42: m | E42: 43
C43: Specializētie darbi – iekšējie tīkli, sistēmas
C44: Elektroinstalācijas darbi
...

Sheet A11-  Spīdolas 16-18
A1: Lokālā tāme Nr. 10
A3: Vispārējie būvdarbi - Dzīvokļa atjaunošana
A4: (būvdarbu veids vai konstruktīvā elementa nosaukums)
A5: Objekta nosaukums: Spīdolas iela 16-18
A6: Būves nosaukums: Daudzdzīvokļu dzīvojamā māja
A7: Objekta adrese: Spīdolas iela 16-18, Aizkraukle, Aizkraukles novads, LV-5101
A8: Pasūtījuma Nr:
A10: Tāme sastādīta 2025.gada tirgus cenās, pamatojoties uz uzmērījumiem dabā | K10: Tāmes izmaksas
M12: Tāme sastādīta :
F14: Vienības izmaksas | L14: Kopā uz visu apjomu
A15: Nr.p.k. | B15: Kods | C15: Darba nosaukums | D15: Mērvienība | E15: Daudzums | F15: Laika norma (c/h). | G15: Darba samaksas likme (euro/h) | H15: Darba alga (euro) | I15: Būvizstrādājumi (euro) | J15: Mehānismi (euro) | K15: Kopā (euro) | L15: Darbietilpība (c/h) | M15: Darba alga (euro) | N15: Būvizstrādājumi (euro) | O15: Mehānismi (euro) | P15: Summa (euro)
A16: 1 | B16: 2 | C16: 3 | D16: 4 | E16: 5 | F16: 6 | G16: 7 | H16: 8 | I16: 9 | J16: 10 | K16: 11 | L16: 12 | M16: 13 | N16: 14 | O16: 15 | P16: 16
C17: Dzīvoklis Nr.18 | D17: m2 | E17: 40
C18: Demontāžas darbi
A19: 1 | C19: Esošo ārdurvju/iekšdurvju 900x2050mm demontāža | D19: kpl | E19: 4
A20: 2 | C20: Esošās elektroinstalācijas - griestu lampas, sienu lampas, kontakti, slēdži, demontāža | D20: gb | E20: 18
A21: 3 | C21: Esošās vannas un WC poda demontāža | D21: kpl | E21: 2
A22: 4 | C22: Vecās santehnikas demontāža | D22: gb | E22: 2
A23: 5 | C23: Griestu vecās apdares noņemšana, tapetes, krāsa, balsinājums utt… | D23: m2 | E23: 38
A24: 6 | C24: Sienu vecās apdares noņemšana, tapetes, krāsa, flīzes, apmetums utt… | D24: m2 | E24: 108
A25: 7 | C25: Sienu vecā apšuvuma - reģ. konstr., paneļi ar karkasu utt… | D25: m2 | E25: 4
A26: 8 | C26: Grīdu vecās apdares noņemšana – linolejs, krāsa, preskartons, flīzes utt… | D26: m2 | E26: 40
C27: Aiļu aizpildījumu elementi
A28: 9 | C28: Jaunu Priedes koka (lakotu) durvju 700-900x2050mm ar stiklojumu vai bez montāža, tai sk., furnitūra, kleidas | D28: kpl | E28: 3
A29: 10 | C29: Jaunu metāla ārdurvju 700-900x2050mm montāža, tai sk., furnitūra, kleidas | D29: kpl | E29: 1
C30: Montāžas un apdares darbi
C31: Griesti
A32: 11 | C32: Griestu plaknes (dz.betona paneļi vai reģipša apšuvums) sagatavošana apdarei, tai sk., gruntēšana pa kārtām, špaktelēšana, slīpēšana, pēc nepieciešamības sieta iestrāde šuvēs | D32: m2 | E32: 38
A33: 12 | C33: Griestu krāsošana ar ūdens emulsijas krāsu iekšdarbiem 2. kārtās, tai sk., nepieciešamie palīgdarbi | D33: m2 | E33: 38
A34: 13 | C34: Griestu un sienu plaknes apšūšana ar PVC apdares dēļiem 2700x100x10mm, tai sk., montāžas stiprinājumi, PVC montāžas līste karkasam, nobeigumu līstes | D34: m2 | E34: 16
C35: Sienas
A36: 14 | C36: Sienu un ailu sagatavošana apdarei, tai sk., gruntēšana pa kārtām, špaktelēšana, slīpēšana, pēc nepieciešamības sieta iestrāde šuvēs, plaisās | D36: m2 | E36: 108
A37: 15 | C37: Sienu un ailu krāsošana ar ūdens emulsijas krāsu iekšdarbiem 2. kārtās, tai sk., nepieciešamie palīgdarbi | D37: m2 | E37: 108
C38: Grīdas
A39: 16 | C39: Esošās grīdas pamatnes (koka dēļi), sagatavošana lamināta ieklāšanai, tai sk., nelīdzenumu pieslīpēšana, pievilkšana, atputekļošana | D39: m2 | E39: 38
A40: 17 | C40: Lamināta grīdas seguma 32. klase 8mm ierīkošana, tai sk., apakšklājs 2-8mm biezumā | D40: m2 | E40: 33
A41: 18 | C41: Flīžu grīdas seguma ierīkošana, tai sk., grunts, šuvošana, hermetizācija | D41: m2 | E41: 2.5
A42: 19 | C42: Jāuna Dabīgā vai homogēnā (vienslāņa) linoleja grīdas seguma 34/43kl. ierīkošana, tai sk., līme un šuvju diegs, (toni saskaņot ar Pasūtītāju, atbilstoši higiēnas prasībām) | D42: m2 | E42: 5.5
A43: 20 | C43: PVC grīdlīstu 55mm un segumu savienojošo metāla līstu ierīkošana, tai sk., savienojumi un montāžas stiprinājumi | D43: m | E43: 56
C44: Specializētie darbi – iekšējie tīkli, sistēmas
...

Sheet A12-  Sprīdīša 4-59
A1: Lokālā tāme Nr. 11
A3: Vispārējie būvdarbi - Dzīvokļa atjaunošana
A4: (būvdarbu veids vai konstruktīvā elementa nosaukums)
A5: Objekta nosaukums: Sprīdīša iela 4-59
A6: Būves nosaukums: Daudzdzīvokļu dzīvojamā māja
A7: Objekta adrese: Sprīdīša iela 4-59, Aizkraukle, Aizkraukles novads, LV-5101
A8: Pasūtījuma Nr:
A10: Tāme sastādīta 2025.gada tirgus cenās, pamatojoties uz uzmērījumiem dabā | K10: Tāmes izmaksas
M12: Tāme sastādīta :
F14: Vienības izmaksas | L14: Kopā uz visu apjomu
A15: Nr.p.k. | B15: Kods | C15: Darba nosaukums | D15: Mērvienība | E15: Daudzums | F15: Laika norma (c/h). | G15: Darba samaksas likme (euro/h) | H15: Darba alga (euro) | I15: Būvizstrādājumi (euro) | J15: Mehānismi (euro) | K15: Kopā (euro) | L15: Darbietilpība (c/h) | M15: Darba alga (euro) | N15: Būvizstrādājumi (euro) | O15: Mehānismi (euro) | P15: Summa (euro)
A16: 1 | B16: 2 | C16: 3 | D16: 4 | E16: 5 | F16: 6 | G16: 7 | H16: 8 | I16: 9 | J16: 10 | K16: 11 | L16: 12 | M16: 13 | N16: 14 | O16: 15 | P16: 16
C17: Dzīvoklis Nr.59 | D17: m2 | E17: 38,4
C18: Demontāžas darbi
A19: 1 | C19: Esošo ārdurvju/iekšdurvju 900x2050mm demontāža | D19: kpl | E19: 3
A20: 2 | C20: Esošo logu demontāža | D20: m2 | E20: 6.9
A21: 3 | C21: Esošo logu palodžu demontāža | D21: m | E21: 12
A22: 4 | C22: Esošās elektroinstalācijas - griestu lampas, sienu lampas, kontakti, slēdži, demontāža | D22: gb | E22: 17
A23: 5 | C23: Esošās Duškabīnes un WC poda demontāža | D23: kpl | E23: 1
A24: 6 | C24: Vecās santehnikas demontāža | D24: gb | E24: 3
A25: 7 | C25: Griestu vecās apdares noņemšana, tapetes, krāsa, balsinājums utt… | D25: m2 | E25: 36
A26: 8 | C26: Sienu vecās apdares noņemšana, tapetes, krāsa, flīzes, apmetums utt… | D26: m2 | E26: 102
A27: 9 | C27: Sienu vecā apšuvuma - reģ. konstr., paneļi ar karkasu utt… | D27: m2 | E27: 2
A28: 10 | C28: Grīdu vecās apdares noņemšana – linolejs, krāsa, preskartons, flīzes utt… | D28: m2 | E28: 38.4
C29: Aiļu aizpildījumu elementi
A30: 11 | C30: Jaunu Priedes koka (lakotu) durvju 700-900x2050mm ar stiklojumu vai bez montāža, tai sk., furnitūra, kleidas | D30: kpl | E30: 4
A31: 12 | C31: Jaunu metāla ārdurvju 700-900x2050mm montāža, tai sk., furnitūra, kleidas | D31: kpl | E31: 1
A32: 13 | C32: PVC logu uzstādīšana | D32: m2 | E32: 6.9
A33: 14 | C33: Palodžu uzstādīšana - PVC vai kokskaidas b=150 - 400mm | D33: m | E33: 12
A34: 15 | C34: Logu aiļu apdare | D34: m | E34: 22
C35: Montāžas un apdares darbi
C36: Griesti
A37: 16 | C37: Griestu plaknes (dz.betona paneļi vai reģipša apšuvums) sagatavošana apdarei, tai sk., gruntēšana pa kārtām, špaktelēšana, slīpēšana, pēc nepieciešamības sieta iestrāde šuvēs | D37: m2 | E37: 36
A38: 17 | C38: Griestu krāsošana ar ūdens emulsijas krāsu iekšdarbiem 2. kārtās, tai sk., nepieciešamie palīgdarbi | D38: m2 | E38: 36
A39: 18 | C39: Griestu un sienu plaknes apšūšana ar PVC apdares dēļiem 2700x100x10mm, tai sk., montāžas stiprinājumi, PVC montāžas līste karkasam, nobeigumu līstes | D39: m2 | E39: 18
C40: Sienas
A41: 19 | C41: Gipškartona starpsienu izveide b=125mm, tai sk., profili 100mm, gīpškartons no abām pusēm, izolācija un montāžas stiprinājumi | D41: m2 | E41: 2
A42: 20 | C42: Sienu un ailu sagatavošana apdarei, tai sk., gruntēšana pa kārtām, špaktelēšana, slīpēšana, pēc nepieciešamības sieta iestrāde šuvēs, plaisās | D42: m2 | E42: 102
A43: 21 | C43: Sienu un ailu krāsošana ar ūdens emulsijas krāsu iekšdarbiem 2. kārtās, tai sk., nepieciešamie palīgdarbi | D43: m2 | E43: 102
C44: Grīdas
...
