Workbook

Sheet Lapa1
C1: DZ.p.k. | D1: Aizkraukle | E1: Jaunjelgava | F1: Nereta | G1: Koknsese | H1: Pļaviņas | I1: Skrīveri
C2: 1 | D2: ='A1- Gaismas 2-17'!P62 -> 0 | E2: =#REF! -> #REF! | F2: =#REF! -> #REF! | G2: =#REF! -> #REF! | H2: =#REF! -> #REF! | I2: =#REF! -> #REF!
C3: 2 | D3: ='A2- Gaismas 8-13'!P58 -> 0 | E3: =#REF! -> #REF! | G3: =#REF! -> #REF! | H3: =#REF! -> #REF! | I3: =#REF! -> #REF!
C4: 3 | D4: ='A3- Jaunceltnes 53-58'!P57 -> 0 | E4: =#REF! -> #REF! | G4: =#REF! -> #REF! | H4: =#REF! -> #REF!
C5: 4 | D5: ='A4- Lāčplēša 12-43'!P155 -> 0 | E5: =#REF! -> #REF! | G5: =#REF! -> #REF! | H5: =#REF! -> #REF!
C6: 5 | D6: ='A5- Lāčplēša 15-12'!P58 -> 0 | E6: =#REF! -> #REF! | G6: =#REF! -> #REF!
C7: 6 | D7: ='A6- Lāčplēša 19-33'!P56 -> 0 | E7: =#REF! -> #REF! | G7: =#REF! -> #REF!
C8: 7 | D8: ='A7- Lāčplēša 29-18'!P58 -> 0 | G8: =#REF! -> #REF!
C9: 8 | D9: ='A8- Lāčplēša 37-19'!P65 -> 0 | G9: =#REF! -> #REF!
C10: 9 | D10: ='A9- Lāčplēša 37-24'!P59 -> 0 | G10: =#REF! -> #REF!
C11: 10 | D11: =#REF! -> #REF! | G11: =#REF! -> #REF!
C12: 11 | D12: ='A11- Spīdolas 16-18'!P57 -> 0 | G12: =#REF! -> #REF!
C13: 12 | D13: ='A12- Sprīdīša 4-59'!P64 -> 0 | G13: =#REF! -> #REF!
C14: 13 | G14: =#REF! -> #REF!
D15: =SUM(D2:D14) -> #REF! | E15: =SUM(E2:E14) -> #REF! | F15: =SUM(F2:F14) -> #REF! | G15: =SUM(G2:G14) -> #REF! | H15: =SUM(H2:H14) -> #REF! | I15: =SUM(I2:I14) -> #REF! | J15: =SUM(D15:I15) -> #REF!
A16: visizdevumi | B16: =C16/100 -> 0.0052425556 | C16: 0.52425556 | D16: =D15/100*C16 -> #REF! | E16: =E15/100*C16 -> #REF! | F16: =F15/100*C16 -> #REF! | G16: =G15/100*C16 -> #REF! | H16: =H15/100*C16 -> #REF! | I16: =I15/100*C16 -> #REF! | J16: =J15/100*C16 -> #REF!
A17: peļņa | B17: =C17/100 -> 0.01 | C17: 1 | D17: =D15/100*C17 -> #REF! | E17: =E15/100*C17 -> #REF! | F17: =F15/100*C17 -> #REF! | G17: =G15/100*C17 -> #REF! | H17: =H15/100*C17 -> #REF! | I17: =I15/100*C17 -> #REF! | J17: =J15/100*C17 -> #REF!
A18: kopā | D18: =D17+D16+D15 -> #REF! | E18: =E17+E16+E15 -> #REF! | F18: =F17+F16+F15 -> #REF! | G18: =G17+G16+G15 -> #REF! | H18: =H17+H16+H15 -> #REF! | I18: =I17+I16+I15 -> #REF! | J18: =J17+J16+J15 -> #REF!
C19: pvn | D19: =D18/100*21 -> #REF! | E19: =E18/100*21 -> #REF! | F19: =F18/100*21 -> #REF! | G19: =G18/100*21 -> #REF! | H19: =H18/100*21 -> #REF! | I19: =I18/100*21 -> #REF! | J19: =J18/100*21 -> #REF!
D20: =D19+D18 -> #REF! | E20: =E19+E18 -> #REF! | F20: =F19+F18 -> #REF! | G20: =G19+G18 -> #REF! | H20: =H19+H18 -> #REF! | I20: =I19+I18 -> #REF! | J20: =J19+J18 -> #REF! | M20: =kopsavilkums!#REF! -> #REF!
C21: no koptames | D21: =kopsavilkums!#REF! -> #REF! | E21: =kopsavilkums!#REF! -> #REF! | F21: =kopsavilkums!#REF! -> #REF! | G21: =kopsavilkums!#REF! -> #REF! | H21: =kopsavilkums!#REF! -> #REF! | I21: =kopsavilkums!#REF! -> #REF! | J21: =kopsavilkums!#REF! -> #REF! | M21: =M20-J20 -> #REF!
M23: =J21-M20 -> #REF!

Sheet kopsavilkums
C2: Piedāvājuma kopsavilkums projekta Nr. 4.3.1.3/1/25/A/052 "Sociālo mājokļu atjaunošana Aizkraukles novadā" ietvaros, Aizkrauklē
E4: Adrese | F4: Piedāvātā līgumcena
D5: 1 | E5: Gaismas iela 2-17 | F5: ='A1- Gaismas 2-17'!P66 -> 0
D6: 2 | E6: Gaismas iela 8-13 | F6: ='A2- Gaismas 8-13'!P62 -> 0
D7: 3 | E7: Jaunceltnes 53- 58 | F7: ='A3- Jaunceltnes 53-58'!P61 -> 0
D8: 4 | E8: Lāčplēša 12- 43 | F8: ='A4- Lāčplēša 12-43'!P159 -> 0
D9: 5 | E9: Lāčplēša 15- 12 | F9: ='A5- Lāčplēša 15-12'!P62 -> 0
D10: 6 | E10: Lāčplēša 19- 33 | F10: ='A6- Lāčplēša 19-33'!P60 -> 0
D11: 7 | E11: Lāčplēša 29 - 18 | F11: ='A7- Lāčplēša 29-18'!P62 -> 0
D12: 8 | E12: Lāčplēša 37- 19 | F12: ='A8- Lāčplēša 37-19'!P69 -> 0
D13: 9 | E13: Lāčplēša 37- 24 | F13: ='A9- Lāčplēša 37-24'!P63 -> 0
D14: 10 | E14: Spīdolas 16- 18 | F14: ='A11- Spīdolas 16-18'!P61 -> 0
D15: 11 | E15: Sprīdīša 4- 59 | F15: ='A12- Sprīdīša 4-59'!P68 -> 0
D16: Kopsumma (ar PVN)
D17: Attiecināmā summa (AR PVN)
D18: Starpība
D25: PVN
D26: Kopsumma bez PVN

Sheet A1- Gaismas 2-17
A1: Lokālā tāme Nr. 1
A3: Vispārējie būvdarbi - Dzīvokļa atjaunošana
A4: (būvdarbu veids vai konstruktīvā elementa nosaukums)
A5: Objekta nosaukums: Gaismas iela 2-17
A6: Būves nosaukums: Daudzdzīvokļu dzīvojamā māja
A7: Objekta adrese: Gaismas iela 2-17, Aizkraukle, Aizkraukles novads, LV-5101
A8: Pasūtījuma Nr:
A10: Tāme sastādīta 2025.gada tirgus cenās, pamatojoties uz uzmērījumiem dabā | K10: Tāmes izmaksas
M12: Tāme sastādīta :
F14: Vienības izmaksas | L14: Kopā uz visu apjomu
A15: Nr.p.k. | B15: Kods | C15: Darba nosaukums | D15: Mērvienība | E15: Daudzums | F15: Laika norma (c/h). | G15: Darba samaksas likme (euro/h) | H15: Darba alga (euro) | I15: Būvizstrādājumi (euro) | J15: Mehānismi (euro) | K15: Kopā (euro) | L15: Darbietilpība (c/h) | M15: Darba alga (euro) | N15: Būvizstrādājumi (euro) | O15: Mehānismi (euro) | P15: Summa (euro)
A16: 1 | B16: 2 | C16: 3 | D16: 4 | E16: 5 | F16: 6 | G16: 7 | H16: 8 | I16: 9 | J16: 10 | K16: 11 | L16: 12 | M16: 13 | N16: 14 | O16: 15 | P16: 16
C17: Dzīvoklis Nr.17 | D17: m2 | E17: 44,2
C18: Demontāžas darbi
A19: 1 | C19: Esošo ārdurvju/iekšdurvju 900x2050mm demontāža | D19: kpl | E19: 5
A20: 2 | C20: Esošo logu demontāža | D20: m2 | E20: 8
A21: 3 | C21: Esošo logu palodžu demontāža | D21: m | E21: 9
A22: 4 | C22: Esošās elektroinstalācijas - griestu lampas, sienu lampas, kontakti, slēdži, demontāža | D22: gb | E22: 17
A23: 5 | C23: Esošās vannas un WC poda demontāža | D23: kpl | E23: 1
A24: 6 | C24: Vecās santehnikas demontāža | D24: gb | E24: 2
A25: 7 | C25: Griestu vecās apdares noņemšana, tapetes, krāsa, balsinājums utt… | D25: m2 | E25: 42
A26: 8 | C26: Sienu vecās apdares noņemšana, tapetes, krāsa, flīzes, apmetums utt… | D26: m2 | E26: 102
A27: 9 | C27: Grīdu vecās apdares noņemšana – linolejs, krāsa, preskartons, flīzes utt… | D27: m2 | E27: 44.2
C28: Aiļu aizpildījumu elementi
A29: 10 | C29: Jaunu Priedes koka (lakotu) durvju 700-900x2050mm ar stiklojumu vai bez montāža, tai sk., furnitūra, kleidas | D29: kpl | E29: 3
A30: 11 | C30: Jaunu metāla ārdurvju 700-900x2050mm montāža, tai sk., furnitūra, kleidas | D30: kpl | E30: 1
A31: 12 | C31: PVC logu uzstādīšana | D31: m2 | E31: 8
A32: 13 | C32: Palodžu uzstādīšana - PVC vai kokskaidas b=150 - 400mm | D32: m | E32: 9
A33: 14 | C33: Logu aiļu apdare | D33: m | E33: 13
C34: Montāžas un apdares darbi
C35: Griesti
A36: 15 | C36: Griestu plaknes (dz.betona paneļi vai reģipša apšuvums) sagatavošana apdarei, tai sk., gruntēšana pa kārtām, špaktelēšana, slīpēšana, pēc nepieciešamības sieta iestrāde šuvēs | D36: m2 | E36: 42
A37: 16 | C37: Griestu krāsošana ar ūdens emulsijas krāsu iekšdarbiem 2. kārtās, tai sk., nepieciešamie palīgdarbi | D37: m2 | E37: 42
A38: 17 | C38: Griestu un sienu plaknes apšūšana ar PVC apdares dēļiem 2700x100x10mm, tai sk., montāžas stiprinājumi, PVC montāžas līste karkasam, nobeigumu līstes | D38: m2 | E38: 17
C39: Sienas
A40: 18 | C40: Sienu un ailu sagatavošana apdarei, tai sk., gruntēšana pa kārtām, špaktelēšana, slīpēšana, pēc nepieciešamības sieta iestrāde šuvēs, plaisās | D40: m2 | E40: 102
A41: 19 | C41: Sienu un ailu krāsošana ar ūdens emulsijas krāsu iekšdarbiem 2. kārtās, tai sk., nepieciešamie palīgdarbi | D41: m2 | E41: 102
C42: Grīdas
A43: 20 | C43: Esošās grīdas pamatnes (koka dēļi), sagatavošana lamināta ieklāšanai, tai sk., nelīdzenumu pieslīpēšana, pievilkšana, atputekļošana | D43: m2 | E43: 42
A44: 21 | C44: Lamināta grīdas seguma 32. klase 8mm ierīkošana, tai sk., apakšklājs 2-8mm biezumā | D44: m2 | E44: 37
A45: 22 | C45: Flīžu grīdas seguma ierīkošana, tai sk., grunts, šuvošana, hermetizācija | D45: m2 | E45: 3
A46: 23 | C46: Jāuna Dabīgā vai homogēnā (vienslāņa) linoleja grīdas seguma 34/43kl. ierīkošana, tai sk., līme un šuvju diegs, (toni saskaņot ar Pasūtītāju, atbilstoši higiēnas prasībām) | D46: m2 | E46: 6
A47: 24 | C47: PVC grīdlīstu 55mm un segumu savienojošo metāla līstu ierīkošana, tai sk., savienojumi un montāžas stiprinājumi | D47: m | E47: 49
C48: Specializētie darbi – iekšējie tīkli, sistēmas
C49: Elektroinstalācijas darbi
A50: 25 | C50: Rozetes vai slēdža montāža esošā vietā | D50: kpl | E50: 12
A51: 26 | C51: Jauna griestu virsapmetuma Lampas montāža, piem: LED gaismeklis BESA 24W, 2400lm, siltā/neitrālā gaisma, kantains/apaļš, vai ekvivalents | D51: kpl | E51: 5
C52: Santehniskie darbi
A53: 27 | C53: Vannas uzstādīšana + pieslēgšana | D53: kpl | E53: 1
A54: 28 | C54: WC poda ar skalojamo kasti montāža | D54: kpl | E54: 1
A55: 29 | C55: Jaucējkrāna montāža | D55: kpl | E55: 2
A56: 30 | C56: Esošās dabīgās ventilācijas restes 200x300mm nomaiņa | D56: gb | E56: 2
A57: 31 | C57: Esošā čuguna radiatora 600x900mm (9.gb ribas) un cauruļvadu 3.0m sagatavošna un pārkrāsošana | D57: kpl | E57: 3
C58: Dažādi darbi
A59: 32 | C59: Dažādi darbi - Objekta mobilizācija,demobilizācija, būvmateriālu izkraušana, pārvietošana, virsmu aizsardzība darbu gaitā, objekta sakopšana pēc būvdarbiem... | D59: obj | E59: 1
A60: 33 | C60: Darba gaitā radušos būvgružu savākšana, utilizācija | D60: t | E60: 1
C61: kopā:
D62: Tiešās izmaksas kopā t.sk.darba devēja sociālais nodoklis (23,59%)
H63: Virsizdevumi (%)
H64: t.sk. darba aizsardzība
H65: Peļņa (%)
H66: Pavisam kopā bez PVN
H67: PVN %
H68: Pavisam kopā ar PVN
A69: Sastādīja :
C70: (paraksts un tā atšifrējums, datums)
A71: Tāme sastādīta
A73: Pārbaudīja :
C74: (paraksts un tā atšifrējums, datums)
A75: Sertifikāta Nr:
B78: Piezīme: | C78: Izmērus ± precizēt dabā.

Sheet A2-  Gaismas 8-13
A1: Lokālā tāme Nr. 2
A3: Vispārējie būvdarbi - Dzīvokļa atjaunošana
A4: (būvdarbu veids vai konstruktīvā elementa nosaukums)
A5: Objekta nosaukums: Gaismas iela 8-13
A6: Būves nosaukums: Daudzdzīvokļu dzīvojamā māja
A7: Objekta adrese: Gaismas iela 8-13, Aizkraukle, Aizkraukles novads, LV-5101
A8: Pasūtījuma Nr:
A10: Tāme sastādīta 2025.gada tirgus cenās, pamatojoties uz uzmērījumiem dabā | K10: Tāmes izmaksas
M12: Tāme sastādīta :
F14: Vienības izmaksas | L14: Kopā uz visu apjomu
A15: Nr.p.k. | B15: Kods | C15: Darba nosaukums | D15: Mērvienība | E15: Daudzums | F15: Laika norma (c/h). | G15: Darba samaksas likme (euro/h) | H15: Darba alga (euro) | I15: Būvizstrādājumi (euro) | J15: Mehānismi (euro) | K15: Kopā (euro) | L15: Darbietilpība (c/h) | M15: Darba alga (euro) | N15: Būvizstrādājumi (euro) | O15: Mehānismi (euro) | P15: Summa (euro)
A16: 1 | B16: 2 | C16: 3 | D16: 4 | E16: 5 | F16: 6 | G16: 7 | H16: 8 | I16: 9 | J16: 10 | K16: 11 | L16: 12 | M16: 13 | N16: 14 | O16: 15 | P16: 16
C17: Dzīvoklis Nr.13 | D17: m2 | E17: 37,05
C18: Demontāžas darbi
A19: 1 | C19: Esošo ārdurvju/iekšdurvju 900x2050mm demontāža | D19: kpl | E19: 4
A20: 2 | C20: Esošās elektroinstalācijas - griestu lampas, sienu lampas, kontakti, slēdži, demontāža | D20: gb | E20: 20
A21: 3 | C21: Esošās vannas un WC poda demontāža | D21: kpl | E21: 1
A22: 4 | C22: Vecās santehnikas demontāža | D22: gb | E22: 2
A23: 5 | C23: Griestu vecās apdares noņemšana, tapetes, krāsa, balsinājums utt… | D23: m2 | E23: 35
A24: 6 | C24: Sienu vecās apdares noņemšana, tapetes, krāsa, flīzes, apmetums utt… | D24: m2 | E24: 108
A25: 7 | C25: Grīdu vecās apdares noņemšana – linolejs, krāsa, preskartons, flīzes utt… | D25: m2 | E25: 37
C26: Aiļu aizpildījumu elementi
A27: 8 | C27: Jaunu Priedes koka (lakotu) durvju 700-900x2050mm ar stiklojumu vai bez montāža, tai sk., furnitūra, kleidas | D27: kpl | E27: 4
C28: Montāžas un apdares darbi
C29: Griesti
A30: 9 | C30: Griestu plaknes (dz.betona paneļi vai reģipša apšuvums) sagatavošana apdarei, tai sk., gruntēšana pa kārtām, špaktelēšana, slīpēšana, pēc nepieciešamības sieta iestrāde šuvēs | D30: m2 | E30: 35
A31: 10 | C31: Griestu krāsošana ar ūdens emulsijas krāsu iekšdarbiem 2. kārtās, tai sk., nepieciešamie palīgdarbi | D31: m2 | E31: 35
A32: 11 | C32: Griestu un sienu plaknes apšūšana ar PVC apdares dēļiem 2700x100x10mm, tai sk., montāžas stiprinājumi, PVC montāžas līste karkasam, nobeigumu līstes | D32: m2 | E32: 17
C33: Sienas
A34: 12 | C34: Gipškartona starpsienu izveide b=125mm, tai sk., profili 100mm, gīpškartons no abām pusēm, izolācija un montāžas stiprinājumi | D34: m2 | E34: 4
A35: 13 | C35: Sienu un ailu sagatavošana apdarei, tai sk., gruntēšana pa kārtām, špaktelēšana, slīpēšana, pēc nepieciešamības sieta iestrāde šuvēs, plaisās | D35: m2 | E35: 104
A36: 14 | C36: Sienu un ailu krāsošana ar ūdens emulsijas krāsu iekšdarbiem 2. kārtās, tai sk., nepieciešamie palīgdarbi | D36: m2 | E36: 104
C37: Grīdas
A38: 15 | C38: Esošās grīdas pamatnes (koka dēļi), sagatavošana lamināta ieklāšanai, tai sk., nelīdzenumu pieslīpēšana, pievilkšana, atputekļošana | D38: m2 | E38: 35
A39: 16 | C39: Lamināta grīdas seguma 32. klase 8mm ierīkošana, tai sk., apakšklājs 2-8mm biezumā | D39: m2 | E39: 29
A40: 17 | C40: Flīžu grīdas seguma ierīkošana, tai sk., grunts, šuvošana, hermetizācija | D40: m2 | E40: 2.5
A41: 18 | C41: Jāuna Dabīgā vai homogēnā (vienslāņa) linoleja grīdas seguma 34/43kl. ierīkošana, tai sk., līme un šuvju diegs, (toni saskaņot ar Pasūtītāju, atbilstoši higiēnas prasībām) | D41: m2 | E41: 6
A42: 19 | C42: PVC grīdlīstu 55mm un segumu savienojošo metāla līstu ierīkošana, tai sk., savienojumi un montāžas stiprinājumi | D42: m | E42: 50
C43: Specializētie darbi – iekšējie tīkli, sistēmas
C44: Elektroinstalācijas darbi
A45: 20 | C45: Rozetes vai slēdža montāža esošā vietā | D45: kpl | E45: 15
A46: 21 | C46: Jauna griestu virsapmetuma Lampas montāža, piem: LED gaismeklis BESA 24W, 2400lm, siltā/neitrālā gaisma, kantains/apaļš, vai ekvivalents | D46: kpl | E46: 5
C47: Santehniskie darbi
A48: 22 | C48: Vannas uzstādīšana + pieslēgšana | D48: kpl | E48: 1
A49: 23 | C49: WC poda ar skalojamo kasti montāža | D49: kpl | E49: 1
A50: 24 | C50: Roku mazgātnes montāža (izlietne, kāja, sifons) | D50: kpl | E50: 1
A51: 25 | C51: Jaucējkrāna montāža | D51: kpl | E51: 3
A52: 26 | C52: Esošās dabīgās ventilācijas restes 200x300mm nomaiņa | D52: gb | E52: 2
A53: 27 | C53: Esošā čuguna radiatora 600x900mm (9.gb ribas) un cauruļvadu 3.0m sagatavošna un pārkrāsošana | D53: kpl | E53: 3
C54: Dažādi darbi
A55: 28 | C55: Dažādi darbi - Objekta mobilizācija,demobilizācija, būvmateriālu izkraušana, pārvietošana, virsmu aizsardzība darbu gaitā, objekta sakopšana pēc būvdarbiem... | D55: obj | E55: 1
A56: 29 | C56: Darba gaitā radušos būvgružu savākšana, utilizācija | D56: t | E56: 1
C57: kopā:
D58: Tiešās izmaksas kopā t.sk.darba devēja sociālais nodoklis (23,59%)
H59: Virsizdevumi (%)
H60: t.sk. darba aizsardzība
H61: Peļņa (%)
H62: Pavisam kopā bez PVN
H63: PVN %
H64: Pavisam kopā ar PVN
A65: Sastādīja :
C66: (paraksts un tā atšifrējums, datums)
A67: Tāme sastādīta
A69: Pārbaudīja :
C70: (paraksts un tā atšifrējums, datums)
A71: Sertifikāta Nr:
B74: Piezīme: | C74: Izmērus ± precizēt dabā.

Sheet A3- Jaunceltnes 53-58
A1: Lokālā tāme Nr. 3
A3: Vispārējie būvdarbi - Dzīvokļa atjaunošana
A4: (būvdarbu veids vai konstruktīvā elementa nosaukums)
A5: Objekta nosaukums: Jaunceltnes iela 53-58
A6: Būves nosaukums: Daudzdzīvokļu dzīvojamā māja
A7: Objekta adrese: Jaunceltnes iela 53-58, Aizkraukle, Aizkraukles novads, LV-5101
A8: Pasūtījuma Nr:
A10: Tāme sastādīta 2025.gada tirgus cenās, pamatojoties uz uzmērījumiem dabā | K10: Tāmes izmaksas
M12: Tāme sastādīta :
F14: Vienības izmaksas | L14: Kopā uz visu apjomu
A15: Nr.p.k. | B15: Kods | C15: Darba nosaukums | D15: Mērvienība | E15: Daudzums | F15: Laika norma (c/h). | G15: Darba samaksas likme (euro/h) | H15: Darba alga (euro) | I15: Būvizstrādājumi (euro) | J15: Mehānismi (euro) | K15: Kopā (euro) | L15: Darbietilpība (c/h) | M15: Darba alga (euro) | N15: Būvizstrādājumi (euro) | O15: Mehānismi (euro) | P15: Summa (euro)
A16: 1 | B16: 2 | C16: 3 | D16: 4 | E16: 5 | F16: 6 | G16: 7 | H16: 8 | I16: 9 | J16: 10 | K16: 11 | L16: 12 | M16: 13 | N16: 14 | O16: 15 | P16: 16
C17: Dzīvoklis Nr.58 | D17: m2 | E17: 32,45
C18: Demontāžas darbi
A19: 1 | C19: Esošo ārdurvju/iekšdurvju 900x2050mm demontāža | D19: kpl | E19: 5
A20: 2 | C20: Esošās elektroinstalācijas - griestu lampas, sienu lampas, kontakti, slēdži, demontāža | D20: gb | E20: 17
A21: 3 | C21: Esošās Duškabīnes un WC poda demontāža | D21: kpl | E21: 1
A22: 4 | C22: Vecās santehnikas demontāža | D22: gb | E22: 3
A23: 5 | C23: Griestu vecās apdares noņemšana, krāsa, balsinājums utt… | D23: m2 | E23: 29
A24: 6 | C24: Sienu vecās apdares noņemšana, tapetes, krāsa, flīzes, apmetums utt… | D24: m2 | E24: 110
A25: 7 | C25: Grīdu vecās apdares noņemšana – linolejs, krāsa, preskartons, flīzes utt… | D25: m2 | E25: 32.5
C26: Aiļu aizpildījumu elementi
A27: 8 | C27: Jaunu Priedes koka (lakotu) durvju 700-900x2050mm ar stiklojumu vai bez montāža, tai sk., furnitūra, kleidas | D27: kpl | E27: 4
A28: 9 | C28: Jaunu metāla ārdurvju 700-900x2050mm montāža, tai sk., furnitūra, kleidas | D28: kpl | E28: 1
C29: Montāžas un apdares darbi
C30: Griesti
A31: 10 | C31: Griestu plaknes (dz.betona paneļi vai reģipša apšuvums) sagatavošana apdarei, tai sk., gruntēšana pa kārtām, špaktelēšana, slīpēšana, pēc nepieciešamības sieta iestrāde šuvēs | D31: m2 | E31: 29
A32: 11 | C32: Griestu krāsošana ar ūdens emulsijas krāsu iekšdarbiem 2. kārtās, tai sk., nepieciešamie palīgdarbi | D32: m2 | E32: 29
A33: 12 | C33: Griestu un sienu plaknes apšūšana ar PVC apdares dēļiem 2700x100x10mm, tai sk., montāžas stiprinājumi, PVC montāžas līste karkasam, nobeigumu līstes | D33: m2 | E33: 31
C34: Sienas
A35: 13 | C35: Sienu un ailu sagatavošana apdarei, tai sk., gruntēšana pa kārtām, špaktelēšana, slīpēšana, pēc nepieciešamības sieta iestrāde šuvēs, plaisās | D35: m2 | E35: 88
A36: 14 | C36: Sienu un ailu krāsošana ar ūdens emulsijas krāsu iekšdarbiem 2. kārtās, tai sk., nepieciešamie palīgdarbi | D36: m2 | E36: 88
C37: Grīdas
A38: 15 | C38: Esošās grīdas pamatnes (koka dēļi), sagatavošana lamināta ieklāšanai, tai sk., nelīdzenumu pieslīpēšana, pievilkšana, atputekļošana | D38: m2 | E38: 29
A39: 16 | C39: Lamināta grīdas seguma 32. klase 8mm ierīkošana, tai sk., apakšklājs 2-8mm biezumā | D39: m2 | E39: 21
A40: 17 | C40: Flīžu grīdas seguma ierīkošana, tai sk., grunts, šuvošana, hermetizācija | D40: m2 | E40: 4
A41: 18 | C41: Jāuna Dabīgā vai homogēnā (vienslāņa) linoleja grīdas seguma 34/43kl. ierīkošana, tai sk., līme un šuvju diegs, (toni saskaņot ar Pasūtītāju, atbilstoši higiēnas prasībām) | D41: m2 | E41: 8
A42: 19 | C42: PVC grīdlīstu 55mm un segumu savienojošo metāla līstu ierīkošana, tai sk., savienojumi un montāžas stiprinājumi | D42: m | E42: 40
C43: Specializētie darbi – iekšējie tīkli, sistēmas
C44: Elektroinstalācijas darbi
A45: 20 | C45: Rozetes vai slēdža montāža esošā vietā | D45: kpl | E45: 12
A46: 21 | C46: Jauna griestu virsapmetuma Lampas montāža, piem: LED gaismeklis BESA 24W, 2400lm, siltā/neitrālā gaisma, kantains/apaļš, vai ekvivalents | D46: kpl | E46: 5
C47: Santehniskie darbi
A48: 22 | C48: Vannas uzstādīšana + pieslēgšana | D48: kpl | E48: 1
A49: 23 | C49: WC poda ar skalojamo kasti montāža | D49: kpl | E49: 1
A50: 24 | C50: Roku mazgātnes montāža (izlietne, kāja, sifons) | D50: kpl | E50: 1
A51: 25 | C51: Apkures radiātoru nomaiņa montāža/demontāža | D51: kpl | E51: 2
A52: 26 | C52: Esošās dabīgās ventilācijas restes 200x300mm nomaiņa | D52: gb | E52: 3
C53: Dažādi darbi
A54: 27 | C54: Dažādi darbi - Objekta mobilizācija,demobilizācija, būvmateriālu izkraušana, pārvietošana, virsmu aizsardzība darbu gaitā, objekta sakopšana pēc būvdarbiem... | D54: obj | E54: 1
A55: 28 | C55: Darba gaitā radušos būvgružu savākšana, utilizācija | D55: t | E55: 1
C56: kopā:
D57: Tiešās izmaksas kopā t.sk.darba devēja sociālais nodoklis (23,59%)
H58: Virsizdevumi (%)
H59: t.sk. darba aizsardzība
H60: Peļņa (%)
H61: Pavisam kopā bez PVN
H62: PVN %
H63: Pavisam kopā ar PVN
A64: Sastādīja :
C65: (paraksts un tā atšifrējums, datums)
A66: Tāme sastādīta
A68: Pārbaudīja :
C69: (paraksts un tā atšifrējums, datums)
A70: Sertifikāta Nr:
B73: Piezīme: | C73: Izmērus ± precizēt dabā.

Sheet A4- Lāčplēša 12-43
A1: Lokālā tāme Nr. 4
A3: Vispārējie būvdarbi - Dzīvokļa atjaunošana
A4: (būvdarbu veids vai konstruktīvā elementa nosaukums)
A5: Objekta nosaukums: Lāčplēša iela 12-43
A6: Būves nosaukums: Daudzdzīvokļu dzīvojamā māja
A7: Objekta adrese: Lāčplēša iela 12-43, Aizkraukle, Aizkraukles novads, LV-5101
A8: Pasūtījuma Nr:
A10: Tāme sastādīta 2025.gada tirgus cenās, pamatojoties uz uzmērījumiem dabā | K10: Tāmes izmaksas
M12: Tāme sastādīta :
F14: Vienības izmaksas | L14: Kopā uz visu apjomu
A15: Nr.p.k. | B15: Kods | C15: Darba nosaukums | D15: Mērvienība | E15: Daudzums | F15: Laika norma (c/h). | G15: Darba samaksas likme (euro/h) | H15: Darba alga (euro) | I15: Būvizstrādājumi (euro) | J15: Mehānismi (euro) | K15: Kopā (euro) | L15: Darbietilpība (c/h) | M15: Darba alga (euro) | N15: Būvizstrādājumi (euro) | O15: Mehānismi (euro) | P15: Summa (euro)
A16: 1 | B16: 2 | C16: 3 | D16: 4 | E16: 5 | F16: 6 | G16: 7 | H16: 8 | I16: 9 | J16: 10 | K16: 11 | L16: 12 | M16: 13 | N16: 14 | O16: 15 | P16: 16
C17: Dzīvoklis Nr.43 | D17: m2 | E17: =E18+E37+E60+E77+E95+E114+E133 -> 55.6
C18: Koridors | D18: m2 | E18: 5.33
A19: 1 | C19: Finiera, koka starpsienas sakapīša starp koridori un virtuvi demontāža | D19: m2 | E19: 3.5
A20: 2 | C20: Esošās elektroinstalācijas - 3-polu slēdži, demontāža | D20: gb | E20: 2
A21: 3 | C21: Griestu balsinājuma notīrīšana | D21: m2 | E21: 5.33
A22: 4 | C22: Sienu apdares - tapetes, vecais krāsojums, demontāža | D22: m2 | E22: 20.4
A23: 5 | C23: Grīdas seguma - linolejs, demontāža | D23: m2 | E23: 5.33
A24: 6 | C24: Ārdurvju ailu ierīkošana, līmējot reģipša loksnes b=250mm, tai sk., montāžas stiprinājumi, pieslēguma līstes durvīm | D24: m | E24: 5
A25: 7 | C25: Griestu plaknes (dz.betona paneļi) sagatavošana apdarei, tai sk., gruntēšana pa kārtām, špaktelēšana, slīpēšana, pēc nepieciešamības sieta iestrāde šuvēs | D25: m2 | E25: 5.33
A26: 8 | C26: Ķieģeļu nišas apmešana, tai sk., sagatavošana, gruntēšana, apmetums līdz 10mm, iestrādājot stikla šķiedras sietu | D26: m2 | E26: 6.15
A27: 9 | C27: Sienu sagatavošana apdarei, tai sk., gruntēšana pa kārtām, špaktelēšana, slīpēšana, pēc nepieciešamības sieta iestrāde šuvēs, plaisās | D27: m2 | E27: 21.6
A28: 10 | C28: Esošās grīdas pamatnes (koka dēļi), sagatavošana lamināta ieklāšanai, tai sk., nelīdzenumu pieslīpēšana, pievilkšana, atputekļošana | D28: m2 | E28: 5.33
A29: 11 | C29: Griestu krāsošana ar ūdens emulsijas krāsu iekšdarbiem 2. kārtās, tai sk., nepieciešamie palīgdarbi | D29: m2 | E29: 5.33
A30: 12 | C30: Sienu krāsošana ar ūdens emulsijas krāsu iekšdarbiem 2. kārtās, tai sk., nepieciešamie palīgdarbi | D30: m2 | E30: 21.6
... A35: 17 | C35: Jauna griestu virsapmetuma Lampas montāža, piem: LED gaismeklis BESA 24W, 2400lm, siltā/neitrālā gaisma, kantains/apaļš, vai ekvivalents | D35: kpl | E35: 1
C36: kopā:
C37: Virtuve | D37: m2 | E37: 6.95
A38: 18 | C38: Esošo koka karkasa durvju 700x2050mm ar stiklojumu demontāža | D38: kpl | E38: 1
A39: 19 | C39: Esošās elektroinstalācijas - griestu lampa, sienu lampas, kontakti un slēdži demontāža | D39: kpl | E39: 1
A40: 20 | C40: Esošās tērauda izlietnes ar koka karkasa skapīti un finiera virsmu demontāža | D40: kpl | E40: 1
A41: 21 | C41: Esošās reģipša griestu konstrukcijas demontāža | D41: m2 | E41: 6.95
A42: 22 | C42: Esošā sienu apšuvuma - dekoratīvie elementi un reģipša sienu konstr., ar apšuvumu demontāža | D42: m2 | E42: 10
A43: 23 | C43: Griestu balsinājuma notīrīšana | D43: m2 | E43: 6.95
A44: 24 | C44: Sienu apdares - flīzes, vecais krāsojums, demontāža, tai sk., logu ailes | D44: m2 | E44: 16
A45: 25 | C45: Grīdas seguma - linolejs, demontāža | D45: m2 | E45: 6.95
A46: 26 | C46: Ģipškartona konstrukcijas starpsienas b=125mm, starp virtuvi un koridoru ierīkošana, tai sk., profili 100mm, gīpškartons, izolācija un montāžas stiprinājumi | D46: m2 | E46: 1
A47: 27 | C47: Jaunu Priedes koka (lakotu) durvju 700x2050mm ar stiklojumu montāža, tai sk., furnitūra, kleidas no vienas puses | D47: kpl | E47: 1
A48: 28 | C48: Sienu un ailu sagatavošana apdarei, tai sk., gruntēšana pa kārtām, špaktelēšana, slīpēšana, pēc nepieciešamības sieta iestrāde šuvēs, plaisās | D48: m2 | E48: 26
A49: 29 | C49: Esošās grīdas pamatnes (koka dēļi), sagatavošana lamināta ieklāšanai, tai sk., nelīdzenumu pieslīpēšana, pievilkšana, atputekļošana | D49: m2 | E49: 6.95
... A58: 38 | C58: Jauna griestu virsapmetuma Lampas montāža, piem: LED gaismeklis BESA 24W, 2400lm, siltā/neitrālā gaisma, kantains/apaļš, vai ekvivalents | D58: kpl | E58: 1
C59: kopā:
C60: WC - tualete | D60: m2 | E60: 1.05
A61: 39 | C61: Esošo koka karkasa durvju 700x2050mm demontāža | D61: kpl | E61: 1
A62: 40 | C62: Esošā tualetes poda demontāža | D62: kpl | E62: 1
A63: 41 | C63: Esošā skaidu plātņu skapīša 730x2500mm demontāža | D63: kpl | E63: 1
A64: 42 | C64: Esošā sienu apšuvuma - apdares dēlīši ar karkasu demontāža | D64: m2 | E64: 4
A65: 43 | C65: Grīdas seguma - flīzes un izlīdzinošās kārtas b=80mm demontāža | D65: m2 | E65: 1.05
A66: 44 | C66: Tualetes poda kanalizācijas caurules d=100mm nomaiņa līdz stāvvadam, tai sk., veidgabali, montāžas sriprinājumi | D66: m | E66: 1
A67: 45 | C67: Grīdas pamatnes sagatavošana, vieglbetona izlīdzonošās kārtas b=80mm ierīkošana, tai sk.,stiegrojums | D67: m2 | E67: 1.05
A68: 46 | C68: Jaunu Priedes koka (lakotu) durvju 700x2050mm montāža, tai sk., furnitūra, kleidas no vienas puses | D68: kpl | E68: 1
A69: 47 | C69: Griestu plaknes apšūšana ar PVC apdares dēļiem 2700x100x10mm, tai sk., montāžas stiprinājumi, PVC montāžas līste karkasam, nobeigumu līstes | D69: m2 | E69: 1.05
A70: 48 | C70: Sienu un ailu plakņu apšūšana ar PVC apdares dēļiem 2700x100x10mm, tai sk., montāžas stiprinājumi, PVC montāžas līste karkasam, nobeigumu līstes | D70: m2 | E70: 7.9
A71: 49 | C71: Flīžu grīdas seguma ierīkošana, tai sk., pamatnes gruntēšana, šuvošana, hermetizēšana | D71: m2 | E71: 1.05
A72: 50 | C72: PVC grīdlīstu 55mm un segumu savienojošo metāla līstu ierīkošana, tai sk., savienojumi un montāžas stiprinājumi | D72: m | E72: 4
... A75: 53 | C75: Jauna griestu virsapmetuma Lampas montāža, piem: LED gaismeklis BESA 24W, 2400lm, siltā/neitrālā gaisma, kantains/apaļš, vai ekvivalents | D75: kpl | E75: 1
C76: kopā:
C77: Vannasistaba | D77: m2 | E77: 2.27
A78: 54 | C78: Esošo koka karkasa durvju 700x2050mm demontāža | D78: kpl | E78: 1
A79: 55 | C79: Esošās terauda vannas 1600x750x600mm un jaucējkrāna demontāža | D79: kpl | E79: 1
A80: 56 | C80: Esošās dubultās kontaktligzdas, demontāža | D80: gb | E80: 1
A81: 57 | C81: Daļējas ienu apdares - flīzes un līme, demontāža | D81: m2 | E81: 6
A82: 58 | C82: Jaunu Priedes koka (lakotu) durvju 700x2050mm montāža, tai sk., furnitūra, kleidas no vienas puses | D82: kpl | E82: 1
A83: 59 | C83: Griestu plaknes apšūšana ar PVC apdares dēļiem 2700x100x10mm, tai sk., montāžas stiprinājumi, PVC montāžas līste karkasam, nobeigumu līstes | D83: m2 | E83: 2.27
A84: 60 | C84: Sienu un ailu plakņu apšūšana ar PVC apdares dēļiem 2700x100x10mm, tai sk., montāžas stiprinājumi, PVC montāžas līste karkasam, nobeigumu līstes | D84: m2 | E84: 13.5
A85: 61 | C85: Flīžu grīdas seguma ierīkošana, tai sk., pamatnes gruntēšana, šuvošana, hermetizēšana | D85: m2 | E85: 2.27
A86: 62 | C86: PVC grīdlīstu 55mm un segumu savienojošo metāla līstu ierīkošana, tai sk., savienojumi un montāžas stiprinājumi | D86: m | E86: 6
A87: 63 | C87: Esošās terauda vannas 1600x750x600mm emaljas krāsojuma atjaunošana, tai sk., ārpuse, visi nepieciešamie sagatavošanas darbi un palīgmateriāli | D87: kpl | E87: 1
A88: 64 | C88: Esošās terauda vannas 1600x750x600mm uzstādīšana un pieslēgšana kanalizācijai, tai sk., visi nepieciešamie sagatavošanas darbi un palīgmateriāli | D88: kpl | E88: 1
A89: 65 | C89: Jauna vannas jaucējkrāna uzstādīšana un pieslēgšana ūdensvadiem, tai sk., nepieciešamie veidgabali | D89: kpl | E89: 1
... A93: 69 | C93: Jauna griestu virsapmetuma Lampas montāža, piem: LED gaismeklis BESA 24W, 2400lm, siltā/neitrālā gaisma, kantains/apaļš, vai ekvivalents | D93: kpl | E93: 1
C94: kopā:
C95: Istaba Nr.5 | D95: m2 | E95: 13.05
A96: 70 | C96: Esošo koka karkasa durvju 850x2050mm ar stiklojumu demontāža | D96: kpl | E96: 1
A97: 71 | C97: Esošās elektroinstalācijas - griestu lampa, kontakti un slēdži demontāža | D97: kpl | E97: 3
A98: 72 | C98: Griestu balsinājuma notīrīšana | D98: m2 | E98: 13.05
A99: 73 | C99: Sienu apdares - tapetes, vecais krāsojums, demontāža | D99: m2 | E99: 32.65
A100: 74 | C100: Grīdas seguma - grīdas pape, koka grīdlīstes -15m demontāža | D100: m2 | E100: 13.05
A101: 75 | C101: Loga ailu ierīkošana, līmējot reģipša loksnes b=350mm, tai sk., montāžas stiprinājumi, pieslēguma līstes logam | D101: m | E101: 5.2
A102: 76 | C102: Jaunu Priedes koka (lakotu) durvju 850x2050mm ar stiklojumu montāža, tai sk., furnitūra, kleidas no vienas puses | D102: kpl | E102: 1
A103: 77 | C103: Griestu plaknes (dz.betona paneļi) sagatavošana apdarei, tai sk., gruntēšana pa kārtām, špaktelēšana, slīpēšana, pēc nepieciešamības sieta iestrāde šuvēs | D103: m2 | E103: 13.05
A104: 78 | C104: Sienu un ailu sagatavošana apdarei, tai sk., gruntēšana pa kārtām, špaktelēšana, slīpēšana, pēc nepieciešamības sieta iestrāde šuvēs, plaisās | D104: m2 | E104: 34.5
A105: 79 | C105: Esošās grīdas pamatnes (koka dēļi), sagatavošana lamināta ieklāšanai, tai sk., nelīdzenumu pieslīpēšana, dēļu pievilkšana, atputekļošana | D105: m2 | E105: 13.05
A106: 80 | C106: Griestu krāsošana ar ūdens emulsijas krāsu iekšdarbiem 2. kārtās, tai sk., nepieciešamie palīgdarbi | D106: m2 | E106: 13.05
A107: 81 | C107: Sienu krāsošana ar ūdens emulsijas krāsu iekšdarbiem 2. kārtās, tai sk., nepieciešamie palīgdarbi | D107: m2 | E107: 34.5
... A112: 86 | C112: Jauna griestu virsapmetuma Lampas montāža, piem: LED gaismeklis BESA 24W, 2400lm, siltā/neitrālā gaisma, kantains/apaļš, vai ekvivalents | D112: kpl | E112: 1
C113: kopā:
C114: Istaba Nr.6 | D114: m2 | E114: 15.79
A115: 87 | C115: Esošo koka karkasa durvju 850x2050mm ar stiklojumu demontāža | D115: kpl | E115: 1
A116: 88 | C116: Esošās elektroinstalācijas - griestu lampa, kontakti un slēdži demontāža | D116: kpl | E116: 3
A117: 89 | C117: Griestu balsinājuma notīrīšana | D117: m2 | E117: 15.79
A118: 90 | C118: Sienu un ailu apdares - tapetes, vecais krāsojums, demontāža | D118: m2 | E118: 35
A119: 91 | C119: Grīdas seguma - grīdas pape, koka grīdlīstes -15m demontāža | D119: m2 | E119: 15.79
A120: 92 | C120: Loga ailu ierīkošana, līmējot reģipša loksnes b=350mm, tai sk., montāžas stiprinājumi, pieslēguma līstes logam | D120: m | E120: 5.35
A121: 93 | C121: Jaunu Priedes koka (lakotu) durvju 850x2050mm ar stiklojumu montāža, tai sk., furnitūra, kleidas no vienas puses | D121: kpl | E121: 1
A122: 94 | C122: Griestu plaknes (dz.betona paneļi) sagatavošana apdarei, tai sk., gruntēšana pa kārtām, špaktelēšana, slīpēšana, pēc nepieciešamības sieta iestrāde šuvēs | D122: m2 | E122: 15.79
A123: 95 | C123: Sienu un ailu sagatavošana apdarei, tai sk., gruntēšana pa kārtām, špaktelēšana, slīpēšana, pēc nepieciešamības sieta iestrāde šuvēs, plaisās | D123: m2 | E123: 35
A124: 96 | C124: Esošās grīdas pamatnes (koka dēļi), sagatavošana lamināta ieklāšanai, tai sk., nelīdzenumu pieslīpēšana, dēļu pievilkšana, atputekļošana | D124: m2 | E124: 15.79
A125: 97 | C125: Griestu krāsošana ar ūdens emulsijas krāsu iekšdarbiem 2. kārtās, tai sk., nepieciešamie palīgdarbi | D125: m2 | E125: 15.79
...

Sheet A5-  Lāčplēša 15-12
A1: Lokālā tāme Nr. 5
A3: Vispārējie būvdarbi - Dzīvokļa atjaunošana
A4: (būvdarbu veids vai konstruktīvā elementa nosaukums)
A5: Objekta nosaukums: Lāčplēša iela 15-12
A6: Būves nosaukums: Daudzdzīvokļu dzīvojamā māja
A7: Objekta adrese: Lāčplēša iela 15-12, Aizkraukle, Aizkraukles novads, LV-5101
A8: Pasūtījuma Nr:
A10: Tāme sastādīta 2025.gada tirgus cenās, pamatojoties uz uzmērījumiem dabā | K10: Tāmes izmaksas
M12: Tāme sastādīta :
F14: Vienības izmaksas | L14: Kopā uz visu apjomu
A15: Nr.p.k. | B15: Kods | C15: Darba nosaukums | D15: Mērvienība | E15: Daudzums | F15: Laika norma (c/h). | G15: Darba samaksas likme (euro/h) | H15: Darba alga (euro) | I15: Būvizstrādājumi (euro) | J15: Mehānismi (euro) | K15: Kopā (euro) | L15: Darbietilpība (c/h) | M15: Darba alga (euro) | N15: Būvizstrādājumi (euro) | O15: Mehānismi (euro) | P15: Summa (euro)
A16: 1 | B16: 2 | C16: 3 | D16: 4 | E16: 5 | F16: 6 | G16: 7 | H16: 8 | I16: 9 | J16: 10 | K16: 11 | L16: 12 | M16: 13 | N16: 14 | O16: 15 | P16: 16
C17: Dzīvoklis Nr.12 | D17: m2 | E17: 31,1
C18: Demontāžas darbi
A19: 1 | C19: Esošo ārdurvju/iekšdurvju 900x2050mm demontāža | D19: kpl | E19: 3
A20: 2 | C20: Esošās elektroinstalācijas - griestu lampas, sienu lampas, kontakti, slēdži, demontāža | D20: gb | E20: 16
A21: 3 | C21: Esošās vannas un WC poda demontāža | D21: kpl | E21: 1
A22: 4 | C22: Vecās santehnikas demontāža | D22: gb | E22: 2
A23: 5 | C23: Griestu vecās apdares noņemšana, tapetes, krāsa, balsinājums utt… | D23: m2 | E23: 28.7
A24: 6 | C24: Sienu vecās apdares noņemšana, tapetes, krāsa, flīzes, apmetums utt… | D24: m2 | E24: 98
A25: 7 | C25: Grīdu vecās apdares noņemšana – linolejs, krāsa, preskartons, flīzes utt… | D25: m2 | E25: 31.1
C26: Aiļu aizpildījumu elementi
A27: 8 | C27: Jaunu Priedes koka (lakotu) durvju 700-900x2050mm ar stiklojumu vai bez montāža, tai sk., furnitūra, kleidas no vienas puses | D27: kpl | E27: 2
A28: 9 | C28: Jaunu metāla ārdurvju durvju 900x2050mm montāža, tai sk., furnitūra, kleidas no vienas puses | D28: kpl | E28: 1
C29: Montāžas un apdares darbi
C30: Griesti
A31: 10 | C31: Griestu plaknes (dz.betona paneļi) sagatavošana apdarei, tai sk., gruntēšana pa kārtām, špaktelēšana, slīpēšana, pēc nepieciešamības sieta iestrāde šuvēs | D31: m2 | E31: 28.7
A32: 11 | C32: Griestu krāsošana ar ūdens emulsijas krāsu iekšdarbiem 2. kārtās, tai sk., nepieciešamie palīgdarbi | D32: m2 | E32: 28.7
A33: 12 | C33: Griestu un sienu plaknes apšūšana ar PVC apdares dēļiem 2700x100x10mm, tai sk., montāžas stiprinājumi, PVC montāžas līste karkasam, nobeigumu līstes | D33: m2 | E33: 17
C34: Sienas
A35: 13 | C35: Sienu un ailu sagatavošana apdarei, tai sk., gruntēšana pa kārtām, špaktelēšana, slīpēšana, pēc nepieciešamības sieta iestrāde šuvēs, plaisās | D35: m2 | E35: 98
A36: 14 | C36: Sienu un ailu krāsošana ar ūdens emulsijas krāsu iekšdarbiem 2. kārtās, tai sk., nepieciešamie palīgdarbi | D36: m2 | E36: 98
C37: Grīdas
A38: 15 | C38: Grīdas pamatnes sagatavošana, vieglbetona izlīdzonošās kārtas b=80mm ierīkošana, tai sk.,stiegrojums | D38: m2 | E38: 2.4
A39: 16 | C39: Lamināta grīdas seguma 32. klase 8mm ierīkošana, tai sk., apakšklājs 2-8mm biezumā | D39: m2 | E39: 22.9
A40: 17 | C40: Flīžu grīdas seguma ierīkošana, tai sk., grunts, šuvošana, hermetizācija | D40: m2 | E40: 2.4
A41: 18 | C41: Jāuna Dabīgā vai homogēnā (vienslāņa) linoleja grīdas seguma 34/43kl. ierīkošana, tai sk., līme un šuvju diegs, (toni saskaņot ar Pasūtītāju, atbilstoši higiēnas prasībām) | D41: m2 | E41: 5.8
A42: 19 | C42: PVC grīdlīstu 55mm un segumu savienojošo metāla līstu ierīkošana, tai sk., savienojumi un montāžas stiprinājumi | D42: m | E42: 42
C43: Specializētie darbi – iekšējie tīkli, sistēmas
C44: Elektroinstalācijas darbi
A45: 20 | C45: Rozetes vai slēdža montāža esošā vietā | D45: kpl | E45: 12
A46: 21 | C46: Jauna griestu virsapmetuma Lampas montāža, piem: LED gaismeklis BESA 24W, 2400lm, siltā/neitrālā gaisma, kantains/apaļš, vai ekvivalents | D46: kpl | E46: 4
C47: Santehniskie darbi
A48: 22 | C48: Dvieļu žāvētāja maiņa | D48: kpl | E48: 1
A49: 23 | C49: Vannas uzstādīšana + pieslēgšana | D49: kpl | E49: 1
A50: 24 | C50: WC poda ar skalojamo kasti montāža | D50: kpl | E50: 1
A51: 25 | C51: Jaucējkrāna montāža | D51: kpl | E51: 2
A52: 26 | C52: Esošās dabīgās ventilācijas restes 200x300mm nomaiņa | D52: gb | E52: 2
A53: 27 | C53: Esošā čuguna radiatora 600x900mm (9.gb ribas) un cauruļvadu 3.0m sagatavošna un pārkrāsošana | D53: kpl | E53: 2
C54: Dažādi darbi
A55: 28 | C55: Dažādi darbi - Objekta mobilizācija,demobilizācija, būvmateriālu izkraušana, pārvietošana, virsmu aizsardzība darbu gaitā, objekta sakopšana pēc būvdarbiem... | D55: obj | E55: 1
A56: 29 | C56: Darba gaitā radušos būvgružu savākšana, utilizācija | D56: t | E56: 1.1
C57: kopā:
D58: Tiešās izmaksas kopā t.sk.darba devēja sociālais nodoklis (23,59%)
H59: Virsizdevumi (%)
H60: t.sk. darba aizsardzība
H61: Peļņa (%)
H62: Pavisam kopā bez PVN
H63: PVN %
H64: Pavisam kopā ar PVN
A65: Sastādīja :
C66: (paraksts un tā atšifrējums, datums)
A67: Tāme sastādīta
A69: Pārbaudīja :
C70: (paraksts un tā atšifrējums, datums)
A71: Sertifikāta Nr:
B74: Piezīme: | C74: Izmērus ± precizēt dabā.

Sheet A6- Lāčplēša 19-33
A1: Lokālā tāme Nr. 6
A3: Vispārējie būvdarbi - Dzīvokļa atjaunošana
A4: (būvdarbu veids vai konstruktīvā elementa nosaukums)
A5: Objekta nosaukums: Lāčplēša iela 19-33
A6: Būves nosaukums: Daudzdzīvokļu dzīvojamā māja
A7: Objekta adrese: Lāčplēša iela 19-33, Aizkraukle, Aizkraukles novads, LV-5101
A8: Pasūtījuma Nr:
A10: Tāme sastādīta 2025.gada tirgus cenās, pamatojoties uz uzmērījumiem dabā | K10: Tāmes izmaksas
M12: Tāme sastādīta :
F14: Vienības izmaksas | L14: Kopā uz visu apjomu
A15: Nr.p.k. | B15: Kods | C15: Darba nosaukums | D15: Mērvienība | E15: Daudzums | F15: Laika norma (c/h). | G15: Darba samaksas likme (euro/h) | H15: Darba alga (euro) | I15: Būvizstrādājumi (euro) | J15: Mehānismi (euro) | K15: Kopā (euro) | L15: Darbietilpība (c/h) | M15: Darba alga (euro) | N15: Būvizstrādājumi (euro) | O15: Mehānismi (euro) | P15: Summa (euro)
A16: 1 | B16: 2 | C16: 3 | D16: 4 | E16: 5 | F16: 6 | G16: 7 | H16: 8 | I16: 9 | J16: 10 | K16: 11 | L16: 12 | M16: 13 | N16: 14 | O16: 15 | P16: 16
C17: Dzīvoklis Nr.33 | D17: m2 | E17: 40,35
C18: Demontāžas darbi
A19: 1 | C19: Esošo ārdurvju/iekšdurvju 900x2050mm demontāža | D19: kpl | E19: 1
A20: 2 | C20: Esošās elektroinstalācijas - griestu lampas, sienu lampas, kontakti, slēdži, demontāža | D20: gb | E20: 18
A21: 3 | C21: Esošās Duškabīnes un WC poda demontāža | D21: kpl | E21: 1
A22: 4 | C22: Vecās santehnikas demontāža | D22: gb | E22: 2
A23: 5 | C23: Griestu vecās apdares noņemšana, tapetes, krāsa, balsinājums utt… | D23: m2 | E23: 38
A24: 6 | C24: Sienu vecās apdares noņemšana, tapetes, krāsa, flīzes, apmetums utt… | D24: m2 | E24: 113
A25: 7 | C25: Grīdu vecās apdares noņemšana – linolejs, krāsa, preskartons, flīzes utt… | D25: m2 | E25: 40
C26: Aiļu aizpildījumu elementi
A27: 8 | C27: Jaunu Priedes koka (lakotu) durvju 700-900x2050mm ar stiklojumu vai bez montāža, tai sk., furnitūra, kleidas | D27: kpl | E27: 3
C28: Montāžas un apdares darbi
C29: Griesti
A30: 9 | C30: Griestu plaknes (dz.betona paneļi vai reģipša apšuvums) sagatavošana apdarei, tai sk., gruntēšana pa kārtām, špaktelēšana, slīpēšana, pēc nepieciešamības sieta iestrāde šuvēs | D30: m2 | E30: 39
A31: 10 | C31: Griestu krāsošana ar ūdens emulsijas krāsu iekšdarbiem 2. kārtās, tai sk., nepieciešamie palīgdarbi | D31: m2 | E31: 39
A32: 11 | C32: Griestu un sienu plaknes apšūšana ar PVC apdares dēļiem 2700x100x10mm, tai sk., montāžas stiprinājumi, PVC montāžas līste karkasam, nobeigumu līstes | D32: m2 | E32: 18
C33: Sienas
A34: 12 | C34: Sienu un ailu sagatavošana apdarei, tai sk., gruntēšana pa kārtām, špaktelēšana, slīpēšana, pēc nepieciešamības sieta iestrāde šuvēs, plaisās | D34: m2 | E34: 113
A35: 13 | C35: Sienu un ailu krāsošana ar ūdens emulsijas krāsu iekšdarbiem 2. kārtās, tai sk., nepieciešamie palīgdarbi | D35: m2 | E35: 113
C36: Grīdas
A37: 14 | C37: Esošās grīdas pamatnes (koka dēļi), sagatavošana lamināta ieklāšanai, tai sk., nelīdzenumu pieslīpēšana, pievilkšana, atputekļošana | D37: m2 | E37: 39
A38: 15 | C38: Lamināta grīdas seguma 32. klase 8mm ierīkošana, tai sk., apakšklājs 2-8mm biezumā | D38: m2 | E38: 33
A39: 16 | C39: Flīžu grīdas seguma ierīkošana, tai sk., grunts, šuvošana, hermetizācija | D39: m2 | E39: 3
A40: 17 | C40: Jāuna Dabīgā vai homogēnā (vienslāņa) linoleja grīdas seguma 34/43kl. ierīkošana, tai sk., līme un šuvju diegs, (toni saskaņot ar Pasūtītāju, atbilstoši higiēnas prasībām) | D40: m2 | E40: 6
A41: 18 | C41: PVC grīdlīstu 55mm un segumu savienojošo metāla līstu ierīkošana, tai sk., savienojumi un montāžas stiprinājumi | D41: m | E41: 51
C42: Specializētie darbi – iekšējie tīkli, sistēmas
C43: Elektroinstalācijas darbi
A44: 19 | C44: Rozetes vai slēdža montāža esošā vietā | D44: kpl | E44: 13
A45: 20 | C45: Jauna griestu virsapmetuma Lampas montāža, piem: LED gaismeklis BESA 24W, 2400lm, siltā/neitrālā gaisma, kantains/apaļš, vai ekvivalents | D45: kpl | E45: 5
C46: Santehniskie darbi
A47: 21 | C47: Vannas uzstādīšana + pieslēgšana | D47: kpl | E47: 1
A48: 22 | C48: WC poda ar skalojamo kasti montāža | D48: kpl | E48: 1
A49: 23 | C49: Jaucējkrāna montāža | D49: kpl | E49: 2
A50: 24 | C50: Esošās dabīgās ventilācijas restes 200x300mm nomaiņa | D50: gb | E50: 2
A51: 25 | C51: Esošā čuguna radiatora 600x900mm (9.gb ribas) un cauruļvadu 3.0m sagatavošna un pārkrāsošana | D51: kpl | E51: 3
C52: Dažādi darbi
A53: 26 | C53: Dažādi darbi - Objekta mobilizācija,demobilizācija, būvmateriālu izkraušana, pārvietošana, virsmu aizsardzība darbu gaitā, objekta sakopšana pēc būvdarbiem... | D53: obj | E53: 1
A54: 27 | C54: Darba gaitā radušos būvgružu savākšana, utilizācija | D54: t | E54: 1
C55: kopā:
D56: Tiešās izmaksas kopā t.sk.darba devēja sociālais nodoklis (23,59%)
H57: Virsizdevumi (%)
H58: t.sk. darba aizsardzība
H59: Peļņa (%)
H60: Pavisam kopā bez PVN
H61: PVN %
H62: Pavisam kopā ar PVN
A63: Sastādīja :
C64: (paraksts un tā atšifrējums, datums)
A65: Tāme sastādīta
A67: Pārbaudīja :
C68: (paraksts un tā atšifrējums, datums)
A69: Sertifikāta Nr:
B72: Piezīme: | C72: Izmērus ± precizēt dabā.

Sheet A7-  Lāčplēša 29-18
A1: Lokālā tāme Nr. 7
A3: Vispārējie būvdarbi - Dzīvokļa atjaunošana
A4: (būvdarbu veids vai konstruktīvā elementa nosaukums)
A5: Objekta nosaukums: Lāčplēša iela 29-18
A6: Būves nosaukums: Daudzdzīvokļu dzīvojamā māja
A7: Objekta adrese: Lāčplēša iela 29-18, Aizkraukle, Aizkraukles novads, LV-5101
A8: Pasūtījuma Nr:
A10: Tāme sastādīta 2025.gada tirgus cenās, pamatojoties uz uzmērījumiem dabā | K10: Tāmes izmaksas
M12: Tāme sastādīta :
F14: Vienības izmaksas | L14: Kopā uz visu apjomu
A15: Nr.p.k. | B15: Kods | C15: Darba nosaukums | D15: Mērvienība | E15: Daudzums | F15: Laika norma (c/h). | G15: Darba samaksas likme (euro/h) | H15: Darba alga (euro) | I15: Būvizstrādājumi (euro) | J15: Mehānismi (euro) | K15: Kopā (euro) | L15: Darbietilpība (c/h) | M15: Darba alga (euro) | N15: Būvizstrādājumi (euro) | O15: Mehānismi (euro) | P15: Summa (euro)
A16: 1 | B16: 2 | C16: 3 | D16: 4 | E16: 5 | F16: 6 | G16: 7 | H16: 8 | I16: 9 | J16: 10 | K16: 11 | L16: 12 | M16: 13 | N16: 14 | O16: 15 | P16: 16
C17: Dzīvoklis Nr.29 | D17: m2 | E17: 45,68
C18: Demontāžas darbi
A19: 1 | C19: Esošo ārdurvju/iekšdurvju 900x2050mm demontāža | D19: kpl | E19: 6
A20: 2 | C20: Esošās elektroinstalācijas - griestu lampas, sienu lampas, kontakti, slēdži, demontāža | D20: gb | E20: 22
A21: 3 | C21: Esošās vannas un WC poda demontāža | D21: kpl | E21: 1
A22: 4 | C22: Vecās santehnikas demontāža | D22: gb | E22: 2
A23: 5 | C23: Griestu vecās apdares noņemšana, tapetes, krāsa, balsinājums utt… | D23: m2 | E23: 43
A24: 6 | C24: Sienu vecās apdares noņemšana, tapetes, krāsa, flīzes, apmetums utt… | D24: m2 | E24: 118
A25: 7 | C25: Grīdu vecās apdares noņemšana – linolejs, krāsa, preskartons, flīzes utt… | D25: m2 | E25: 46
C26: Aiļu aizpildījumu elementi
A27: 8 | C27: Jaunu Priedes koka (lakotu) durvju 700-900x2050mm ar stiklojumu vai bez montāža, tai sk., furnitūra, kleidas | D27: kpl | E27: 5
A28: 9 | C28: Jaunu metāla ārdurvju 700-900x2050mm montāža, tai sk., furnitūra, kleidas | D28: kpl | E28: 1
C29: Montāžas un apdares darbi
C30: Griesti
A31: 10 | C31: Griestu plaknes (dz.betona paneļi) sagatavošana apdarei, tai sk., gruntēšana pa kārtām, špaktelēšana, slīpēšana, pēc nepieciešamības sieta iestrāde šuvēs | D31: m2 | E31: 43
A32: 11 | C32: Griestu krāsošana ar ūdens emulsijas krāsu iekšdarbiem 2. kārtās, tai sk., nepieciešamie palīgdarbi | D32: m2 | E32: 43
A33: 12 | C33: Griestu un sienu plaknes apšūšana ar PVC apdares dēļiem 2700x100x10mm, tai sk., montāžas stiprinājumi, PVC montāžas līste karkasam, nobeigumu līstes | D33: m2 | E33: 43
C34: Sienas
A35: 13 | C35: Sienu un ailu sagatavošana apdarei, tai sk., gruntēšana pa kārtām, špaktelēšana, slīpēšana, pēc nepieciešamības sieta iestrāde šuvēs, plaisās | D35: m2 | E35: 118
A36: 14 | C36: Sienu un ailu krāsošana ar ūdens emulsijas krāsu iekšdarbiem 2. kārtās, tai sk., nepieciešamie palīgdarbi | D36: m2 | E36: 118
C37: Grīdas
A38: 15 | C38: Esošās grīdas pamatnes (koka dēļi), sagatavošana lamināta ieklāšanai, tai sk., nelīdzenumu pieslīpēšana, pievilkšana, atputekļošana | D38: m2 | E38: 43
A39: 16 | C39: Lamināta grīdas seguma 32. klase 8mm ierīkošana, tai sk., apakšklājs 2-8mm biezumā | D39: m2 | E39: 37
A40: 17 | C40: Flīžu grīdas seguma ierīkošana, tai sk., grunts, šuvošana, hermetizācija | D40: m2 | E40: 3
A41: 18 | C41: Jāuna Dabīgā vai homogēnā (vienslāņa) linoleja grīdas seguma 34/43kl. ierīkošana, tai sk., līme un šuvju diegs, (toni saskaņot ar Pasūtītāju, atbilstoši higiēnas prasībām) | D41: m2 | E41: 7
A42: 19 | C42: PVC grīdlīstu 55mm un segumu savienojošo metāla līstu ierīkošana, tai sk., savienojumi un montāžas stiprinājumi | D42: m | E42: 55
C43: Specializētie darbi – iekšējie tīkli, sistēmas
C44: Elektroinstalācijas darbi
A45: 20 | C45: Rozetes vai slēdža montāža esošā vietā | D45: kpl | E45: 16
A46: 21 | C46: Jauna griestu virsapmetuma Lampas montāža, piem: LED gaismeklis BESA 24W, 2400lm, siltā/neitrālā gaisma, kantains/apaļš, vai ekvivalents | D46: kpl | E46: 6
C47: Santehniskie darbi
A48: 22 | C48: Vannas uzstādīšana + pieslēgšana | D48: kpl | E48: 1
A49: 23 | C49: WC poda ar skalojamo kasti montāža | D49: kpl | E49: 1
A50: 24 | C50: Roku mazgātnes montāža (izlietne, kāja, sifons) | D50: kpl | E50: 1
A51: 25 | C51: Jaucējkrāna montāža | D51: kpl | E51: 3
A52: 26 | C52: Apkures radiātoru nomaiņa montāža/demontāža | D52: kpl | E52: 3
A53: 27 | C53: Esošās dabīgās ventilācijas restes 200x300mm nomaiņa | D53: gb | E53: 3
C54: Dažādi darbi
A55: 28 | C55: Dažādi darbi - Objekta mobilizācija,demobilizācija, būvmateriālu izkraušana, pārvietošana, virsmu aizsardzība darbu gaitā, objekta sakopšana pēc būvdarbiem... | D55: obj | E55: 1
A56: 29 | C56: Darba gaitā radušos būvgružu savākšana, utilizācija | D56: t | E56: 1
C57: kopā:
D58: Tiešās izmaksas kopā t.sk.darba devēja sociālais nodoklis (23,59%)
H59: Virsizdevumi (%)
H60: t.sk. darba aizsardzība
H61: Peļņa (%)
H62: Pavisam kopā bez PVN
H63: PVN %
H64: Pavisam kopā ar PVN
A65: Sastādīja :
C66: (paraksts un tā atšifrējums, datums)
A67: Tāme sastādīta
A69: Pārbaudīja :
C70: (paraksts un tā atšifrējums, datums)
A71: Sertifikāta Nr:
B75: Piezīme: | C75: Izmērus ± precizēt dabā.

Sheet A8- Lāčplēša 37-19
A1: Lokālā tāme Nr. 8
A3: Vispārējie būvdarbi - Dzīvokļa atjaunošana
A4: (būvdarbu veids vai konstruktīvā elementa nosaukums)
A5: Objekta nosaukums: Lāčplēša iela 37-19
A6: Būves nosaukums: Daudzdzīvokļu dzīvojamā māja
A7: Objekta adrese: Lāčplēša iela 37-19, Aizkraukle, Aizkraukles novads, LV-5101
A8: Pasūtījuma Nr:
A10: Tāme sastādīta 2025.gada tirgus cenās, pamatojoties uz uzmērījumiem dabā | K10: Tāmes izmaksas
M12: Tāme sastādīta :
F14: Vienības izmaksas | L14: Kopā uz visu apjomu
A15: Nr.p.k. | B15: Kods | C15: Darba nosaukums | D15: Mērvienība | E15: Daudzums | F15: Laika norma (c/h). | G15: Darba samaksas likme (euro/h) | H15: Darba alga (euro) | I15: Būvizstrādājumi (euro) | J15: Mehānismi (euro) | K15: Kopā (euro) | L15: Darbietilpība (c/h) | M15: Darba alga (euro) | N15: Būvizstrādājumi (euro) | O15: Mehānismi (euro) | P15: Summa (euro)
A16: 1 | B16: 2 | C16: 3 | D16: 4 | E16: 5 | F16: 6 | G16: 7 | H16: 8 | I16: 9 | J16: 10 | K16: 11 | L16: 12 | M16: 13 | N16: 14 | O16: 15 | P16: 16
C17: Dzīvoklis Nr.19 | D17: m2 | E17: 36.3
C18: Demontāžas darbi
A19: 1 | C19: Esošo ārdurvju/iekšdurvju 900x2050mm demontāža | D19: kpl | E19: 4
A20: 2 | C20: Esošo logu demontāža | D20: m2 | E20: 4.8
A21: 3 | C21: Esošo logu palodžu demontāža | D21: m | E21: 6.8
A22: 4 | C22: Esošās elektroinstalācijas - griestu lampas, sienu lampas, kontakti, slēdži, demontāža | D22: gb | E22: 12
A23: 5 | C23: Esošās Duškabīnes un WC poda demontāža | D23: kpl | E23: 2
A24: 6 | C24: Vecās santehnikas demontāža | D24: gb | E24: 2
A25: 7 | C25: Griestu vecās apdares noņemšana, tapetes, krāsa, balsinājums utt… | D25: m2 | E25: 33
A26: 8 | C26: Sienu vecās apdares noņemšana, tapetes, krāsa, flīzes, apmetums utt… | D26: m2 | E26: 102
A27: 9 | C27: Grīdu vecās apdares noņemšana – linolejs, krāsa, preskartons, flīzes utt… | D27: m2 | E27: 36.3
C28: Aiļu aizpildījumu elementi
A29: 10 | C29: Jaunu Priedes koka (lakotu) durvju 700-900x2050mm ar stiklojumu vai bez montāža, tai sk., furnitūra, kleidas | D29: kpl | E29: 3
A30: 11 | C30: Jaunu metāla ārdurvju 700-900x2050mm montāža, tai sk., furnitūra, kleidas | D30: kpl | E30: 1
A31: 12 | C31: PVC logu uzstādīšana | D31: m2 | E31: 4.8
A32: 13 | C32: Palodžu uzstādīšana - PVC vai kokskaidas b=150 - 400mm | D32: m | E32: 6.8
A33: 14 | C33: Logu aiļu apdare | D33: m | E33: 9
C34: Montāžas un apdares darbi
C35: Griesti
A36: 15 | C36: Griestu plaknes (dz.betona paneļi vai reģipša apšuvums) sagatavošana apdarei, tai sk., gruntēšana pa kārtām, špaktelēšana, slīpēšana, pēc nepieciešamības sieta iestrāde šuvēs | D36: m2 | E36: 33
A37: 16 | C37: Griestu krāsošana ar ūdens emulsijas krāsu iekšdarbiem 2. kārtās, tai sk., nepieciešamie palīgdarbi | D37: m2 | E37: 33
A38: 17 | C38: Griestu un sienu plaknes apšūšana ar PVC apdares dēļiem 2700x100x10mm, tai sk., montāžas stiprinājumi, PVC montāžas līste karkasam, nobeigumu līstes | D38: m2 | E38: 16
C39: Sienas
A40: 18 | C40: Gipškartona starpsienu izveide b=125mm, tai sk., profili 100mm, gīpškartons no abām pusēm, izolācija un montāžas stiprinājumi | D40: m2 | E40: 2
A41: 19 | C41: Sienu un ailu sagatavošana apdarei, tai sk., gruntēšana pa kārtām, špaktelēšana, slīpēšana, pēc nepieciešamības sieta iestrāde šuvēs, plaisās | D41: m2 | E41: 90
A42: 20 | C42: Sienu un ailu krāsošana ar ūdens emulsijas krāsu iekšdarbiem 2. kārtās, tai sk., nepieciešamie palīgdarbi | D42: m2 | E42: 90
C43: Grīdas
A44: 21 | C44: Esošās grīdas pamatnes (koka dēļi), sagatavošana lamināta ieklāšanai, tai sk., nelīdzenumu pieslīpēšana, pievilkšana, atputekļošana | D44: m2 | E44: 33
A45: 22 | C45: Lamināta grīdas seguma 32. klase 8mm ierīkošana, tai sk., apakšklājs 2-8mm biezumā | D45: m2 | E45: 26
A46: 23 | C46: Flīžu grīdas seguma ierīkošana, tai sk., grunts, šuvošana, hermetizācija | D46: m2 | E46: 3.37
A47: 24 | C47: Jāuna Dabīgā vai homogēnā (vienslāņa) linoleja grīdas seguma 34/43kl. ierīkošana, tai sk., līme un šuvju diegs, (toni saskaņot ar Pasūtītāju, atbilstoši higiēnas prasībām) | D47: m2 | E47: 7.3
A48: 25 | C48: PVC grīdlīstu 55mm un segumu savienojošo metāla līstu ierīkošana, tai sk., savienojumi un montāžas stiprinājumi | D48: m | E48: 36
C49: Specializētie darbi – iekšējie tīkli, sistēmas
C50: Elektroinstalācijas darbi
A51: 26 | C51: Rozetes vai slēdža montāža esošā vietā | D51: kpl | E51: 12
A52: 27 | C52: Jauna griestu virsapmetuma Lampas montāža, piem: LED gaismeklis BESA 24W, 2400lm, siltā/neitrālā gaisma, kantains/apaļš, vai ekvivalents | D52: kpl | E52: 4
C53: Santehniskie darbi
A54: 28 | C54: Dvieļu žāvētāja maiņa | D54: kpl | E54: 1
A55: 29 | C55: Vannas uzstādīšana + pieslēgšana | D55: kpl | E55: 1
A56: 30 | C56: WC poda ar skalojamo kasti montāža | D56: kpl | E56: 1
A57: 31 | C57: Roku mazgātnes montāža (izlietne, kāja, sifons) | D57: kpl | E57: 1
A58: 32 | C58: Jaucējkrāna montāža | D58: kpl | E58: 3
A59: 33 | C59: Apkures radiātoru nomaiņa montāža/demontāža | D59: kpl | E59: 2
A60: 34 | C60: Esošās dabīgās ventilācijas restes 200x300mm nomaiņa | D60: gb | E60: 2
C61: Dažādi darbi
A62: 35 | C62: Dažādi darbi - Objekta mobilizācija,demobilizācija, būvmateriālu izkraušana, pārvietošana, virsmu aizsardzība darbu gaitā, objekta sakopšana pēc būvdarbiem... | D62: obj | E62: 1
A63: 36 | C63: Darba gaitā radušos būvgružu savākšana, utilizācija | D63: t | E63: 1
C64: kopā:
D65: Tiešās izmaksas kopā t.sk.darba devēja sociālais nodoklis (23,59%)
H66: Virsizdevumi (%)
H67: t.sk. darba aizsardzība
H68: Peļņa (%)
H69: Pavisam kopā bez PVN
H70: PVN %
H71: Pavisam kopā ar PVN
A72: Sastādīja :
C73: (paraksts un tā atšifrējums, datums)
A74: Tāme sastādīta
A76: Pārbaudīja :
C77: (paraksts un tā atšifrējums, datums)
A78: Sertifikāta Nr:
B82: Piezīme: | C82: Izmērus ± precizēt dabā.

Sheet A9- Lāčplēša  37-24
A1: Lokālā tāme Nr. 9
A3: Vispārējie būvdarbi - Dzīvokļa atjaunošana
A4: (būvdarbu veids vai konstruktīvā elementa nosaukums)
A5: Objekta nosaukums: Lāčplēša iela 37-24
A6: Būves nosaukums: Daudzdzīvokļu dzīvojamā māja
A7: Objekta adrese: Lāčplēša iela 37-24, Aizkraukle, Aizkraukles novads, LV-5101
A8: Pasūtījuma Nr:
A10: Tāme sastādīta 2025.gada tirgus cenās, pamatojoties uz uzmērījumiem dabā | K10: Tāmes izmaksas
M12: Tāme sastādīta :
F14: Vienības izmaksas | L14: Kopā uz visu apjomu
A15: Nr.p.k. | B15: Kods | C15: Darba nosaukums | D15: Mērvienība | E15: Daudzums | F15: Laika norma (c/h). | G15: Darba samaksas likme (euro/h) | H15: Darba alga (euro) | I15: Būvizstrādājumi (euro) | J15: Mehānismi (euro) | K15: Kopā (euro) | L15: Darbietilpība (c/h) | M15: Darba alga (euro) | N15: Būvizstrādājumi (euro) | O15: Mehānismi (euro) | P15: Summa (euro)
A16: 1 | B16: 2 | C16: 3 | D16: 4 | E16: 5 | F16: 6 | G16: 7 | H16: 8 | I16: 9 | J16: 10 | K16: 11 | L16: 12 | M16: 13 | N16: 14 | O16: 15 | P16: 16
C17: Dzīvoklis Nr.24 | D17: m2 | E17: 35,4
C18: Demontāžas darbi
A19: 1 | C19: Esošo ārdurvju/iekšdurvju 900x2050mm demontāža | D19: kpl | E19: 4
A20: 2 | C20: Esošās elektroinstalācijas - griestu lampas, sienu lampas, kontakti, slēdži, demontāža | D20: gb | E20: 16
A21: 3 | C21: Esošās Duškabīnes un WC poda demontāža | D21: kpl | E21: 1
A22: 4 | C22: Vecās santehnikas demontāža | D22: gb | E22: 2
A23: 5 | C23: Griestu vecās apdares noņemšana, krāsa, balsinājums utt… | D23: m2 | E23: 32
A24: 6 | C24: Sienu vecās apdares noņemšana, tapetes, krāsa, flīzes, apmetums utt… | D24: m2 | E24: 102
A25: 7 | C25: Grīdu vecās apdares noņemšana – linolejs, krāsa, preskartons, flīzes utt… | D25: m2 | E25: 35.4
C26: Aiļu aizpildījumu elementi
A27: 8 | C27: Jaunu Priedes koka (lakotu) durvju 700-900x2050mm ar stiklojumu vai bez montāža, tai sk., furnitūra, kleidas | D27: kpl | E27: 3
A28: 9 | C28: Jaunu metāla ārdurvju 700-900x2050mm montāža, tai sk., furnitūra, kleidas | D28: kpl | E28: 1
C29: Montāžas un apdares darbi
C30: Griesti
A31: 10 | C31: Griestu plaknes (dz.betona paneļi) sagatavošana apdarei, tai sk., gruntēšana pa kārtām, špaktelēšana, slīpēšana, pēc nepieciešamības sieta iestrāde šuvēs | D31: m2 | E31: 32
A32: 11 | C32: Griestu krāsošana ar ūdens emulsijas krāsu iekšdarbiem 2. kārtās, tai sk., nepieciešamie palīgdarbi | D32: m2 | E32: 32
A33: 12 | C33: Griestu un sienu plaknes apšūšana ar PVC apdares dēļiem 2700x100x10mm, tai sk., montāžas stiprinājumi, PVC montāžas līste karkasam, nobeigumu līstes | D33: m2 | E33: 20
C34: Sienas
A35: 13 | C35: Sienu un ailu sagatavošana apdarei, tai sk., gruntēšana pa kārtām, špaktelēšana, slīpēšana, pēc nepieciešamības sieta iestrāde šuvēs, plaisās | D35: m2 | E35: 95
A36: 14 | C36: Sienu un ailu krāsošana ar ūdens emulsijas krāsu iekšdarbiem 2. kārtās, tai sk., nepieciešamie palīgdarbi | D36: m2 | E36: 95
C37: Grīdas
A38: 15 | C38: Esošās grīdas pamatnes (koka dēļi), sagatavošana lamināta ieklāšanai, tai sk., nelīdzenumu pieslīpēšana, pievilkšana, atputekļošana | D38: m2 | E38: 32
A39: 16 | C39: Lamināta grīdas seguma 32. klase 8mm ierīkošana, tai sk., apakšklājs 2-8mm biezumā | D39: m2 | E39: 27
A40: 17 | C40: Flīžu grīdas seguma ierīkošana, tai sk., grunts, šuvošana, hermetizācija | D40: m2 | E40: 3.5
A41: 18 | C41: Jāuna Dabīgā vai homogēnā (vienslāņa) linoleja grīdas seguma 34/43kl. ierīkošana, tai sk., līme un šuvju diegs, (toni saskaņot ar Pasūtītāju, atbilstoši higiēnas prasībām) | D41: m2 | E41: 6
A42: 19 | C42: PVC grīdlīstu 55mm un segumu savienojošo metāla līstu ierīkošana, tai sk., savienojumi un montāžas stiprinājumi | D42: m | E42: 43
C43: Specializētie darbi – iekšējie tīkli, sistēmas
C44: Elektroinstalācijas darbi
A45: 20 | C45: Rozetes vai slēdža montāža esošā vietā | D45: kpl | E45: 12
A46: 21 | C46: Jauna griestu virsapmetuma Lampas montāža, piem: LED gaismeklis BESA 24W, 2400lm, siltā/neitrālā gaisma, kantains/apaļš, vai ekvivalents | D46: kpl | E46: 4
C47: Santehniskie darbi
A48: 22 | C48: Dvieļu žāvētāja maiņa | D48: kpl | E48: 1
A49: 23 | C49: Vannas uzstādīšana + pieslēgšana | D49: kpl | E49: 1
A50: 24 | C50: WC poda ar skalojamo kasti montāža | D50: kpl | E50: 1
A51: 25 | C51: Roku mazgātnes montāža (izlietne, kāja, sifons) | D51: kpl | E51: 1
A52: 26 | C52: Jaucējkrāna montāža | D52: kpl | E52: 3
A53: 27 | C53: Apkures radiātoru nomaiņa montāža/demontāža | D53: kpl | E53: 2
A54: 28 | C54: Esošās dabīgās ventilācijas restes 200x300mm nomaiņa | D54: gb | E54: 2
C55: Dažādi darbi
A56: 29 | C56: Dažādi darbi - Objekta mobilizācija,demobilizācija, būvmateriālu izkraušana, pārvietošana, virsmu aizsardzība darbu gaitā, objekta sakopšana pēc būvdarbiem... | D56: obj | E56: 1
A57: 30 | C57: Darba gaitā radušos būvgružu savākšana, utilizācija | D57: t | E57: 1
C58: kopā:
D59: Tiešās izmaksas kopā t.sk.darba devēja sociālais nodoklis (23,59%)
H60: Virsizdevumi (%)
H61: t.sk. darba aizsardzība
H62: Peļņa (%)
H63: Pavisam kopā bez PVN
H64: PVN %
H65: Pavisam kopā ar PVN
A66: Sastādīja :
C67: (paraksts un tā atšifrējums, datums)
A68: Tāme sastādīta
A70: Pārbaudīja :
C71: (paraksts un tā atšifrējums, datums)
A72: Sertifikāta Nr:
B75: Piezīme: | C75: Izmērus ± precizēt dabā.

Sheet A11-  Spīdolas 16-18
A1: Lokālā tāme Nr. 10
A3: Vispārējie būvdarbi - Dzīvokļa atjaunošana
A4: (būvdarbu veids vai konstruktīvā elementa nosaukums)
A5: Objekta nosaukums: Spīdolas iela 16-18
A6: Būves nosaukums: Daudzdzīvokļu dzīvojamā māja
A7: Objekta adrese: Spīdolas iela 16-18, Aizkraukle, Aizkraukles novads, LV-5101
A8: Pasūtījuma Nr:
A10: Tāme sastādīta 2025.gada tirgus cenās, pamatojoties uz uzmērījumiem dabā | K10: Tāmes izmaksas
M12: Tāme sastādīta :
F14: Vienības izmaksas | L14: Kopā uz visu apjomu
A15: Nr.p.k. | B15: Kods | C15: Darba nosaukums | D15: Mērvienība | E15: Daudzums | F15: Laika norma (c/h). | G15: Darba samaksas likme (euro/h) | H15: Darba alga (euro) | I15: Būvizstrādājumi (euro) | J15: Mehānismi (euro) | K15: Kopā (euro) | L15: Darbietilpība (c/h) | M15: Darba alga (euro) | N15: Būvizstrādājumi (euro) | O15: Mehānismi (euro) | P15: Summa (euro)
A16: 1 | B16: 2 | C16: 3 | D16: 4 | E16: 5 | F16: 6 | G16: 7 | H16: 8 | I16: 9 | J16: 10 | K16: 11 | L16: 12 | M16: 13 | N16: 14 | O16: 15 | P16: 16
C17: Dzīvoklis Nr.18 | D17: m2 | E17: 40
C18: Demontāžas darbi
A19: 1 | C19: Esošo ārdurvju/iekšdurvju 900x2050mm demontāža | D19: kpl | E19: 4
A20: 2 | C20: Esošās elektroinstalācijas - griestu lampas, sienu lampas, kontakti, slēdži, demontāža | D20: gb | E20: 18
A21: 3 | C21: Esošās vannas un WC poda demontāža | D21: kpl | E21: 2
A22: 4 | C22: Vecās santehnikas demontāža | D22: gb | E22: 2
A23: 5 | C23: Griestu vecās apdares noņemšana, tapetes, krāsa, balsinājums utt… | D23: m2 | E23: 38
A24: 6 | C24: Sienu vecās apdares noņemšana, tapetes, krāsa, flīzes, apmetums utt… | D24: m2 | E24: 108
A25: 7 | C25: Sienu vecā apšuvuma - reģ. konstr., paneļi ar karkasu utt… | D25: m2 | E25: 4
A26: 8 | C26: Grīdu vecās apdares noņemšana – linolejs, krāsa, preskartons, flīzes utt… | D26: m2 | E26: 40
C27: Aiļu aizpildījumu elementi
A28: 9 | C28: Jaunu Priedes koka (lakotu) durvju 700-900x2050mm ar stiklojumu vai bez montāža, tai sk., furnitūra, kleidas | D28: kpl | E28: 3
A29: 10 | C29: Jaunu metāla ārdurvju 700-900x2050mm montāža, tai sk., furnitūra, kleidas | D29: kpl | E29: 1
C30: Montāžas un apdares darbi
C31: Griesti
A32: 11 | C32: Griestu plaknes (dz.betona paneļi vai reģipša apšuvums) sagatavošana apdarei, tai sk., gruntēšana pa kārtām, špaktelēšana, slīpēšana, pēc nepieciešamības sieta iestrāde šuvēs | D32: m2 | E32: 38
A33: 12 | C33: Griestu krāsošana ar ūdens emulsijas krāsu iekšdarbiem 2. kārtās, tai sk., nepieciešamie palīgdarbi | D33: m2 | E33: 38
A34: 13 | C34: Griestu un sienu plaknes apšūšana ar PVC apdares dēļiem 2700x100x10mm, tai sk., montāžas stiprinājumi, PVC montāžas līste karkasam, nobeigumu līstes | D34: m2 | E34: 16
C35: Sienas
A36: 14 | C36: Sienu un ailu sagatavošana apdarei, tai sk., gruntēšana pa kārtām, špaktelēšana, slīpēšana, pēc nepieciešamības sieta iestrāde šuvēs, plaisās | D36: m2 | E36: 108
A37: 15 | C37: Sienu un ailu krāsošana ar ūdens emulsijas krāsu iekšdarbiem 2. kārtās, tai sk., nepieciešamie palīgdarbi | D37: m2 | E37: 108
C38: Grīdas
A39: 16 | C39: Esošās grīdas pamatnes (koka dēļi), sagatavošana lamināta ieklāšanai, tai sk., nelīdzenumu pieslīpēšana, pievilkšana, atputekļošana | D39: m2 | E39: 38
A40: 17 | C40: Lamināta grīdas seguma 32. klase 8mm ierīkošana, tai sk., apakšklājs 2-8mm biezumā | D40: m2 | E40: 33
A41: 18 | C41: Flīžu grīdas seguma ierīkošana, tai sk., grunts, šuvošana, hermetizācija | D41: m2 | E41: 2.5
A42: 19 | C42: Jāuna Dabīgā vai homogēnā (vienslāņa) linoleja grīdas seguma 34/43kl. ierīkošana, tai sk., līme un šuvju diegs, (toni saskaņot ar Pasūtītāju, atbilstoši higiēnas prasībām) | D42: m2 | E42: 5.5
A43: 20 | C43: PVC grīdlīstu 55mm un segumu savienojošo metāla līstu ierīkošana, tai sk., savienojumi un montāžas stiprinājumi | D43: m | E43: 56
C44: Specializētie darbi – iekšējie tīkli, sistēmas
C45: Elektroinstalācijas darbi
A46: 21 | C46: Rozetes vai slēdža montāža esošā vietā | D46: kpl | E46: 13
A47: 22 | C47: Jauna griestu virsapmetuma Lampas montāža, piem: LED gaismeklis BESA 24W, 2400lm, siltā/neitrālā gaisma, kantains/apaļš, vai ekvivalents | D47: kpl | E47: 5
C48: Santehniskie darbi
A49: 23 | C49: Vannas uzstādīšana + pieslēgšana | D49: kpl | E49: 1
A50: 24 | C50: WC poda ar skalojamo kasti montāža | D50: kpl | E50: 1
A51: 25 | C51: Jaucējkrāna montāža | D51: kpl | E51: 2
A52: 26 | C52: Esošā čuguna radiatora 600x900mm (9.gb ribas) un cauruļvadu 3.0m sagatavošna un pārkrāsošana | D52: kpl | E52: 3
C53: Dažādi darbi
A54: 27 | C54: Dažādi darbi - Objekta mobilizācija,demobilizācija, būvmateriālu izkraušana, pārvietošana, virsmu aizsardzība darbu gaitā, objekta sakopšana pēc būvdarbiem... | D54: obj | E54: 1
A55: 28 | C55: Darba gaitā radušos būvgružu savākšana, utilizācija | D55: t | E55: 1
C56: kopā:
D57: Tiešās izmaksas kopā t.sk.darba devēja sociālais nodoklis (23,59%)
H58: Virsizdevumi (%)
H59: t.sk. darba aizsardzība
H60: Peļņa (%)
H61: Pavisam kopā bez PVN
H62: PVN %
H63: Pavisam kopā ar PVN
A64: Sastādīja :
C65: (paraksts un tā atšifrējums, datums)
A66: Tāme sastādīta
A68: Pārbaudīja :
C69: (paraksts un tā atšifrējums, datums)
A70: Sertifikāta Nr:
B73: Piezīme: | C73: Izmērus ± precizēt dabā.

Sheet A12-  Sprīdīša 4-59
A1: Lokālā tāme Nr. 11
A3: Vispārējie būvdarbi - Dzīvokļa atjaunošana
A4: (būvdarbu veids vai konstruktīvā elementa nosaukums)
A5: Objekta nosaukums: Sprīdīša iela 4-59
A6: Būves nosaukums: Daudzdzīvokļu dzīvojamā māja
A7: Objekta adrese: Sprīdīša iela 4-59, Aizkraukle, Aizkraukles novads, LV-5101
A8: Pasūtījuma Nr:
A10: Tāme sastādīta 2025.gada tirgus cenās, pamatojoties uz uzmērījumiem dabā | K10: Tāmes izmaksas
M12: Tāme sastādīta :
F14: Vienības izmaksas | L14: Kopā uz visu apjomu
A15: Nr.p.k. | B15: Kods | C15: Darba nosaukums | D15: Mērvienība | E15: Daudzums | F15: Laika norma (c/h). | G15: Darba samaksas likme (euro/h) | H15: Darba alga (euro) | I15: Būvizstrādājumi (euro) | J15: Mehānismi (euro) | K15: Kopā (euro) | L15: Darbietilpība (c/h) | M15: Darba alga (euro) | N15: Būvizstrādājumi (euro) | O15: Mehānismi (euro) | P15: Summa (euro)
A16: 1 | B16: 2 | C16: 3 | D16: 4 | E16: 5 | F16: 6 | G16: 7 | H16: 8 | I16: 9 | J16: 10 | K16: 11 | L16: 12 | M16: 13 | N16: 14 | O16: 15 | P16: 16
C17: Dzīvoklis Nr.59 | D17: m2 | E17: 38,4
C18: Demontāžas darbi
A19: 1 | C19: Esošo ārdurvju/iekšdurvju 900x2050mm demontāža | D19: kpl | E19: 3
A20: 2 | C20: Esošo logu demontāža | D20: m2 | E20: 6.9
A21: 3 | C21: Esošo logu palodžu demontāža | D21: m | E21: 12
A22: 4 | C22: Esošās elektroinstalācijas - griestu lampas, sienu lampas, kontakti, slēdži, demontāža | D22: gb | E22: 17
A23: 5 | C23: Esošās Duškabīnes un WC poda demontāža | D23: kpl | E23: 1
A24: 6 | C24: Vecās santehnikas demontāža | D24: gb | E24: 3
A25: 7 | C25: Griestu vecās apdares noņemšana, tapetes, krāsa, balsinājums utt… | D25: m2 | E25: 36
A26: 8 | C26: Sienu vecās apdares noņemšana, tapetes, krāsa, flīzes, apmetums utt… | D26: m2 | E26: 102
A27: 9 | C27: Sienu vecā apšuvuma - reģ. konstr., paneļi ar karkasu utt… | D27: m2 | E27: 2
A28: 10 | C28: Grīdu vecās apdares noņemšana – linolejs, krāsa, preskartons, flīzes utt… | D28: m2 | E28: 38.4
C29: Aiļu aizpildījumu elementi
A30: 11 | C30: Jaunu Priedes koka (lakotu) durvju 700-900x2050mm ar stiklojumu vai bez montāža, tai sk., furnitūra, kleidas | D30: kpl | E30: 4
A31: 12 | C31: Jaunu metāla ārdurvju 700-900x2050mm montāža, tai sk., furnitūra, kleidas | D31: kpl | E31: 1
A32: 13 | C32: PVC logu uzstādīšana | D32: m2 | E32: 6.9
A33: 14 | C33: Palodžu uzstādīšana - PVC vai kokskaidas b=150 - 400mm | D33: m | E33: 12
A34: 15 | C34: Logu aiļu apdare | D34: m | E34: 22
C35: Montāžas un apdares darbi
C36: Griesti
A37: 16 | C37: Griestu plaknes (dz.betona paneļi vai reģipša apšuvums) sagatavošana apdarei, tai sk., gruntēšana pa kārtām, špaktelēšana, slīpēšana, pēc nepieciešamības sieta iestrāde šuvēs | D37: m2 | E37: 36
A38: 17 | C38: Griestu krāsošana ar ūdens emulsijas krāsu iekšdarbiem 2. kārtās, tai sk., nepieciešamie palīgdarbi | D38: m2 | E38: 36
A39: 18 | C39: Griestu un sienu plaknes apšūšana ar PVC apdares dēļiem 2700x100x10mm, tai sk., montāžas stiprinājumi, PVC montāžas līste karkasam, nobeigumu līstes | D39: m2 | E39: 18
C40: Sienas
A41: 19 | C41: Gipškartona starpsienu izveide b=125mm, tai sk., profili 100mm, gīpškartons no abām pusēm, izolācija un montāžas stiprinājumi | D41: m2 | E41: 2
A42: 20 | C42: Sienu un ailu sagatavošana apdarei, tai sk., gruntēšana pa kārtām, špaktelēšana, slīpēšana, pēc nepieciešamības sieta iestrāde šuvēs, plaisās | D42: m2 | E42: 102
A43: 21 | C43: Sienu un ailu krāsošana ar ūdens emulsijas krāsu iekšdarbiem 2. kārtās, tai sk., nepieciešamie palīgdarbi | D43: m2 | E43: 102
C44: Grīdas
A45: 22 | C45: Esošās grīdas pamatnes (koka dēļi), sagatavošana lamināta ieklāšanai, tai sk., nelīdzenumu pieslīpēšana, pievilkšana, atputekļošana | D45: m2 | E45: 36
A46: 23 | C46: Lamināta grīdas seguma 32. klase 8mm ierīkošana, tai sk., apakšklājs 2-8mm biezumā | D46: m2 | E46: 29
A47: 24 | C47: Flīžu grīdas seguma ierīkošana, tai sk., grunts, šuvošana, hermetizācija | D47: m2 | E47: 3
A48: 25 | C48: Jāuna Dabīgā vai homogēnā (vienslāņa) linoleja grīdas seguma 34/43kl. ierīkošana, tai sk., līme un šuvju diegs, (toni saskaņot ar Pasūtītāju, atbilstoši higiēnas prasībām) | D48: m2 | E48: 7
A49: 26 | C49: PVC grīdlīstu 55mm un segumu savienojošo metāla līstu ierīkošana, tai sk., savienojumi un montāžas stiprinājumi | D49: m | E49: 47
C50: Specializētie darbi – iekšējie tīkli, sistēmas
C51: Elektroinstalācijas darbi
A52: 27 | C52: Rozetes vai slēdža montāža esošā vietā | D52: kpl | E52: 12
A53: 28 | C53: Jauna griestu virsapmetuma Lampas montāža, piem: LED gaismeklis BESA 24W, 2400lm, siltā/neitrālā gaisma, kantains/apaļš, vai ekvivalents | D53: kpl | E53: 5
A54: 29 | C54: Santehniskie darbi
A55: 30 | C55: Vannas uzstādīšana + pieslēgšana | D55: kpl | E55: 1
A56: 31 | C56: WC poda ar skalojamo kasti montāža | D56: kpl | E56: 1
A57: 32 | C57: Roku mazgātnes montāža (izlietne, kāja, sifons) | D57: kpl | E57: 1
A58: 33 | C58: Jaucējkrāna montāža | D58: kpl | E58: 3
A59: 34 | C59: Apkures radiātoru nomaiņa montāža/demontāža | D59: kpl | E59: 3
C60: Dažādi darbi
A61: 35 | C61: Dažādi darbi - Objekta mobilizācija,demobilizācija, būvmateriālu izkraušana, pārvietošana, virsmu aizsardzība darbu gaitā, objekta sakopšana pēc būvdarbiem... | D61: obj | E61: 1
A62: 36 | C62: Darba gaitā radušos būvgružu savākšana, utilizācija | D62: t | E62: 1.1
C63: kopā:
D64: Tiešās izmaksas kopā t.sk.darba devēja sociālais nodoklis (23,59%)
H65: Virsizdevumi (%)
H66: t.sk. darba aizsardzība
H67: Peļņa (%)
H68: Pavisam kopā bez PVN
H69: PVN %
H70: Pavisam kopā ar PVN
A71: Sastādīja :
C72: (paraksts un tā atšifrējums, datums)
A73: Tāme sastādīta
A75: Pārbaudīja :
C76: (paraksts un tā atšifrējums, datums)
A77: Sertifikāta Nr:
B80: Piezīme: | C80: Izmērus ± precizēt dabā.
