Workbook

Sheet Lapa1
C1: DZ.p.k. | D1: Aizkraukle | E1: Jaunjelgava | F1: Nereta | G1: Koknsese | H1: Pļaviņas | I1: Skrīveri
C2: 1 | D2: =#REF! -> #REF! | E2: =#REF! -> #REF! | F2: =#REF! -> #REF! | G2: ='K1- Madaras 7, Irši'!P53 -> 0 | H2: =#REF! -> #REF! | I2: =#REF! -> #REF!
C3: 2 | D3: =#REF! -> #REF! | E3: =#REF! -> #REF! | G3: =K!P55 -> 0 | H3: =#REF! -> #REF! | I3: =#REF! -> #REF!
C4: 3 | D4: =#REF! -> #REF! | E4: =#REF! -> #REF! | G4: ='K3-Dālderi 15, Irši'!P55 -> 0 | H4: =#REF! -> #REF!
C5: 4 | D5: =#REF! -> #REF! | E5: =#REF! -> #REF! | G5: ='K4-Dālderi 12, Irši'!P59 -> 0 | H5: =#REF! -> #REF!
C6: 5 | D6: =#REF! -> #REF! | E6: =#REF! -> #REF! | G6: ='K5-1905. gada 27-4'!P45 -> 0
C7: 6 | D7: =#REF! -> #REF! | E7: =#REF! -> #REF! | G7: =#REF! -> #REF!
C8: 7 | D8: =#REF! -> #REF! | G8: ='K7-Vērenes 1-4'!P49 -> 0
C9: 8 | D9: =#REF! -> #REF! | G9: ='K8- Blaumaņa 20-7 5'!P58 -> 0
C10: 9 | D10: =#REF! -> #REF! | G10: ='K9-Indrānu 8-23'!P44 -> 0
C11: 10 | D11: =#REF! -> #REF! | G11: ='K10-Vērenes 1-2'!P45 -> 0
C12: 11 | D12: =#REF! -> #REF! | G12: ='K11-1905. gada 51A-2'!P44 -> 0
C13: 12 | D13: =#REF! -> #REF! | G13: ='K12_Parka 20-27'!P56 -> 0
C14: 13 | G14: ='K13-Blaumaņa iela 32-1'!P55 -> 0
D15: =SUM(D2:D14) -> #REF! | E15: =SUM(E2:E14) -> #REF! | F15: =SUM(F2:F14) -> #REF! | G15: =SUM(G2:G14) -> #REF! | H15: =SUM(H2:H14) -> #REF! | I15: =SUM(I2:I14) -> #REF! | J15: =SUM(D15:I15) -> #REF!
A16: visizdevumi | B16: =C16/100 -> 0.0052425556 | C16: 0.52425556 | D16: =D15/100*C16 -> #REF! | E16: =E15/100*C16 -> #REF! | F16: =F15/100*C16 -> #REF! | G16: =G15/100*C16 -> #REF! | H16: =H15/100*C16 -> #REF! | I16: =I15/100*C16 -> #REF! | J16: =J15/100*C16 -> #REF!
A17: peļņa | B17: =C17/100 -> 0.01 | C17: 1 | D17: =D15/100*C17 -> #REF! | E17: =E15/100*C17 -> #REF! | F17: =F15/100*C17 -> #REF! | G17: =G15/100*C17 -> #REF! | H17: =H15/100*C17 -> #REF! | I17: =I15/100*C17 -> #REF! | J17: =J15/100*C17 -> #REF!
A18: kopā | D18: =D17+D16+D15 -> #REF! | E18: =E17+E16+E15 -> #REF! | F18: =F17+F16+F15 -> #REF! | G18: =G17+G16+G15 -> #REF! | H18: =H17+H16+H15 -> #REF! | I18: =I17+I16+I15 -> #REF! | J18: =J17+J16+J15 -> #REF!
C19: pvn | D19: =D18/100*21 -> #REF! | E19: =E18/100*21 -> #REF! | F19: =F18/100*21 -> #REF! | G19: =G18/100*21 -> #REF! | H19: =H18/100*21 -> #REF! | I19: =I18/100*21 -> #REF! | J19: =J18/100*21 -> #REF!
D20: =D19+D18 -> #REF! | E20: =E19+E18 -> #REF! | F20: =F19+F18 -> #REF! | G20: =G19+G18 -> #REF! | H20: =H19+H18 -> #REF! | I20: =I19+I18 -> #REF! | J20: =J19+J18 -> #REF! | M20: =kopsavilkums!I17 -> 0
C21: no koptames | D21: =kopsavilkums!#REF! -> #REF! | E21: =kopsavilkums!#REF! -> #REF! | F21: =kopsavilkums!#REF! -> #REF! | G21: =kopsavilkums!F17 -> 0 | H21: =kopsavilkums!#REF! -> #REF! | I21: =kopsavilkums!#REF! -> #REF! | J21: =kopsavilkums!#REF! -> #REF! | M21: =M20-J20 -> #REF!
M23: =J21-M20 -> #REF!

Sheet kopsavilkums
C2: Piedāvājuma kopsavilkums projekta Nr. 4.3.1.3/1/25/A/052 "Sociālo mājokļu atjaunošana Aizkraukles novadā" ietvaros, Koknesē
E4: Adrese | F4: Piedāvātā līgumcena
D5: 1 | E5: Madaras 7, Irši, Iršu pagasts | F5: =kopsavilkums!R59 -> 0
D6: 2 | E6: Dālderi 15, Irši, Iršu pagasts | F6: 0
D7: 3 | E7: Dālderi 12, Irši, Iršu pagasts | F7: =kopsavilkums!R86 -> 0
D8: 4 | E8: 1905. gada iela 27-4, Koknese | F8: =kopsavilkums!R86 -> 0
D9: 5 | E9: Tilta iela 1(pagrabtelpa), Koknese | F9: =kopsavilkums!R86 -> 0
D10: 6 | E10: Vērenes iela 1-4, Koknese | F10: ='Tilta 1 (pagrabtelpa)'!P45 -> 0
D11: 7 | E11: Blaumaņa iela 20-7/5, Koknese | F11: =kopsavilkums!R86 -> 0
D12: 8 | E12: Indrānu iela 8-23, Koknese | F12: =kopsavilkums!R86 -> 0
D13: 9 | E13: Vērenes iela 1-2, Koknese | F13: =kopsavilkums!R86 -> 0
D14: 10 | E14: 1905. gada iela 51A-2, Koknese | F14: =kopsavilkums!R86 -> 0
D15: 11 | E15: Parka iela 20-27, Koknese | F15: =kopsavilkums!R86 -> 0
D16: 12 | E16: Blaumaņa iela 32-1, Koknese | F16: =kopsavilkums!R86 -> 0
D17: Kopsumma (Ar PVN) | F17: =SUM(F5:F16) -> 0
D18: PVN
D19: Attiecināmā summa (AR PVN) | F19: =13*17500 -> 227500 | G19: =#REF!-#REF! -> #REF!
D20: Starpība | F20: =F19-F17 -> 227500
D27: Kopsumma bez PVN

Sheet K1- Madaras 7,  Irši
A1: Lokālā tāme Nr. 1
A3: Vispārējie būvdarbi - Dzīvokļa atjaunošana
A4: (būvdarbu veids vai konstruktīvā elementa nosaukums)
A5: Objekta nosaukums: Dzīvokļa Nr. 1. atjaunošana
A6: Būves nosaukums: Daudzdzīvokļu dzīvojamā māja
A7: Objekta adrese: Madaras 7, Irši, Iršu pagasts, Aizkraukles novads, LV-5108
A8: Pasūtījuma Nr:
A10: Tāme sastādīta 2025.gada tirgus cenās, pamatojoties uz uzmērījumiem dabā | K10: Tāmes izmaksas
M12: Tāme sastādīta :
F14: Vienības izmaksas | L14: Kopā uz visu apjomu
A15: Nr.p.k. | B15: Kods | C15: Darba nosaukums | D15: Mērvienība | E15: Daudzums | F15: Laika norma (c/h). | G15: Darba samaksas likme (euro/h) | H15: Darba alga (euro) | I15: Būvizstrādājumi (euro) | J15: Mehānismi (euro) | K15: Kopā (euro) | L15: Darbietilpība (c/h) | M15: Darba alga (euro) | N15: Būvizstrādājumi (euro) | O15: Mehānismi (euro) | P15: Summa (euro)
A16: 1 | B16: 2 | C16: 3 | D16: 4 | E16: 5 | F16: 6 | G16: 7 | H16: 8 | I16: 9 | J16: 10 | K16: 11 | L16: 12 | M16: 13 | N16: 14 | O16: 15 | P16: 16
C17: Dzīvoklis Nr.7 | D17: m2 | E17: 72.3
C18: Demontāžas darbi
A19: 1 | C19: Esošo ārdurvju/iekšdurvju 900x2050mm demontāža | D19: kpl | E19: 8
A20: 2 | C20: Esošo logu demontāža | D20: m2 | E20: 10.25
A21: 3 | C21: Esošo logu palodžu demontāža | D21: m | E21: 7.2
A22: 4 | C22: Esošās elektroinstalācijas - griestu lampas, sienu lampas, kontakti, slēdži, demontāža | D22: gb | E22: 16
A23: 5 | C23: Vecās santehnikas demontāža | D23: gb | E23: 3
A24: 6 | C24: Griestu vecās apdares noņemšana, tapetes, krāsa, balsinājums utt… | D24: m2 | E24: 72.3
A25: 7 | C25: Sienu vecās apdares noņemšana, tapetes, krāsa, flīzes, apmetums utt… | D25: m2 | E25: 190
C26: Aiļu aizpildījumu elementi
A27: 8 | C27: Jaunu Priedes koka (lakotu) durvju 700-900x2050mm ar stiklojumu vai bez montāža, tai sk., furnitūra, kleidas no vienas puses | D27: kpl | E27: 8
A28: 9 | C28: PVC logu uzstādīšana | D28: m2 | E28: 10.25
A29: 10 | C29: Palodžu uzstādīšana - PVC vai kokskaidas b=150 - 400mm | D29: m | E29: 7.2
A30: 11 | C30: Logu aiļu apdare | D30: m | E30: 29
C31: Montāžas un apdares darbi
C32: Griesti
A33: 12 | C33: Griestu plaknes (dz.betona paneļi vai reģipša apšuvums) sagatavošana apdarei, tai sk., gruntēšana pa kārtām, špaktelēšana, slīpēšana, pēc nepieciešamības sieta iestrāde šuvēs | D33: m2 | E33: 72.3
A34: 13 | C34: Griestu krāsošana ar ūdens emulsijas krāsu iekšdarbiem 2. kārtās, tai sk., nepieciešamie palīgdarbi | D34: m2 | E34: 72.3
C35: Grīdas
A36: 14 | C36: Lamināta grīdas seguma 32. klase 8mm ierīkošana, tai sk., apakšklājs 2-8mm biezumā | D36: m2 | E36: 8.4
C37: Specializētie darbi – iekšējie tīkli, sistēmas
C38: Elektroinstalācijas darbi
A39: 15 | C39: Rozetes vai slēdža montāža esošā vietā | D39: kpl | E39: 8
A40: 16 | C40: Jauna griestu virsapmetuma Lampas montāža, piem: LED gaismeklis BESA 24W, 2400lm, siltā/neitrālā gaisma, kantains/apaļš, vai ekvivalents | D40: kpl | E40: 8
C41: Santehniskie darbi
A42: 17 | C42: Esošās terauda vannas 1600x750x600mm emaljas krāsojuma atjaunošana, tai sk., ārpuse, visi nepieciešamie sagatavošanas darbi un palīgmateriāli | D42: kpl | E42: 1
A43: 18 | C43: Duškabīnes ar paliktni uzstādīšana | D43: kpl | E43: 1
A44: 19 | C44: WC poda ar skalojamo kasti montāža | D44: kpl | E44: 1
...

Sheet K

Sheet K3-Dālderi 15,  Irši
A1: Lokālā tāme Nr. 3
A3: Vispārējie būvdarbi - Dzīvokļa atjaunošana
A4: (būvdarbu veids vai konstruktīvā elementa nosaukums)
A5: Objekta nosaukums: Dzīvokļa Nr. 3. atjaunošana
A6: Būves nosaukums: Daudzdzīvokļu dzīvojamā māja
A7: Objekta adrese: Dālderi 15, Irši, Iršu pagasts, Aizkraukles novads, LV-5108
A8: Pasūtījuma Nr:
A10: Tāme sastādīta 2025.gada tirgus cenās, pamatojoties uz uzmērījumiem dabā | K10: Tāmes izmaksas
M12: Tāme sastādīta :
F14: Vienības izmaksas | L14: Kopā uz visu apjomu
A15: Nr.p.k. | B15: Kods | C15: Darba nosaukums | D15: Mērvienība | E15: Daudzums | F15: Laika norma (c/h). | G15: Darba samaksas likme (euro/h) | H15: Darba alga (euro) | I15: Būvizstrādājumi (euro) | J15: Mehānismi (euro) | K15: Kopā (euro) | L15: Darbietilpība (c/h) | M15: Darba alga (euro) | N15: Būvizstrādājumi (euro) | O15: Mehānismi (euro) | P15: Summa (euro)
A16: 1 | B16: 2 | C16: 3 | D16: 4 | E16: 5 | F16: 6 | G16: 7 | H16: 8 | I16: 9 | J16: 10 | K16: 11 | L16: 12 | M16: 13 | N16: 14 | O16: 15 | P16: 16
C17: Dzīvoklis Nr.15 | D17: m2 | E17: 72,8
C18: Demontāžas darbi
A19: 1 | C19: Esošo ārdurvju/iekšdurvju 900x2050mm demontāža | D19: kpl | E19: 8
A20: 2 | C20: Esošo logu demontāža | D20: m2 | E20: 10.25
A21: 3 | C21: Esošo logu palodžu demontāža | D21: m | E21: 7.2
A22: 4 | C22: Esošās elektroinstalācijas - griestu lampas, sienu lampas, kontakti, slēdži, demontāža | D22: gb | E22: 30
A23: 5 | C23: Vecās santehnikas demontāža | D23: gb | E23: 3
A24: 6 | C24: Griestu vecās apdares noņemšana, tapetes, krāsa, balsinājums utt… | D24: m2 | E24: 72.8
A25: 7 | C25: Sienu vecās apdares noņemšana, tapetes, krāsa, flīzes, apmetums utt… | D25: m2 | E25: 193.2
C26: Aiļu aizpildījumu elementi
A27: 8 | C27: Jaunu Priedes koka (lakotu) durvju 700-900x2050mm ar stiklojumu vai bez montāža, tai sk., furnitūra, kleidas no vienas puses | D27: kpl | E27: 8
A28: 9 | C28: PVC logu uzstādīšana | D28: m2 | E28: 10.25
A29: 10 | C29: Palodžu uzstādīšana - PVC vai kokskaidas b=150 - 400mm | D29: m | E29: 7.2
A30: 11 | C30: Logu aiļu apdare | D30: m | E30: 29
C31: Montāžas un apdares darbi
C32: Griesti
A33: 12 | C33: Griestu plaknes (dz.betona paneļi vai reģipša apšuvums) sagatavošana apdarei, tai sk., gruntēšana pa kārtām, špaktelēšana, slīpēšana, pēc nepieciešamības sieta iestrāde šuvēs | D33: m2 | E33: 72.8
A34: 13 | C34: Griestu krāsošana ar ūdens emulsijas krāsu iekšdarbiem 2. kārtās, tai sk., nepieciešamie palīgdarbi | D34: m2 | E34: 72.8
C35: Sienas
A36: 14 | C36: Sienu un ailu sagatavošana apdarei, tai sk., gruntēšana pa kārtām, špaktelēšana, slīpēšana, pēc nepieciešamības sieta iestrāde šuvēs, plaisās | D36: m2 | E36: 193.2
A37: 15 | C37: Sienu un ailu krāsošana ar ūdens emulsijas krāsu iekšdarbiem 2. kārtās, tai sk., nepieciešamie palīgdarbi | D37: m2 | E37: 193.2
C38: Grīdas
A39: 16 | C39: Lamināta grīdas seguma 32. klase 8mm ierīkošana, tai sk., apakšklājs 2-8mm biezumā | D39: m2 | E39: 72.8
C40: Specializētie darbi – iekšējie tīkli, sistēmas
C41: Elektroinstalācijas darbi
A42: 17 | C42: Rozetes vai slēdža montāža esošā vietā | D42: kpl | E42: 17
A43: 18 | C43: Jauna griestu virsapmetuma Lampas montāža, piem: LED gaismeklis BESA 24W, 2400lm, siltā/neitrālā gaisma, kantains/apaļš, vai ekvivalents | D43: kpl | E43: 8
C44: Santehniskie darbi
...

Sheet K4-Dālderi 12,  Irši
A1: Lokālā tāme Nr. 4
A3: Vispārējie būvdarbi - Dzīvokļa atjaunošana
A4: (būvdarbu veids vai konstruktīvā elementa nosaukums)
A5: Objekta nosaukums: Dzīvokļa Nr. 4. atjaunošana
A6: Būves nosaukums: Daudzdzīvokļu dzīvojamā māja
A7: Objekta adrese: Dālderi 12, Irši, Iršu pagasts, Aizkraukles novads, LV-5108
A8: Pasūtījuma Nr:
A10: Tāme sastādīta 2025.gada tirgus cenās, pamatojoties uz uzmērījumiem dabā | K10: Tāmes izmaksas
M12: Tāme sastādīta :
F14: Vienības izmaksas | L14: Kopā uz visu apjomu
A15: Nr.p.k. | B15: Kods | C15: Darba nosaukums | D15: Mērvienība | E15: Daudzums | F15: Laika norma (c/h). | G15: Darba samaksas likme (euro/h) | H15: Darba alga (euro) | I15: Būvizstrādājumi (euro) | J15: Mehānismi (euro) | K15: Kopā (euro) | L15: Darbietilpība (c/h) | M15: Darba alga (euro) | N15: Būvizstrādājumi (euro) | O15: Mehānismi (euro) | P15: Summa (euro)
A16: 1 | B16: 2 | C16: 3 | D16: 4 | E16: 5 | F16: 6 | G16: 7 | H16: 8 | I16: 9 | J16: 10 | K16: 11 | L16: 12 | M16: 13 | N16: 14 | O16: 15 | P16: 16
C17: Dzīvoklis Nr.12 | D17: m2 | E17: 57,5
C18: Demontāžas darbi
A19: 1 | C19: Esošo ārdurvju/iekšdurvju 900x2050mm demontāža | D19: kpl | E19: 7
A20: 2 | C20: Esošo logu demontāža | D20: m2 | E20: 8.2
A21: 3 | C21: Esošo logu palodžu demontāža | D21: m | E21: 5.7
A22: 4 | C22: Esošās elektroinstalācijas - griestu lampas, sienu lampas, kontakti, slēdži, demontāža | D22: gb | E22: 24
A23: 5 | C23: Vecās santehnikas demontāža | D23: gb | E23: 3
A24: 6 | C24: Griestu vecās apdares noņemšana, tapetes, krāsa, balsinājums utt… | D24: m2 | E24: 57.5
A25: 7 | C25: Sienu vecās apdares noņemšana, tapetes, krāsa, flīzes, apmetums utt… | D25: m2 | E25: 158.55
A26: 8 | C26: Grīdu vecās apdares noņemšana – linolejs, krāsa, preskartons, flīzes utt… | D26: m2
C27: Aiļu aizpildījumu elementi
A28: 9 | C28: Jaunu Priedes koka (lakotu) durvju 700-900x2050mm ar stiklojumu vai bez montāža, tai sk., furnitūra, kleidas no vienas puses | D28: kpl | E28: 7
A29: 10 | C29: PVC logu uzstādīšana | D29: m2 | E29: 8.2
A30: 11 | C30: Palodžu uzstādīšana - PVC vai kokskaidas b=150 - 400mm | D30: m | E30: 5.7
A31: 12 | C31: Logu aiļu apdare | D31: m | E31: 23
C32: Montāžas un apdares darbi
C33: Griesti
A34: 13 | C34: Griestu plaknes (dz.betona paneļi vai reģipša apšuvums) sagatavošana apdarei, tai sk., gruntēšana pa kārtām, špaktelēšana, slīpēšana, pēc nepieciešamības sieta iestrāde šuvēs | D34: m2 | E34: 57.5
A35: 14 | C35: Griestu krāsošana ar ūdens emulsijas krāsu iekšdarbiem 2. kārtās, tai sk., nepieciešamie palīgdarbi | D35: m2 | E35: 57.5
C36: Sienas
A37: 15 | C37: Sienu un ailu sagatavošana apdarei, tai sk., gruntēšana pa kārtām, špaktelēšana, slīpēšana, pēc nepieciešamības sieta iestrāde šuvēs, plaisās | D37: m2 | E37: 158.55
A38: 16 | C38: Sienu un ailu krāsošana ar ūdens emulsijas krāsu iekšdarbiem 2. kārtās, tai sk., nepieciešamie palīgdarbi | D38: m2 | E38: 158.55
C39: Grīdas
A40: 17 | C40: Lamināta grīdas seguma 32. klase 8mm ierīkošana, tai sk., apakšklājs 2-8mm biezumā | D40: m2 | E40: 51.9
C41: Specializētie darbi – iekšējie tīkli, sistēmas
C42: Elektroinstalācijas darbi
A43: 18 | C43: Vadu kanālu štrobēšana, kabeļu ieguldīšana un kanālu aizpildīšanu | D43: m
A44: 19 | C44: Kabeļu ieguldīšana (bez štrobēšana) | D44: m
...

Sheet K5-1905. gada 27-4
A1: Lokālā tāme Nr. 5
A3: Vispārējie būvdarbi - Dzīvokļa atjaunošana
A4: (būvdarbu veids vai konstruktīvā elementa nosaukums)
A5: Objekta nosaukums: Dzīvokļa Nr. 5 atjaunošana
A6: Būves nosaukums: Daudzdzīvokļu dzīvojamā māja
A7: Objekta adrese: 1905. gada iela 27-4, Koknese, Aizkraukles novads, LV-5113
A8: Pasūtījuma Nr:
A10: Tāme sastādīta 2025.gada tirgus cenās, pamatojoties uz uzmērījumiem dabā | K10: Tāmes izmaksas
M12: Tāme sastādīta :
F14: Vienības izmaksas | L14: Kopā uz visu apjomu
A15: Nr.p.k. | B15: Kods | C15: Darba nosaukums | D15: Mērvienība | E15: Daudzums | F15: Laika norma (c/h). | G15: Darba samaksas likme (euro/h) | H15: Darba alga (euro) | I15: Būvizstrādājumi (euro) | J15: Mehānismi (euro) | K15: Kopā (euro) | L15: Darbietilpība (c/h) | M15: Darba alga (euro) | N15: Būvizstrādājumi (euro) | O15: Mehānismi (euro) | P15: Summa (euro)
A16: 1 | B16: 2 | C16: 3 | D16: 4 | E16: 5 | F16: 6 | G16: 7 | H16: 8 | I16: 9 | J16: 10 | K16: 11 | L16: 12 | M16: 13 | N16: 14 | O16: 15 | P16: 16
C17: Dzīvoklis Nr. 9 | D17: m2 | E17: 41.9
C18: Demontāžas darbi
A19: 1 | C19: Griestu vecās apdares noņemšana, tapetes, krāsa, balsinājums utt… | D19: m2 | E19: 41.9
A20: 2 | C20: Sienu vecās apdares noņemšana, tapetes, krāsa, flīzes, apmetums utt… | D20: m2 | E20: 60
A21: 3 | C21: Grīdu vecās apdares noņemšana – linolejs, krāsa, preskartons, flīzes utt… | D21: m2 | E21: 41.9
C22: Aiļu aizpildījumu elementi
A23: 4 | C23: Jaunu Priedes koka (lakotu) durvju 700-900x2050mm ar stiklojumu vai bez montāža, tai sk., furnitūra, kleidas no vienas puses | D23: kpl | E23: 3
C24: Montāžas un apdares darbi
C25: Griesti
A26: 5 | C26: Griestu plaknes (dz.betona paneļi vai reģipša apšuvums) sagatavošana apdarei, tai sk., gruntēšana pa kārtām, špaktelēšana, slīpēšana, pēc nepieciešamības sieta iestrāde šuvēs | D26: m2 | E26: 41.9
A27: 6 | C27: Griestu krāsošana ar ūdens emulsijas krāsu iekšdarbiem 2. kārtās, tai sk., nepieciešamie palīgdarbi | D27: m2 | E27: 41.9
C28: Sienas
A29: 7 | C29: Sienu un ailu sagatavošana apdarei, tai sk., gruntēšana pa kārtām, špaktelēšana, slīpēšana, pēc nepieciešamības sieta iestrāde šuvēs, plaisās | D29: m2 | E29: 60
A30: 8 | C30: Sienu un ailu krāsošana ar ūdens emulsijas krāsu iekšdarbiem 2. kārtās, tai sk., nepieciešamie palīgdarbi | D30: m2 | E30: 60
C31: Grīdas
A32: 9 | C32: Esošās grīdas pamatnes (koka dēļi), sagatavošana lamināta ieklāšanai, tai sk., nelīdzenumu pieslīpēšana, pievilkšana, atputekļošana | D32: m2 | E32: 41.9
A33: 10 | C33: Grīdas pamatnes sagatavošana, vieglbetona izlīdzonošās kārtas b=80mm ierīkošana, tai sk.,stiegrojums | D33: m2 | E33: 41.9
A34: 11 | C34: Lamināta grīdas seguma 32. klase 8mm ierīkošana, tai sk., apakšklājs 2-8mm biezumā | D34: m2 | E34: 41.9
A35: 12 | C35: PVC grīdlīstu 55mm un segumu savienojošo metāla līstu ierīkošana, tai sk., savienojumi un montāžas stiprinājumi | D35: m | E35: 40
C36: Specializētie darbi – iekšējie tīkli, sistēmas
C37: Elektroinstalācijas darbi
A38: 13 | C38: Jauna griestu virsapmetuma Lampas montāža, piem: LED gaismeklis BESA 24W, 2400lm, siltā/neitrālā gaisma, kantains/apaļš, vai ekvivalents | D38: kpl | E38: 5
C39: Santehniskie darbi
A40: 14 | C40: Esošās dabīgās ventilācijas restes 200x300mm nomaiņa | D40: gb | E40: 1
C41: Dažādi darbi
A42: 15 | C42: Dažādi darbi - Objekta mobilizācija,demobilizācija, būvmateriālu izkraušana, pārvietošana, virsmu aizsardzība darbu gaitā, objekta sakopšana pēc būvdarbiem... | D42: obj | E42: 1
A43: 16 | C43: Darba gaitā radušos būvgružu savākšana, utilizācija | D43: t | E43: 2
C44: kopā:
...

Sheet Tilta 1 (pagrabtelpa)
A1: Lokālā tāme Nr. 6
A3: Vispārējie būvdarbi - Dzīvokļa atjaunošana
A4: (būvdarbu veids vai konstruktīvā elementa nosaukums)
A5: Objekta nosaukums: Dzīvokļa Nr. 6 atjaunošana
A6: Būves nosaukums: Daudzdzīvokļu dzīvojamā māja
A7: Objekta adrese: Tilta iela 1(pagrabtelpa), Koknese, Aizkraukles novads, LV-5113
A8: Pasūtījuma Nr:
A10: Tāme sastādīta 2025.gada tirgus cenās, pamatojoties uz uzmērījumiem dabā | K10: Tāmes izmaksas
M12: Tāme sastādīta :
F14: Vienības izmaksas | L14: Kopā uz visu apjomu
A15: Nr.p.k. | B15: Kods | C15: Darba nosaukums | D15: Mērvienība | E15: Daudzums | F15: Laika norma (c/h). | G15: Darba samaksas likme (euro/h) | H15: Darba alga (euro) | I15: Būvizstrādājumi (euro) | J15: Mehānismi (euro) | K15: Kopā (euro) | L15: Darbietilpība (c/h) | M15: Darba alga (euro) | N15: Būvizstrādājumi (euro) | O15: Mehānismi (euro) | P15: Summa (euro)
A16: 1 | B16: 2 | C16: 3 | D16: 4 | E16: 5 | F16: 6 | G16: 7 | H16: 8 | I16: 9 | J16: 10 | K16: 11 | L16: 12 | M16: 13 | N16: 14 | O16: 15 | P16: 16
C17: Dzīvoklis Nr. 8 | D17: m2 | E17: 61.5
C18: Demontāžas darbi
A19: 1 | C19: Esošo logu demontāža | D19: m2 | E19: 8
A20: 2 | C20: Esošo logu palodžu demontāža | D20: m | E20: 5
A21: 3 | C21: Esošās elektroinstalācijas - griestu lampas, sienu lampas, kontakti, slēdži, demontāža | D21: gb | E21: 5
A22: 4 | C22: Griestu vecās apdares noņemšana, tapetes, krāsa, balsinājums utt… | D22: m2 | E22: 57
A23: 5 | C23: Esošās griestu konstrukcijas, reģipša, iekaramo griestu utt… | D23: m2 | E23: 57
A24: 6 | C24: Sienu vecās apdares noņemšana, tapetes, krāsa, flīzes, apmetums utt… | D24: m2 | E24: 80
C25: Aiļu aizpildījumu elementi
A26: 7 | C26: PVC logu uzstādīšana | D26: m2 | E26: 8
A27: 8 | C27: Palodžu uzstādīšana - PVC vai kokskaidas b=150 - 400mm | D27: m | E27: 5
C28: Montāžas un apdares darbi
C29: Griesti
A30: 9 | C30: Griestu plaknes (dz.betona paneļi vai reģipša apšuvums) sagatavošana apdarei, tai sk., gruntēšana pa kārtām, špaktelēšana, slīpēšana, pēc nepieciešamības sieta iestrāde šuvēs | D30: m2 | E30: 57
A31: 10 | C31: Griestu krāsošana ar ūdens emulsijas krāsu iekšdarbiem 2. kārtās, tai sk., nepieciešamie palīgdarbi | D31: m2 | E31: 57
C32: Sienas
A33: 11 | C33: Sienu apšūšana ar ģipšķartona loksnēm uz metāla karkasa., tai sk., montāžas stiprinājumi, skavas, profili solis 400mm, reģipsis | D33: m2 | E33: 40
A34: 12 | C34: Sienu un ailu sagatavošana apdarei, tai sk., gruntēšana pa kārtām, špaktelēšana, slīpēšana, pēc nepieciešamības sieta iestrāde šuvēs, plaisās | D34: m2 | E34: 80
A35: 13 | C35: Sienu un ailu krāsošana ar ūdens emulsijas krāsu iekšdarbiem 2. kārtās, tai sk., nepieciešamie palīgdarbi | D35: m2 | E35: 80
C36: Grīdas
A37: 14 | C37: Esošās grīdas pamatnes pašizlīdzinošās kārtas ierīkošana 3-30mm biezumā, tai sk., pamatnes gruntēšana | D37: m2 | E37: 57
A38: 17 | C38: Jāuna Dabīgā vai homogēnā (vienslāņa) linoleja grīdas seguma 34/43kl. ierīkošana, tai sk., līme un šuvju diegs, (toni saskaņot ar Pasūtītāju, atbilstoši higiēnas prasībām) | D38: m2 | E38: 57
A39: 19 | C39: Krāsotas vai lakotas grīdlīstes 60mm ierīkošana, tai sk., montāžas stiprinājumi | D39: m | E39: 35
C40: kopā:
D41: Tiešās izmaksas kopā t.sk.darba devēja sociālais nodoklis (23,59%) | L41: =L40 -> 0
H42: Virsizdevumi (%) | L42: 0.1
H43: t.sk. darba aizsardzība
H44: Peļņa (%) | L44: 0.05
...

Sheet K7-Vērenes 1-4
A1: Lokālā tāme Nr. 7
A3: Vispārējie būvdarbi - Dzīvokļa atjaunošana
A4: (būvdarbu veids vai konstruktīvā elementa nosaukums)
A5: Objekta nosaukums: Dzīvokļa Nr. 7 atjaunošana
A6: Būves nosaukums: Daudzdzīvokļu dzīvojamā māja
A7: Objekta adrese: Vērenes iela 1-4, Koknese, Aizkraukles novads, LV-5113
A8: Pasūtījuma Nr:
A10: Tāme sastādīta 2025.gada tirgus cenās, pamatojoties uz uzmērījumiem dabā | K10: Tāmes izmaksas
M12: Tāme sastādīta :
F14: Vienības izmaksas | L14: Kopā uz visu apjomu
A15: Nr.p.k. | B15: Kods | C15: Darba nosaukums | D15: Mērvienība | E15: Daudzums | F15: Laika norma (c/h). | G15: Darba samaksas likme (euro/h) | H15: Darba alga (euro) | I15: Būvizstrādājumi (euro) | J15: Mehānismi (euro) | K15: Kopā (euro) | L15: Darbietilpība (c/h) | M15: Darba alga (euro) | N15: Būvizstrādājumi (euro) | O15: Mehānismi (euro) | P15: Summa (euro)
A16: 1 | B16: 2 | C16: 3 | D16: 4 | E16: 5 | F16: 6 | G16: 7 | H16: 8 | I16: 9 | J16: 10 | K16: 11 | L16: 12 | M16: 13 | N16: 14 | O16: 15 | P16: 16
C17: Dzīvoklis Nr. 7 | D17: m2 | E17: 33.6
C18: Demontāžas darbi
A19: 1 | C19: Esošās elektroinstalācijas - griestu lampas, sienu lampas, kontakti, slēdži, demontāža | D19: gb | E19: 4
A20: 2 | C20: Esošās griestu konstrukcijas, reģipša, iekaramo griestu utt… | D20: m2 | E20: 33.6
A21: 3 | C21: Sienu vecās apdares noņemšana, tapetes, krāsa, flīzes, apmetums utt… | D21: m2 | E21: 80
A22: 4 | C22: Grīdu vecās apdares noņemšana – linolejs, krāsa, preskartons, flīzes utt… | D22: m2 | E22: 30
C23: Montāžas un apdares darbi
C24: Griesti
A25: 5 | C25: Griestu plaknes (dz.betona paneļi vai reģipša apšuvums) sagatavošana apdarei, tai sk., gruntēšana pa kārtām, špaktelēšana, slīpēšana, pēc nepieciešamības sieta iestrāde šuvēs | D25: m2 | E25: 33.6
A26: 6 | C26: Griestu krāsošana ar ūdens emulsijas krāsu iekšdarbiem 2. kārtās, tai sk., nepieciešamie palīgdarbi | D26: m2 | E26: 33.6
C27: Sienas
A28: 7 | C28: Sienu un ailu sagatavošana apdarei, tai sk., gruntēšana pa kārtām, špaktelēšana, slīpēšana, pēc nepieciešamības sieta iestrāde šuvēs, plaisās | D28: m2 | E28: 80
A29: 8 | C29: Sienu un ailu krāsošana ar ūdens emulsijas krāsu iekšdarbiem 2. kārtās, tai sk., nepieciešamie palīgdarbi | D29: m2 | E29: 80
C30: Grīdas
A31: 9 | C31: Esošās grīdas pamatnes (koka dēļi), sagatavošana lamināta ieklāšanai, tai sk., nelīdzenumu pieslīpēšana, pievilkšana, atputekļošana | D31: m2 | E31: 30
A32: 10 | C32: Lamināta grīdas seguma 32. klase 8mm ierīkošana, tai sk., apakšklājs 2-8mm biezumā | D32: m2 | E32: 30
A33: 11 | C33: PVC grīdlīstu 55mm un segumu savienojošo metāla līstu ierīkošana, tai sk., savienojumi un montāžas stiprinājumi | D33: m | E33: 40
A34: 12 | C34: Specializētie darbi – iekšējie tīkli, sistēmas
C35: Elektroinstalācijas darbi
A36: 13 | C36: Rozetes vai slēdža montāža esošā vietā | D36: kpl | E36: 10
A37: 14 | C37: Jauna griestu virsapmetuma Lampas montāža, piem: LED gaismeklis BESA 24W, 2400lm, siltā/neitrālā gaisma, kantains/apaļš, vai ekvivalents | D37: kpl | E37: 4
C38: Santehniskie darbi
A39: 15 | C39: Esošās terauda vannas 1600x750x600mm emaljas krāsojuma atjaunošana, tai sk., ārpuse, visi nepieciešamie sagatavošanas darbi un palīgmateriāli | D39: kpl | E39: 1
A40: 16 | C40: Duškabīnes ar paliktni uzstādīšana | D40: kpl | E40: 1
A41: 17 | C41: WC poda ar skalojamo kasti montāža | D41: kpl | E41: 1
A42: 18 | C42: Roku mazgātnes montāža (izlietne, kāja, sifons) | D42: kpl | E42: 1
A43: 19 | C43: Jaucējkrāna montāža | D43: kpl | E43: 1
A44: 20 | C44: Esošās dabīgās ventilācijas restes 200x300mm nomaiņa | D44: gb | E44: 2
...

Sheet K8- Blaumaņa 20-7 5
A1: Lokālā tāme Nr. 8
A3: Vispārējie būvdarbi - Dzīvokļa atjaunošana
A4: (būvdarbu veids vai konstruktīvā elementa nosaukums)
A5: Objekta nosaukums: Dzīvokļa Nr. 8 atjaunošana
A6: Būves nosaukums: Daudzdzīvokļu dzīvojamā māja
A7: Objekta adrese: Blaumaņa iela 20-7/5, Koknese, Aizkraukles novads, LV-5113
A8: Pasūtījuma Nr:
A10: Tāme sastādīta 2025.gada tirgus cenās, pamatojoties uz uzmērījumiem dabā | K10: Tāmes izmaksas
M12: Tāme sastādīta :
F14: Vienības izmaksas | L14: Kopā uz visu apjomu
A15: Nr.p.k. | B15: Kods | C15: Darba nosaukums | D15: Mērvienība | E15: Daudzums | F15: Laika norma (c/h). | G15: Darba samaksas likme (euro/h) | H15: Darba alga (euro) | I15: Būvizstrādājumi (euro) | J15: Mehānismi (euro) | K15: Kopā (euro) | L15: Darbietilpība (c/h) | M15: Darba alga (euro) | N15: Būvizstrādājumi (euro) | O15: Mehānismi (euro) | P15: Summa (euro)
A16: 1 | B16: 2 | C16: 3 | D16: 4 | E16: 5 | F16: 6 | G16: 7 | H16: 8 | I16: 9 | J16: 10 | K16: 11 | L16: 12 | M16: 13 | N16: 14 | O16: 15 | P16: 16
C17: Dzīvoklis Nr. 6 | D17: m2 | E17: 83.5
C18: Demontāžas darbi
A19: 1 | C19: Esošo logu demontāža | D19: m2 | E19: 4.5
A20: 2 | C20: Esošo logu palodžu demontāža | D20: m | E20: 2.5
A21: 3 | C21: Esošās elektroinstalācijas - griestu lampas, sienu lampas, kontakti, slēdži, demontāža | D21: gb | E21: 11
A22: 4 | C22: Griestu vecās apdares noņemšana, tapetes, krāsa, balsinājums utt… | D22: m2 | E22: 19.5
A23: 5 | C23: Sienu vecās apdares noņemšana, tapetes, krāsa, flīzes, apmetums utt… | D23: m2 | E23: 62.5
A24: 6 | C24: Grīdu vecās apdares noņemšana – linolejs, krāsa, preskartons, flīzes utt… | D24: m2 | E24: 19.5
C25: Aiļu aizpildījumu elementi
A26: 7 | C26: Jaunu Priedes koka (lakotu) durvju 700-900x2050mm ar stiklojumu vai bez montāža, tai sk., furnitūra, kleidas no vienas puses | D26: kpl | E26: 2
A27: 8 | C27: PVC logu uzstādīšana | D27: m2 | E27: 4.5
A28: 9 | C28: Palodžu uzstādīšana - PVC vai kokskaidas b=150 - 400mm | D28: m | E28: 2.5
A29: 10 | C29: Logu aiļu apdare | D29: m | E29: 9
C30: Montāžas un apdares darbi
C31: Griesti
A32: 11 | C32: Griestu plaknes (dz.betona paneļi vai reģipša apšuvums) sagatavošana apdarei, tai sk., gruntēšana pa kārtām, špaktelēšana, slīpēšana, pēc nepieciešamības sieta iestrāde šuvēs | D32: m2 | E32: 62.5
A33: 12 | C33: Griestu krāsošana ar ūdens emulsijas krāsu iekšdarbiem 2. kārtās, tai sk., nepieciešamie palīgdarbi | D33: m2 | E33: 62.5
C34: Sienas
A35: 13 | C35: Sienu un ailu sagatavošana apdarei, tai sk., gruntēšana pa kārtām, špaktelēšana, slīpēšana, pēc nepieciešamības sieta iestrāde šuvēs, plaisās | D35: m2 | E35: 62.5
A36: 14 | C36: Sienu un ailu krāsošana ar ūdens emulsijas krāsu iekšdarbiem 2. kārtās, tai sk., nepieciešamie palīgdarbi | D36: m2 | E36: 62.5
C37: Grīdas
A38: 15 | C38: Esošās grīdas pamatnes (koka dēļi), sagatavošana lamināta ieklāšanai, tai sk., nelīdzenumu pieslīpēšana, pievilkšana, atputekļošana | D38: m2 | E38: 19.5
A39: 16 | C39: Esošās grīdas pamatnes pašizlīdzinošās kārtas ierīkošana 3-30mm biezumā, tai sk., pamatnes gruntēšana | D39: m2 | E39: 19.5
A40: 17 | C40: Lamināta grīdas seguma 32. klase 8mm ierīkošana, tai sk., apakšklājs 2-8mm biezumā | D40: m2 | E40: 19.5
A41: 18 | C41: PVC grīdlīstu 55mm un segumu savienojošo metāla līstu ierīkošana, tai sk., savienojumi un montāžas stiprinājumi | D41: m | E41: 25
C42: Specializētie darbi – iekšējie tīkli, sistēmas
C43: Elektroinstalācijas darbi
A44: 19 | C44: Vadu kanālu štrobēšana, kabeļu ieguldīšana un kanālu aizpildīšanu | D44: m | E44: 12
...

Sheet K9-Indrānu 8-23
A1: Lokālā tāme Nr. 9
A3: Vispārējie būvdarbi - Dzīvokļa atjaunošana
A4: (būvdarbu veids vai konstruktīvā elementa nosaukums)
A5: Objekta nosaukums: Dzīvokļa Nr. 9 atjaunošana
A6: Būves nosaukums: Daudzdzīvokļu dzīvojamā māja
A7: Objekta adrese: Indrānu iela 8-23, Koknese, Aizkraukles novads, LV-5113
A8: Pasūtījuma Nr:
A10: Tāme sastādīta 2025.gada tirgus cenās, pamatojoties uz uzmērījumiem dabā | K10: Tāmes izmaksas
M12: Tāme sastādīta :
F14: Vienības izmaksas | L14: Kopā uz visu apjomu
A15: Nr.p.k. | B15: Kods | C15: Darba nosaukums | D15: Mērvienība | E15: Daudzums | F15: Laika norma (c/h). | G15: Darba samaksas likme (euro/h) | H15: Darba alga (euro) | I15: Būvizstrādājumi (euro) | J15: Mehānismi (euro) | K15: Kopā (euro) | L15: Darbietilpība (c/h) | M15: Darba alga (euro) | N15: Būvizstrādājumi (euro) | O15: Mehānismi (euro) | P15: Summa (euro)
A16: 1 | B16: 2 | C16: 3 | D16: 4 | E16: 5 | F16: 6 | G16: 7 | H16: 8 | I16: 9 | J16: 10 | K16: 11 | L16: 12 | M16: 13 | N16: 14 | O16: 15 | P16: 16
C17: Dzīvoklis Nr. 5 | D17: m2 | E17: 51.5
C18: Demontāžas darbi
A19: 1 | C19: Esošās griestu konstrukcijas, reģipša, iekaramo griestu utt… | D19: m2 | E19: 48
A20: 2 | C20: Grīdu vecās apdares noņemšana – linolejs, krāsa, preskartons, flīzes utt… | D20: m2 | E20: 48
C21: Aiļu aizpildījumu elementi
A22: 3 | C22: Jaunu Priedes koka (lakotu) durvju 700-900x2050mm ar stiklojumu vai bez montāža, tai sk., furnitūra, kleidas no vienas puses | D22: kpl | E22: 2
C23: Montāžas un apdares darbi
C24: Griesti
A25: 4 | C25: Griestu plaknes (dz.betona paneļi vai reģipša apšuvums) sagatavošana apdarei, tai sk., gruntēšana pa kārtām, špaktelēšana, slīpēšana, pēc nepieciešamības sieta iestrāde šuvēs | D25: m2 | E25: 48
A26: 5 | C26: Griestu krāsošana ar ūdens emulsijas krāsu iekšdarbiem 2. kārtās, tai sk., nepieciešamie palīgdarbi | D26: m2 | E26: 48
C27: Sienas
A28: 6 | C28: Sienu un ailu sagatavošana apdarei, tai sk., gruntēšana pa kārtām, špaktelēšana, slīpēšana, pēc nepieciešamības sieta iestrāde šuvēs, plaisās | D28: m2 | E28: 100
A29: 7 | C29: Sienu un ailu krāsošana ar ūdens emulsijas krāsu iekšdarbiem 2. kārtās, tai sk., nepieciešamie palīgdarbi | D29: m2 | E29: 100
C30: Grīdas
A31: 8 | C31: Esošās grīdas pamatnes pašizlīdzinošās kārtas ierīkošana 3-30mm biezumā, tai sk., pamatnes gruntēšana | D31: m2 | E31: 40
A32: 9 | C32: Lamināta grīdas seguma 32. klase 8mm ierīkošana, tai sk., apakšklājs 2-8mm biezumā | D32: m2 | E32: 48
C33: Specializētie darbi – iekšējie tīkli, sistēmas
C34: Elektroinstalācijas darbi
A35: 10 | C35: Vadu kanālu štrobēšana, kabeļu ieguldīšana un kanālu aizpildīšanu | D35: m | E35: 15
A36: 11 | C36: Kabeļu ieguldīšana (bez štrobēšana) | D36: m | E36: 50
A37: 12 | C37: Jauna elektrības punkta ierīkošana | D37: kpl | E37: 5
A38: 13 | C38: Rozetes vai slēdža montāža esošā vietā | D38: kpl | E38: 10
A39: 14 | C39: Jauna griestu virsapmetuma Lampas montāža, piem: LED gaismeklis BESA 24W, 2400lm, siltā/neitrālā gaisma, kantains/apaļš, vai ekvivalents | D39: kpl | E39: 3
C40: Dažādi darbi
A41: 15 | C41: Dažādi darbi - Objekta mobilizācija,demobilizācija, būvmateriālu izkraušana, pārvietošana, virsmu aizsardzība darbu gaitā, objekta sakopšana pēc būvdarbiem... | D41: obj | E41: 1
A42: 16 | C42: Darba gaitā radušos būvgružu savākšana, utilizācija | D42: t | E42: 1
C43: kopā:
D44: Tiešās izmaksas kopā t.sk.darba devēja sociālais nodoklis (23,59%)
...

Sheet K10-Vērenes 1-2
A1: Lokālā tāme Nr. 10
A3: Vispārējie būvdarbi - Dzīvokļa atjaunošana
A4: (būvdarbu veids vai konstruktīvā elementa nosaukums)
A5: Objekta nosaukums: Dzīvokļa Nr. 10 atjaunošana
A6: Būves nosaukums: Daudzdzīvokļu dzīvojamā māja
A7: Objekta adrese: Vērenes iela 1-2, Koknese, Aizkraukles novads, LV-5113
A8: Pasūtījuma Nr:
A10: Tāme sastādīta 2025.gada tirgus cenās, pamatojoties uz uzmērījumiem dabā | K10: Tāmes izmaksas
M12: Tāme sastādīta :
F14: Vienības izmaksas | L14: Kopā uz visu apjomu
A15: Nr.p.k. | B15: Kods | C15: Darba nosaukums | D15: Mērvienība | E15: Daudzums | F15: Laika norma (c/h). | G15: Darba samaksas likme (euro/h) | H15: Darba alga (euro) | I15: Būvizstrādājumi (euro) | J15: Mehānismi (euro) | K15: Kopā (euro) | L15: Darbietilpība (c/h) | M15: Darba alga (euro) | N15: Būvizstrādājumi (euro) | O15: Mehānismi (euro) | P15: Summa (euro)
A16: 1 | B16: 2 | C16: 3 | D16: 4 | E16: 5 | F16: 6 | G16: 7 | H16: 8 | I16: 9 | J16: 10 | K16: 11 | L16: 12 | M16: 13 | N16: 14 | O16: 15 | P16: 16
C17: Dzīvoklis Nr. 4 | D17: m2 | E17: 47.9
C18: Demontāžas darbi
A19: 1 | C19: Griestu vecās apdares noņemšana, tapetes, krāsa, balsinājums utt… | D19: m2 | E19: 45
A20: 2 | C20: Grīdu vecās apdares noņemšana – linolejs, krāsa, preskartons, flīzes utt… | D20: m2 | E20: 45
C21: Aiļu aizpildījumu elementi
C22: Montāžas un apdares darbi
C23: Griesti
A24: 3 | C24: Griestu plaknes (dz.betona paneļi vai reģipša apšuvums) sagatavošana apdarei, tai sk., gruntēšana pa kārtām, špaktelēšana, slīpēšana, pēc nepieciešamības sieta iestrāde šuvēs | D24: m2 | E24: 47.9
A25: 4 | C25: Griestu krāsošana ar ūdens emulsijas krāsu iekšdarbiem 2. kārtās, tai sk., nepieciešamie palīgdarbi | D25: m2 | E25: 47.9
C26: Sienas
A27: 5 | C27: Sienu un ailu sagatavošana apdarei, tai sk., gruntēšana pa kārtām, špaktelēšana, slīpēšana, pēc nepieciešamības sieta iestrāde šuvēs, plaisās | D27: m2 | E27: 110
A28: 6 | C28: Sienu un ailu krāsošana ar ūdens emulsijas krāsu iekšdarbiem 2. kārtās, tai sk., nepieciešamie palīgdarbi | D28: m2 | E28: 110
C29: Grīdas
A30: 7 | C30: Esošās grīdas pamatnes (koka dēļi), sagatavošana lamināta ieklāšanai, tai sk., nelīdzenumu pieslīpēšana, pievilkšana, atputekļošana | D30: m2 | E30: 45
A31: 8 | C31: Jāuna Dabīgā vai homogēnā (vienslāņa) linoleja grīdas seguma 34/43kl. ierīkošana, tai sk., līme un šuvju diegs, (toni saskaņot ar Pasūtītāju, atbilstoši higiēnas prasībām) | D31: m2 | E31: 45
A32: 9 | C32: PVC grīdlīstu 55mm un segumu savienojošo metāla līstu ierīkošana, tai sk., savienojumi un montāžas stiprinājumi | D32: m | E32: 50
C33: Specializētie darbi – iekšējie tīkli, sistēmas
C34: Elektroinstalācijas darbi
A35: 10 | C35: Rozetes vai slēdža montāža esošā vietā | D35: kpl | E35: 10
A36: 11 | C36: Jauna griestu virsapmetuma Lampas montāža, piem: LED gaismeklis BESA 24W, 2400lm, siltā/neitrālā gaisma, kantains/apaļš, vai ekvivalents | D36: kpl | E36: 7
C37: Santehniskie darbi
A38: 12 | C38: Roku mazgātnes montāža (izlietne, kāja, sifons) | D38: kpl | E38: 1
A39: 13 | C39: Jaucējkrāna montāža | D39: kpl | E39: 1
A40: 14 | C40: Esošās dabīgās ventilācijas restes 200x300mm nomaiņa | D40: gb | E40: 2
C41: Dažādi darbi
A42: 15 | C42: Dažādi darbi - Objekta mobilizācija,demobilizācija, būvmateriālu izkraušana, pārvietošana, virsmu aizsardzība darbu gaitā, objekta sakopšana pēc būvdarbiem... | D42: obj | E42: 1
A43: 16 | C43: Darba gaitā radušos būvgružu savākšana, utilizācija | D43: t | E43: 1
C44: kopā:
...

Sheet K11-1905. gada 51A-2
A1: Lokālā tāme Nr. 11
A3: Vispārējie būvdarbi - Dzīvokļa atjaunošana
A4: (būvdarbu veids vai konstruktīvā elementa nosaukums)
A5: Objekta nosaukums: Dzīvokļa Nr. 11 atjaunošana
A6: Būves nosaukums: Daudzdzīvokļu dzīvojamā māja
A7: Objekta adrese: 1905. gada iela 51A-2, Koknese, Aizkraukles novads, LV-5113
A8: Pasūtījuma Nr:
A10: Tāme sastādīta 2025.gada tirgus cenās, pamatojoties uz uzmērījumiem dabā | K10: Tāmes izmaksas
M12: Tāme sastādīta :
F14: Vienības izmaksas | L14: Kopā uz visu apjomu
A15: Nr.p.k. | B15: Kods | C15: Darba nosaukums | D15: Mērvienība | E15: Daudzums | F15: Laika norma (c/h). | G15: Darba samaksas likme (euro/h) | H15: Darba alga (euro) | I15: Būvizstrādājumi (euro) | J15: Mehānismi (euro) | K15: Kopā (euro) | L15: Darbietilpība (c/h) | M15: Darba alga (euro) | N15: Būvizstrādājumi (euro) | O15: Mehānismi (euro) | P15: Summa (euro)
A16: 1 | B16: 2 | C16: 3 | D16: 4 | E16: 5 | F16: 6 | G16: 7 | H16: 8 | I16: 9 | J16: 10 | K16: 11 | L16: 12 | M16: 13 | N16: 14 | O16: 15 | P16: 16
C17: Dzīvoklis Nr. 3 | D17: m2 | E17: 44.4
C18: Demontāžas darbi
A19: 1 | C19: Grīdu vecās apdares noņemšana – linolejs, krāsa, preskartons, flīzes utt… | D19: m2 | E19: 44.4
C20: Aiļu aizpildījumu elementi
A21: 2 | C21: Jaunu Priedes koka (lakotu) durvju 700-900x2050mm ar stiklojumu vai bez montāža, tai sk., furnitūra, kleidas no vienas puses | D21: kpl | E21: 4
C22: Montāžas un apdares darbi
C23: Sienas
A24: 3 | C24: Sienu un ailu sagatavošana apdarei, tai sk., gruntēšana pa kārtām, špaktelēšana, slīpēšana, pēc nepieciešamības sieta iestrāde šuvēs, plaisās | D24: m2 | E24: 90
A25: 4 | C25: Sienu un ailu krāsošana ar ūdens emulsijas krāsu iekšdarbiem 2. kārtās, tai sk., nepieciešamie palīgdarbi | D25: m2 | E25: 90
C26: Grīdas
A27: 5 | C27: Esošās grīdas pamatnes (koka dēļi), sagatavošana lamināta ieklāšanai, tai sk., nelīdzenumu pieslīpēšana, pievilkšana, atputekļošana | D27: m2 | E27: 40
A28: 6 | C28: Grīdas pamatnes sagatavošana, vieglbetona izlīdzonošās kārtas b=80mm ierīkošana, tai sk.,stiegrojums | D28: m2 | E28: 40
A29: 7 | C29: Esošās grīdas pamatnes pašizlīdzinošās kārtas ierīkošana 3-30mm biezumā, tai sk., pamatnes gruntēšana | D29: m2 | E29: 4
A30: 8 | C30: Lamināta grīdas seguma 32. klase 8mm ierīkošana, tai sk., apakšklājs 2-8mm biezumā | D30: m2 | E30: 40
A31: 9 | C31: Flīžu grīdas seguma ierīkošana, tai sk., grunts, šuvošana, hermetizācija | D31: m2 | E31: 4
A32: 10 | C32: PVC grīdlīstu 55mm un segumu savienojošo metāla līstu ierīkošana, tai sk., savienojumi un montāžas stiprinājumi | D32: m | E32: 46
C33: Specializētie darbi – iekšējie tīkli, sistēmas
C34: Elektroinstalācijas darbi
A35: 11 | C35: Vadu kanālu štrobēšana, kabeļu ieguldīšana un kanālu aizpildīšanu | D35: m | E35: 25
A36: 12 | C36: Kabeļu ieguldīšana (bez štrobēšana) | D36: m | E36: 50
A37: 12 | C37: Jauna elektrības punkta ierīkošana | D37: kpl | E37: 3
A38: 12 | C38: Rozetes vai slēdža montāža esošā vietā | D38: kpl | E38: 10
A39: 15 | C39: Jauna griestu virsapmetuma Lampas montāža, piem: LED gaismeklis BESA 24W, 2400lm, siltā/neitrālā gaisma, kantains/apaļš, vai ekvivalents | D39: kpl | E39: 5
C40: Dažādi darbi
A41: 16 | C41: Dažādi darbi - Objekta mobilizācija,demobilizācija, būvmateriālu izkraušana, pārvietošana, virsmu aizsardzība darbu gaitā, objekta sakopšana pēc būvdarbiem... | D41: obj | E41: 1
A42: 17 | C42: Darba gaitā radušos būvgružu savākšana, utilizācija | D42: t | E42: 1
C43: kopā:
D44: Tiešās izmaksas kopā t.sk.darba devēja sociālais nodoklis (23,59%)
...

Sheet K12_Parka 20-27
A1: Lokālā tāme Nr. 12
A3: Vispārējie būvdarbi - Dzīvokļa atjaunošana
A4: (būvdarbu veids vai konstruktīvā elementa nosaukums)
A5: Objekta nosaukums: Dzīvokļa Nr. 12 atjaunošana
A6: Būves nosaukums: Daudzdzīvokļu dzīvojamā māja
A7: Objekta adrese: Parka iela 20-27, Koknese, Aizkraukles novads, LV-5113
A8: Pasūtījuma Nr:
A10: Tāme sastādīta 2025.gada tirgus cenās, pamatojoties uz uzmērījumiem dabā | K10: Tāmes izmaksas
M12: Tāme sastādīta :
F14: Vienības izmaksas | L14: Kopā uz visu apjomu
A15: Nr.p.k. | B15: Kods | C15: Darba nosaukums | D15: Mērvienība | E15: Daudzums | F15: Laika norma (c/h). | G15: Darba samaksas likme (euro/h) | H15: Darba alga (euro) | I15: Būvizstrādājumi (euro) | J15: Mehānismi (euro) | K15: Kopā (euro) | L15: Darbietilpība (c/h) | M15: Darba alga (euro) | N15: Būvizstrādājumi (euro) | O15: Mehānismi (euro) | P15: Summa (euro)
A16: 1 | B16: 2 | C16: 3 | D16: 4 | E16: 5 | F16: 6 | G16: 7 | H16: 8 | I16: 9 | J16: 10 | K16: 11 | L16: 12 | M16: 13 | N16: 14 | O16: 15 | P16: 16
C17: Dzīvoklis Nr. 2 | D17: m2 | E17: 57.82
C18: Demontāžas darbi
A19: 1 | C19: Esošo ārdurvju/iekšdurvju 900x2050mm demontāža | D19: kpl | E19: 2
A20: 2 | C20: Esošo logu demontāža | D20: m2 | E20: 8
A21: 3 | C21: Esošo logu palodžu demontāža | D21: m | E21: 6
A22: 4 | C22: Esošās elektroinstalācijas - griestu lampas, sienu lampas, kontakti, slēdži, demontāža | D22: gb | E22: 5
A23: 5 | C23: Griestu vecās apdares noņemšana, tapetes, krāsa, balsinājums utt… | D23: m2 | E23: 30
A24: 6 | C24: Esošās griestu konstrukcijas, reģipša, iekaramo griestu utt… | D24: m2 | E24: 30
A25: 7 | C25: Sienu vecās apdares noņemšana, tapetes, krāsa, flīzes, apmetums utt… | D25: m2 | E25: 60
C26: Aiļu aizpildījumu elementi
A27: 8 | C27: Jaunu Priedes koka (lakotu) durvju 700-900x2050mm ar stiklojumu vai bez montāža, tai sk., furnitūra, kleidas no vienas puses | D27: kpl | E27: 5
A28: 9 | C28: PVC logu uzstādīšana | D28: m2 | E28: 8
A29: 10 | C29: Palodžu uzstādīšana - PVC vai kokskaidas b=150 - 400mm | D29: m | E29: 6
A30: 11 | C30: Logu aiļu apdare | D30: m | E30: 14
C31: Montāžas un apdares darbi
C32: Griesti
A33: 12 | C33: Griestu plaknes (dz.betona paneļi vai reģipša apšuvums) sagatavošana apdarei, tai sk., gruntēšana pa kārtām, špaktelēšana, slīpēšana, pēc nepieciešamības sieta iestrāde šuvēs | D33: m2 | E33: 30
A34: 13 | C34: Griestu krāsošana ar ūdens emulsijas krāsu iekšdarbiem 2. kārtās, tai sk., nepieciešamie palīgdarbi | D34: m2 | E34: 30
C35: Sienas
A36: 14 | C36: Sienu un ailu sagatavošana apdarei, tai sk., gruntēšana pa kārtām, špaktelēšana, slīpēšana, pēc nepieciešamības sieta iestrāde šuvēs, plaisās | D36: m2 | E36: 60
A37: 4 | C37: Sienu un ailu krāsošana ar ūdens emulsijas krāsu iekšdarbiem 2. kārtās, tai sk., nepieciešamie palīgdarbi | D37: m2 | E37: 60
C38: Specializētie darbi – iekšējie tīkli, sistēmas
C39: Elektroinstalācijas darbi
A40: 15 | C40: Vadu kanālu štrobēšana, kabeļu ieguldīšana un kanālu aizpildīšanu | D40: m | E40: 20
A41: 16 | C41: Kabeļu ieguldīšana (bez štrobēšana) | D41: m | E41: 100
A42: 17 | C42: Jauna elektrības punkta ierīkošana | D42: kpl | E42: 10
A43: 18 | C43: Rozetes vai slēdža montāža esošā vietā | D43: kpl | E43: 7
A44: 19 | C44: Jauna griestu virsapmetuma Lampas montāža, piem: LED gaismeklis BESA 24W, 2400lm, siltā/neitrālā gaisma, kantains/apaļš, vai ekvivalents | D44: kpl | E44: 3
...

Sheet K13-Blaumaņa iela 32-1
A1: Lokālā tāme Nr. 13
A3: Vispārējie būvdarbi - Dzīvokļa atjaunošana
A4: (būvdarbu veids vai konstruktīvā elementa nosaukums)
A5: Objekta nosaukums: Dzīvokļa Nr. 13 atjaunošana
A6: Būves nosaukums: Daudzdzīvokļu dzīvojamā māja
A7: Objekta adrese: Blaumaņa iela 32-1, Koknese, Aizkraukles novads, LV-5113
A8: Pasūtījuma Nr:
A10: Tāme sastādīta 2025.gada tirgus cenās, pamatojoties uz uzmērījumiem dabā | K10: Tāmes izmaksas
M12: Tāme sastādīta :
F14: Vienības izmaksas | L14: Kopā uz visu apjomu
A15: Nr.p.k. | B15: Kods | C15: Darba nosaukums | D15: Mērvienība | E15: Daudzums | F15: Laika norma (c/h). | G15: Darba samaksas likme (euro/h) | H15: Darba alga (euro) | I15: Būvizstrādājumi (euro) | J15: Mehānismi (euro) | K15: Kopā (euro) | L15: Darbietilpība (c/h) | M15: Darba alga (euro) | N15: Būvizstrādājumi (euro) | O15: Mehānismi (euro) | P15: Summa (euro)
A16: 1 | B16: 2 | C16: 3 | D16: 4 | E16: 5 | F16: 6 | G16: 7 | H16: 8 | I16: 9 | J16: 10 | K16: 11 | L16: 12 | M16: 13 | N16: 14 | O16: 15 | P16: 16
C17: Dzīvoklis Nr. 1 | D17: m2 | E17: 90.3
C18: Demontāžas darbi
A19: 1 | C19: Esošo ārdurvju/iekšdurvju 900x2050mm demontāža | D19: kpl | E19: 3
A20: 2 | C20: Esošo logu palodžu demontāža | D20: m | E20: 2
A21: 3 | C21: Esošās elektroinstalācijas - griestu lampas, sienu lampas, kontakti, slēdži, demontāža | D21: gb | E21: 7
A22: 4 | C22: Griestu vecās apdares noņemšana, tapetes, krāsa, balsinājums utt… | D22: m2 | E22: 40
A23: 5 | C23: Esošās griestu konstrukcijas, reģipša, iekaramo griestu utt… | D23: m2 | E23: 40
A24: 6 | C24: Sienu vecās apdares noņemšana, tapetes, krāsa, flīzes, apmetums utt… | D24: m2 | E24: 90
A25: 7 | C25: Grīdu vecās apdares noņemšana – linolejs, krāsa, preskartons, flīzes utt… | D25: m2 | E25: 40
C26: Aiļu aizpildījumu elementi
A27: 8 | C27: Jaunu Priedes koka (lakotu) durvju 700-900x2050mm ar stiklojumu vai bez montāža, tai sk., furnitūra, kleidas no vienas puses | D27: kpl | E27: 3
A28: 9 | C28: Palodžu uzstādīšana - PVC vai kokskaidas b=150 - 400mm | D28: m | E28: 1.3
C29: Montāžas un apdares darbi
C30: Griesti
A31: 10 | C31: Griestu plaknes (dz.betona paneļi vai reģipša apšuvums) sagatavošana apdarei, tai sk., gruntēšana pa kārtām, špaktelēšana, slīpēšana, pēc nepieciešamības sieta iestrāde šuvēs | D31: m2 | E31: 40
A32: 11 | C32: Griestu krāsošana ar ūdens emulsijas krāsu iekšdarbiem 2. kārtās, tai sk., nepieciešamie palīgdarbi | D32: m2 | E32: 40
C33: Sienas
A34: 12 | C34: Sienu un ailu sagatavošana apdarei, tai sk., gruntēšana pa kārtām, špaktelēšana, slīpēšana, pēc nepieciešamības sieta iestrāde šuvēs, plaisās | D34: m2 | E34: 90
A35: 13 | C35: Sienu flīzešana, tai sk., pamatnes gruntēšana, šuvošana, hermetizēšana | D35: m2 | E35: 12
C36: Grīdas
A37: 14 | C37: Esošās grīdas pamatnes (koka dēļi), sagatavošana lamināta ieklāšanai, tai sk., nelīdzenumu pieslīpēšana, pievilkšana, atputekļošana | D37: m2 | E37: 40
A38: 15 | C38: Esošās grīdas pamatnes pašizlīdzinošās kārtas ierīkošana 3-30mm biezumā, tai sk., pamatnes gruntēšana | D38: m2 | E38: 4
A39: 16 | C39: Lamināta grīdas seguma 32. klase 8mm ierīkošana, tai sk., apakšklājs 2-8mm biezumā | D39: m2 | E39: 40
A40: 17 | C40: Flīžu grīdas seguma ierīkošana, tai sk., grunts, šuvošana, hermetizācija | D40: m2 | E40: 4
A41: 18 | C41: PVC grīdlīstu 55mm un segumu savienojošo metāla līstu ierīkošana, tai sk., savienojumi un montāžas stiprinājumi | D41: m | E41: 40
C42: Specializētie darbi – iekšējie tīkli, sistēmas
C43: Elektroinstalācijas darbi
A44: 19 | C44: Vadu kanālu štrobēšana, kabeļu ieguldīšana un kanālu aizpildīšanu | D44: m | E44: 20
...
