Workbook

Sheet Kopsavilkums
A1: 9. pielikums iepirkuma “Daudzdzīvokļu dzīvojamo ēku jumtu remontdarbi”, id. Nr. SIAON 2026/21-MI, Nolikumam
B3: FINANŠU PIEDĀVĀJUMS
A5: ____________________(pretendenta nosaukums, vienotais reģistrācijas nr.) piedāvājam veikt iepirkumā “Daudzdzīvokļu dzīvojamo ēku jumtu remontdarbi”, id. Nr. SIAON 2026/21-MI minētos darbus, saskaņā ar Nolikumu un tā pielikumiem, tajā noteiktajā laikā un veidā par šādu līgumcenu:
A6: Nr. p. k. | B6: Dzīvojamās mājas adrese Ogrē | C6: Darbu nosaukums | D6: Pretendenta piedāvātā darbu summa, EUR bez PVN
A7: 1 | B7: LOKA IELA 4 | C7: Ieejas jumtiņu remonts | D7: ='1.Loka iela 4'!P13 -> 0
A8: 2 | B8: MĀLKALNES PROSPEKTS 30 | C8: Jumta seguma remontdarbi | D8: ='2.Mālkalnes pr. 30'!P13 -> 0
A9: 3 | B9: MĀLKALNES PROSPEKTS 34 | C9: Jumta seguma remonts/nomaiņa | D9: ='3.Mālkalnes pr. 34'!P13 -> 0
A10: 4 | B10: STRAZDU IELA 1 | C10: Ieejas jumtiņu remonts | D10: ='4. Strazdu iela 1'!P13 -> 0
A11: 5 | B11: TĪNŪŽU IELA 13 | C11: Jumta seguma nomaiņa | D11: ='5. Tīnūžu iela 13'!P13 -> 0
A12: 6 | B12: TĪNŪŽU IELA 15 | C12: Jumta seguma remontdarbi | D12: ='6. Tīnūž iela 15'!P13 -> 0
A13: 7 | B13: TĪNŪŽU IELA 9 | C13: Jumta seguma un parapeta remonts | D13: ='7. Tīnūžu iela 9'!P13 -> 0
A14: 8 | B14: TURKALNES IELA 3 | C14: Jumta attīrīšana, jumta remontdarbi | D14: ='8. Turkalnes iela 3'!P13 -> 0
A15: 9 | B15: UPES PROSPEKTS 22 | C15: Jumta seguma remontdarbi | D15: ='9. Upes pr. 22'!P13 -> 0
A16: 10 | B16: TURKALNES IELA 5 | C16: Jumta seguma remonts | D16: ='10. Turkalnes iela 5'!P13 -> 0
A17: 11 | B17: BĒRZU ALEJA 8 | C17: Jumta seguma remonts | D17: ='11. Bērzu aleja 8'!P13 -> 0
C18: Līguma summa kopā, EUR bez PVN: | D18: =ROUND(SUM(D7:D17),2) -> 0

Sheet 1.Loka iela 4
A1: 8. pielikums iepirkuma “Daudzdzīvokļu dzīvojamo ēku jumtu remontdarbi”, id. Nr. SIAON 2026/21-MI, Nolikumam
B3: TEHNISKĀ SPECIFIKĀCIJA UN TEHNISKAIS PIEDĀVĀJUMS
H5: Ēkas ieejas jumtiņu remonts - 4gb.
A6: (Darba veids vai konstruktīvā elementa nosaukums)
C8: Būves nosaukums: | D8: Daudzdzīvokļu nams
C9: Objekta adrese: | D9: Loka iela 4, Ogre
C10: Pasūtītājs: | D10: Sabiedrība ar ierobežotu atbildību ''Ogres Namsaimnieks''
C11: Izpildītājs:
O13: Pretendenta piedāvātā darbu summa, EUR bez PVN: | P13: =P58 -> 0
A15: Nr.p.k | B15: Kods | C15: Būvdarbu apraksts | D15: Mērvienība | E15: Daudzums | F15: Vienības izmaksas | L15: Kopā uz visu apjomu
F16: Laika norma (c/h) | G16: Darba samaksas likme (euro/h) | H16: Darba alga (euro) | I16: Būvizstrādājumi (euro) | J16: Mehā-nismi (euro) | K16: Kopā (euro) | L16: Darb-ietilpība (c/h) | M16: Darba alga (euro) | N16: Būvizstrādājumi (euro) | O16: Mehā-nismi (euro) | P16: Summa (euro)
A17: 1 | B17: =A17+1 -> 2 | C17: =B17+1 -> 3 | D17: =C17+1 -> 4 | E17: =D17+1 -> 5 | F17: =E17+1 -> 6 | G17: =F17+1 -> 7 | H17: =G17+1 -> 8 | I17: =H17+1 -> 9 | ... P17: =O17+1 -> 16
A18: 1 | C18: Esošo jumtiņu skārda malu demontāža | D18: m | E18: 20
A19: 2 | C19: Esošā jumta seguma demontāžas darbi | D19: m2 | E19: 37
A20: 3 | C20: Jumta pamatnes sagatavošana(gruntēšana), slīpuma izbūve | D20: m2 | E20: 37
C21: Sakret be 25kg( vai ekvivalents ) | D21: kg | E21: 400
C22: Palīgmateriāli | D22: kompl | E22: 1
A23: 4 | C23: Skārda lāseņa montāža | D23: m | E23: 15
A24: 5 | C24: Vējmalu montāža | D24: m | E24: 10
C25: Vējmala ZN | D25: m | E25: 10
C26: Skārda lāsenis 90x60x20mm ( vai analogs ) | D26: m | E26: 15
C27: Palīgmateriāli | D27: kompl | E27: 1
A28: 6 | C28: Teknes montāža jumtiņu priekšpusē | D28: m | E28: 15
C29: Tekne110mm | D29: m | E29: 15
C30: Teknes āķis īsais Zn 110mm | D30: gb | E30: 16
C31: Teknes galu vāki | D31: gb | E31: 4
C32: Montāžas materiāli | D32: kompl | E32: 4
A33: 7 | C33: Jumta hidroizolācijas materiāla virsklāja Unifleks EKP 5.0 (virsklājs, ~4,4mm) ieklāšana, pieslegumu pie jumta sienu aplīmēšana | D33: m2 | E33: 37
C34: Unifleks EKP 5.0 (virsklājs, ~4,4mm)( vai ekvivalents ) | D34: m2 | E34: 37
C35: Palīgmateriāli | D35: kompl | E35: 1
A36: 8 | C36: Jumtiņu apdares no apakšas remonts ( caurumu aizdare, virsmas špaktelēšana iestrādājot stiklašķiedra sietu) | D36: m2 | E36: 37
C37: Stiklšķiedras siets 50m2 (Valmieras 1 klase), Dzeltens, 160g( vai ekvivalents ) | D37: m2 | E37: 40
C38: Stūrīši ar sietu un lāseni | D38: m | E38: 20
C39: Sakret BAK/25kg java( vai ekvivalents ) | D39: kg | E39: 250
C40: Palīgmateriāli | D40: kompl | E40: 1
A41: 9 | C41: Jumtiņu griestu virsmas gruntēšana, krāsošana x 2 reizes | D41: m2 | E41: 37
C42: Grunts SAKRET PG 25 kg( vai ekvivalents ) | D42: kg | E42: 15
C43: Krāsa Forakril C tonētā 9L/ ( Ral 7003 ( vai ekvivalents )) | D43: L | E43: 9
C44: Palīgmateriāli | D44: kompl | E44: 1
A45: 10 | C45: Metāla balstu stabu slīpēšana, gruntēšana, krāsošana | D45: kompl | E45: 4
C46: Unimax RC SB723 ( vai ekvivalents ) | D46: L | E46: 4
C47: Unibar 959V cietinātājs( vai ekvivalents ) | D47: L | E47: 1
C48: Poluran Durovite Ral 7016( vai ekvivalents ) | D48: L | E48: 4
C49: Poluran 903V cietinātājs( vai ekvivalents ) | D49: L | E49: 3
C50: Sajaukšanas trauks | D50: kompl. | E50: 4
C51: Palīgmateriāli | D51: kompl | E51: 4
A52: 10 | C52: Objekta sakārtošana, gružu savākšana | D52: obj. | E52: 1
A53: Kopā:
C54: Transporta izmaksas:
C55: Tiešās izmaksas kopā, t.sk. darba devēja sociālais nodoklis 23,59%
C56: Virsizdevumi:
C57: Darbuzņēmēja peļņa:
C58: Kopā bez PVN:
C59: PVN
C60: Pavisam kopā:
C62: * Piedāvājot ekvivalentu materiālu, pretendentam jāiesniedz tehniskā dokumentācija, kas apliecina, ka materiāla tehniskās un ekspluatācijas īpašības nav zemākas par atsauces materiāla īpašībām. Pasūtītājs patur tiesības nepieņemt ekvivalentu, ja netiek pierādīta pilnīga atbilstība tehniskajām prasībām.

Sheet 2.Mālkalnes pr. 30
A1: 8. pielikums iepirkuma “Daudzdzīvokļu dzīvojamo ēku jumtu remontdarbi”, id. Nr. SIAON 2026/21-MI, Nolikumam
B3: TEHNISKĀ SPECIFIKĀCIJA UN TEHNISKAIS PIEDĀVĀJUMS
H5: Jumta seguma nomaiņa ( atlikusī daļa )
A6: (Darba veids vai konstruktīvā elementa nosaukums)
C8: Būves nosaukums: | D8: Daudzdzīvokļu nams
C9: Objekta adrese: | D9: Mālkalnes pr. 30, Ogre
C10: Pasūtītājs: | D10: Sabiedrība ar ierobežotu atbildību ''Ogres Namsaimnieks''
C11: Izpildītājs:
O13: Pretendenta piedāvātā darbu summa, EUR bez PVN: | P13: =P46 -> 0
A15: Nr.p.k | B15: Kods | C15: Būvdarbu apraksts | D15: Mērvienība | E15: Daudzums | F15: Vienības izmaksas | L15: Kopā uz visu apjomu
F16: Laika norma (c/h) | G16: Darba samaksas likme (euro/h) | H16: Darba alga (euro) | I16: Būvizstrādājumi (euro) | J16: Mehā-nismi (euro) | K16: Kopā (euro) | L16: Darb-ietilpība (c/h) | M16: Darba alga (euro) | N16: Būvizstrādājumi (euro) | O16: Mehā-nismi (euro) | P16: Summa (euro)
A17: 1 | B17: =A17+1 -> 2 | C17: =B17+1 -> 3 | D17: =C17+1 -> 4 | E17: =D17+1 -> 5 | F17: =E17+1 -> 6 | G17: =F17+1 -> 7 | H17: =G17+1 -> 8 | I17: =H17+1 -> 9 | ... P17: =O17+1 -> 16
A19: 1 | C19: Laukuma sagatavošana, norobežošana | D19: m | E19: 80
C20: Mobīlā sēta - noma | D20: m | E20: 40
A21: 2 | C21: Strādnieku konteinera uzlikšana | D21: gb | E21: 2
C22: Strādnieku konteineris - noma | D22: gb | E22: 1
A23: 3 | C23: Esošā jumta seguma demontāža | D23: m2 | E23: 600
C24: Gružu utilizācija - konteineris | D24: m2 | E24: 600
C25: Palīgmateriāli | D25: kompl | E25: 1
A26: 4 | C26: Materiālu uzcelšana uz jumta, gružu nocēlšana | D26: kompl | E26: 1
C27: Pacēlājs - noma | D27: kompl | E27: 1
A28: 5 | C28: Jumta pamatnes sagatavošana, tīrīšana, bojāto vietu remnts, gruntēšana | D28: m2 | E28: 600
C29: Sakret RS( vai ekvivalents ) | D29: kg | E29: 180
C30: Bitumena grunts | D30: kg | E30: 200
C31: Palīgmateriāli | D31: kompl | E31: 1
A32: 6 | C32: Bitumena ruļļmateriāla ieklāšana | D32: m2 | E32: 600
C33: Bipol XL EKP 5.0 Uzkausējamais ruberoīds( vai ekvivalents ) | D33: m2 | E33: 690
C34: Gāze | D34: baloni | E34: 12
C35: Palīgmateriāli | D35: kompl. | E35: 1
A36: 7 | C36: Aeratoru montāža | D36: gb | E36: 12
C37: Ventilācijas aeratori | D37: gb | E37: 12
C38: Palīgmateriāli | D38: kompl. | E38: 1
A39: 8 | C39: Objekta sakārtošana, gružu savākšana | D39: obj. | E39: 1
A40: 64 | D40: gab
A41: Kopā:
C42: Transporta izmaksas:
C43: Tiešās izmaksas kopā, t.sk. darba devēja sociālais nodoklis 23,59%
C44: Virsizdevumi:
C45: Darbuzņēmēja peļņa:
C46: Kopā bez PVN:
C47: PVN
C48: Pavisam kopā:
C50: * Piedāvājot ekvivalentu materiālu, pretendentam jāiesniedz tehniskā dokumentācija, kas apliecina, ka materiāla tehniskās un ekspluatācijas īpašības nav zemākas par atsauces materiāla īpašībām. Pasūtītājs patur tiesības nepieņemt ekvivalentu, ja netiek pierādīta pilnīga atbilstība tehniskajām prasībām.

Sheet 3.Mālkalnes pr. 34
A1: 8. pielikums iepirkuma “Daudzdzīvokļu dzīvojamo ēku jumtu remontdarbi”, id. Nr. SIAON 2026/21-MI, Nolikumam
B3: TEHNISKĀ SPECIFIKĀCIJA UN TEHNISKAIS PIEDĀVĀJUMS
H5: Jumta seguma bojātās daļas nomaiņa
A6: (Darba veids vai konstruktīvā elementa nosaukums)
C8: Būves nosaukums: | D8: Daudzdzīvokļu nams
C9: Objekta adrese: | D9: Mālkalnes pr. 34, Ogre
C10: Pasūtītājs: | D10: Sabiedrība ar ierobežotu atbildību ''Ogres Namsaimnieks''
C11: Izpildītājs:
O13: Pretendenta piedāvātā darbu summa, EUR bez PVN: | P13: =P46 -> 0
A15: Nr.p.k | B15: Kods | C15: Būvdarbu apraksts | D15: Mērvienība | E15: Daudzums | F15: Vienības izmaksas | L15: Kopā uz visu apjomu
F16: Laika norma (c/h) | G16: Darba samaksas likme (euro/h) | H16: Darba alga (euro) | I16: Būvizstrādājumi (euro) | J16: Mehā-nismi (euro) | K16: Kopā (euro) | L16: Darb-ietilpība (c/h) | M16: Darba alga (euro) | N16: Būvizstrādājumi (euro) | O16: Mehā-nismi (euro) | P16: Summa (euro)
A17: 1 | B17: =A17+1 -> 2 | C17: =B17+1 -> 3 | D17: =C17+1 -> 4 | E17: =D17+1 -> 5 | F17: =E17+1 -> 6 | G17: =F17+1 -> 7 | H17: =G17+1 -> 8 | I17: =H17+1 -> 9 | ... P17: =O17+1 -> 16
A19: 1 | C19: Laukuma sagatavošana, norobežošana | D19: m | E19: 40
C20: Mobīlā sēta - noma | D20: m | E20: 40
A21: 2 | C21: Strādnieku konteinera uzlikšana | D21: gb | E21: 1
C22: Strādnieku konteineris - noma | D22: gb | E22: 1
A23: 3 | C23: Esošā jumta seguma demontāža | D23: m2 | E23: 300
C24: Gružu utilizācija - konteineris | D24: m2 | E24: 300
C25: Palīgmateriāli | D25: kompl | E25: 1
A26: 4 | C26: Materiālu uzcelšana uz jumta, gružu nocēlšana | D26: kompl | E26: 1
C27: Pacēlājs - noma | D27: kompl | E27: 1
A28: 5 | C28: Jumta pamatnes sagatavošana, tīrīšana, bojāto vietu remnts, gruntēšana | D28: m2 | E28: 300
C29: Sakret RS( vai ekvivalents ) | D29: kg | E29: 60
C30: Bitumena grunts | D30: kg | E30: 100
C31: Palīgmateriāli | D31: kompl | E31: 1
A32: 6 | C32: Bitumena ruļļmateriāla ieklāšana | D32: m2 | E32: 300
C33: Bipol XL EKP 5.0 Uzkausējamais ruberoīds( vai ekvivalents ) | D33: m2 | E33: 345
C34: Gāze | D34: baloni | E34: 6
C35: Palīgmateriāli | D35: kompl. | E35: 1
A36: 7 | C36: Aeratoru montāža | D36: gb | E36: 6
C37: Ventilācijas aeratori | D37: gb | E37: 6
C38: Palīgmateriāli | D38: kompl. | E38: 1
A39: 8 | C39: Objekta sakārtošana, gružu savākšana | D39: obj. | E39: 1
A40: 56 | D40: gab
A41: Kopā:
C42: Transporta izmaksas:
C43: Tiešās izmaksas kopā, t.sk. darba devēja sociālais nodoklis 23,59%
C44: Virsizdevumi:
C45: Darbuzņēmēja peļņa:
C46: Kopā bez PVN:
C47: PVN
C48: Pavisam kopā:
C50: * Piedāvājot ekvivalentu materiālu, pretendentam jāiesniedz tehniskā dokumentācija, kas apliecina, ka materiāla tehniskās un ekspluatācijas īpašības nav zemākas par atsauces materiāla īpašībām. Pasūtītājs patur tiesības nepieņemt ekvivalentu, ja netiek pierādīta pilnīga atbilstība tehniskajām prasībām.

Sheet 4. Strazdu iela 1
A1: 8. pielikums iepirkuma “Daudzdzīvokļu dzīvojamo ēku jumtu remontdarbi”, id. Nr. SIAON 2026/21-MI, Nolikumam
B3: TEHNISKĀ SPECIFIKĀCIJA UN TEHNISKAIS PIEDĀVĀJUMS
H5: Ieejas jumtiņa nomaiņa
A6: (Darba veids vai konstruktīvā elementa nosaukums)
C8: Būves nosaukums: | D8: Daudzdzīvokļu nams
C9: Objekta adrese: | D9: Strazdu iela 1, Ogre
C10: Pasūtītājs: | D10: Sabiedrība ar ierobežotu atbildību ''Ogres Namsaimnieks''
C11: Izpildītājs:
O13: Pretendenta piedāvātā darbu summa, EUR bez PVN: | P13: =P31 -> 0
A15: Nr.p.k | B15: Kods | C15: Būvdarbu apraksts | D15: Mērvienība | E15: Daudzums | F15: Vienības izmaksas | L15: Kopā uz visu apjomu
F16: Laika norma (c/h) | G16: Darba samaksas likme (euro/h) | H16: Darba alga (euro) | I16: Būvizstrādājumi (euro) | J16: Mehā-nismi (euro) | K16: Kopā (euro) | L16: Darb-ietilpība (c/h) | M16: Darba alga (euro) | N16: Būvizstrādājumi (euro) | O16: Mehā-nismi (euro) | P16: Summa (euro)
A17: 1 | B17: =A17+1 -> 2 | C17: =B17+1 -> 3 | D17: =C17+1 -> 4 | E17: =D17+1 -> 5 | F17: =E17+1 -> 6 | G17: =F17+1 -> 7 | H17: =G17+1 -> 8 | I17: =H17+1 -> 9 | ... P17: =O17+1 -> 16
A19: 1 | C19: Esošā ieejas jumtiņa demontāža | D19: kompl | E19: 1
C20: Palīgmateriāli | D20: kompl | E20: 1
A21: 2 | C21: Jauna ieejas jumtiņa montāža | D21: kompl | E21: 1
C22: Jumtiņš virs durvīm 80x120cm | D22: kompl | E22: 1
C23: Palīgmateriāli | D23: kompl | E23: 1
A24: 3 | C24: Objekta sakārtošana, gružu savākšana aizvešana | D24: obj | E24: 1
A25: 56 | D25: gab
A26: Kopā:
C27: Transporta izmaksas:
C28: Tiešās izmaksas kopā, t.sk. darba devēja sociālais nodoklis 23,59%
C29: Virsizdevumi:
C30: Darbuzņēmēja peļņa:
C31: Kopā bez PVN:
C32: PVN
C33: Pavisam kopā:
C35: * Piedāvājot ekvivalentu materiālu, pretendentam jāiesniedz tehniskā dokumentācija, kas apliecina, ka materiāla tehniskās un ekspluatācijas īpašības nav zemākas par atsauces materiāla īpašībām. Pasūtītājs patur tiesības nepieņemt ekvivalentu, ja netiek pierādīta pilnīga atbilstība tehniskajām prasībām.

Sheet 5. Tīnūžu iela 13
A1: 8. pielikums iepirkuma “Daudzdzīvokļu dzīvojamo ēku jumtu remontdarbi”, id. Nr. SIAON 2026/21-MI, Nolikumam
B3: TEHNISKĀ SPECIFIKĀCIJA UN TEHNISKAIS PIEDĀVĀJUMS
H5: Jumta seguma nomaiņa ( jumta augšdaļa un otrā daļa)
A6: (Darba veids vai konstruktīvā elementa nosaukums)
C8: Būves nosaukums: | D8: Daudzdzīvokļu nams
C9: Objekta adrese: | D9: Tīnūžu iela 13, Ogre
C10: Pasūtītājs: | D10: Sabiedrība ar ierobežotu atbildību ''Ogres Namsaimnieks''
C11: Izpildītājs:
O13: Pretendenta piedāvātā darbu summa, EUR bez PVN: | P13: =P52 -> 0
A15: Nr.p.k | B15: Kods | C15: Būvdarbu apraksts | D15: Mērvienība | E15: Daudzums | F15: Vienības izmaksas | L15: Kopā uz visu apjomu
F16: Laika norma (c/h) | G16: Darba samaksas likme (euro/h) | H16: Darba alga (euro) | I16: Būvizstrādājumi (euro) | J16: Mehā-nismi (euro) | K16: Kopā (euro) | L16: Darb-ietilpība (c/h) | M16: Darba alga (euro) | N16: Būvizstrādājumi (euro) | O16: Mehā-nismi (euro) | P16: Summa (euro)
A17: 1 | B17: =A17+1 -> 2 | C17: =B17+1 -> 3 | D17: =C17+1 -> 4 | E17: =D17+1 -> 5 | F17: =E17+1 -> 6 | G17: =F17+1 -> 7 | H17: =G17+1 -> 8 | I17: =H17+1 -> 9 | ... P17: =O17+1 -> 16
A18: 1 | C18: Esošā parapeta skārda nosegdetaļu demontāža( ar saglabāšanu ) | D18: m | E18: 60
A19: 2 | C19: Esošā bojātā jumta seguma demontāža,jumta attīrīšana | D19: m2 | E19: 480
A20: 3 | C20: Bojāto vietu plaknes (līdzināšanas betonēšanas darbi ) | D20: m2 | E20: 200
C21: Sakret BE( vai ekvivalents ) | D21: kg | E21: 1600
C22: Palīgmateriāli | D22: kompl. | E22: 1
A23: 4 | C23: Iekšējo noteku demontāža/montāža | D23: gb | E23: 1
C24: Iekšējā noteka un pretgružu siets, H-250mm, D-110mm | D24: gb | E24: 1
C25: Palīgmateriāli | D25: kompl. | E25: 2
A26: 5 | C26: Gružu nocelšana no jumta, materiālu uzcelšana uz jumta | D26: obj. | E26: 1
A27: 6 | C27: Jumta pamatnes gruntēšana | D27: m2 | E27: 480
C28: Bitumena grunts | D28: kg | E28: 192
C29: Palīgmateriāli | D29: kompl. | E29: 1
A30: 7 | C30: Skārda lāseņa montāža | D30: m | E30: 25
C31: Skārda lāsenis | D31: m | E31: 25
C32: Palīgmateriāli | D32: kompl. | E32: 1
A33: 8 | C33: Jumta seguma ieklāšana 2 kārtās, skursteņu jumtiņu, pieslegumu pie jumta sienu aplīmēšana | D33: m2 | E33: 480
C34: Unifleks EPP apakšklājs( vai ekvivalents ) | D34: m2 | E34: 550
C35: Unifleks EKP 5.0, virsklājs, 10m2/rullis( vai ekvivalents ) | D35: m2 | E35: 550
C36: Gāze | D36: baloni | E36: 12
C37: Palīgmateriāli | D37: kompl. | E37: 1
A38: 9 | C38: Aeratoru montāža | D38: gb | E38: 10
C39: Ventilācijas aeratori | D39: gb | E39: 10
C40: Palīgmateriāli | D40: kompl. | E40: 10
A41: 10 | C41: Noņemtā parapeta uzlikšana vietā | D41: m | E41: 60
C42: Palīgmateriāli | D42: kompl. | E42: 1
A43: 11 | C43: Pieslēguma pie sienas skārda daļu montāža | D43: m | E43: 85
C44: Skārds ZN | D44: m2 | E44: 9.36
C45: Palīgmateriāli | D45: kompl. | E45: 1
A46: 12 | C46: Objekta sakārtošana, gružu savākšana | D46: obj. | E46: 1
A47: Kopā:
C48: Transporta izmaksas:
C49: Tiešās izmaksas kopā, t.sk. darba devēja sociālais nodoklis 23,59%
C50: Virsizdevumi:
C51: Darbuzņēmēja peļņa:
C52: Kopā bez PVN:
C53: PVN
C54: Pavisam kopā:
C56: * Piedāvājot ekvivalentu materiālu, pretendentam jāiesniedz tehniskā dokumentācija, kas apliecina, ka materiāla tehniskās un ekspluatācijas īpašības nav zemākas par atsauces materiāla īpašībām. Pasūtītājs patur tiesības nepieņemt ekvivalentu, ja netiek pierādīta pilnīga atbilstība tehniskajām prasībām.

Sheet 6. Tīnūž iela 15
A1: 8. pielikums iepirkuma “Daudzdzīvokļu dzīvojamo ēku jumtu remontdarbi”, id. Nr. SIAON 2026/21-MI, Nolikumam
B3: TEHNISKĀ SPECIFIKĀCIJA UN TEHNISKAIS PIEDĀVĀJUMS
H5: Jumta seguma remonts
A6: (Darba veids vai konstruktīvā elementa nosaukums)
C8: Būves nosaukums: | D8: Daudzdzīvokļu nams
C9: Objekta adrese: | D9: Tīnūžu iela 15, Ogre
C10: Pasūtītājs: | D10: Sabiedrība ar ierobežotu atbildību ''Ogres Namsaimnieks''
C11: Izpildītājs:
O13: Pretendenta piedāvātā darbu summa, EUR bez PVN: | P13: =P43 -> 0
A15: Nr.p.k | B15: Kods | C15: Būvdarbu apraksts | D15: Mērvienība | E15: Daudzums | F15: Vienības izmaksas | L15: Kopā uz visu apjomu
F16: Laika norma (c/h) | G16: Darba samaksas likme (euro/h) | H16: Darba alga (euro) | I16: Būvizstrādājumi (euro) | J16: Mehā-nismi (euro) | K16: Kopā (euro) | L16: Darb-ietilpība (c/h) | M16: Darba alga (euro) | N16: Būvizstrādājumi (euro) | O16: Mehā-nismi (euro) | P16: Summa (euro)
A17: 1 | B17: =A17+1 -> 2 | C17: =B17+1 -> 3 | D17: =C17+1 -> 4 | E17: =D17+1 -> 5 | F17: =E17+1 -> 6 | G17: =F17+1 -> 7 | H17: =G17+1 -> 8 | I17: =H17+1 -> 9 | ... P17: =O17+1 -> 16
A18: 1 | C18: Esošā parapeta skārda nosegdetaļu noņemšana ar saglabāšanu | D18: m | E18: 48
A19: 2 | C19: Jumta seguma bojātās daļas demontāža, pamatnes tīrīšana | D19: m2 | E19: 115
A20: 3 | C20: Slīpuma izbūve | D20: m2 | E20: 180
C21: Keramzīts | D21: kg | E21: 850
C22: Sakret BH ( vai analogs ) | D22: kg | E22: 1600
C23: Palīgmateriāli | D23: kompl. | E23: 1
A24: 4 | C24: Gružu nocelšana no jumta, materiālu uzcelšana uz jumta | D24: obj. | E24: 1
A25: 5 | C25: Jumta pamatnes gruntēšana | D25: m2 | E25: 180
C26: Bitumena grunts primer | D26: kg | E26: 54
C27: Palīgmateriāli | D27: kompl. | E27: 1
A28: 6 | C28: Jumta seguma ieklāšana 1 kārtā, skursteņu, pieslegumu pie jumta sienu aplīmēšana | D28: m2 | E28: 180
C29: Unifleks Ekstra EKP virsklājs, ~5,0mm( vai ekvivalents ) | D29: m2 | E29: 202
C30: Gāze | D30: baloni | E30: 4
C31: Palīgmateriāli | D31: kompl. | E31: 1
A32: 7 | C32: Aeratoru montāža | D32: gb | E32: 4
C33: Ventilācijas aeratori | D33: gb | E33: 4
C34: Palīgmateriāli | D34: kompl. | E34: 4
A35: 8 | C35: Parapeta skārda nosegdetaļu montāžas darbi | D35: m | E35: 48
C36: Palīgmateriāli | D36: kompl. | E36: 1
A37: 9 | C37: Objekta sakārtošana, gružu savākšana | D37: obj. | E37: 1
A38: Kopā:
C39: Transporta izmaksas:
C40: Tiešās izmaksas kopā, t.sk. darba devēja sociālais nodoklis 23,59%
C41: Virsizdevumi:
C42: Darbuzņēmēja peļņa:
C43: Kopā bez PVN:
C44: PVN
C45: Pavisam kopā:
C47: * Piedāvājot ekvivalentu materiālu, pretendentam jāiesniedz tehniskā dokumentācija, kas apliecina, ka materiāla tehniskās un ekspluatācijas īpašības nav zemākas par atsauces materiāla īpašībām. Pasūtītājs patur tiesības nepieņemt ekvivalentu, ja netiek pierādīta pilnīga atbilstība tehniskajām prasībām.

Sheet 7. Tīnūžu iela 9
A1: 8. pielikums iepirkuma “Daudzdzīvokļu dzīvojamo ēku jumtu remontdarbi”, id. Nr. SIAON 2026/21-MI, Nolikumam
B3: TEHNISKĀ SPECIFIKĀCIJA UN TEHNISKAIS PIEDĀVĀJUMS
H5: Jumta seguma remonts
A6: (Darba veids vai konstruktīvā elementa nosaukums)
C8: Būves nosaukums: | D8: Daudzdzīvokļu nams
C9: Objekta adrese: | D9: Tīnūžu iela 9, Ogre
C10: Pasūtītājs: | D10: Sabiedrība ar ierobežotu atbildību ''Ogres Namsaimnieks''
C11: Izpildītājs:
O13: Pretendenta piedāvātā darbu summa, EUR bez PVN: | P13: =P44 -> 0
A15: Nr.p.k | B15: Kods | C15: Būvdarbu apraksts | D15: Mērvienība | E15: Daudzums | F15: Vienības izmaksas | L15: Kopā uz visu apjomu
F16: Laika norma (c/h) | G16: Darba samaksas likme (euro/h) | H16: Darba alga (euro) | I16: Būvizstrādājumi (euro) | J16: Mehā-nismi (euro) | K16: Kopā (euro) | L16: Darb-ietilpība (c/h) | M16: Darba alga (euro) | N16: Būvizstrādājumi (euro) | O16: Mehā-nismi (euro) | P16: Summa (euro)
A17: 1 | B17: =A17+1 -> 2 | C17: =B17+1 -> 3 | D17: =C17+1 -> 4 | E17: =D17+1 -> 5 | F17: =E17+1 -> 6 | G17: =F17+1 -> 7 | H17: =G17+1 -> 8 | I17: =H17+1 -> 9 | ... P17: =O17+1 -> 16
A18: 1 | C18: Esošā jumta seguma demontāža | D18: m2 | E18: 64
C19: Palīgmateriāli | D19: kompl | E19: 1
A20: 2 | C20: Materiālu uzcelšana uz jumta, gružu nocēlšana | D20: kompl | E20: 1
A21: 3 | C21: Ventilācijas skursteņu jumtiņu pamatnes tīrīšana, bojāto vietu betona atjaunošana | D21: m2 | E21: 30
A22: 4 | C22: Skārda parapeta bojātās daļas demontāža | D22: m | E22: 30
A23: 5 | C23: Jumta pamatnes sagatavošana, tīrīšana, bojāto vietu remonts | D23: m2 | E23: 64
C24: Sakret RS( vai ekvivalents ) | D24: kg | E24: 50
C25: Palīgmateriāli | D25: kompl | E25: 1
A26: 6 | C26: Jumta pamatnes, skursteņu jumtiņu un parapeta sienas daļas gruntēšana | D26: m2 | E26: 109
C27: Bitumena grunts | D27: kg | E27: 40
A28: 7 | C28: Bitumena ruļļmateriāla ieklāšana ( jumta segums, ventilācijas skursteņu jumtiņi un parapeta sienas daļa ) | D28: m2 | E28: 109
C29: Bipol XL EKP 5.0 Uzkausējamais ruberoīds( vai ekvivalents ) | D29: m2 | E29: 120
C30: Gāze | D30: baloni | E30: 3
C31: Palīgmateriāli | D31: kompl. | E31: 1
A32: 8 | C32: Aeratoru montāža | D32: gb | E32: 3
C33: Ventilācijas aeratori | D33: gb | E33: 3
C34: Palīgmateriāli | D34: kompl. | E34: 1
A35: 9 | C35: Parapeta skārda nosegdaļu izgatavošana, montāža | D35: m | E35: 30
C36: Skārds ZN | D36: m2 | E36: 21.84
C37: Palīgmateriāli | D37: kompl. | E37: 1
A38: 10 | C38: Objekta sakārtošana, gružu savākšana | D38: obj. | E38: 1
A39: Kopā:
C40: Transporta izmaksas:
C41: Tiešās izmaksas kopā, t.sk. darba devēja sociālais nodoklis 23,59%
C42: Virsizdevumi:
C43: Darbuzņēmēja peļņa:
C44: Kopā bez PVN:
C45: PVN
C46: Pavisam kopā:
C48: * Piedāvājot ekvivalentu materiālu, pretendentam jāiesniedz tehniskā dokumentācija, kas apliecina, ka materiāla tehniskās un ekspluatācijas īpašības nav zemākas par atsauces materiāla īpašībām. Pasūtītājs patur tiesības nepieņemt ekvivalentu, ja netiek pierādīta pilnīga atbilstība tehniskajām prasībām.

Sheet 8. Turkalnes iela 3
A1: 8. pielikums iepirkuma “Daudzdzīvokļu dzīvojamo ēku jumtu remontdarbi”, id. Nr. SIAON 2026/21-MI, Nolikumam
B3: TEHNISKĀ SPECIFIKĀCIJA UN TEHNISKAIS PIEDĀVĀJUMS
H5: Jumta seguma un skursteņu, jumta lūku pieslēgumu remonts, hermetizācijas darbi
A6: (Darba veids vai konstruktīvā elementa nosaukums)
C8: Būves nosaukums: | D8: Daudzdzīvokļu nams
C9: Objekta adrese: | D9: Turkalnes iela 3, Ogre
C10: Pasūtītājs: | D10: Sabiedrība ar ierobežotu atbildību ''Ogres Namsaimnieks''
C11: Izpildītājs:
O13: Pretendenta piedāvātā darbu summa, EUR bez PVN: | P13: =P25 -> 0
A15: Nr.p.k | B15: Kods | C15: Būvdarbu apraksts | D15: Mērvienība | E15: Daudzums | F15: Vienības izmaksas | L15: Kopā uz visu apjomu
F16: Laika norma (c/h) | G16: Darba samaksas likme (euro/h) | H16: Darba alga (euro) | I16: Būvizstrādājumi (euro) | J16: Mehā-nismi (euro) | K16: Kopā (euro) | L16: Darb-ietilpība (c/h) | M16: Darba alga (euro) | N16: Būvizstrādājumi (euro) | O16: Mehā-nismi (euro) | P16: Summa (euro)
A17: 1 | B17: =A17+1 -> 2 | C17: =B17+1 -> 3 | D17: =C17+1 -> 4 | E17: =D17+1 -> 5 | F17: =E17+1 -> 6 | G17: =F17+1 -> 7 | H17: =G17+1 -> 8 | I17: =H17+1 -> 9 | ... P17: =O17+1 -> 16
A18: 1 | C18: Jumta seguma un skursteņu, jumta lūku pieslēgumu remonts, hermetizācijas darbi | D18: obj | E18: 1
A19: 3 | C19: Objekta sakārtošana, gružu savākšana | D19: obj | E19: 1
A20: Kopā:
C21: Transporta izmaksas:
C22: Tiešās izmaksas kopā, t.sk. darba devēja sociālais nodoklis 23,59%
C23: Virsizdevumi:
C24: Darbuzņēmēja peļņa:
C25: Kopā bez PVN:
C26: PVN
C27: Pavisam kopā:
C29: * Piedāvājot ekvivalentu materiālu, pretendentam jāiesniedz tehniskā dokumentācija, kas apliecina, ka materiāla tehniskās un ekspluatācijas īpašības nav zemākas par atsauces materiāla īpašībām. Pasūtītājs patur tiesības nepieņemt ekvivalentu, ja netiek pierādīta pilnīga atbilstība tehniskajām prasībām.

Sheet 9. Upes pr. 22
A1: 8. pielikums iepirkuma “Daudzdzīvokļu dzīvojamo ēku jumtu remontdarbi”, id. Nr. SIAON 2026/21-MI, Nolikumam
B3: TEHNISKĀ SPECIFIKĀCIJA UN TEHNISKAIS PIEDĀVĀJUMS
H5: Jumta seguma ( bojāto vietu ) remonts
A6: (Darba veids vai konstruktīvā elementa nosaukums)
C8: Būves nosaukums: | D8: Daudzdzīvokļu nams
C9: Objekta adrese: | D9: Upes pr. 22, Ogre
C10: Pasūtītājs: | D10: Sabiedrība ar ierobežotu atbildību ''Ogres Namsaimnieks''
C11: Izpildītājs:
O13: Pretendenta piedāvātā darbu summa, EUR bez PVN: | P13: =P29 -> 0
A15: Nr.p.k | B15: Kods | C15: Būvdarbu apraksts | D15: Mērvienība | E15: Daudzums | F15: Vienības izmaksas | L15: Kopā uz visu apjomu
F16: Laika norma (c/h) | G16: Darba samaksas likme (euro/h) | H16: Darba alga (euro) | I16: Būvizstrādājumi (euro) | J16: Mehā-nismi (euro) | K16: Kopā (euro) | L16: Darb-ietilpība (c/h) | M16: Darba alga (euro) | N16: Būvizstrādājumi (euro) | O16: Mehā-nismi (euro) | P16: Summa (euro)
A17: 1 | B17: =A17+1 -> 2 | C17: =B17+1 -> 3 | D17: =C17+1 -> 4 | E17: =D17+1 -> 5 | F17: =E17+1 -> 6 | G17: =F17+1 -> 7 | H17: =G17+1 -> 8 | I17: =H17+1 -> 9 | ... P17: =O17+1 -> 16
A18: 1 | C18: Jumta seguma bojāto vietu atvēršana, pamatnes sagatavošana remonta darbiem, jumta seguma bojāto vietu remonts ( ~ 50m2 ) | D18: kompl | E18: 1
C19: Unifleks EKP 5.0 (virsklājs, ~4,4mm)( vai ekvivalents ) | D19: m2 | E19: 50
C20: Gāze | D20: bal | E20: 1
C21: Aeratori | D21: gb | E21: 2
C22: Palīgmateriāli | D22: kompl | E22: 1
A23: 2 | C23: Objekta sakārtošana, gružu savākšana | D23: obj. | E23: 1
A24: Kopā:
C25: Transporta izmaksas:
C26: Tiešās izmaksas kopā, t.sk. darba devēja sociālais nodoklis 23,59%
C27: Virsizdevumi:
C28: Darbuzņēmēja peļņa:
C29: Kopā bez PVN:
C30: PVN
C31: Pavisam kopā:
C33: * Piedāvājot ekvivalentu materiālu, pretendentam jāiesniedz tehniskā dokumentācija, kas apliecina, ka materiāla tehniskās un ekspluatācijas īpašības nav zemākas par atsauces materiāla īpašībām. Pasūtītājs patur tiesības nepieņemt ekvivalentu, ja netiek pierādīta pilnīga atbilstība tehniskajām prasībām.

Sheet 10. Turkalnes iela 5
A1: 8. pielikums iepirkuma “Daudzdzīvokļu dzīvojamo ēku jumtu remontdarbi”, id. Nr. SIAON 2026/21-MI, Nolikumam
B3: TEHNISKĀ SPECIFIKĀCIJA UN TEHNISKAIS PIEDĀVĀJUMS
H5: Jumta seguma ( bojāto vietu ) remonts
A6: (Darba veids vai konstruktīvā elementa nosaukums)
C8: Būves nosaukums: | D8: Daudzdzīvokļu nams
C9: Objekta adrese: | D9: Turkalnes iela 5, Ogre
C10: Pasūtītājs: | D10: Sabiedrība ar ierobežotu atbildību ''Ogres Namsaimnieks''
C11: Izpildītājs:
O13: Pretendenta piedāvātā darbu summa, EUR bez PVN: | P13: =P29 -> 0
A15: Nr.p.k | B15: Kods | C15: Būvdarbu apraksts | D15: Mērvienība | E15: Daudzums | F15: Vienības izmaksas | L15: Kopā uz visu apjomu
F16: Laika norma (c/h) | G16: Darba samaksas likme (euro/h) | H16: Darba alga (euro) | I16: Būvizstrādājumi (euro) | J16: Mehā-nismi (euro) | K16: Kopā (euro) | L16: Darb-ietilpība (c/h) | M16: Darba alga (euro) | N16: Būvizstrādājumi (euro) | O16: Mehā-nismi (euro) | P16: Summa (euro)
A17: 1 | B17: =A17+1 -> 2 | C17: =B17+1 -> 3 | D17: =C17+1 -> 4 | E17: =D17+1 -> 5 | F17: =E17+1 -> 6 | G17: =F17+1 -> 7 | H17: =G17+1 -> 8 | I17: =H17+1 -> 9 | ... P17: =O17+1 -> 16
A18: 1 | C18: Jumta seguma bojāto vietu atvēršana, pamatnes sagatavošana remonta darbiem, jumta seguma bojāto vietu remonts ( ~50m2 ) | D18: kompl | E18: 1
C19: Unifleks EKP 5.0 (virsklājs, ~4,4mm)( vai ekvivalents ) | D19: m2 | E19: 50
C20: Gāze | D20: bal | E20: 1
C21: Aeratori | D21: gb | E21: 2
C22: Palīgmateriāli | D22: kompl | E22: 1
A23: 2 | C23: Objekta sakārtošana, gružu savākšana | D23: obj. | E23: 1
A24: Kopā:
C25: Transporta izmaksas:
C26: Tiešās izmaksas kopā, t.sk. darba devēja sociālais nodoklis 23,59%
C27: Virsizdevumi:
C28: Darbuzņēmēja peļņa:
C29: Kopā bez PVN:
C30: PVN
C31: Pavisam kopā:
C33: * Piedāvājot ekvivalentu materiālu, pretendentam jāiesniedz tehniskā dokumentācija, kas apliecina, ka materiāla tehniskās un ekspluatācijas īpašības nav zemākas par atsauces materiāla īpašībām. Pasūtītājs patur tiesības nepieņemt ekvivalentu, ja netiek pierādīta pilnīga atbilstība tehniskajām prasībām.

Sheet 11. Bērzu aleja 8
A1: 8. pielikums iepirkuma “Daudzdzīvokļu dzīvojamo ēku jumtu remontdarbi”, id. Nr. SIAON 2026/21-MI, Nolikumam
B3: TEHNISKĀ SPECIFIKĀCIJA UN TEHNISKAIS PIEDĀVĀJUMS
H5: Jumta seguma ( bojāto vietu ) remonts
A6: (Darba veids vai konstruktīvā elementa nosaukums)
C8: Būves nosaukums: | D8: Daudzdzīvokļu nams
C9: Objekta adrese: | D9: Bērzu aleja 8, Ogre
C10: Pasūtītājs: | D10: Sabiedrība ar ierobežotu atbildību ''Ogres Namsaimnieks''
C11: Izpildītājs:
O13: Pretendenta piedāvātā darbu summa, EUR bez PVN: | P13: =P29 -> 0
A15: Nr.p.k | B15: Kods | C15: Būvdarbu apraksts | D15: Mērvienība | E15: Daudzums | F15: Vienības izmaksas | L15: Kopā uz visu apjomu
F16: Laika norma (c/h) | G16: Darba samaksas likme (euro/h) | H16: Darba alga (euro) | I16: Būvizstrādājumi (euro) | J16: Mehā-nismi (euro) | K16: Kopā (euro) | L16: Darb-ietilpība (c/h) | M16: Darba alga (euro) | N16: Būvizstrādājumi (euro) | O16: Mehā-nismi (euro) | P16: Summa (euro)
A17: 1 | B17: =A17+1 -> 2 | C17: =B17+1 -> 3 | D17: =C17+1 -> 4 | E17: =D17+1 -> 5 | F17: =E17+1 -> 6 | G17: =F17+1 -> 7 | H17: =G17+1 -> 8 | I17: =H17+1 -> 9 | ... P17: =O17+1 -> 16
A18: 1 | C18: Jumta seguma bojāto vietu atvēršana, pamatnes sagatavošana remonta darbiem, jumta seguma bojāto vietu remonts ( ~ 50m2 ) | D18: kompl | E18: 1
C19: Unifleks EKP 5.0 (virsklājs, ~4,4mm( vai ekvivalents )) | D19: m2 | E19: 50
C20: Gāze | D20: bal | E20: 1
C21: Aeratori | D21: gb | E21: 2
C22: Palīgmateriāli | D22: kompl | E22: 1
A23: 2 | C23: Objekta sakārtošana, gružu savākšana | D23: obj. | E23: 1
A24: Kopā:
C25: Transporta izmaksas:
C26: Tiešās izmaksas kopā, t.sk. darba devēja sociālais nodoklis 23,59%
C27: Virsizdevumi:
C28: Darbuzņēmēja peļņa:
C29: Kopā bez PVN:
C30: PVN
C31: Pavisam kopā:
C33: * Piedāvājot ekvivalentu materiālu, pretendentam jāiesniedz tehniskā dokumentācija, kas apliecina, ka materiāla tehniskās un ekspluatācijas īpašības nav zemākas par atsauces materiāla īpašībām. Pasūtītājs patur tiesības nepieņemt ekvivalentu, ja netiek pierādīta pilnīga atbilstība tehniskajām prasībām.
