Workbook

Sheet Koptāme
C1: 3.1. pielikums
C2: atklāta konkursa "Magnētiskās rezonanses iekārtas piegāde
C3: SIA “Liepājas reģionālā slimnīca” vajadzībām"
C4: Id. Nr. LRS 2026/16, nolikumam
A6: BŪVNIECĪBAS KOPTĀME
A7: Objekta nosaukums: Telpu pielāgošana magnētiskās rezonanses iekārtas uzstādīšanai
A8: Objekta adrese: Slimnīcas ielā 25, Liepājā
A10: N.p.k. | B10: Objekta nosaukums | C10: Objekta izmaksas (euro)
A11: 1 | B11: Telpu pielāgošana magnētiskās rezonanses iekārtas uzstādīšanai, Slimnīcas ielā 25, Liepājā | C11: =Kopsavilkums!E24 -> 0
B12: Kopā | C12: =SUM(C11:C11) -> 0
B14: PVN 21% | C14: =C12*0.21 -> 0
B15: KOPĀ ar PVN 21% | C15: =SUM(C12:C14) -> 0
B18: Sastādīja:
B19: Sertif. Nr. ____________ (paraksts un tā atšifrējums, datums)

Sheet Kopsavilkums
C1: Kopsavilkuma aprēķins
C3: Objekta nosaukums: Telpu pielāgošana magnētiskās rezonanses iekārtas uzstādīšanai, Slimnīcas ielā 25, Liepājā
C4: (būvdarbu veids, vai konstruktīvā elementa nosaukums)
A6: Objekta nosaukums: Telpu pielāgošana magnētiskās rezonanses iekārtas uzstādīšanai
A7: Objekta adrese: Slimnīcas ielā 25, Liepājā
C9: Par kopējo summu, (euro) | D9: =E24 -> 0
C10: Kopējā darbietilpība, (c/h) | D10: =I20 -> 0
A12: Nr.p.k. | B12: Kods, Tāmes Nr. | C12: Būvdarbu veids vai konstruktīvā elementa nosaukums | E12: Tāmes izmaksas (euro) | F12: Tai skaitā | I12: Darbietilpība (c/h)
F13: darba alga | G13: būvizstrādājumi | H13: mehānismi
A14: 1 | B14: 1 | C14: Konstrukcijas | E14: =SUM(F14:H14) -> 0 | F14: ='1'!M29 -> 0 | G14: ='1'!N29 -> 0 | H14: ='1'!O29 -> 0 | I14: ='1'!L29 -> 0
A15: 2 | B15: 2 | C15: Durvju, loga nomaiņa | E15: =SUM(F15:H15) -> 0 | F15: ='2'!M20 -> 0 | G15: ='2'!N20 -> 0 | H15: ='2'!O20 -> 0 | I15: ='2'!L20 -> 0
A16: 3 | B16: 3 | C16: Iekštelpu apdare | E16: =SUM(F16:H16) -> 0 | F16: ='3'!M48 -> 0 | G16: ='3'!N48 -> 0 | H16: ='3'!O48 -> 0 | I16: ='3'!L48 -> 0
A17: 4 | B17: 4 | C17: Elektroapgāde, iekšējā (EL) | E17: =SUM(F17:H17) -> 0 | F17: ='4'!M51 -> 0 | G17: ='4'!N51 -> 0 | H17: ='4'!O51 -> 0 | I17: ='4'!L51 -> 0
A18: 5 | B18: 5 | C18: AVK-K (Ventilācija, klimata kontrole) | E18: =SUM(F18:H18) -> 0 | F18: ='5'!M88 -> 0 | G18: ='5'!N88 -> 0 | H18: ='5'!O88 -> 0 | I18: ='5'!L88 -> 0
A19: 6 | B19: 6 | C19: Ūdensapgāde ŪK | E19: =SUM(F19:H19) -> 0 | F19: ='6'!M30 -> 0 | G19: ='6'!N30 -> 0 | H19: ='6'!O30 -> 0 | I19: ='6'!L30 -> 0
C20: Kopā | E20: =SUM(E14:E19) -> 0 | F20: =SUM(F14:F19) -> 0 | G20: =SUM(G14:G19) -> 0 | H20: =SUM(H14:H19) -> 0 | I20: =SUM(I14:I19) -> 0
C21: Virsizdevumi | E21: =SUM(E20*D21) -> 0
C22: t.sk. darba aizsardzība | E22: =SUM(E21*D22) -> 0
C23: Peļņa | E23: =SUM(E20*D23) -> 0
C24: Pavisam kopā (bez PVN) | E24: =SUM(E20+E21+E23) -> 0
B25: Sastādīja:
B26: Sertifikāta Nr.

Sheet 1
D1: Lokālā tāme Nr. 1
D2: Konstrukcijas
A4: Objekta nosaukums: Telpu pielāgošana magnētiskās rezonanses iekārtas uzstādīšanai
A5: Objekta adrese: Slimnīcas ielā 25, Liepājā
C7: Tāme sastādīta 2026 gada tirgus cenās, pamatojoties uz BK, AR daļas rasējumiem | M7: Tāmes izmaksas | O7: =P29 -> 0 | P7: euro
A9: Nr.p.k. | B9: Kods | C9: Būvdarbu nosaukums | D9: Mērvie nība | E9: Daudzums | F9: Vienības izmaksas | L9: Kopā uz visu apjomu
F10: laika norma (c/h) | G10: darba samaksas likme (euro/h) | H10: darba alga | I10: būvizstrādājumi | J10: mehānismi | K10: kopā | L10: darbietilpība (c/h) | M10: darba alga | N10: būvizstrādājumi | O10: mehānismi | P10: summa
C11: Betona pamata un kolonnu bāzu enkuru konstrukcija
A12: =IF(B12<>"", MAX($A$1:A11)+1, "") -> 1 | B12: 03-00000 | C12: Grunts rakšana (roku darbs), lieko grunti vedot uz atbērtni | D12: m3 | E12: 5.51 | H12: =F12*G12 -> 0 | K12: =SUM(H12:J12) -> 0 | L12: =SUM(E12*F12) -> 0 | M12: =SUM(E12*H12) -> 0 | N12: =SUM(E12*I12) -> 0 | O12: =SUM(E12*J12) -> 0 | P12: =SUM(M12:O12) -> 0
A13: =IF(B13<>"", MAX($A$1:A12)+1, "") -> 2 | B13: 03-00000 | C13: Esošo grunti noplanēt, blietēt | D13: m2 | E13: 6.25 | H13: =F13*G13 -> 0 | K13: =SUM(H13:J13) -> 0 | L13: =SUM(E13*F13) -> 0 | M13: =SUM(E13*H13) -> 0 | N13: =SUM(E13*I13) -> 0 | O13: =SUM(E13*J13) -> 0 | P13: =SUM(M13:O13) -> 0
A14: =IF(B14<>"", MAX($A$1:A13)+1, "") -> 3 | B14: 05-00000 | C14: Neaustā ģeotekstila NW 12 kārtas ierīkošana | D14: m2 | E14: 9.3 | H14: =F14*G14 -> 0 | K14: =SUM(H14:J14) -> 0 | L14: =SUM(E14*F14) -> 0 | M14: =SUM(E14*H14) -> 0 | N14: =SUM(E14*I14) -> 0 | O14: =SUM(E14*J14) -> 0 | P14: =SUM(M14:O14) -> 0
A15: =IF(B15<>"", MAX($A$1:A14)+1, "") -> 4 | B15: 05-00000 | C15: Smalkas smilts kārtas ierīkošana, blietēšana | D15: m3 | E15: 2.02 | H15: =F15*G15 -> 0 | K15: =SUM(H15:J15) -> 0 | L15: =SUM(E15*F15) -> 0 | M15: =SUM(E15*H15) -> 0 | N15: =SUM(E15*I15) -> 0 | O15: =SUM(E15*J15) -> 0 | P15: =SUM(M15:O15) -> 0
A16: =IF(B16<>"", MAX($A$1:A15)+1, "") -> 5 | B16: 05-00000 | C16: Blietētas šķembas 0/45, kārtas ierīkošana, blietēšana | D16: m3 | E16: 0.58 | H16: =F16*G16 -> 0 | K16: =SUM(H16:J16) -> 0 | L16: =SUM(E16*F16) -> 0 | M16: =SUM(E16*H16) -> 0 | N16: =SUM(E16*I16) -> 0 | O16: =SUM(E16*J16) -> 0 | P16: =SUM(M16:O16) -> 0
A17: =IF(B17<>"", MAX($A$1:A16)+1, "") -> 6 | B17: 05-00000 | C17: Celtniecības plēves ierīkošana 2x200mk | D17: m2 | E17: 10.6 | H17: =F17*G17 -> 0 | K17: =SUM(H17:J17) -> 0 | L17: =SUM(E17*F17) -> 0 | M17: =SUM(E17*H17) -> 0 | N17: =SUM(E17*I17) -> 0 | O17: =SUM(E17*J17) -> 0 | P17: =SUM(M17:O17) -> 0
A18: =IF(B18<>"", MAX($A$1:A17)+1, "") -> 7 | B18: 05-00000 | C18: Pamata pēdas pabetonējuma betonēšana ar C12/15 transportbetonu, izmantojot veidņus ar gludu virsmu (Apkārtējās vides iedarbības klase XC2) | D18: m3 | E18: 0.24 | H18: =F18*G18 -> 0 | K18: =SUM(H18:J18) -> 0 | L18: =SUM(E18*F18) -> 0 | M18: =SUM(E18*H18) -> 0 | N18: =SUM(E18*I18) -> 0 | O18: =SUM(E18*J18) -> 0 | P18: =SUM(M18:O18) -> 0
A19: =IF(B19<>"", MAX($A$1:A18)+1, "") -> 8 | B19: 05-00000 | C19: Stiegrojuma izbūve (Stiegras Ø10 B500B) | D19: kg | E19: 28.29 | H19: =F19*G19 -> 0 | K19: =SUM(H19:J19) -> 0 | L19: =SUM(E19*F19) -> 0 | M19: =SUM(E19*H19) -> 0 | N19: =SUM(E19*I19) -> 0 | O19: =SUM(E19*J19) -> 0 | P19: =SUM(M19:O19) -> 0
A20: =IF(B20<>"", MAX($A$1:A19)+1, "") -> 9 | B20: 05-00000 | C20: Stiegrojuma izbūve (Stiegras Ø12 B500B) | D20: kg | E20: 10.68 | H20: =F20*G20 -> 0 | K20: =SUM(H20:J20) -> 0 | L20: =SUM(E20*F20) -> 0 | M20: =SUM(E20*H20) -> 0 | N20: =SUM(E20*I20) -> 0 | O20: =SUM(E20*J20) -> 0 | P20: =SUM(M20:O20) -> 0
A21: =IF(B21<>"", MAX($A$1:A20)+1, "") -> 10 | B21: 05-00000 | C21: BE-1 enkura iebūve | D21: gb | E21: 3 | H21: =F21*G21 -> 0 | K21: =SUM(H21:J21) -> 0 | L21: =SUM(E21*F21) -> 0 | M21: =SUM(E21*H21) -> 0 | N21: =SUM(E21*I21) -> 0 | O21: =SUM(E21*J21) -> 0 | P21: =SUM(M21:O21) -> 0
A22: =IF(B22<>"", MAX($A$1:A21)+1, "") -> 11 | B22: 05-00000 | C22: Pamata pēdas betonēšana ar C30/37 transportbetonu, izmantojot veidņus ar gludu virsmu (Apkārtējās vides iedarbības klase XC2) | D22: m3 | E22: 0.46 | H22: =F22*G22 -> 0 | K22: =SUM(H22:J22) -> 0 | L22: =SUM(E22*F22) -> 0 | M22: =SUM(E22*H22) -> 0 | N22: =SUM(E22*I22) -> 0 | O22: =SUM(E22*J22) -> 0 | P22: =SUM(M22:O22) -> 0
A23: =IF(B23<>"", MAX($A$1:A22)+1, "") -> 12 | B23: 03-00000 | C23: Grunts aizrakšana ar jaunpievestu grunti (roku darbs), blietējot pa kārtām | D23: m3 | E23: 4.5 | H23: =F23*G23 -> 0 | K23: =SUM(H23:J23) -> 0 | L23: =SUM(E23*F23) -> 0 | M23: =SUM(E23*H23) -> 0 | N23: =SUM(E23*I23) -> 0 | O23: =SUM(E23*J23) -> 0 | P23: =SUM(M23:O23) -> 0
A24: =IF(B24<>"", MAX($A$1:A23)+1, "") | C24: Balstkonstrukcijas elementu konstrukcija | H24: =F24*G24 -> 0 | K24: =SUM(H24:J24) -> 0 | L24: =SUM(E24*F24) -> 0 | M24: =SUM(E24*H24) -> 0 | N24: =SUM(E24*I24) -> 0 | O24: =SUM(E24*J24) -> 0 | P24: =SUM(M24:O24) -> 0
A25: =IF(B25<>"", MAX($A$1:A24)+1, "") -> 13 | B25: 05-00000 | C25: Tērauda elementu S-1 sijas izgatavošana montāža (skatīt BK-6) SB 8.8 klases HDG bultskrūves un uzgriežņi nesošajām metāla konstrukcijām EN 15048 ar paplāksnēm 4x M10, L=30 mm | D25: kg | E25: 51.7 | H25: =F25*G25 -> 0 | K25: =SUM(H25:J25) -> 0 | L25: =SUM(E25*F25) -> 0 | M25: =SUM(E25*H25) -> 0 | N25: =SUM(E25*I25) -> 0 | O25: =SUM(E25*J25) -> 0 | P25: =SUM(M25:O25) -> 0
A26: =IF(B26<>"", MAX($A$1:A25)+1, "") -> 14 | B26: 05-00000 | C26: Tērauda elementu MK-1 kolonnas izgatavošana montāža (skatīt BK-6) SB 8.8 klases HDG bultskrūves un uzgriežņi nesošajām metāla konstrukcijām EN 15048 ar paplāksnēm 4x M10, L=30 mm | D26: kg | E26: 43.8 | H26: =F26*G26 -> 0 | K26: =SUM(H26:J26) -> 0 | L26: =SUM(E26*F26) -> 0 | M26: =SUM(E26*H26) -> 0 | N26: =SUM(E26*I26) -> 0 | O26: =SUM(E26*J26) -> 0 | P26: =SUM(M26:O26) -> 0
A27: =IF(B27<>"", MAX($A$1:A26)+1, "") -> 15 | B27: 05-00000 | C27: Tērauda elementu MK-2 kolonnas izgatavošana montāža (skatīt BK-6) SB 8.8 klases HDG bultskrūves un uzgriežņi nesošajām metāla konstrukcijām EN 15048 ar paplāksnēm 4x M10, L=30 mm | D27: kg | E27: 81.2 | H27: =F27*G27 -> 0 | K27: =SUM(H27:J27) -> 0 | L27: =SUM(E27*F27) -> 0 | M27: =SUM(E27*H27) -> 0 | N27: =SUM(E27*I27) -> 0 | O27: =SUM(E27*J27) -> 0 | P27: =SUM(M27:O27) -> 0
A28: =IF(B28<>"", MAX($A$1:A27)+1, "") -> 16 | B28: 05-00000 | C28: Tērauda elementu S-2 sijas izgatavošana montāža (skatīt BK-6) SB 8.8 klases HDG bultskrūves un uzgriežņi nesošajām metāla konstrukcijām EN 15048 ar paplāksnēm 4x M10, L=30 mm | D28: kg | E28: 27.4 | H28: =F28*G28 -> 0 | K28: =SUM(H28:J28) -> 0 | L28: =SUM(E28*F28) -> 0 | M28: =SUM(E28*H28) -> 0 | N28: =SUM(E28*I28) -> 0 | O28: =SUM(E28*J28) -> 0 | P28: =SUM(M28:O28) -> 0
A29: =IF(B29<>"", MAX($A$1:A28)+1, "") | C29: Tiešās izmaksas kopā, t. sk. darba devēja sociālais nodoklis (23,59%) | L29: =SUM(L12:L28) -> 0 | M29: =SUM(M12:M28) -> 0 | N29: =SUM(N12:N28) -> 0 | O29: =SUM(O12:O28) -> 0 | P29: =SUM(P12:P28) -> 0
A30: 1. Būvuzņēmējam jāievērtē darbu apjomu sarakstā minēto darbu veikšanai nepieciešamie materiāli un papildu darbi, kas nav minēti šajā sarakstā, bet bez kuriem nebūtu iespējama būvdarbu tehnoloģiski pareiza un spēkā esošiem normatīviem atbilstoša veikšana pilnā apmērā. Darbu tāmes apjomi dabā var atšķirties, tādēļ nepieciešams precizēt objektā uz vietas. 2. Darbu apjomus skatīt kopā ar rasējumiem. Gadījumā, ja darbu apjomi nesakrīt ar rasējumiem, par pareiziem jāuzskata rasējumos esošie darbu apjomi. 3. Tāmē paredzētajām iekārtām un materiāliem ir pieļaujami līdzvertīgi analogi.
C33: Sastādīja:
C34: Sertifikāta Nr.

Sheet 2
D1: Lokālā tāme Nr. 2
D2: Durvju, loga nomaiņa
A4: Objekta nosaukums: Telpu pielāgošana magnētiskās rezonanses iekārtas uzstādīšanai
A5: Objekta adrese: Slimnīcas ielā 25, Liepājā
C7: Tāme sastādīta 2026 gada tirgus cenās, pamatojoties uz AR daļas rasējumiem | M7: Tāmes izmaksas | O7: =P20 -> 0 | P7: euro
A9: Nr.p.k. | B9: Kods | C9: Būvdarbu nosaukums | D9: Mērvie nība | E9: Daudzums | F9: Vienības izmaksas | L9: Kopā uz visu apjomu
F10: laika norma (c/h) | G10: darba samaksas likme (euro/h) | H10: darba alga | I10: būvizstrādājumi | J10: mehānismi | K10: kopā | L10: darbietilpība (c/h) | M10: darba alga | N10: būvizstrādājumi | O10: mehānismi | P10: summa
A11: =IF(B11<>"", MAX($A$1:A10)+1, "") | C11: Durvis
A12: =IF(B12<>"", MAX($A$1:A11)+1, "") -> 1 | B12: 08-00000 | C12: D-1 durvju bloka montāža Izmēri: 1300x2100 (h) mm); vispārējās prasības saskaņā ar projekta risinājumiem | D12: gab. | E12: 1 | H12: =F12*G12 -> 0 | K12: =SUM(H12:J12) -> 0 | L12: =SUM(E12*F12) -> 0 | M12: =SUM(E12*H12) -> 0 | N12: =SUM(E12*I12) -> 0 | O12: =SUM(E12*J12) -> 0 | P12: =SUM(M12:O12) -> 0
A13: =IF(B13<>"", MAX($A$1:A12)+1, "") -> 2 | B13: 08-00000 | C13: D-2 durvju bloka montāža Izmēri: 900x2100 (h) mm); vispārējās prasības saskaņā ar projekta risinājumiem | D13: gab. | E13: 1 | H13: =F13*G13 -> 0 | K13: =SUM(H13:J13) -> 0 | L13: =SUM(E13*F13) -> 0 | M13: =SUM(E13*H13) -> 0 | N13: =SUM(E13*I13) -> 0 | O13: =SUM(E13*J13) -> 0 | P13: =SUM(M13:O13) -> 0
A14: =IF(B14<>"", MAX($A$1:A13)+1, "") -> 3 | B14: 08-00000 | C14: D-3 durvju bloka montāža Izmēri: 900x2100 (h) mm); vispārējās prasības saskaņā ar projekta risinājumiem | D14: gab. | E14: 1 | H14: =F14*G14 -> 0 | K14: =SUM(H14:J14) -> 0 | L14: =SUM(E14*F14) -> 0 | M14: =SUM(E14*H14) -> 0 | N14: =SUM(E14*I14) -> 0 | O14: =SUM(E14*J14) -> 0 | P14: =SUM(M14:O14) -> 0
A15: =IF(B15<>"", MAX($A$1:A14)+1, "") -> 4 | B15: 08-00000 | C15: D-4 durvju bloka montāža Izmēri: 850x2100 (h) mm); vispārējās prasības saskaņā ar projekta risinājumiem | D15: gab. | E15: 6 | H15: =F15*G15 -> 0 | K15: =SUM(H15:J15) -> 0 | L15: =SUM(E15*F15) -> 0 | M15: =SUM(E15*H15) -> 0 | N15: =SUM(E15*I15) -> 0 | O15: =SUM(E15*J15) -> 0 | P15: =SUM(M15:O15) -> 0
A16: =IF(B16<>"", MAX($A$1:A15)+1, "") -> 5 | B16: 08-00000 | C16: D-5 durvju bloka montāža Izmēri: 800x2100 (h) mm); vispārējās prasības saskaņā ar projekta risinājumiem | D16: gab. | E16: 1 | H16: =F16*G16 -> 0 | K16: =SUM(H16:J16) -> 0 | L16: =SUM(E16*F16) -> 0 | M16: =SUM(E16*H16) -> 0 | N16: =SUM(E16*I16) -> 0 | O16: =SUM(E16*J16) -> 0 | P16: =SUM(M16:O16) -> 0
A17: =IF(B17<>"", MAX($A$1:A16)+1, "") -> 6 | B17: 08-00000 | C17: Esošā demontētā durvju bloka montāža vispārējās prasības saskaņā ar projekta risinājumiem | D17: gab. | E17: 1 | H17: =F17*G17 -> 0 | K17: =SUM(H17:J17) -> 0 | L17: =SUM(E17*F17) -> 0 | M17: =SUM(E17*H17) -> 0 | N17: =SUM(E17*I17) -> 0 | O17: =SUM(E17*J17) -> 0 | P17: =SUM(M17:O17) -> 0
A18: =IF(B18<>"", MAX($A$1:A17)+1, "") | C18: Logs
A19: =IF(B19<>"", MAX($A$1:A18)+1, "") -> 7 | B19: 08-00000 | C19: Loga bloka montāža MRI telpā; vispārējās prasības saskaņā ar projekta risinājumiem | D19: gab. | E19: 1 | H19: =F19*G19 -> 0 | K19: =SUM(H19:J19) -> 0 | L19: =SUM(E19*F19) -> 0 | M19: =SUM(E19*H19) -> 0 | N19: =SUM(E19*I19) -> 0 | O19: =SUM(E19*J19) -> 0 | P19: =SUM(M19:O19) -> 0
A20: =IF(B20<>"", MAX($A$1:A19)+1, "") | C20: Tiešās izmaksas kopā, t. sk. darba devēja sociālais nodoklis (23,59%) | L20: =SUM(L11:L19) -> 0 | M20: =SUM(M11:M19) -> 0 | N20: =SUM(N11:N19) -> 0 | O20: =SUM(O11:O19) -> 0 | P20: =SUM(P11:P19) -> 0
A21: 1. Būvuzņēmējam jāievērtē darbu apjomu sarakstā minēto darbu veikšanai nepieciešamie materiāli un papildu darbi, kas nav minēti šajā sarakstā, bet bez kuriem nebūtu iespējama būvdarbu tehnoloģiski pareiza un spēkā esošiem normatīviem atbilstoša veikšana pilnā apmērā. Darbu tāmes apjomi dabā var atšķirties, tādēļ nepieciešams precizēt objektā uz vietas. 2. Darbu apjomus skatīt kopā ar rasējumiem. Gadījumā, ja darbu apjomi nesakrīt ar rasējumiem, par pareiziem jāuzskata rasējumos esošie darbu apjomi. 3. Tāmē paredzētajām iekārtām un materiāliem ir pieļaujami līdzvertīgi analogi.
C24: Sastādīja:
C25: Sertifikāta Nr.

Sheet 3
D1: Lokālā tāme Nr. 3
D2: Iekštelpu apdare
A4: Objekta nosaukums: Telpu pielāgošana magnētiskās rezonanses iekārtas uzstādīšanai
A5: Objekta adrese: Slimnīcas ielā 25, Liepājā
C7: Tāme sastādīta 2026 gada tirgus cenās, pamatojoties uz AR daļas rasējumiem | M7: Tāmes izmaksas | O7: =P48 -> 0 | P7: euro
A9: Nr.p.k. | B9: Kods | C9: Būvdarbu nosaukums | D9: Mērvie nība | E9: Daudzums | F9: Vienības izmaksas | L9: Kopā uz visu apjomu
F10: laika norma (c/h) | G10: darba samaksas likme (euro/h) | H10: darba alga | I10: būvizstrādājumi | J10: mehānismi | K10: kopā | L10: darbietilpība (c/h) | M10: darba alga | N10: būvizstrādājumi | O10: mehānismi | P10: summa
A11: =IF(B11<>"", MAX($A$1:A10)+1, "") | C11: Iekštelpu apdare magnētiskās rezonanses nodaļas telpām
C12: Nenesošo starpsienu demontāža
A13: =IF(B13<>"", MAX($A$1:A11)+1, "") -> 1 | B13: 10-00000 | C13: Nenesošo starpsienu demontāža, Būvgružu izvešana, utilizēšana | D13: m2 | E13: 82.3 | H13: =F13*G13 -> 0 | K13: =SUM(H13:J13) -> 0 | L13: =SUM(E13*F13) -> 0 | M13: =SUM(E13*H13) -> 0 | N13: =SUM(E13*I13) -> 0 | O13: =SUM(E13*J13) -> 0 | P13: =SUM(M13:O13) -> 0
A14: =IF(B14<>"", MAX($A$1:A12)+1, "") | C14: Ģipškartona konstrukcijas (125mm)
A15: =IF(B15<>"", MAX($A$1:A13)+1, "") -> 2 | B15: 08-00000 | C15: Ģipškartona karkasa izbūve no Profiliem CW 100, loksnes biezums 0,6mm, UW 100, loksnes biezums 0,6mm iestrādājot Blīvējuma lentu, platums 100mm | D15: m2 | E15: 32 | H15: =F15*G15 -> 0 | K15: =SUM(H15:J15) -> 0 | L15: =SUM(E15*F15) -> 0 | M15: =SUM(E15*H15) -> 0 | N15: =SUM(E15*I15) -> 0 | O15: =SUM(E15*J15) -> 0 | P15: =SUM(M15:O15) -> 0
A16: =IF(B16<>"", MAX($A$1:A14)+1, "") -> 2 | B16: 08-00000 | C16: Standarta ģipša plāksnes izbūve, b=12,5mm Knauf White vai ekvivalents | D16: m2 | E16: 32 | H16: =F16*G16 -> 0 | K16: =SUM(H16:J16) -> 0 | L16: =SUM(E16*F16) -> 0 | M16: =SUM(E16*H16) -> 0 | N16: =SUM(E16*I16) -> 0 | O16: =SUM(E16*J16) -> 0 | P16: =SUM(M16:O16) -> 0
A17: =IF(B17<>"", MAX($A$1:A15)+1, "") -> 3 | B17: 08-00000 | C17: Minerālvates, b=100mm iestrāde Paroc Ultra vai ekvivalents | D17: m2 | E17: 32 | H17: =F17*G17 -> 0 | K17: =SUM(H17:J17) -> 0 | L17: =SUM(E17*F17) -> 0 | M17: =SUM(E17*H17) -> 0 | N17: =SUM(E17*I17) -> 0 | O17: =SUM(E17*J17) -> 0 | P17: =SUM(M17:O17) -> 0
A18: =IF(B18<>"", MAX($A$1:A16)+1, "") -> 3 | B18: 08-00000 | C18: Standarta ģipša plāksnes izbūve, b=12,5mm Knauf White vai ekvivalents | D18: m2 | E18: 32 | H18: =F18*G18 -> 0 | K18: =SUM(H18:J18) -> 0 | L18: =SUM(E18*F18) -> 0 | M18: =SUM(E18*H18) -> 0 | N18: =SUM(E18*I18) -> 0 | O18: =SUM(E18*J18) -> 0 | P18: =SUM(M18:O18) -> 0
A19: =IF(B19<>"", MAX($A$1:A17)+1, "") -> 4 | B19: 10-00000 | C19: Sienas gruntēšana | D19: m2 | E19: 64 | H19: =F19*G19 -> 0 | K19: =SUM(H19:J19) -> 0 | L19: =SUM(E19*F19) -> 0 | M19: =SUM(E19*H19) -> 0 | N19: =SUM(E19*I19) -> 0 | O19: =SUM(E19*J19) -> 0 | P19: =SUM(M19:O19) -> 0
A20: =IF(B20<>"", MAX($A$1:A18)+1, "") -> 4 | B20: 10-00000 | C20: Sienas špaktelēšana ar KNAUF Q-FILLER špaktele vai ekvivalents | D20: m2 | E20: 64 | H20: =F20*G20 -> 0 | K20: =SUM(H20:J20) -> 0 | L20: =SUM(E20*F20) -> 0 | M20: =SUM(E20*H20) -> 0 | N20: =SUM(E20*I20) -> 0 | O20: =SUM(E20*J20) -> 0 | P20: =SUM(M20:O20) -> 0
A21: =IF(B21<>"", MAX($A$1:A19)+1, "") -> 5 | B21: 10-00000 | C21: Sienas gruntēšana | D21: m2 | E21: 64 | H21: =F21*G21 -> 0 | K21: =SUM(H21:J21) -> 0 | L21: =SUM(E21*F21) -> 0 | M21: =SUM(E21*H21) -> 0 | N21: =SUM(E21*I21) -> 0 | O21: =SUM(E21*J21) -> 0 | P21: =SUM(M21:O21) -> 0
A22: =IF(B22<>"", MAX($A$1:A20)+1, "") -> 5 | B22: 10-00000 | C22: Sienas krāsošana (Sienas krāsa Caparol Indeko-plus, krāsot 2 kārtās, toni precizēt autoruzraudzības kārtā) | D22: m2 | E22: 64 | H22: =F22*G22 -> 0 | K22: =SUM(H22:J22) -> 0 | L22: =SUM(E22*F22) -> 0 | M22: =SUM(E22*H22) -> 0 | N22: =SUM(E22*I22) -> 0 | O22: =SUM(E22*J22) -> 0 | P22: =SUM(M22:O22) -> 0
A23: =IF(B23<>"", MAX($A$1:A21)+1, "") | C23: Siena tehnoloģiski atbilstoša MRI telpas izbūvei (70mm)
A24: =IF(B24<>"", MAX($A$1:A22)+1, "") -> 6 | B24: 10-00000 | C24: Sienas izbūve tehnoloģiski atbilstoša MRI telpas izbūvei (70mm) pēc tehnoloģijas | D24: m2 | E24: 30.5 | H24: =F24*G24 -> 0 | K24: =SUM(H24:J24) -> 0 | L24: =SUM(E24*F24) -> 0 | M24: =SUM(E24*H24) -> 0 | N24: =SUM(E24*I24) -> 0 | O24: =SUM(E24*J24) -> 0 | P24: =SUM(M24:O24) -> 0
A25: =IF(B25<>"", MAX($A$1:A23)+1, "") | C25: Siena tehnoloģiski atbilstoša MRI telpā
A26: =IF(B26<>"", MAX($A$1:A24)+1, "") -> 7 | B26: 10-00000 | C26: Eosšo sienu ekranēšana atbilstoši MRI telpām pēc tehnoloģijas | D26: m2 | E26: 48.6 | H26: =F26*G26 -> 0 | K26: =SUM(H26:J26) -> 0 | L26: =SUM(E26*F26) -> 0 | M26: =SUM(E26*H26) -> 0 | N26: =SUM(E26*I26) -> 0 | O26: =SUM(E26*J26) -> 0 | P26: =SUM(M26:O26) -> 0
A27: =IF(B27<>"", MAX($A$1:A25)+1, "") | C27: Iekšējā loga aizdare
A28: =IF(B28<>"", MAX($A$1:A26)+1, "") -> 8 | B28: 08-00000 | C28: Iekšējā loga aizdare | D28: gb | E28: 1 | H28: =F28*G28 -> 0 | K28: =SUM(H28:J28) -> 0 | L28: =SUM(E28*F28) -> 0 | M28: =SUM(E28*H28) -> 0 | N28: =SUM(E28*I28) -> 0 | O28: =SUM(E28*J28) -> 0 | P28: =SUM(M28:O28) -> 0
A29: =IF(B29<>"", MAX($A$1:A27)+1, "") | C29: Griesti
A30: =IF(B30<>"", MAX($A$1:A28)+1, "") -> 9 | B30: 10-00000 | C30: Iekārto griestu demontāža, Būvgružu izvešana, utilizēšana | D30: m2 | E30: 47 | H30: =F30*G30 -> 0 | K30: =SUM(H30:J30) -> 0 | L30: =SUM(E30*F30) -> 0 | M30: =SUM(E30*H30) -> 0 | N30: =SUM(E30*I30) -> 0 | O30: =SUM(E30*J30) -> 0 | P30: =SUM(M30:O30) -> 0
A31: =IF(B31<>"", MAX($A$1:A29)+1, "") -> 9 | B31: 10-00000 | C31: Griestu ekranēšana atbilstoši MRI telpām pēc tehnoloģijas | D31: m2 | E31: 23.7 | H31: =F31*G31 -> 0 | K31: =SUM(H31:J31) -> 0 | L31: =SUM(E31*F31) -> 0 | M31: =SUM(E31*H31) -> 0 | N31: =SUM(E31*I31) -> 0 | O31: =SUM(E31*J31) -> 0 | P31: =SUM(M31:O31) -> 0
A32: =IF(B32<>"", MAX($A$1:A30)+1, "") -> 10 | B32: 10-00000 | C32: Jaunu iekārto griestu montāža | D32: m2 | E32: 47 | H32: =F32*G32 -> 0 | K32: =SUM(H32:J32) -> 0 | L32: =SUM(E32*F32) -> 0 | M32: =SUM(E32*H32) -> 0 | N32: =SUM(E32*I32) -> 0 | O32: =SUM(E32*J32) -> 0 | P32: =SUM(M32:O32) -> 0
A33: =IF(B33<>"", MAX($A$1:A31)+1, "") | C33: Esošo sienu atjaunošanas darbi
A34: =IF(B34<>"", MAX($A$1:A32)+1, "") -> 11 | B34: 10-00000 | C34: Sienas gruntēšana | D34: m2 | E34: 140 | H34: =F34*G34 -> 0 | K34: =SUM(H34:J34) -> 0 | L34: =SUM(E34*F34) -> 0 | M34: =SUM(E34*H34) -> 0 | N34: =SUM(E34*I34) -> 0 | O34: =SUM(E34*J34) -> 0 | P34: =SUM(M34:O34) -> 0
A35: =IF(B35<>"", MAX($A$1:A33)+1, "") -> 11 | B35: 10-00000 | C35: Sienas špaktelēšana ar KNAUF Q-FILLER špaktele vai ekvivalents | D35: m2 | E35: 140 | H35: =F35*G35 -> 0 | K35: =SUM(H35:J35) -> 0 | L35: =SUM(E35*F35) -> 0 | M35: =SUM(E35*H35) -> 0 | N35: =SUM(E35*I35) -> 0 | O35: =SUM(E35*J35) -> 0 | P35: =SUM(M35:O35) -> 0
A36: =IF(B36<>"", MAX($A$1:A34)+1, "") -> 12 | B36: 10-00000 | C36: Sienas gruntēšana | D36: m2 | E36: 140 | H36: =F36*G36 -> 0 | K36: =SUM(H36:J36) -> 0 | L36: =SUM(E36*F36) -> 0 | M36: =SUM(E36*H36) -> 0 | N36: =SUM(E36*I36) -> 0 | O36: =SUM(E36*J36) -> 0 | P36: =SUM(M36:O36) -> 0
A37: =IF(B37<>"", MAX($A$1:A35)+1, "") -> 12 | B37: 10-00000 | C37: Sienas krāsošana (Sienas krāsa Caparol Indeko-plus, krāsot 2 kārtās, toni precizēt autoruzraudzības kārtā) | D37: m2 | E37: 140 | H37: =F37*G37 -> 0 | K37: =SUM(H37:J37) -> 0 | L37: =SUM(E37*F37) -> 0 | M37: =SUM(E37*H37) -> 0 | N37: =SUM(E37*I37) -> 0 | O37: =SUM(E37*J37) -> 0 | P37: =SUM(M37:O37) -> 0
A38: =IF(B38<>"", MAX($A$1:A36)+1, "") -> 13 | B38: 10-00000 | C38: Sienu apdares atjaunošana (keramnikas flīzes) | D38: m2 | E38: 140 | H38: =F38*G38 -> 0 | K38: =SUM(H38:J38) -> 0 | L38: =SUM(E38*F38) -> 0 | M38: =SUM(E38*H38) -> 0 | N38: =SUM(E38*I38) -> 0 | O38: =SUM(E38*J38) -> 0 | P38: =SUM(M38:O38) -> 0
A39: =IF(B39<>"", MAX($A$1:A37)+1, "") | C39: Grīda tehnoloģiski atbilstoša MRI telpā
A40: =IF(B40<>"", MAX($A$1:A38)+1, "") -> 14 | B40: 10-00000 | C40: Eosšo grīdu ekranēšana atbilstoši MRI telpām pēc tehnoloģijas | D40: m2 | E40: 23.7 | H40: =F40*G40 -> 0 | K40: =SUM(H40:J40) -> 0 | L40: =SUM(E40*F40) -> 0 | M40: =SUM(E40*H40) -> 0 | N40: =SUM(E40*I40) -> 0 | O40: =SUM(E40*J40) -> 0 | P40: =SUM(M40:O40) -> 0
A41: =IF(B41<>"", MAX($A$1:A39)+1, "") -> 14 | B41: 10-00000 | C41: Grīdas seguma atjaunošana analogi iepriekšējam segumam Sarlon Sparkling linolejs 43C4217 (S 1550 R80B) | D41: m2 | E41: 23.7 | H41: =F41*G41 -> 0 | K41: =SUM(H41:J41) -> 0 | L41: =SUM(E41*F41) -> 0 | M41: =SUM(E41*H41) -> 0 | N41: =SUM(E41*I41) -> 0 | O41: =SUM(E41*J41) -> 0 | P41: =SUM(M41:O41) -> 0
A42: =IF(B42<>"", MAX($A$1:A40)+1, "") | C42: Iekštelpu apdare pagrabstāva telpām
A43: =IF(B43<>"", MAX($A$1:A41)+1, "") -> 15 | B43: 10-00000 | C43: Starpsienu un grīdas konstrukciju demontāža (pārseguma atbalsta konstrukciju zonās) | D43: m2 | E43: 31 | H43: =F43*G43 -> 0 | K43: =SUM(H43:J43) -> 0 | L43: =SUM(E43*F43) -> 0 | M43: =SUM(E43*H43) -> 0 | N43: =SUM(E43*I43) -> 0 | O43: =SUM(E43*J43) -> 0 | P43: =SUM(M43:O43) -> 0
A44: =IF(B44<>"", MAX($A$1:A42)+1, "") -> 15 | B44: 10-00000 | C44: Demontētās grīdas konstrukcijas un flīžu apdares atjaunošana | D44: m2 | E44: 13 | H44: =F44*G44 -> 0 | K44: =SUM(H44:J44) -> 0 | L44: =SUM(E44*F44) -> 0 | M44: =SUM(E44*H44) -> 0 | N44: =SUM(E44*I44) -> 0 | O44: =SUM(E44*J44) -> 0 | P44: =SUM(M44:O44) -> 0
A45: =IF(B45<>"", MAX($A$1:A43)+1, "") -> 16 | B45: 10-00000 | C45: Demontētās starpsienas konstrukcijas apdares atjaunošana | D45: m2 | E45: 18 | H45: =F45*G45 -> 0 | K45: =SUM(H45:J45) -> 0 | L45: =SUM(E45*F45) -> 0 | M45: =SUM(E45*H45) -> 0 | N45: =SUM(E45*I45) -> 0 | O45: =SUM(E45*J45) -> 0 | P45: =SUM(M45:O45) -> 0
A46: =IF(B46<>"", MAX($A$1:A44)+1, "") -> 16 | B46: 10-00000 | C46: Atjaunoto starpsienu apdares atjaunošana (keramnikas flīzes) | D46: m2 | E46: 31 | H46: =F46*G46 -> 0 | K46: =SUM(H46:J46) -> 0 | L46: =SUM(E46*F46) -> 0 | M46: =SUM(E46*H46) -> 0 | N46: =SUM(E46*I46) -> 0 | O46: =SUM(E46*J46) -> 0 | P46: =SUM(M46:O46) -> 0
A47: =IF(B47<>"", MAX($A$1:A45)+1, "") -> 17 | B47: 10-00000 | C47: Griestu apdares atjaunošana | D47: m2 | E47: 12.5 | H47: =F47*G47 -> 0 | K47: =SUM(H47:J47) -> 0 | L47: =SUM(E47*F47) -> 0 | M47: =SUM(E47*H47) -> 0 | N47: =SUM(E47*I47) -> 0 | O47: =SUM(E47*J47) -> 0 | P47: =SUM(M47:O47) -> 0
A48: =IF(B48<>"", MAX($A$1:A47)+1, "") | C48: Tiešās izmaksas kopā, t. sk. darba devēja sociālais nodoklis (23,59%) | L48: =SUM(L13:L47) -> 0 | M48: =SUM(M13:M47) -> 0 | N48: =SUM(N13:N47) -> 0 | O48: =SUM(O13:O47) -> 0 | P48: =SUM(P13:P47) -> 0
A49: 1. Būvuzņēmējam jāievērtē darbu apjomu sarakstā minēto darbu veikšanai nepieciešamie materiāli un papildu darbi, kas nav minēti šajā sarakstā, bet bez kuriem nebūtu iespējama būvdarbu tehnoloģiski pareiza un spēkā esošiem normatīviem atbilstoša veikšana pilnā apmērā. Darbu tāmes apjomi dabā var atšķirties, tādēļ nepieciešams precizēt objektā uz vietas. 2. Darbu apjomus skatīt kopā ar rasējumiem. Gadījumā, ja darbu apjomi nesakrīt ar rasējumiem, par pareiziem jāuzskata rasējumos esošie darbu apjomi. 3. Tāmē paredzētajām iekārtām un materiāliem ir pieļaujami līdzvertīgi analogi.
C52: Sastādīja:
C53: Sertifikāta Nr.

Sheet 4
D1: Lokālā tāme Nr. 4
D2: Elektroapgāde, iekšējā (EL)
A4: Objekta nosaukums: Telpu pielāgošana magnētiskās rezonanses iekārtas uzstādīšanai
A5: Objekta adrese: Slimnīcas ielā 25, Liepājā
C7: Tāme sastādīta 2026 gada tirgus cenās, pamatojoties uz EL daļas rasējumiem | M7: Tāmes izmaksas | O7: =SUM(P51) -> 0 | P7: euro
A9: Nr.p.k. | B9: Kods | C9: Būvdarbu nosaukums | D9: Mērvie nība | E9: Daudzums | F9: Vienības izmaksas | L9: Kopā uz visu apjomu
F10: laika norma (c/h) | G10: darba samaksas likme (euro/h) | H10: darba alga | I10: būvizstrādājumi | J10: mehānismi | K10: kopā | L10: darbietilpība (c/h) | M10: darba alga | N10: būvizstrādājumi | O10: mehānismi | P10: summa
A11: =IF(B11<>"", MAX($A$1:A10)+1, "") | C11: Elektroapgāde, iekšējā (EL) | O11: =SUM(E11*J11) -> 0 | P11: =SUM(M11:O11) -> 0
A12: =IF(B12<>"", MAX($A$1:A11)+1, "") -> 1 | B12: 18-00000 | C12: Individuāli izgatavota v/a spēka sadale ar komplektējošiem elementiem | D12: kompl. | E12: 1 | H12: =F12*G12 -> 0 | K12: =SUM(H12:J12) -> 0 | L12: =SUM(E12*F12) -> 0 | M12: =SUM(E12*H12) -> 0 | N12: =SUM(E12*I12) -> 0 | O12: =SUM(E12*J12) -> 0 | P12: =SUM(M12:O12) -> 0
A13: =IF(B13<>"", MAX($A$1:A12)+1, "") -> 2 | B13: 18-00000 | C13: Kabelis NYM-J 5x2,5mm² | D13: m | E13: 20 | H13: =F13*G13 -> 0 | K13: =SUM(H13:J13) -> 0 | L13: =SUM(E13*F13) -> 0 | M13: =SUM(E13*H13) -> 0 | N13: =SUM(E13*I13) -> 0 | O13: =SUM(E13*J13) -> 0 | P13: =SUM(M13:O13) -> 0
A14: =IF(B14<>"", MAX($A$1:A13)+1, "") -> 3 | B14: 18-00000 | C14: Kabelis NYM-J 3x2,5mm² | D14: m | E14: 100 | H14: =F14*G14 -> 0 | K14: =SUM(H14:J14) -> 0 | L14: =SUM(E14*F14) -> 0 | M14: =SUM(E14*H14) -> 0 | N14: =SUM(E14*I14) -> 0 | O14: =SUM(E14*J14) -> 0 | P14: =SUM(M14:O14) -> 0
A15: =IF(B15<>"", MAX($A$1:A14)+1, "") -> 4 | B15: 18-00000 | C15: Kabelis NYM-J 3x1,5mm² | D15: m | E15: 50 | H15: =F15*G15 -> 0 | K15: =SUM(H15:J15) -> 0 | L15: =SUM(E15*F15) -> 0 | M15: =SUM(E15*H15) -> 0 | N15: =SUM(E15*I15) -> 0 | O15: =SUM(E15*J15) -> 0 | P15: =SUM(M15:O15) -> 0
A16: =IF(B16<>"", MAX($A$1:A15)+1, "") -> 5 | B16: 18-00000 | C16: Gofrēta caurule ar stiepli D=20mm 320N pelēka | D16: m | E16: 50 | H16: =F16*G16 -> 0 | K16: =SUM(H16:J16) -> 0 | L16: =SUM(E16*F16) -> 0 | M16: =SUM(E16*H16) -> 0 | N16: =SUM(E16*I16) -> 0 | O16: =SUM(E16*J16) -> 0 | P16: =SUM(M16:O16) -> 0
A17: =IF(B17<>"", MAX($A$1:A16)+1, "") -> 6 | B17: 18-00000 | C17: Kontaktligzda 2-v ar zem. 45x90mm kontaktu aiz. balta Rapid 45 | D17: gab | E17: 15 | H17: =F17*G17 -> 0 | K17: =SUM(H17:J17) -> 0 | L17: =SUM(E17*F17) -> 0 | M17: =SUM(E17*H17) -> 0 | N17: =SUM(E17*I17) -> 0 | O17: =SUM(E17*J17) -> 0 | P17: =SUM(M17:O17) -> 0
A18: =IF(B18<>"", MAX($A$1:A17)+1, "") -> 7 | B18: 18-00000 | C18: Ierīču kabeļu kanāls 100x53mm 2m balts Rapid 45-2 GK-53100RW | D18: m | E18: 24 | H18: =F18*G18 -> 0 | K18: =SUM(H18:J18) -> 0 | L18: =SUM(E18*F18) -> 0 | M18: =SUM(E18*H18) -> 0 | N18: =SUM(E18*I18) -> 0 | O18: =SUM(E18*J18) -> 0 | P18: =SUM(M18:O18) -> 0
A19: =IF(B19<>"", MAX($A$1:A18)+1, "") -> 8 | B19: 18-00000 | C19: Savienojuma pārsegs kabeļu kanālam 45mm balts Rapid 45 | D19: gab | E19: 8 | H19: =F19*G19 -> 0 | K19: =SUM(H19:J19) -> 0 | L19: =SUM(E19*F19) -> 0 | M19: =SUM(E19*H19) -> 0 | N19: =SUM(E19*I19) -> 0 | O19: =SUM(E19*J19) -> 0 | P19: =SUM(M19:O19) -> 0
A20: =IF(B20<>"", MAX($A$1:A19)+1, "") -> 9 | B20: 18-00000 | C20: Vāka savienojuma pārsegs kabeļu kanālam balts Rapid 45 | D20: gab | E20: 8 | H20: =F20*G20 -> 0 | K20: =SUM(H20:J20) -> 0 | L20: =SUM(E20*F20) -> 0 | M20: =SUM(E20*H20) -> 0 | N20: =SUM(E20*I20) -> 0 | O20: =SUM(E20*J20) -> 0 | P20: =SUM(M20:O20) -> 0
A21: =IF(B21<>"", MAX($A$1:A20)+1, "") -> 10 | B21: 18-00000 | C21: Gala vāks kabeļu kanālam 100x53mm balts Rapid 45-2 | D21: gab | E21: 10 | H21: =F21*G21 -> 0 | K21: =SUM(H21:J21) -> 0 | L21: =SUM(E21*F21) -> 0 | M21: =SUM(E21*H21) -> 0 | N21: =SUM(E21*I21) -> 0 | O21: =SUM(E21*J21) -> 0 | P21: =SUM(M21:O21) -> 0
A22: =IF(B22<>"", MAX($A$1:A21)+1, "") -> 11 | B22: 18-00000 | C22: Kabeļu kanāls LHD 40x40mm 2m balts antibakteriāls LHD HD vertikāli | D22: gab | E22: 5 | H22: =F22*G22 -> 0 | K22: =SUM(H22:J22) -> 0 | L22: =SUM(E22*F22) -> 0 | M22: =SUM(E22*H22) -> 0 | N22: =SUM(E22*I22) -> 0 | O22: =SUM(E22*J22) -> 0 | P22: =SUM(M22:O22) -> 0
A23: =IF(B23<>"", MAX($A$1:A22)+1, "") -> 12 | B23: 18-00000 | C23: Pieslēguma vieta 1F | D23: gab | E23: 1 | H23: =F23*G23 -> 0 | K23: =SUM(H23:J23) -> 0 | L23: =SUM(E23*F23) -> 0 | M23: =SUM(E23*H23) -> 0 | N23: =SUM(E23*I23) -> 0 | O23: =SUM(E23*J23) -> 0 | P23: =SUM(M23:O23) -> 0
... A50: =IF(B50<>"", MAX($A$1:A49)+1, "") -> 39 | B50: 18-00000 | C50: Izpilddokumemtācija | D50: kpl | E50: 1 | H50: =F50*G50 -> 0 | K50: =SUM(H50:J50) -> 0 | L50: =SUM(E50*F50) -> 0 | M50: =SUM(E50*H50) -> 0 | N50: =SUM(E50*I50) -> 0 | O50: =SUM(E50*J50) -> 0 | P50: =SUM(M50:O50) -> 0
A51: =IF(B51<>"", MAX($A$1:A10)+1, "") | C51: Tiešās izmaksas kopā, t. sk. darba devēja sociālais nodoklis (23,59%) | L51: =SUM(L12:L50) -> 0 | M51: =SUM(M12:M50) -> 0 | N51: =SUM(N12:N50) -> 0 | O51: =SUM(O12:O50) -> 0 | P51: =SUM(P12:P50) -> 0
A52: 1. Būvuzņēmējam jāievērtē darbu apjomu sarakstā minēto darbu veikšanai nepieciešamie materiāli un papildu darbi, kas nav minēti šajā sarakstā, bet bez kuriem nebūtu iespējama būvdarbu tehnoloģiski pareiza un spēkā esošiem normatīviem atbilstoša veikšana pilnā apmērā. Darbu tāmes apjomi dabā var atšķirties, tādēļ nepieciešams precizēt objektā uz vietas. 2. Darbu apjomus skatīt kopā ar rasējumiem. Gadījumā, ja darbu apjomi nesakrīt ar rasējumiem, par pareiziem jāuzskata rasējumos esošie darbu apjomi. 3. Tāmē paredzētajām iekārtām un materiāliem ir pieļaujami līdzvertīgi analogi.
C55: Sastādīja:
C56: Sertifikāta Nr.

Sheet 5
D1: Lokālā tāme Nr. 5
D2: AVK-K (Ventilācija, klimata kontrole)
A4: Objekta nosaukums: Telpu pielāgošana magnētiskās rezonanses iekārtas uzstādīšanai
A5: Objekta adrese: Slimnīcas ielā 25, Liepājā
C7: Tāme sastādīta 2026 gada tirgus cenās, pamatojoties uz AVK-A daļas rasējumiem | M7: Tāmes izmaksas | O7: =SUM(P88) -> 0 | P7: euro
A9: Nr.p.k. | B9: Kods | C9: Būvdarbu nosaukums | D9: Mērvie nība | E9: Daudzums | F9: Vienības izmaksas | L9: Kopā uz visu apjomu
F10: laika norma (c/h) | G10: darba samaksas likme (euro/h) | H10: darba alga | I10: būvizstrādājumi | J10: mehānismi | K10: kopā | L10: darbietilpība (c/h) | M10: darba alga | N10: būvizstrādājumi | O10: mehānismi | P10: summa
A11: =IF(B11<>"", MAX($A$1:A10)+1, "") | C11: Gaisa dzesēšanas sistēma
A12: =IF(B12<>"", MAX($A$1:A11)+1, "") -> 1 | B12: 17-00000 | C12: Vara caurule (aukstumapgādei) ar rūpnīcā uzklātu izolāciju d6,35 (Ø1/4'') Vara caurule dzesēšanai EN1057 | D12: m | E12: 50 | H12: =F12*G12 -> 0 | K12: =SUM(H12:J12) -> 0 | L12: =SUM(E12*F12) -> 0 | M12: =SUM(E12*H12) -> 0 | N12: =SUM(E12*I12) -> 0 | O12: =SUM(E12*J12) -> 0 | P12: =SUM(M12:O12) -> 0
A13: =IF(B13<>"", MAX($A$1:A12)+1, "") -> 2 | B13: 17-00000 | C13: Vara caurule (aukstumapgādei) ar rūpnīcā uzklātu izolāciju d9,52 (Ø3/8'') Vara caurule dzesēšanai EN1057 | D13: m | E13: 50 | H13: =F13*G13 -> 0 | K13: =SUM(H13:J13) -> 0 | L13: =SUM(E13*F13) -> 0 | M13: =SUM(E13*H13) -> 0 | N13: =SUM(E13*I13) -> 0 | O13: =SUM(E13*J13) -> 0 | P13: =SUM(M13:O13) -> 0
A14: =IF(B14<>"", MAX($A$1:A13)+1, "") -> 3 | B14: 17-00000 | C14: Split tipa gaisa dzesēšanas sistēmas ārējais bloks Qdzes.-5.0kW (darbībai līdz -20oC) | D14: kompl. | E14: 5 | H14: =F14*G14 -> 0 | K14: =SUM(H14:J14) -> 0 | L14: =SUM(E14*F14) -> 0 | M14: =SUM(E14*H14) -> 0 | N14: =SUM(E14*I14) -> 0 | O14: =SUM(E14*J14) -> 0 | P14: =SUM(M14:O14) -> 0
A15: =IF(B15<>"", MAX($A$1:A14)+1, "") -> 4 | B15: 17-00000 | C15: Gaisa dzesēšanas sistēmas sienas tipa iekšdaļa komplektā ar IR staru pulti Qdzes.-5.0kW | D15: kompl. | E15: 5 | H15: =F15*G15 -> 0 | K15: =SUM(H15:J15) -> 0 | L15: =SUM(E15*F15) -> 0 | M15: =SUM(E15*H15) -> 0 | N15: =SUM(E15*I15) -> 0 | O15: =SUM(E15*J15) -> 0 | P15: =SUM(M15:O15) -> 0
A16: =IF(B16<>"", MAX($A$1:A15)+1, "") -> 5 | B16: 17-00000 | C16: Kondensāta novadīšanas sūknis (pieslēgumu precizēt būvdarbu gaitā) Silent+ Mini Aqua | D16: kompl. | E16: 5 | H16: =F16*G16 -> 0 | K16: =SUM(H16:J16) -> 0 | L16: =SUM(E16*F16) -> 0 | M16: =SUM(E16*H16) -> 0 | N16: =SUM(E16*I16) -> 0 | O16: =SUM(E16*J16) -> 0 | P16: =SUM(M16:O16) -> 0
A17: =IF(B17<>"", MAX($A$1:A16)+1, "") -> 6 | B17: 17-00000 | C17: Kondensāta novadīšana no dzesēšanas bloka (pieslēgumu precizēt būvdarbu gaitā) d22 | D17: kompl. | E17: 5 | H17: =F17*G17 -> 0 | K17: =SUM(H17:J17) -> 0 | L17: =SUM(E17*F17) -> 0 | M17: =SUM(E17*H17) -> 0 | N17: =SUM(E17*I17) -> 0 | O17: =SUM(E17*J17) -> 0 | P17: =SUM(M17:O17) -> 0
A18: =IF(B18<>"", MAX($A$1:A17)+1, "") -> 7 | B18: 17-00000 | C18: Aukstumaģents dzesēšanas sistēmas papildināšanai R32 | D18: kg | E18: 0.5 | H18: =F18*G18 -> 0 | K18: =SUM(H18:J18) -> 0 | L18: =SUM(E18*F18) -> 0 | M18: =SUM(E18*H18) -> 0 | N18: =SUM(E18*I18) -> 0 | O18: =SUM(E18*J18) -> 0 | P18: =SUM(M18:O18) -> 0
A19: =IF(B19<>"", MAX($A$1:A18)+1, "") -> 8 | B19: 17-00000 | C19: Cauruļu fasondaļas | D19: kompl. | E19: 1 | H19: =F19*G19 -> 0 | K19: =SUM(H19:J19) -> 0 | L19: =SUM(E19*F19) -> 0 | M19: =SUM(E19*H19) -> 0 | N19: =SUM(E19*I19) -> 0 | O19: =SUM(E19*J19) -> 0 | P19: =SUM(M19:O19) -> 0
A20: =IF(B20<>"", MAX($A$1:A19)+1, "") -> 9 | B20: 17-00000 | C20: Izolācijas stiprinājumi un montāžas elementi - līme, noseglentas, u.c. | D20: kompl. | E20: 1 | H20: =F20*G20 -> 0 | K20: =SUM(H20:J20) -> 0 | L20: =SUM(E20*F20) -> 0 | M20: =SUM(E20*H20) -> 0 | N20: =SUM(E20*I20) -> 0 | O20: =SUM(E20*J20) -> 0 | P20: =SUM(M20:O20) -> 0
A21: =IF(B21<>"", MAX($A$1:A20)+1, "") -> 10 | B21: 17-00000 | C21: Cauruļvadu ievietošana penālī ārpus ēkas izvietotiem cauruļvadiem | D21: m | E21: 10 | H21: =F21*G21 -> 0 | K21: =SUM(H21:J21) -> 0 | L21: =SUM(E21*F21) -> 0 | M21: =SUM(E21*H21) -> 0 | N21: =SUM(E21*I21) -> 0 | O21: =SUM(E21*J21) -> 0 | P21: =SUM(M21:O21) -> 0
A22: =IF(B22<>"", MAX($A$1:A21)+1, "") -> 11 | B22: 17-00000 | C22: Cauruļu un iekārtu stiprināšanas elementi (skrūves, skavas, blīvēšanas materiāli, vītņstieņi, iekares, tīrīšanas lūkas, u.c.) | D22: kompl. | E22: 1 | H22: =F22*G22 -> 0 | K22: =SUM(H22:J22) -> 0 | L22: =SUM(E22*F22) -> 0 | M22: =SUM(E22*H22) -> 0 | N22: =SUM(E22*I22) -> 0 | O22: =SUM(E22*J22) -> 0 | P22: =SUM(M22:O22) -> 0
A23: =IF(B23<>"", MAX($A$1:A22)+1, "") -> 12 | B23: 17-00000 | C23: Gaisa dzesētāja ārējā bloka sienas montāžas konsoles | D23: kompl. | E23: 1 | H23: =F23*G23 -> 0 | K23: =SUM(H23:J23) -> 0 | L23: =SUM(E23*F23) -> 0 | M23: =SUM(E23*H23) -> 0 | N23: =SUM(E23*I23) -> 0 | O23: =SUM(E23*J23) -> 0 | P23: =SUM(M23:O23) -> 0
... A32: =IF(B32<>"", MAX($A$1:A31)+1, "") -> 21 | B32: 17-00000 | C32: Sistēmas ieregulēšana un nodošana ekspluatācijā | D32: kompl. | E32: 1 | H32: =F32*G32 -> 0 | K32: =SUM(H32:J32) -> 0 | L32: =SUM(E32*F32) -> 0 | M32: =SUM(E32*H32) -> 0 | N32: =SUM(E32*I32) -> 0 | O32: =SUM(E32*J32) -> 0 | P32: =SUM(M32:O32) -> 0
A33: =IF(B33<>"", MAX($A$1:A32)+1, "") | C33: Ventilācijas sistēma
A34: =IF(B34<>"", MAX($A$1:A33)+1, "") -> 22 | B34: 17-00000 | C34: Ventilācijas iekārta ar pretplūsmas siltummaini Q=1000m3/h; p=300Pa | D34: kompl. | E34: 1 | H34: =F34*G34 -> 0 | K34: =SUM(H34:J34) -> 0 | L34: =SUM(E34*F34) -> 0 | M34: =SUM(E34*H34) -> 0 | N34: =SUM(E34*I34) -> 0 | O34: =SUM(E34*J34) -> 0 | P34: =SUM(M34:O34) -> 0
A35: =IF(B35<>"", MAX($A$1:A34)+1, "") -> 23 | B35: 17-00000 | C35: Taisnstūra regulējošais vārsts ar izpildmehānismu 24V atsperes pievads 400x200 TUNE-S-400x200-M5 | D35: kompl. | E35: 2 | H35: =F35*G35 -> 0 | K35: =SUM(H35:J35) -> 0 | L35: =SUM(E35*F35) -> 0 | M35: =SUM(E35*H35) -> 0 | N35: =SUM(E35*I35) -> 0 | O35: =SUM(E35*J35) -> 0 | P35: =SUM(M35:O35) -> 0
A36: =IF(B36<>"", MAX($A$1:A35)+1, "") -> 24 | B36: 17-00000 | C36: Cinkota skārda līkumi | D36: gab. | E36: 45 | H36: =F36*G36 -> 0 | K36: =SUM(H36:J36) -> 0 | L36: =SUM(E36*F36) -> 0 | M36: =SUM(E36*H36) -> 0 | N36: =SUM(E36*I36) -> 0 | O36: =SUM(E36*J36) -> 0 | P36: =SUM(M36:O36) -> 0
A37: =IF(B37<>"", MAX($A$1:A36)+1, "") -> 25 | B37: 17-00000 | C37: Nosūces difuzors (metāla) 100 EFF-100-SW | D37: gab. | E37: 1 | H37: =F37*G37 -> 0 | K37: =SUM(H37:J37) -> 0 | L37: =SUM(E37*F37) -> 0 | M37: =SUM(E37*H37) -> 0 | N37: =SUM(E37*I37) -> 0 | O37: =SUM(E37*J37) -> 0 | P37: =SUM(M37:O37) -> 0
A38: =IF(B38<>"", MAX($A$1:A37)+1, "") -> 26 | B38: 17-00000 | C38: Nosūces difuzors (metāla) 125 EFF-125-SW | D38: gab. | E38: 2 | H38: =F38*G38 -> 0 | K38: =SUM(H38:J38) -> 0 | L38: =SUM(E38*F38) -> 0 | M38: =SUM(E38*H38) -> 0 | N38: =SUM(E38*I38) -> 0 | O38: =SUM(E38*J38) -> 0 | P38: =SUM(M38:O38) -> 0
A39: =IF(B39<>"", MAX($A$1:A38)+1, "") -> 27 | B39: 17-00000 | C39: Nosūces difuzors (metāla) 160 EFF-160-SW | D39: gab. | E39: 1 | H39: =F39*G39 -> 0 | K39: =SUM(H39:J39) -> 0 | L39: =SUM(E39*F39) -> 0 | M39: =SUM(E39*H39) -> 0 | N39: =SUM(E39*I39) -> 0 | O39: =SUM(E39*J39) -> 0 | P39: =SUM(M39:O39) -> 0
A40: =IF(B40<>"", MAX($A$1:A39)+1, "") -> 28 | B40: 17-00000 | C40: Nosūces reste ar spiediena slāpējošo kārbu (aizmugures piesl.) 250 SV1-400-150+TGE-400-150-B | D40: gab. | E40: 4 | H40: =F40*G40 -> 0 | K40: =SUM(H40:J40) -> 0 | L40: =SUM(E40*F40) -> 0 | M40: =SUM(E40*H40) -> 0 | N40: =SUM(E40*I40) -> 0 | O40: =SUM(E40*J40) -> 0 | P40: =SUM(M40:O40) -> 0
A41: =IF(B41<>"", MAX($A$1:A40)+1, "") -> 29 | B41: 17-00000 | C41: Ugunsdrošais vārsts (taisnstūra) (EI 120) 250x250-250x250 UVS-H-250x250 | D41: gab. | E41: 1 | H41: =F41*G41 -> 0 | K41: =SUM(H41:J41) -> 0 | L41: =SUM(E41*F41) -> 0 | M41: =SUM(E41*H41) -> 0 | N41: =SUM(E41*I41) -> 0 | O41: =SUM(E41*J41) -> 0 | P41: =SUM(M41:O41) -> 0
A42: =IF(B42<>"", MAX($A$1:A41)+1, "") -> 30 | B42: 17-00000 | C42: Ugunsdrošais vārsts (taisnstūra) (EI 120) 300x200-300x200 UVS-H-300x200 | D42: gab. | E42: 1 | H42: =F42*G42 -> 0 | K42: =SUM(H42:J42) -> 0 | L42: =SUM(E42*F42) -> 0 | M42: =SUM(E42*H42) -> 0 | N42: =SUM(E42*I42) -> 0 | O42: =SUM(E42*J42) -> 0 | P42: =SUM(M42:O42) -> 0
A43: =IF(B43<>"", MAX($A$1:A42)+1, "") -> 31 | B43: 17-00000 | C43: Ugunsdrošais vārsts (taisnstūra) (EI 120) 400x200-400x200 UVS-H-400x200 | D43: gab. | E43: 1 | H43: =F43*G43 -> 0 | K43: =SUM(H43:J43) -> 0 | L43: =SUM(E43*F43) -> 0 | M43: =SUM(E43*H43) -> 0 | N43: =SUM(E43*I43) -> 0 | O43: =SUM(E43*J43) -> 0 | P43: =SUM(M43:O43) -> 0
A44: =IF(B44<>"", MAX($A$1:A43)+1, "") -> 32 | B44: 17-00000 | C44: Ugunsdrošības vārsts (apaļš) EI120, meh.piedziņa 125-125 UVA 120H-125 | D44: gab. | E44: 2 | H44: =F44*G44 -> 0 | K44: =SUM(H44:J44) -> 0 | L44: =SUM(E44*F44) -> 0 | M44: =SUM(E44*H44) -> 0 | N44: =SUM(E44*I44) -> 0 | O44: =SUM(E44*J44) -> 0 | P44: =SUM(M44:O44) -> 0
A45: =IF(B45<>"", MAX($A$1:A44)+1, "") -> 33 | B45: 17-00000 | C45: Konstanta gaisa daudzuma regulējošais vārsts zema ātruma sist. 125-125 VFC/125/ | D45: gab. | E45: 1 | H45: =F45*G45 -> 0 | K45: =SUM(H45:J45) -> 0 | L45: =SUM(E45*F45) -> 0 | M45: =SUM(E45*H45) -> 0 | N45: =SUM(E45*I45) -> 0 | O45: =SUM(E45*J45) -> 0 | P45: =SUM(M45:O45) -> 0
... A84: =IF(B84<>"", MAX($A$1:A83)+1, "") -> 72 | B84: 17-00000 | C84: Izpilddokumentācijas izstrādāšana | D84: kompl. | E84: 1 | H84: =F84*G84 -> 0 | K84: =SUM(H84:J84) -> 0 | L84: =SUM(E84*F84) -> 0 | M84: =SUM(E84*H84) -> 0 | N84: =SUM(E84*I84) -> 0 | O84: =SUM(E84*J84) -> 0 | P84: =SUM(M84:O84) -> 0
A85: =IF(B85<>"", MAX($A$1:A84)+1, "") | C85: Demontāžas darbi
A86: =IF(B86<>"", MAX($A$1:A85)+1, "") -> 73 | B86: 17-00000 | C86: Esošās ventilācijas sistēmas demontāža, demontēto materiālu un iekārtu utilizācija | D86: kompl. | E86: 1 | H86: =F86*G86 -> 0 | K86: =SUM(H86:J86) -> 0 | L86: =SUM(E86*F86) -> 0 | M86: =SUM(E86*H86) -> 0 | N86: =SUM(E86*I86) -> 0 | O86: =SUM(E86*J86) -> 0 | P86: =SUM(M86:O86) -> 0
A87: =IF(B87<>"", MAX($A$1:A86)+1, "") -> 74 | B87: 17-00000 | C87: Esošo gaisa dzesēšanas sistēmu demontāža, demontēto materiālu un iekārtu utilizācija | D87: kompl. | E87: 4 | H87: =F87*G87 -> 0 | K87: =SUM(H87:J87) -> 0 | L87: =SUM(E87*F87) -> 0 | M87: =SUM(E87*H87) -> 0 | N87: =SUM(E87*I87) -> 0 | O87: =SUM(E87*J87) -> 0 | P87: =SUM(M87:O87) -> 0
A88: =IF(B88<>"", MAX($A$1:A10)+1, "") | C88: Tiešās izmaksas kopā, t. sk. darba devēja sociālais nodoklis (23,59%) | L88: =SUM(L11:L87) -> 0 | M88: =SUM(M11:M87) -> 0 | N88: =SUM(N11:N87) -> 0 | O88: =SUM(O11:O87) -> 0 | P88: =SUM(P11:P87) -> 0
A89: 1. Būvuzņēmējam jāievērtē darbu apjomu sarakstā minēto darbu veikšanai nepieciešamie materiāli un papildu darbi, kas nav minēti šajā sarakstā, bet bez kuriem nebūtu iespējama būvdarbu tehnoloģiski pareiza un spēkā esošiem normatīviem atbilstoša veikšana pilnā apmērā. Darbu tāmes apjomi dabā var atšķirties, tādēļ nepieciešams precizēt objektā uz vietas. 2. Darbu apjomus skatīt kopā ar rasējumiem. Gadījumā, ja darbu apjomi nesakrīt ar rasējumiem, par pareiziem jāuzskata rasējumos esošie darbu apjomi. 3. Tāmē paredzētajām iekārtām un materiāliem ir pieļaujami līdzvertīgi analogi.
C92: Sastādīja:
C93: Sertifikāta Nr.

Sheet 6
D1: Lokālā tāme Nr. 6
D2: Ūdensapgāde ŪK
A4: Objekta nosaukums: Telpu pielāgošana magnētiskās rezonanses iekārtas uzstādīšanai
A5: Objekta adrese: Slimnīcas ielā 25, Liepājā
C7: Tāme sastādīta 2026. gada tirgus cenās, pamatojoties uz ŪK daļas rasējumiem | M7: Tāmes izmaksas | O7: =SUM(P30) -> 0 | P7: euro
A9: Nr.p.k. | B9: Kods | C9: Būvdarbu nosaukums | D9: Mērvie nība | E9: Daudzums | F9: Vienības izmaksas | L9: Kopā uz visu apjomu
F10: laika norma (c/h) | G10: darba samaksas likme (euro/h) | H10: darba alga | I10: būvizstrādājumi | J10: mehānismi | K10: kopā | L10: darbietilpība (c/h) | M10: darba alga | N10: būvizstrādājumi | O10: mehānismi | P10: summa
A11: =IF(B11<>"", MAX($A$1:A10)+1, "") | C11: Ūdensvada sistēmas izbūve U1, S3
A12: =IF(B12<>"", MAX($A$1:A11)+1, "") -> 1 | B12: 14-00000 | C12: Plastmasas daudzslāņu cauruļvadi ar presējamiem veidgabaliem D16x2,0 | D12: m | E12: 5 | H12: =F12*G12 -> 0 | K12: =SUM(H12:J12) -> 0 | L12: =SUM(E12*F12) -> 0 | M12: =SUM(E12*H12) -> 0 | N12: =SUM(E12*I12) -> 0 | O12: =SUM(E12*J12) -> 0 | P12: =SUM(M12:O12) -> 0
A13: =IF(B13<>"", MAX($A$1:A12)+1, "") -> 2 | B13: 14-00000 | C13: Veidgabals ūdensvada pievienošanai pie ūdens ievada | D13: gab | E13: 1 | H13: =F13*G13 -> 0 | K13: =SUM(H13:J13) -> 0 | L13: =SUM(E13*F13) -> 0 | M13: =SUM(E13*H13) -> 0 | N13: =SUM(E13*I13) -> 0 | O13: =SUM(E13*J13) -> 0 | P13: =SUM(M13:O13) -> 0
A14: =IF(B14<>"", MAX($A$1:A13)+1, "") -> 3 | B14: 14-00000 | C14: Lodveida ventilis sanitāri tehniskās ierīces pievadam DN15 | D14: gab | E14: 2 | H14: =F14*G14 -> 0 | K14: =SUM(H14:J14) -> 0 | L14: =SUM(E14*F14) -> 0 | M14: =SUM(E14*H14) -> 0 | N14: =SUM(E14*I14) -> 0 | O14: =SUM(E14*J14) -> 0 | P14: =SUM(M14:O14) -> 0
A15: =IF(B15<>"", MAX($A$1:A14)+1, "") -> 4 | B15: 14-00000 | C15: Lodveida vārsts DN15 | D15: gab | E15: 2 | H15: =F15*G15 -> 0 | K15: =SUM(H15:J15) -> 0 | L15: =SUM(E15*F15) -> 0 | M15: =SUM(E15*H15) -> 0 | N15: =SUM(E15*I15) -> 0 | O15: =SUM(E15*J15) -> 0 | P15: =SUM(M15:O15) -> 0
A16: =IF(B16<>"", MAX($A$1:A15)+1, "") -> 5 | B16: 14-00000 | C16: Veidgabali pievienošanai pie stāvvada | D16: gab | E16: 2 | H16: =F16*G16 -> 0 | K16: =SUM(H16:J16) -> 0 | L16: =SUM(E16*F16) -> 0 | M16: =SUM(E16*H16) -> 0 | N16: =SUM(E16*I16) -> 0 | O16: =SUM(E16*J16) -> 0 | P16: =SUM(M16:O16) -> 0
A17: =IF(B17<>"", MAX($A$1:A16)+1, "") -> 6 | B17: 14-00000 | C17: Pretkondensāta izolācija ar min. biezumu 9 mm d16 | D17: m | E17: 5 | H17: =F17*G17 -> 0 | K17: =SUM(H17:J17) -> 0 | L17: =SUM(E17*F17) -> 0 | M17: =SUM(E17*H17) -> 0 | N17: =SUM(E17*I17) -> 0 | O17: =SUM(E17*J17) -> 0 | P17: =SUM(M17:O17) -> 0
A18: =IF(B18<>"", MAX($A$1:A17)+1, "") -> 7 | B18: 14-00000 | C18: Pievienošanās esošam ūdens stāvvadam | D18: vieta | E18: 2 | H18: =F18*G18 -> 0 | K18: =SUM(H18:J18) -> 0 | L18: =SUM(E18*F18) -> 0 | M18: =SUM(E18*H18) -> 0 | N18: =SUM(E18*I18) -> 0 | O18: =SUM(E18*J18) -> 0 | P18: =SUM(M18:O18) -> 0
A19: =IF(B19<>"", MAX($A$1:A18)+1, "") -> 8 | B19: 14-00000 | C19: Ūdens jaucējkrāns keramikas izlietnei, hromēts, montējams uz mazgājamā galda pievadcaurulēm. Demontāža un montāža | D19: kpl | E19: 3 | H19: =F19*G19 -> 0 | K19: =SUM(H19:J19) -> 0 | L19: =SUM(E19*F19) -> 0 | M19: =SUM(E19*H19) -> 0 | N19: =SUM(E19*I19) -> 0 | O19: =SUM(E19*J19) -> 0 | P19: =SUM(M19:O19) -> 0
A20: =IF(B20<>"", MAX($A$1:A19)+1, "") -> 9 | B20: 14-00000 | C20: Ūdensapgādes sistēmas montāža, pārbaude zem spiediena, atbilstoši LVS 806-4, | D20: kpl | E20: 1 | H20: =F20*G20 -> 0 | K20: =SUM(H20:J20) -> 0 | L20: =SUM(E20*F20) -> 0 | M20: =SUM(E20*H20) -> 0 | N20: =SUM(E20*I20) -> 0 | O20: =SUM(E20*J20) -> 0 | P20: =SUM(M20:O20) -> 0
A21: =IF(B21<>"", MAX($A$1:A20)+1, "") -> 10 | B21: 14-00000 | C21: Palīgmateriāli un stiprinājumi. | D21: kpl | E21: 1 | H21: =F21*G21 -> 0 | K21: =SUM(H21:J21) -> 0 | L21: =SUM(E21*F21) -> 0 | M21: =SUM(E21*H21) -> 0 | N21: =SUM(E21*I21) -> 0 | O21: =SUM(E21*J21) -> 0 | P21: =SUM(M21:O21) -> 0
C22: Sadzīves kanalizācijas K1 izbūve
A23: =IF(B23<>"", MAX($A$1:A22)+1, "") -> 11 | B23: 14-00000 | C23: Plastmasas kanalizācijas cauruļvadi PP ar veidgabaliem D50 | D23: m | E23: 5 | H23: =F23*G23 -> 0 | K23: =SUM(H23:J23) -> 0 | L23: =SUM(E23*F23) -> 0 | M23: =SUM(E23*H23) -> 0 | N23: =SUM(E23*I23) -> 0 | O23: =SUM(E23*J23) -> 0 | P23: =SUM(M23:O23) -> 0
A24: =IF(B24<>"", MAX($A$1:A23)+1, "") -> 12 | B24: 14-00000 | C24: Pievienošanās esošam kanalizācijas izvadam | D24: vietas | E24: 1 | H24: =F24*G24 -> 0 | K24: =SUM(H24:J24) -> 0 | L24: =SUM(E24*F24) -> 0 | M24: =SUM(E24*H24) -> 0 | N24: =SUM(E24*I24) -> 0 | O24: =SUM(E24*J24) -> 0 | P24: =SUM(M24:O24) -> 0
A25: =IF(B25<>"", MAX($A$1:A24)+1, "") -> 13 | B25: 14-00000 | C25: WC fajansa klozetpods komplektā ar stiprināšanas skrūvēm, skalošanas kasti,pievienošanas caurulēm, sēdrinķi, vāku. Demontāža un montāža | D25: kpl | E25: 1 | H25: =F25*G25 -> 0 | K25: =SUM(H25:J25) -> 0 | L25: =SUM(E25*F25) -> 0 | M25: =SUM(E25*H25) -> 0 | N25: =SUM(E25*I25) -> 0 | O25: =SUM(E25*J25) -> 0 | P25: =SUM(M25:O25) -> 0
A26: =IF(B26<>"", MAX($A$1:A25)+1, "") -> 14 | B26: 14-00000 | C26: Kanalizācijas sistēmas izbūve | D26: kpl | E26: 1 | H26: =F26*G26 -> 0 | K26: =SUM(H26:J26) -> 0 | L26: =SUM(E26*F26) -> 0 | M26: =SUM(E26*H26) -> 0 | N26: =SUM(E26*I26) -> 0 | O26: =SUM(E26*J26) -> 0 | P26: =SUM(M26:O26) -> 0
A27: =IF(B27<>"", MAX($A$1:A26)+1, "") | C27: Santehnikas iekārtas
A28: =IF(B28<>"", MAX($A$1:A27)+1, "") -> 15 | B28: 14-00000 | C28: Fajansa izlietne,sienas montāža, komplektā ar stiprināšanas skrūvēm, sifonu | D28: kpl | E28: 1 | H28: =F28*G28 -> 0 | K28: =SUM(H28:J28) -> 0 | L28: =SUM(E28*F28) -> 0 | M28: =SUM(E28*H28) -> 0 | N28: =SUM(E28*I28) -> 0 | O28: =SUM(E28*J28) -> 0 | P28: =SUM(M28:O28) -> 0
A29: =IF(B29<>"", MAX($A$1:A28)+1, "") -> 16 | B29: 14-00000 | C29: Ūdens jaucējkrāns keramikas izlietnei, hromēts, montējams uz mazgājamā galda pievadcaurulēm. | D29: kpl | E29: 1 | H29: =F29*G29 -> 0 | K29: =SUM(H29:J29) -> 0 | L29: =SUM(E29*F29) -> 0 | M29: =SUM(E29*H29) -> 0 | N29: =SUM(E29*I29) -> 0 | O29: =SUM(E29*J29) -> 0 | P29: =SUM(M29:O29) -> 0
A30: =IF(B30<>"", MAX($A$1:A10)+1, "") | C30: Tiešās izmaksas kopā, t. sk. darba devēja sociālais nodoklis (23,59%) | L30: =SUM(L11:L29) -> 0 | M30: =SUM(M11:M29) -> 0 | N30: =SUM(N11:N29) -> 0 | O30: =SUM(O11:O29) -> 0 | P30: =SUM(P11:P29) -> 0
A31: 1. Būvuzņēmējam jāievērtē darbu apjomu sarakstā minēto darbu veikšanai nepieciešamie materiāli un papildu darbi, kas nav minēti šajā sarakstā, bet bez kuriem nebūtu iespējama būvdarbu tehnoloģiski pareiza un spēkā esošiem normatīviem atbilstoša veikšana pilnā apmērā. Darbu tāmes apjomi dabā var atšķirties, tādēļ nepieciešams precizēt objektā uz vietas. 2. Darbu apjomus skatīt kopā ar rasējumiem. Gadījumā, ja darbu apjomi nesakrīt ar rasējumiem, par pareiziem jāuzskata rasējumos esošie darbu apjomi. 3. Tāmē paredzētajām iekārtām un materiāliem ir pieļaujami līdzvertīgi analogi.
C34: Sastādīja:
C35: Sertifikāta Nr.
