Workbook

Sheet SATURS
B2: Rehabilitācijas un fizioterapijas mazvērtīgā inventāra piegāde (ID Nr. PSKUS 2026/124)
B3: SATURS
B5: Daļa | C5: Nosaukums
B6: 1 | C6: Hanteles
B7: 2 | C7: Rullis masāžas dubultais
B8: 3 | C8: Bumba masāžas adatu
B9: 4 | C9: Bumba masāžas ovāla
B10: 5 | C10: Rullis masāžas
B11: 6 | C11: Rullis pilatēm
B12: 7 | C12: Bumba masāžas gredzenu
B13: 8 | C13: Rullis fizioterapijas
B14: 9 | C14: Platforma līdzsvara
B15: 10 | C15: Aproce svara
B16: 11 | C16: Rollers
B17: 12 | C17: Gumija stiepšanas gara
... B34: 29 | C34: Pamatne pozicionēšanas rokas terapijai
B35: 30. | C35: Švambumba
B36: 31. | C36: Vingrošanas gumija ar cilpveida sistēmu
B37: 32. | C37: Vingrošanas nūja
B38: 33. | C38: Zviedru siena

Sheet 1.
G1: Nolikuma
G2: 2. pielikums
A3: Tehniskā specifikācija/Tehniskais-finanšu piedāvājums
A4: Rehabilitācijas un fizioterapijas mazvērtīgā inventāra piegāde
A6: 1.pozicīja "Hanteles"
C7: Tehniskās specifikācijas aktualizācijas datums 09.07.2026.
A8: 1) | C8: Finanšu piedāvājumā pretendentam jāietver visi izdevumi un izmaksas, kas saistītas ar Preces piegādi un transportu;
A9: 2) | C9: Piegāde 4 nedēļu laikā no pasūtījuma;
A10: 3) | C10: Piedāvātajām Precēm garantijas termiņš (nosaka Pretendents) ir ___ (______________) mēneši no pavadzīmes-rēķina abpusējas parakstīšanas brīža, bet ne mazāk kā 12 mēneši;
A11: 4) | C11: * Pretendenta tehniskajā piedāvājumā norāda Preces ražotāju un modeli atbilstošos parametrus;
A12: 5) | C12: ** Parametru atbilstību pamatot ar norādi uz tehniskajām datu lapām ("data sheet'') jeb informatīviem materiāliem, kas apliecina atbilstību (oriģinālvalodā un tulkojumi valsts valodā), norādot atsauci tehniskajā piedāvājumā uz konkrēto lapaspusi. Informatīvajos materiālos pretendents atzīmē uz kuru iepirkuma tehniskās specifikācijas pozīciju pievienotā informācija attiecināma;
A13: 6) | C13: Visas piedāvātās Preces ir jaunas (ražotas ne vēlāk kā 12 mēnešu laikā no pasūtījuma brīža), iepriekš nelietotas un nesatur iepriekš lietotas vai atjaunotas sastāvdaļas vai komponentes;
A14: 7) | C14: Piedāvājumam jāpievieno Preces ražotāja izsniegta autorizācijas vēstule, kas apliecina, ka pretendents tiesīgs izplatīt un nodrošināt servisu (ja paredzēts) piedāvātai Precei Latvijas Republikā;
A15: 8) | C15: Pēc pasūtītāja pieprasījuma piegādātājam jānodrošina Preces paraugs;
A16: 9) | C16: Paredzamais daudzums tiek izmantots pretendentu finanšu piedāvājumu objektīvai vērtēšanai. Līgumi tiek slēgti par vienas vienības cenu, nosakot visa iepirkuma kopējo apjomu naudas izteiksmē un nenosakot katras pozīcijas apjomu.
A17: 10) | C17: Piedāvājumam jāpievieno piedāvātas Preces EK atbilstības deklarācijas kopija atbilstoši regulas 2017/745 prasībām un CE sertifikāta kopija (ja ražotājs noteicis ierīču klasi: I klases sterilas ierīces un I klases ierīces ar mērīšanas funkciju, IIa, IIb vai III klases ierīces), norādot attiecīgajā ailē medicīnas ierīces klasi saskaņā ar EK atbilstības deklarācijas datiem - ja attiecas;
A19: Nr.p.k. | C19: Preces nosaukums, veicamās funkcijas, tehniskās prasības | D19: Pretendenta piedāvātie parametri* | F19: Atsauce uz informatīvo materiālu**
A20: 1. | C20: Hanteles
C21: Veicamās funkcijas:
A22: =$A$20 -> 1. | B22: 1 | C22: Hanteles paredzētas rokām, lai nostiprina muskuļus un uzlabotu fizisko formu.
C23: Tehniskās prasības:
A24: =$A$20 -> 1. | B24: 2 | C24: Hantelei ir gumijots/ neopropēna pārklājums vai līdzvērtīgs pārklajums
A25: =$A$20 -> 1. | B25: 3 | C25: Daudzreizlietojams
A26: =$A$20 -> 1. | B26: 4 | C26: Iespējams pasūtīt 1 hanteli
A27: =$A$20 -> 1. | B27: 5 | C27: Dezinficējams
A28: =$A$20 -> 1. | B28: 6 | C28: Informatīvs attēls
C29: Konfigurācijas: | D29: Paredzamais daudzums (gab.): | F29: 1 vienības cena bez PVN, EUR:
A30: =$A$20 -> 1. | B30: 7 | C30: Hantele 0.5 kg | D30: 10
A31: =$A$20 -> 1. | B31: 8 | C31: Hantele 1 kg | D31: 10
A32: =$A$20 -> 1. | B32: 9 | C32: Hantele 1,5 kg | D32: 10
A33: =$A$20 -> 1. | B33: 10 | C33: Hantele 2 kg | D33: 10
A34: =$A$20 -> 1. | B34: 11 | C34: Hantele 3 kg | D34: 10
A35: =$A$20 -> 1. | B35: 12 | C35: Hantele 4 kg | D35: 10
A36: =$A$20 -> 1. | B36: 13 | C36: Hantele 5 kg | D36: 10
D37: KOPĒJĀ CENA bez PVN, EUR: | F37: =(F30*D30)+(F31*D31)+(F32*D32)+(F33*D33)+(F34*D34)+(F35*D35)+(F36*D36) -> 0
C38: EKK: | D38: 23121

Sheet 2.
G1: Nolikuma
G2: 2. pielikums
A3: Tehniskā specifikācija/Tehniskais-finanšu piedāvājums
A4: Rehabilitācijas un fizioterapijas mazvērtīgā inventāra piegāde
A6: 2.pozicīja "Rullis masāžas dubultais''
C7: Tehniskās specifikācijas aktualizācijas datums 09.07.2026.
A8: 1) | C8: Finanšu piedāvājumā pretendentam jāietver visi izdevumi un izmaksas, kas saistītas ar Preces piegādi un transportu;
A9: 2) | C9: Piegāde 4 nedēļu laikā no pasūtījuma;
A10: 3) | C10: Piedāvātajām Precēm garantijas termiņš (nosaka Pretendents) ir ___ (______________) mēneši no pavadzīmes-rēķina abpusējas parakstīšanas brīža, bet ne mazāk kā 12 mēneši;
A11: 4) | C11: * Pretendenta tehniskajā piedāvājumā norāda Preces ražotāju un modeli atbilstošos parametrus;
A12: 5) | C12: ** Parametru atbilstību pamatot ar norādi uz tehniskajām datu lapām ("data sheet'') jeb informatīviem materiāliem, kas apliecina atbilstību (oriģinālvalodā un tulkojumi valsts valodā), norādot atsauci tehniskajā piedāvājumā uz konkrēto lapaspusi. Informatīvajos materiālos pretendents atzīmē uz kuru iepirkuma tehniskās specifikācijas pozīciju pievienotā informācija attiecināma;
A13: 6) | C13: Visas piedāvātās Preces ir jaunas (ražotas ne vēlāk kā 12 mēnešu laikā no pasūtījuma brīža), iepriekš nelietotas un nesatur iepriekš lietotas vai atjaunotas sastāvdaļas vai komponentes;
A14: 7) | C14: Piedāvājumam jāpievieno Preces ražotāja izsniegta autorizācijas vēstule, kas apliecina, ka pretendents tiesīgs izplatīt un nodrošināt servisu (ja paredzēts) piedāvātai Precei Latvijas Republikā;
A15: 8) | C15: Pēc pasūtītāja pieprasījuma piegādātājam jānodrošina Preces paraugs;
A16: 9) | C16: Paredzamais daudzums tiek izmantots pretendentu finanšu piedāvājumu objektīvai vērtēšanai. Līgumi tiek slēgti par vienas vienības cenu, nosakot visa iepirkuma kopējo apjomu naudas izteiksmē un nenosakot katras pozīcijas apjomu.
A17: 10) | C17: Piedāvājumam jāpievieno piedāvātas Preces EK atbilstības deklarācijas kopija atbilstoši regulas 2017/745 prasībām un CE sertifikāta kopija (ja ražotājs noteicis ierīču klasi: I klases sterilas ierīces un I klases ierīces ar mērīšanas funkciju, IIa, IIb vai III klases ierīces), norādot attiecīgajā ailē medicīnas ierīces klasi saskaņā ar EK atbilstības deklarācijas datiem - ja attiecas;
A19: Nr.p.k. | C19: Preces nosaukums, veicamās funkcijas, tehniskās prasības | D19: Pretendenta piedāvātie parametri* | F19: Atsauce uz informatīvo materiālu**
A20: 2. | C20: Rullis masāžas dubultais
C21: Veicamās funkcijas:
A22: =$A$20 -> 2. | B22: 1 | C22: Mazina muskuļu sasprindzinājumu un vispārēju saspringumu, vienlaikus veicinot asins un limfas cirkulāciju un stimulējot vielmaiņu.
C23: Tehniskās prasības:
A24: =$A$20 -> 2. | B24: 1 | C24: Daudzreizlietojams
A25: =$A$20 -> 2. | B25: 2 | C25: Svars 500 g ± 10 g
A26: =$A$20 -> 2. | B26: 3 | C26: Bumbiņu diametrs 29 cm ± 1 cm un vienādas
A27: =$A$20 -> 2. | B27: 4 | C27: Dezinficējams
A28: =$A$20 -> 2. | B28: 5 | C28: Informatīvs attēls
C29: Konfigurācijas: | D29: Pretendenta piedāvātie parametri*: | E29: Preces modelis, kods, ražotājs: | F29: Paredzamais daudzums (gab.): | G29: 1 vienības cena bez PVN, EUR:
A30: =$A$20 -> 2. | B30: 6 | C30: Rullis masāžas dubultais | F30: 4
F31: KOPĒJĀ CENA bez PVN, EUR: | G31: =SUM(G30*F30) -> 0
C32: EKK: | D32: 23121

Sheet 3.
G1: Nolikuma
G2: 2. pielikums
A3: Tehniskā specifikācija/Tehniskais-finanšu piedāvājums
A4: Rehabilitācijas un fizioterapijas mazvērtīgā inventāra piegāde
A5: (identifikācijas Nr. PSKUS 2022/81)
A6: 3.daļa "Bumba masāžas adatu"
C7: Tehniskās specifikācijas aktualizācijas datums 09.07.2026.
A8: 1) | C8: Finanšu piedāvājumā pretendentam jāietver visi izdevumi un izmaksas, kas saistītas ar Preces piegādi un transportu;
A9: 2) | C9: Piegāde 4 nedēļu laikā no pasūtījuma;
A10: 3) | C10: Piedāvātajām Precēm garantijas termiņš (nosaka Pretendents) ir ___ (______________) mēneši no pavadzīmes-rēķina abpusējas parakstīšanas brīža, bet ne mazāk kā 12 mēneši;
A11: 4) | C11: * Pretendenta tehniskajā piedāvājumā norāda Preces ražotāju un modeli atbilstošos parametrus;
A12: 5) | C12: ** Parametru atbilstību pamatot ar norādi uz tehniskajām datu lapām ("data sheet'') jeb informatīviem materiāliem, kas apliecina atbilstību (oriģinālvalodā un tulkojumi valsts valodā), norādot atsauci tehniskajā piedāvājumā uz konkrēto lapaspusi. Informatīvajos materiālos pretendents atzīmē uz kuru iepirkuma tehniskās specifikācijas pozīciju pievienotā informācija attiecināma;
A13: 6) | C13: Visas piedāvātās Preces ir jaunas (ražotas ne vēlāk kā 12 mēnešu laikā no pasūtījuma brīža), iepriekš nelietotas un nesatur iepriekš lietotas vai atjaunotas sastāvdaļas vai komponentes;
A14: 7) | C14: Piedāvājumam jāpievieno Preces ražotāja izsniegta autorizācijas vēstule, kas apliecina, ka pretendents tiesīgs izplatīt un nodrošināt servisu (ja paredzēts) piedāvātai Precei Latvijas Republikā;
A15: 8) | C15: Pēc pasūtītāja pieprasījuma piegādātājam jānodrošina Preces paraugs;
A16: 9) | C16: Paredzamais daudzums tiek izmantots pretendentu finanšu piedāvājumu objektīvai vērtēšanai. Līgumi tiek slēgti par vienas vienības cenu, nosakot visa iepirkuma kopējo apjomu naudas izteiksmē un nenosakot katras pozīcijas apjomu.
A17: 10) | C17: Piedāvājumam jāpievieno piedāvātas Preces EK atbilstības deklarācijas kopija atbilstoši regulas 2017/745 prasībām un CE sertifikāta kopija (ja ražotājs noteicis ierīču klasi: I klases sterilas ierīces un I klases ierīces ar mērīšanas funkciju, IIa, IIb vai III klases ierīces), norādot attiecīgajā ailē medicīnas ierīces klasi saskaņā ar EK atbilstības deklarācijas datiem - ja attiecas;
A19: Nr.p.k. | C19: Preces nosaukums, veicamās funkcijas, tehniskās prasības | D19: Pretendenta piedāvātie parametri* | F19: Atsauce uz informatīvo materiālu**
A20: 3. | C20: Bumba masāžas adatu
C21: Veicamās funkcijas:
A22: =$A$20 -> 3. | B22: 1 | C22: Adatu bumbiņu piemēro masāžai, pirkstu tvēriena vingrināšanai, asinsrites un jūtības veicināšanai pēc ķirurģiskām operācijām
C23: Tehniskās prasības:
A24: =$A$20 -> 3. | B24: 2 | C24: Ar vairākam mīkstam adatiņām
A25: =$A$20 -> 3. | B25: 3 | C25: Viegli tīrama, var dezinficēt
A26: =$A$20 -> 3. | B26: 4 | C26: Informatīvais attēls:
C27: Konfigurācijas: | D27: Pretendenta piedāvātie parametri*: | E27: Preces modelis, kods, ražotājs: | F27: Paredzamais daudzums (gab.): | G27: 1 vienības cena bez PVN, EUR:
A28: =$A$20 -> 3. | B28: 5 | C28: Diametrs 80 mm | F28: 20 | G28: 0
A29: =$A$20 -> 3. | B29: 6 | C29: Diametrs 100 mm | F29: 2 | G29: 0
F30: KOPĒJĀ CENA bez PVN, EUR: | G30: =SUMPRODUCT(F28:F29,G28:G29) -> 0
C31: EKK: | D31: 23121

Sheet 4.
G1: Nolikuma
G2: 2. pielikums
A3: Tehniskā specifikācija/Tehniskais-finanšu piedāvājums
A4: Rehabilitācijas un fizioterapijas mazvērtīgā inventāra piegāde
A6: 4.pozicīja "Bumba masāžas ovāla"
C7: Tehniskās specifikācijas aktualizācijas datums 09.07.2026.
A8: 1) | C8: Finanšu piedāvājumā pretendentam jāietver visi izdevumi un izmaksas, kas saistītas ar Preces piegādi un transportu;
A9: 2) | C9: Piegāde 4 nedēļu laikā no pasūtījuma;
A10: 3) | C10: Piedāvātajām Precēm garantijas termiņš (nosaka Pretendents) ir ___ (______________) mēneši no pavadzīmes-rēķina abpusējas parakstīšanas brīža, bet ne mazāk kā 12 mēneši;
A11: 4) | C11: * Pretendenta tehniskajā piedāvājumā norāda Preces ražotāju un modeli atbilstošos parametrus;
A12: 5) | C12: ** Parametru atbilstību pamatot ar norādi uz tehniskajām datu lapām ("data sheet'') jeb informatīviem materiāliem, kas apliecina atbilstību (oriģinālvalodā un tulkojumi valsts valodā), norādot atsauci tehniskajā piedāvājumā uz konkrēto lapaspusi. Informatīvajos materiālos pretendents atzīmē uz kuru iepirkuma tehniskās specifikācijas pozīciju pievienotā informācija attiecināma;
A13: 6) | C13: Visas piedāvātās Preces ir jaunas (ražotas ne vēlāk kā 12 mēnešu laikā no pasūtījuma brīža), iepriekš nelietotas un nesatur iepriekš lietotas vai atjaunotas sastāvdaļas vai komponentes;
A14: 7) | C14: Piedāvājumam jāpievieno Preces ražotāja izsniegta autorizācijas vēstule, kas apliecina, ka pretendents tiesīgs izplatīt un nodrošināt servisu (ja paredzēts) piedāvātai Precei Latvijas Republikā;
A15: 8) | C15: Pēc pasūtītāja pieprasījuma piegādātājam jānodrošina Preces paraugs;
A16: 9) | C16: Paredzamais daudzums tiek izmantots pretendentu finanšu piedāvājumu objektīvai vērtēšanai. Līgumi tiek slēgti par vienas vienības cenu, nosakot visa iepirkuma kopējo apjomu naudas izteiksmē un nenosakot katras pozīcijas apjomu.
A17: 10) | C17: Piedāvājumam jāpievieno piedāvātas Preces EK atbilstības deklarācijas kopija atbilstoši regulas 2017/745 prasībām un CE sertifikāta kopija (ja ražotājs noteicis ierīču klasi: I klases sterilas ierīces un I klases ierīces ar mērīšanas funkciju, IIa, IIb vai III klases ierīces), norādot attiecīgajā ailē medicīnas ierīces klasi saskaņā ar EK atbilstības deklarācijas datiem - ja attiecas;
A19: Nr.p.k. | C19: Preces nosaukums, veicamās funkcijas, tehniskās prasības | D19: Pretendenta piedāvātie parametri* | F19: Atsauce uz informatīvo materiālu**
A20: 4. | C20: Bumba masāžas ovāla
C21: Veicamās funkcijas:
A22: =$A$20 -> 4. | B22: 1 | C22: Adatu bumbiņu piemēro masāžai, pirkstu tvēriena vingrināšanai, asinsrites un jūtības veicināšanai pēc ķirurģiskām operācijām
C23: Tehniskās prasības:
A24: =$A$20 -> 4. | B24: 2 | C24: Ar vairākam mīkstam adatiņām
A25: =$A$20 -> 4. | B25: 3 | C25: Viegli tīrama, var dezinficēt
A26: =$A$20 -> 4. | B26: 4 | C26: Informatīvais attēls:
C27: Konfigurācijas: | D27: Pretendenta piedāvātie parametri*: | E27: Preces modelis, kods, ražotājs: | F27: Paredzamais daudzums (gab.): | G27: 1 vienības cena bez PVN, EUR:
A28: =$A$20 -> 4. | B28: 5 | C28: Ovālveida | F28: 3
F29: KOPĒJĀ CENA bez PVN, EUR: | G29: =G28*F28 -> 0
C30: EKK: | D30: 23121

Sheet 5.
G1: Nolikuma
G2: 2. pielikums
A3: Tehniskā specifikācija/Tehniskais-finanšu piedāvājums
A4: Rehabilitācijas un fizioterapijas mazvērtīgā inventāra piegāde
A6: 5.pozicīja "Rullis masāžas"
C7: Tehniskās specifikācijas aktualizācijas datums 09.07.2026.
A8: 1) | C8: Finanšu piedāvājumā pretendentam jāietver visi izdevumi un izmaksas, kas saistītas ar Preces piegādi un transportu;
A9: 2) | C9: Piegāde 4 nedēļu laikā no pasūtījuma;
A10: 3) | C10: Piedāvātajām Precēm garantijas termiņš (nosaka Pretendents) ir ___ (______________) mēneši no pavadzīmes-rēķina abpusējas parakstīšanas brīža, bet ne mazāk kā 12 mēneši;
A11: 4) | C11: * Pretendenta tehniskajā piedāvājumā norāda Preces ražotāju un modeli atbilstošos parametrus;
A12: 5) | C12: ** Parametru atbilstību pamatot ar norādi uz tehniskajām datu lapām ("data sheet'') jeb informatīviem materiāliem, kas apliecina atbilstību (oriģinālvalodā un tulkojumi valsts valodā), norādot atsauci tehniskajā piedāvājumā uz konkrēto lapaspusi. Informatīvajos materiālos pretendents atzīmē uz kuru iepirkuma tehniskās specifikācijas pozīciju pievienotā informācija attiecināma;
A13: 6) | C13: Visas piedāvātās Preces ir jaunas (ražotas ne vēlāk kā 12 mēnešu laikā no pasūtījuma brīža), iepriekš nelietotas un nesatur iepriekš lietotas vai atjaunotas sastāvdaļas vai komponentes;
A14: 7) | C14: Piedāvājumam jāpievieno Preces ražotāja izsniegta autorizācijas vēstule, kas apliecina, ka pretendents tiesīgs izplatīt un nodrošināt servisu (ja paredzēts) piedāvātai Precei Latvijas Republikā;
A15: 8) | C15: Pēc pasūtītāja pieprasījuma piegādātājam jānodrošina Preces paraugs;
A16: 9) | C16: Paredzamais daudzums tiek izmantots pretendentu finanšu piedāvājumu objektīvai vērtēšanai. Līgumi tiek slēgti par vienas vienības cenu, nosakot visa iepirkuma kopējo apjomu naudas izteiksmē un nenosakot katras pozīcijas apjomu.
A17: 10) | C17: Piedāvājumam jāpievieno piedāvātas Preces EK atbilstības deklarācijas kopija atbilstoši regulas 2017/745 prasībām un CE sertifikāta kopija (ja ražotājs noteicis ierīču klasi: I klases sterilas ierīces un I klases ierīces ar mērīšanas funkciju, IIa, IIb vai III klases ierīces), norādot attiecīgajā ailē medicīnas ierīces klasi saskaņā ar EK atbilstības deklarācijas datiem - ja attiecas;
A19: Nr.p.k. | C19: Preces nosaukums, veicamās funkcijas, tehniskās prasības | D19: Pretendenta piedāvātie parametri* | F19: Atsauce uz informatīvo materiālu**
A20: 5. | C20: Rullis masāžas
C21: Veicamās funkcijas:
A22: =$A$20 -> 5. | B22: 1 | C22: Muskuļu atslābināšanai un spriedzes samazināšanai, asinsrites uzlabošanai.
C23: Tehniskās prasības:
A24: =$A$20 -> 5. | B24: 2 | C24: Tekstūra ar mazām neasām adatiņām
A25: =$A$20 -> 5. | B25: 3 | C25: Daudzreizlietojams
A26: =$A$20 -> 5. | B26: 4 | C26: Cilindriska forma
A27: =$A$20 -> 5. | B27: 5 | C27: Garums 16 cm ± 1 cm
A28: =$A$20 -> 5. | B28: 6 | C28: Dezinficējams
A29: =$A$20 -> 5. | B29: 7 | C29: Informatīvs attēls
C30: Konfigurācijas: | D30: Pretendenta piedāvātie parametri*: | E30: Preces modelis, kods, ražotājs: | F30: Paredzamais daudzums (gab.): | G30: 1 vienības cena bez PVN, EUR:
A31: =$A$20 -> 5. | B31: 8 | C31: Rullis masāžas | F31: 2
F32: KOPĒJĀ CENA bez PVN, EUR: | G32: =G31*F31 -> 0
C33: EKK: | D33: 23121

Sheet 6.
G1: Nolikuma
G2: 2. pielikums
A3: Tehniskā specifikācija/Tehniskais-finanšu piedāvājums
A4: Rehabilitācijas un fizioterapijas mazvērtīgā inventāra piegāde
A6: 6.pozicīja"Rullis pilatēm"
C7: Tehniskās specifikācijas aktualizācijas datums 28.07.2026.
A8: 1) | C8: Finanšu piedāvājumā pretendentam jāietver visi izdevumi un izmaksas, kas saistītas ar Preces piegādi un transportu;
A9: 2) | C9: Piegāde 4 nedēļu laikā no pasūtījuma;
A10: 3) | C10: Piedāvātajām Precēm garantijas termiņš (nosaka Pretendents) ir ___ (______________) mēneši no pavadzīmes-rēķina abpusējas parakstīšanas brīža, bet ne mazāk kā 12 mēneši;
A11: 4) | C11: * Pretendenta tehniskajā piedāvājumā norāda Preces ražotāju un modeli atbilstošos parametrus;
A12: 5) | C12: ** Parametru atbilstību pamatot ar norādi uz tehniskajām datu lapām ("data sheet'') jeb informatīviem materiāliem, kas apliecina atbilstību (oriģinālvalodā un tulkojumi valsts valodā), norādot atsauci tehniskajā piedāvājumā uz konkrēto lapaspusi. Informatīvajos materiālos pretendents atzīmē uz kuru iepirkuma tehniskās specifikācijas pozīciju pievienotā informācija attiecināma;
A13: 6) | C13: Visas piedāvātās Preces ir jaunas (ražotas ne vēlāk kā 12 mēnešu laikā no pasūtījuma brīža), iepriekš nelietotas un nesatur iepriekš lietotas vai atjaunotas sastāvdaļas vai komponentes;
A14: 7) | C14: Piedāvājumam jāpievieno Preces ražotāja izsniegta autorizācijas vēstule, kas apliecina, ka pretendents tiesīgs izplatīt un nodrošināt servisu (ja paredzēts) piedāvātai Precei Latvijas Republikā;
A15: 8) | C15: Pēc pasūtītāja pieprasījuma piegādātājam jānodrošina Preces paraugs;
A16: 9) | C16: Paredzamais daudzums tiek izmantots pretendentu finanšu piedāvājumu objektīvai vērtēšanai. Līgumi tiek slēgti par vienas vienības cenu, nosakot visa iepirkuma kopējo apjomu naudas izteiksmē un nenosakot katras pozīcijas apjomu.
A17: 10) | C17: Piedāvājumam jāpievieno piedāvātas Preces EK atbilstības deklarācijas kopija atbilstoši regulas 2017/745 prasībām un CE sertifikāta kopija (ja ražotājs noteicis ierīču klasi: I klases sterilas ierīces un I klases ierīces ar mērīšanas funkciju, IIa, IIb vai III klases ierīces), norādot attiecīgajā ailē medicīnas ierīces klasi saskaņā ar EK atbilstības deklarācijas datiem - ja attiecas;
A19: Nr.p.k. | C19: Preces nosaukums, veicamās funkcijas, tehniskās prasības | D19: Pretendenta piedāvātie parametri* | F19: Atsauce uz informatīvo materiālu**
A20: 6. | C20: Rullis pilatēm
C21: Veicamās funkcijas:
A22: =$A$20 -> 6. | B22: 1 | C22: Rullis iesācējiem un pieredzējušiem pilašu veikšanai
C23: Tehniskās prasības:
A24: =$A$20 -> 6. | B24: 2 | C24: Materiāls sintētiskā gumija vai līdzvērtīgs materiāls
A25: =$A$20 -> 6. | B25: 3 | C25: Daudzreizlietojams
A26: =$A$20 -> 6. | B26: 4 | C26: Garums 90 cm ± 1 cm
A27: =$A$20 -> 6. | B27: 5 | C27: Diametrs 18 cm ± 5 cm
A28: =$A$20 -> 6. | B28: 6 | C28: Dezinficējams
A29: =$A$20 -> 6. | B29: 7 | C29: Informatīvs attēls
C30: Konfigurācijas: | D30: Pretendenta piedāvātie parametri*: | E30: Preces modelis, kods, ražotājs: | F30: Paredzamais daudzums (gab.): | G30: 1 vienības cena bez PVN, EUR:
A31: =$A$20 -> 6. | B31: 9 | C31: Rullis pilatēm | F31: 3
F32: KOPĒJĀ CENA bez PVN, EUR: | G32: =G31*F31 -> 0
C33: EKK: | D33: 23121

Sheet 7.
G1: Nolikuma
G2: 2. pielikums
A3: Tehniskā specifikācija/Tehniskais-finanšu piedāvājums
A4: Rehabilitācijas un fizioterapijas mazvērtīgā inventāra piegāde
A6: 7.pozicīja "Masāžas gredzens"
C7: Tehniskās specifikācijas aktualizācijas datums 09.07.2026.
A8: 1) | C8: Finanšu piedāvājumā pretendentam jāietver visi izdevumi un izmaksas, kas saistītas ar Preces piegādi un transportu;
A9: 2) | C9: Piegāde 4 nedēļu laikā no pasūtījuma;
A10: 3) | C10: Piedāvātajām Precēm garantijas termiņš (nosaka Pretendents) ir ___ (______________) mēneši no pavadzīmes-rēķina abpusējas parakstīšanas brīža, bet ne mazāk kā 12 mēneši;
A11: 4) | C11: * Pretendenta tehniskajā piedāvājumā norāda Preces ražotāju un modeli atbilstošos parametrus;
A12: 5) | C12: ** Parametru atbilstību pamatot ar norādi uz tehniskajām datu lapām ("data sheet'') jeb informatīviem materiāliem, kas apliecina atbilstību (oriģinālvalodā un tulkojumi valsts valodā), norādot atsauci tehniskajā piedāvājumā uz konkrēto lapaspusi. Informatīvajos materiālos pretendents atzīmē uz kuru iepirkuma tehniskās specifikācijas pozīciju pievienotā informācija attiecināma;
A13: 6) | C13: Visas piedāvātās Preces ir jaunas (ražotas ne vēlāk kā 12 mēnešu laikā no pasūtījuma brīža), iepriekš nelietotas un nesatur iepriekš lietotas vai atjaunotas sastāvdaļas vai komponentes;
A14: 7) | C14: Piedāvājumam jāpievieno Preces ražotāja izsniegta autorizācijas vēstule, kas apliecina, ka pretendents tiesīgs izplatīt un nodrošināt servisu (ja paredzēts) piedāvātai Precei Latvijas Republikā;
A15: 8) | C15: Pēc pasūtītāja pieprasījuma piegādātājam jānodrošina Preces paraugs;
A16: 9) | C16: Paredzamais daudzums tiek izmantots pretendentu finanšu piedāvājumu objektīvai vērtēšanai. Līgumi tiek slēgti par vienas vienības cenu, nosakot visa iepirkuma kopējo apjomu naudas izteiksmē un nenosakot katras pozīcijas apjomu.
A17: 10) | C17: Piedāvājumam jāpievieno piedāvātas Preces EK atbilstības deklarācijas kopija atbilstoši regulas 2017/745 prasībām un CE sertifikāta kopija (ja ražotājs noteicis ierīču klasi: I klases sterilas ierīces un I klases ierīces ar mērīšanas funkciju, IIa, IIb vai III klases ierīces), norādot attiecīgajā ailē medicīnas ierīces klasi saskaņā ar EK atbilstības deklarācijas datiem - ja attiecas;
A19: Nr.p.k. | C19: Preces nosaukums, veicamās funkcijas, tehniskās prasības | D19: Pretendenta piedāvātie parametri* | F19: Atsauce uz informatīvo materiālu**
A20: 7. | C20: Masāžas gredzens
C21: Veicamās funkcijas:
A22: =$A$20 -> 7. | B22: 1 | C22: Nodrošina lokālu masāžu, veicina asinsrites stimulāciju un palīdz mazināt muskuļu sasprindzinājumu.
C23: Tehniskās prasības:
A24: =$A$20 -> 7. | B24: 2 | C24: Komplektā 2 gredzeni
A25: =$A$20 -> 7. | B25: 3 | C25: Metāla stieples gredzeni paredzēti roku pirkstu masāžai
A26: =$A$20 -> 7. | B26: 5 | C26: Dezinficējams
A27: =$A$20 -> 7. | B27: 6 | C27: Informatīvs attēls
C28: Konfigurācijas: | D28: Pretendenta piedāvātie parametri*: | E28: Preces modelis, kods, ražotājs: | F28: Paredzamais daudzums (gab.): | G28: 1 vienības cena bez PVN, EUR:
A29: =$A$20 -> 7. | B29: 7 | C29: Masāžas gredzens | F29: 2
F30: KOPĒJĀ CENA bez PVN, EUR: | G30: =G29*F29 -> 0
C31: EKK: | D31: 23121

Sheet 8.
G1: Nolikuma
G2: 2. pielikums
A3: Tehniskā specifikācija/Tehniskais-finanšu piedāvājums
A4: Rehabilitācijas un fizioterapijas mazvērtīgā inventāra piegāde
A6: 8.pozicīja"Rullis fizioterapijas"
C7: Tehniskās specifikācijas aktualizācijas datums 09.07.2026.
A8: 1) | C8: Finanšu piedāvājumā pretendentam jāietver visi izdevumi un izmaksas, kas saistītas ar Preces piegādi un transportu;
A9: 2) | C9: Piegāde 4 nedēļu laikā no pasūtījuma;
A10: 3) | C10: Piedāvātajām Precēm garantijas termiņš (nosaka Pretendents) ir ___ (______________) mēneši no pavadzīmes-rēķina abpusējas parakstīšanas brīža, bet ne mazāk kā 12 mēneši;
A11: 4) | C11: * Pretendenta tehniskajā piedāvājumā norāda Preces ražotāju un modeli atbilstošos parametrus;
A12: 5) | C12: ** Parametru atbilstību pamatot ar norādi uz tehniskajām datu lapām ("data sheet'') jeb informatīviem materiāliem, kas apliecina atbilstību (oriģinālvalodā un tulkojumi valsts valodā), norādot atsauci tehniskajā piedāvājumā uz konkrēto lapaspusi. Informatīvajos materiālos pretendents atzīmē uz kuru iepirkuma tehniskās specifikācijas pozīciju pievienotā informācija attiecināma;
A13: 6) | C13: Visas piedāvātās Preces ir jaunas (ražotas ne vēlāk kā 12 mēnešu laikā no pasūtījuma brīža), iepriekš nelietotas un nesatur iepriekš lietotas vai atjaunotas sastāvdaļas vai komponentes;
A14: 7) | C14: Piedāvājumam jāpievieno Preces ražotāja izsniegta autorizācijas vēstule, kas apliecina, ka pretendents tiesīgs izplatīt un nodrošināt servisu (ja paredzēts) piedāvātai Precei Latvijas Republikā;
A15: 8) | C15: Pēc pasūtītāja pieprasījuma piegādātājam jānodrošina Preces paraugs;
A16: 9) | C16: Paredzamais daudzums tiek izmantots pretendentu finanšu piedāvājumu objektīvai vērtēšanai. Līgumi tiek slēgti par vienas vienības cenu, nosakot visa iepirkuma kopējo apjomu naudas izteiksmē un nenosakot katras pozīcijas apjomu.
A17: 10) | C17: Piedāvājumam jāpievieno piedāvātas Preces EK atbilstības deklarācijas kopija atbilstoši regulas 2017/745 prasībām un CE sertifikāta kopija (ja ražotājs noteicis ierīču klasi: I klases sterilas ierīces un I klases ierīces ar mērīšanas funkciju, IIa, IIb vai III klases ierīces), norādot attiecīgajā ailē medicīnas ierīces klasi saskaņā ar EK atbilstības deklarācijas datiem - ja attiecas;
A19: Nr.p.k. | C19: Preces nosaukums, veicamās funkcijas, tehniskās prasības | D19: Pretendenta piedāvātie parametri* | F19: Atsauce uz informatīvo materiālu**
A20: 8. | C20: Rullis fizioterapijas
C21: Veicamās funkcijas:
A22: =$A$20 -> 8. | B22: 1 | C22: Atslābināt muskuļu saspringumu.
C23: Tehniskās prasības:
A24: =$A$20 -> 8. | B24: 2 | C24: Daudzreizlietojams
A25: =$A$20 -> 8. | B25: 3 | C25: Materiāls putu un ABS-plastmasa
A26: =$A$20 -> 8. | B26: 4 | C26: Diametrs 13 ± 3 cm
A27: =$A$20 -> 8. | B27: 5 | C27: Garums 32 ± 3 cm
A28: =$A$20 -> 8. | B28: 6 | C28: Dezinficējams
A29: =$A$20 -> 8. | B29: 7 | C29: Informatīvs attēls
C30: Konfigurācijas: | D30: Pretendenta piedāvātie parametri*: | E30: Preces modelis, kods, ražotājs: | F30: Paredzamais daudzums (gab.): | G30: 1 vienības cena bez PVN, EUR:
A31: =$A$20 -> 8. | B31: 8 | C31: Rullis fizioterapijas | F31: 2
F32: KOPĒJĀ CENA bez PVN, EUR: | G32: =G31*F31 -> 0
C33: EKK: | D33: 23121

Sheet 9.
G1: Nolikuma
G2: 2. pielikums
A3: Tehniskā specifikācija/Tehniskais-finanšu piedāvājums
A4: Rehabilitācijas un fizioterapijas mazvērtīgā inventāra piegāde
A6: 9.pozicīja "Platforma līdzsvara"
C7: Tehniskās specifikācijas aktualizācijas datums 28.07.2026.
A8: 1) | C8: Finanšu piedāvājumā pretendentam jāietver visi izdevumi un izmaksas, kas saistītas ar Preces piegādi un transportu;
A9: 2) | C9: Piegāde 4 nedēļu laikā no pasūtījuma;
A10: 3) | C10: Piedāvātajām Precēm garantijas termiņš (nosaka Pretendents) ir ___ (______________) mēneši no pavadzīmes-rēķina abpusējas parakstīšanas brīža, bet ne mazāk kā 12 mēneši;
A11: 4) | C11: * Pretendenta tehniskajā piedāvājumā norāda Preces ražotāju un modeli atbilstošos parametrus;
A12: 5) | C12: ** Parametru atbilstību pamatot ar norādi uz tehniskajām datu lapām ("data sheet'') jeb informatīviem materiāliem, kas apliecina atbilstību (oriģinālvalodā un tulkojumi valsts valodā), norādot atsauci tehniskajā piedāvājumā uz konkrēto lapaspusi. Informatīvajos materiālos pretendents atzīmē uz kuru iepirkuma tehniskās specifikācijas pozīciju pievienotā informācija attiecināma;
A13: 6) | C13: Visas piedāvātās Preces ir jaunas (ražotas ne vēlāk kā 12 mēnešu laikā no pasūtījuma brīža), iepriekš nelietotas un nesatur iepriekš lietotas vai atjaunotas sastāvdaļas vai komponentes;
A14: 7) | C14: Piedāvājumam jāpievieno Preces ražotāja izsniegta autorizācijas vēstule, kas apliecina, ka pretendents tiesīgs izplatīt un nodrošināt servisu (ja paredzēts) piedāvātai Precei Latvijas Republikā;
A15: 8) | C15: Pēc pasūtītāja pieprasījuma piegādātājam jānodrošina Preces paraugs;
A16: 9) | C16: Paredzamais daudzums tiek izmantots pretendentu finanšu piedāvājumu objektīvai vērtēšanai. Līgumi tiek slēgti par vienas vienības cenu, nosakot visa iepirkuma kopējo apjomu naudas izteiksmē un nenosakot katras pozīcijas apjomu.
A17: 10) | C17: Piedāvājumam jāpievieno piedāvātas Preces EK atbilstības deklarācijas kopija atbilstoši regulas 2017/745 prasībām un CE sertifikāta kopija (ja ražotājs noteicis ierīču klasi: I klases sterilas ierīces un I klases ierīces ar mērīšanas funkciju, IIa, IIb vai III klases ierīces), norādot attiecīgajā ailē medicīnas ierīces klasi saskaņā ar EK atbilstības deklarācijas datiem - ja attiecas;
A19: Nr.p.k. | C19: Preces nosaukums, veicamās funkcijas, tehniskās prasības | D19: Pretendenta piedāvātie parametri* | F19: Atsauce uz informatīvo materiālu**
A20: 9. | C20: Platforma līdzsvara
C21: Veicamās funkcijas:
A22: =$A$20 -> 9. | B22: 1 | C22: Kustību koordinācijai un rehabilitācijai.
C23: Tehniskās prasības:
A24: =$A$20 -> 9. | B24: 2 | C24: Neslīdoša virsma
A25: =$A$20 -> 9. | B25: 3 | C25: Daudzreizlietojams
A26: =$A$20 -> 9. | B26: 4 | C26: Diametrs 38 ± 4 cm
A27: =$A$20 -> 9. | B27: 5 | C27: Materiāls izturīgs
A28: =$A$20 -> 9. | B28: 6 | C28: Biezums 8 ± 3 cm
A29: =$A$20 -> 9. | B29: 7 | C29: Dezinficējams
A30: =$A$20 -> 9. | B30: 8 | C30: Informatīvs attēls
C31: Konfigurācijas: | D31: Pretendenta piedāvātie parametri*: | E31: Preces modelis, kods, ražotājs: | F31: Paredzamais daudzums (gab.): | G31: 1 vienības cena bez PVN, EUR:
A32: =$A$20 -> 9. | B32: 9 | C32: Platforma līdzsvara | F32: 2
F33: KOPĒJĀ CENA bez PVN, EUR: | G33: =G32*F32 -> 0
C34: EKK: | D34: 23121

Sheet 10.
G1: Nolikuma
G2: 2. pielikums
A3: Tehniskā specifikācija/Tehniskais-finanšu piedāvājums
A4: Rehabilitācijas un fizioterapijas mazvērtīgā inventāra piegāde
A6: 10.pozicīja "Aproce svara"
C7: Tehniskās specifikācijas aktualizācijas datums 28.07.2026.
A8: 1) | C8: Finanšu piedāvājumā pretendentam jāietver visi izdevumi un izmaksas, kas saistītas ar Preces piegādi un transportu;
A9: 2) | C9: Piegāde 4 nedēļu laikā no pasūtījuma;
A10: 3) | C10: Piedāvātajām Precēm garantijas termiņš (nosaka Pretendents) ir ___ (______________) mēneši no pavadzīmes-rēķina abpusējas parakstīšanas brīža, bet ne mazāk kā 12 mēneši;
A11: 4) | C11: * Pretendenta tehniskajā piedāvājumā norāda Preces ražotāju un modeli atbilstošos parametrus;
A12: 5) | C12: ** Parametru atbilstību pamatot ar norādi uz tehniskajām datu lapām ("data sheet'') jeb informatīviem materiāliem, kas apliecina atbilstību (oriģinālvalodā un tulkojumi valsts valodā), norādot atsauci tehniskajā piedāvājumā uz konkrēto lapaspusi. Informatīvajos materiālos pretendents atzīmē uz kuru iepirkuma tehniskās specifikācijas pozīciju pievienotā informācija attiecināma;
A13: 6) | C13: Visas piedāvātās Preces ir jaunas (ražotas ne vēlāk kā 12 mēnešu laikā no pasūtījuma brīža), iepriekš nelietotas un nesatur iepriekš lietotas vai atjaunotas sastāvdaļas vai komponentes;
A14: 7) | C14: Piedāvājumam jāpievieno Preces ražotāja izsniegta autorizācijas vēstule, kas apliecina, ka pretendents tiesīgs izplatīt un nodrošināt servisu (ja paredzēts) piedāvātai Precei Latvijas Republikā;
A15: 8) | C15: Pēc pasūtītāja pieprasījuma piegādātājam jānodrošina Preces paraugs;
A16: 9) | C16: Paredzamais daudzums tiek izmantots pretendentu finanšu piedāvājumu objektīvai vērtēšanai. Līgumi tiek slēgti par vienas vienības cenu, nosakot visa iepirkuma kopējo apjomu naudas izteiksmē un nenosakot katras pozīcijas apjomu.
A17: 10) | C17: Piedāvājumam jāpievieno piedāvātas Preces EK atbilstības deklarācijas kopija atbilstoši regulas 2017/745 prasībām un CE sertifikāta kopija (ja ražotājs noteicis ierīču klasi: I klases sterilas ierīces un I klases ierīces ar mērīšanas funkciju, IIa, IIb vai III klases ierīces), norādot attiecīgajā ailē medicīnas ierīces klasi saskaņā ar EK atbilstības deklarācijas datiem - ja attiecas;
A19: Nr.p.k. | C19: Preces nosaukums, veicamās funkcijas, tehniskās prasības | D19: Pretendenta piedāvātie parametri* | F19: Atsauce uz informatīvo materiālu**
A20: 10. | C20: Aproce svara
C21: Veicamās funkcijas:
A22: =$A$20 -> 10. | B22: 1 | C22: Smaguma aproces paredzētas rokām un potītēm, lai palielinātu slodzi trenēšanas laikā
C23: Tehniskās prasības:
A24: =$A$20 -> 10. | B24: 2 | C24: Aproces fiksācija ar līplentes palīdzību
A25: =$A$20 -> 10. | B25: 3 | C25: Fiksācijas gredzens nodrošina drošu ierīces izmantošanu
A26: =$A$20 -> 10. | B26: 4 | C26: Iespējams regulēt aproces diametru
A27: =$A$20 -> 10. | B27: 5 | C27: Polsterējums izgatavots no mākslīgās ādas vai cita sviedrus neuzsūcoša un viegli dezinficējama materiāla
A28: =$A$20 -> 10. | B28: 6 | C28: Dezinficējams
A29: =$A$20 -> 10. | B29: 7 | C29: Informatīvs attēls
C30: Konfigurācijas: | D30: Pretendenta piedāvātie parametri*: | E30: Preces modelis, kods, ražotājs: | F30: Paredzamais daudzums (pāri): | G30: 1 vienības cena bez PVN, EUR:
A31: =$A$20 -> 10. | B31: 8 | C31: Svars 0,5 kg | F31: 4
A32: =$A$20 -> 10. | B32: 9 | C32: Svars 1 kg | F32: 2
F33: KOPĒJĀ CENA bez PVN, EUR: | G33: =SUM(F31*G31)+(F32*G32) -> 0
C34: EKK: | D34: 23121

Sheet 11.
G1: Nolikuma
G2: 2. pielikums
A3: Tehniskā specifikācija/Tehniskais-finanšu piedāvājums
A4: Rehabilitācijas un fizioterapijas mazvērtīgā inventāra piegāde
A6: 11.pozicīja "Rollers"
C7: Tehniskās specifikācijas aktualizācijas datums 09.07.2026.
A8: 1) | C8: Finanšu piedāvājumā pretendentam jāietver visi izdevumi un izmaksas, kas saistītas ar Preces piegādi un transportu;
A9: 2) | C9: Piegāde 4 nedēļu laikā no pasūtījuma;
A10: 3) | C10: Piedāvātajām Precēm garantijas termiņš (nosaka Pretendents) ir ___ (______________) mēneši no pavadzīmes-rēķina abpusējas parakstīšanas brīža, bet ne mazāk kā 12 mēneši;
A11: 4) | C11: * Pretendenta tehniskajā piedāvājumā norāda Preces ražotāju un modeli atbilstošos parametrus;
A12: 5) | C12: ** Parametru atbilstību pamatot ar norādi uz tehniskajām datu lapām ("data sheet'') jeb informatīviem materiāliem, kas apliecina atbilstību (oriģinālvalodā un tulkojumi valsts valodā), norādot atsauci tehniskajā piedāvājumā uz konkrēto lapaspusi. Informatīvajos materiālos pretendents atzīmē uz kuru iepirkuma tehniskās specifikācijas pozīciju pievienotā informācija attiecināma;
A13: 6) | C13: Visas piedāvātās Preces ir jaunas (ražotas ne vēlāk kā 12 mēnešu laikā no pasūtījuma brīža), iepriekš nelietotas un nesatur iepriekš lietotas vai atjaunotas sastāvdaļas vai komponentes;
A14: 7) | C14: Piedāvājumam jāpievieno Preces ražotāja izsniegta autorizācijas vēstule, kas apliecina, ka pretendents tiesīgs izplatīt un nodrošināt servisu (ja paredzēts) piedāvātai Precei Latvijas Republikā;
A15: 8) | C15: Pēc pasūtītāja pieprasījuma piegādātājam jānodrošina Preces paraugs;
A16: 9) | C16: Paredzamais daudzums tiek izmantots pretendentu finanšu piedāvājumu objektīvai vērtēšanai. Līgumi tiek slēgti par vienas vienības cenu, nosakot visa iepirkuma kopējo apjomu naudas izteiksmē un nenosakot katras pozīcijas apjomu.
A17: 10) | C17: Piedāvājumam jāpievieno piedāvātas Preces EK atbilstības deklarācijas kopija atbilstoši regulas 2017/745 prasībām un CE sertifikāta kopija (ja ražotājs noteicis ierīču klasi: I klases sterilas ierīces un I klases ierīces ar mērīšanas funkciju, IIa, IIb vai III klases ierīces), norādot attiecīgajā ailē medicīnas ierīces klasi saskaņā ar EK atbilstības deklarācijas datiem - ja attiecas;
A19: Nr.p.k. | C19: Preces nosaukums, veicamās funkcijas, tehniskās prasības | D19: Pretendenta piedāvātie parametri* | F19: Atsauce uz informatīvo materiālu**
A20: 11. | C20: Rollers
A21: 11. | B21: 1 | C21: Rollers palīdz atslābināt muskuļus - fascijas pēc fiziskajiem treniņiem pašmasāžas veidā
C22: Tehniskās prasības:
A23: =$A$20 -> 11. | B23: 2 | C23: Izgatavots no polipropilēna vai līdzvērtīga materiāla
A24: =$A$20 -> 11. | B24: 3 | C24: Garums 30 cm ± 5 cm
A25: =$A$20 -> 11. | B25: 4 | C25: Diametrs 15 cm ± 5 cm
A26: =$A$20 -> 11. | B26: 5 | C26: Izgatavots no ādu nekairinoša materiāla
A27: =$A$20 -> 11. | B27: 6 | C27: Paredzēts tīrīšanai un dezinfekcijai
A28: =$A$20 -> 11. | B28: 7 | C28: Informatīvais attēls:
C29: Konfigurācijas: | D29: Pretendenta piedāvātie parametri*: | E29: Preces modelis, kods, ražotājs: | F29: Paredzamais daudzums (kaste): | G29: 1 vienības cena bez PVN, EUR:
A30: =$A$20 -> 11. | B30: 8 | C30: Rollers | F30: 1
F31: KOPĒJĀ CENA bez PVN, EUR: | G31: =G30 -> 0
C32: EKK: | D32: 23121

Sheet 12.
G1: Nolikuma
G2: 2. pielikums
A3: Tehniskā specifikācija/Tehniskais-finanšu piedāvājums
A4: Rehabilitācijas un fizioterapijas mazvērtīgā inventāra piegāde
A6: 12.pozicīja"Gumija stiepšanas gara"
C7: Tehniskās specifikācijas aktualizācijas datums 09.07.2026.
A8: 1) | C8: Finanšu piedāvājumā pretendentam jāietver visi izdevumi un izmaksas, kas saistītas ar Preces piegādi un transportu;
A9: 2) | C9: Piegāde 4 nedēļu laikā no pasūtījuma;
A10: 3) | C10: Piedāvātajām Precēm garantijas termiņš (nosaka Pretendents) ir ___ (______________) mēneši no pavadzīmes-rēķina abpusējas parakstīšanas brīža, bet ne mazāk kā 12 mēneši;
A11: 4) | C11: * Pretendenta tehniskajā piedāvājumā norāda Preces ražotāju un modeli atbilstošos parametrus;
A12: 5) | C12: ** Parametru atbilstību pamatot ar norādi uz tehniskajām datu lapām ("data sheet'') jeb informatīviem materiāliem, kas apliecina atbilstību (oriģinālvalodā un tulkojumi valsts valodā), norādot atsauci tehniskajā piedāvājumā uz konkrēto lapaspusi. Informatīvajos materiālos pretendents atzīmē uz kuru iepirkuma tehniskās specifikācijas pozīciju pievienotā informācija attiecināma;
A13: 6) | C13: Visas piedāvātās Preces ir jaunas (ražotas ne vēlāk kā 12 mēnešu laikā no pasūtījuma brīža), iepriekš nelietotas un nesatur iepriekš lietotas vai atjaunotas sastāvdaļas vai komponentes;
A14: 7) | C14: Piedāvājumam jāpievieno Preces ražotāja izsniegta autorizācijas vēstule, kas apliecina, ka pretendents tiesīgs izplatīt un nodrošināt servisu (ja paredzēts) piedāvātai Precei Latvijas Republikā;
A15: 8) | C15: Pēc pasūtītāja pieprasījuma piegādātājam jānodrošina Preces paraugs;
A16: 9) | C16: Paredzamais daudzums tiek izmantots pretendentu finanšu piedāvājumu objektīvai vērtēšanai. Līgumi tiek slēgti par vienas vienības cenu, nosakot visa iepirkuma kopējo apjomu naudas izteiksmē un nenosakot katras pozīcijas apjomu.
A17: 10) | C17: Piedāvājumam jāpievieno piedāvātas Preces EK atbilstības deklarācijas kopija atbilstoši regulas 2017/745 prasībām un CE sertifikāta kopija (ja ražotājs noteicis ierīču klasi: I klases sterilas ierīces un I klases ierīces ar mērīšanas funkciju, IIa, IIb vai III klases ierīces), norādot attiecīgajā ailē medicīnas ierīces klasi saskaņā ar EK atbilstības deklarācijas datiem - ja attiecas;
A19: Nr.p.k. | C19: Preces nosaukums, veicamās funkcijas, tehniskās prasības | D19: Pretendenta piedāvātie parametri* | F19: Atsauce uz informatīvo materiālu**
A20: 12. | C20: Gumija stiepšanas gara
C21: Veicamās funkcijas:
A22: =$A$20 -> 12. | B22: 1 | C22: Spēka, līdzsvara un ķermeņa stājas vingrinājumiem.
C23: Tehniskās prasības:
A24: =$A$20 -> 12. | B24: 2 | C24: Nesatur lateksu
A25: =$A$20 -> 12. | B25: 3 | C25: Daudzreizlietojams
A26: =$A$20 -> 12. | B26: 4 | C26: Pieejami vairāki pretestības līmeņi
A27: =$A$20 -> 12. | B27: 5 | C27: Svara izturība no 1,3 līdz 2,5 kg ± 0,2 kg
A28: =$A$20 -> 12. | B28: 6 | C28: Gumija cilpas veidolā
A29: =$A$20 -> 12. | B29: 7 | C29: Platums 7 ± 2 cm
A30: =$A$20 -> 12. | B30: 8 | C30: Garums 35 ± 5 cm
A31: =$A$20 -> 12. | B31: 9 | C31: Dezinficējams
A32: =$A$20 -> 12. | B32: 10 | C32: Informatīvs attēls
C33: Konfigurācijas: | D33: Pretendenta piedāvātie parametri*: | E33: Preces modelis, kods, ražotājs: | F33: Paredzamais daudzums (gab.): | G33: 1 vienības cena bez PVN, EUR:
A34: =$A$20 -> 12. | B34: 11 | C34: Dzeltena mazas pretestības gumija, 1.4 kg ± 0,2 kg | F34: 1
A35: =$A$20 -> 12. | B35: 12 | C35: Sarkana mazas pretestības gumija, 1.7 kg ± 0,2 kg | F35: 1
A36: =$A$20 -> 12. | B36: 13 | C36: Zila lielas pretestības gumija, 2.6 kg ± 0,2 kg | F36: 1
A37: =$A$20 -> 12. | B37: 14 | C37: Zaļa lielas pretestības gumija, 2.1 kg ± 0,2 kg | F37: 1
F38: KOPĒJĀ CENA bez PVN, EUR: | G38: =SUM(G34:G37) -> 0
C39: EKK: | D39: 23121

Sheet 13.
G1: Nolikuma
G2: 2. pielikums
A3: Tehniskā specifikācija/Tehniskais-finanšu piedāvājums
A4: Rehabilitācijas un fizioterapijas mazvērtīgā inventāra piegāde
A6: 13.pozicīja "Bumba vingrošanas Ø75"
C7: Tehniskās specifikācijas aktualizācijas datums 09.07.2026.
A8: 1) | C8: Finanšu piedāvājumā pretendentam jāietver visi izdevumi un izmaksas, kas saistītas ar Preces piegādi un transportu;
A9: 2) | C9: Piegāde 4 nedēļu laikā no pasūtījuma;
A10: 3) | C10: Piedāvātajām Precēm garantijas termiņš (nosaka Pretendents) ir ___ (______________) mēneši no pavadzīmes-rēķina abpusējas parakstīšanas brīža, bet ne mazāk kā 12 mēneši;
A11: 4) | C11: * Pretendenta tehniskajā piedāvājumā norāda Preces ražotāju un modeli atbilstošos parametrus;
A12: 5) | C12: ** Parametru atbilstību pamatot ar norādi uz tehniskajām datu lapām ("data sheet'') jeb informatīviem materiāliem, kas apliecina atbilstību (oriģinālvalodā un tulkojumi valsts valodā), norādot atsauci tehniskajā piedāvājumā uz konkrēto lapaspusi. Informatīvajos materiālos pretendents atzīmē uz kuru iepirkuma tehniskās specifikācijas pozīciju pievienotā informācija attiecināma;
A13: 6) | C13: Visas piedāvātās Preces ir jaunas (ražotas ne vēlāk kā 12 mēnešu laikā no pasūtījuma brīža), iepriekš nelietotas un nesatur iepriekš lietotas vai atjaunotas sastāvdaļas vai komponentes;
A14: 7) | C14: Piedāvājumam jāpievieno Preces ražotāja izsniegta autorizācijas vēstule, kas apliecina, ka pretendents tiesīgs izplatīt un nodrošināt servisu (ja paredzēts) piedāvātai Precei Latvijas Republikā;
A15: 8) | C15: Pēc pasūtītāja pieprasījuma piegādātājam jānodrošina Preces paraugs;
A16: 9) | C16: Paredzamais daudzums tiek izmantots pretendentu finanšu piedāvājumu objektīvai vērtēšanai. Līgumi tiek slēgti par vienas vienības cenu, nosakot visa iepirkuma kopējo apjomu naudas izteiksmē un nenosakot katras pozīcijas apjomu.
A17: 10) | C17: Piedāvājumam jāpievieno piedāvātas Preces EK atbilstības deklarācijas kopija atbilstoši regulas 2017/745 prasībām un CE sertifikāta kopija (ja ražotājs noteicis ierīču klasi: I klases sterilas ierīces un I klases ierīces ar mērīšanas funkciju, IIa, IIb vai III klases ierīces), norādot attiecīgajā ailē medicīnas ierīces klasi saskaņā ar EK atbilstības deklarācijas datiem - ja attiecas;
A19: Nr.p.k. | C19: Preces nosaukums, veicamās funkcijas, tehniskās prasības | D19: Pretendenta piedāvātie parametri* | F19: Atsauce uz informatīvo materiālu**
A20: 13. | C20: Bumba vingrošanas Ø75
C21: Veicamās funkcijas:
A22: =$A$20 -> 13. | B22: 1 | C22: Profesionālā vingrošanas bumba fizioterapijas un rehabilitācijas nodarbībām
C23: Tehniskās prasības:
A24: =$A$20 -> 13. | B24: 2 | C24: Bumbas diametrs: Ø 75 ± 1 cm
A25: =$A$20 -> 13. | B25: 3 | C25: Bumba izgatavota no izturīga un elastīga materiāla
A26: =$A$20 -> 13. | B26: 4 | C26: Nesatur lateksu
A27: =$A$20 -> 13. | B27: 5 | C27: Maksimālā slodze ne mazāk kā 150 kg
A28: =$A$20 -> 13. | B28: 6 | C28: Komplektā ar piepūšanas aprīkojumu
A29: =$A$20 -> 13. | B29: 7 | C29: Viegli tīrama un dezinficējama
A30: =$A$20 -> 13. | B30: 8 | C30: Pieejamas dažādās krāsās, pirms piegādes krāsu saskaņot ar pasūtītāju
A31: =$A$20 -> 13. | B31: 9 | C31: Informatīvs attēls
C32: Konfigurācijas: | D32: Pretendenta piedāvātie parametri*: | E32: Preces modelis, kods, ražotājs: | F32: Paredzamais daudzums (gab.): | G32: 1 vienības cena bez PVN, EUR:
A33: =$A$20 -> 13. | B33: 10 | C33: Bumba vingrošanas Ø75 | F33: 2
F34: KOPĒJĀ CENA bez PVN, EUR: | G34: =G33*F33 -> 0
C35: EKK: | D35: 23121

Sheet 14.
G1: Nolikuma
G2: 2. pielikums
A3: Tehniskā specifikācija/Tehniskais-finanšu piedāvājums
A4: Rehabilitācijas un fizioterapijas mazvērtīgā inventāra piegāde
A6: 14.pozicīja"Gumija vingrošanas"
C7: Tehniskās specifikācijas aktualizācijas datums 28.07.2026.
A8: 1) | C8: Finanšu piedāvājumā pretendentam jāietver visi izdevumi un izmaksas, kas saistītas ar Preces piegādi un transportu;
A9: 2) | C9: Piegāde 4 nedēļu laikā no pasūtījuma;
A10: 3) | C10: Daudzreiz lietojamam piedāvātajām Precēm garantijas termiņš (nosaka Pretendents) ir ___ (______________) mēneši no pavadzīmes-rēķina abpusējas parakstīšanas brīža, bet ne mazāk kā 12 mēneši;
A11: 4) | C11: * Pretendenta tehniskajā piedāvājumā norāda Preces ražotāju un modeli atbilstošos parametrus;
A12: 5) | C12: ** Parametru atbilstību pamatot ar norādi uz tehniskajām datu lapām ("data sheet'') jeb informatīviem materiāliem, kas apliecina atbilstību (oriģinālvalodā un tulkojumi valsts valodā), norādot atsauci tehniskajā piedāvājumā uz konkrēto lapaspusi. Informatīvajos materiālos pretendents atzīmē uz kuru iepirkuma tehniskās specifikācijas pozīciju pievienotā informācija attiecināma;
A13: 6) | C13: Visas piedāvātās Preces ir jaunas (ražotas ne vēlāk kā 12 mēnešu laikā no pasūtījuma brīža), iepriekš nelietotas un nesatur iepriekš lietotas vai atjaunotas sastāvdaļas vai komponentes;
A14: 7) | C14: Piedāvājumam jāpievieno Preces ražotāja izsniegta autorizācijas vēstule, kas apliecina, ka pretendents tiesīgs izplatīt un nodrošināt servisu (ja paredzēts) piedāvātai Precei Latvijas Republikā;
A15: 8) | C15: Pēc pasūtītāja pieprasījuma piegādātājam jānodrošina Preces paraugs;
A16: 9) | C16: Paredzamais daudzums tiek izmantots pretendentu finanšu piedāvājumu objektīvai vērtēšanai. Līgumi tiek slēgti par vienas vienības cenu, nosakot visa iepirkuma kopējo apjomu naudas izteiksmē un nenosakot katras pozīcijas apjomu.
A17: 10) | C17: Piedāvājumam jāpievieno piedāvātas Preces EK atbilstības deklarācijas kopija atbilstoši regulas 2017/745 prasībām un CE sertifikāta kopija (ja ražotājs noteicis ierīču klasi: I klases sterilas ierīces un I klases ierīces ar mērīšanas funkciju, IIa, IIb vai III klases ierīces), norādot attiecīgajā ailē medicīnas ierīces klasi saskaņā ar EK atbilstības deklarācijas datiem - ja attiecas;
A19: Nr.p.k. | C19: Preces nosaukums, veicamās funkcijas, tehniskās prasības | D19: Pretendenta piedāvātie parametri* | F19: Atsauce uz informatīvo materiālu**
A20: 14. | C20: Gumija vingrošanas
C21: Veicamās funkcijas:
A22: =$A$20 -> 14. | B22: 1 | C22: Apļveida gumija paredzēta dažādu ķermeņa muskuļu grupu stiprināšanai, stiepšanai un rehabilitācijai
C23: Tehniskās prasības:
A24: =$A$20 -> 14. | B24: 2 | C24: Dažādas pretestības
A25: =$A$20 -> 14. | B25: 3 | C25: Apļveida
A26: =$A$20 -> 14. | B26: 4 | C26: Elastīga
A27: =$A$20 -> 14. | B27: 5 | C27: Nesatur lateksu
A28: =$A$20 -> 14. | B28: 6 | C28: Garums: 5 ± 0,5 m
A29: =$A$20 -> 14. | B29: 7 | C29: Platums: 12 ± 2 cm
A30: =$A$20 -> 14. | B30: 8 | C30: Informatīvs attēls Thera Band vai analogs
C31: Konfigurācijas: | D31: Pretendenta piedāvātie parametri*: | E31: Preces modelis, kods, ražotājs: | F31: Paredzamais daudzums (gab.): | G31: 1 vienības cena bez PVN, EUR:
A32: =$A$20 -> 14. | B32: 9 | C32: Dzeltena, gumija vingrošanai ļoti vājas pretestības | F32: 5 | G32: 0
A33: =$A$20 -> 14. | B33: 10 | C33: Sarkana, gumija vingrošanai vājas pretestības | F33: 5 | G33: 0
A34: =$A$20 -> 14. | B34: 11 | C34: Zaļa, gumija vingrošanai vidējas pretestības | F34: 5 | G34: 0
A35: =$A$20 -> 14. | B35: 12 | C35: Zila, gumija vingrošanai vidēji stipras pretestības | F35: 5 | G35: 0
A36: =$A$20 -> 14. | B36: 13 | C36: Melna, gumija vingrošanai stipras pretestības | F36: 5 | G36: 0
F37: KOPĒJĀ CENA bez PVN, EUR: | G37: =(G32*F32)+(G33*F33)+(F34*G34)+(F35*G35)+(F36*G36) -> 0
C38: EKK: | D38: 23121

Sheet 15.
G1: Nolikuma
G2: 2. pielikums
A3: Tehniskā specifikācija/Tehniskais-finanšu piedāvājums
A4: Rehabilitācijas un fizioterapijas mazvērtīgā inventāra piegāde
A6: 15.pozicīja "Ola gēla saspiežama"
C7: Tehniskās specifikācijas aktualizācijas datums 09.07.2026.
A8: 1) | C8: Finanšu piedāvājumā pretendentam jāietver visi izdevumi un izmaksas, kas saistītas ar Preces piegādi un transportu;
A9: 2) | C9: Piegāde 4 nedēļu laikā no pasūtījuma;
A10: 3) | C10: Piedāvātajām Precēm garantijas termiņš (nosaka Pretendents) ir ___ (______________) mēneši no pavadzīmes-rēķina abpusējas parakstīšanas brīža, bet ne mazāk kā 12 mēneši;
A11: 4) | C11: * Pretendenta tehniskajā piedāvājumā norāda Preces ražotāju un modeli atbilstošos parametrus;
A12: 5) | C12: ** Parametru atbilstību pamatot ar norādi uz tehniskajām datu lapām ("data sheet'') jeb informatīviem materiāliem, kas apliecina atbilstību (oriģinālvalodā un tulkojumi valsts valodā), norādot atsauci tehniskajā piedāvājumā uz konkrēto lapaspusi. Informatīvajos materiālos pretendents atzīmē uz kuru iepirkuma tehniskās specifikācijas pozīciju pievienotā informācija attiecināma;
A13: 6) | C13: Visas piedāvātās Preces ir jaunas (ražotas ne vēlāk kā 12 mēnešu laikā no pasūtījuma brīža), iepriekš nelietotas un nesatur iepriekš lietotas vai atjaunotas sastāvdaļas vai komponentes;
A14: 7) | C14: Piedāvājumam jāpievieno Preces ražotāja izsniegta autorizācijas vēstule, kas apliecina, ka pretendents tiesīgs izplatīt un nodrošināt servisu (ja paredzēts) piedāvātai Precei Latvijas Republikā;
A15: 8) | C15: Pēc pasūtītāja pieprasījuma piegādātājam jānodrošina Preces paraugs;
A16: 9) | C16: Paredzamais daudzums tiek izmantots pretendentu finanšu piedāvājumu objektīvai vērtēšanai. Līgumi tiek slēgti par vienas vienības cenu, nosakot visa iepirkuma kopējo apjomu naudas izteiksmē un nenosakot katras pozīcijas apjomu.
A17: 10) | C17: Piedāvājumam jāpievieno piedāvātas Preces EK atbilstības deklarācijas kopija atbilstoši regulas 2017/745 prasībām un CE sertifikāta kopija (ja ražotājs noteicis ierīču klasi: I klases sterilas ierīces un I klases ierīces ar mērīšanas funkciju, IIa, IIb vai III klases ierīces), norādot attiecīgajā ailē medicīnas ierīces klasi saskaņā ar EK atbilstības deklarācijas datiem - ja attiecas;
A19: Nr.p.k. | C19: Preces nosaukums, veicamās funkcijas, tehniskās prasības | D19: Pretendenta piedāvātie parametri* | F19: Atsauce uz informatīvo materiālu**
A20: 15. | C20: Ola gēla saspiežama
C21: Veicamās funkcijas:
A22: =$A$20 -> 15. | B22: 1 | C22: Atslābina saspringtus, sāpīgus muskuļus
C23: Tehniskās prasības:
A24: =$A$20 -> 15. | B24: 2 | C24: Materiāls gumija
A25: =$A$20 -> 15. | B25: 3 | C25: Nesatur lateksu
A26: =$A$20 -> 15. | B26: 4 | C26: Dažādas pretestības
A27: =$A$20 -> 15. | B27: 5 | C27: Dezinficējams
A28: =$A$20 -> 15. | B28: 6 | C28: Diametrs 6 cm ± 1 cm garumā un 4 cm ± 1 cm platumā
A29: =$A$20 -> 15. | B29: 7 | C29: Informatīvs attēls
C30: Konfigurācijas: | D30: Pretendenta piedāvātie parametri*: | E30: Preces modelis, kods, ražotājs: | F30: Paredzamais daudzums (gab.): | G30: 1 vienības cena bez PVN, EUR:
A31: =$A$20 -> 15. | B31: 8 | C31: Sarkana, mīksta | F31: 1
A32: =$A$20 -> 15. | B32: 9 | C32: Dzeltena, ļoti mīksta | F32: 1
A33: =$A$20 -> 15. | B33: 10 | C33: Zaļa - vidēja | F33: 1
A34: =$A$20 -> 15. | B34: 11 | C34: Zila - stipra | F34: 1
A35: =$A$20 -> 15. | B35: 12 | C35: Melna - īpaši stipra | F35: 1
F36: KOPĒJĀ CENA bez PVN, EUR: | G36: =SUM(G31:G35) -> 0
C37: EKK: | D37: 23121

Sheet 16.
G1: Nolikuma
G2: 2. pielikums
A3: Tehniskā specifikācija/Tehniskais-finanšu piedāvājums
A4: Rehabilitācijas un fizioterapijas mazvērtīgā inventāra piegāde
A6: 16.pozicīja "Trenažieris rokas U tipa"
C7: Tehniskās specifikācijas aktualizācijas datums 28.07.2026.
A8: 1) | C8: Finanšu piedāvājumā pretendentam jāietver visi izdevumi un izmaksas, kas saistītas ar Preces piegādi un transportu;
A9: 2) | C9: Piegāde 4 nedēļu laikā no pasūtījuma;
A10: 3) | C10: Piedāvātajām Precēm garantijas termiņš (nosaka Pretendents) ir ___ (______________) mēneši no pavadzīmes-rēķina abpusējas parakstīšanas brīža, bet ne mazāk kā 12 mēneši;
A11: 4) | C11: * Pretendenta tehniskajā piedāvājumā norāda Preces ražotāju un modeli atbilstošos parametrus;
A12: 5) | C12: ** Parametru atbilstību pamatot ar norādi uz tehniskajām datu lapām ("data sheet'') jeb informatīviem materiāliem, kas apliecina atbilstību (oriģinālvalodā un tulkojumi valsts valodā), norādot atsauci tehniskajā piedāvājumā uz konkrēto lapaspusi. Informatīvajos materiālos pretendents atzīmē uz kuru iepirkuma tehniskās specifikācijas pozīciju pievienotā informācija attiecināma;
A13: 6) | C13: Visas piedāvātās Preces ir jaunas (ražotas ne vēlāk kā 12 mēnešu laikā no pasūtījuma brīža), iepriekš nelietotas un nesatur iepriekš lietotas vai atjaunotas sastāvdaļas vai komponentes;
A14: 7) | C14: Piedāvājumam jāpievieno Preces ražotāja izsniegta autorizācijas vēstule, kas apliecina, ka pretendents tiesīgs izplatīt un nodrošināt servisu (ja paredzēts) piedāvātai Precei Latvijas Republikā;
A15: 8) | C15: Pēc pasūtītāja pieprasījuma piegādātājam jānodrošina Preces paraugs;
A16: 9) | C16: Paredzamais daudzums tiek izmantots pretendentu finanšu piedāvājumu objektīvai vērtēšanai. Līgumi tiek slēgti par vienas vienības cenu, nosakot visa iepirkuma kopējo apjomu naudas izteiksmē un nenosakot katras pozīcijas apjomu.
A17: 10) | C17: Piedāvājumam jāpievieno piedāvātas Preces EK atbilstības deklarācijas kopija atbilstoši regulas 2017/745 prasībām un CE sertifikāta kopija (ja ražotājs noteicis ierīču klasi: I klases sterilas ierīces un I klases ierīces ar mērīšanas funkciju, IIa, IIb vai III klases ierīces), norādot attiecīgajā ailē medicīnas ierīces klasi saskaņā ar EK atbilstības deklarācijas datiem - ja attiecas;
A19: Nr.p.k. | C19: Preces nosaukums, veicamās funkcijas, tehniskās prasības | D19: Pretendenta piedāvātie parametri* | F19: Atsauce uz informatīvo materiālu**
A20: 16. | C20: Trenažieris rokas U tipa
C21: Veicamās funkcijas:
A22: =$A$20 -> 16. | B22: 1 | C22: Satveršanas izturības un augšējās ekstremitātes stabilizācijas veicināšanai.
C23: Tehniskās prasības:
A24: =$A$20 -> 16. | B24: 2 | C24: Daudzreizlietojams
A25: =$A$20 -> 16. | B25: 3 | C25: Pieejami vairāki pretestības līmeņi
A26: =$A$20 -> 16. | B26: 4 | C26: Materiāls dabiskais kaučuks, antibakteriāls
A27: =$A$20 -> 16. | B27: 5 | C27: Garums 30 cm ± 1 cm
A28: =$A$20 -> 16. | B28: 6 | C28: Diametrs ne mazāk kā 32 mm līdz ne vairāk kā 45mm
A29: =$A$20 -> 16. | B29: 7 | C29: Svara izturība līdz ne mazāk kā 10 kg
A30: =$A$20 -> 16. | B30: 8 | C30: Dezinficējams
A31: =$A$20 -> 16. | B31: 9 | C31: Informatīvs attēls
C32: Konfigurācijas: | D32: Pretendenta piedāvātie parametri*: | E32: Preces modelis, kods, ražotājs: | F32: Paredzamais daudzums (gab.): | G32: 1 vienības cena bez PVN, EUR:
A33: =$A$20 -> 16. | B33: 10 | C33: Dzeltens trenažieris rokas, svara izturība 2.5 kg ± 0,3 kg | F33: 1
A34: =$A$20 -> 16. | B34: 11 | C34: Sarkans trenažieris rokas, svara izturība 4.5 kg ± 0,3 kg | F34: 1
A35: =$A$20 -> 16. | B35: 12 | C35: Zaļš trenažieris rokas, svara izturība 6.8 kg ± 0,3 kg | F35: 1
A36: =$A$20 -> 16. | B36: 13 | C36: Zils trenažieris rokas, svara izturība 11.3 kg ± 0,3 kg | F36: 1
F37: KOPĒJĀ CENA bez PVN, EUR: | G37: =G33+G34+G35+G36 -> 0
C38: EKK: | D38: 23121

Sheet 17.
G1: Nolikuma
G2: 2. pielikums
A3: Tehniskā specifikācija/Tehniskais-finanšu piedāvājums
A4: Rehabilitācijas un fizioterapijas mazvērtīgā inventāra piegāde
A6: 17.pozicīja "Konuss rokas terapijai"
C7: Tehniskās specifikācijas aktualizācijas datums 28.07.2026.
A8: 1) | C8: Finanšu piedāvājumā pretendentam jāietver visi izdevumi un izmaksas, kas saistītas ar Preces piegādi un transportu;
A9: 2) | C9: Piegāde 4 nedēļu laikā no pasūtījuma;
A10: 3) | C10: Piedāvātajām Precēm garantijas termiņš (nosaka Pretendents) ir ___ (______________) mēneši no pavadzīmes-rēķina abpusējas parakstīšanas brīža, bet ne mazāk kā 12 mēneši;
A11: 4) | C11: * Pretendenta tehniskajā piedāvājumā norāda Preces ražotāju un modeli atbilstošos parametrus;
A12: 5) | C12: ** Parametru atbilstību pamatot ar norādi uz tehniskajām datu lapām ("data sheet'') jeb informatīviem materiāliem, kas apliecina atbilstību (oriģinālvalodā un tulkojumi valsts valodā), norādot atsauci tehniskajā piedāvājumā uz konkrēto lapaspusi. Informatīvajos materiālos pretendents atzīmē uz kuru iepirkuma tehniskās specifikācijas pozīciju pievienotā informācija attiecināma;
A13: 6) | C13: Visas piedāvātās Preces ir jaunas (ražotas ne vēlāk kā 12 mēnešu laikā no pasūtījuma brīža), iepriekš nelietotas un nesatur iepriekš lietotas vai atjaunotas sastāvdaļas vai komponentes;
A14: 7) | C14: Piedāvājumam jāpievieno Preces ražotāja izsniegta autorizācijas vēstule, kas apliecina, ka pretendents tiesīgs izplatīt un nodrošināt servisu (ja paredzēts) piedāvātai Precei Latvijas Republikā;
A15: 8) | C15: Pēc pasūtītāja pieprasījuma piegādātājam jānodrošina Preces paraugs;
A16: 9) | C16: Paredzamais daudzums tiek izmantots pretendentu finanšu piedāvājumu objektīvai vērtēšanai. Līgumi tiek slēgti par vienas vienības cenu, nosakot visa iepirkuma kopējo apjomu naudas izteiksmē un nenosakot katras pozīcijas apjomu.
A17: 10) | C17: Piedāvājumam jāpievieno piedāvātas Preces EK atbilstības deklarācijas kopija atbilstoši regulas 2017/745 prasībām un CE sertifikāta kopija (ja ražotājs noteicis ierīču klasi: I klases sterilas ierīces un I klases ierīces ar mērīšanas funkciju, IIa, IIb vai III klases ierīces), norādot attiecīgajā ailē medicīnas ierīces klasi saskaņā ar EK atbilstības deklarācijas datiem - ja attiecas;
A19: Nr.p.k. | C19: Preces nosaukums, veicamās funkcijas, tehniskās prasības | D19: Pretendenta piedāvātie parametri* | F19: Atsauce uz informatīvo materiālu**
A20: 17. | C20: Konuss rokas terapijai
C21: Veicamās funkcijas:
A22: =$A$20 -> 17. | B22: 1 | C22: Rokas-acu koordinācijas uzlabošanai.
C23: Tehniskās prasības:
A24: =$A$20 -> 17. | B24: 2 | C24: Komplektā ne mazāk kā 6 dažāda diametra konusi
A25: =$A$20 -> 17. | B25: 3 | C25: Daudzreizlietojams
A26: =$A$20 -> 17. | B26: 4 | C26: Nesatur lateksu
A27: =$A$20 -> 17. | B27: 5 | C27: Viena konusa svars ne vairāk kā 70 g
A28: =$A$20 -> 17. | B28: 6 | C28: Garums 18 ± 3 cm
A29: =$A$20 -> 17. | B29: 7 | C29: Dezinficējams
A30: =$A$20 -> 17. | B30: 8 | C30: Informatīvs attēls
C31: Konfigurācijas: | D31: Pretendenta piedāvātie parametri*: | E31: Preces modelis, kods, ražotājs: | F31: Paredzamais daudzums (gab.): | G31: 1 vienības cena bez PVN, EUR:
A32: =$A$20 -> 17. | B32: 9 | C32: Konusu komplekts | F32: 1
F33: KOPĒJĀ CENA bez PVN, EUR: | G33: =G32 -> 0
C34: EKK: | D34: 23121

Sheet 18.
G1: Nolikuma
G2: 2. pielikums
A3: Tehniskā specifikācija/Tehniskais-finanšu piedāvājums
A4: Rehabilitācijas un fizioterapijas mazvērtīgā inventāra piegāde
A6: 18.pozicīja "Disks pronācijas/supinācijas"
C7: Tehniskās specifikācijas aktualizācijas datums 09.07.2026.
A8: 1) | C8: Finanšu piedāvājumā pretendentam jāietver visi izdevumi un izmaksas, kas saistītas ar Preces piegādi un transportu;
A9: 2) | C9: Piegāde 16 nedēļu laikā no pasūtījuma;
A10: 3) | C10: Piedāvātajām Precēm garantijas termiņš (nosaka Pretendents) ir ___ (______________) mēneši no pavadzīmes-rēķina abpusējas parakstīšanas brīža, bet ne mazāk kā 12 mēneši;
A11: 4) | C11: * Pretendenta tehniskajā piedāvājumā norāda Preces ražotāju un modeli atbilstošos parametrus;
A12: 5) | C12: ** Parametru atbilstību pamatot ar norādi uz tehniskajām datu lapām ("data sheet'') jeb informatīviem materiāliem, kas apliecina atbilstību (oriģinālvalodā un tulkojumi valsts valodā), norādot atsauci tehniskajā piedāvājumā uz konkrēto lapaspusi. Informatīvajos materiālos pretendents atzīmē uz kuru iepirkuma tehniskās specifikācijas pozīciju pievienotā informācija attiecināma;
A13: 6) | C13: Visas piedāvātās Preces ir jaunas (ražotas ne vēlāk kā 12 mēnešu laikā no pasūtījuma brīža), iepriekš nelietotas un nesatur iepriekš lietotas vai atjaunotas sastāvdaļas vai komponentes;
A14: 7) | C14: Piedāvājumam jāpievieno Preces ražotāja izsniegta autorizācijas vēstule, kas apliecina, ka pretendents tiesīgs izplatīt un nodrošināt servisu (ja paredzēts) piedāvātai Precei Latvijas Republikā;
A15: 8) | C15: Pēc pasūtītāja pieprasījuma piegādātājam jānodrošina Preces paraugs;
A16: 9) | C16: Paredzamais daudzums tiek izmantots pretendentu finanšu piedāvājumu objektīvai vērtēšanai. Līgumi tiek slēgti par vienas vienības cenu, nosakot visa iepirkuma kopējo apjomu naudas izteiksmē un nenosakot katras pozīcijas apjomu.
A17: 10) | C17: Piedāvājumam jāpievieno piedāvātas Preces EK atbilstības deklarācijas kopija atbilstoši regulas 2017/745 prasībām un CE sertifikāta kopija (ja ražotājs noteicis ierīču klasi: I klases sterilas ierīces un I klases ierīces ar mērīšanas funkciju, IIa, IIb vai III klases ierīces), norādot attiecīgajā ailē medicīnas ierīces klasi saskaņā ar EK atbilstības deklarācijas datiem - ja attiecas;
A19: Nr.p.k. | C19: Preces nosaukums, veicamās funkcijas, tehniskās prasības | D19: Pretendenta piedāvātie parametri* | F19: Atsauce uz informatīvo materiālu**
A20: 18. | C20: Disks pronācijas/supinācijas
C21: Veicamās funkcijas:
A22: =$A$20 -> 18. | B22: 1 | C22: Rokas pronācijas un supinācijas trenēšanai
C23: Tehniskās prasības:
A24: =$A$20 -> 18. | B24: 2 | C24: Aprīkots ar ergonomisku rokturi ērtai satveršanai
A25: =$A$20 -> 18. | B25: 3 | C25: Daudzreizlietojams
A26: =$A$20 -> 18. | B26: 4 | C26: Diska ārējais materiāls neslīdošs
A27: =$A$20 -> 18. | B27: 5 | C27: Zils, vieglas pretestības
A28: =$A$20 -> 18. | B28: 6 | C28: Dezinficējams
A29: =$A$20 -> 18. | B29: 7 | C29: Informatīvs attēls
C30: Konfigurācijas: | D30: Pretendenta piedāvātie parametri*: | E30: Preces modelis, kods, ražotājs: | F30: Paredzamais daudzums (gab.): | G30: 1 vienības cena bez PVN, EUR:
A31: =$A$20 -> 18. | B31: 8 | C31: Disks pronācijas/supinācijas | F31: 1
F32: KOPĒJĀ CENA bez PVN, EUR: | G32: =G31 -> 0
C33: EKK: | D33: 23121

Sheet 19.
G1: Nolikuma
G2: 2. pielikums
A3: Tehniskā specifikācija/Tehniskais-finanšu piedāvājums
A4: Rehabilitācijas un fizioterapijas mazvērtīgā inventāra piegāde
A6: 19.pozicīja "Treniņtīkls rokas terapijai"
C7: Tehniskās specifikācijas aktualizācijas datums 09.07.2026.
A8: 1) | C8: Finanšu piedāvājumā pretendentam jāietver visi izdevumi un izmaksas, kas saistītas ar Preces piegādi un transportu;
A9: 2) | C9: Piegāde 4 nedēļu laikā no pasūtījuma;
A10: 3) | C10: Piedāvātajām Precēm garantijas termiņš (nosaka Pretendents) ir ___ (______________) mēneši no pavadzīmes-rēķina abpusējas parakstīšanas brīža, bet ne mazāk kā 12 mēneši;
A11: 4) | C11: * Pretendenta tehniskajā piedāvājumā norāda Preces ražotāju un modeli atbilstošos parametrus;
A12: 5) | C12: ** Parametru atbilstību pamatot ar norādi uz tehniskajām datu lapām ("data sheet'') jeb informatīviem materiāliem, kas apliecina atbilstību (oriģinālvalodā un tulkojumi valsts valodā), norādot atsauci tehniskajā piedāvājumā uz konkrēto lapaspusi. Informatīvajos materiālos pretendents atzīmē uz kuru iepirkuma tehniskās specifikācijas pozīciju pievienotā informācija attiecināma;
A13: 6) | C13: Visas piedāvātās Preces ir jaunas (ražotas ne vēlāk kā 12 mēnešu laikā no pasūtījuma brīža), iepriekš nelietotas un nesatur iepriekš lietotas vai atjaunotas sastāvdaļas vai komponentes;
A14: 7) | C14: Piedāvājumam jāpievieno Preces ražotāja izsniegta autorizācijas vēstule, kas apliecina, ka pretendents tiesīgs izplatīt un nodrošināt servisu (ja paredzēts) piedāvātai Precei Latvijas Republikā;
A15: 8) | C15: Pēc pasūtītāja pieprasījuma piegādātājam jānodrošina Preces paraugs;
A16: 9) | C16: Paredzamais daudzums tiek izmantots pretendentu finanšu piedāvājumu objektīvai vērtēšanai. Līgumi tiek slēgti par vienas vienības cenu, nosakot visa iepirkuma kopējo apjomu naudas izteiksmē un nenosakot katras pozīcijas apjomu.
A17: 10) | C17: Piedāvājumam jāpievieno piedāvātas Preces EK atbilstības deklarācijas kopija atbilstoši regulas 2017/745 prasībām un CE sertifikāta kopija (ja ražotājs noteicis ierīču klasi: I klases sterilas ierīces un I klases ierīces ar mērīšanas funkciju, IIa, IIb vai III klases ierīces), norādot attiecīgajā ailē medicīnas ierīces klasi saskaņā ar EK atbilstības deklarācijas datiem - ja attiecas;
A19: Nr.p.k. | C19: Preces nosaukums, veicamās funkcijas, tehniskās prasības | D19: Pretendenta piedāvātie parametri* | F19: Atsauce uz informatīvo materiālu**
A20: 19. | C20: Treniņtīkls rokas terapijai
C21: Veicamās funkcijas:
A22: =$A$20 -> 19. | B22: 1 | C22: Rokas fleksijas, ekstenzijas, opozīcijas, supinācijas kustību trenēšanai
C23: Tehniskās prasības:
A24: =$A$20 -> 19. | B24: 2 | C24: Pretestības regulācijai var mainīt pirkstu ievietošanas dziļumu
A25: =$A$20 -> 19. | B25: 3 | C25: Daudzreizlietojams
A26: =$A$20 -> 19. | B26: 4 | C26: Pretestība ļoti vāja
A27: =$A$20 -> 19. | B27: 5 | C27: Nesatur lateksu
A28: =$A$20 -> 19. | B28: 6 | C28: Diametrs 35 ± 1 cm
A29: =$A$20 -> 19. | B29: 7 | C29: Dezinficējams
A30: 19. | B30: 8 | C30: Informatīvs attēls
C31: Konfigurācijas: | D31: Pretendenta piedāvātie parametri*: | E31: Preces modelis, kods, ražotājs: | F31: Paredzamais daudzums (gab.): | G31: 1 vienības cena bez PVN, EUR:
A32: =$A$20 -> 19. | B32: 9 | C32: Treniņtīkls rokas terapijai dzeltens | F32: 1
F33: KOPĒJĀ CENA bez PVN, EUR: | G33: =G32 -> 0
C34: EKK: | D34: 23121

Sheet 20.
F1: Nolikuma
F2: 2. pielikums
A3: Tehniskā specifikācija/Tehniskais-finanšu piedāvājums
A4: Rehabilitācijas un fizioterapijas mazvērtīgā inventāra piegāde
A6: 20.pozicīja "Pirkstu trenažieris"
C7: Tehniskās specifikācijas aktualizācijas datums 09.07.2026.
A8: 1) | C8: Finanšu piedāvājumā pretendentam jāietver visi izdevumi un izmaksas, kas saistītas ar Preces piegādi un transportu;
A9: 2) | C9: Piegāde 4 nedēļu laikā no pasūtījuma;
A10: 3) | C10: Piedāvātajām Precēm garantijas termiņš (nosaka Pretendents) ir ___ (______________) mēneši no pavadzīmes-rēķina abpusējas parakstīšanas brīža, bet ne mazāk kā 12 mēneši;
A11: 4) | C11: * Pretendenta tehniskajā piedāvājumā norāda Preces ražotāju un modeli atbilstošos parametrus;
A12: 5) | C12: ** Parametru atbilstību pamatot ar norādi uz tehniskajām datu lapām ("data sheet'') jeb informatīviem materiāliem, kas apliecina atbilstību (oriģinālvalodā un tulkojumi valsts valodā), norādot atsauci tehniskajā piedāvājumā uz konkrēto lapaspusi. Informatīvajos materiālos pretendents atzīmē uz kuru iepirkuma tehniskās specifikācijas pozīciju pievienotā informācija attiecināma;
A13: 6) | C13: Visas piedāvātās Preces ir jaunas (ražotas ne vēlāk kā 12 mēnešu laikā no pasūtījuma brīža), iepriekš nelietotas un nesatur iepriekš lietotas vai atjaunotas sastāvdaļas vai komponentes;
A14: 7) | C14: Piedāvājumam jāpievieno Preces ražotāja izsniegta autorizācijas vēstule, kas apliecina, ka pretendents tiesīgs izplatīt un nodrošināt servisu (ja paredzēts) piedāvātai Precei Latvijas Republikā;
A15: 8) | C15: Pēc pasūtītāja pieprasījuma piegādātājam jānodrošina Preces paraugs;
A16: 9) | C16: Paredzamais daudzums tiek izmantots pretendentu finanšu piedāvājumu objektīvai vērtēšanai. Līgumi tiek slēgti par vienas vienības cenu, nosakot visa iepirkuma kopējo apjomu naudas izteiksmē un nenosakot katras pozīcijas apjomu.
A17: 10) | C17: Piedāvājumam jāpievieno piedāvātas Preces EK atbilstības deklarācijas kopija atbilstoši regulas 2017/745 prasībām un CE sertifikāta kopija (ja ražotājs noteicis ierīču klasi: I klases sterilas ierīces un I klases ierīces ar mērīšanas funkciju, IIa, IIb vai III klases ierīces), norādot attiecīgajā ailē medicīnas ierīces klasi saskaņā ar EK atbilstības deklarācijas datiem - ja attiecas;
A19: Nr.p.k. | C19: Preces nosaukums, veicamās funkcijas, tehniskās prasības | D19: Pretendenta piedāvātie parametri* | F19: Atsauce uz informatīvo materiālu**
A20: 20. | C20: Pirkstu trenažieris
C21: Tehniskās prasības:
A22: =$A$20 -> 20. | B22: 1 | C22: Trenažieris pirkstu trenešanai, kas ļauj vingrot ar katru pirkstu atsevišķi
A23: =$A$20 -> 20. | B23: 2 | C23: Forma ergonomiska
A24: =$A$20 -> 20. | B24: 3 | C24: Pieejamas dažādas pretestības konfigurācijas
A25: =$A$20 -> 20. | B25: 4 | C25: Informatīvs attēls
C26: Konfigurācijas: | D26: Preces modelis, kods, ražotājs: | F26: Paredzamais daudzums (gab.): | G26: Vienības cena bez PVN, EUR:
A27: =$A$20 -> 20. | B27: 5 | C27: Dzeltens, pretestība 0.7kg ± 0.2kg | F27: 1 | G27: 0
A28: =$A$20 -> 20. | B28: 6 | C28: Sarkans, pretestība 1.4kg ± 0.2kg | F28: 1 | G28: 0
A29: =$A$20 -> 20. | B29: 7 | C29: Zaļš, pretestība 2.3kg ± 0.2kg | F29: 1 | G29: 0
A30: =$A$20 -> 20. | B30: 8 | C30: Zils, pretestība 3.2kg ± 0.2kg | F30: 1 | G30: 0
A31: =$A$20 -> 20. | B31: 9 | C31: Melns, pretestība 4.1kg ± 0.2kg | F31: 1 | G31: 0
F32: KOPĒJĀ CENA bez PVN, EUR: | G32: =SUM(G27:G31) -> 0
C33: EKK: | D33: 23121

Sheet 21.
G1: Nolikuma
G2: 2. pielikums
A3: Tehniskā specifikācija/Tehniskais-finanšu piedāvājums
A4: Rehabilitācijas un fizioterapijas mazvērtīgā inventāra piegāde
A6: 21.pozicīja "Fizioterapijas rullis mazs"
C7: Tehniskās specifikācijas aktualizācijas datums 09.07.2026.
A8: 1) | C8: Finanšu piedāvājumā pretendentam jāietver visi izdevumi un izmaksas, kas saistītas ar Preces piegādi un transportu;
A9: 2) | C9: Piegāde 4 nedēļu laikā no pasūtījuma;
A10: 3) | C10: Piedāvātajām Precēm garantijas termiņš (nosaka Pretendents) ir ___ (______________) mēneši no pavadzīmes-rēķina abpusējas parakstīšanas brīža, bet ne mazāk kā 12 mēneši;
A11: 4) | C11: * Pretendenta tehniskajā piedāvājumā norāda Preces ražotāju un modeli atbilstošos parametrus;
A12: 5) | C12: ** Parametru atbilstību pamatot ar norādi uz tehniskajām datu lapām ("data sheet'') jeb informatīviem materiāliem, kas apliecina atbilstību (oriģinālvalodā un tulkojumi valsts valodā), norādot atsauci tehniskajā piedāvājumā uz konkrēto lapaspusi. Informatīvajos materiālos pretendents atzīmē uz kuru iepirkuma tehniskās specifikācijas pozīciju pievienotā informācija attiecināma;
A13: 6) | C13: Visas piedāvātās Preces ir jaunas (ražotas ne vēlāk kā 12 mēnešu laikā no pasūtījuma brīža), iepriekš nelietotas un nesatur iepriekš lietotas vai atjaunotas sastāvdaļas vai komponentes;
A14: 7) | C14: Piedāvājumam jāpievieno Preces ražotāja izsniegta autorizācijas vēstule, kas apliecina, ka pretendents tiesīgs izplatīt un nodrošināt servisu (ja paredzēts) piedāvātai Precei Latvijas Republikā;
A15: 8) | C15: Pēc pasūtītāja pieprasījuma piegādātājam jānodrošina Preces paraugs;
A16: 9) | C16: Paredzamais daudzums tiek izmantots pretendentu finanšu piedāvājumu objektīvai vērtēšanai. Līgumi tiek slēgti par vienas vienības cenu, nosakot visa iepirkuma kopējo apjomu naudas izteiksmē un nenosakot katras pozīcijas apjomu.
A17: 10) | C17: Piedāvājumam jāpievieno piedāvātas Preces EK atbilstības deklarācijas kopija atbilstoši regulas 2017/745 prasībām un CE sertifikāta kopija (ja ražotājs noteicis ierīču klasi: I klases sterilas ierīces un I klases ierīces ar mērīšanas funkciju, IIa, IIb vai III klases ierīces), norādot attiecīgajā ailē medicīnas ierīces klasi saskaņā ar EK atbilstības deklarācijas datiem - ja attiecas;
A19: Nr.p.k. | C19: Preces nosaukums, veicamās funkcijas, tehniskās prasības | D19: Pretendenta piedāvātie parametri* | F19: Atsauce uz informatīvo materiālu**
A20: 21. | C20: Fizioterapijas rullis mazs
C21: Veicamas funkcijas:
A22: =$A$20 -> 21. | B22: 1 | C22: Fizioterapijas rullis paredzēts funkcionālam treniņam, veicina līdzsvara attīstību un mugurkaula stabilizāciju
C23: Tehniskās prasības:
A24: =$A$20 -> 21. | B24: 2 | C24: Garums 80 cm ± 2 cm, diametrs 20 cm ± 2 cm
A25: =$A$20 -> 21. | B25: 3 | C25: Piepūšams ar gaisu
A26: =$A$20 -> 21. | B26: 4 | C26: Viegli tīrams, var dezinficēt
A27: =$A$20 -> 21. | B27: 5 | C27: Ruļļa krāsu saskaņot ar pasūtītāju
A28: =$A$20 -> 21. | B28: 6 | C28: Komplektā ar sūkni
A29: =$A$20 -> 21. | B29: 7 | C29: Informatīvais attēls:
C30: Konfigurācijas: | D30: Pretendenta piedāvātie parametri*: | E30: Preces modelis, kods, ražotājs: | F30: Paredzamais daudzums (gab.): | G30: 1 vienības cena bez PVN, EUR:
A31: =$A$20 -> 21. | B31: 8 | C31: Fizioterapijas rullis mazs | F31: 1
F32: KOPĒJĀ CENA bez PVN, EUR: | G32: =G31 -> 0
C33: EKK: | D33: 23121

Sheet 22.
G1: Nolikuma
G2: 2. pielikums
A3: Tehniskā specifikācija/Tehniskais-finanšu piedāvājums
A4: Rehabilitācijas un fizioterapijas mazvērtīgā inventāra piegāde
A6: 22.pozicīja "Bumba vingrošanas vidēja Ø16 "
C7: Tehniskās specifikācijas aktualizācijas datums 28.07.2026.
A8: 1) | C8: Finanšu piedāvājumā pretendentam jāietver visi izdevumi un izmaksas, kas saistītas ar Preces piegādi un transportu;
A9: 2) | C9: Piegāde 4 nedēļu laikā no pasūtījuma;
A10: 3) | C10: Piedāvātajām Precēm garantijas termiņš (nosaka Pretendents) ir ___ (______________) mēneši no pavadzīmes-rēķina abpusējas parakstīšanas brīža, bet ne mazāk kā 12 mēneši;
A11: 4) | C11: * Pretendenta tehniskajā piedāvājumā norāda Preces ražotāju un modeli atbilstošos parametrus;
A12: 5) | C12: ** Parametru atbilstību pamatot ar norādi uz tehniskajām datu lapām ("data sheet'') jeb informatīviem materiāliem, kas apliecina atbilstību (oriģinālvalodā un tulkojumi valsts valodā), norādot atsauci tehniskajā piedāvājumā uz konkrēto lapaspusi. Informatīvajos materiālos pretendents atzīmē uz kuru iepirkuma tehniskās specifikācijas pozīciju pievienotā informācija attiecināma;
A13: 6) | C13: Visas piedāvātās Preces ir jaunas (ražotas ne vēlāk kā 12 mēnešu laikā no pasūtījuma brīža), iepriekš nelietotas un nesatur iepriekš lietotas vai atjaunotas sastāvdaļas vai komponentes;
A14: 7) | C14: Piedāvājumam jāpievieno Preces ražotāja izsniegta autorizācijas vēstule, kas apliecina, ka pretendents tiesīgs izplatīt un nodrošināt servisu (ja paredzēts) piedāvātai Precei Latvijas Republikā;
A15: 8) | C15: Pēc pasūtītāja pieprasījuma piegādātājam jānodrošina Preces paraugs;
A16: 9) | C16: Paredzamais daudzums tiek izmantots pretendentu finanšu piedāvājumu objektīvai vērtēšanai. Līgumi tiek slēgti par vienas vienības cenu, nosakot visa iepirkuma kopējo apjomu naudas izteiksmē un nenosakot katras pozīcijas apjomu.
A17: 10) | C17: Piedāvājumam jāpievieno piedāvātas Preces EK atbilstības deklarācijas kopija atbilstoši regulas 2017/745 prasībām un CE sertifikāta kopija (ja ražotājs noteicis ierīču klasi: I klases sterilas ierīces un I klases ierīces ar mērīšanas funkciju, IIa, IIb vai III klases ierīces), norādot attiecīgajā ailē medicīnas ierīces klasi saskaņā ar EK atbilstības deklarācijas datiem - ja attiecas;
A19: Nr.p.k. | C19: Preces nosaukums, veicamās funkcijas, tehniskās prasības | D19: Pretendenta piedāvātie parametri* | F19: Atsauce uz informatīvo materiālu**
A20: 22. | C20: Bumba vingrošanas vidēja
C21: Veicamās funkcijas:
A22: =$A$20 -> 22. | B22: 1 | C22: Profesionālā vingrošanas bumba fizioterapijas un rehabilitācijas nodarbībām
C23: Tehniskās prasības:
A24: =$A$20 -> 22. | B24: 2 | C24: Bumbas diametrs: Ø16 ± 3 cm
A25: =$A$20 -> 22. | B25: 3 | C25: Bumbas svars: 150 g ± 5 g
A26: =$A$20 -> 22. | B26: 4 | C26: Viegli tīrama un dezinficējama
A27: =$A$20 -> 22. | B27: 5 | C27: Komplektā pumpis
A28: =$A$20 -> 22. | B28: 6 | C28: Maksimālā slodze ne mazāk kā 120 kg
A29: =$A$20 -> 22. | B29: 7 | C29: Pieejamas dažādās krāsās, pirms piegādes krāsu saskaņot ar pasūtītāju
A30: =$A$20 -> 22. | B30: 8 | C30: Informatīvs attēls
C31: Konfigurācijas: | D31: Pretendenta piedāvātie parametri*: | E31: Preces modelis, kods, ražotājs: | F31: Paredzamais daudzums (gab.): | G31: 1 vienības cena bez PVN, EUR:
A32: =$A$20 -> 22. | B32: 9 | C32: Bumba vingrošanas Ø16 | F32: 1
F33: KOPĒJĀ CENA bez PVN, EUR: | G33: =G32 -> 0
C34: EKK: | D34: 23121

Sheet 23.
G1: Nolikuma
G2: 2. pielikums
A3: Tehniskā specifikācija/Tehniskais-finanšu piedāvājums
A4: Rehabilitācijas un fizioterapijas mazvērtīgā inventāra piegāde
A6: 23.pozicīja "Bumba vingrošanas Ø96"
C7: Tehniskās specifikācijas aktualizācijas datums 09.07.2026.
A8: 1) | C8: Finanšu piedāvājumā pretendentam jāietver visi izdevumi un izmaksas, kas saistītas ar Preces piegādi un transportu;
A9: 2) | C9: Piegāde 4 nedēļu laikā no pasūtījuma;
A10: 3) | C10: Piedāvātajām Precēm garantijas termiņš (nosaka Pretendents) ir ___ (______________) mēneši no pavadzīmes-rēķina abpusējas parakstīšanas brīža, bet ne mazāk kā 12 mēneši;
A11: 4) | C11: * Pretendenta tehniskajā piedāvājumā norāda Preces ražotāju un modeli atbilstošos parametrus;
A12: 5) | C12: ** Parametru atbilstību pamatot ar norādi uz tehniskajām datu lapām ("data sheet'') jeb informatīviem materiāliem, kas apliecina atbilstību (oriģinālvalodā un tulkojumi valsts valodā), norādot atsauci tehniskajā piedāvājumā uz konkrēto lapaspusi. Informatīvajos materiālos pretendents atzīmē uz kuru iepirkuma tehniskās specifikācijas pozīciju pievienotā informācija attiecināma;
A13: 6) | C13: Visas piedāvātās Preces ir jaunas (ražotas ne vēlāk kā 12 mēnešu laikā no pasūtījuma brīža), iepriekš nelietotas un nesatur iepriekš lietotas vai atjaunotas sastāvdaļas vai komponentes;
A14: 7) | C14: Piedāvājumam jāpievieno Preces ražotāja izsniegta autorizācijas vēstule, kas apliecina, ka pretendents tiesīgs izplatīt un nodrošināt servisu (ja paredzēts) piedāvātai Precei Latvijas Republikā;
A15: 8) | C15: Pēc pasūtītāja pieprasījuma piegādātājam jānodrošina Preces paraugs;
A16: 9) | C16: Paredzamais daudzums tiek izmantots pretendentu finanšu piedāvājumu objektīvai vērtēšanai. Līgumi tiek slēgti par vienas vienības cenu, nosakot visa iepirkuma kopējo apjomu naudas izteiksmē un nenosakot katras pozīcijas apjomu.
A17: 10) | C17: Piedāvājumam jāpievieno piedāvātas Preces EK atbilstības deklarācijas kopija atbilstoši regulas 2017/745 prasībām un CE sertifikāta kopija (ja ražotājs noteicis ierīču klasi: I klases sterilas ierīces un I klases ierīces ar mērīšanas funkciju, IIa, IIb vai III klases ierīces), norādot attiecīgajā ailē medicīnas ierīces klasi saskaņā ar EK atbilstības deklarācijas datiem - ja attiecas;
A19: Nr.p.k. | C19: Preces nosaukums, veicamās funkcijas, tehniskās prasības | D19: Pretendenta piedāvātie parametri* | F19: Atsauce uz informatīvo materiālu**
A20: 23. | C20: Bumba vingrošanas Ø96
C21: Veicamās funkcijas:
A22: =$A$20 -> 23. | B22: 1 | C22: Profesionālā vingrošanas bumba fizioterapijas un rehabilitācijas nodarbībām
C23: Tehniskās prasības:
A24: =$A$20 -> 23. | B24: 2 | C24: Bumbas diametrs: Ø96 ± 1 cm
A25: =$A$20 -> 23. | B25: 3 | C25: Nesatur lateksu
A26: =$A$20 -> 23. | B26: 4 | C26: Viegli tīrama un dezinficējama
A27: =$A$20 -> 23. | B27: 5 | C27: Komplektā ar piepūšanas aprīkojumu
A28: =$A$20 -> 23. | B28: 6 | C28: Maksimālā slodze ne mazāk kā 200 kg
A29: =$A$20 -> 23. | B29: 7 | C29: Pieejamas dažādās krāsās, pirms piegādes krāsu saskaņot ar pasūtītāju
A30: =$A$20 -> 23. | B30: 8 | C30: Informatīvs attēls
C31: Konfigurācijas: | D31: Pretendenta piedāvātie parametri*: | E31: Preces modelis, kods, ražotājs: | F31: Paredzamais daudzums (gab.): | G31: 1 vienības cena bez PVN, EUR:
A32: =$A$20 -> 23. | B32: 9 | C32: Bumba vingrošanas Ø96 | F32: 1
F33: KOPĒJĀ CENA bez PVN, EUR: | G33: =G32 -> 0
C34: EKK: | D34: 23121

Sheet 24.
G1: Nolikuma
G2: 2. pielikums
A3: Tehniskā specifikācija/Tehniskais-finanšu piedāvājums
A4: Rehabilitācijas un fizioterapijas mazvērtīgā inventāra piegāde
A6: 24.pozicīja "Treniņlaukums tapu pusapļa"
C7: Tehniskās specifikācijas aktualizācijas datums 09.07.2026.
A8: 1) | C8: Finanšu piedāvājumā pretendentam jāietver visi izdevumi un izmaksas, kas saistītas ar Preces piegādi un transportu;
A9: 2) | C9: Piegāde 4 nedēļu laikā no pasūtījuma;
A10: 3) | C10: Piedāvātajām Precēm garantijas termiņš (nosaka Pretendents) ir ___ (______________) mēneši no pavadzīmes-rēķina abpusējas parakstīšanas brīža, bet ne mazāk kā 12 mēneši;
A11: 4) | C11: * Pretendenta tehniskajā piedāvājumā norāda Preces ražotāju un modeli atbilstošos parametrus;
A12: 5) | C12: ** Parametru atbilstību pamatot ar norādi uz tehniskajām datu lapām ("data sheet'') jeb informatīviem materiāliem, kas apliecina atbilstību (oriģinālvalodā un tulkojumi valsts valodā), norādot atsauci tehniskajā piedāvājumā uz konkrēto lapaspusi. Informatīvajos materiālos pretendents atzīmē uz kuru iepirkuma tehniskās specifikācijas pozīciju pievienotā informācija attiecināma;
A13: 6) | C13: Visas piedāvātās Preces ir jaunas (ražotas ne vēlāk kā 12 mēnešu laikā no pasūtījuma brīža), iepriekš nelietotas un nesatur iepriekš lietotas vai atjaunotas sastāvdaļas vai komponentes;
A14: 7) | C14: Piedāvājumam jāpievieno Preces ražotāja izsniegta autorizācijas vēstule, kas apliecina, ka pretendents tiesīgs izplatīt un nodrošināt servisu (ja paredzēts) piedāvātai Precei Latvijas Republikā;
A15: 8) | C15: Pēc pasūtītāja pieprasījuma piegādātājam jānodrošina Preces paraugs;
A16: 9) | C16: Paredzamais daudzums tiek izmantots pretendentu finanšu piedāvājumu objektīvai vērtēšanai. Līgumi tiek slēgti par vienas vienības cenu, nosakot visa iepirkuma kopējo apjomu naudas izteiksmē un nenosakot katras pozīcijas apjomu.
A17: 10) | C17: Piedāvājumam jāpievieno piedāvātas Preces EK atbilstības deklarācijas kopija atbilstoši regulas 2017/745 prasībām un CE sertifikāta kopija (ja ražotājs noteicis ierīču klasi: I klases sterilas ierīces un I klases ierīces ar mērīšanas funkciju, IIa, IIb vai III klases ierīces), norādot attiecīgajā ailē medicīnas ierīces klasi saskaņā ar EK atbilstības deklarācijas datiem - ja attiecas;
A19: Nr.p.k. | C19: Preces nosaukums, veicamās funkcijas, tehniskās prasības | D19: Pretendenta piedāvātie parametri* | F19: Atsauce uz informatīvo materiālu**
A20: 24. | C20: Treniņlaukums tapu pusapļa
C21: Veicamās funkcijas:
A22: =$A$20 -> 24. | B22: 1 | C22: Rokas terapijai, rehabilitācijai, kognitīvo funkciju treniņam
C23: Tehniskās prasības:
A24: =$A$20 -> 24. | B24: 2 | C24: Pusapļa treniņlaukums aprīkots ar tapām
A25: =$A$20 -> 24. | B25: 3 | C25: Daudzreizlietojams
A26: =$A$20 -> 24. | B26: 4 | C26: Komplektā ne mazāk kā 40 tapas
A27: =$A$20 -> 24. | B27: 5 | C27: Treniņlaukums satur ne mazāk kā 3 spraudņu joslas
A28: =$A$20 -> 24. | B28: 6 | C28: Tapas ne mazāk kā 3 dažādos
A29: =$A$20 -> 24. | B29: 7 | C29: Tapu diametri iekļaujas robežās no 1 līdz 6 mm vai plašāk
A30: =$A$20 -> 24. | B30: 8 | C30: Materiāls plastmasa
A31: =$A$20 -> 24. | B31: 9 | C31: Dezinficējams
A32: =$A$20 -> 24. | B32: 10 | C32: Informatīvs attēls
C33: Konfigurācijas: | D33: Pretendenta piedāvātie parametri*: | E33: Preces modelis, kods, ražotājs: | F33: Paredzamais daudzums (gab.): | G33: 1 vienības cena bez PVN, EUR:
A34: =$A$20 -> 24. | B34: 11 | C34: Treniņlaukums tapu pusapļa | F34: 1
F35: KOPĒJĀ CENA bez PVN, EUR: | G35: =G34 -> 0
C36: EKK: | D36: 23121

Sheet 25.
G1: Nolikuma
G2: 2. pielikums
A3: Tehniskā specifikācija/Tehniskais-finanšu piedāvājums
A4: Rehabilitācijas un fizioterapijas mazvērtīgā inventāra piegāde
A6: 25.pozicīja "Tests 9 caurumiņu tapu"
C7: Tehniskās specifikācijas aktualizācijas datums 09.07.2026.
A8: 1) | C8: Finanšu piedāvājumā pretendentam jāietver visi izdevumi un izmaksas, kas saistītas ar Preces piegādi un transportu;
A9: 2) | C9: Piegāde 4 nedēļu laikā no pasūtījuma;
A10: 3) | C10: Piedāvātajām Precēm garantijas termiņš (nosaka Pretendents) ir ___ (______________) mēneši no pavadzīmes-rēķina abpusējas parakstīšanas brīža, bet ne mazāk kā 12 mēneši;
A11: 4) | C11: * Pretendenta tehniskajā piedāvājumā norāda Preces ražotāju un modeli atbilstošos parametrus;
A12: 5) | C12: ** Parametru atbilstību pamatot ar norādi uz tehniskajām datu lapām ("data sheet'') jeb informatīviem materiāliem, kas apliecina atbilstību (oriģinālvalodā un tulkojumi valsts valodā), norādot atsauci tehniskajā piedāvājumā uz konkrēto lapaspusi. Informatīvajos materiālos pretendents atzīmē uz kuru iepirkuma tehniskās specifikācijas pozīciju pievienotā informācija attiecināma;
A13: 6) | C13: Visas piedāvātās Preces ir jaunas (ražotas ne vēlāk kā 12 mēnešu laikā no pasūtījuma brīža), iepriekš nelietotas un nesatur iepriekš lietotas vai atjaunotas sastāvdaļas vai komponentes;
A14: 7) | C14: Piedāvājumam jāpievieno Preces ražotāja izsniegta autorizācijas vēstule, kas apliecina, ka pretendents tiesīgs izplatīt un nodrošināt servisu (ja paredzēts) piedāvātai Precei Latvijas Republikā;
A15: 8) | C15: Pēc pasūtītāja pieprasījuma piegādātājam jānodrošina Preces paraugs;
A16: 9) | C16: Paredzamais daudzums tiek izmantots pretendentu finanšu piedāvājumu objektīvai vērtēšanai. Līgumi tiek slēgti par vienas vienības cenu, nosakot visa iepirkuma kopējo apjomu naudas izteiksmē un nenosakot katras pozīcijas apjomu.
A17: 10) | C17: Piedāvājumam jāpievieno piedāvātas Preces EK atbilstības deklarācijas kopija atbilstoši regulas 2017/745 prasībām un CE sertifikāta kopija (ja ražotājs noteicis ierīču klasi: I klases sterilas ierīces un I klases ierīces ar mērīšanas funkciju, IIa, IIb vai III klases ierīces), norādot attiecīgajā ailē medicīnas ierīces klasi saskaņā ar EK atbilstības deklarācijas datiem - ja attiecas;
A19: Nr.p.k. | C19: Preces nosaukums, veicamās funkcijas, tehniskās prasības | D19: Pretendenta piedāvātie parametri* | F19: Atsauce uz informatīvo materiālu**
A20: 25. | C20: Tests 9 caurumiņu tapu
C21: Veicamās funkcijas:
A22: =$A$20 -> 25. | B22: 1 | C22: Motorikas un attīstīšanai un neirokognitīvo traucējumu diagnosticēšanai
C23: Tehniskās prasības:
A24: =$A$20 -> 25. | B24: 2 | C24: Testa laukums aprīkots ar 9 tapām
A25: =$A$20 -> 25. | B25: 3 | C25: Daudzreizlietojams
A26: =$A$20 -> 25. | B26: 4 | C26: Testa laukums ar iestrādātiem 9 urbumiem
A27: =$A$20 -> 25. | B27: 5 | C27: Dezinficējams
A28: 25. | B28: 6 | C28: Informatīvs attēls
C29: Konfigurācijas: | D29: Pretendenta piedāvātie parametri*: | E29: Preces modelis, kods, ražotājs: | F29: Paredzamais daudzums (gab.): | G29: 1 vienības cena bez PVN, EUR:
A30: =$A$20 -> 25. | B30: 7 | C30: Tests 9 caurumiņu tapu | F30: 1
F31: KOPĒJĀ CENA bez PVN, EUR: | G31: =G30 -> 0
C32: EKK: | D32: 23121

Sheet 26.
G1: Nolikuma
G2: 2. pielikums
A3: Tehniskā specifikācija/Tehniskais-finanšu piedāvājums
A4: Rehabilitācijas un fizioterapijas mazvērtīgā inventāra piegāde
A6: 26.pozicīja "Bumba vingrošanas Ø23"
C7: Tehniskās specifikācijas aktualizācijas datums 28.07.2026.
A8: 1) | C8: Finanšu piedāvājumā pretendentam jāietver visi izdevumi un izmaksas, kas saistītas ar Preces piegādi un transportu;
A9: 2) | C9: Piegāde 4 nedēļu laikā no pasūtījuma;
A10: 3) | C10: Piedāvātajām Precēm garantijas termiņš (nosaka Pretendents) ir ___ (______________) mēneši no pavadzīmes-rēķina abpusējas parakstīšanas brīža, bet ne mazāk kā 12 mēneši;
A11: 4) | C11: * Pretendenta tehniskajā piedāvājumā norāda Preces ražotāju un modeli atbilstošos parametrus;
A12: 5) | C12: ** Parametru atbilstību pamatot ar norādi uz tehniskajām datu lapām ("data sheet'') jeb informatīviem materiāliem, kas apliecina atbilstību (oriģinālvalodā un tulkojumi valsts valodā), norādot atsauci tehniskajā piedāvājumā uz konkrēto lapaspusi. Informatīvajos materiālos pretendents atzīmē uz kuru iepirkuma tehniskās specifikācijas pozīciju pievienotā informācija attiecināma;
A13: 6) | C13: Visas piedāvātās Preces ir jaunas (ražotas ne vēlāk kā 12 mēnešu laikā no pasūtījuma brīža), iepriekš nelietotas un nesatur iepriekš lietotas vai atjaunotas sastāvdaļas vai komponentes;
A14: 7) | C14: Piedāvājumam jāpievieno Preces ražotāja izsniegta autorizācijas vēstule, kas apliecina, ka pretendents tiesīgs izplatīt un nodrošināt servisu (ja paredzēts) piedāvātai Precei Latvijas Republikā;
A15: 8) | C15: Pēc pasūtītāja pieprasījuma piegādātājam jānodrošina Preces paraugs;
A16: 9) | C16: Paredzamais daudzums tiek izmantots pretendentu finanšu piedāvājumu objektīvai vērtēšanai. Līgumi tiek slēgti par vienas vienības cenu, nosakot visa iepirkuma kopējo apjomu naudas izteiksmē un nenosakot katras pozīcijas apjomu.
A17: 10) | C17: Piedāvājumam jāpievieno piedāvātas Preces EK atbilstības deklarācijas kopija atbilstoši regulas 2017/745 prasībām un CE sertifikāta kopija (ja ražotājs noteicis ierīču klasi: I klases sterilas ierīces un I klases ierīces ar mērīšanas funkciju, IIa, IIb vai III klases ierīces), norādot attiecīgajā ailē medicīnas ierīces klasi saskaņā ar EK atbilstības deklarācijas datiem - ja attiecas;
A19: Nr.p.k. | C19: Preces nosaukums, veicamās funkcijas, tehniskās prasības | D19: Pretendenta piedāvātie parametri* | F19: Atsauce uz informatīvo materiālu**
A20: 26. | C20: Bumba vingrošanas Ø23
C21: Veicamās funkcijas:
A22: =$A$20 -> 26. | B22: 1 | C22: Profesionālā vingrošanas bumba fizioterapijas un rehabilitācijas nodarbībām
C23: Tehniskās prasības:
A24: =$A$20 -> 26. | B24: 2 | C24: Bumbas diametrs: Ø23 ± 2 cm
A25: =$A$20 -> 26. | B25: 3 | C25: Nesatur lateksu
A26: =$A$20 -> 26. | B26: 4 | C26: Komplektā ar piepūšanas aprīkojumu
A27: =$A$20 -> 26. | B27: 5 | C27: Viegli tīrama un dezinficējama
A28: =$A$20 -> 26. | B28: 6 | C28: Svara izturība vismaz 120 kg
A29: =$A$20 -> 26. | B29: 7 | C29: Pieejamas dažādās krāsās, pirms piegādes krāsu saskaņot ar pasūtītāju
A30: =$A$20 -> 26. | B30: 8 | C30: Informatīvs attēls
C31: Konfigurācijas: | D31: Pretendenta piedāvātie parametri*: | E31: Preces modelis, kods, ražotājs: | F31: Paredzamais daudzums (gab.): | G31: 1 vienības cena bez PVN, EUR:
A32: =$A$20 -> 26. | B32: 8 | C32: Bumba vingrošanas Ø22 | F32: 4
F33: KOPĒJĀ CENA bez PVN, EUR: | G33: =G32*F32 -> 0
C34: EKK: | D34: 23121

Sheet 27.
G1: Nolikuma
G2: 2. pielikums
A3: Tehniskā specifikācija/Tehniskais-finanšu piedāvājums
A4: Rehabilitācijas un fizioterapijas mazvērtīgā inventāra piegāde
A6: 27.pozicīja "Vingrošanas paklājs"
C7: Tehniskās specifikācijas aktualizācijas datums 09.07.2026.
A8: 1) | C8: Finanšu piedāvājumā pretendentam jāietver visi izdevumi un izmaksas, kas saistītas ar Preces piegādi un transportu;
A9: 2) | C9: Piegāde 4 nedēļu laikā no pasūtījuma;
A10: 3) | C10: Piedāvātajām Precēm garantijas termiņš (nosaka Pretendents) ir ___ (______________) mēneši no pavadzīmes-rēķina abpusējas parakstīšanas brīža, bet ne mazāk kā 12 mēneši;
A11: 4) | C11: * Pretendenta tehniskajā piedāvājumā norāda Preces ražotāju un modeli atbilstošos parametrus;
A12: 5) | C12: ** Parametru atbilstību pamatot ar norādi uz tehniskajām datu lapām ("data sheet'') jeb informatīviem materiāliem, kas apliecina atbilstību (oriģinālvalodā un tulkojumi valsts valodā), norādot atsauci tehniskajā piedāvājumā uz konkrēto lapaspusi. Informatīvajos materiālos pretendents atzīmē uz kuru iepirkuma tehniskās specifikācijas pozīciju pievienotā informācija attiecināma;
A13: 6) | C13: Visas piedāvātās Preces ir jaunas (ražotas ne vēlāk kā 12 mēnešu laikā no pasūtījuma brīža), iepriekš nelietotas un nesatur iepriekš lietotas vai atjaunotas sastāvdaļas vai komponentes;
A14: 7) | C14: Piedāvājumam jāpievieno Preces ražotāja izsniegta autorizācijas vēstule, kas apliecina, ka pretendents tiesīgs izplatīt un nodrošināt servisu (ja paredzēts) piedāvātai Precei Latvijas Republikā;
A15: 8) | C15: Pēc pasūtītāja pieprasījuma piegādātājam jānodrošina Preces paraugs;
A16: 9) | C16: Paredzamais daudzums tiek izmantots pretendentu finanšu piedāvājumu objektīvai vērtēšanai. Līgumi tiek slēgti par vienas vienības cenu, nosakot visa iepirkuma kopējo apjomu naudas izteiksmē un nenosakot katras pozīcijas apjomu.
A17: 10) | C17: Piedāvājumam jāpievieno piedāvātas Preces EK atbilstības deklarācijas kopija atbilstoši regulas 2017/745 prasībām un CE sertifikāta kopija (ja ražotājs noteicis ierīču klasi: I klases sterilas ierīces un I klases ierīces ar mērīšanas funkciju, IIa, IIb vai III klases ierīces), norādot attiecīgajā ailē medicīnas ierīces klasi saskaņā ar EK atbilstības deklarācijas datiem - ja attiecas;
A19: Nr.p.k. | C19: Preces nosaukums, veicamās funkcijas, tehniskās prasības | D19: Pretendenta piedāvātie parametri* | F19: Atsauce uz informatīvo materiālu**
A20: 27. | C20: Vingrošanas paklājs
C21: Veicamās funkcijas:
A22: =$A$20 -> 27. | B22: 1 | C22: Profesionālais vingrošanas paklājs fizioterapijas un rehabilitācijas nodarbībām
C23: Tehniskās prasības:
A24: =$A$20 -> 27. | B24: 2 | C24: Izmēri (garums x platums) 185 x 60 cm ± 5%, augstums vismaz 1,5 cm
A25: =$A$20 -> 27. | B25: 3 | C25: Šūnveida struktūra, 90 % sastāv no gaisa
A26: =$A$20 -> 27. | B26: 4 | C26: Profilēta virsma no abām pusēm, kas nodrošina ķermeņa siltuma atstarošanu un novērš slīdēšanu
A27: =$A$20 -> 27. | B27: 5 | C27: Slodzes dēļ neveidojas "atmiņas bedrītes"
A28: =$A$20 -> 27. | B28: 6 | C28: Paredzēts mazgāšanai un dezinfekcijai
A29: =$A$20 -> 27. | B29: 7 | C29: Ar antibakteriālo pārklājumu
A30: =$A$20 -> 27. | B30: 8 | C30: Izmantojams iekštelpās, āra apstākļos un saskarē ar ūdeni
A31: =$A$20 -> 27. | B31: 9 | C31: Pieejamas dažādās krāsās, pirms piegādes krāsu saskaņot ar pasūtītāju
A32: =$A$20 -> 27. | B32: 10 | C32: Informatīvs attēls
C33: Konfigurācijas: | D33: Pretendenta piedāvātie parametri*: | E33: Preces modelis, kods, ražotājs: | F33: Paredzamais daudzums (kaste): | G33: 1 vienības cena bez PVN, EUR:
A34: =$A$20 -> 27. | B34: 11 | C34: Vingrošanas paklājs | F34: 1
F35: KOPĒJĀ CENA bez PVN, EUR: | G35: =G34 -> 0
C36: EKK: | D36: 23121

Sheet 28.
G1: Nolikuma
G2: 2. pielikums
A3: Tehniskā specifikācija/Tehniskais-finanšu piedāvājums
A4: Rehabilitācijas un fizioterapijas mazvērtīgā inventāra piegāde
A6: 28.pozicīja "Trīse pleca"
C7: Tehniskās specifikācijas aktualizācijas datums 09.07.2026.
A8: 1) | C8: Finanšu piedāvājumā pretendentam jāietver visi izdevumi un izmaksas, kas saistītas ar Preces piegādi un transportu;
A9: 2) | C9: Piegāde 4 nedēļu laikā no pasūtījuma;
A10: 3) | C10: Piedāvātajām Precēm garantijas termiņš (nosaka Pretendents) ir ___ (______________) mēneši no pavadzīmes-rēķina abpusējas parakstīšanas brīža, bet ne mazāk kā 12 mēneši;
A11: 4) | C11: * Pretendenta tehniskajā piedāvājumā norāda Preces ražotāju un modeli atbilstošos parametrus;
A12: 5) | C12: ** Parametru atbilstību pamatot ar norādi uz tehniskajām datu lapām ("data sheet'') jeb informatīviem materiāliem, kas apliecina atbilstību (oriģinālvalodā un tulkojumi valsts valodā), norādot atsauci tehniskajā piedāvājumā uz konkrēto lapaspusi. Informatīvajos materiālos pretendents atzīmē uz kuru iepirkuma tehniskās specifikācijas pozīciju pievienotā informācija attiecināma;
A13: 6) | C13: Visas piedāvātās Preces ir jaunas (ražotas ne vēlāk kā 12 mēnešu laikā no pasūtījuma brīža), iepriekš nelietotas un nesatur iepriekš lietotas vai atjaunotas sastāvdaļas vai komponentes;
A14: 7) | C14: Piedāvājumam jāpievieno Preces ražotāja izsniegta autorizācijas vēstule, kas apliecina, ka pretendents tiesīgs izplatīt un nodrošināt servisu (ja paredzēts) piedāvātai Precei Latvijas Republikā;
A15: 8) | C15: Pēc pasūtītāja pieprasījuma piegādātājam jānodrošina Preces paraugs;
A16: 9) | C16: Paredzamais daudzums tiek izmantots pretendentu finanšu piedāvājumu objektīvai vērtēšanai. Līgumi tiek slēgti par vienas vienības cenu, nosakot visa iepirkuma kopējo apjomu naudas izteiksmē un nenosakot katras pozīcijas apjomu.
A17: 10) | C17: Piedāvājumam jāpievieno piedāvātas Preces EK atbilstības deklarācijas kopija atbilstoši regulas 2017/745 prasībām un CE sertifikāta kopija (ja ražotājs noteicis ierīču klasi: I klases sterilas ierīces un I klases ierīces ar mērīšanas funkciju, IIa, IIb vai III klases ierīces), norādot attiecīgajā ailē medicīnas ierīces klasi saskaņā ar EK atbilstības deklarācijas datiem - ja attiecas;
A19: Nr.p.k. | C19: Preces nosaukums, veicamās funkcijas, tehniskās prasības | D19: Pretendenta piedāvātie parametri* | F19: Atsauce uz informatīvo materiālu**
A20: 28. | C20: Trīse pleca
C21: Veicamās funkcijas:
A22: =$A$20 -> 28. | B22: 1 | C22: Pleca locītavu diapazona veiktspējas atgūšanai
C23: Tehniskās prasības:
A24: =$A$20 -> 28. | B24: 2 | C24: Konstrukcija paredzēta aizāķēšanai pie zviedru sienas
A25: =$A$20 -> 28. | B25: 3 | C25: Daudzreizlietojams
A26: =$A$20 -> 28. | B26: 4 | C26: Ergonomiski rokturi
A27: =$A$20 -> 28. | B27: 5 | C27: Materiāls rokturu no koka vai cita, kas izturīgs pret dezinfekcijas līdzekļiem
A28: =$A$20 -> 28. | B28: 6 | C28: Vingrošanas trīsei krāsu sadalījums vai numerācija kustību diapazonos (vai citādāka indikācija)
A29: =$A$20 -> 28. | B29: 7 | C29: Dezinficējams
A30: =$A$20 -> 28. | B30: 8 | C30: Informatīvs attēls
C31: Konfigurācijas: | D31: Pretendenta piedāvātie parametri*: | E31: Preces modelis, kods, ražotājs: | F31: Paredzamais daudzums (gab.): | G31: 1 vienības cena bez PVN, EUR:
A32: =$A$20 -> 28. | B32: 9 | C32: Trīse pleca | F32: 3
F33: KOPĒJĀ CENA bez PVN, EUR: | G33: =F32*G32 -> 0
C34: EKK: | D34: 23121

Sheet 29.
G1: Nolikuma
G2: 2. pielikums
A3: Tehniskā specifikācija/Tehniskais-finanšu piedāvājums
A4: Rehabilitācijas un fizioterapijas mazvērtīgā inventāra piegāde
A6: 29.pozicīja "Pamatne pozicionēšanas rokas terapijai"
C7: Tehniskās specifikācijas aktualizācijas datums 09.07.2026.
A8: 1) | C8: Finanšu piedāvājumā pretendentam jāietver visi izdevumi un izmaksas, kas saistītas ar Preces piegādi un transportu;
A9: 2) | C9: Piegāde 4 nedēļu laikā no pasūtījuma;
A10: 3) | C10: Piedāvātajām Precēm garantijas termiņš (nosaka Pretendents) ir ___ (______________) mēneši no pavadzīmes-rēķina abpusējas parakstīšanas brīža, bet ne mazāk kā 12 mēneši;
A11: 4) | C11: * Pretendenta tehniskajā piedāvājumā norāda Preces ražotāju un modeli atbilstošos parametrus;
A12: 5) | C12: ** Parametru atbilstību pamatot ar norādi uz tehniskajām datu lapām ("data sheet'') jeb informatīviem materiāliem, kas apliecina atbilstību (oriģinālvalodā un tulkojumi valsts valodā), norādot atsauci tehniskajā piedāvājumā uz konkrēto lapaspusi. Informatīvajos materiālos pretendents atzīmē uz kuru iepirkuma tehniskās specifikācijas pozīciju pievienotā informācija attiecināma;
A13: 6) | C13: Visas piedāvātās Preces ir jaunas (ražotas ne vēlāk kā 12 mēnešu laikā no pasūtījuma brīža), iepriekš nelietotas un nesatur iepriekš lietotas vai atjaunotas sastāvdaļas vai komponentes;
A14: 7) | C14: Piedāvājumam jāpievieno Preces ražotāja izsniegta autorizācijas vēstule, kas apliecina, ka pretendents tiesīgs izplatīt un nodrošināt servisu (ja paredzēts) piedāvātai Precei Latvijas Republikā;
A15: 8) | C15: Pēc pasūtītāja pieprasījuma piegādātājam jānodrošina Preces paraugs;
A16: 9) | C16: Paredzamais daudzums tiek izmantots pretendentu finanšu piedāvājumu objektīvai vērtēšanai. Līgumi tiek slēgti par vienas vienības cenu, nosakot visa iepirkuma kopējo apjomu naudas izteiksmē un nenosakot katras pozīcijas apjomu.
A17: 10) | C17: Piedāvājumam jāpievieno piedāvātas Preces EK atbilstības deklarācijas kopija atbilstoši regulas 2017/745 prasībām un CE sertifikāta kopija (ja ražotājs noteicis ierīču klasi: I klases sterilas ierīces un I klases ierīces ar mērīšanas funkciju, IIa, IIb vai III klases ierīces), norādot attiecīgajā ailē medicīnas ierīces klasi saskaņā ar EK atbilstības deklarācijas datiem - ja attiecas;
A19: Nr.p.k. | C19: Preces nosaukums, veicamās funkcijas, tehniskās prasības | D19: Pretendenta piedāvātie parametri* | F19: Atsauce uz informatīvo materiālu**
A20: 29. | C20: Pamatne pozicionēšanas rokas terapijai
C21: Veicamās funkcijas:
A22: =$A$20 -> 29. | B22: 1 | C22: Rokas pirkstu un īkšķu abdukcijas un izliekuma trenēšanai
C23: Tehniskās prasības:
A24: =$A$20 -> 29. | B24: 2 | C24: Daudzreizlietojams
A25: =$A$20 -> 29. | B25: 3 | C25: Roku un plaukstu stabilu nostiprināšanu nodrošina jostu fiksācija ar velkro vai pogām
A26: =$A$20 -> 29. | B26: 4 | C26: Izturīgas jostu stiprināšanas vietas
A27: =$A$20 -> 29. | B27: 5 | C27: Dezinficējams
A28: =$A$20 -> 29. | B28: 6 | C28: Informatīvs attēls
C29: Konfigurācijas: | D29: Pretendenta piedāvātie parametri*: | E29: Preces modelis, kods, ražotājs: | F29: Paredzamais daudzums (gab.): | G29: 1 vienības cena bez PVN, EUR:
A30: =$A$20 -> 29. | B30: 7 | C30: Pamatne pozicionēšanas labās rokas terapijai | F30: 1
A31: =$A$20 -> 29. | B31: 8 | C31: Pamatne pozicionēšanas kreisās rokas terapijai | F31: 1
F32: KOPĒJĀ CENA bez PVN, EUR: | G32: =G30+G31 -> 0
C33: EKK: | D33: 23121

Sheet 30.
G1: Nolikuma
G2: 2. pielikums
A3: Tehniskā specifikācija/Tehniskais-finanšu piedāvājums
A4: Rehabilitācijas un fizioterapijas mazvērtīgā inventāra piegāde
A6: 30.pozicīja "Švambumba"
C7: Tehniskās specifikācijas aktualizācijas datums 09.07.2026.
A8: 1) | C8: ='1.'!C8:G8 -> Finanšu piedāvājumā pretendentam jāietver visi izdevumi un izmaksas, kas saistītas ar Preces piegādi un transportu;
A9: 2) | C9: ='1.'!C9:G9 -> Piegāde 4 nedēļu laikā no pasūtījuma;
A10: 3) | C10: Piedāvātajām Precēm garantijas termiņš (nosaka Pretendents) ir ___ (______________) mēneši no pavadzīmes-rēķina abpusējas parakstīšanas brīža, bet ne mazāk kā 12 mēneši;
A11: 4) | C11: ='1.'!C11:G11 -> * Pretendenta tehniskajā piedāvājumā norāda Preces ražotāju un modeli atbilstošos parametrus;
A12: 5) | C12: ='1.'!C12:G12 -> ** Parametru atbilstību pamatot ar norādi uz tehniskajām datu lapām ("data sheet'') jeb informatīviem materiāliem, kas apliecina atbilstību (oriģinālvalodā un tulkojumi valsts valodā), norādot atsauci tehniskajā piedāvājumā uz konkrēto lapaspusi. Informatīvajos materiālos pretendents atzīmē uz kuru iepirkuma tehniskās specifikācijas pozīciju pievienotā informācija attiecināma;
A13: 6) | C13: ='1.'!C13:G13 -> Visas piedāvātās Preces ir jaunas (ražotas ne vēlāk kā 12 mēnešu laikā no pasūtījuma brīža), iepriekš nelietotas un nesatur iepriekš lietotas vai atjaunotas sastāvdaļas vai komponentes;
A14: 7) | C14: ='1.'!C14:G14 -> Piedāvājumam jāpievieno Preces ražotāja izsniegta autorizācijas vēstule, kas apliecina, ka pretendents tiesīgs izplatīt un nodrošināt servisu (ja paredzēts) piedāvātai Precei Latvijas Republikā;
A15: 8) | C15: ='1.'!C15:G15 -> Pēc pasūtītāja pieprasījuma piegādātājam jānodrošina Preces paraugs;
A16: 9) | C16: ='1.'!C16:G16 -> Paredzamais daudzums tiek izmantots pretendentu finanšu piedāvājumu objektīvai vērtēšanai. Līgumi tiek slēgti par vienas vienības cenu, nosakot visa iepirkuma kopējo apjomu naudas izteiksmē un nenosakot katras pozīcijas apjomu.
A17: 10) | C17: Piedāvājumam jāpievieno piedāvātas Preces EK atbilstības deklarācijas kopija atbilstoši regulas 2017/745 prasībām un CE sertifikāta kopija (ja ražotājs noteicis ierīču klasi: I klases sterilas ierīces un I klases ierīces ar mērīšanas funkciju, IIa, IIb vai III klases ierīces), norādot attiecīgajā ailē medicīnas ierīces klasi saskaņā ar EK atbilstības deklarācijas datiem - ja attiecas;
A19: Nr.p.k. | C19: Preces nosaukums, veicamās funkcijas, tehniskās prasības | D19: Pretendenta piedāvātie parametri* | F19: Atsauce uz informatīvo materiālu**
A20: 30. | C20: Švambumba
C21: Veicamas funkcijas:
A22: 30. | B22: 1 | C22: Švambumba paredzēta pirkstu, roku un apakšdelnas muskuļu trenēšanai, palīdz samazināt spriedzi
A24: 30. | B24: 2 | C24: Mīksta
A25: 30. | B25: 3 | C25: Viegli tīrama, var dezinficēt
A26: 30. | B26: 4 | C26: Var regulēt bumbas iekšējo spiedienu un izmērus
A27: 30. | B27: 5 | C27: Bumbas diametrs Ø 6 cm ± 2 cm
A28: 30. | B28: 6 | C28: Komplektā ar piepūšanas sūkni
A29: 30. | B29: 7 | C29: Informatīvais attēls:
C30: Konfigurācijas: | D30: Pretendenta piedāvātie parametri*: | E30: Preces modelis, kods, ražotājs: | F30: Paredzamais daudzums (gab.): | G30: 1 vienības cena bez PVN, EUR:
A31: =$A$20 -> 30. | B31: 8 | C31: Švambumba | F31: 1
F32: KOPĒJĀ CENA bez PVN, EUR: | G32: =G31 -> 0
C33: EKK: | D33: 23121

Sheet 31.
G1: Nolikuma
G2: 2. pielikums
A3: Tehniskā specifikācija/Tehniskais-finanšu piedāvājums
A4: Rehabilitācijas un fizioterapijas mazvērtīgā inventāra piegāde
A6: 31.pozicīja "Vingrošanas gumija ar cilpveida sistēmu"
C7: Tehniskās specifikācijas aktualizācijas datums 09.07.2026.
A8: 1) | C8: Finanšu piedāvājumā pretendentam jāietver visi izdevumi un izmaksas, kas saistītas ar Preces piegādi un transportu;
A9: 2) | C9: Piegāde 4 nedēļu laikā no pasūtījuma;
A10: 3) | C10: Piedāvātajām Precēm garantijas termiņš (nosaka Pretendents) ir ___ (______________) mēneši no pavadzīmes-rēķina abpusējas parakstīšanas brīža, bet ne mazāk kā 12 mēneši;
A11: 4) | C11: * Pretendenta tehniskajā piedāvājumā norāda Preces ražotāju un modeli atbilstošos parametrus;
A12: 5) | C12: ** Parametru atbilstību pamatot ar norādi uz tehniskajām datu lapām ("data sheet'') jeb informatīviem materiāliem, kas apliecina atbilstību (oriģinālvalodā un tulkojumi valsts valodā), norādot atsauci tehniskajā piedāvājumā uz konkrēto lapaspusi. Informatīvajos materiālos pretendents atzīmē uz kuru iepirkuma tehniskās specifikācijas pozīciju pievienotā informācija attiecināma;
A13: 6) | C13: Visas piedāvātās Preces ir jaunas (ražotas ne vēlāk kā 12 mēnešu laikā no pasūtījuma brīža), iepriekš nelietotas un nesatur iepriekš lietotas vai atjaunotas sastāvdaļas vai komponentes;
A14: 7) | C14: Piedāvājumam jāpievieno Preces ražotāja izsniegta autorizācijas vēstule, kas apliecina, ka pretendents tiesīgs izplatīt un nodrošināt servisu (ja paredzēts) piedāvātai Precei Latvijas Republikā;
A15: 8) | C15: Pēc pasūtītāja pieprasījuma piegādātājam jānodrošina Preces paraugs;
A16: 9) | C16: Paredzamais daudzums tiek izmantots pretendentu finanšu piedāvājumu objektīvai vērtēšanai. Līgumi tiek slēgti par vienas vienības cenu, nosakot visa iepirkuma kopējo apjomu naudas izteiksmē un nenosakot katras pozīcijas apjomu.
A17: 10) | C17: Piedāvājumam jāpievieno piedāvātas Preces EK atbilstības deklarācijas kopija atbilstoši regulas 2017/745 prasībām un CE sertifikāta kopija (ja ražotājs noteicis ierīču klasi: I klases sterilas ierīces un I klases ierīces ar mērīšanas funkciju, IIa, IIb vai III klases ierīces), norādot attiecīgajā ailē medicīnas ierīces klasi saskaņā ar EK atbilstības deklarācijas datiem - ja attiecas;
A19: Nr.p.k. | C19: Preces nosaukums, veicamās funkcijas, tehniskās prasības | D19: Pretendenta piedāvātie parametri* | F19: Atsauce uz informatīvo materiālu**
A20: 31. | C20: Vingrošanas gumija ar cilpveida sistēmu
C21: Veicamās funkcijas:
A22: =$A$20 -> 31. | B22: 1 | C22: Paredzēta dažādu ķermeņa muskuļu grupu stiprināšanai, stiepšanai un rehabilitācijai
C23: Tehniskās prasības:
A24: =$A$20 -> 31. | B24: 2 | C24: Stipras pretestības
A25: =$A$20 -> 31. | B25: 3 | C25: Elastīga
A26: =$A$20 -> 31. | B26: 4 | C26: Nesatur lateksu
A27: =$A$20 -> 31. | B27: 5 | C27: Secīga 11 cilpu sistēma
A28: =$A$20 -> 31. | B28: 6 | C28: Svara izturība ne mazāk kā 1,6 kg
A29: =$A$20 -> 31. | B29: 7 | C29: Garums: 2 ± 2 m
A30: =$A$20 -> 31. | B30: 8 | C30: Platums: 5 ± 2 cm
A31: =$A$20 -> 31. | B31: 9 | C31: Informatīvs attēls
C32: Konfigurācijas: | D32: Pretendenta piedāvātie parametri*: | E32: Preces modelis, kods, ražotājs: | F32: Paredzamais daudzums (kaste): | G32: 1 vienības cena bez PVN, EUR:
A33: =$A$20 -> 31. | B33: 10 | C33: Gumija sarkana, vājas pretestības | F33: 1
A34: =$A$20 -> 31. | B34: 11 | C34: Gumija dzeltena, ļoti vājas pretestības | F34: 1
A35: =$A$20 -> 31. | B35: 12 | C35: Gumija zaļa, vidējas pretestības | F35: 1
A36: =$A$20 -> 31. | B36: 13 | C36: Gumija zila, vidēji stipras pretestības | F36: 1
F37: KOPĒJĀ CENA bez PVN, EUR: | G37: =G33+G34+G35+G36 -> 0
C38: EKK: | D38: 23121

Sheet 32.
G1: Nolikuma
G2: 2. pielikums
A3: Tehniskā specifikācija/Tehniskais-finanšu piedāvājums
A4: Rehabilitācijas un fizioterapijas mazvērtīgā inventāra piegāde
A6: 32.pozicīja "Vingrošanas nūja"
C7: Tehniskās specifikācijas aktualizācijas datums 09.07.2026.
A8: 1) | C8: ='1.'!C8:G8 -> Finanšu piedāvājumā pretendentam jāietver visi izdevumi un izmaksas, kas saistītas ar Preces piegādi un transportu;
A9: 2) | C9: ='1.'!C9:G9 -> Piegāde 4 nedēļu laikā no pasūtījuma;
A10: 3) | C10: Piedāvātajām Precēm garantijas termiņš (nosaka Pretendents) ir ___ (______________) mēneši no pavadzīmes-rēķina abpusējas parakstīšanas brīža, bet ne mazāk kā 12 mēneši;
A11: 4) | C11: ='1.'!C11:G11 -> * Pretendenta tehniskajā piedāvājumā norāda Preces ražotāju un modeli atbilstošos parametrus;
A12: 5) | C12: ='1.'!C12:G12 -> ** Parametru atbilstību pamatot ar norādi uz tehniskajām datu lapām ("data sheet'') jeb informatīviem materiāliem, kas apliecina atbilstību (oriģinālvalodā un tulkojumi valsts valodā), norādot atsauci tehniskajā piedāvājumā uz konkrēto lapaspusi. Informatīvajos materiālos pretendents atzīmē uz kuru iepirkuma tehniskās specifikācijas pozīciju pievienotā informācija attiecināma;
A13: 6) | C13: ='1.'!C13:G13 -> Visas piedāvātās Preces ir jaunas (ražotas ne vēlāk kā 12 mēnešu laikā no pasūtījuma brīža), iepriekš nelietotas un nesatur iepriekš lietotas vai atjaunotas sastāvdaļas vai komponentes;
A14: 7) | C14: ='1.'!C14:G14 -> Piedāvājumam jāpievieno Preces ražotāja izsniegta autorizācijas vēstule, kas apliecina, ka pretendents tiesīgs izplatīt un nodrošināt servisu (ja paredzēts) piedāvātai Precei Latvijas Republikā;
A15: 8) | C15: ='1.'!C15:G15 -> Pēc pasūtītāja pieprasījuma piegādātājam jānodrošina Preces paraugs;
A16: 9) | C16: ='1.'!C16:G16 -> Paredzamais daudzums tiek izmantots pretendentu finanšu piedāvājumu objektīvai vērtēšanai. Līgumi tiek slēgti par vienas vienības cenu, nosakot visa iepirkuma kopējo apjomu naudas izteiksmē un nenosakot katras pozīcijas apjomu.
A17: 10) | C17: Piedāvājumam jāpievieno piedāvātas Preces EK atbilstības deklarācijas kopija atbilstoši regulas 2017/745 prasībām un CE sertifikāta kopija (ja ražotājs noteicis ierīču klasi: I klases sterilas ierīces un I klases ierīces ar mērīšanas funkciju, IIa, IIb vai III klases ierīces), norādot attiecīgajā ailē medicīnas ierīces klasi saskaņā ar EK atbilstības deklarācijas datiem - ja attiecas;
A19: Nr.p.k. | C19: Preces nosaukums, veicamās funkcijas, tehniskās prasības | D19: Pretendenta piedāvātie parametri* | F19: Atsauce uz informatīvo materiālu**
A20: 32. | C20: Vingrošanas nūja
C21: Veicamas funkcijas:
A22: 32. | B22: 1 | C22: Vingrošanas nūja fizisko aktivitāšu un vingrošanas nodarbībām.
A24: 32. | B24: 2 | C24: Gluda, bez plaisām, skabargām, asām malām vai citiem defektiem
A25: 32. | B25: 3 | C25: Koksne, vai cits izturīgs un drošs materiāls
A26: 32. | B26: 4 | C26: Materiālam jābūt piemērotam lietošanai sporta telpās un viegli kopjamam
A27: 32. | B27: 5 | C27: Garums no 130cm +/- 10cm
A28: 32. | B28: 6 | C28: Diametrs 20-30mm
C29: Konfigurācijas: | D29: Pretendenta piedāvātie parametri*: | E29: Preces modelis, kods, ražotājs: | F29: Paredzamais daudzums (gab.): | G29: 1 vienības cena bez PVN, EUR:
A30: =$A$20 -> 32. | B30: 7 | C30: Vingrošanas nūja | F30: 10
F31: KOPĒJĀ CENA bez PVN, EUR: | G31: =G30*F30 -> 0
C32: EKK: | D32: 23121

Sheet 33.
G1: Nolikuma
G2: 2. pielikums
A3: Tehniskā specifikācija/Tehniskais-finanšu piedāvājums
A4: Rehabilitācijas un fizioterapijas mazvērtīgā inventāra piegāde
A6: 33.pozicīja "Zviedru siena"
C7: Tehniskās specifikācijas aktualizācijas datums 28.07.2026.
A8: 1) | C8: ='1.'!C8:G8 -> Finanšu piedāvājumā pretendentam jāietver visi izdevumi un izmaksas, kas saistītas ar Preces piegādi un transportu;
A9: 2) | C9: ='1.'!C9:G9 -> Piegāde 4 nedēļu laikā no pasūtījuma;
A10: 3) | C10: Piedāvātajām Precēm garantijas termiņš (nosaka Pretendents) ir ___ (______________) mēneši no pavadzīmes-rēķina abpusējas parakstīšanas brīža, bet ne mazāk kā 12 mēneši;
A11: 4) | C11: ='1.'!C11:G11 -> * Pretendenta tehniskajā piedāvājumā norāda Preces ražotāju un modeli atbilstošos parametrus;
A12: 5) | C12: ='1.'!C12:G12 -> ** Parametru atbilstību pamatot ar norādi uz tehniskajām datu lapām ("data sheet'') jeb informatīviem materiāliem, kas apliecina atbilstību (oriģinālvalodā un tulkojumi valsts valodā), norādot atsauci tehniskajā piedāvājumā uz konkrēto lapaspusi. Informatīvajos materiālos pretendents atzīmē uz kuru iepirkuma tehniskās specifikācijas pozīciju pievienotā informācija attiecināma;
A13: 6) | C13: ='1.'!C13:G13 -> Visas piedāvātās Preces ir jaunas (ražotas ne vēlāk kā 12 mēnešu laikā no pasūtījuma brīža), iepriekš nelietotas un nesatur iepriekš lietotas vai atjaunotas sastāvdaļas vai komponentes;
A14: 7) | C14: ='1.'!C14:G14 -> Piedāvājumam jāpievieno Preces ražotāja izsniegta autorizācijas vēstule, kas apliecina, ka pretendents tiesīgs izplatīt un nodrošināt servisu (ja paredzēts) piedāvātai Precei Latvijas Republikā;
A15: 8) | C15: ='1.'!C15:G15 -> Pēc pasūtītāja pieprasījuma piegādātājam jānodrošina Preces paraugs;
A16: 9) | C16: ='1.'!C16:G16 -> Paredzamais daudzums tiek izmantots pretendentu finanšu piedāvājumu objektīvai vērtēšanai. Līgumi tiek slēgti par vienas vienības cenu, nosakot visa iepirkuma kopējo apjomu naudas izteiksmē un nenosakot katras pozīcijas apjomu.
A17: 10) | C17: Piedāvājumam jāpievieno piedāvātas Preces EK atbilstības deklarācijas kopija atbilstoši regulas 2017/745 prasībām un CE sertifikāta kopija (ja ražotājs noteicis ierīču klasi: I klases sterilas ierīces un I klases ierīces ar mērīšanas funkciju, IIa, IIb vai III klases ierīces), norādot attiecīgajā ailē medicīnas ierīces klasi saskaņā ar EK atbilstības deklarācijas datiem - ja attiecas;
A19: Nr.p.k. | C19: Preces nosaukums, veicamās funkcijas, tehniskās prasības | D19: Pretendenta piedāvātie parametri* | F19: Atsauce uz informatīvo materiālu**
A20: 33.
C21: Veicamas funkcijas:
A22: 33. | B22: 1 | C22: Zviedru siena paredzēta vingrošanas nodarbību nodrošināšanai sporta, izglītības vai rehabilitācijas iestādēs.
A24: 33. | B24: 2 | C24: Augstums: 2500 mm ±50 mm.
A25: 33. | B25: 3 | C25: Platums: 800 mm ±100 mm.
A26: 33. | B26: 4 | C26: Pakāpienu attālums (starp centru līnijām): 160 mm ±20 mm.
A27: 33. | B27: 5 | C27: Materiāls: bērza finieris vai līdzvērtīgs materiāls
A28: 33. | B28: 6 | C28: Visi stiprinājumi un skrūves nāk komplekta
A29: 33. | B29: 7 | C29: Informātivais attēls
C30: Konfigurācijas: | D30: Pretendenta piedāvātie parametri*: | E30: Preces modelis, kods, ražotājs: | F30: Paredzamais daudzums (gab.): | G30: 1 vienības cena bez PVN, EUR:
A31: =$A$20 -> 33. | B31: 8 | C31: Zviedru siena | F31: 10
A32: =$A$20 -> 33. | B32: 9 | C32: Pievilkšanās daļa | F32: 5
F33: KOPĒJĀ CENA bez PVN, EUR: | G33: =(G31*F31)+(F32*G32) -> 0
C34: EKK: | D34: 23121

Sheet 34.
G1: Nolikuma
G2: 2. pielikums
A3: Tehniskā specifikācija/Tehniskais-finanšu piedāvājums
A4: Rehabilitācijas un fizioterapijas mazvērtīgā inventāra piegāde
A6: 34.pozicīja "Bumba masāžas"
C7: Tehniskās specifikācijas aktualizācijas datums 09.07.2026.
A8: 1) | C8: Finanšu piedāvājumā pretendentam jāietver visi izdevumi un izmaksas, kas saistītas ar Preces piegādi un transportu;
A9: 2) | C9: Piegāde 4 nedēļu laikā no pasūtījuma;
A10: 3) | C10: Piedāvātajām Precēm garantijas termiņš (nosaka Pretendents) ir ___ (______________) mēneši no pavadzīmes-rēķina abpusējas parakstīšanas brīža, bet ne mazāk kā 12 mēneši;
A11: 4) | C11: * Pretendenta tehniskajā piedāvājumā norāda Preces ražotāju un modeli atbilstošos parametrus;
A12: 5) | C12: ** Parametru atbilstību pamatot ar norādi uz tehniskajām datu lapām ("data sheet'') jeb informatīviem materiāliem, kas apliecina atbilstību (oriģinālvalodā un tulkojumi valsts valodā), norādot atsauci tehniskajā piedāvājumā uz konkrēto lapaspusi. Informatīvajos materiālos pretendents atzīmē uz kuru iepirkuma tehniskās specifikācijas pozīciju pievienotā informācija attiecināma;
A13: 6) | C13: Visas piedāvātās Preces ir jaunas (ražotas ne vēlāk kā 12 mēnešu laikā no pasūtījuma brīža), iepriekš nelietotas un nesatur iepriekš lietotas vai atjaunotas sastāvdaļas vai komponentes;
A14: 7) | C14: Piedāvājumam jāpievieno Preces ražotāja izsniegta autorizācijas vēstule, kas apliecina, ka pretendents tiesīgs izplatīt un nodrošināt servisu (ja paredzēts) piedāvātai Precei Latvijas Republikā;
A15: 8) | C15: Pēc pasūtītāja pieprasījuma piegādātājam jānodrošina Preces paraugs;
A16: 9) | C16: Paredzamais daudzums tiek izmantots pretendentu finanšu piedāvājumu objektīvai vērtēšanai. Līgumi tiek slēgti par vienas vienības cenu, nosakot visa iepirkuma kopējo apjomu naudas izteiksmē un nenosakot katras pozīcijas apjomu.
A17: 10) | C17: Piedāvājumam jāpievieno piedāvātas Preces EK atbilstības deklarācijas kopija atbilstoši regulas 2017/745 prasībām un CE sertifikāta kopija (ja ražotājs noteicis ierīču klasi: I klases sterilas ierīces un I klases ierīces ar mērīšanas funkciju, IIa, IIb vai III klases ierīces), norādot attiecīgajā ailē medicīnas ierīces klasi saskaņā ar EK atbilstības deklarācijas datiem - ja attiecas;
A19: Nr.p.k. | C19: Preces nosaukums, veicamās funkcijas, tehniskās prasības | D19: Pretendenta piedāvātie parametri* | F19: Atsauce uz informatīvo materiālu**
A20: 34. | C20: Bumba masāžas
C21: Veicamās funkcijas:
A22: =$A$20 -> 34. | B22: 1 | C22: Plastmasas adatu bumbiņa paredzēta masāžas iedarbībai uz cilvēka akupunktūriem punktiem
C23: Tehniskās prasības:
A24: =$A$20 -> 34. | B24: 2 | C24: Su Džok masāžas bumbiņa vai analogs
A25: =$A$20 -> 34. | B25: 3 | C25: Dezinficējams
A26: =$A$20 -> 34. | B26: 4 | C26: Informatīvs attēls
C27: Konfigurācijas: | D27: Pretendenta piedāvātie parametri*: | E27: Preces modelis, kods, ražotājs: | F27: Paredzamais daudzums (gab.): | G27: 1 vienības cena bez PVN, EUR:
A28: =$A$20 -> 34. | B28: 5 | C28: Bumba masāžas | F28: 2
F29: KOPĒJĀ CENA bez PVN, EUR: | G29: =G28*F28 -> 0
