Workbook

Sheet SATURS
B2: Rehabilitācijas un fizioterapijas mazvērtīgā inventāra piegāde (ID Nr. PSKUS 2026/124)
B3: SATURS
B5: Daļa | C5: Nosaukums
B6: 1 | C6: Hanteles
B7: 2 | C7: Rullis masāžas dubultais
B8: 3 | C8: Bumba masāžas adatu
B9: 4 | C9: Bumba masāžas ovāla
B10: 5 | C10: Rullis masāžas
B11: 6 | C11: Rullis pilatēm
B12: 7 | C12: Bumba masāžas gredzenu
B13: 8 | C13: Rullis fizioterapijas
B14: 9 | C14: Platforma līdzsvara
B15: 10 | C15: Aproce svara
B16: 11 | C16: Rollers
B17: 12 | C17: Gumija stiepšanas gara
... B34: 29 | C34: Pamatne pozicionēšanas rokas terapijai
B35: 30. | C35: Švambumba
B36: 31. | C36: Vingrošanas gumija ar cilpveida sistēmu
B37: 32. | C37: Vingrošanas nūja
B38: 33. | C38: Zviedru siena

Sheet 1.
G1: Nolikuma
G2: 2. pielikums
A3: Tehniskā specifikācija/Tehniskais-finanšu piedāvājums
A4: Rehabilitācijas un fizioterapijas mazvērtīgā inventāra piegāde
A6: 1.pozicīja "Hanteles"
C7: Tehniskās specifikācijas aktualizācijas datums 09.07.2026.
A8: 1) | C8: Finanšu piedāvājumā pretendentam jāietver visi izdevumi un izmaksas, kas saistītas ar Preces piegādi un transportu;
A9: 2) | C9: Piegāde 4 nedēļu laikā no pasūtījuma;
A10: 3) | C10: Piedāvātajām Precēm garantijas termiņš (nosaka Pretendents) ir ___ (______________) mēneši no pavadzīmes-rēķina abpusējas parakstīšanas brīža, bet ne mazāk kā 12 mēneši;
A11: 4) | C11: * Pretendenta tehniskajā piedāvājumā norāda Preces ražotāju un modeli atbilstošos parametrus;
A12: 5) | C12: ** Parametru atbilstību pamatot ar norādi uz tehniskajām datu lapām ("data sheet'') jeb informatīviem materiāliem, kas apliecina atbilstību (oriģinālvalodā un tulkojumi valsts valodā), norādot atsauci tehniskajā piedāvājumā uz konkrēto lapaspusi. Informatīvajos materiālos pretendents atzīmē uz kuru iepirkuma tehniskās specifikācijas pozīciju pievienotā informācija attiecināma;
A13: 6) | C13: Visas piedāvātās Preces ir jaunas (ražotas ne vēlāk kā 12 mēnešu laikā no pasūtījuma brīža), iepriekš nelietotas un nesatur iepriekš lietotas vai atjaunotas sastāvdaļas vai komponentes;
A14: 7) | C14: Piedāvājumam jāpievieno Preces ražotāja izsniegta autorizācijas vēstule, kas apliecina, ka pretendents tiesīgs izplatīt un nodrošināt servisu (ja paredzēts) piedāvātai Precei Latvijas Republikā;
A15: 8) | C15: Pēc pasūtītāja pieprasījuma piegādātājam jānodrošina Preces paraugs;
A16: 9) | C16: Paredzamais daudzums tiek izmantots pretendentu finanšu piedāvājumu objektīvai vērtēšanai. Līgumi tiek slēgti par vienas vienības cenu, nosakot visa iepirkuma kopējo apjomu naudas izteiksmē un nenosakot katras pozīcijas apjomu.
A17: 10) | C17: Piedāvājumam jāpievieno piedāvātas Preces EK atbilstības deklarācijas kopija atbilstoši regulas 2017/745 prasībām un CE sertifikāta kopija (ja ražotājs noteicis ierīču klasi: I klases sterilas ierīces un I klases ierīces ar mērīšanas funkciju, IIa, IIb vai III klases ierīces), norādot attiecīgajā ailē medicīnas ierīces klasi saskaņā ar EK atbilstības deklarācijas datiem - ja attiecas;
A19: Nr.p.k. | C19: Preces nosaukums, veicamās funkcijas, tehniskās prasības | D19: Pretendenta piedāvātie parametri* | F19: Atsauce uz informatīvo materiālu**
A20: 1. | C20: Hanteles
C21: Veicamās funkcijas:
A22: =$A$20 -> 1. | B22: 1 | C22: Hanteles paredzētas rokām, lai nostiprina muskuļus un uzlabotu fizisko formu.
C23: Tehniskās prasības:
A24: =$A$20 -> 1. | B24: 2 | C24: Hantelei ir gumijots/ neopropēna pārklājums vai līdzvērtīgs pārklajums
A25: =$A$20 -> 1. | B25: 3 | C25: Daudzreizlietojams
A26: =$A$20 -> 1. | B26: 4 | C26: Iespējams pasūtīt 1 hanteli
A27: =$A$20 -> 1. | B27: 5 | C27: Dezinficējams
A28: =$A$20 -> 1. | B28: 6 | C28: Informatīvs attēls
C29: Konfigurācijas: | D29: Paredzamais daudzums (gab.): | F29: 1 vienības cena bez PVN, EUR:
A30: =$A$20 -> 1. | B30: 7 | C30: Hantele 0.5 kg | D30: 10
A31: =$A$20 -> 1. | B31: 8 | C31: Hantele 1 kg | D31: 10
A32: =$A$20 -> 1. | B32: 9 | C32: Hantele 1,5 kg | D32: 10
A33: =$A$20 -> 1. | B33: 10 | C33: Hantele 2 kg | D33: 10
A34: =$A$20 -> 1. | B34: 11 | C34: Hantele 3 kg | D34: 10
A35: =$A$20 -> 1. | B35: 12 | C35: Hantele 4 kg | D35: 10
A36: =$A$20 -> 1. | B36: 13 | C36: Hantele 5 kg | D36: 10
D37: KOPĒJĀ CENA bez PVN, EUR: | F37: =(F30*D30)+(F31*D31)+(F32*D32)+(F33*D33)+(F34*D34)+(F35*D35)+(F36*D36) -> 0
C38: EKK: | D38: 23121

Sheet 2.
G1: Nolikuma
G2: 2. pielikums
A3: Tehniskā specifikācija/Tehniskais-finanšu piedāvājums
A4: Rehabilitācijas un fizioterapijas mazvērtīgā inventāra piegāde
A6: 2.pozicīja "Rullis masāžas dubultais''
C7: Tehniskās specifikācijas aktualizācijas datums 09.07.2026.
A8: 1) | C8: Finanšu piedāvājumā pretendentam jāietver visi izdevumi un izmaksas, kas saistītas ar Preces piegādi un transportu;
A9: 2) | C9: Piegāde 4 nedēļu laikā no pasūtījuma;
A10: 3) | C10: Piedāvātajām Precēm garantijas termiņš (nosaka Pretendents) ir ___ (______________) mēneši no pavadzīmes-rēķina abpusējas parakstīšanas brīža, bet ne mazāk kā 12 mēneši;
A11: 4) | C11: * Pretendenta tehniskajā piedāvājumā norāda Preces ražotāju un modeli atbilstošos parametrus;
A12: 5) | C12: ** Parametru atbilstību pamatot ar norādi uz tehniskajām datu lapām ("data sheet'') jeb informatīviem materiāliem, kas apliecina atbilstību (oriģinālvalodā un tulkojumi valsts valodā), norādot atsauci tehniskajā piedāvājumā uz konkrēto lapaspusi. Informatīvajos materiālos pretendents atzīmē uz kuru iepirkuma tehniskās specifikācijas pozīciju pievienotā informācija attiecināma;
A13: 6) | C13: Visas piedāvātās Preces ir jaunas (ražotas ne vēlāk kā 12 mēnešu laikā no pasūtījuma brīža), iepriekš nelietotas un nesatur iepriekš lietotas vai atjaunotas sastāvdaļas vai komponentes;
A14: 7) | C14: Piedāvājumam jāpievieno Preces ražotāja izsniegta autorizācijas vēstule, kas apliecina, ka pretendents tiesīgs izplatīt un nodrošināt servisu (ja paredzēts) piedāvātai Precei Latvijas Republikā;
A15: 8) | C15: Pēc pasūtītāja pieprasījuma piegādātājam jānodrošina Preces paraugs;
A16: 9) | C16: Paredzamais daudzums tiek izmantots pretendentu finanšu piedāvājumu objektīvai vērtēšanai. Līgumi tiek slēgti par vienas vienības cenu, nosakot visa iepirkuma kopējo apjomu naudas izteiksmē un nenosakot katras pozīcijas apjomu.
A17: 10) | C17: Piedāvājumam jāpievieno piedāvātas Preces EK atbilstības deklarācijas kopija atbilstoši regulas 2017/745 prasībām un CE sertifikāta kopija (ja ražotājs noteicis ierīču klasi: I klases sterilas ierīces un I klases ierīces ar mērīšanas funkciju, IIa, IIb vai III klases ierīces), norādot attiecīgajā ailē medicīnas ierīces klasi saskaņā ar EK atbilstības deklarācijas datiem - ja attiecas;
A19: Nr.p.k. | C19: Preces nosaukums, veicamās funkcijas, tehniskās prasības | D19: Pretendenta piedāvātie parametri* | F19: Atsauce uz informatīvo materiālu**
A20: 2. | C20: Rullis masāžas dubultais
C21: Veicamās funkcijas:
A22: =$A$20 -> 2. | B22: 1 | C22: Mazina muskuļu sasprindzinājumu un vispārēju saspringumu, vienlaikus veicinot asins un limfas cirkulāciju un stimulējot vielmaiņu.
C23: Tehniskās prasības:
A24: =$A$20 -> 2. | B24: 1 | C24: Daudzreizlietojams
A25: =$A$20 -> 2. | B25: 2 | C25: Svars 500 g ± 10 g
A26: =$A$20 -> 2. | B26: 3 | C26: Bumbiņu diametrs 29 cm ± 1 cm un vienādas
A27: =$A$20 -> 2. | B27: 4 | C27: Dezinficējams
A28: =$A$20 -> 2. | B28: 5 | C28: Informatīvs attēls
C29: Konfigurācijas: | D29: Pretendenta piedāvātie parametri*: | E29: Preces modelis, kods, ražotājs: | F29: Paredzamais daudzums (gab.): | G29: 1 vienības cena bez PVN, EUR:
A30: =$A$20 -> 2. | B30: 6 | C30: Rullis masāžas dubultais | F30: 4
F31: KOPĒJĀ CENA bez PVN, EUR: | G31: =SUM(G30*F30) -> 0
C32: EKK: | D32: 23121

Sheet 3.
G1: Nolikuma
G2: 2. pielikums
A3: Tehniskā specifikācija/Tehniskais-finanšu piedāvājums
A4: Rehabilitācijas un fizioterapijas mazvērtīgā inventāra piegāde
A5: (identifikācijas Nr. PSKUS 2022/81)
A6: 3.daļa "Bumba masāžas adatu"
C7: Tehniskās specifikācijas aktualizācijas datums 09.07.2026.
A8: 1) | C8: Finanšu piedāvājumā pretendentam jāietver visi izdevumi un izmaksas, kas saistītas ar Preces piegādi un transportu;
A9: 2) | C9: Piegāde 4 nedēļu laikā no pasūtījuma;
A10: 3) | C10: Piedāvātajām Precēm garantijas termiņš (nosaka Pretendents) ir ___ (______________) mēneši no pavadzīmes-rēķina abpusējas parakstīšanas brīža, bet ne mazāk kā 12 mēneši;
A11: 4) | C11: * Pretendenta tehniskajā piedāvājumā norāda Preces ražotāju un modeli atbilstošos parametrus;
A12: 5) | C12: ** Parametru atbilstību pamatot ar norādi uz tehniskajām datu lapām ("data sheet'') jeb informatīviem materiāliem, kas apliecina atbilstību (oriģinālvalodā un tulkojumi valsts valodā), norādot atsauci tehniskajā piedāvājumā uz konkrēto lapaspusi. Informatīvajos materiālos pretendents atzīmē uz kuru iepirkuma tehniskās specifikācijas pozīciju pievienotā informācija attiecināma;
A13: 6) | C13: Visas piedāvātās Preces ir jaunas (ražotas ne vēlāk kā 12 mēnešu laikā no pasūtījuma brīža), iepriekš nelietotas un nesatur iepriekš lietotas vai atjaunotas sastāvdaļas vai komponentes;
A14: 7) | C14: Piedāvājumam jāpievieno Preces ražotāja izsniegta autorizācijas vēstule, kas apliecina, ka pretendents tiesīgs izplatīt un nodrošināt servisu (ja paredzēts) piedāvātai Precei Latvijas Republikā;
A15: 8) | C15: Pēc pasūtītāja pieprasījuma piegādātājam jānodrošina Preces paraugs;
A16: 9) | C16: Paredzamais daudzums tiek izmantots pretendentu finanšu piedāvājumu objektīvai vērtēšanai. Līgumi tiek slēgti par vienas vienības cenu, nosakot visa iepirkuma kopējo apjomu naudas izteiksmē un nenosakot katras pozīcijas apjomu.
A17: 10) | C17: Piedāvājumam jāpievieno piedāvātas Preces EK atbilstības deklarācijas kopija atbilstoši regulas 2017/745 prasībām un CE sertifikāta kopija (ja ražotājs noteicis ierīču klasi: I klases sterilas ierīces un I klases ierīces ar mērīšanas funkciju, IIa, IIb vai III klases ierīces), norādot attiecīgajā ailē medicīnas ierīces klasi saskaņā ar EK atbilstības deklarācijas datiem - ja attiecas;
A19: Nr.p.k. | C19: Preces nosaukums, veicamās funkcijas, tehniskās prasības | D19: Pretendenta piedāvātie parametri* | F19: Atsauce uz informatīvo materiālu**
A20: 3. | C20: Bumba masāžas adatu
C21: Veicamās funkcijas:
A22: =$A$20 -> 3. | B22: 1 | C22: Adatu bumbiņu piemēro masāžai, pirkstu tvēriena vingrināšanai, asinsrites un jūtības veicināšanai pēc ķirurģiskām operācijām
C23: Tehniskās prasības:
A24: =$A$20 -> 3. | B24: 2 | C24: Ar vairākam mīkstam adatiņām
A25: =$A$20 -> 3. | B25: 3 | C25: Viegli tīrama, var dezinficēt
A26: =$A$20 -> 3. | B26: 4 | C26: Informatīvais attēls:
C27: Konfigurācijas: | D27: Pretendenta piedāvātie parametri*: | E27: Preces modelis, kods, ražotājs: | F27: Paredzamais daudzums (gab.): | G27: 1 vienības cena bez PVN, EUR:
A28: =$A$20 -> 3. | B28: 5 | C28: Diametrs 80 mm | F28: 20 | G28: 0
A29: =$A$20 -> 3. | B29: 6 | C29: Diametrs 100 mm | F29: 2 | G29: 0
F30: KOPĒJĀ CENA bez PVN, EUR: | G30: =SUMPRODUCT(F28:F29,G28:G29) -> 0
C31: EKK: | D31: 23121

Sheet 4.
G1: Nolikuma
G2: 2. pielikums
A3: Tehniskā specifikācija/Tehniskais-finanšu piedāvājums
A4: Rehabilitācijas un fizioterapijas mazvērtīgā inventāra piegāde
A6: 4.pozicīja "Bumba masāžas ovāla"
C7: Tehniskās specifikācijas aktualizācijas datums 09.07.2026.
A8: 1) | C8: Finanšu piedāvājumā pretendentam jāietver visi izdevumi un izmaksas, kas saistītas ar Preces piegādi un transportu;
A9: 2) | C9: Piegāde 4 nedēļu laikā no pasūtījuma;
A10: 3) | C10: Piedāvātajām Precēm garantijas termiņš (nosaka Pretendents) ir ___ (______________) mēneši no pavadzīmes-rēķina abpusējas parakstīšanas brīža, bet ne mazāk kā 12 mēneši;
A11: 4) | C11: * Pretendenta tehniskajā piedāvājumā norāda Preces ražotāju un modeli atbilstošos parametrus;
A12: 5) | C12: ** Parametru atbilstību pamatot ar norādi uz tehniskajām datu lapām ("data sheet'') jeb informatīviem materiāliem, kas apliecina atbilstību (oriģinālvalodā un tulkojumi valsts valodā), norādot atsauci tehniskajā piedāvājumā uz konkrēto lapaspusi. Informatīvajos materiālos pretendents atzīmē uz kuru iepirkuma tehniskās specifikācijas pozīciju pievienotā informācija attiecināma;
A13: 6) | C13: Visas piedāvātās Preces ir jaunas (ražotas ne vēlāk kā 12 mēnešu laikā no pasūtījuma brīža), iepriekš nelietotas un nesatur iepriekš lietotas vai atjaunotas sastāvdaļas vai komponentes;
A14: 7) | C14: Piedāvājumam jāpievieno Preces ražotāja izsniegta autorizācijas vēstule, kas apliecina, ka pretendents tiesīgs izplatīt un nodrošināt servisu (ja paredzēts) piedāvātai Precei Latvijas Republikā;
A15: 8) | C15: Pēc pasūtītāja pieprasījuma piegādātājam jānodrošina Preces paraugs;
A16: 9) | C16: Paredzamais daudzums tiek izmantots pretendentu finanšu piedāvājumu objektīvai vērtēšanai. Līgumi tiek slēgti par vienas vienības cenu, nosakot visa iepirkuma kopējo apjomu naudas izteiksmē un nenosakot katras pozīcijas apjomu.
A17: 10) | C17: Piedāvājumam jāpievieno piedāvātas Preces EK atbilstības deklarācijas kopija atbilstoši regulas 2017/745 prasībām un CE sertifikāta kopija (ja ražotājs noteicis ierīču klasi: I klases sterilas ierīces un I klases ierīces ar mērīšanas funkciju, IIa, IIb vai III klases ierīces), norādot attiecīgajā ailē medicīnas ierīces klasi saskaņā ar EK atbilstības deklarācijas datiem - ja attiecas;
A19: Nr.p.k. | C19: Preces nosaukums, veicamās funkcijas, tehniskās prasības | D19: Pretendenta piedāvātie parametri* | F19: Atsauce uz informatīvo materiālu**
A20: 4. | C20: Bumba masāžas ovāla
C21: Veicamās funkcijas:
A22: =$A$20 -> 4. | B22: 1 | C22: Adatu bumbiņu piemēro masāžai, pirkstu tvēriena vingrināšanai, asinsrites un jūtības veicināšanai pēc ķirurģiskām operācijām
C23: Tehniskās prasības:
A24: =$A$20 -> 4. | B24: 2 | C24: Ar vairākam mīkstam adatiņām
A25: =$A$20 -> 4. | B25: 3 | C25: Viegli tīrama, var dezinficēt
A26: =$A$20 -> 4. | B26: 4 | C26: Informatīvais attēls:
C27: Konfigurācijas: | D27: Pretendenta piedāvātie parametri*: | E27: Preces modelis, kods, ražotājs: | F27: Paredzamais daudzums (gab.): | G27: 1 vienības cena bez PVN, EUR:
A28: =$A$20 -> 4. | B28: 5 | C28: Ovālveida | F28: 3
F29: KOPĒJĀ CENA bez PVN, EUR: | G29: =G28*F28 -> 0
C30: EKK: | D30: 23121

Sheet 5.
G1: Nolikuma
G2: 2. pielikums
A3: Tehniskā specifikācija/Tehniskais-finanšu piedāvājums
A4: Rehabilitācijas un fizioterapijas mazvērtīgā inventāra piegāde
A6: 5.pozicīja "Rullis masāžas"
C7: Tehniskās specifikācijas aktualizācijas datums 09.07.2026.
A8: 1) | C8: Finanšu piedāvājumā pretendentam jāietver visi izdevumi un izmaksas, kas saistītas ar Preces piegādi un transportu;
A9: 2) | C9: Piegāde 4 nedēļu laikā no pasūtījuma;
A10: 3) | C10: Piedāvātajām Precēm garantijas termiņš (nosaka Pretendents) ir ___ (______________) mēneši no pavadzīmes-rēķina abpusējas parakstīšanas brīža, bet ne mazāk kā 12 mēneši;
A11: 4) | C11: * Pretendenta tehniskajā piedāvājumā norāda Preces ražotāju un modeli atbilstošos parametrus;
A12: 5) | C12: ** Parametru atbilstību pamatot ar norādi uz tehniskajām datu lapām ("data sheet'') jeb informatīviem materiāliem, kas apliecina atbilstību (oriģinālvalodā un tulkojumi valsts valodā), norādot atsauci tehniskajā piedāvājumā uz konkrēto lapaspusi. Informatīvajos materiālos pretendents atzīmē uz kuru iepirkuma tehniskās specifikācijas pozīciju pievienotā informācija attiecināma;
A13: 6) | C13: Visas piedāvātās Preces ir jaunas (ražotas ne vēlāk kā 12 mēnešu laikā no pasūtījuma brīža), iepriekš nelietotas un nesatur iepriekš lietotas vai atjaunotas sastāvdaļas vai komponentes;
A14: 7) | C14: Piedāvājumam jāpievieno Preces ražotāja izsniegta autorizācijas vēstule, kas apliecina, ka pretendents tiesīgs izplatīt un nodrošināt servisu (ja paredzēts) piedāvātai Precei Latvijas Republikā;
A15: 8) | C15: Pēc pasūtītāja pieprasījuma piegādātājam jānodrošina Preces paraugs;
A16: 9) | C16: Paredzamais daudzums tiek izmantots pretendentu finanšu piedāvājumu objektīvai vērtēšanai. Līgumi tiek slēgti par vienas vienības cenu, nosakot visa iepirkuma kopējo apjomu naudas izteiksmē un nenosakot katras pozīcijas apjomu.
A17: 10) | C17: Piedāvājumam jāpievieno piedāvātas Preces EK atbilstības deklarācijas kopija atbilstoši regulas 2017/745 prasībām un CE sertifikāta kopija (ja ražotājs noteicis ierīču klasi: I klases sterilas ierīces un I klases ierīces ar mērīšanas funkciju, IIa, IIb vai III klases ierīces), norādot attiecīgajā ailē medicīnas ierīces klasi saskaņā ar EK atbilstības deklarācijas datiem - ja attiecas;
A19: Nr.p.k. | C19: Preces nosaukums, veicamās funkcijas, tehniskās prasības | D19: Pretendenta piedāvātie parametri* | F19: Atsauce uz informatīvo materiālu**
A20: 5. | C20: Rullis masāžas
C21: Veicamās funkcijas:
A22: =$A$20 -> 5. | B22: 1 | C22: Muskuļu atslābināšanai un spriedzes samazināšanai, asinsrites uzlabošanai.
C23: Tehniskās prasības:
A24: =$A$20 -> 5. | B24: 2 | C24: Tekstūra ar mazām neasām adatiņām
A25: =$A$20 -> 5. | B25: 3 | C25: Daudzreizlietojams
A26: =$A$20 -> 5. | B26: 4 | C26: Cilindriska forma
A27: =$A$20 -> 5. | B27: 5 | C27: Garums 16 cm ± 1 cm
A28: =$A$20 -> 5. | B28: 6 | C28: Dezinficējams
A29: =$A$20 -> 5. | B29: 7 | C29: Informatīvs attēls
C30: Konfigurācijas: | D30: Pretendenta piedāvātie parametri*: | E30: Preces modelis, kods, ražotājs: | F30: Paredzamais daudzums (gab.): | G30: 1 vienības cena bez PVN, EUR:
A31: =$A$20 -> 5. | B31: 8 | C31: Rullis masāžas | F31: 2
F32: KOPĒJĀ CENA bez PVN, EUR: | G32: =G31*F31 -> 0
C33: EKK: | D33: 23121

Sheet 6.
G1: Nolikuma
G2: 2. pielikums
A3: Tehniskā specifikācija/Tehniskais-finanšu piedāvājums
A4: Rehabilitācijas un fizioterapijas mazvērtīgā inventāra piegāde
A6: 6.pozicīja"Rullis pilatēm"
C7: Tehniskās specifikācijas aktualizācijas datums 28.07.2026.
A8: 1) | C8: Finanšu piedāvājumā pretendentam jāietver visi izdevumi un izmaksas, kas saistītas ar Preces piegādi un transportu;
A9: 2) | C9: Piegāde 4 nedēļu laikā no pasūtījuma;
A10: 3) | C10: Piedāvātajām Precēm garantijas termiņš (nosaka Pretendents) ir ___ (______________) mēneši no pavadzīmes-rēķina abpusējas parakstīšanas brīža, bet ne mazāk kā 12 mēneši;
A11: 4) | C11: * Pretendenta tehniskajā piedāvājumā norāda Preces ražotāju un modeli atbilstošos parametrus;
A12: 5) | C12: ** Parametru atbilstību pamatot ar norādi uz tehniskajām datu lapām ("data sheet'') jeb informatīviem materiāliem, kas apliecina atbilstību (oriģinālvalodā un tulkojumi valsts valodā), norādot atsauci tehniskajā piedāvājumā uz konkrēto lapaspusi. Informatīvajos materiālos pretendents atzīmē uz kuru iepirkuma tehniskās specifikācijas pozīciju pievienotā informācija attiecināma;
A13: 6) | C13: Visas piedāvātās Preces ir jaunas (ražotas ne vēlāk kā 12 mēnešu laikā no pasūtījuma brīža), iepriekš nelietotas un nesatur iepriekš lietotas vai atjaunotas sastāvdaļas vai komponentes;
A14: 7) | C14: Piedāvājumam jāpievieno Preces ražotāja izsniegta autorizācijas vēstule, kas apliecina, ka pretendents tiesīgs izplatīt un nodrošināt servisu (ja paredzēts) piedāvātai Precei Latvijas Republikā;
A15: 8) | C15: Pēc pasūtītāja pieprasījuma piegādātājam jānodrošina Preces paraugs;
A16: 9) | C16: Paredzamais daudzums tiek izmantots pretendentu finanšu piedāvājumu objektīvai vērtēšanai. Līgumi tiek slēgti par vienas vienības cenu, nosakot visa iepirkuma kopējo apjomu naudas izteiksmē un nenosakot katras pozīcijas apjomu.
A17: 10) | C17: Piedāvājumam jāpievieno piedāvātas Preces EK atbilstības deklarācijas kopija atbilstoši regulas 2017/745 prasībām un CE sertifikāta kopija (ja ražotājs noteicis ierīču klasi: I klases sterilas ierīces un I klases ierīces ar mērīšanas funkciju, IIa, IIb vai III klases ierīces), norādot attiecīgajā ailē medicīnas ierīces klasi saskaņā ar EK atbilstības deklarācijas datiem - ja attiecas;
A19: Nr.p.k. | C19: Preces nosaukums, veicamās funkcijas, tehniskās prasības | D19: Pretendenta piedāvātie parametri* | F19: Atsauce uz informatīvo materiālu**
A20: 6. | C20: Rullis pilatēm
C21: Veicamās funkcijas:
A22: =$A$20 -> 6. | B22: 1 | C22: Rullis iesācējiem un pieredzējušiem pilašu veikšanai
C23: Tehniskās prasības:
A24: =$A$20 -> 6. | B24: 2 | C24: Materiāls sintētiskā gumija vai līdzvērtīgs materiāls
A25: =$A$20 -> 6. | B25: 3 | C25: Daudzreizlietojams
A26: =$A$20 -> 6. | B26: 4 | C26: Garums 90 cm ± 1 cm
A27: =$A$20 -> 6. | B27: 5 | C27: Diametrs 18 cm ± 5 cm
A28: =$A$20 -> 6. | B28: 6 | C28: Dezinficējams
A29: =$A$20 -> 6. | B29: 7 | C29: Informatīvs attēls
C30: Konfigurācijas: | D30: Pretendenta piedāvātie parametri*: | E30: Preces modelis, kods, ražotājs: | F30: Paredzamais daudzums (gab.): | G30: 1 vienības cena bez PVN, EUR:
A31: =$A$20 -> 6. | B31: 9 | C31: Rullis pilatēm | F31: 3
F32: KOPĒJĀ CENA bez PVN, EUR: | G32: =G31*F31 -> 0
C33: EKK: | D33: 23121

Sheet 7.
G1: Nolikuma
G2: 2. pielikums
A3: Tehniskā specifikācija/Tehniskais-finanšu piedāvājums
A4: Rehabilitācijas un fizioterapijas mazvērtīgā inventāra piegāde
A6: 7.pozicīja "Masāžas gredzens"
C7: Tehniskās specifikācijas aktualizācijas datums 09.07.2026.
A8: 1) | C8: Finanšu piedāvājumā pretendentam jāietver visi izdevumi un izmaksas, kas saistītas ar Preces piegādi un transportu;
A9: 2) | C9: Piegāde 4 nedēļu laikā no pasūtījuma;
A10: 3) | C10: Piedāvātajām Precēm garantijas termiņš (nosaka Pretendents) ir ___ (______________) mēneši no pavadzīmes-rēķina abpusējas parakstīšanas brīža, bet ne mazāk kā 12 mēneši;
A11: 4) | C11: * Pretendenta tehniskajā piedāvājumā norāda Preces ražotāju un modeli atbilstošos parametrus;
A12: 5) | C12: ** Parametru atbilstību pamatot ar norādi uz tehniskajām datu lapām ("data sheet'') jeb informatīviem materiāliem, kas apliecina atbilstību (oriģinālvalodā un tulkojumi valsts valodā), norādot atsauci tehniskajā piedāvājumā uz konkrēto lapaspusi. Informatīvajos materiālos pretendents atzīmē uz kuru iepirkuma tehniskās specifikācijas pozīciju pievienotā informācija attiecināma;
A13: 6) | C13: Visas piedāvātās Preces ir jaunas (ražotas ne vēlāk kā 12 mēnešu laikā no pasūtījuma brīža), iepriekš nelietotas un nesatur iepriekš lietotas vai atjaunotas sastāvdaļas vai komponentes;
A14: 7) | C14: Piedāvājumam jāpievieno Preces ražotāja izsniegta autorizācijas vēstule, kas apliecina, ka pretendents tiesīgs izplatīt un nodrošināt servisu (ja paredzēts) piedāvātai Precei Latvijas Republikā;
A15: 8) | C15: Pēc pasūtītāja pieprasījuma piegādātājam jānodrošina Preces paraugs;
A16: 9) | C16: Paredzamais daudzums tiek izmantots pretendentu finanšu piedāvājumu objektīvai vērtēšanai. Līgumi tiek slēgti par vienas vienības cenu, nosakot visa iepirkuma kopējo apjomu naudas izteiksmē un nenosakot katras pozīcijas apjomu.
A17: 10) | C17: Piedāvājumam jāpievieno piedāvātas Preces EK atbilstības deklarācijas kopija atbilstoši regulas 2017/745 prasībām un CE sertifikāta kopija (ja ražotājs noteicis ierīču klasi: I klases sterilas ierīces un I klases ierīces ar mērīšanas funkciju, IIa, IIb vai III klases ierīces), norādot attiecīgajā ailē medicīnas ierīces klasi saskaņā ar EK atbilstības deklarācijas datiem - ja attiecas;
A19: Nr.p.k. | C19: Preces nosaukums, veicamās funkcijas, tehniskās prasības | D19: Pretendenta piedāvātie parametri* | F19: Atsauce uz informatīvo materiālu**
A20: 7. | C20: Masāžas gredzens
C21: Veicamās funkcijas:
A22: =$A$20 -> 7. | B22: 1 | C22: Nodrošina lokālu masāžu, veicina asinsrites stimulāciju un palīdz mazināt muskuļu sasprindzinājumu.
C23: Tehniskās prasības:
A24: =$A$20 -> 7. | B24: 2 | C24: Komplektā 2 gredzeni
A25: =$A$20 -> 7. | B25: 3 | C25: Metāla stieples gredzeni paredzēti roku pirkstu masāžai
A26: =$A$20 -> 7. | B26: 5 | C26: Dezinficējams
A27: =$A$20 -> 7. | B27: 6 | C27: Informatīvs attēls
C28: Konfigurācijas: | D28: Pretendenta piedāvātie parametri*: | E28: Preces modelis, kods, ražotājs: | F28: Paredzamais daudzums (gab.): | G28: 1 vienības cena bez PVN, EUR:
A29: =$A$20 -> 7. | B29: 7 | C29: Masāžas gredzens | F29: 2
F30: KOPĒJĀ CENA bez PVN, EUR: | G30: =G29*F29 -> 0
C31: EKK: | D31: 23121

Sheet 8.
G1: Nolikuma
G2: 2. pielikums
A3: Tehniskā specifikācija/Tehniskais-finanšu piedāvājums
A4: Rehabilitācijas un fizioterapijas mazvērtīgā inventāra piegāde
A6: 8.pozicīja"Rullis fizioterapijas"
C7: Tehniskās specifikācijas aktualizācijas datums 09.07.2026.
A8: 1) | C8: Finanšu piedāvājumā pretendentam jāietver visi izdevumi un izmaksas, kas saistītas ar Preces piegādi un transportu;
A9: 2) | C9: Piegāde 4 nedēļu laikā no pasūtījuma;
A10: 3) | C10: Piedāvātajām Precēm garantijas termiņš (nosaka Pretendents) ir ___ (______________) mēneši no pavadzīmes-rēķina abpusējas parakstīšanas brīža, bet ne mazāk kā 12 mēneši;
A11: 4) | C11: * Pretendenta tehniskajā piedāvājumā norāda Preces ražotāju un modeli atbilstošos parametrus;
A12: 5) | C12: ** Parametru atbilstību pamatot ar norādi uz tehniskajām datu lapām ("data sheet'') jeb informatīviem materiāliem, kas apliecina atbilstību (oriģinālvalodā un tulkojumi valsts valodā), norādot atsauci tehniskajā piedāvājumā uz konkrēto lapaspusi. Informatīvajos materiālos pretendents atzīmē uz kuru iepirkuma tehniskās specifikācijas pozīciju pievienotā informācija attiecināma;
A13: 6) | C13: Visas piedāvātās Preces ir jaunas (ražotas ne vēlāk kā 12 mēnešu laikā no pasūtījuma brīža), iepriekš nelietotas un nesatur iepriekš lietotas vai atjaunotas sastāvdaļas vai komponentes;
A14: 7) | C14: Piedāvājumam jāpievieno Preces ražotāja izsniegta autorizācijas vēstule, kas apliecina, ka pretendents tiesīgs izplatīt un nodrošināt servisu (ja paredzēts) piedāvātai Precei Latvijas Republikā;
A15: 8) | C15: Pēc pasūtītāja pieprasījuma piegādātājam jānodrošina Preces paraugs;
A16: 9) | C16: Paredzamais daudzums tiek izmantots pretendentu finanšu piedāvājumu objektīvai vērtēšanai. Līgumi tiek slēgti par vienas vienības cenu, nosakot visa iepirkuma kopējo apjomu naudas izteiksmē un nenosakot katras pozīcijas apjomu.
A17: 10) | C17: Piedāvājumam jāpievieno piedāvātas Preces EK atbilstības deklarācijas kopija atbilstoši regulas 2017/745 prasībām un CE sertifikāta kopija (ja ražotājs noteicis ierīču klasi: I klases sterilas ierīces un I klases ierīces ar mērīšanas funkciju, IIa, IIb vai III klases ierīces), norādot attiecīgajā ailē medicīnas ierīces klasi saskaņā ar EK atbilstības deklarācijas datiem - ja attiecas;
A19: Nr.p.k. | C19: Preces nosaukums, veicamās funkcijas, tehniskās prasības | D19: Pretendenta piedāvātie parametri* | F19: Atsauce uz informatīvo materiālu**
A20: 8. | C20: Rullis fizioterapijas
C21: Veicamās funkcijas:
A22: =$A$20 -> 8. | B22: 1 | C22: Atslābināt muskuļu saspringumu.
C23: Tehniskās prasības:
A24: =$A$20 -> 8. | B24: 2 | C24: Daudzreizlietojams
A25: =$A$20 -> 8. | B25: 3 | C25: Materiāls putu un ABS-plastmasa
A26: =$A$20 -> 8. | B26: 4 | C26: Diametrs 13 ± 3 cm
A27: =$A$20 -> 8. | B27: 5 | C27: Garums 32 ± 3 cm
A28: =$A$20 -> 8. | B28: 6 | C28: Dezinficējams
A29: =$A$20 -> 8. | B29: 7 | C29: Informatīvs attēls
C30: Konfigurācijas: | D30: Pretendenta piedāvātie parametri*: | E30: Preces modelis, kods, ražotājs: | F30: Paredzamais daudzums (gab.): | G30: 1 vienības cena bez PVN, EUR:
A31: =$A$20 -> 8. | B31: 8 | C31: Rullis fizioterapijas | F31: 2
F32: KOPĒJĀ CENA bez PVN, EUR: | G32: =G31*F31 -> 0
C33: EKK: | D33: 23121

Sheet 9.
G1: Nolikuma
G2: 2. pielikums
A3: Tehniskā specifikācija/Tehniskais-finanšu piedāvājums
A4: Rehabilitācijas un fizioterapijas mazvērtīgā inventāra piegāde
A6: 9.pozicīja "Platforma līdzsvara"
C7: Tehniskās specifikācijas aktualizācijas datums 28.07.2026.
A8: 1) | C8: Finanšu piedāvājumā pretendentam jāietver visi izdevumi un izmaksas, kas saistītas ar Preces piegādi un transportu;
A9: 2) | C9: Piegāde 4 nedēļu laikā no pasūtījuma;
A10: 3) | C10: Piedāvātajām Precēm garantijas termiņš (nosaka Pretendents) ir ___ (______________) mēneši no pavadzīmes-rēķina abpusējas parakstīšanas brīža, bet ne mazāk kā 12 mēneši;
A11: 4) | C11: * Pretendenta tehniskajā piedāvājumā norāda Preces ražotāju un modeli atbilstošos parametrus;
A12: 5) | C12: ** Parametru atbilstību pamatot ar norādi uz tehniskajām datu lapām ("data sheet'') jeb informatīviem materiāliem, kas apliecina atbilstību (oriģinālvalodā un tulkojumi valsts valodā), norādot atsauci tehniskajā piedāvājumā uz konkrēto lapaspusi. Informatīvajos materiālos pretendents atzīmē uz kuru iepirkuma tehniskās specifikācijas pozīciju pievienotā informācija attiecināma;
A13: 6) | C13: Visas piedāvātās Preces ir jaunas (ražotas ne vēlāk kā 12 mēnešu laikā no pasūtījuma brīža), iepriekš nelietotas un nesatur iepriekš lietotas vai atjaunotas sastāvdaļas vai komponentes;
A14: 7) | C14: Piedāvājumam jāpievieno Preces ražotāja izsniegta autorizācijas vēstule, kas apliecina, ka pretendents tiesīgs izplatīt un nodrošināt servisu (ja paredzēts) piedāvātai Precei Latvijas Republikā;
A15: 8) | C15: Pēc pasūtītāja pieprasījuma piegādātājam jānodrošina Preces paraugs;
A16: 9) | C16: Paredzamais daudzums tiek izmantots pretendentu finanšu piedāvājumu objektīvai vērtēšanai. Līgumi tiek slēgti par vienas vienības cenu, nosakot visa iepirkuma kopējo apjomu naudas izteiksmē un nenosakot katras pozīcijas apjomu.
A17: 10) | C17: Piedāvājumam jāpievieno piedāvātas Preces EK atbilstības deklarācijas kopija atbilstoši regulas 2017/745 prasībām un CE sertifikāta kopija (ja ražotājs noteicis ierīču klasi: I klases sterilas ierīces un I klases ierīces ar mērīšanas funkciju, IIa, IIb vai III klases ierīces), norādot attiecīgajā ailē medicīnas ierīces klasi saskaņā ar EK atbilstības deklarācijas datiem - ja attiecas;
A19: Nr.p.k. | C19: Preces nosaukums, veicamās funkcijas, tehniskās prasības | D19: Pretendenta piedāvātie parametri* | F19: Atsauce uz informatīvo materiālu**
A20: 9. | C20: Platforma līdzsvara
C21: Veicamās funkcijas:
A22: =$A$20 -> 9. | B22: 1 | C22: Kustību koordinācijai un rehabilitācijai.
C23: Tehniskās prasības:
A24: =$A$20 -> 9. | B24: 2 | C24: Neslīdoša virsma
A25: =$A$20 -> 9. | B25: 3 | C25: Daudzreizlietojams
A26: =$A$20 -> 9. | B26: 4 | C26: Diametrs 38 ± 4 cm
A27: =$A$20 -> 9. | B27: 5 | C27: Materiāls izturīgs
A28: =$A$20 -> 9. | B28: 6 | C28: Biezums 8 ± 3 cm
A29: =$A$20 -> 9. | B29: 7 | C29: Dezinficējams
A30: =$A$20 -> 9. | B30: 8 | C30: Informatīvs attēls
C31: Konfigurācijas: | D31: Pretendenta piedāvātie parametri*: | E31: Preces modelis, kods, ražotājs: | F31: Paredzamais daudzums (gab.): | G31: 1 vienības cena bez PVN, EUR:
A32: =$A$20 -> 9. | B32: 9 | C32: Platforma līdzsvara | F32: 2
F33: KOPĒJĀ CENA bez PVN, EUR: | G33: =G32*F32 -> 0
C34: EKK: | D34: 23121

Sheet 10.
G1: Nolikuma
G2: 2. pielikums
A3: Tehniskā specifikācija/Tehniskais-finanšu piedāvājums
A4: Rehabilitācijas un fizioterapijas mazvērtīgā inventāra piegāde
A6: 10.pozicīja "Aproce svara"
C7: Tehniskās specifikācijas aktualizācijas datums 28.07.2026.
A8: 1) | C8: Finanšu piedāvājumā pretendentam jāietver visi izdevumi un izmaksas, kas saistītas ar Preces piegādi un transportu;
A9: 2) | C9: Piegāde 4 nedēļu laikā no pasūtījuma;
A10: 3) | C10: Piedāvātajām Precēm garantijas termiņš (nosaka Pretendents) ir ___ (______________) mēneši no pavadzīmes-rēķina abpusējas parakstīšanas brīža, bet ne mazāk kā 12 mēneši;
A11: 4) | C11: * Pretendenta tehniskajā piedāvājumā norāda Preces ražotāju un modeli atbilstošos parametrus;
A12: 5) | C12: ** Parametru atbilstību pamatot ar norādi uz tehniskajām datu lapām ("data sheet'') jeb informatīviem materiāliem, kas apliecina atbilstību (oriģinālvalodā un tulkojumi valsts valodā), norādot atsauci tehniskajā piedāvājumā uz konkrēto lapaspusi. Informatīvajos materiālos pretendents atzīmē uz kuru iepirkuma tehniskās specifikācijas pozīciju pievienotā informācija attiecināma;
A13: 6) | C13: Visas piedāvātās Preces ir jaunas (ražotas ne vēlāk kā 12 mēnešu laikā no pasūtījuma brīža), iepriekš nelietotas un nesatur iepriekš lietotas vai atjaunotas sastāvdaļas vai komponentes;
A14: 7) | C14: Piedāvājumam jāpievieno Preces ražotāja izsniegta autorizācijas vēstule, kas apliecina, ka pretendents tiesīgs izplatīt un nodrošināt servisu (ja paredzēts) piedāvātai Precei Latvijas Republikā;
A15: 8) | C15: Pēc pasūtītāja pieprasījuma piegādātājam jānodrošina Preces paraugs;
A16: 9) | C16: Paredzamais daudzums tiek izmantots pretendentu finanšu piedāvājumu objektīvai vērtēšanai. Līgumi tiek slēgti par vienas vienības cenu, nosakot visa iepirkuma kopējo apjomu naudas izteiksmē un nenosakot katras pozīcijas apjomu.
A17: 10) | C17: Piedāvājumam jāpievieno piedāvātas Preces EK atbilstības deklarācijas kopija atbilstoši regulas 2017/745 prasībām un CE sertifikāta kopija (ja ražotājs noteicis ierīču klasi: I klases sterilas ierīces un I klases ierīces ar mērīšanas funkciju, IIa, IIb vai III klases ierīces), norādot attiecīgajā ailē medicīnas ierīces klasi saskaņā ar EK atbilstības deklarācijas datiem - ja attiecas;
A19: Nr.p.k. | C19: Preces nosaukums, veicamās funkcijas, tehniskās prasības | D19: Pretendenta piedāvātie parametri* | F19: Atsauce uz informatīvo materiālu**
A20: 10. | C20: Aproce svara
C21: Veicamās funkcijas:
A22: =$A$20 -> 10. | B22: 1 | C22: Smaguma aproces paredzētas rokām un potītēm, lai palielinātu slodzi trenēšanas laikā
C23: Tehniskās prasības:
A24: =$A$20 -> 10. | B24: 2 | C24: Aproces fiksācija ar līplentes palīdzību
A25: =$A$20 -> 10. | B25: 3 | C25: Fiksācijas gredzens nodrošina drošu ierīces izmantošanu
A26: =$A$20 -> 10. | B26: 4 | C26: Iespējams regulēt aproces diametru
A27: =$A$20 -> 10. | B27: 5 | C27: Polsterējums izgatavots no mākslīgās ādas vai cita sviedrus neuzsūcoša un viegli dezinficējama materiāla
A28: =$A$20 -> 10. | B28: 6 | C28: Dezinficējams
A29: =$A$20 -> 10. | B29: 7 | C29: Informatīvs attēls
C30: Konfigurācijas: | D30: Pretendenta piedāvātie parametri*: | E30: Preces modelis, kods, ražotājs: | F30: Paredzamais daudzums (pāri): | G30: 1 vienības cena bez PVN, EUR:
A31: =$A$20 -> 10. | B31: 8 | C31: Svars 0,5 kg | F31: 4
A32: =$A$20 -> 10. | B32: 9 | C32: Svars 1 kg | F32: 2
F33: KOPĒJĀ CENA bez PVN, EUR: | G33: =SUM(F31*G31)+(F32*G32) -> 0
C34: EKK: | D34: 23121

Sheet 11.
G1: Nolikuma
G2: 2. pielikums
A3: Tehniskā specifikācija/Tehniskais-finanšu piedāvājums
A4: Rehabilitācijas un fizioterapijas mazvērtīgā inventāra piegāde
A6: 11.pozicīja "Rollers"
C7: Tehniskās specifikācijas aktualizācijas datums 09.07.2026.
A8: 1) | C8: Finanšu piedāvājumā pretendentam jāietver visi izdevumi un izmaksas, kas saistītas ar Preces piegādi un transportu;
A9: 2) | C9: Piegāde 4 nedēļu laikā no pasūtījuma;
A10: 3) | C10: Piedāvātajām Precēm garantijas termiņš (nosaka Pretendents) ir ___ (______________) mēneši no pavadzīmes-rēķina abpusējas parakstīšanas brīža, bet ne mazāk kā 12 mēneši;
A11: 4) | C11: * Pretendenta tehniskajā piedāvājumā norāda Preces ražotāju un modeli atbilstošos parametrus;
A12: 5) | C12: ** Parametru atbilstību pamatot ar norādi uz tehniskajām datu lapām ("data sheet'') jeb informatīviem materiāliem, kas apliecina atbilstību (oriģinālvalodā un tulkojumi valsts valodā), norādot atsauci tehniskajā piedāvājumā uz konkrēto lapaspusi. Informatīvajos materiālos pretendents atzīmē uz kuru iepirkuma tehniskās specifikācijas pozīciju pievienotā informācija attiecināma;
A13: 6) | C13: Visas piedāvātās Preces ir jaunas (ražotas ne vēlāk kā 12 mēnešu laikā no pasūtījuma brīža), iepriekš nelietotas un nesatur iepriekš lietotas vai atjaunotas sastāvdaļas vai komponentes;
A14: 7) | C14: Piedāvājumam jāpievieno Preces ražotāja izsniegta autorizācijas vēstule, kas apliecina, ka pretendents tiesīgs izplatīt un nodrošināt servisu (ja paredzēts) piedāvātai Precei Latvijas Republikā;
A15: 8) | C15: Pēc pasūtītāja pieprasījuma piegādātājam jānodrošina Preces paraugs;
A16: 9) | C16: Paredzamais daudzums tiek izmantots pretendentu finanšu piedāvājumu objektīvai vērtēšanai. Līgumi tiek slēgti par vienas vienības cenu, nosakot visa iepirkuma kopējo apjomu naudas izteiksmē un nenosakot katras pozīcijas apjomu.
A17: 10) | C17: Piedāvājumam jāpievieno piedāvātas Preces EK atbilstības deklarācijas kopija atbilstoši regulas 2017/745 prasībām un CE sertifikāta kopija (ja ražotājs noteicis ierīču klasi: I klases sterilas ierīces un I klases ierīces ar mērīšanas funkciju, IIa, IIb vai III klases ierīces), norādot attiecīgajā ailē medicīnas ierīces klasi saskaņā ar EK atbilstības deklarācijas datiem - ja attiecas;
A19: Nr.p.k. | C19: Preces nosaukums, veicamās funkcijas, tehniskās prasības | D19: Pretendenta piedāvātie parametri* | F19: Atsauce uz informatīvo materiālu**
A20: 11. | C20: Rollers
A21: 11. | B21: 1 | C21: Rollers palīdz atslābināt muskuļus - fascijas pēc fiziskajiem treniņiem pašmasāžas veidā
C22: Tehniskās prasības:
A23: =$A$20 -> 11. | B23: 2 | C23: Izgatavots no polipropilēna vai līdzvērtīga materiāla
A24: =$A$20 -> 11. | B24: 3 | C24: Garums 30 cm ± 5 cm
A25: =$A$20 -> 11. | B25: 4 | C25: Diametrs 15 cm ± 5 cm
A26: =$A$20 -> 11. | B26: 5 | C26: Izgatavots no ādu nekairinoša materiāla
A27: =$A$20 -> 11. | B27: 6 | C27: Paredzēts tīrīšanai un dezinfekcijai
A28: =$A$20 -> 11. | B28: 7 | C28: Informatīvais attēls:
C29: Konfigurācijas: | D29: Pretendenta piedāvātie parametri*: | E29: Preces modelis, kods, ražotājs: | F29: Paredzamais daudzums (kaste): | G29: 1 vienības cena bez PVN, EUR:
A30: =$A$20 -> 11. | B30: 8 | C30: Rollers | F30: 1
F31: KOPĒJĀ CENA bez PVN, EUR: | G31: =G30 -> 0
C32: EKK: | D32: 23121

Sheet 12.
G1: Nolikuma
G2: 2. pielikums
A3: Tehniskā specifikācija/Tehniskais-finanšu piedāvājums
A4: Rehabilitācijas un fizioterapijas mazvērtīgā inventāra piegāde
A6: 12.pozicīja"Gumija stiepšanas gara"
C7: Tehniskās specifikācijas aktualizācijas datums 09.07.2026.
A8: 1) | C8: Finanšu piedāvājumā pretendentam jāietver visi izdevumi un izmaksas, kas saistītas ar Preces piegādi un transportu;
A9: 2) | C9: Piegāde 4 nedēļu laikā no pasūtījuma;
A10: 3) | C10: Piedāvātajām Precēm garantijas termiņš (nosaka Pretendents) ir ___ (______________) mēneši no pavadzīmes-rēķina abpusējas parakstīšanas brīža, bet ne mazāk kā 12 mēneši;
A11: 4) | C11: * Pretendenta tehniskajā piedāvājumā norāda Preces ražotāju un modeli atbilstošos parametrus;
A12: 5) | C12: ** Parametru atbilstību pamatot ar norādi uz tehniskajām datu lapām ("data sheet'') jeb informatīviem materiāliem, kas apliecina atbilstību (oriģinālvalodā un tulkojumi valsts valodā), norādot atsauci tehniskajā piedāvājumā uz konkrēto lapaspusi. Informatīvajos materiālos pretendents atzīmē uz kuru iepirkuma tehniskās specifikācijas pozīciju pievienotā informācija attiecināma;
A13: 6) | C13: Visas piedāvātās Preces ir jaunas (ražotas ne vēlāk kā 12 mēnešu laikā no pasūtījuma brīža), iepriekš nelietotas un nesatur iepriekš lietotas vai atjaunotas sastāvdaļas vai komponentes;
A14: 7) | C14: Piedāvājumam jāpievieno Preces ražotāja izsniegta autorizācijas vēstule, kas apliecina, ka pretendents tiesīgs izplatīt un nodrošināt servisu (ja paredzēts) piedāvātai Precei Latvijas Republikā;
A15: 8) | C15: Pēc pasūtītāja pieprasījuma piegādātājam jānodrošina Preces paraugs;
A16: 9) | C16: Paredzamais daudzums tiek izmantots pretendentu finanšu piedāvājumu objektīvai vērtēšanai. Līgumi tiek slēgti par vienas vienības cenu, nosakot visa iepirkuma kopējo apjomu naudas izteiksmē un nenosakot katras pozīcijas apjomu.
A17: 10) | C17: Piedāvājumam jāpievieno piedāvātas Preces EK atbilstības deklarācijas kopija atbilstoši regulas 2017/745 prasībām un CE sertifikāta kopija (ja ražotājs noteicis ierīču klasi: I klases sterilas ierīces un I klases ierīces ar mērīšanas funkciju, IIa, IIb vai III klases ierīces), norādot attiecīgajā ailē medicīnas ierīces klasi saskaņā ar EK atbilstības deklarācijas datiem - ja attiecas;
A19: Nr.p.k. | C19: Preces nosaukums, veicamās funkcijas, tehniskās prasības | D19: Pretendenta piedāvātie parametri* | F19: Atsauce uz informatīvo materiālu**
A20: 12. | C20: Gumija stiepšanas gara
C21: Veicamās funkcijas:
A22: =$A$20 -> 12. | B22: 1 | C22: Spēka, līdzsvara un ķermeņa stājas vingrinājumiem.
C23: Tehniskās prasības:
A24: =$A$20 -> 12. | B24: 2 | C24: Nesatur lateksu
A25: =$A$20 -> 12. | B25: 3 | C25: Daudzreizlietojams
A26: =$A$20 -> 12. | B26: 4 | C26: Pieejami vairāki pretestības līmeņi
A27: =$A$20 -> 12. | B27: 5 | C27: Svara izturība no 1,3 līdz 2,5 kg ± 0,2 kg
A28: =$A$20 -> 12. | B28: 6 | C28: Gumija cilpas veidolā
A29: =$A$20 -> 12. | B29: 7 | C29: Platums 7 ± 2 cm
A30: =$A$20 -> 12. | B30: 8 | C30: Garums 35 ± 5 cm
A31: =$A$20 -> 12. | B31: 9 | C31: Dezinficējams
A32: =$A$20 -> 12. | B32: 10 | C32: Informatīvs attēls
C33: Konfigurācijas: | D33: Pretendenta piedāvātie parametri*: | E33: Preces modelis, kods, ražotājs: | F33: Paredzamais daudzums (gab.): | G33: 1 vienības cena bez PVN, EUR:
A34: =$A$20 -> 12. | B34: 11 | C34: Dzeltena mazas pretestības gumija, 1.4 kg ± 0,2 kg | F34: 1
A35: =$A$20 -> 12. | B35: 12 | C35: Sarkana mazas pretestības gumija, 1.7 kg ± 0,2 kg | F35: 1
A36: =$A$20 -> 12. | B36: 13 | C36: Zila lielas pretestības gumija, 2.6 kg ± 0,2 kg | F36: 1
A37: =$A$20 -> 12. | B37: 14 | C37: Zaļa lielas pretestības gumija, 2.1 kg ± 0,2 kg | F37: 1
F38: KOPĒJĀ CENA bez PVN, EUR: | G38: =SUM(G34:G37) -> 0
C39: EKK: | D39: 23121

Sheet 13.
G1: Nolikuma
G2: 2. pielikums
A3: Tehniskā specifikācija/Tehniskais-finanšu piedāvājums
A4: Rehabilitācijas un fizioterapijas mazvērtīgā inventāra piegāde
A6: 13.pozicīja "Bumba vingrošanas Ø75"
C7: Tehniskās specifikācijas aktualizācijas datums 09.07.2026.
A8: 1) | C8: Finanšu piedāvājumā pretendentam jāietver visi izdevumi un izmaksas, kas saistītas ar Preces piegādi un transportu;
A9: 2) | C9: Piegāde 4 nedēļu laikā no pasūtījuma;
A10: 3) | C10: Piedāvātajām Precēm garantijas termiņš (nosaka Pretendents) ir ___ (______________) mēneši no pavadzīmes-rēķina abpusējas parakstīšanas brīža, bet ne mazāk kā 12 mēneši;
A11: 4) | C11: * Pretendenta tehniskajā piedāvājumā norāda Preces ražotāju un modeli atbilstošos parametrus;
A12: 5) | C12: ** Parametru atbilstību pamatot ar norādi uz tehniskajām datu lapām ("data sheet'') jeb informatīviem materiāliem, kas apliecina atbilstību (oriģinālvalodā un tulkojumi valsts valodā), norādot atsauci tehniskajā piedāvājumā uz konkrēto lapaspusi. Informatīvajos materiālos pretendents atzīmē uz kuru iepirkuma tehniskās specifikācijas pozīciju pievienotā informācija attiecināma;
A13: 6) | C13: Visas piedāvātās Preces ir jaunas (ražotas ne vēlāk kā 12 mēnešu laikā no pasūtījuma brīža), iepriekš nelietotas un nesatur iepriekš lietotas vai atjaunotas sastāvdaļas vai komponentes;
A14: 7) | C14: Piedāvājumam jāpievieno Preces ražotāja izsniegta autorizācijas vēstule, kas apliecina, ka pretendents tiesīgs izplatīt un nodrošināt servisu (ja paredzēts) piedāvātai Precei Latvijas Republikā;
A15: 8) | C15: Pēc pasūtītāja pieprasījuma piegādātājam jānodrošina Preces paraugs;
A16: 9) | C16: Paredzamais daudzums tiek izmantots pretendentu finanšu piedāvājumu objektīvai vērtēšanai. Līgumi tiek slēgti par vienas vienības cenu, nosakot visa iepirkuma kopējo apjomu naudas izteiksmē un nenosakot katras pozīcijas apjomu.
A17: 10) | C17: Piedāvājumam jāpievieno piedāvātas Preces EK atbilstības deklarācijas kopija atbilstoši regulas 2017/745 prasībām un CE sertifikāta kopija (ja ražotājs noteicis ierīču klasi: I klases sterilas ierīces un I klases ierīces ar mērīšanas funkciju, IIa, IIb vai III klases ierīces), norādot attiecīgajā ailē medicīnas ierīces klasi saskaņā ar EK atbilstības deklarācijas datiem - ja attiecas;
A19: Nr.p.k. | C19: Preces nosaukums, veicamās funkcijas, tehniskās prasības | D19: Pretendenta piedāvātie parametri* | F19: Atsauce uz informatīvo materiālu**
A20: 13. | C20: Bumba vingrošanas Ø75
C21: Veicamās funkcijas:
A22: =$A$20 -> 13. | B22: 1 | C22: Profesionālā vingrošanas bumba fizioterapijas un rehabilitācijas nodarbībām
C23: Tehniskās prasības:
A24: =$A$20 -> 13. | B24: 2 | C24: Bumbas diametrs: Ø 75 ± 1 cm
A25: =$A$20 -> 13. | B25: 3 | C25: Bumba izgatavota no izturīga un elastīga materiāla
A26: =$A$20 -> 13. | B26: 4 | C26: Nesatur lateksu
A27: =$A$20 -> 13. | B27: 5 | C27: Maksimālā slodze ne mazāk kā 150 kg
A28: =$A$20 -> 13. | B28: 6 | C28: Komplektā ar piepūšanas aprīkojumu
A29: =$A$20 -> 13. | B29: 7 | C29: Viegli tīrama un dezinficējama
A30: =$A$20 -> 13. | B30: 8 | C30: Pieejamas dažādās krāsās, pirms piegādes krāsu saskaņot ar pasūtītāju
A31: =$A$20 -> 13. | B31: 9 | C31: Informatīvs attēls
C32: Konfigurācijas: | D32: Pretendenta piedāvātie parametri*: | E32: Preces modelis, kods, ražotājs: | F32: Paredzamais daudzums (gab.): | G32: 1 vienības cena bez PVN, EUR:
A33: =$A$20 -> 13. | B33: 10 | C33: Bumba vingrošanas Ø75 | F33: 2
F34: KOPĒJĀ CENA bez PVN, EUR: | G34: =G33*F33 -> 0
C35: EKK: | D35: 23121

Sheet 14.
G1: Nolikuma
G2: 2. pielikums
A3: Tehniskā specifikācija/Tehniskais-finanšu piedāvājums
A4: Rehabilitācijas un fizioterapijas mazvērtīgā inventāra piegāde
A6: 14.pozicīja"Gumija vingrošanas"
C7: Tehniskās specifikācijas aktualizācijas datums 28.07.2026.
A8: 1) | C8: Finanšu piedāvājumā pretendentam jāietver visi izdevumi un izmaksas, kas saistītas ar Preces piegādi un transportu;
A9: 2) | C9: Piegāde 4 nedēļu laikā no pasūtījuma;
A10: 3) | C10: Daudzreiz lietojamam piedāvātajām Precēm garantijas termiņš (nosaka Pretendents) ir ___ (______________) mēneši no pavadzīmes-rēķina abpusējas parakstīšanas brīža, bet ne mazāk kā 12 mēneši;
A11: 4) | C11: * Pretendenta tehniskajā piedāvājumā norāda Preces ražotāju un modeli atbilstošos parametrus;
A12: 5) | C12: ** Parametru atbilstību pamatot ar norādi uz tehniskajām datu lapām ("data sheet'') jeb informatīviem materiāliem, kas apliecina atbilstību (oriģinālvalodā un tulkojumi valsts valodā), norādot atsauci tehniskajā piedāvājumā uz konkrēto lapaspusi. Informatīvajos materiālos pretendents atzīmē uz kuru iepirkuma tehniskās specifikācijas pozīciju pievienotā informācija attiecināma;
A13: 6) | C13: Visas piedāvātās Preces ir jaunas (ražotas ne vēlāk kā 12 mēnešu laikā no pasūtījuma brīža), iepriekš nelietotas un nesatur iepriekš lietotas vai atjaunotas sastāvdaļas vai komponentes;
A14: 7) | C14: Piedāvājumam jāpievieno Preces ražotāja izsniegta autorizācijas vēstule, kas apliecina, ka pretendents tiesīgs izplatīt un nodrošināt servisu (ja paredzēts) piedāvātai Precei Latvijas Republikā;
A15: 8) | C15: Pēc pasūtītāja pieprasījuma piegādātājam jānodrošina Preces paraugs;
A16: 9) | C16: Paredzamais daudzums tiek izmantots pretendentu finanšu piedāvājumu objektīvai vērtēšanai. Līgumi tiek slēgti par vienas vienības cenu, nosakot visa iepirkuma kopējo apjomu naudas izteiksmē un nenosakot katras pozīcijas apjomu.
A17: 10) | C17: Piedāvājumam jāpievieno piedāvātas Preces EK atbilstības deklarācijas kopija atbilstoši regulas 2017/745 prasībām un CE sertifikāta kopija (ja ražotājs noteicis ierīču klasi: I klases sterilas ierīces un I klases ierīces ar mērīšanas funkciju, IIa, IIb vai III klases ierīces), norādot attiecīgajā ailē medicīnas ierīces klasi saskaņā ar EK atbilstības deklarācijas datiem - ja attiecas;
A19: Nr.p.k. | C19: Preces nosaukums, veicamās funkcijas, tehniskās prasības | D19: Pretendenta piedāvātie parametri* | F19: Atsauce uz informatīvo materiālu**
A20: 14. | C20: Gumija vingrošanas
C21: Veicamās funkcijas:
A22: =$A$20 -> 14. | B22: 1 | C22: Apļveida gumija paredzēta dažādu ķermeņa muskuļu grupu stiprināšanai, stiepšanai un rehabilitācijai
C23: Tehniskās prasības:
A24: =$A$20 -> 14. | B24: 2 | C24: Dažādas pretestības
A25: =$A$20 -> 14. | B25: 3 | C25: Apļveida
A26: =$A$20 -> 14. | B26: 4 | C26: Elastīga
A27: =$A$20 -> 14. | B27: 5 | C27: Nesatur lateksu
A28: =$A$20 -> 14. | B28: 6 | C28: Garums: 5 ± 0,5 m
A29: =$A$20 -> 14. | B29: 7 | C29: Platums: 12 ± 2 cm
A30: =$A$20 -> 14. | B30: 8 | C30: Informatīvs attēls Thera Band vai analogs
C31: Konfigurācijas: | D31: Pretendenta piedāvātie parametri*: | E31: Preces modelis, kods, ražotājs: | F31: Paredzamais daudzums (gab.): | G31: 1 vienības cena bez PVN, EUR:
A32: =$A$20 -> 14. | B32: 9 | C32: Dzeltena, gumija vingrošanai ļoti vājas pretestības | F32: 5 | G32: 0
A33: =$A$20 -> 14. | B33: 10 | C33: Sarkana, gumija vingrošanai vājas pretestības | F33: 5 | G33: 0
A34: =$A$20 -> 14. | B34: 11 | C34: Zaļa, gumija vingrošanai vidējas pretestības | F34: 5 | G34: 0
A35: =$A$20 -> 14. | B35: 12 | C35: Zila, gumija vingrošanai vidēji stipras pretestības | F35: 5 | G35: 0
A36: =$A$20 -> 14. | B36: 13 | C36: Melna, gumija vingrošanai stipras pretestības | F36: 5 | G36: 0
F37: KOPĒJĀ CENA bez PVN, EUR: | G37: =(G32*F32)+(G33*F33)+(F34*G34)+(F35*G35)+(F36*G36) -> 0
C38: EKK: | D38: 23121

Sheet 15.
G1: Nolikuma
G2: 2. pielikums
A3: Tehniskā specifikācija/Tehniskais-finanšu piedāvājums
A4: Rehabilitācijas un fizioterapijas mazvērtīgā inventāra piegāde
A6: 15.pozicīja "Ola gēla saspiežama"
C7: Tehniskās specifikācijas aktualizācijas datums 09.07.2026.
A8: 1) | C8: Finanšu piedāvājumā pretendentam jāietver visi izdevumi un izmaksas, kas saistītas ar Preces piegādi un transportu;
A9: 2) | C9: Piegāde 4 nedēļu laikā no pasūtījuma;
A10: 3) | C10: Piedāvātajām Precēm garantijas termiņš (nosaka Pretendents) ir ___ (______________) mēneši no pavadzīmes-rēķina abpusējas parakstīšanas brīža, bet ne mazāk kā 12 mēneši;
A11: 4) | C11: * Pretendenta tehniskajā piedāvājumā norāda Preces ražotāju un modeli atbilstošos parametrus;
A12: 5) | C12: ** Parametru atbilstību pamatot ar norādi uz tehniskajām datu lapām ("data sheet'') jeb informatīviem materiāliem, kas apliecina atbilstību (oriģinālvalodā un tulkojumi valsts valodā), norādot atsauci tehniskajā piedāvājumā uz konkrēto lapaspusi. Informatīvajos materiālos pretendents atzīmē uz kuru iepirkuma tehniskās specifikācijas pozīciju pievienotā informācija attiecināma;
A13: 6) | C13: Visas piedāvātās Preces ir jaunas (ražotas ne vēlāk kā 12 mēnešu laikā no pasūtījuma brīža), iepriekš nelietotas un nesatur iepriekš lietotas vai atjaunotas sastāvdaļas vai komponentes;
A14: 7) | C14: Piedāvājumam jāpievieno Preces ražotāja izsniegta autorizācijas vēstule, kas apliecina, ka pretendents tiesīgs izplatīt un nodrošināt servisu (ja paredzēts) piedāvātai Precei Latvijas Republikā;
A15: 8) | C15: Pēc pasūtītāja pieprasījuma piegādātājam jānodrošina Preces paraugs;
A16: 9) | C16: Paredzamais daudzums tiek izmantots pretendentu finanšu piedāvājumu objektīvai vērtēšanai. Līgumi tiek slēgti par vienas vienības cenu, nosakot visa iepirkuma kopējo apjomu naudas izteiksmē un nenosakot katras pozīcijas apjomu.
A17: 10) | C17: Piedāvājumam jāpievieno piedāvātas Preces EK atbilstības deklarācijas kopija atbilstoši regulas 2017/745 prasībām un CE sertifikāta kopija (ja ražotājs noteicis ierīču klasi: I klases sterilas ierīces un I klases ierīces ar mērīšanas funkciju, IIa, IIb vai III klases ierīces), norādot attiecīgajā ailē medicīnas ierīces klasi saskaņā ar EK atbilstības deklarācijas datiem - ja attiecas;
A19: Nr.p.k. | C19: Preces nosaukums, veicamās funkcijas, tehniskās prasības | D19: Pretendenta piedāvātie parametri* | F19: Atsauce uz informatīvo materiālu**
A20: 15. | C20: Ola gēla saspiežama
C21: Veicamās funkcijas:
A22: =$A$20 -> 15. | B22: 1 | C22: Atslābina saspringtus, sāpīgus muskuļus
C23: Tehniskās prasības:
A24: =$A$20 -> 15. | B24: 2 | C24: Materiāls gumija
A25: =$A$20 -> 15. | B25: 3 | C25: Nesatur lateksu
A26: =$A$20 -> 15. | B26: 4 | C26: Dažādas pretestības
A27: =$A$20 -> 15. | B27: 5 | C27: Dezinficējams
A28: =$A$20 -> 15. | B28: 6 | C28: Diametrs 6 cm ± 1 cm garumā un 4 cm ± 1 cm platumā
A29: =$A$20 -> 15. | B29: 7 | C29: Informatīvs attēls
C30: Konfigurācijas: | D30: Pretendenta piedāvātie parametri*: | E30: Preces modelis, kods, ražotājs: | F30: Paredzamais daudzums (gab.): | G30: 1 vienības cena bez PVN, EUR:
A31: =$A$20 -> 15. | B31: 8 | C31: Sarkana, mīksta | F31: 1
A32: =$A$20 -> 15. | B32: 9 | C32: Dzeltena, ļoti mīksta | F32: 1
A33: =$A$20 -> 15. | B33: 10 | C33: Zaļa - vidēja | F33: 1
A34: =$A$20 -> 15. | B34: 11 | C34: Zila - stipra | F34: 1
A35: =$A$20 -> 15. | B35: 12 | C35: Melna - īpaši stipra | F35: 1
F36: KOPĒJĀ CENA bez PVN, EUR: | G36: =SUM(G31:G35) -> 0
C37: EKK: | D37: 23121

Sheet 16.
G1: Nolikuma
G2: 2. pielikums
A3: Tehniskā specifikācija/Tehniskais-finanšu piedāvājums
A4: Rehabilitācijas un fizioterapijas mazvērtīgā inventāra piegāde
A6: 16.pozicīja "Trenažieris rokas U tipa"
C7: Tehniskās specifikācijas aktualizācijas datums 28.07.2026.
A8: 1) | C8: Finanšu piedāvājumā pretendentam jāietver visi izdevumi un izmaksas, kas saistītas ar Preces piegādi un transportu;
A9: 2) | C9: Piegāde 4 nedēļu laikā no pasūtījuma;
A10: 3) | C10: Piedāvātajām Precēm garantijas termiņš (nosaka Pretendents) ir ___ (______________) mēneši no pavadzīmes-rēķina abpusējas parakstīšanas brīža, bet ne mazāk kā 12 mēneši;
A11: 4) | C11: * Pretendenta tehniskajā piedāvājumā norāda Preces ražotāju un modeli atbilstošos parametrus;
A12: 5) | C12: ** Parametru atbilstību pamatot ar norādi uz tehniskajām datu lapām ("data sheet'') jeb informatīviem materiāliem, kas apliecina atbilstību (oriģinālvalodā un tulkojumi valsts valodā), norādot atsauci tehniskajā piedāvājumā uz konkrēto lapaspusi. Informatīvajos materiālos pretendents atzīmē uz kuru iepirkuma tehniskās specifikācijas pozīciju pievienotā informācija attiecināma;
A13: 6) | C13: Visas piedāvātās Preces ir jaunas (ražotas ne vēlāk kā 12 mēnešu laikā no pasūtījuma brīža), iepriekš nelietotas un nesatur iepriekš lietotas vai atjaunotas sastāvdaļas vai komponentes;
A14: 7) | C14: Piedāvājumam jāpievieno Preces ražotāja izsniegta autorizācijas vēstule, kas apliecina, ka pretendents tiesīgs izplatīt un nodrošināt servisu (ja paredzēts) piedāvātai Precei Latvijas Republikā;
A15: 8) | C15: Pēc pasūtītāja pieprasījuma piegādātājam jānodrošina Preces paraugs;
A16: 9) | C16: Paredzamais daudzums tiek izmantots pretendentu finanšu piedāvājumu objektīvai vērtēšanai. Līgumi tiek slēgti par vienas vienības cenu, nosakot visa iepirkuma kopējo apjomu naudas izteiksmē un nenosakot katras pozīcijas apjomu.
A17: 10) | C17: Piedāvājumam jāpievieno piedāvātas Preces EK atbilstības deklarācijas kopija atbilstoši regulas 2017/745 prasībām un CE sertifikāta kopija (ja ražotājs noteicis ierīču klasi: I klases sterilas ierīces un I klases ierīces ar mērīšanas funkciju, IIa, IIb vai III klases ierīces), norādot attiecīgajā ailē medicīnas ierīces klasi saskaņā ar EK atbilstības deklarācijas datiem - ja attiecas;
A19: Nr.p.k. | C19: Preces nosaukums, veicamās funkcijas, tehniskās prasības | D19: Pretendenta piedāvātie parametri* | F19: Atsauce uz informatīvo materiālu**
A20: 16. | C20: Trenažieris rokas U tipa
C21: Veicamās funkcijas:
A22: =$A$20 -> 16. | B22: 1 | C22: Satveršanas izturības un augšējās ekstremitātes stabilizācijas veicināšanai.
C23: Tehniskās prasības:
A24: =$A$20 -> 16. | B24: 2 | C24: Daudzreizlietojams
A25: =$A$20 -> 16. | B25: 3 | C25: Pieejami vairāki pretestības līmeņi
A26: =$A$20 -> 16. | B26: 4 | C26: Materiāls dabiskais kaučuks, antibakteriāls
A27: =$A$20 -> 16. | B27: 5 | C27: Garums 30 cm ± 1 cm
A28: =$A$20 -> 16. | B28: 6 | C28: Diametrs ne mazāk kā 32 mm līdz ne vairāk kā 45mm
A29: =$A$20 -> 16. | B29: 7 | C29: Svara izturība līdz ne mazāk kā 10 kg
A30: =$A$20 -> 16. | B30: 8 | C30: Dezinficējams
A31: =$A$20 -> 16. | B31: 9 | C31: Informatīvs attēls
C32: Konfigurācijas: | D32: Pretendenta piedāvātie parametri*: | E32: Preces modelis, kods, ražotājs: | F32: Paredzamais daudzums (gab.): | G32: 1 vienības cena bez PVN, EUR:
A33: =$A$20 -> 16. | B33: 10 | C33: Dzeltens trenažieris rokas, svara izturība 2.5 kg ± 0,3 kg | F33: 1
A34: =$A$20 -> 16. | B34: 11 | C34: Sarkans trenažieris rokas, svara izturība 4.5 kg ± 0,3 kg | F34: 1
A35: =$A$20 -> 16. | B35: 12 | C35: Zaļš trenažieris rokas, svara izturība 6.8 kg ± 0,3 kg | F35: 1
A36: =$A$20 -> 16. | B36: 13 | C36: Zils trenažieris rokas, svara izturība 11.3 kg ± 0,3 kg | F36: 1
F37: KOPĒJĀ CENA bez PVN, EUR: | G37: =G33+G34+G35+G36 -> 0
C38: EKK: | D38: 23121

Sheet 17.
G1: Nolikuma
G2: 2. pielikums
A3: Tehniskā specifikācija/Tehniskais-finanšu piedāvājums
A4: Rehabilitācijas un fizioterapijas mazvērtīgā inventāra piegāde
A6: 17.pozicīja "Konuss rokas terapijai"
C7: Tehniskās specifikācijas aktualizācijas datums 28.07.2026.
A8: 1) | C8: Finanšu piedāvājumā pretendentam jāietver visi izdevumi un izmaksas, kas saistītas ar Preces piegādi un transportu;
A9: 2) | C9: Piegāde 4 nedēļu laikā no pasūtījuma;
A10: 3) | C10: Piedāvātajām Precēm garantijas termiņš (nosaka Pretendents) ir ___ (______________) mēneši no pavadzīmes-rēķina abpusējas parakstīšanas brīža, bet ne mazāk kā 12 mēneši;
A11: 4) | C11: * Pretendenta tehniskajā piedāvājumā norāda Preces ražotāju un modeli atbilstošos parametrus;
A12: 5) | C12: ** Parametru atbilstību pamatot ar norādi uz tehniskajām datu lapām ("data sheet'') jeb informatīviem materiāliem, kas apliecina atbilstību (oriģinālvalodā un tulkojumi valsts valodā), norādot atsauci tehniskajā piedāvājumā uz konkrēto lapaspusi. Informatīvajos materiālos pretendents atzīmē uz kuru iepirkuma tehniskās specifikācijas pozīciju pievienotā informācija attiecināma;
A13: 6) | C13: Visas piedāvātās Preces ir jaunas (ražotas ne vēlāk kā 12 mēnešu laikā no pasūtījuma brīža), iepriekš nelietotas un nesatur iepriekš lietotas vai atjaunotas sastāvdaļas vai komponentes;
A14: 7) | C14: Piedāvājumam jāpievieno Preces ražotāja izsniegta autorizācijas vēstule, kas apliecina, ka pretendents tiesīgs izplatīt un nodrošināt servisu (ja paredzēts) piedāvātai Precei Latvijas Republikā;
A15: 8) | C15: Pēc pasūtītāja pieprasījuma piegādātājam jānodrošina Preces paraugs;
A16: 9) | C16: Paredzamais daudzums tiek izmantots pretendentu finanšu piedāvājumu objektīvai vērtēšanai. Līgumi tiek slēgti par vienas vienības cenu, nosakot visa iepirkuma kopējo apjomu naudas izteiksmē un nenosakot katras pozīcijas apjomu.
A17: 10) | C17: Piedāvājumam jāpievieno piedāvātas Preces EK atbilstības deklarācijas kopija atbilstoši regulas 2017/745 prasībām un CE sertifikāta kopija (ja ražotājs noteicis ierīču klasi: I klases sterilas ierīces un I klases ierīces ar mērīšanas funkciju, IIa, IIb vai III klases ierīces), norādot attiecīgajā ailē medicīnas ierīces klasi saskaņā ar EK atbilstības deklarācijas datiem - ja attiecas;
A19: Nr.p.k. | C19: Preces nosaukums, veicamās funkcijas, tehniskās prasības | D19: Pretendenta piedāvātie parametri* | F19: Atsauce uz informatīvo materiālu**
A20: 17. | C20: Konuss rokas terapijai
C21: Veicamās funkcijas:
A22: =$A$20 -> 17. | B22: 1 | C22: Rokas-acu koordinācijas uzlabošanai.
C23: Tehniskās prasības:
A24: =$A$20 -> 17. | B24: 2 | C24: Komplektā ne mazāk kā 6 dažāda diametra konusi
A25: =$A$20 -> 17. | B25: 3 | C25: Daudzreizlietojams
A26: =$A$20 -> 17. | B26: 4 | C26: Nesatur lateksu
A27: =$A$20 -> 17. | B27: 5 | C27: Viena konusa svars ne vairāk kā 70 g
A28: =$A$20 -> 17. | B28: 6 | C28: Garums 18 ± 3 cm
A29: =$A$20 -> 17. | B29: 7 | C29: Dezinficējams
A30: =$A$20 -> 17. | B30: 8 | C30: Informatīvs attēls
C31: Konfigurācijas: | D31: Pretendenta piedāvātie parametri*: | E31: Preces modelis, kods, ražotājs: | F31: Paredzamais daudzums (gab.): | G31: 1 vienības cena bez PVN, EUR:
A32: =$A$20 -> 17. | B32: 9 | C32: Konusu komplekts | F32: 1
F33: KOPĒJĀ CENA bez PVN, EUR: | G33: =G32 -> 0
C34: EKK: | D34: 23121

Sheet 18.
G1: Nolikuma
G2: 2. pielikums
A3: Tehniskā specifikācija/Tehniskais-finanšu piedāvājums
A4: Rehabilitācijas un fizioterapijas mazvērtīgā inventāra piegāde
A6: 18.pozicīja "Disks pronācijas/supinācijas"
C7: Tehniskās specifikācijas aktualizācijas datums 09.07.2026.
A8: 1) | C8: Finanšu piedāvājumā pretendentam jāietver visi izdevumi un izmaksas, kas saistītas ar Preces piegādi un transportu;
A9: 2) | C9: Piegāde 16 nedēļu laikā no pasūtījuma;
A10: 3) | C10: Piedāvātajām Precēm garantijas termiņš (nosaka Pretendents) ir ___ (______________) mēneši no pavadzīmes-rēķina abpusējas parakstīšanas brīža, bet ne mazāk kā 12 mēneši;
A11: 4) | C11: * Pretendenta tehniskajā piedāvājumā norāda Preces ražotāju un modeli atbilstošos parametrus;
