Workbook
Name datums: [1]KA!$K$45
Name likme: KT!#REF!
Name parb: [1]KA!$K$43
Name procenti: #REF!
Name sast: [1]KA!$K$42
Name sertif: [1]KA!$K$44

Sheet KT
C2: APSTIPRINU_________________________________
C3: (pasūtītāja paraksts un tā atšifrējums)
C4: Z.V.
C5: ___.gada ___.______________
A7: Būvniecības koptāme
A9: Objekta nosaukums: | B9: Garkalnes Mākslas un vispārizglītojošās pamatskolas piebūve
A10: Būves nosaukums: | B10: Garkalnes Mākslas un vispārizglītojošā pamatskola
A11: Objekta adrese: | B11: Ropažu novads, Garkalne, Vidzemes šoseja 34, LV-2137
A12: Pasūtījuma nr.: | B12: 3DAD_228_GV34_L
A14: Nr.p.k. | B14: Objekta nosaukums | C14: Objekta izmaksas (euro)
A15: 1 | B15: =B9 -> Garkalnes Mākslas un vispārizglītojošās pamatskolas piebūve
B18: Kopā
A20: PVN (21%)
A23: Sastādīja: | C23: =C27 -> 2026. gada 17.aprīlī
A24: (paraksts un tā atšifrējums, datums)
A25: Sertifikāta Nr.:
A27: Pārbaudīja: | C27: 2026. gada 17.aprīlī
A28: (paraksts un tā atšifrējums, datums)
A29: Sertifikāta Nr.:

Sheet KA
A2: Kopsavilkuma aprēķins nr.1
A3: =C6 -> Garkalnes Mākslas un vispārizglītojošās pamatskolas piebūve
A4: (būvdarbu veids vai konstruktīvā elementa nosaukums)
A6: Objekta nosaukums: | C6: =KT!B9 -> Garkalnes Mākslas un vispārizglītojošās pamatskolas piebūve
A7: Būves nosaukums: | C7: =KT!B10 -> Garkalnes Mākslas un vispārizglītojošā pamatskola
A8: Objekta adrese: | C8: =KT!B11 -> Ropažu novads, Garkalne, Vidzemes šoseja 34, LV-2137
A9: Pasūtījuma nr.: | C9: =KT!B12 -> 3DAD_228_GV34_L
C10: Par kopējo summu (euro) | E10: =E54 -> 0
C11: Kopējā darbietilpība (c/h) | E11: =SUM(I14:I49) -> 0
A12: Nr.p.k. | B12: kods, tāmes nr. | C12: Būvdarbu veids vai konstruktīvā elementa nosaukums | E12: Tāmes izmaksas | F12: Tai skaitā | I12: Darbietilpība (c/h)
F13: Darba alga | G13: Būvizstrādājumi | H13: Mehānismi
A14: 1 | C14: 1. Vispārējie būvdarbi
A15: 2 | B15: 1.1 | C15: Zemes darbi
A16: 3 | B16: 1.2 | C16: Pamati un pamatnes
A17: 4 | B17: 1.3 | C17: Sienas, ēku un būvju karkasu konstrukcijas
A18: 5 | B18: 1.4 | C18: Starpsienas
A19: 6 | B19: 1.5 | C19: Grīdu pamatnes, segumi
A20: 7 | B20: 1.6 | C20: Jumti, segumi
A21: 8 | B21: 1.7 | C21: Aiļu aizpildījumu elementi, speciālo konstrukciju fasādes
A22: 9 | B22: 1.8 | C22: Iekšējie apdares darbi
A23: 10 | B23: 1.9 | C23: Ārējie apdares darbi
A24: 11 | B24: 1.1 | C24: Žogi, nožogojumi, vārti un vārtiņi
A25: 12 | B25: 1.11 | C25: Ceļi un laukumi
A26: 13 | B26: 1.12 | C26: Apzaļumošanas darbi
... A28: 15 | B28: 1.14 | C28: Dažādi darbi - ēdnīcas aprīkojums
A29: 16 | C29: 2. Specializētie darbi – iekšējie tīkli, sistēmas
A30: 17 | B30: 2.1 | C30: Iekšējie elektrotīkli, apgaismojums, spēka pievadi
A31: 18 | B31: 2.2 | C31: Iekšējās apkures sistēmas
A32: 19 | B32: 2.3 | C32: Vēdināšana, gaisa kondicionēšana
A33: 20 | B33: 2.4 | C33: Iekšējie ūdensvada tīkli, aprīkojums
A34: 21 | B34: 2.5 | C34: Iekšējie kanalizācijas tīkli, aprīkojums
A35: 22 | B35: 2.6 | C35: Vājstrāvas tīkli - UATS
A36: 23 | B36: 2.7 | C36: Vājstrāvas tīkli - AS
A37: 24 | B37: 2.8 | C37: Vājstrāvas tīkli - CI
A38: 25 | B38: 2.9 | C38: Vājstrāvas tīkli - DA
A39: 26 | B39: 2.1 | C39: Vājstrāvas tīkli - TK
A40: 27 | B40: 2.11 | C40: Vājstrāvas tīkli - VAS
A41: 28 | B41: 2.12 | C41: Vājstrāvas tīkli - VN
A42: 29 | B42: 2.13 | C42: Lifti, liftu šahtas
A43: 30 | C43: 3. Specializētie darbi – ārējie tīkli, sistēmas
...

Sheet 1,1
A2: Būvdarbu apjomu saraksts Nr.1,1
A3: =KA!C15 -> Zemes darbi
A4: (būvdarbu veids vai konstruktīvā elementa nosaukums)
A6: Objekta nosaukums: | C6: =KT!B9 -> Garkalnes Mākslas un vispārizglītojošās pamatskolas piebūve
A7: Būves nosaukums: | C7: =KT!B10 -> Garkalnes Mākslas un vispārizglītojošā pamatskola
A8: Objekta adrese: | C8: =KT!B11 -> Ropažu novads, Garkalne, Vidzemes šoseja 34, LV-2137
A9: Pasūtījuma nr.: | C9: =KT!B12 -> 3DAD_228_GV34_L
A11: Apjomi sastādīti, pamatojoties uz būvprojekta rasējumiem
A14: Nr.p.k. | B14: Kods | C14: Būvdarbu nosaukums | D14: Mērvienība | E14: Daudzums
A17: 1 | C17: Rakt būvbedri līdz projektā paredzētajam dziļumam | D17: m3 | E17: 9359.53
A18: 2 | C18: Izvest lieko grunti uz būvuzņēmēja atbērtni un utilizēt | D18: m3 | E18: 9359.53
A19: 3 | C19: Visus grunts atbēršanas darbus jāveic izmantojot kvalitatīvas un standartiem atbilstošas sablietētas smiltis, klājot slāni uz slāņa, kur maksimālais slāņa biezums ir līdz 0.2 m. | D19: m3 | E19: 8889.73
A23: =KT!A23 -> Sastādīja: | D23: =KT!C27 -> 2026. gada 17.aprīlī
A24: (paraksts un tā atšifrējums, datums)
A25: =KT!A25 -> Sertifikāta Nr.:
A27: =KT!A27 -> Pārbaudīja: | D27: =KT!C27 -> 2026. gada 17.aprīlī
A28: (paraksts un tā atšifrējums, datums)
A29: =KT!A29 -> Sertifikāta Nr.:

Sheet 1,2
A2: Būvdarbu apjomu saraksts Nr.1,2
A3: =KA!C16 -> Pamati un pamatnes
A4: (būvdarbu veids vai konstruktīvā elementa nosaukums)
A6: Objekta nosaukums: | C6: =KT!B9 -> Garkalnes Mākslas un vispārizglītojošās pamatskolas piebūve
A7: Būves nosaukums: | C7: =KT!B10 -> Garkalnes Mākslas un vispārizglītojošā pamatskola
A8: Objekta adrese: | C8: =KT!B11 -> Ropažu novads, Garkalne, Vidzemes šoseja 34, LV-2137
A9: Pasūtījuma nr.: | C9: =KT!B12 -> 3DAD_228_GV34_L
A11: Apjomi sastādīti, pamatojoties uz būvprojekta rasējumiem
A14: Nr.p.k. | B14: Kods | C14: Būvdarbu nosaukums | D14: Mērvienība | E14: Daudzums
A17: 1 | C17: Pamatnes
A18: 2 | C18: Ierīkot blietētu šķembu 20-45 kārtu zem pamatiem 100mm biezumā. | D18: m3 | E18: 56.65
A19: 3 | C19: Pamati
A20: 4 | C20: Betonēt veidņos lentveida pamata pēdu (-5,625m) ar C30/37 XC2 klases betonu, betonu padodot ar sūkni iestrādes vietā, ieskaitot visus palīgmateriālus un stiprinājumus. | D20: m3 | E20: 111.58
A21: 5 | C21: Betonēt veidņos stabveida pamatu pēdu (-5,625m) ar C30/37 XC2 klases betonu, betonu padodot ar sūkni iestrādes vietā, ieskaitot visus palīgmateriālus un stiprinājumus. | D21: m3 | E21: 12.33
A22: 6 | C22: Stiegrot pamatus (-5,625m) ar B500B klases tērauda stiegrām, ieskaitot visus palīgmateriālus un stiprinājumus. | D22: kg | E22: 12233.1
A23: 7 | C23: Betonēt veidņos lentveida pamata pēdu (-4,150m) ar C30/37 XC2 klases betonu, betonu padodot ar sūkni iestrādes vietā, ieskaitot visus palīgmateriālus un stiprinājumus. | D23: m3 | E23: 21.36
A24: 8 | C24: Stiegrot pamatus (-4,150m) ar B500B klases tērauda stiegrām, ieskaitot visus palīgmateriālus un stiprinājumus. | D24: kg | E24: 2279.2
A25: 9 | C25: Betonēt veidņos atbalstsienu ar C30/37 XC2 klases betonu, betonu padodot ar sūkni iestrādes vietā, ieskaitot visus palīgmateriālus un stiprinājumus. | D25: m3 | E25: 24.16
A26: 10 | C26: Betonēt veidņos lentveida pamata sienu ar C30/37 XC2 klases betonu, betonu padodot ar sūkni iestrādes vietā, ieskaitot visus palīgmateriālus un stiprinājumus. | D26: m3 | E26: 251.27
A27: 11 | C27: Betonēt veidņos stabveida pamata vertikālo daļu ar C30/37 XC2 klases betonu, betonu padodot ar sūkni iestrādes vietā, ieskaitot visus palīgmateriālus un stiprinājumus. | D27: m3 | E27: 3.92
A28: 12 | C28: Stiegrot pamatu vertikālās daļas ar B500B klases tērauda stiegrām, ieskaitot visus palīgmateriālus un stiprinājumus. | D28: kg | E28: 27077.6
A29: 13 | C29: Ieliekamās detaļas
A30: 14 | C30: Montēt ieliekamo detaļu HPM20P vai ekvivalents | D30: gb | E30: 64
A31: 15 | C31: Urbt pamatos caurumus stiegru izvadiem | D31: gb | E31: 203
A32: 16 | C32: Monet stiegras d20x330mm izvadu ielīmējot ar HILTI HIT-HY 150 MAX vai ekvivalents | D32: gb | E32: 6
A33: 17 | C33: Monet stiegras d20x950mm izvadu ielīmējot ar HILTI HIT-HY 150 MAX vai ekvivalents | D33: gb | E33: 197
A37: =KT!A23 -> Sastādīja: | D37: =KT!C27 -> 2026. gada 17.aprīlī
A38: (paraksts un tā atšifrējums, datums)
A39: =KT!A25 -> Sertifikāta Nr.:
A41: =KT!A27 -> Pārbaudīja: | D41: =KT!C27 -> 2026. gada 17.aprīlī
A42: (paraksts un tā atšifrējums, datums)
A43: =KT!A29 -> Sertifikāta Nr.:

Sheet 1,3
A2: Būvdarbu apjomu saraksts Nr.1,3
A3: =KA!C17 -> Sienas, ēku un būvju karkasu konstrukcijas
A4: (būvdarbu veids vai konstruktīvā elementa nosaukums)
A6: Objekta nosaukums: | C6: =KT!B9 -> Garkalnes Mākslas un vispārizglītojošās pamatskolas piebūve
A7: Būves nosaukums: | C7: =KT!B10 -> Garkalnes Mākslas un vispārizglītojošā pamatskola
A8: Objekta adrese: | C8: =KT!B11 -> Ropažu novads, Garkalne, Vidzemes šoseja 34, LV-2137
A9: Pasūtījuma nr.: | C9: =KT!B12 -> 3DAD_228_GV34_L
A11: Apjomi sastādīti, pamatojoties uz būvprojekta rasējumiem
A14: Nr.p.k. | B14: Kods | C14: Būvdarbu nosaukums | D14: Mērvienība | E14: Daudzums
A17: 1 | C17: 1. stāva vertikālo konstrukciju plāns
A18: 2 | C18: Montēt saliekamās dz/b kolonnas, konstrukciju padodot ar celtni iestrādes vietā, ieskaitot visus palīgmateriālus un stiprinājumus. Betons C40/50, XC1 | D18: m3 | E18: 19.01
A19: 3 | C19: Montēt saliekamās dz/b sienas 200mm, konstrukciju padodot ar celtni iestrādes vietā, ieskaitot visus palīgmateriālus un stiprinājumus. Betons C40/50, XC1 Aizpildīt šuves ar smalkgraudainu betonu C40/50 | D19: m2 | E19: 885.31
A20: 4 | C20: Montēt saliekamās dz/b sienas 241mm, konstrukciju padodot ar celtni iestrādes vietā, ieskaitot visus palīgmateriālus un stiprinājumus. Betons C40/50, XC1 Aizpildīt šuves ar smalkgraudainu betonu C40/50 | D20: m2 | E20: 15.47
A21: 5 | C21: Montēt saliekamās dz/b sienas 350mm, konstrukciju padodot ar celtni iestrādes vietā, ieskaitot visus palīgmateriālus un stiprinājumus. Betons C40/50, XC1 Aizpildīt šuves ar smalkgraudainu betonu C40/50 | D21: m2 | E21: 72.19
A22: 6 | C22: Montēt saliekamās dz/b sienas 400mm, konstrukciju padodot ar celtni iestrādes vietā, ieskaitot visus palīgmateriālus un stiprinājumus. Betons C40/50, XC1 Aizpildīt šuves ar smalkgraudainu betonu C40/50 | D22: m2 | E22: 15.69
A23: 7 | C23: Montēt saliekamās dz/b sienas 604mm, konstrukciju padodot ar celtni iestrādes vietā, ieskaitot visus palīgmateriālus un stiprinājumus. Betons C40/50, XC1 Aizpildīt šuves ar smalkgraudainu betonu C40/50 | D23: m2 | E23: 22.32
A24: 8 | C24: Montēt tērauda kolonnas, ieskaitot visus palīgmateriālus un stiprinājumus. Visas metāla konstrukcijas izgatavojamas no tērauda ar stiprības klasi ne zemāku par S355J2. | D24: kg | E24: 240
A25: 9 | C25: Pārklāt tērauda kolonas ar ugunsdrošo krāsu nodrošinot R-60 | D25: m2 | E25: 6.3
A26: 10 | C26: Aizpildīt kolonas bāzes šuvi ar smalkgraudainu betonu C30/37 | D26: gb | E26: 29
A27: 11 | C27: 1. stāva vertikālo konstrukciju savienojoša stiegrojuma plāns
A28: 12 | C28: Savienot sienas ar B500B klases tērauda stiegrojumu, ieskaitot visus palīgmateriālus un stiprinājumus. | D28: kg | E28: 388.5
A29: 13 | C29: 1. stāva izvadu plāns
A30: 14 | C30: Montēt stiegru izvadus ar B500B klases tērauda stiegrojumu, ieskaitot visus palīgmateriālus un stiprinājumus. | D30: kg | E30: 172
A31: 15 | C31: Montēt vītņstieņa M20x260mm izvadus, ieskaitot visus palīgmateriālus un stiprinājumus. | D31: gb | E31: 19
A32: 16 | C32: Montēt vītņstieņa M20x350mm izvadus, ieskaitot visus palīgmateriālus un stiprinājumus. | D32: gb | E32: 24
A33: 17 | C33: Montēt TSE-16-M20-1020.0 izvadus vai ekvivalents, ieskaitot visus palīgmateriālus un stiprinājumus. | D33: gb | E33: 85
A34: 18 | C34: 2. stāva vertikālo konstrukciju plāns
A35: 19 | C35: Montēt saliekamās dz/b kolonnas, konstrukciju padodot ar celtni iestrādes vietā, ieskaitot visus palīgmateriālus un stiprinājumus. Betons C40/50, XC1 | D35: m3 | E35: 1.41
A36: 20 | C36: Montēt saliekamās dz/b sienas 200mm, konstrukciju padodot ar celtni iestrādes vietā, ieskaitot visus palīgmateriālus un stiprinājumus. Betons C40/50, XC1 Aizpildīt šuves ar smalkgraudainu betonu C40/50 | D36: m2 | E36: 600.86
A37: 21 | C37: Montēt saliekamās dz/b sienas 220mm, konstrukciju padodot ar celtni iestrādes vietā, ieskaitot visus palīgmateriālus un stiprinājumus. Betons C40/50, XC1 Aizpildīt šuves ar smalkgraudainu betonu C40/50 | D37: m2 | E37: 18.72
A38: 22 | C38: Montēt saliekamās dz/b sienas 241mm, konstrukciju padodot ar celtni iestrādes vietā, ieskaitot visus palīgmateriālus un stiprinājumus. Betons C40/50, XC1 Aizpildīt šuves ar smalkgraudainu betonu C40/50 | D38: m2 | E38: 12.29
A39: 23 | C39: Montēt saliekamās dz/b sienas 350mm, konstrukciju padodot ar celtni iestrādes vietā, ieskaitot visus palīgmateriālus un stiprinājumus. Betons C40/50, XC1 Aizpildīt šuves ar smalkgraudainu betonu C40/50 | D39: m2 | E39: 49.75
A40: 24 | C40: Montēt tērauda kolonnas, ieskaitot visus palīgmateriālus un stiprinājumus. Visas metāla konstrukcijas izgatavojamas no tērauda ar stiprības klasi ne zemāku par S355J2. | D40: kg | E40: 52
A41: 25 | C41: Pārklāt tērauda kolonas ar ugunsdrošo krāsu nodrošinot R-60 | D41: m2 | E41: 1.1
A42: 26 | C42: Aizpildīt kolonas bāzes šuvi ar smalkgraudainu betonu C30/37 | D42: gb | E42: 3
A43: 27 | C43: 2. stāva vertikālo konstrukciju savienojoša stiegrojuma plāns
A44: 28 | C44: Savienot sienas ar B500B klases tērauda stiegrojumu, ieskaitot visus palīgmateriālus un stiprinājumus. | D44: kg | E44: 243.45
A45: 29 | C45: 2. stāva izvadu plāns
A46: 30 | C46: Montēt TSE-16-M20-1020.0 izvadus vai ekvivalents, ieskaitot visus palīgmateriālus un stiprinājumus. | D46: gb | E46: 126
A47: 31 | C47: 3. stāva vertikālo konstrukciju plāns
...

Sheet 1,4
A2: Būvdarbu apjomu saraksts Nr.1,4
A3: =KA!C18 -> Starpsienas
A4: (būvdarbu veids vai konstruktīvā elementa nosaukums)
A6: Objekta nosaukums: | C6: =KT!B9 -> Garkalnes Mākslas un vispārizglītojošās pamatskolas piebūve
A7: Būves nosaukums: | C7: =KT!B10 -> Garkalnes Mākslas un vispārizglītojošā pamatskola
A8: Objekta adrese: | C8: =KT!B11 -> Ropažu novads, Garkalne, Vidzemes šoseja 34, LV-2137
A9: Pasūtījuma nr.: | C9: =KT!B12 -> 3DAD_228_GV34_L
A11: Apjomi sastādīti, pamatojoties uz būvprojekta rasējumiem
A14: Nr.p.k. | B14: Kods | C14: Būvdarbu nosaukums | D14: Mērvienība | E14: Daudzums
A17: 1 | C17: SA-1.1
A18: 2 | C18: Montēt metala profilu karkasu 75mm biezumā, ieskaitot visus stiprinājumus un palīgmateriālus Ultrastill CW75 profili vai ekvivalents | D18: m2 | E18: 8.79
A19: 3 | C19: Ieklāt izolāciju 75mm biezumā Skaņas izolācija Isover Acoustic 75 mm (R’w = 64 dB) vai ekvivalents | D19: m2 | E19: 8.79
A20: 4 | C20: Apšūt karkasu ar Knauf GKFI vai ekvivalents 12,5mm ģipškartona loksnēm divās kārtās, ieskaitot visus stiprinājumus un palīgmateriālus. Veikt šuvju špaktelēšanu | D20: m2 | E20: 8.79
A21: 5 | C21: SI-1
A22: 6 | C22: Montēt metala profilu karkasu 75mm biezumā, ieskaitot visus stiprinājumus un palīgmateriālus Ultrastill CW75 profili vai ekvivalents | D22: m2 | E22: 130.82
A23: 7 | C23: Ieklāt izolāciju 75mm biezumā Skaņas izolācija Isover Acoustic 75 mm (R’w = 64 dB) vai ekvivalents | D23: m2 | E23: 130.82
A24: 8 | C24: Apšūt karkasu ar Knauf GKF vai ekvivalents 12,5mm ģipškartona loksnēm divās kārtās, ieskaitot visus stiprinājumus un palīgmateriālus. Veikt šuvju špaktelēšanu | D24: m2 | E24: 130.82
A25: 9 | C25: SI-2
A26: 10 | C26: Apšūt karkasu ar Knauf GKFI vai ekvivalents 12,5mm ģipškartona loksnēm divās kārtās, ieskaitot visus stiprinājumus un palīgmateriālus. Veikt šuvju špaktelēšanu | D26: m2 | E26: 556.64
A27: 11 | C27: Ieklāt izolāciju 75mm biezumā Skaņas izolācija Isover Acoustic 75 mm (R’w = 64 dB) vai ekvivalents | D27: m2 | E27: 556.64
A28: 12 | C28: Montēt metala profilu karkasu 75mm biezumā, ieskaitot visus stiprinājumus un palīgmateriālus Ultrastill CW75 profili vai ekvivalents | D28: m2 | E28: 556.64
A29: 13 | C29: Montēt metala profilu karkasu 75mm biezumā, ieskaitot visus stiprinājumus un palīgmateriālus Ultrastill CW75 profili vai ekvivalents | D29: m2 | E29: 556.64
A30: 14 | C30: Ieklāt izolāciju 75mm biezumā Skaņas izolācija Isover Acoustic 75 mm (R’w = 64 dB) vai ekvivalents | D30: m2 | E30: 556.64
A31: 15 | C31: Apšūt karkasu ar Knauf GKFI vai ekvivalents 12,5mm ģipškartona loksnēm divās kārtās, ieskaitot visus stiprinājumus un palīgmateriālus. Veikt šuvju špaktelēšanu | D31: m2 | E31: 556.64
A32: 16 | C32: SI-3
A33: 17 | C33: Apšūt karkasu ar Knauf GKFI vai ekvivalents 12,5mm ģipškartona loksnēm divās kārtās, ieskaitot visus stiprinājumus un palīgmateriālus. Veikt šuvju špaktelēšanu | D33: m2 | E33: 98.41
A34: 18 | C34: Montēt metala profilu karkasu 75mm biezumā, ieskaitot visus stiprinājumus un palīgmateriālus Ultrastill CW75 profili vai ekvivalents | D34: m2 | E34: 98.41
A35: 19 | C35: Ieklāt izolāciju 75mm biezumā Skaņas izolācija Isover Acoustic 75 mm (R’w = 64 dB) vai ekvivalents | D35: m2 | E35: 98.41
A36: 20 | C36: Apšūt karkasu ar Knauf GKFI vai ekvivalents 12,5mm ģipškartona loksnēm divās kārtās, ieskaitot visus stiprinājumus un palīgmateriālus. Veikt šuvju špaktelēšanu | D36: m2 | E36: 98.41
A37: 21 | C37: SI-4 (* Mitrās telpās (sanitārtehniskajās telpās) izmantot atbilstošas ģipškartona plāksnes Hydro 2x12.5 mm vai ekvivalents
A38: 22 | C38: Apšūt karkasu ar Knauf GKF vai ekvivalents 12,5mm ģipškartona loksnēm divās kārtās, ieskaitot visus stiprinājumus un palīgmateriālus. Veikt šuvju špaktelēšanu | D38: m2 | E38: 134.78
A39: 23 | C39: Ieklāt izolāciju 75mm biezumā Skaņas izolācija Isover Acoustic 75 mm (R’w = 64 dB) vai ekvivalents | D39: m2 | E39: 134.78
A40: 24 | C40: Montēt metala profilu karkasu 75mm biezumā, ieskaitot visus stiprinājumus un palīgmateriālus Ultrastill CW75 profili vai ekvivalents | D40: m2 | E40: 134.78
A41: 25 | C41: Montēt metala profilu karkasu 75mm biezumā, ieskaitot visus stiprinājumus un palīgmateriālus Ultrastill CW75 profili vai ekvivalents | D41: m2 | E41: 134.78
A42: 26 | C42: Ieklāt izolāciju 75mm biezumā Skaņas izolācija Isover Acoustic 75 mm (R’w = 64 dB) vai ekvivalents | D42: m2 | E42: 134.78
A43: 27 | C43: Apšūt karkasu ar Knauf GKF vai ekvivalents 12,5mm ģipškartona loksnēm divās kārtās, ieskaitot visus stiprinājumus un palīgmateriālus. Veikt šuvju špaktelēšanu | D43: m2 | E43: 134.78
A44: 28 | C44: SI-9.1 (* Mitrās telpās (sanitārtehniskajās telpās) izmantot atbilstošas ģipškartona plāksnes Hydro 2x12.5 mm vai ekvivalents
A45: 29 | C45: Apšūt karkasu ar Knauf GKFI vai ekvivalents 12,5mm ģipškartona loksnēm divās kārtās, ieskaitot visus stiprinājumus un palīgmateriālus. Veikt šuvju špaktelēšanu | D45: m2 | E45: 127.93
A46: 30 | C46: Ieklāt izolāciju 50mm biezumā Skaņas izolācija Isover Acoustic 50 mm (R’w = 64 dB) vai ekvivalents | D46: m2 | E46: 127.93
A47: 31 | C47: Montēt metala profilu karkasu 75mm biezumā, ieskaitot visus stiprinājumus un palīgmateriālus Ultrastill CW75 profili vai ekvivalents | D47: m2 | E47: 127.93
...

Sheet 1,5
A2: Būvdarbu apjomu saraksts Nr.1,5
A3: =KA!C19 -> Grīdu pamatnes, segumi
A4: (būvdarbu veids vai konstruktīvā elementa nosaukums)
A6: Objekta nosaukums: | C6: =KT!B9 -> Garkalnes Mākslas un vispārizglītojošās pamatskolas piebūve
A7: Būves nosaukums: | C7: =KT!B10 -> Garkalnes Mākslas un vispārizglītojošā pamatskola
A8: Objekta adrese: | C8: =KT!B11 -> Ropažu novads, Garkalne, Vidzemes šoseja 34, LV-2137
A9: Pasūtījuma nr.: | C9: =KT!B12 -> 3DAD_228_GV34_L
A11: Apjomi sastādīti, pamatojoties uz būvprojekta rasējumiem
A14: Nr.p.k. | B14: Kods | C14: Būvdarbu nosaukums | D14: Mērvienība | E14: Daudzums
A17: 1 | C17: G-1
A18: 2 | C18: Ieklat blietētu šķembu kārtu fr. 20/40 100mm biezumā | D18: m3 | E18: 44.49
A19: 3 | C19: Siltināt grīdu ar ThermoWhite WD100R vai ekvivalents (λ ≤ 0.046 W/mk, dinamiskā slodze 10 kN/m2, spiedes stiprība 70 kPa) 150mm biezumā | D19: m2 | E19: 444.87
A20: 4 | C20: Ieklāt PVC plēvi - 200 mkr | D20: m2 | E20: 444.87
A21: 5 | C21: Ieklat cementa klona grīdu 70mm biezumā, ieskaitot visus stiprinājumus un palīgmateriālus. Cementa klons Estrich, 70 mm, (Atbilstoši LVS EN 13813:2005L stiprības klase C20, lieces stiprība 4N/mm2, spiedes stiprība 20 N/ mm2, grīda uz siltumizolācijas/peldoša) | D21: m2 | E21: 444.87
A22: 6 | C22: Ieklāt PE plēvi 0.2 mm 2 kārtās - 200 mkr, 20 cm pārlaidums ar tvaika plēves līmi Gerbanda 586 vai ekvivalents | D22: m2 | E22: 444.87
A23: 7 | C23: Montēt grīdas balsta konstrukciju 75mm biezumā, ieskaitot visus stiprinājumus un palīgmateriālus. Arenaflex vai ekvivalents grīdu sistēma, ozolkoka balsta lāgas (45x48 mm) stiprināmas polipropilēna ligzdās uz absorbējoša paliktņa | D23: m2 | E23: 444.87
A24: 8 | C24: Stiprināt saplāksni 22mm biezumā, ieskaitot visus stiprinājumus un palīgmateriālus. | D24: m2 | E24: 444.87
A25: 9 | C25: G-2
A26: 10 | C26: Ieklat blietētu šķembu kārtu fr. 20/40 100mm biezumā | D26: m3 | E26: 32.55
A27: 11 | C27: Siltināt grīdu ar ThermoWhite WD100R vai ekvivalents (λ ≤ 0.046 W/mk, dinamiskā slodze 10 kN/m2, spiedes stiprība 70 kPa) 220mm biezumā | D27: m2 | E27: 325.53
A28: 12 | C28: Ieklāt PVC plēvi - 200 mkr | D28: m2 | E28: 325.53
A29: 13 | C29: Ieklat cementa klona grīdu 70mm biezumā, ieskaitot visus stiprinājumus un palīgmateriālus. Cementa klons Estrich, 70 mm, (Atbilstoši LVS EN 13813:2005L stiprības klase C20, lieces stiprība 4N/mm2, spiedes stiprība 20 N/ mm2, grīda uz siltumizolācijas/peldoša) | D29: m2 | E29: 325.53
A30: 14 | C30: Ieklāt PE plēvi 0.2 mm 2 kārtās - 200 mkr, 20 cm pārlaidums ar tvaika plēves līmi Gerbanda 586 vai ekvivalents | D30: m2 | E30: 325.53
A31: 15 | C31: G-3
A32: 16 | C32: Ieklat blietētu šķembu kārtu fr. 20/40 100mm biezumā | D32: m3 | E32: 1.99
A33: 17 | C33: Siltināt grīdu ar ThermoWhite WD100R vai ekvivalents (λ ≤ 0.046 W/mk, dinamiskā slodze 10 kN/m2, spiedes stiprība 70 kPa) 220mm biezumā | D33: m2 | E33: 19.89
A34: 18 | C34: Ieklāt PVC plēvi - 200 mkr | D34: m2 | E34: 19.89
A35: 19 | C35: Ieklat cementa klona grīdu 74mm biezumā, ieskaitot visus stiprinājumus un palīgmateriālus. Cementa klons Estrich, 74 mm, (Atbilstoši LVS EN 13813:2005L stiprības klase C20, lieces stiprība 4N/mm2, spiedes stiprība 20 N/ mm2, grīda uz siltumizolācijas/peldoša) | D35: m2 | E35: 19.89
A36: 20 | C36: Ieklāt PE plēvi 0.2 mm 2 kārtās - 200 mkr, 20 cm pārlaidums ar tvaika plēves līmi Gerbanda 586 vai ekvivalents | D36: m2 | E36: 19.89
A37: 21 | C37: G-4
A38: 22 | C38: Ieklat blietētu šķembu kārtu fr. 20/40 100mm biezumā | D38: m3 | E38: 27.66
A39: 23 | C39: Siltināt grīdu ar ThermoWhite WD100R vai ekvivalents (λ ≤ 0.046 W/mk, dinamiskā slodze 10 kN/m2, spiedes stiprība 70 kPa) 220mm biezumā | D39: m2 | E39: 276.58
A40: 24 | C40: Ieklāt PVC plēvi - 200 mkr | D40: m2 | E40: 276.58
A41: 25 | C41: Ieklat cementa klona grīdu 82mm biezumā, ieskaitot visus stiprinājumus un palīgmateriālus. Cementa klons Estrich, 82 mm, (Atbilstoši LVS EN 13813:2005L stiprības klase C20, lieces stiprība 4N/mm2, spiedes stiprība 20 N/ mm2, grīda uz siltumizolācijas/peldoša) | D41: m2 | E41: 276.58
A42: 26 | C42: G-5
A43: 27 | C43: Ieklat blietētu šķembu kārtu fr. 20/40 100mm biezumā | D43: m3 | E43: 14.19
A44: 28 | C44: Siltināt grīdu ar ThermoWhite WD100R vai ekvivalents (λ ≤ 0.046 W/mk, dinamiskā slodze 10 kN/m2, spiedes stiprība 70 kPa) 220mm biezumā | D44: m2 | E44: 141.87
A45: 29 | C45: Ieklāt PVC plēvi - 200 mkr | D45: m2 | E45: 141.87
A46: 30 | C46: Ieklat cementa klona grīdu 72mm biezumā, ieskaitot visus stiprinājumus un palīgmateriālus. Cementa klons Estrich, 72 mm, (Atbilstoši LVS EN 13813:2005L stiprības klase C20, lieces stiprība 4N/mm2, spiedes stiprība 20 N/ mm2, grīda uz siltumizolācijas/peldoša) | D46: m2 | E46: 141.87
A47: 31 | C47: P-1
...

Sheet 1,6
A2: Būvdarbu apjomu saraksts Nr.1,6
A3: =KA!C20 -> Jumti, segumi
A4: (būvdarbu veids vai konstruktīvā elementa nosaukums)
A6: Objekta nosaukums: | C6: =KT!B9 -> Garkalnes Mākslas un vispārizglītojošās pamatskolas piebūve
A7: Būves nosaukums: | C7: =KT!B10 -> Garkalnes Mākslas un vispārizglītojošā pamatskola
A8: Objekta adrese: | C8: =KT!B11 -> Ropažu novads, Garkalne, Vidzemes šoseja 34, LV-2137
A9: Pasūtījuma nr.: | C9: =KT!B12 -> 3DAD_228_GV34_L
A11: Apjomi sastādīti, pamatojoties uz būvprojekta rasējumiem
A14: Nr.p.k. | B14: Kods | C14: Būvdarbu nosaukums | D14: Mērvienība | E14: Daudzums
A17: 1 | C17: J-1
A18: 2 | C18: Ieklāt valcprofila jumta segumu, ieskaitot visus stiprinājumus un palīgmateriālus. | D18: m2 | E18: 628.08
A19: 3 | C19: Montēt omega-profilu karkasu 75mm biezumā (sānu malas perforētas, lai nodrošinātu gaisa caurplūdi), ieskaitot visus stiprinājumus un palīgmateriālus. | D19: m2 | E19: 628.08
A20: 4 | C20: Ieklāt difūzijas membrānu Ruukki 150 Fix vai ekvivalents | D20: m2 | E20: 628.08
A21: 5 | C21: Siltināt jumtu ar PAROC ROB 60 siltumizolācijas plāksni ar melnu pārklājumu (λD ≤ 0,038 W/mK, ugunsreakcijas klase A1) 30mm biezumā vai ekvivalents | D21: m2 | E21: 628.08
A22: 6 | C22: Siltināt jumtu ar PAROC ROS 30g siltumizolācijas plāksni ar melnu pārklājumu (λD ≤ 0,036 W/mK, ugunsreakcijas klase A1) 200mm biezumā vai ekvivalents | D22: m2 | E22: 628.08
A23: 7 | C23: Montēt Z-profila karkasu 230mm, ieskaitot visus stiprinājumus un palīgmateriālus. | D23: m2 | E23: 628.08
A24: 8 | C24: Ieklāt gaisa un tvaika izolācijas plēvi PAROC XMV 020 bas vai ekvivalents | D24: m2 | E24: 628.08
A25: 9 | C25: J-2
A26: 10 | C26: Ieklāt valcprofila jumta segumu, ieskaitot visus stiprinājumus un palīgmateriālus. | D26: m2 | E26: 1128.3
A27: 11 | C27: Montēt omega-profilu karkasu 75mm biezumā (sānu malas perforētas, lai nodrošinātu gaisa caurplūdi), ieskaitot visus stiprinājumus un palīgmateriālus. | D27: m2 | E27: 1128.3
A28: 12 | C28: Stiprināt piespiedējlatas pa siju 40mm, ieskaitot visus stiprinājumus un palīgmateriālus. | D28: m2 | E28: 1128.3
A29: 13 | C29: Ieklāt difūzijas membrānu Ruukki 150 Fix vai ekvivalents | D29: m2 | E29: 1128.3
A30: 14 | C30: P-3
A31: 15 | C31: Izveidot slīpuma kārtu (i=1%) | D31: m2 | E31: 34.02
A32: 16 | C32: Ieklāt sakņu izturīgu PE-LD hidroizolācijas slāni WSF 40 vai ekvivalents | D32: m2 | E32: 34.02
A33: 17 | C33: Siltināt pārsegumu ar DOW ekstrudētu putupolistirolu STYROFOAM 300 vai ekvivalents 100 mm biezumā λ=0.036 W/mK | D33: m2 | E33: 34.02
A34: 18 | C34: Siltināt pārsegumu ar DOW ekstrudētu putupolistirolu STYROFOAM 300 vai ekvivalents 100 mm biezumā λ=0.036 W/mK | D34: m2 | E34: 34.02
A35: 19 | C35: Ieklat hidrofobu polipropilēna atdalošu membrānu TGV 21 vai ekvivalents | D35: m2 | E35: 34.02
A36: 20 | C36: Ieklāt pārstrādāta poliolefīna drenāžas elementu Floradrain FD 25-E (spiedes izturība 270 kN/m2) vai ekvivalents | D36: m2 | E36: 34.02
A37: 21 | C37: Ieklat termiski stiprinātu polipropilēna ģeotekstilu (stiepes izturība atbilstoši EN ISO 10319: 7.0 kN/m) | D37: m2 | E37: 34.02
A38: 22 | C38: Izveidot zālāja segumu pievedot augu substrātu 80mm biezumā | D38: m2 | E38: 34.02
A39: 23 | C39: Papildmateriāli
A40: 24 | C40: Montēt skārda kori, ieskaitot visus stiprinājumus un palīgmateriālus. | D40: m | E40: 69.18
A41: 25 | C41: Montēt skārda satekni, ieskaitot visus stiprinājumus un palīgmateriālus. | D41: m | E41: 54.74
A42: 26 | C42: Montēt skārda lāseni/vējmalu, ieskaitot visus stiprinājumus un palīgmateriālus. | D42: m | E42: 354.33
A43: 27 | C43: Montēt skārda tekni, ieskaitot visus stiprinājumus un palīgmateriālus. | D43: m | E43: 259
A44: 28 | C44: Montēt skārda noteku, ieskaitot visus stiprinājumus un palīgmateriālus. | D44: m | E44: 242.63
A45: 29 | C45: Montēt skārda sienas pieslēguma elementu, ieskaitot visus stiprinājumus un palīgmateriālus. | D45: m | E45: 86.5
A46: 30 | C46: Montēt jumta horizontālās kāpnes, ieskaitot visus stiprinājumus un palīgmateriālus. | D46: m | E46: 29.5
A47: 31 | C47: Montēt jumta laipu, ieskaitot visus stiprinājumus un palīgmateriālus. | D47: m | E47: 74
...

Sheet 1,7
A2: Būvdarbu apjomu saraksts Nr.1,7
A3: =KA!C21 -> Aiļu aizpildījumu elementi, speciālo konstrukciju fasādes
A4: (būvdarbu veids vai konstruktīvā elementa nosaukums)
A6: Objekta nosaukums: | C6: =KT!B9 -> Garkalnes Mākslas un vispārizglītojošās pamatskolas piebūve
A7: Būves nosaukums: | C7: =KT!B10 -> Garkalnes Mākslas un vispārizglītojošā pamatskola
A8: Objekta adrese: | C8: =KT!B11 -> Ropažu novads, Garkalne, Vidzemes šoseja 34, LV-2137
A9: Pasūtījuma nr.: | C9: =KT!B12 -> 3DAD_228_GV34_L
A11: Apjomi sastādīti, pamatojoties uz būvprojekta rasējumiem
A14: Nr.p.k. | B14: Kods | C14: Būvdarbu nosaukums | D14: Mērvienība | E14: Daudzums
A17: 1 | C17: Logi
A18: 2 | C18: Montēt logu L-1 6700x1800 mm, ieskaitot visus palīgmateriālus un stiprinājumus. Alumīnija logu sistēma, krāsojums RAL 1019 Grey Beige, 3-kāršu stikla paketi, U ≤ 0.80 W/m²K. Furnitūra Dieckmann JANUS 1010. | D18: gb | E18: 2
A19: 3 | C19: Montēt logu L-1.1 6700x1800 mm, ieskaitot visus palīgmateriālus un stiprinājumus. Alumīnija logu sistēma, krāsojums RAL 1019 Grey Beige, 3-kāršu stikla paketi, U ≤ 0.80 W/m²K. | D19: gb | E19: 1
A20: 4 | C20: Montēt logu L-2 6700x1800 mm, ieskaitot visus palīgmateriālus un stiprinājumus. Alumīnija logu sistēma, krāsojums RAL 1019 Grey Beige, 3-kāršu stikla paketi, U ≤ 0.80 W/m²K. | D20: gb | E20: 2
A21: 5 | C21: Montēt logu L-2 (2) 6700x1800 mm, ieskaitot visus palīgmateriālus un stiprinājumus. Alumīnija logu sistēma, krāsojums RAL 1019 Grey Beige, 3-kāršu stikla paketi, U ≤ 0.80 W/m²K. | D21: gb | E21: 3
A22: 6 | C22: Montēt logu L-3 1925x1800 mm, ieskaitot visus palīgmateriālus un stiprinājumus. Alumīnija logu sistēma, krāsojums RAL 1019 Grey Beige, 3-kāršu stikla paketi, U ≤ 0.80 W/m²K. | D22: gb | E22: 3
A23: 7 | C23: Montēt logu L-6 1300x1800 mm, ieskaitot visus palīgmateriālus un stiprinājumus. Alumīnija logu sistēma, krāsojums RAL 1019 Grey Beige, 3-kāršu stikla paketi, U ≤ 0.80 W/m²K. | D23: gb | E23: 8
A24: 8 | C24: Montēt logu L-6.1 1300x1800 mm, ieskaitot visus palīgmateriālus un stiprinājumus. Alumīnija logu sistēma, krāsojums RAL 1019 Grey Beige, 3-kāršu stikla paketi, U ≤ 0.80 W/m²K. | D24: gb | E24: 3
A25: 9 | C25: Montēt logu L-7 6700x1800 mm, ieskaitot visus palīgmateriālus un stiprinājumus. Alumīnija logu sistēma, krāsojums RAL 1019 Grey Beige, 3-kāršu stikla paketi, U ≤ 0.80 W/m²K. | D25: gb | E25: 3
A26: 10 | C26: Montēt logu L-8 1180x2550 mm, ieskaitot visus palīgmateriālus un stiprinājumus. Alumīnija logu sistēma, krāsojums RAL 1019 Grey Beige, 3-kāršu stikla paketi, U ≤ 0.80 W/m²K. | D26: gb | E26: 2
A27: 11 | C27: Montēt rāmja stiprinājuma karkasu siltumizolācijā, ieskaitot visus stiprinājumus un palīgmateriālus. | D27: m | E27: 292.5
A28: 12 | C28: Uzstādīt tvaika izolācijas lenti, ieskaitot visus stiprinājumus un palīgmateriālus. | D28: m | E28: 292.5
A29: 13 | C29: Uzstādīt difuzijas lenti, ieskaitot visus stiprinājumus un palīgmateriālus. | D29: m | E29: 292.5
... A31: 15 | C31: Uzstādīt ārējo skārda palodzi, ieskaitot visus stiprinājumus un palīgmateriālus. | D31: m | E31: 96.15
A32: 16 | C32: Stiklotās sistēmas
A33: 17 | C33: Montēt stiklotu fasādes sistēmu SSA-1 8000x5200 mm, alumīnija rāmis, trīskāršā stikla pakete, U≤0.80 W/m²K, krāsojums RAL 1019 Grey Beige, ar veramām vēdināšanas vērtnēm un furnitūru. | D33: gb | E33: 1
A34: 18 | C34: Montēt stiklotu fasādes sistēmu SSA-2 8000x4220 mm, alumīnija rāmis, trīskāršā stikla pakete, U≤0.80 W/m²K, krāsojums RAL 1019 Grey Beige, ar veramām vēdināšanas vērtnēm un manuālu atvēršanu. | D34: gb | E34: 1
A35: 19 | C35: Montēt stiklotu fasādes sistēmu SSA-3 1790x3200 mm, alumīnija rāmis, trīskāršā stikla pakete, U≤0.80 W/m²K, krāsojums RAL 1019 Grey Beige. | D35: gb | E35: 3
A36: 20 | C36: Montēt stiklotu fasādes sistēmu SSA-4 3830x3200 mm, alumīnija rāmis, trīskāršā stikla pakete, U≤0.80 W/m²K, krāsojums RAL 1019 Grey Beige. | D36: gb | E36: 2
A37: 21 | C37: Montēt stiklotu fasādes sistēmu SSA-5 4953x2925 mm, alumīnija rāmis, laminēta trīskāršā stikla pakete, U≤0.80 W/m²K, krāsojums RAL 1019 Grey Beige. | D37: gb | E37: 1
A38: 22 | C38: Montēt stiklotu fasādes sistēmu SSA-6 4953x2925 mm, alumīnija rāmis, laminēta trīskāršā stikla pakete, U≤0.80 W/m²K, krāsojums RAL 1019 Grey Beige. | D38: gb | E38: 2
A39: 23 | C39: Montēt stiklotu fasādes sistēmu SSA-7.1 2726x2925 mm, alumīnija rāmis, laminēta trīskāršā stikla pakete, U≤0.80 W/m²K, krāsojums RAL 1019 Grey Beige. | D39: gb | E39: 1
A40: 24 | C40: Montēt stiklotu fasādes sistēmu SSA-7.2 8170x3460 mm, alumīnija rāmis, trīskāršā stikla pakete, U≤0.80 W/m²K, ar automātiskām bīdāmajām durvīm un evakuācijas izeju. | D40: gb | E40: 1
A41: 25 | C41: Montēt stiklotu fasādes sistēmu SSA-8 3830x2560 mm, alumīnija rāmis, trīskāršā stikla pakete, U≤0.80 W/m²K. | D41: gb | E41: 3
A42: 26 | C42: Montēt stiklotu fasādes sistēmu SSA-9 3400x3200 mm, alumīnija rāmis, trīskāršā stikla pakete, U≤0.80 W/m²K, ar evakuācijas izeju. | D42: gb | E42: 1
A43: 27 | C43: Montēt stiklotu fasādes sistēmu SSA-10 3730x3500 mm, alumīnija rāmis, trīskāršā stikla pakete, U≤0.80 W/m²K, ar iekšējām vērtņu sistēmām. | D43: gb | E43: 1
A44: 28 | C44: Montēt stiklotu fasādes sistēmu SSA-11 6270x2870 mm, alumīnija rāmis, trīskāršā stikla pakete, U≤0.80 W/m²K | D44: gb | E44: 1
... A49: 33 | C49: Uzstādīt ārējo skārda palodzi, ieskaitot visus stiprinājumus un palīgmateriālus. | D49: m | E49: 79.86
A50: 34 | C50: Ārdurvis
A51: 35 | C51: Montēt ārdurvis AD-1.1K 2004x2560 mm, alumīnija profils, divviru evakuācijas durvis, U≤1.5 W/m²K, krāsojums RAL 1019 (iekšpuse/ārpuse), aprīkotas ar evakuācijas furnitūru, piekļuves kontroli (elektroniska atslēga), pašaizvēršanās mehānisms. | D51: gb | E51: 1
A52: 36 | C52: Montēt ārdurvis AD-1.2 2005x2140 mm, alumīnija profils, divviru evakuācijas durvis, U≤1.5 W/m²K, krāsojums RAL 1019 (iekšpuse/ārpuse), aprīkotas ar evakuācijas furnitūru, piekļuves kontroli (elektroniska atslēga), pašaizvēršanās mehānisms. | D52: gb | E52: 1
...

Sheet 1,8
A2: Būvdarbu apjomu saraksts Nr.1,8
A3: =KA!C22 -> Iekšējie apdares darbi
A4: (būvdarbu veids vai konstruktīvā elementa nosaukums)
A6: Objekta nosaukums: | C6: =KT!B9 -> Garkalnes Mākslas un vispārizglītojošās pamatskolas piebūve
A7: Būves nosaukums: | C7: =KT!B10 -> Garkalnes Mākslas un vispārizglītojošā pamatskola
A8: Objekta adrese: | C8: =KT!B11 -> Ropažu novads, Garkalne, Vidzemes šoseja 34, LV-2137
A9: Pasūtījuma nr.: | C9: =KT!B12 -> 3DAD_228_GV34_L
A11: Apjomi sastādīti, pamatojoties uz būvprojekta rasējumiem
A14: Nr.p.k. | B14: Kods | C14: Būvdarbu nosaukums | D14: Mērvienība | E14: Daudzums
A17: 1 | C17: Sienas
A18: 2 | C18: Gruntēt, špaktelēt un slīpēt sienas | D18: m2 | E18: 2764.55
A19: 3 | C19: Gruntēt un krāsot sienas divās kārtās | D19: m2 | E19: 2764.55
A20: 4 | C20: Ieklāt flīžu segumu uz līmjavas kārtas un šuves aizpildīt ar šuvotāju, ieskaitot visus stiprinājumus un palīgmateriālus. | D20: m2 | E20: 836.3
A21: 5 | C21: Cewood 25mm vai ekvivalents biezas akustiskās plātnes uz 50 mm profila rāmja ar minerālvates pildījumu, A absorbcija klase; Dekoratīvā skaņas izkliedes sienas konstrukcija uz 12mm bieza bērza saplākšņa pamatnes, uz kuras izveidota kārba ar 12mm biezām saplākšņa malām. Kārbas virsējā kārta ir 6,5mm biezs saplāksnis, konstrukcija hermētiski noslēgta, iekšpusē 50 mm biezs minerālvates slānis (blīvums 30 - 50 kg/ m3) | D21: m2 | E21: 122.3
A22: 6 | C22: Dekoratīvā skaņas izkliedes sienas konstrukcija uz 12mm bieza bērza saplākšņa pamatnes, uz kuras izveidota kārba ar 12mm biezām saplākšņa malām. Kārbas virsējā kārta ir 6,5mm biezs saplāksnis, konstrukcija hermētiski noslēgta, iekšpusē 50 mm biezs minerālvates slānis (blīvums 30 - 50 kg/m3); 20–50 mm platas koka latas ar 20–50 atstarpi; Perforētie paneļi Latvijas Finieris Riga (vai Glastik, Fantoni vai ekvivalents), frezēts, panelis M 4-16/4-65, paneļa biezums 15 mm, gaiss 60 mm, bez minerālas vates (absorbcijas dati: αw 0,5, klase D); Logu un durvju aizkari, kokvilnas audums, blīvums 400-600 g/m2 vai absorbcijas koeficienta vērtības, kā norādīts zemāk, attālums no virsmas 130 mm. Krokojums ½ logiem, krokojums 1/3 skatuves sienai (absorbcijas dati: αw 0,6, klase C); Sienu krāsa (pelēka) - NCS color S 1002-Y (toni saskaņot ar Būvniecības ierosinātāju un interjera risinājumiem) | D22: m2 | E22: 414.7
A23: 7 | C23: Ecophon Akusto One vai ekvivalenti paneļi, (izmērs 1192x592x40), absorbcijas koeficients αw > 0,9 (A klase); | D23: m2 | E23: 33.87
A24: 8 | C24: Ecophon Akusto Wall C vai ekvivalenti paneļi, (izmērs 1192x592x40), absorbcijas koeficients αw > 0.9 (A klase); | D24: m2 | E24: 59.28
A25: 9 | C25: Krāsotas sienas NCS S 1002-Y | D25: m2 | E25: 986.3
A26: 10 | C26: Flīzētas sienas daļa | D26: m2 | E26: 10.56
A27: 11 | C27: Skatuves sānu sienu izkliedes paneļi, saplāksnis vai MDF ar finiera virsmu 8-10 mm biezs, paneļu iekšējais tilpums aizpildīts ar mīkstu minerālo vati 50 mm biezumā; Sienu krāsa (pelēka) - NCS color S 1002-Y (toni saskaņot ar Būvniecības ierosinātāju un interjera risinājumiem) | D27: m2 | E27: 258.2
A28: 12 | C28: Griesti
A29: 13 | C29: PG-1.1
A30: 14 | C30: Montēt metala profilu karkasu, ieskaitot visus stiprinājumus un palīgmateriālus | D30: m2 | E30: 669.97
A31: 15 | C31: Ieklāt izolāciju 50mm biezumā Akmens vate ar blīvumu 70 kg/m3 | D31: m2 | E31: 669.97
A32: 16 | C32: Apšūt karkasu ar Knauf Danoline Tectopanel ar Quadril perforācijas tipu vai ekvivalents (paneļa perforācija 10-15%) 12,5mm, ieskaitot visus stiprinājumus un palīgmateriālus. | D32: m2 | E32: 669.97
A33: 17 | C33: Gruntēt un krāsot griestus divās kārtās | D33: m2 | E33: 669.97
A34: 18 | C34: PG-1.2
A35: 19 | C35: Montēt metala profilu karkasu, ieskaitot visus stiprinājumus un palīgmateriālus | D35: m2 | E35: 155.64
A36: 20 | C36: Ieklāt izolāciju 50mm biezumā Akmens vate ar blīvumu 70 kg/m3 | D36: m2 | E36: 155.64
A37: 21 | C37: Apšūt karkasu ar mitrumizturīgiem Ecophon Hygiene vai ekvivalenti noņemamiem paneļiem bez perforācijas (D klases skaņas absorbcija) 12,5mm, ieskaitot visus stiprinājumus un palīgmateriālus. | D37: m2 | E37: 155.64
A38: 22 | C38: Gruntēt un krāsot griestus divās kārtās | D38: m2 | E38: 155.64
A39: 23 | C39: PG-1.3
A40: 24 | C40: Montēt metala profilu karkasu, ieskaitot visus stiprinājumus un palīgmateriālus | D40: m2 | E40: 52.28
A41: 25 | C41: Stiprināt koka latas 50x50mm, ieskaitot visus stiprinājumus un palīgmateriālus | D41: m2 | E41: 52.28
A42: 26 | C42: Ieklāt izolāciju 50mm biezumā Akmens vate ar blīvumu 70 kg/m3 | D42: m2 | E42: 52.28
A43: 27 | C43: Apšūt karkasu ar Knauf Danoline Tectopanel ar Quadril perforācijas tipu vai ekvivalents (paneļa perforācija 10-15%) 12,5mm, ieskaitot visus stiprinājumus un palīgmateriālus. | D43: m2 | E43: 52.28
A44: 28 | C44: Gruntēt un krāsot griestus divās kārtās | D44: m2 | E44: 52.28
A45: 29 | C45: PG-2
A46: 30 | C46: Montēt metala profilu karkasu, ieskaitot visus stiprinājumus un palīgmateriālus | D46: m2 | E46: 572.79
A47: 31 | C47: Apšūt karkasu ar Ecophone Advantage A vai ekvivalentas skaņu absorbējošām griestu plāksnēsm (minimālais skaņas absorbcijas koeficients αw=0.7) 15mm, ieskaitot visus stiprinājumus un palīgmateriālus. | D47: m2 | E47: 572.79
...

Sheet 1,9
A2: Būvdarbu apjomu saraksts Nr.1,9
A3: =KA!C23 -> Ārējie apdares darbi
A4: (būvdarbu veids vai konstruktīvā elementa nosaukums)
A6: Objekta nosaukums: | C6: =KT!B9 -> Garkalnes Mākslas un vispārizglītojošās pamatskolas piebūve
A7: Būves nosaukums: | C7: =KT!B10 -> Garkalnes Mākslas un vispārizglītojošā pamatskola
A8: Objekta adrese: | C8: =KT!B11 -> Ropažu novads, Garkalne, Vidzemes šoseja 34, LV-2137
A9: Pasūtījuma nr.: | C9: =KT!B12 -> 3DAD_228_GV34_L
A11: Apjomi sastādīti, pamatojoties uz būvprojekta rasējumiem
A14: Nr.p.k. | B14: Kods | C14: Būvdarbu nosaukums | D14: Mērvienība | E14: Daudzums
A17: 1 | C17: SA-1 / SA-1.1
A18: 2 | C18: Montēt fasādes apakškarkasa konstrukciju, ieskaitot visus stiprinājumus un palīgmateriālus. | D18: m2 | E18: 986.27
A19: 3 | C19: Siltināt sienu ar PAROC Ultra siltumizolācijas plāksnēm vai ekvivalents (λD ≤ 0,035 W/mK, ugunsreakcijas klase A1) 150mm | D19: m2 | E19: 986.27
A20: 4 | C20: Stiprināt vēja izolāciju PAROC Cortex b ar melnu pārklājumu vai ekvivalents (λD ≤ 0,033 W/mK, ugunsreakcijas klase A2-s1, d0), ieskaitot visus stiprinājumus un palīgmateriālus. | D20: m2 | E20: 986.27
A21: 5 | C21: Apšūt karkasu ar EQUITONE [linea] un EQUITONE [tectiva] šķiedrcementa masā krāsotiem paneļiem vai ekvivalents 10mm (skatīt fasāžu krāsu pasi) (minimālā ugunsreakcijas klase B-s1,d0), ieskaitot visus stiprinājumus un palīgmateriālus. | D21: m2 | E21: 986.27
A22: 6 | C22: SA-1.2
A23: 7 | C23: Stiprināt koka latas 38x63mm, ieskaitot visus stiprinājumus un palīgmateriālus. | D23: m2 | E23: 267.65
A24: 8 | C24: Apšūt karkasu ar EQUITONE [linea] un EQUITONE [tectiva] šķiedrcementa masā krāsotiem paneļiem vai ekvivalents 10mm (skatīt fasāžu krāsu pasi) (minimālā ugunsreakcijas klase B-s1,d0), ieskaitot visus stiprinājumus un palīgmateriālus. | D24: m2 | E24: 267.65
A25: 9 | C25: SA-2
A26: 10 | C26: Montēt fasādes apakškarkasa konstrukciju, ieskaitot visus stiprinājumus un palīgmateriālus. | D26: m2 | E26: 174.38
A27: 11 | C27: Siltināt sienu ar PAROC Ultra siltumizolācijas plāksnēm vai ekvivalents (λD ≤ 0,035 W/mK, ugunsreakcijas klase A1) 150mm | D27: m2 | E27: 174.38
A28: 12 | C28: Stiprināt vēja izolāciju PAROC Cortex b ar melnu pārklājumu vai ekvivalents (λD ≤ 0,033 W/mK, ugunsreakcijas klase A2-s1, d0), ieskaitot visus stiprinājumus un palīgmateriālus. | D28: m2 | E28: 174.38
A29: 13 | C29: Stiprināt stamisol Color vai ekvivalents elpojoša poliestera fasādes membrānu (tonis Granite 08119) | D29: m2 | E29: 174.38
A30: 14 | C30: Apšūt karkasu ar perforētām alumīnija loksnēm ar gofrētu augstu vertikālo šuvi (skatīt fasāžu krāsu pasi), perforācija Rv 5-8, BEMO fasāžu sistēma vai ekvivalents (minimālā ugunsreakcijas klase B-s1,d0), ieskaitot visus stiprinājumus un palīgmateriālus. 2mm | D30: m2 | E30: 174.38
A31: 15 | C31: SA-2.1
A32: 16 | C32: Stiprināt koka latas 38x63mm, ieskaitot visus stiprinājumus un palīgmateriālus. | D32: m2 | E32: 85.53
A33: 17 | C33: Apšūt karkasu ar perforētām alumīnija loksnēm ar gofrētu augstu vertikālo šuvi (skatīt fasāžu krāsu pasi), perforācija Rv 5-8, BEMO fasāžu sistēma vai ekvivalents (minimālā ugunsreakcijas klase B-s1,d0), ieskaitot visus stiprinājumus un palīgmateriālus. 2mm | D33: m2 | E33: 85.53
A34: 18 | C34: Sienu siltinājums jumta daļā bez apdares
A35: 19 | C35: Montēt fasādes apakškarkasa konstrukciju, ieskaitot visus stiprinājumus un palīgmateriālus. | D35: m2 | E35: 120
A36: 20 | C36: Siltināt sienu ar PAROC Ultra siltumizolācijas plāksnēm vai ekvivalents (λD ≤ 0,035 W/mK, ugunsreakcijas klase A1) 150mm | D36: m2 | E36: 120
A37: 21 | C37: Stiprināt vēja izolāciju PAROC Cortex b ar melnu pārklājumu vai ekvivalents (λD ≤ 0,033 W/mK, ugunsreakcijas klase A2-s1, d0), ieskaitot visus stiprinājumus un palīgmateriālus. | D37: m2 | E37: 120
A38: 22 | C38: Pārkares mezgls M-20
A39: 23 | C39: Stiprināt koka latas 38x63mm, ieskaitot visus stiprinājumus un palīgmateriālus. | D39: m2 | E39: 128.6
A40: 24 | C40: Apšūt karkasu ar EQUITONE [linea] un EQUITONE [tectiva] šķiedrcementa masā krāsotiem paneļiem vai ekvivalents 10mm (skatīt fasāžu krāsu pasi) (minimālā ugunsreakcijas klase B-s1,d0), ieskaitot visus stiprinājumus un palīgmateriālus. | D40: m2 | E40: 128.6
A41: 25 | C41: C-1
A42: 26 | C42: Ieklāt bitumena mastikas hidroizolāciju no abām pusēm | D42: m2 | E42: 972
A43: 27 | C43: Siltināt pamatus ar ekstrudētu putupolistirolu Finnfoam FL300 vai ekvivalents uz līmjavas kārtas 100mm biezumā, ieskaitot visus stiprinājumus un palīgmateriālus. | D43: m2 | E43: 486
A44: 28 | C44: Armēt virsmu ar armēšanas javu pa stiklašķiedras sietu, ieskaitot visus stiprinājumus un palīgmateriālus. | D44: m2 | E44: 61.26
A45: 29 | C45: Gruntēt un apmest virsmu ar tonētu dekoratīvo apmetumu, ieskaitot visus stiprinājumus un palīgmateriālus. | D45: m2 | E45: 61.26
A46: 30 | C46: C-2
A47: 31 | C47: Ieklāt bitumena mastikas hidroizolāciju | D47: m2 | E47: 73.95
...

Sheet 1,10
A2: Būvdarbu apjomu saraksts Nr.1,10
A3: =KA!C24 -> Žogi, nožogojumi, vārti un vārtiņi
A4: (būvdarbu veids vai konstruktīvā elementa nosaukums)
A6: Objekta nosaukums: | C6: =KT!B9 -> Garkalnes Mākslas un vispārizglītojošās pamatskolas piebūve
A7: Būves nosaukums: | C7: =KT!B10 -> Garkalnes Mākslas un vispārizglītojošā pamatskola
A8: Objekta adrese: | C8: =KT!B11 -> Ropažu novads, Garkalne, Vidzemes šoseja 34, LV-2137
A9: Pasūtījuma nr.: | C9: =KT!B12 -> 3DAD_228_GV34_L
A11: Apjomi sastādīti, pamatojoties uz būvprojekta rasējumiem
A14: Nr.p.k. | B14: Kods | C14: Būvdarbu nosaukums | D14: Mērvienība | E14: Daudzums
A17: 1 | C17: Demontāža
A18: 2 | C18: Demontēt žogu un izvest būvgružus utilizācijai | D18: m | E18: 88
A19: 3 | C19: Koka žogs
A20: 4 | C20: Montēt koka žogu uz betona pamatiem, ieskaitot visus stiprinājumus un palīgmateriālus H=1800m | D20: m | E20: 83.32
A21: 5 | C21: Izveidot gabionu I01 4000x1800x500mm | D21: gb | E21: 1
A22: 6 | C22: Izveidot gabionu I02 4000x1800x500mm | D22: gb | E22: 1
A23: 7 | C23: Montēt veramus vārtu gajējiem analogi žoga tipam uz betona pamatiem, ieskaitot visus stiprinājumus un palīgmateriālus H=1800m, L=3000mm | D23: gb | E23: 1
A24: 8 | C24: Metāla žogs
A25: 9 | C25: Montēt metāla žogu uz betona pamatiem, ieskaitot visus stiprinājumus un palīgmateriālus H=1800m | D25: m | E25: 7.75
A26: 10 | C26: Montēt veramus vārtu gajējiem analogi žoga tipam uz betona pamatiem, ieskaitot visus stiprinājumus un palīgmateriālus H=1800m, L=1500mm | D26: gb | E26: 1
A27: 11 | C27: Montēt bīdāmus vārtus analogi žoga tipam uz betona pamatiem, ieskaitot visus stiprinājumus un palīgmateriālus H=1800m, L=8000mm | D27: gb | E27: 1
A31: =KT!A23 -> Sastādīja: | D31: =KT!C27 -> 2026. gada 17.aprīlī
A32: (paraksts un tā atšifrējums, datums)
A33: =KT!A25 -> Sertifikāta Nr.:
A35: =KT!A27 -> Pārbaudīja: | D35: =KT!C27 -> 2026. gada 17.aprīlī
A36: (paraksts un tā atšifrējums, datums)
A37: =KT!A29 -> Sertifikāta Nr.:

Sheet 1,11
A2: Būvdarbu apjomu saraksts Nr.1,11
A3: =KA!C25 -> Ceļi un laukumi
A4: (būvdarbu veids vai konstruktīvā elementa nosaukums)
A6: Objekta nosaukums: | C6: =KT!B9 -> Garkalnes Mākslas un vispārizglītojošās pamatskolas piebūve
A7: Būves nosaukums: | C7: =KT!B10 -> Garkalnes Mākslas un vispārizglītojošā pamatskola
A8: Objekta adrese: | C8: =KT!B11 -> Ropažu novads, Garkalne, Vidzemes šoseja 34, LV-2137
A9: Pasūtījuma nr.: | C9: =KT!B12 -> 3DAD_228_GV34_L
A11: Apjomi sastādīti, pamatojoties uz būvprojekta rasējumiem
A14: Nr.p.k. | B14: Kods | C14: Būvdarbu nosaukums | D14: Mērvienība | E14: Daudzums
A17: 1 | C17: TS-CD daļa
A18: 2 | C18: Ceļa segums
A19: 3 | C19: Zemes klātnes ierakuma būvniecība hvid=70 cm | D19: m2 | E19: 680
A20: 4 | C20: Zemes klātnes uzbēruma būvniecība hvid=50 cm | D20: m2 | E20: 250
A21: 5 | C21: Zemes planēšana , no esošās zemes klātnes iegūtās grunts | D21: m2 | E21: 150
A22: 6 | C22: Ieklāt betona bruģakmens segumu 80mm biezumā. Hansa 8 (500x500x80mm) Tonis: Moon anthracite Ražotājs: Betono mozaika vai ekvivalents | D22: m2 | E22: 680
A23: 7 | C23: Ieklāt izlīdzinošo slāni 40mm biezumā Nesaistītu minerālmateriālu izlīdzinošās starpkārtas būvniecība (H = 4 cm) | D23: m2 | E23: 694
A24: 8 | C24: Ieklāt blietētu šķembu kārtu Nesaist. minerālmateriālu (fr.0/45) izbūve, N-III, h=20 cm | D24: m2 | E24: 700
A25: 9 | C25: Ieklāt blietētu smilts kārtu Pastiprināta salizturīgā kārtas izbūve, hvid=40cm | D25: m2 | E25: 748
A26: 10 | C26: Nomaļu uzpildīšana (Šķembu maisījums 0/32s (N-III klase)) 10 cm biezumā | D26: m3 | E26: 1
A27: 11 | C27: Karstā asfalta dilumkārtas AC 11 surf būvniecība 5 cm biezumā | D27: m2 | E27: 12
A28: 12 | C28: Ceļa zīmju uzstādīšana | E28: 0
A29: 13 | C29: 206 | D29: gb. | E29: 1
A30: 14 | C30: 301 | D30: gb. | E30: 1
A31: 15 | C31: 302 | D31: gb. | E31: 1
A32: 16 | C32: 323 | D32: gb. | E32: 1
A33: 17 | C33: 849 | D33: gb. | E33: 1
A34: 18 | C34: Horizontālā apzīmējumi | E34: 0
A35: 19 | C35: 920 | D35: m | E35: 6.8
A36: 20 | C36: 930 | D36: m | E36: 4.3
A37: 21 | C37: Ceļa zīmju balstu uzstādīšana betona C30/37 pamatos, min. 0,30x0,30x0,50m | D37: gb. | E37: 3
A38: 22 | C38: Ielas betona apmales 100x30x15 uzstādīšana uz betona pamata | D38: m | E38: 168
A39: 23 | C39: Ielas betona apmales 100x30/22x15 uzstādīšana uz betona pamata | D39: m | E39: 8
A40: 24 | C40: Ielas betona apmales 100x22x15 uzstādīšana uz betona pamata | D40: m | E40: 6
A41: 25 | C41: Atbalsta sienas izveide un montāža ( Ieskaitot nepieciešamos materiālus) | D41: m | E41: 90
A42: 26 | C42: Meliorācijas darbi | E42: 0
A43: 27 | C43: Ievalkas izveidošana hvid=30-50cm | D43: m2 | E43: 150
A44: 28 | C44: Komunikāciju pārbūve | E44: 0
A45: 29 | C45: Kabeļa aizsargcaurule D110,750N | D45: m | E45: 24
A46: 30 | C46: Labiekārtošanas darbi | E46: 0
A47: 31 | C47: Augu zeme apsēta ar daudzgadīgu zāliena sēklām h=10cm | D47: m2 | E47: 250
...

Sheet 1,12
A2: Būvdarbu apjomu saraksts Nr.1,12
A3: =KA!C26 -> Apzaļumošanas darbi
A4: (būvdarbu veids vai konstruktīvā elementa nosaukums)
A6: Objekta nosaukums: | C6: =KT!B9 -> Garkalnes Mākslas un vispārizglītojošās pamatskolas piebūve
A7: Būves nosaukums: | C7: =KT!B10 -> Garkalnes Mākslas un vispārizglītojošā pamatskola
A8: Objekta adrese: | C8: =KT!B11 -> Ropažu novads, Garkalne, Vidzemes šoseja 34, LV-2137
A9: Pasūtījuma nr.: | C9: =KT!B12 -> 3DAD_228_GV34_L
A11: Apjomi sastādīti, pamatojoties uz būvprojekta rasējumiem
A14: Nr.p.k. | B14: Kods | C14: Būvdarbu nosaukums | D14: Mērvienība | E14: Daudzums
A17: 1 | C17: Atjaunojama zāliena segums
A18: 2 | C18: Ieklāt zālāja segumu 15cm biezumā pievedot auglīgo melnzemes kārtu | D18: m2 | E18: 1646
A19: 3 | C19: Mizas mulčas segums
A20: 4 | C20: Ieklāt triecienu absorbējošu mulčas segumu, h=25cm | D20: m2 | E20: 278.9
A21: 5 | C21: Ieklāt ģeotekstilu nw15 vai ekvivalents | D21: m2 | E21: 278.9
A22: 6 | C22: Apstādījumi
A23: 7 | C23: Norakt grunti teritorijas labiekārtošanas darbiem | D23: m3 | E23: 167.34
A24: 8 | C24: Izvest lieko grunti utilizācijai | D24: m3 | E24: 167.34
A25: 9 | C25: Ieklāt sijātu auglīgās augsnes kārtu 60cm biezumā | D25: m3 | E25: 167.34
A26: 10 | C26: Stādvietas jāpapildina ar priežu mizas mulču 7 cm biezumā (vidēju frakciju fr. 20-40 mm) | D26: m2 | E26: 278.9
A27: 11 | C27: Koka šķeldas segums
A28: 12 | C28: Ieklāt triecienu absorbējošu koka šķeldas segumu, h=25cm | D28: m2 | E28: 238
A29: 13 | C29: Ieklāt ģeotekstilu nw15 vai ekvivalents | D29: m2 | E29: 238
A30: 14 | C30: Augi
A31: 15 | C31: Physocarpus opulifolius ‘Amber Jubilee’ – irbeņlapu fizokarps, C5, izcelsme/audzētājs: kokaudzētava Baltezers vai ekvivalents, pieauguša auga izmērs h 1.5 m, d 1.5 m | D31: gb | E31: 21
A32: 16 | C32: Hydrangea paniculata ‘Bokralame’ – skarainā hortenzija, C5, izcelsme/audzētājs: kokaudzētava Baltezers vai ekvivalents, pieauguša auga izmērs h 1.5 m, d 1.5 m | D32: gb | E32: 71
A33: 17 | C33: Pinus mugo var. pumilio – kalnu priede, augstums 80 cm, 1x pārstādīts, izcelsme/audzētājs: kokaudzētava Buldēni vai ekvivalents, pieauguša auga izmērs h 1.5 m, d 2.5 m | D33: gb | E33: 12
A34: 18 | C34: Miscanthus sinensis ‘Kaskade’ – Ķīnas miskante, izcelsme/audzētājs: stādaudzētava Puķu lauki vai ekvivalents, pieauguša auga izmērs h 1.8 m, d 0.8 m | D34: gb | E34: 173
A35: 19 | C35: Echinacea ‘SunSeekers Yellow’ – ehinācija, izcelsme/audzētājs: stādaudzētava Puķu lauki vai ekvivalents, pieauguša auga izmērs h 0.5–0.7 m, d 0.4 m | D35: gb | E35: 63
A36: 20 | C36: Hemerocallis ‘Happy Returns’ – dienziede, izcelsme/audzētājs: stādaudzētava Puķu lauki vai ekvivalents, pieauguša auga izmērs h 0.5 m, d 0.4 m | D36: gb | E36: 25
A37: 21 | C37: Koka stādam paredzēt ierīkot pārvietojamu laistīšanas sistēmu - laistīšanas maisus ar 50 līdz 70 l ietilpību. | D37: gb | E37: 12
A38: 22 | C38: Nocirst kokus, izraut celmus un izvest utilizācijai | D38: gb | E38: 43
A42: =KT!A23 -> Sastādīja: | D42: =KT!C27 -> 2026. gada 17.aprīlī
A43: (paraksts un tā atšifrējums, datums)
A44: =KT!A25 -> Sertifikāta Nr.:
A46: =KT!A27 -> Pārbaudīja: | D46: =KT!C27 -> 2026. gada 17.aprīlī
A47: (paraksts un tā atšifrējums, datums)
A48: =KT!A29 -> Sertifikāta Nr.:

Sheet 1,13
A2: Būvdarbu apjomu saraksts Nr.1,13
A3: =KA!C27 -> Dažādi darbi - labiekārtojuma elementi
A4: (būvdarbu veids vai konstruktīvā elementa nosaukums)
A6: Objekta nosaukums: | C6: =KT!B9 -> Garkalnes Mākslas un vispārizglītojošās pamatskolas piebūve
A7: Būves nosaukums: | C7: =KT!B10 -> Garkalnes Mākslas un vispārizglītojošā pamatskola
A8: Objekta adrese: | C8: =KT!B11 -> Ropažu novads, Garkalne, Vidzemes šoseja 34, LV-2137
A9: Pasūtījuma nr.: | C9: =KT!B12 -> 3DAD_228_GV34_L
A11: Apjomi sastādīti, pamatojoties uz būvprojekta rasējumiem
A14: Nr.p.k. | B14: Kods | C14: Būvdarbu nosaukums | D14: Mērvienība | E14: Daudzums
A17: 1 | C17: Labiekārtojuma elementu montāža
A18: 2 | C18: Rotāļu laukuma aprīkojums - Robinia RB0700. Vinci play spēļu laukumu aprīkojums. Augstums 450mm, Platums 450mm, Garums 450mm, Vecuma grupa 3+ gadi, Kapacitāte 3 bērni vai ekvivalents | D18: gb | E18: 1
A19: 3 | C19: Rotāļu laukuma aprīkojums - Šūpoles Gelia 8038421. Hags spēļu laukumu aprīkojums. Augstums 2700mm, Platums 2600mm, Garums 3900mm, Vecuma grupa 3+ gadi vai ekvivalents | D19: gb | E19: 1
A20: 4 | C20: Rotāļu laukuma aprīkojums - Robinia RB1369. Vinci play spēļu laukumu aprīkojums. Augstums 470mm, Platums 970mm, Garums 970mm, Vecuma grupa 3+ gadi, Kapacitāte 3 bērni vai ekvivalents | D20: gb | E20: 1
A21: 5 | C21: Rotāļu laukuma aprīkojums - Robinia RB1218. Vinci play spēļu laukumu aprīkojums. Augstums 1900mm, Platums 500mm, Garums 8600mm, Vecuma grupa 3+ gadi, Kapacitāte 16 bērni vai ekvivalents | D21: gb | E21: 1
A22: 6 | C22: Rotāļu laukuma aprīkojums - Robinia RB1370. Vinci play spēļu laukumu aprīkojums. Augstums 860mm, Platums 360mm, Garums 950mm, Vecuma grupa 3+ gadi, Kapacitāte 2 bērni vai ekvivalents | D22: gb | E22: 1
A23: 7 | C23: Rotāļu laukuma aprīkojums - HOOP 0728. Vinci play spēļu laukumu aprīkojums - karuselis, pielāgots bērniem ratiņkrēslā. Augstums 900mm, Platums 2200mm, Garums 2200mm, Vecuma grupa 3–12 gadi, Kapacitāte 6 bērni vai ekvivalents | D23: gb | E23: 1
A24: 8 | C24: Galda tenisa galds - 8002872. Hags sporta aprīkojums. Augstums 850mm, Platums 1600mm, Garums 2750mm vai ekvivalents | D24: gb | E24: 2
A25: 9 | C25: Ugunskurā vieta Jazz d100 - 8919528. Tērauda ugunskura trauks, tonis melns. Augstums 300mm, Diametrs 1000mm vai ekvivalents | D25: gb | E25: 1
A26: 10 | C26: Velosipēdu statīvs - Pico 05.020. U-veida velosipēdu statīvs no nerūsējošā tērauda, ražotājs ZANO. Augstums 830mm, Tērauda caurules diametrs 60mm, Garums 660mm vai ekvivalents | D26: gb | E26: 10
A27: 11 | C27: Atkritumu urna šķirotiem atkritumiem. Cinkota tērauda atkritumu urna ar stikla, plastmasas un sadzīves atkritumu nodalījumiem, tonis RAL 9005, iespēja stiprināt zemē, ietilpība 3 x 75l. Augstums 800mm, Garums 1120mm, Platums 380mm vai ekvivalents | D27: gb | E27: 3
A28: 12 | C28: Soliņi ap ugunskuru Soliņu C01 TS-L-4 | D28: gb | E28: 2
A29: 13 | C29: Soliņi ap ugunskuru Soliņu C02 TS-L-4 | D29: gb | E29: 1
... A53: 37 | C53: Rotaļu laukuma aprīkojums - Soliņš Robinia RB1390; Vinci play spēļu laukumu aprīkojums; Augstums 950 mm; Platums 600 mm; Garums 1500 mm. (vai ekvivalents) | D53: gb. | E53: 6
A57: =KT!A23 -> Sastādīja: | D57: =KT!C27 -> 2026. gada 17.aprīlī
A58: (paraksts un tā atšifrējums, datums)
A59: =KT!A25 -> Sertifikāta Nr.:
A61: =KT!A27 -> Pārbaudīja: | D61: =KT!C27 -> 2026. gada 17.aprīlī
A62: (paraksts un tā atšifrējums, datums)
A63: =KT!A29 -> Sertifikāta Nr.:

Sheet 1,14
A2: Būvdarbu apjomu saraksts Nr.1,14
A3: =KA!C28 -> Dažādi darbi - ēdnīcas aprīkojums
A4: (būvdarbu veids vai konstruktīvā elementa nosaukums)
A6: Objekta nosaukums: | C6: =KT!B9 -> Garkalnes Mākslas un vispārizglītojošās pamatskolas piebūve
A7: Būves nosaukums: | C7: =KT!B10 -> Garkalnes Mākslas un vispārizglītojošā pamatskola
A8: Objekta adrese: | C8: =KT!B11 -> Ropažu novads, Garkalne, Vidzemes šoseja 34, LV-2137
A9: Pasūtījuma nr.: | C9: =KT!B12 -> 3DAD_228_GV34_L
A11: Apjomi sastādīti, pamatojoties uz būvprojekta rasējumiem
A14: Nr.p.k. | B14: Kods | C14: Būvdarbu nosaukums | D14: Mērvienība | E14: Daudzums
A17: 1 | C17: Ēdiena piegādes zonas iekārtu specifikācija
A18: 2 | C18: Nerūsējošā tērauda AISI 304 galds ar padziļinājumu virsmā trauku groziem un apakšējo plauktu, maliņu 130 mm aizmugurē.Galdam ir 1 izlietne 500x400 x250mm kreisajā pusē .Galds savienojas kreisajā pusē ar trauku mašīnu. Galdam ir atbīdītas kājas un plaukts no aizmugures 150 mm. | D18: gb | E18: 1
A19: 3 | C19: Skalošanas duša ar krānu un maisītāju.Elastīga šļūtene , grozāma dažādos virzienos. Duša stiprinās pie galda virsmas ar atsaiti pie sienas. Maisītāja garums vismaz 255 mm . | D19: gb | E19: 1
A20: 4 | C20: Kupola trauku mazgājamā mašīna, grozs 500x500mm, Ūdens patēriņš ciklā – 2 litri. Mazgāšanas cikli: 45/84/150 sek un pašttīrīšanās cikls; boileris – 12 l, tanks 24 litri. Ražība – 1400 šķīvji/h (80 grozi). Pašdiagnostika. Nerūsējošā tērauda konstrukcija , mazgāšanas tvertne ar noapaļotiem stūriem , filtri , mazgāšanas sprauslas no ner. tērauda. Iebūvēts skalošanas līdzekļa dozators, mazgāšanas līdzekļa dozators, noteces sūknis. Komplektā 2 kasetes un groziņš galda piederumu mazgāšanai. | D20: gb | E20: 1
A21: 5 | C21: Nerūsējošā tērauda ventilācijas kape ar labirinta tipa vai cikloniskajiem filtriem, izvada diam. 315 mm, max.gaisa plūsma | D21: gb | E21: 1
A22: 6 | C22: Nerūsējošā tērauda AISI 304 pēcmazgāšanas galds ar padziļinājumu virsmā trauku groziem un apakšējo plauktu, maliņu 130 mm aizmugurē.Galds savienojas labajā pusē ar trauku mašīnu. Galdam ir atbīdītas kājas un plaukts no aizmugures 150 mm. | D22: gb | E22: 1
A23: 7 | C23: Nerūsējošā tērauda AISI 304 sastatne ar 5 plauktiem, metinātas konstrukcijas.Plaukti ar pastiprinājumu. Svara izturība vismaz 120 kg katram plauktam. | D23: gb | E23: 1
A24: 8 | C24: Nerūsējošā tērauda AISI 304 rati ar sliežu virzītājiem 6 trauku groziem 500x500 mm.Attālums starp sliežu virzītājiem 250 mm. Pagriežams sliežu bloķētājs vienā pusē. 4 riteņi, 2 no tiem ar bremzēm. | D24: gb | E24: 1
A25: 9 | C25: Platformas ratiņi FOLD Salokāmi, 300 kg kravnesība, 610x905 mm | D25: gb | E25: 1
A26: 10 | C26: Nerūsējošā tērauda izlietne roku mazgāšanai, stiprināma pie sienas, ar maisītāju un sifonu | D26: gb | E26: 1
A27: 11 | C27: Nerūsējošā tērauda galds ar apakšējo plauktu, maliņu Galdam ir atbīdītas kājas un plaukts no aizmugures 100 mm. | D27: gb | E27: 1
A28: 12 | C28: Marmīts ar tvertni 2 GN 1/1 traukiem ar dziļumu 200mm. Aprīkots ar riteņiem, 2 no tiem ar bremzēm. Termostats, temp. +30-100oC. Komplektā starplika GN 1/1.Ar krānu ūdens noliešanai. | D28: gb | E28: 1
A29: 13 | C29: Nerūsējošā tērauda metinātas konstrukcijas ratiņi ar 2 plauktiem. Kravnesība - vismaz 50 kg uz plauktu. 4 riteņi ar diametri 125 mm, ar plastikāta aizsargiem. 2 riteņi ir aprīkoti ar bremzēm. | D29: gb | E29: 1
... A31: 15 | C31: Krāsota metāla garderobes skapītis 3 personām . Katrs nodalījums ar starpsienu, plauktu cepurēm, ventilācijas atverēm korpusā, slēdzamas durvis, augstumā regulējamu kāju rāmis | D31: gb | E31: 1
A35: =KT!A23 -> Sastādīja: | D35: =KT!C27 -> 2026. gada 17.aprīlī
A36: (paraksts un tā atšifrējums, datums)
A37: =KT!A25 -> Sertifikāta Nr.:
A39: =KT!A27 -> Pārbaudīja: | D39: =KT!C27 -> 2026. gada 17.aprīlī
A40: (paraksts un tā atšifrējums, datums)
A41: =KT!A29 -> Sertifikāta Nr.:

Sheet 2,1
A2: Būvdarbu apjomu saraksts Nr.2,1
A3: =KA!C30 -> Iekšējie elektrotīkli, apgaismojums, spēka pievadi
A4: (būvdarbu veids vai konstruktīvā elementa nosaukums)
A6: Objekta nosaukums: | C6: =KT!B9 -> Garkalnes Mākslas un vispārizglītojošās pamatskolas piebūve
A7: Būves nosaukums: | C7: =KT!B10 -> Garkalnes Mākslas un vispārizglītojošā pamatskola
A8: Objekta adrese: | C8: =KT!B11 -> Ropažu novads, Garkalne, Vidzemes šoseja 34, LV-2137
A9: Pasūtījuma nr.: | C9: =KT!B12 -> 3DAD_228_GV34_L
A11: Apjomi sastādīti, pamatojoties uz būvprojekta rasējumiem
A14: Nr.p.k. | B14: Kods | C14: Būvdarbu nosaukums | D14: Mērvienība | E14: Daudzums
A17: 1 | C17: 1. Elektrosadalnes, komutācijas aparā
A18: 2 | C18: 3polu automātslēdzis ~400V, 160A, NSX250B TM-D, un PowerTag, "Schneider", papildus uzstādīšanai esošas ēkas galvenajā elektrosadalnē vai ekvivalents | D18: gb | E18: 1
A19: 3 | C19: Galvenā elektrosadalne GS, ~400V, IP43, ar montāžas kompl. un vietu rezervi 30%, slēdzama: | D19: kpl | E19: 1
A20: 4 | C20: ievadā: 3polu atvienotājslēdzis ~400V, 250A, INS, "Schneider" vai ekvivalents | D20: gb | E20: 1
A21: 5 | C21: 3polu automātslēdzis ~400V, 100A, NSX100B TM-D, "Schneider" vai ekvivalents | D21: kpl | E21: 1
A22: 6 | C22: pārspriegumu aizsardzība ~400V, 3P+N, I+II klases, PRD1 25r, "Schneider" vai ekvivalents | D22: gb | E22: 1
