Workbook
Name datums: [1]KA!$K$45
Name likme: KT!#REF!
Name parb: [1]KA!$K$43
Name procenti: #REF!
Name sast: [1]KA!$K$42
Name sertif: [1]KA!$K$44

Sheet KT
C2: APSTIPRINU_________________________________
C3: (pasūtītāja paraksts un tā atšifrējums)
C4: Z.V.
C5: ___.gada ___.______________
A7: Būvniecības koptāme
A9: Objekta nosaukums: | B9: Garkalnes Mākslas un vispārizglītojošās pamatskolas piebūve
A10: Būves nosaukums: | B10: Garkalnes Mākslas un vispārizglītojošā pamatskola
A11: Objekta adrese: | B11: Ropažu novads, Garkalne, Vidzemes šoseja 34, LV-2137
A12: Pasūtījuma nr.: | B12: 3DAD_228_GV34_L
A14: Nr.p.k. | B14: Objekta nosaukums | C14: Objekta izmaksas (euro)
A15: 1 | B15: =B9 -> Garkalnes Mākslas un vispārizglītojošās pamatskolas piebūve
B18: Kopā
A20: PVN (21%)
A23: Sastādīja: | C23: =C27 -> 2026. gada 17.aprīlī
A24: (paraksts un tā atšifrējums, datums)
A25: Sertifikāta Nr.:
A27: Pārbaudīja: | C27: 2026. gada 17.aprīlī
A28: (paraksts un tā atšifrējums, datums)
A29: Sertifikāta Nr.:

Sheet KA
A2: Kopsavilkuma aprēķins nr.1
A3: =C6 -> Garkalnes Mākslas un vispārizglītojošās pamatskolas piebūve
A4: (būvdarbu veids vai konstruktīvā elementa nosaukums)
A6: Objekta nosaukums: | C6: =KT!B9 -> Garkalnes Mākslas un vispārizglītojošās pamatskolas piebūve
A7: Būves nosaukums: | C7: =KT!B10 -> Garkalnes Mākslas un vispārizglītojošā pamatskola
A8: Objekta adrese: | C8: =KT!B11 -> Ropažu novads, Garkalne, Vidzemes šoseja 34, LV-2137
A9: Pasūtījuma nr.: | C9: =KT!B12 -> 3DAD_228_GV34_L
C10: Par kopējo summu (euro) | E10: =E54 -> 0
C11: Kopējā darbietilpība (c/h) | E11: =SUM(I14:I49) -> 0
A12: Nr.p.k. | B12: kods, tāmes nr. | C12: Būvdarbu veids vai konstruktīvā elementa nosaukums | E12: Tāmes izmaksas | F12: Tai skaitā | I12: Darbietilpība (c/h)
F13: Darba alga | G13: Būvizstrādājumi | H13: Mehānismi
A14: 1 | C14: 1. Vispārējie būvdarbi
A15: 2 | B15: 1.1 | C15: Zemes darbi
A16: 3 | B16: 1.2 | C16: Pamati un pamatnes
A17: 4 | B17: 1.3 | C17: Sienas, ēku un būvju karkasu konstrukcijas
A18: 5 | B18: 1.4 | C18: Starpsienas
A19: 6 | B19: 1.5 | C19: Grīdu pamatnes, segumi
A20: 7 | B20: 1.6 | C20: Jumti, segumi
A21: 8 | B21: 1.7 | C21: Aiļu aizpildījumu elementi, speciālo konstrukciju fasādes
A22: 9 | B22: 1.8 | C22: Iekšējie apdares darbi
A23: 10 | B23: 1.9 | C23: Ārējie apdares darbi
A24: 11 | B24: 1.1 | C24: Žogi, nožogojumi, vārti un vārtiņi
A25: 12 | B25: 1.11 | C25: Ceļi un laukumi
A26: 13 | B26: 1.12 | C26: Apzaļumošanas darbi
... A28: 15 | B28: 1.14 | C28: Dažādi darbi - ēdnīcas aprīkojums
A29: 16 | C29: 2. Specializētie darbi – iekšējie tīkli, sistēmas
A30: 17 | B30: 2.1 | C30: Iekšējie elektrotīkli, apgaismojums, spēka pievadi
A31: 18 | B31: 2.2 | C31: Iekšējās apkures sistēmas
A32: 19 | B32: 2.3 | C32: Vēdināšana, gaisa kondicionēšana
A33: 20 | B33: 2.4 | C33: Iekšējie ūdensvada tīkli, aprīkojums
A34: 21 | B34: 2.5 | C34: Iekšējie kanalizācijas tīkli, aprīkojums
A35: 22 | B35: 2.6 | C35: Vājstrāvas tīkli - UATS
A36: 23 | B36: 2.7 | C36: Vājstrāvas tīkli - AS
A37: 24 | B37: 2.8 | C37: Vājstrāvas tīkli - CI
A38: 25 | B38: 2.9 | C38: Vājstrāvas tīkli - DA
A39: 26 | B39: 2.1 | C39: Vājstrāvas tīkli - TK
A40: 27 | B40: 2.11 | C40: Vājstrāvas tīkli - VAS
A41: 28 | B41: 2.12 | C41: Vājstrāvas tīkli - VN
A42: 29 | B42: 2.13 | C42: Lifti, liftu šahtas
A43: 30 | C43: 3. Specializētie darbi – ārējie tīkli, sistēmas
A44: 31 | B44: 3.1 | C44: Ārējie elektrotīkli, apgaismojums. Maģistrālās elektrolīnijas
A45: 32 | B45: 3.2 | C45: Ārējie siltumtīkli
A46: 33 | B46: 3.3 | C46: Ārējie ūdensvada tīkli
A47: 34 | B47: 3.4 | C47: Ārējie kanalizācijas tīkli. Attīrīšanas ietaises
A48: 35 | B48: 3.5 | C48: Lietusūdens kanalizācijas tīkli
A49: 36 | B49: 3.6 | C49: Vājstrāvas tīkli
A50: Kopā
A51: Virsizdevumi
A52: t.sk. Darba aizsardzība
A53: Peļņa
A54: Pavisam kopā
A56: =KT!A23 -> Sastādīja: | E56: =KT!C27 -> 2026. gada 17.aprīlī
A57: (paraksts un tā atšifrējums, datums)
A58: =KT!A25 -> Sertifikāta Nr.:
A60: =KT!A27 -> Pārbaudīja: | E60: =KT!C27 -> 2026. gada 17.aprīlī
A61: (paraksts un tā atšifrējums, datums)
A62: =KT!A29 -> Sertifikāta Nr.:

Sheet 1,1
A2: Būvdarbu apjomu saraksts Nr.1,1
A3: =KA!C15 -> Zemes darbi
A4: (būvdarbu veids vai konstruktīvā elementa nosaukums)
A6: Objekta nosaukums: | C6: =KT!B9 -> Garkalnes Mākslas un vispārizglītojošās pamatskolas piebūve
A7: Būves nosaukums: | C7: =KT!B10 -> Garkalnes Mākslas un vispārizglītojošā pamatskola
A8: Objekta adrese: | C8: =KT!B11 -> Ropažu novads, Garkalne, Vidzemes šoseja 34, LV-2137
A9: Pasūtījuma nr.: | C9: =KT!B12 -> 3DAD_228_GV34_L
A11: Apjomi sastādīti, pamatojoties uz būvprojekta rasējumiem
A14: Nr.p.k. | B14: Kods | C14: Būvdarbu nosaukums | D14: Mērvienība | E14: Daudzums
A17: 1 | C17: Rakt būvbedri līdz projektā paredzētajam dziļumam | D17: m3 | E17: 9359.53
A18: 2 | C18: Izvest lieko grunti uz būvuzņēmēja atbērtni un utilizēt | D18: m3 | E18: 9359.53
A19: 3 | C19: Visus grunts atbēršanas darbus jāveic izmantojot kvalitatīvas un standartiem atbilstošas sablietētas smiltis, klājot slāni uz slāņa, kur maksimālais slāņa biezums ir līdz 0.2 m. | D19: m3 | E19: 8889.73
A23: =KT!A23 -> Sastādīja: | D23: =KT!C27 -> 2026. gada 17.aprīlī
A24: (paraksts un tā atšifrējums, datums)
A25: =KT!A25 -> Sertifikāta Nr.:
A27: =KT!A27 -> Pārbaudīja: | D27: =KT!C27 -> 2026. gada 17.aprīlī
A28: (paraksts un tā atšifrējums, datums)
A29: =KT!A29 -> Sertifikāta Nr.:

Sheet 1,2
A2: Būvdarbu apjomu saraksts Nr.1,2
A3: =KA!C16 -> Pamati un pamatnes
A4: (būvdarbu veids vai konstruktīvā elementa nosaukums)
A6: Objekta nosaukums: | C6: =KT!B9 -> Garkalnes Mākslas un vispārizglītojošās pamatskolas piebūve
A7: Būves nosaukums: | C7: =KT!B10 -> Garkalnes Mākslas un vispārizglītojošā pamatskola
A8: Objekta adrese: | C8: =KT!B11 -> Ropažu novads, Garkalne, Vidzemes šoseja 34, LV-2137
A9: Pasūtījuma nr.: | C9: =KT!B12 -> 3DAD_228_GV34_L
A11: Apjomi sastādīti, pamatojoties uz būvprojekta rasējumiem
A14: Nr.p.k. | B14: Kods | C14: Būvdarbu nosaukums | D14: Mērvienība | E14: Daudzums
A17: 1 | C17: Pamatnes
A18: 2 | C18: Ierīkot blietētu šķembu 20-45 kārtu zem pamatiem 100mm biezumā. | D18: m3 | E18: 56.65
A19: 3 | C19: Pamati
A20: 4 | C20: Betonēt veidņos lentveida pamata pēdu (-5,625m) ar C30/37 XC2 klases betonu, betonu padodot ar sūkni iestrādes vietā, ieskaitot visus palīgmateriālus un stiprinājumus. | D20: m3 | E20: 111.58
A21: 5 | C21: Betonēt veidņos stabveida pamatu pēdu (-5,625m) ar C30/37 XC2 klases betonu, betonu padodot ar sūkni iestrādes vietā, ieskaitot visus palīgmateriālus un stiprinājumus. | D21: m3 | E21: 12.33
A22: 6 | C22: Stiegrot pamatus (-5,625m) ar B500B klases tērauda stiegrām, ieskaitot visus palīgmateriālus un stiprinājumus. | D22: kg | E22: 12233.1
A23: 7 | C23: Betonēt veidņos lentveida pamata pēdu (-4,150m) ar C30/37 XC2 klases betonu, betonu padodot ar sūkni iestrādes vietā, ieskaitot visus palīgmateriālus un stiprinājumus. | D23: m3 | E23: 21.36
A24: 8 | C24: Stiegrot pamatus (-4,150m) ar B500B klases tērauda stiegrām, ieskaitot visus palīgmateriālus un stiprinājumus. | D24: kg | E24: 2279.2
A25: 9 | C25: Betonēt veidņos atbalstsienu ar C30/37 XC2 klases betonu, betonu padodot ar sūkni iestrādes vietā, ieskaitot visus palīgmateriālus un stiprinājumus. | D25: m3 | E25: 24.16
A26: 10 | C26: Betonēt veidņos lentveida pamata sienu ar C30/37 XC2 klases betonu, betonu padodot ar sūkni iestrādes vietā, ieskaitot visus palīgmateriālus un stiprinājumus. | D26: m3 | E26: 251.27
A27: 11 | C27: Betonēt veidņos stabveida pamata vertikālo daļu ar C30/37 XC2 klases betonu, betonu padodot ar sūkni iestrādes vietā, ieskaitot visus palīgmateriālus un stiprinājumus. | D27: m3 | E27: 3.92
A28: 12 | C28: Stiegrot pamatu vertikālās daļas ar B500B klases tērauda stiegrām, ieskaitot visus palīgmateriālus un stiprinājumus. | D28: kg | E28: 27077.6
A29: 13 | C29: Ieliekamās detaļas
A30: 14 | C30: Montēt ieliekamo detaļu HPM20P vai ekvivalents | D30: gb | E30: 64
A31: 15 | C31: Urbt pamatos caurumus stiegru izvadiem | D31: gb | E31: 203
A32: 16 | C32: Monet stiegras d20x330mm izvadu ielīmējot ar HILTI HIT-HY 150 MAX vai ekvivalents | D32: gb | E32: 6
A33: 17 | C33: Monet stiegras d20x950mm izvadu ielīmējot ar HILTI HIT-HY 150 MAX vai ekvivalents | D33: gb | E33: 197
A37: =KT!A23 -> Sastādīja: | D37: =KT!C27 -> 2026. gada 17.aprīlī
A38: (paraksts un tā atšifrējums, datums)
A39: =KT!A25 -> Sertifikāta Nr.:
A41: =KT!A27 -> Pārbaudīja: | D41: =KT!C27 -> 2026. gada 17.aprīlī
A42: (paraksts un tā atšifrējums, datums)
A43: =KT!A29 -> Sertifikāta Nr.:

Sheet 1,3
A2: Būvdarbu apjomu saraksts Nr.1,3
A3: =KA!C17 -> Sienas, ēku un būvju karkasu konstrukcijas
A4: (būvdarbu veids vai konstruktīvā elementa nosaukums)
A6: Objekta nosaukums: | C6: =KT!B9 -> Garkalnes Mākslas un vispārizglītojošās pamatskolas piebūve
A7: Būves nosaukums: | C7: =KT!B10 -> Garkalnes Mākslas un vispārizglītojošā pamatskola
A8: Objekta adrese: | C8: =KT!B11 -> Ropažu novads, Garkalne, Vidzemes šoseja 34, LV-2137
A9: Pasūtījuma nr.: | C9: =KT!B12 -> 3DAD_228_GV34_L
A11: Apjomi sastādīti, pamatojoties uz būvprojekta rasējumiem
A14: Nr.p.k. | B14: Kods | C14: Būvdarbu nosaukums | D14: Mērvienība | E14: Daudzums
A17: 1 | C17: 1. stāva vertikālo konstrukciju plāns
A18: 2 | C18: Montēt saliekamās dz/b kolonnas, konstrukciju padodot ar celtni iestrādes vietā, ieskaitot visus palīgmateriālus un stiprinājumus. Betons C40/50, XC1 | D18: m3 | E18: 19.01
A19: 3 | C19: Montēt saliekamās dz/b sienas 200mm, konstrukciju padodot ar celtni iestrādes vietā, ieskaitot visus palīgmateriālus un stiprinājumus. Betons C40/50, XC1 Aizpildīt šuves ar smalkgraudainu betonu C40/50 | D19: m2 | E19: 885.31
A20: 4 | C20: Montēt saliekamās dz/b sienas 241mm, konstrukciju padodot ar celtni iestrādes vietā, ieskaitot visus palīgmateriālus un stiprinājumus. Betons C40/50, XC1 Aizpildīt šuves ar smalkgraudainu betonu C40/50 | D20: m2 | E20: 15.47
A21: 5 | C21: Montēt saliekamās dz/b sienas 350mm, konstrukciju padodot ar celtni iestrādes vietā, ieskaitot visus palīgmateriālus un stiprinājumus. Betons C40/50, XC1 Aizpildīt šuves ar smalkgraudainu betonu C40/50 | D21: m2 | E21: 72.19
A22: 6 | C22: Montēt saliekamās dz/b sienas 400mm, konstrukciju padodot ar celtni iestrādes vietā, ieskaitot visus palīgmateriālus un stiprinājumus. Betons C40/50, XC1 Aizpildīt šuves ar smalkgraudainu betonu C40/50 | D22: m2 | E22: 15.69
A23: 7 | C23: Montēt saliekamās dz/b sienas 604mm, konstrukciju padodot ar celtni iestrādes vietā, ieskaitot visus palīgmateriālus un stiprinājumus. Betons C40/50, XC1 Aizpildīt šuves ar smalkgraudainu betonu C40/50 | D23: m2 | E23: 22.32
A24: 8 | C24: Montēt tērauda kolonnas, ieskaitot visus palīgmateriālus un stiprinājumus. Visas metāla konstrukcijas izgatavojamas no tērauda ar stiprības klasi ne zemāku par S355J2. | D24: kg | E24: 240
A25: 9 | C25: Pārklāt tērauda kolonas ar ugunsdrošo krāsu nodrošinot R-60 | D25: m2 | E25: 6.3
A26: 10 | C26: Aizpildīt kolonas bāzes šuvi ar smalkgraudainu betonu C30/37 | D26: gb | E26: 29
A27: 11 | C27: 1. stāva vertikālo konstrukciju savienojoša stiegrojuma plāns
A28: 12 | C28: Savienot sienas ar B500B klases tērauda stiegrojumu, ieskaitot visus palīgmateriālus un stiprinājumus. | D28: kg | E28: 388.5
A29: 13 | C29: 1. stāva izvadu plāns
A30: 14 | C30: Montēt stiegru izvadus ar B500B klases tērauda stiegrojumu, ieskaitot visus palīgmateriālus un stiprinājumus. | D30: kg | E30: 172
A31: 15 | C31: Montēt vītņstieņa M20x260mm izvadus, ieskaitot visus palīgmateriālus un stiprinājumus. | D31: gb | E31: 19
A32: 16 | C32: Montēt vītņstieņa M20x350mm izvadus, ieskaitot visus palīgmateriālus un stiprinājumus. | D32: gb | E32: 24
A33: 17 | C33: Montēt TSE-16-M20-1020.0 izvadus vai ekvivalents, ieskaitot visus palīgmateriālus un stiprinājumus. | D33: gb | E33: 85
A34: 18 | C34: 2. stāva vertikālo konstrukciju plāns
A35: 19 | C35: Montēt saliekamās dz/b kolonnas, konstrukciju padodot ar celtni iestrādes vietā, ieskaitot visus palīgmateriālus un stiprinājumus. Betons C40/50, XC1 | D35: m3 | E35: 1.41
A36: 20 | C36: Montēt saliekamās dz/b sienas 200mm, konstrukciju padodot ar celtni iestrādes vietā, ieskaitot visus palīgmateriālus un stiprinājumus. Betons C40/50, XC1 Aizpildīt šuves ar smalkgraudainu betonu C40/50 | D36: m2 | E36: 600.86
A37: 21 | C37: Montēt saliekamās dz/b sienas 220mm, konstrukciju padodot ar celtni iestrādes vietā, ieskaitot visus palīgmateriālus un stiprinājumus. Betons C40/50, XC1 Aizpildīt šuves ar smalkgraudainu betonu C40/50 | D37: m2 | E37: 18.72
A38: 22 | C38: Montēt saliekamās dz/b sienas 241mm, konstrukciju padodot ar celtni iestrādes vietā, ieskaitot visus palīgmateriālus un stiprinājumus. Betons C40/50, XC1 Aizpildīt šuves ar smalkgraudainu betonu C40/50 | D38: m2 | E38: 12.29
A39: 23 | C39: Montēt saliekamās dz/b sienas 350mm, konstrukciju padodot ar celtni iestrādes vietā, ieskaitot visus palīgmateriālus un stiprinājumus. Betons C40/50, XC1 Aizpildīt šuves ar smalkgraudainu betonu C40/50 | D39: m2 | E39: 49.75
A40: 24 | C40: Montēt tērauda kolonnas, ieskaitot visus palīgmateriālus un stiprinājumus. Visas metāla konstrukcijas izgatavojamas no tērauda ar stiprības klasi ne zemāku par S355J2. | D40: kg | E40: 52
A41: 25 | C41: Pārklāt tērauda kolonas ar ugunsdrošo krāsu nodrošinot R-60 | D41: m2 | E41: 1.1
A42: 26 | C42: Aizpildīt kolonas bāzes šuvi ar smalkgraudainu betonu C30/37 | D42: gb | E42: 3
A43: 27 | C43: 2. stāva vertikālo konstrukciju savienojoša stiegrojuma plāns
A44: 28 | C44: Savienot sienas ar B500B klases tērauda stiegrojumu, ieskaitot visus palīgmateriālus un stiprinājumus. | D44: kg | E44: 243.45
A45: 29 | C45: 2. stāva izvadu plāns
A46: 30 | C46: Montēt TSE-16-M20-1020.0 izvadus vai ekvivalents, ieskaitot visus palīgmateriālus un stiprinājumus. | D46: gb | E46: 126
A47: 31 | C47: 3. stāva vertikālo konstrukciju plāns
A48: 32 | C48: Montēt saliekamās dz/b sienas 200mm, konstrukciju padodot ar celtni iestrādes vietā, ieskaitot visus palīgmateriālus un stiprinājumus. Betons C40/50, XC1 Aizpildīt šuves ar smalkgraudainu betonu C40/50 | D48: m2 | E48: 382.37
A49: 33 | C49: Montēt saliekamās dz/b sienas 220mm, konstrukciju padodot ar celtni iestrādes vietā, ieskaitot visus palīgmateriālus un stiprinājumus. Betons C40/50, XC1 Aizpildīt šuves ar smalkgraudainu betonu C40/50 | D49: m2 | E49: 19.59
A50: 34 | C50: Montēt saliekamās dz/b sienas 241mm, konstrukciju padodot ar celtni iestrādes vietā, ieskaitot visus palīgmateriālus un stiprinājumus. Betons C40/50, XC1 Aizpildīt šuves ar smalkgraudainu betonu C40/50 | D50: m2 | E50: 12.86
A51: 35 | C51: Montēt saliekamās dz/b sienas 350mm, konstrukciju padodot ar celtni iestrādes vietā, ieskaitot visus palīgmateriālus un stiprinājumus. Betons C40/50, XC1 Aizpildīt šuves ar smalkgraudainu betonu C40/50 | D51: m2 | E51: 71.81
A52: 36 | C52: Montēt saliekamās dz/b sienas 370mm, konstrukciju padodot ar celtni iestrādes vietā, ieskaitot visus palīgmateriālus un stiprinājumus. Betons C40/50, XC1 Aizpildīt šuves ar smalkgraudainu betonu C40/50 | D52: m2 | E52: 16.83
A53: 37 | C53: Montēt saliekamās dz/b sienas 450mm, konstrukciju padodot ar celtni iestrādes vietā, ieskaitot visus palīgmateriālus un stiprinājumus. Betons C40/50, XC1 Aizpildīt šuves ar smalkgraudainu betonu C40/50 | D53: m2 | E53: 34
A54: 38 | C54: 3. stāva vertikālo konstrukciju savienojoša stiegrojuma plāns
A55: 39 | C55: Savienot sienas ar B500B klases tērauda stiegrojumu, ieskaitot visus palīgmateriālus un stiprinājumus. | D55: kg | E55: 179.61
A56: 40 | C56: 3. stāva izvadu plāns
A57: 41 | C57: Montēt TSE-16-M20-1020.0 izvadus vai ekvivalents, ieskaitot visus palīgmateriālus un stiprinājumus. | D57: gb | E57: 111
A58: 42 | C58: Montēt TSE-16-M20-1200.0 izvadus vai ekvivalents, ieskaitot visus palīgmateriālus un stiprinājumus. | D58: gb | E58: 10
A59: 43 | C59: 4. stāva vertikālo konstrukciju plāns
A60: 44 | C60: Montēt saliekamās dz/b sienas 200mm, konstrukciju padodot ar celtni iestrādes vietā, ieskaitot visus palīgmateriālus un stiprinājumus. Betons C40/50, XC1 Aizpildīt šuves ar smalkgraudainu betonu C40/50 | D60: m2 | E60: 481.4
A61: 45 | C61: Montēt saliekamās dz/b sienas 241mm, konstrukciju padodot ar celtni iestrādes vietā, ieskaitot visus palīgmateriālus un stiprinājumus. Betons C40/50, XC1 Aizpildīt šuves ar smalkgraudainu betonu C40/50 | D61: m2 | E61: 13.43
A62: 46 | C62: Montēt saliekamās dz/b sienas 350mm, konstrukciju padodot ar celtni iestrādes vietā, ieskaitot visus palīgmateriālus un stiprinājumus. Betons C40/50, XC1 Aizpildīt šuves ar smalkgraudainu betonu C40/50 | D62: m2 | E62: 48.48
A63: 47 | C63: 4. stāva vertikālo konstrukciju savienojoša stiegrojuma plāns
A64: 48 | C64: Savienot sienas ar B500B klases tērauda stiegrojumu, ieskaitot visus palīgmateriālus un stiprinājumus. | D64: kg | E64: 194.95
A65: 49 | C65: 1. stāva siju plāns
A66: 50 | C66: Montēt saliekamās dz/b sijas, konstrukciju padodot ar celtni iestrādes vietā, ieskaitot visus palīgmateriālus un stiprinājumus. Betons C40/50, XC1 | D66: m3 | E66: 9.54
A67: 51 | C67: Montēt tērauda sijas, ieskaitot visus palīgmateriālus un stiprinājumus. Visas metāla konstrukcijas izgatavojamas no tērauda ar stiprības klasi ne zemāku par S355J2. | D67: kg | E67: 5671
A68: 52 | C68: Pārklāt tērauda sijas ar ugunsdrošo krāsu nodrošinot R-30 | D68: m2 | E68: 142
A69: 53 | C69: 2. stāva siju plāns
A70: 54 | C70: Montēt saliekamās dz/b sijas, konstrukciju padodot ar celtni iestrādes vietā, ieskaitot visus palīgmateriālus un stiprinājumus. Betons C40/50, XC1 | D70: m3 | E70: 28.41
A71: 55 | C71: Montēt tērauda sijas, ieskaitot visus palīgmateriālus un stiprinājumus. Visas metāla konstrukcijas izgatavojamas no tērauda ar stiprības klasi ne zemāku par S355J2. | D71: kg | E71: 376
A72: 56 | C72: Pārklāt tērauda sijas ar ugunsdrošo krāsu nodrošinot R-30 | D72: m2 | E72: 17
A73: 57 | C73: 3. stāva siju plāns
A74: 58 | C74: Montēt saliekamās dz/b sijas, konstrukciju padodot ar celtni iestrādes vietā, ieskaitot visus palīgmateriālus un stiprinājumus. Betons C40/50, XC1 | D74: m3 | E74: 18.56
A75: 59 | C75: Montēt tērauda sijas, ieskaitot visus palīgmateriālus un stiprinājumus. Visas metāla konstrukcijas izgatavojamas no tērauda ar stiprības klasi ne zemāku par S355J2. | D75: kg | E75: 371
A76: 60 | C76: Pārklāt tērauda sijas ar ugunsdrošo krāsu nodrošinot R-30 | D76: m2 | E76: 9.3
A77: 61 | C77: 4. stāva siju plāns
A78: 62 | C78: Montēt saliekamās dz/b sijas, konstrukciju padodot ar celtni iestrādes vietā, ieskaitot visus palīgmateriālus un stiprinājumus. Betons C40/50, XC1 | D78: m3 | E78: 12.47
A79: 63 | C79: Montēt tērauda sijas, ieskaitot visus palīgmateriālus un stiprinājumus. Visas metāla konstrukcijas izgatavojamas no tērauda ar stiprības klasi ne zemāku par S355J2. | D79: kg | E79: 234
A80: 64 | C80: Pārklāt tērauda sijas ar ugunsdrošo krāsu nodrošinot R-30 | D80: m2 | E80: 5.85
A81: 65 | C81: 1. stāva pārseguma plāns
A82: 66 | C82: Montēt saliekamās dz/b masīvās plātnes 320mm uz neoprēna lentas, konstrukciju padodot ar celtni iestrādes vietā, ieskaitot visus palīgmateriālus un stiprinājumus. | D82: m2 | E82: 33.43
A83: 67 | C83: Montēt saliekamās dz/b pārseguma paneļus HC220 uz neoprēna lentas, konstrukciju padodot ar celtni iestrādes vietā, ieskaitot visus palīgmateriālus un stiprinājumus. | D83: m2 | E83: 320.84
A84: 68 | C84: Montēt saliekamās dz/b pārseguma paneļus HC320 uz neoprēna lentas, konstrukciju padodot ar celtni iestrādes vietā, ieskaitot visus palīgmateriālus un stiprinājumus. | D84: m2 | E84: 368.89
A85: 69 | C85: Montēt montāža detaļu PETRA 1200mm vai ekvivalents | D85: gb | E85: 1
A86: 70 | C86: Betonēt veidņos pārsegumu ar C30/37 XC1 klases betonu, betonu padodot ar sūkni iestrādes vietā, ieskaitot visus palīgmateriālus un stiprinājumus. | D86: m3 | E86: 61.88
A87: 71 | C87: Stiegrot pārsegumu ar B500B klases tērauda stiegrām, ieskaitot visus palīgmateriālus un stiprinājumus. | D87: kg | E87: 5810.7
A88: 72 | C88: Savienot parseguma paneļus ar B500B klases tērauda stiegrojumu, ieskaitot visus palīgmateriālus un stiprinājumus. | D88: kg | E88: 578.9
A89: 73 | C89: Monolitizēt pārseguma paneļus ar C30/37 XC1 klases betonu, betonu padodot ar sūkni iestrādes vietā, ieskaitot visus palīgmateriālus un stiprinājumus. | D89: m3 | E89: 1.45
A90: 74 | C90: Stiegrot pārseguma paneļus ar B500B klases tērauda stiegrām, ieskaitot visus palīgmateriālus un stiprinājumus. | D90: kg | E90: 1234
A91: 75 | C91: 2. stāva pārseguma plāns
A92: 76 | C92: Montēt saliekamās dz/b pārseguma paneļus HC220 uz neoprēna lentas, konstrukciju padodot ar celtni iestrādes vietā, ieskaitot visus palīgmateriālus un stiprinājumus. | D92: m2 | E92: 527.25
A93: 77 | C93: Montēt montāža detaļu PETRA 1200mm vai ekvivalents | D93: gb | E93: 1
A94: 78 | C94: Savienot parseguma paneļus ar B500B klases tērauda stiegrojumu, ieskaitot visus palīgmateriālus un stiprinājumus. | D94: kg | E94: 497.4
A95: 79 | C95: Monolitizēt pārseguma paneļus ar C30/37 XC1 klases betonu, betonu padodot ar sūkni iestrādes vietā, ieskaitot visus palīgmateriālus un stiprinājumus. | D95: m3 | E95: 1.73
A96: 80 | C96: Stiegrot pārseguma paneļus ar B500B klases tērauda stiegrām, ieskaitot visus palīgmateriālus un stiprinājumus. | D96: kg | E96: 1109.6
A97: 81 | C97: 3. stāva pārseguma plāns
A98: 82 | C98: Montēt saliekamās dz/b pārseguma paneļus HC220 uz neoprēna lentas, konstrukciju padodot ar celtni iestrādes vietā, ieskaitot visus palīgmateriālus un stiprinājumus. | D98: m2 | E98: 431.02
A99: 83 | C99: Savienot parseguma paneļus ar B500B klases tērauda stiegrojumu, ieskaitot visus palīgmateriālus un stiprinājumus. | D99: kg | E99: 404.5
A100: 84 | C100: Monolitizēt pārseguma paneļus ar C30/37 XC1 klases betonu, betonu padodot ar sūkni iestrādes vietā, ieskaitot visus palīgmateriālus un stiprinājumus. | D100: m3 | E100: 1.83
A101: 85 | C101: Stiegrot pārseguma paneļus ar B500B klases tērauda stiegrām, ieskaitot visus palīgmateriālus un stiprinājumus. | D101: kg | E101: 1027.8
A102: 86 | C102: 4. stāva pārseguma plāns
A103: 87 | C103: Montēt saliekamās dz/b masīvās plātnes 320mm uz neoprēna lentas, konstrukciju padodot ar celtni iestrādes vietā, ieskaitot visus palīgmateriālus un stiprinājumus. | D103: m2 | E103: 15.52
A104: 88 | C104: Montēt saliekamās dz/b masīvās plātnes 465mm uz neoprēna lentas, konstrukciju padodot ar celtni iestrādes vietā, ieskaitot visus palīgmateriālus un stiprinājumus. | D104: m2 | E104: 3.6
A105: 89 | C105: Montēt saliekamās dz/b masīvās plātnes 695mm uz neoprēna lentas, konstrukciju padodot ar celtni iestrādes vietā, ieskaitot visus palīgmateriālus un stiprinājumus. | D105: m2 | E105: 10.51
A106: 90 | C106: Montēt saliekamās dz/b pārseguma paneļus HC220 uz neoprēna lentas, konstrukciju padodot ar celtni iestrādes vietā, ieskaitot visus palīgmateriālus un stiprinājumus. | D106: m2 | E106: 94.4
A107: 91 | C107: Montēt montāža detaļu PETRA 1200mm vai ekvivalents | D107: gb | E107: 6
...

Sheet 1,4
A2: Būvdarbu apjomu saraksts Nr.1,4
A3: =KA!C18 -> Starpsienas
A4: (būvdarbu veids vai konstruktīvā elementa nosaukums)
A6: Objekta nosaukums: | C6: =KT!B9 -> Garkalnes Mākslas un vispārizglītojošās pamatskolas piebūve
A7: Būves nosaukums: | C7: =KT!B10 -> Garkalnes Mākslas un vispārizglītojošā pamatskola
A8: Objekta adrese: | C8: =KT!B11 -> Ropažu novads, Garkalne, Vidzemes šoseja 34, LV-2137
A9: Pasūtījuma nr.: | C9: =KT!B12 -> 3DAD_228_GV34_L
A11: Apjomi sastādīti, pamatojoties uz būvprojekta rasējumiem
A14: Nr.p.k. | B14: Kods | C14: Būvdarbu nosaukums | D14: Mērvienība | E14: Daudzums
A17: 1 | C17: SA-1.1
A18: 2 | C18: Montēt metala profilu karkasu 75mm biezumā, ieskaitot visus stiprinājumus un palīgmateriālus Ultrastill CW75 profili vai ekvivalents | D18: m2 | E18: 8.79
A19: 3 | C19: Ieklāt izolāciju 75mm biezumā Skaņas izolācija Isover Acoustic 75 mm (R’w = 64 dB) vai ekvivalents | D19: m2 | E19: 8.79
A20: 4 | C20: Apšūt karkasu ar Knauf GKFI vai ekvivalents 12,5mm ģipškartona loksnēm divās kārtās, ieskaitot visus stiprinājumus un palīgmateriālus. Veikt šuvju špaktelēšanu | D20: m2 | E20: 8.79
A21: 5 | C21: SI-1
A22: 6 | C22: Montēt metala profilu karkasu 75mm biezumā, ieskaitot visus stiprinājumus un palīgmateriālus Ultrastill CW75 profili vai ekvivalents | D22: m2 | E22: 130.82
A23: 7 | C23: Ieklāt izolāciju 75mm biezumā Skaņas izolācija Isover Acoustic 75 mm (R’w = 64 dB) vai ekvivalents | D23: m2 | E23: 130.82
A24: 8 | C24: Apšūt karkasu ar Knauf GKF vai ekvivalents 12,5mm ģipškartona loksnēm divās kārtās, ieskaitot visus stiprinājumus un palīgmateriālus. Veikt šuvju špaktelēšanu | D24: m2 | E24: 130.82
A25: 9 | C25: SI-2
A26: 10 | C26: Apšūt karkasu ar Knauf GKFI vai ekvivalents 12,5mm ģipškartona loksnēm divās kārtās, ieskaitot visus stiprinājumus un palīgmateriālus. Veikt šuvju špaktelēšanu | D26: m2 | E26: 556.64
A27: 11 | C27: Ieklāt izolāciju 75mm biezumā Skaņas izolācija Isover Acoustic 75 mm (R’w = 64 dB) vai ekvivalents | D27: m2 | E27: 556.64
A28: 12 | C28: Montēt metala profilu karkasu 75mm biezumā, ieskaitot visus stiprinājumus un palīgmateriālus Ultrastill CW75 profili vai ekvivalents | D28: m2 | E28: 556.64
A29: 13 | C29: Montēt metala profilu karkasu 75mm biezumā, ieskaitot visus stiprinājumus un palīgmateriālus Ultrastill CW75 profili vai ekvivalents | D29: m2 | E29: 556.64
A30: 14 | C30: Ieklāt izolāciju 75mm biezumā Skaņas izolācija Isover Acoustic 75 mm (R’w = 64 dB) vai ekvivalents | D30: m2 | E30: 556.64
A31: 15 | C31: Apšūt karkasu ar Knauf GKFI vai ekvivalents 12,5mm ģipškartona loksnēm divās kārtās, ieskaitot visus stiprinājumus un palīgmateriālus. Veikt šuvju špaktelēšanu | D31: m2 | E31: 556.64
A32: 16 | C32: SI-3
A33: 17 | C33: Apšūt karkasu ar Knauf GKFI vai ekvivalents 12,5mm ģipškartona loksnēm divās kārtās, ieskaitot visus stiprinājumus un palīgmateriālus. Veikt šuvju špaktelēšanu | D33: m2 | E33: 98.41
A34: 18 | C34: Montēt metala profilu karkasu 75mm biezumā, ieskaitot visus stiprinājumus un palīgmateriālus Ultrastill CW75 profili vai ekvivalents | D34: m2 | E34: 98.41
A35: 19 | C35: Ieklāt izolāciju 75mm biezumā Skaņas izolācija Isover Acoustic 75 mm (R’w = 64 dB) vai ekvivalents | D35: m2 | E35: 98.41
A36: 20 | C36: Apšūt karkasu ar Knauf GKFI vai ekvivalents 12,5mm ģipškartona loksnēm divās kārtās, ieskaitot visus stiprinājumus un palīgmateriālus. Veikt šuvju špaktelēšanu | D36: m2 | E36: 98.41
A37: 21 | C37: SI-4 (* Mitrās telpās (sanitārtehniskajās telpās) izmantot atbilstošas ģipškartona plāksnes Hydro 2x12.5 mm vai ekvivalents
A38: 22 | C38: Apšūt karkasu ar Knauf GKF vai ekvivalents 12,5mm ģipškartona loksnēm divās kārtās, ieskaitot visus stiprinājumus un palīgmateriālus. Veikt šuvju špaktelēšanu | D38: m2 | E38: 134.78
A39: 23 | C39: Ieklāt izolāciju 75mm biezumā Skaņas izolācija Isover Acoustic 75 mm (R’w = 64 dB) vai ekvivalents | D39: m2 | E39: 134.78
A40: 24 | C40: Montēt metala profilu karkasu 75mm biezumā, ieskaitot visus stiprinājumus un palīgmateriālus Ultrastill CW75 profili vai ekvivalents | D40: m2 | E40: 134.78
A41: 25 | C41: Montēt metala profilu karkasu 75mm biezumā, ieskaitot visus stiprinājumus un palīgmateriālus Ultrastill CW75 profili vai ekvivalents | D41: m2 | E41: 134.78
A42: 26 | C42: Ieklāt izolāciju 75mm biezumā Skaņas izolācija Isover Acoustic 75 mm (R’w = 64 dB) vai ekvivalents | D42: m2 | E42: 134.78
A43: 27 | C43: Apšūt karkasu ar Knauf GKF vai ekvivalents 12,5mm ģipškartona loksnēm divās kārtās, ieskaitot visus stiprinājumus un palīgmateriālus. Veikt šuvju špaktelēšanu | D43: m2 | E43: 134.78
A44: 28 | C44: SI-9.1 (* Mitrās telpās (sanitārtehniskajās telpās) izmantot atbilstošas ģipškartona plāksnes Hydro 2x12.5 mm vai ekvivalents
A45: 29 | C45: Apšūt karkasu ar Knauf GKFI vai ekvivalents 12,5mm ģipškartona loksnēm divās kārtās, ieskaitot visus stiprinājumus un palīgmateriālus. Veikt šuvju špaktelēšanu | D45: m2 | E45: 127.93
A46: 30 | C46: Ieklāt izolāciju 50mm biezumā Skaņas izolācija Isover Acoustic 50 mm (R’w = 64 dB) vai ekvivalents | D46: m2 | E46: 127.93
A47: 31 | C47: Montēt metala profilu karkasu 75mm biezumā, ieskaitot visus stiprinājumus un palīgmateriālus Ultrastill CW75 profili vai ekvivalents | D47: m2 | E47: 127.93
A48: 32 | C48: Tualešu starpsienas
A49: 33 | C49: Montēt tualešu starpsienas, ieskaitot visus stiprinājumus un palīgmateriālus. HPL 13mm starpsienas uz tērauda kājiņām. (bez durvīm) | D49: m2 | E49: 68.8
A50: 34 | C50: Ārsienu ailes
A51: 35 | C51: Montēt metala profilu karkasu, ieskaitot visus stiprinājumus un palīgmateriālus | D51: m | E51: 451.81
A52: 36 | C52: Ieklāt izolāciju 30mm biezumā | D52: m | E52: 451.81
A53: 37 | C53: Apšūt karkasu ar Knauf GKFI vai ekvivalents 12,5mm ģipškartona loksnēm vienā kārtā, ieskaitot visus stiprinājumus un palīgmateriālus. Veikt šuvju špaktelēšanu | D53: m | E53: 451.81
A57: =KT!A23 -> Sastādīja: | D57: =KT!C27 -> 2026. gada 17.aprīlī
A58: (paraksts un tā atšifrējums, datums)
A59: =KT!A25 -> Sertifikāta Nr.:
A61: =KT!A27 -> Pārbaudīja: | D61: =KT!C27 -> 2026. gada 17.aprīlī
A62: (paraksts un tā atšifrējums, datums)
A63: =KT!A29 -> Sertifikāta Nr.:

Sheet 1,5
A2: Būvdarbu apjomu saraksts Nr.1,5
A3: =KA!C19 -> Grīdu pamatnes, segumi
A4: (būvdarbu veids vai konstruktīvā elementa nosaukums)
A6: Objekta nosaukums: | C6: =KT!B9 -> Garkalnes Mākslas un vispārizglītojošās pamatskolas piebūve
A7: Būves nosaukums: | C7: =KT!B10 -> Garkalnes Mākslas un vispārizglītojošā pamatskola
A8: Objekta adrese: | C8: =KT!B11 -> Ropažu novads, Garkalne, Vidzemes šoseja 34, LV-2137
A9: Pasūtījuma nr.: | C9: =KT!B12 -> 3DAD_228_GV34_L
A11: Apjomi sastādīti, pamatojoties uz būvprojekta rasējumiem
A14: Nr.p.k. | B14: Kods | C14: Būvdarbu nosaukums | D14: Mērvienība | E14: Daudzums
A17: 1 | C17: G-1
A18: 2 | C18: Ieklat blietētu šķembu kārtu fr. 20/40 100mm biezumā | D18: m3 | E18: 44.49
A19: 3 | C19: Siltināt grīdu ar ThermoWhite WD100R vai ekvivalents (λ ≤ 0.046 W/mk, dinamiskā slodze 10 kN/m2, spiedes stiprība 70 kPa) 150mm biezumā | D19: m2 | E19: 444.87
A20: 4 | C20: Ieklāt PVC plēvi - 200 mkr | D20: m2 | E20: 444.87
A21: 5 | C21: Ieklat cementa klona grīdu 70mm biezumā, ieskaitot visus stiprinājumus un palīgmateriālus. Cementa klons Estrich, 70 mm, (Atbilstoši LVS EN 13813:2005L stiprības klase C20, lieces stiprība 4N/mm2, spiedes stiprība 20 N/ mm2, grīda uz siltumizolācijas/peldoša) | D21: m2 | E21: 444.87
A22: 6 | C22: Ieklāt PE plēvi 0.2 mm 2 kārtās - 200 mkr, 20 cm pārlaidums ar tvaika plēves līmi Gerbanda 586 vai ekvivalents | D22: m2 | E22: 444.87
A23: 7 | C23: Montēt grīdas balsta konstrukciju 75mm biezumā, ieskaitot visus stiprinājumus un palīgmateriālus. Arenaflex vai ekvivalents grīdu sistēma, ozolkoka balsta lāgas (45x48 mm) stiprināmas polipropilēna ligzdās uz absorbējoša paliktņa | D23: m2 | E23: 444.87
A24: 8 | C24: Stiprināt saplāksni 22mm biezumā, ieskaitot visus stiprinājumus un palīgmateriālus. | D24: m2 | E24: 444.87
A25: 9 | C25: G-2
A26: 10 | C26: Ieklat blietētu šķembu kārtu fr. 20/40 100mm biezumā | D26: m3 | E26: 32.55
A27: 11 | C27: Siltināt grīdu ar ThermoWhite WD100R vai ekvivalents (λ ≤ 0.046 W/mk, dinamiskā slodze 10 kN/m2, spiedes stiprība 70 kPa) 220mm biezumā | D27: m2 | E27: 325.53
A28: 12 | C28: Ieklāt PVC plēvi - 200 mkr | D28: m2 | E28: 325.53
A29: 13 | C29: Ieklat cementa klona grīdu 70mm biezumā, ieskaitot visus stiprinājumus un palīgmateriālus. Cementa klons Estrich, 70 mm, (Atbilstoši LVS EN 13813:2005L stiprības klase C20, lieces stiprība 4N/mm2, spiedes stiprība 20 N/ mm2, grīda uz siltumizolācijas/peldoša) | D29: m2 | E29: 325.53
A30: 14 | C30: Ieklāt PE plēvi 0.2 mm 2 kārtās - 200 mkr, 20 cm pārlaidums ar tvaika plēves līmi Gerbanda 586 vai ekvivalents | D30: m2 | E30: 325.53
A31: 15 | C31: G-3
A32: 16 | C32: Ieklat blietētu šķembu kārtu fr. 20/40 100mm biezumā | D32: m3 | E32: 1.99
A33: 17 | C33: Siltināt grīdu ar ThermoWhite WD100R vai ekvivalents (λ ≤ 0.046 W/mk, dinamiskā slodze 10 kN/m2, spiedes stiprība 70 kPa) 220mm biezumā | D33: m2 | E33: 19.89
A34: 18 | C34: Ieklāt PVC plēvi - 200 mkr | D34: m2 | E34: 19.89
A35: 19 | C35: Ieklat cementa klona grīdu 74mm biezumā, ieskaitot visus stiprinājumus un palīgmateriālus. Cementa klons Estrich, 74 mm, (Atbilstoši LVS EN 13813:2005L stiprības klase C20, lieces stiprība 4N/mm2, spiedes stiprība 20 N/ mm2, grīda uz siltumizolācijas/peldoša) | D35: m2 | E35: 19.89
A36: 20 | C36: Ieklāt PE plēvi 0.2 mm 2 kārtās - 200 mkr, 20 cm pārlaidums ar tvaika plēves līmi Gerbanda 586 vai ekvivalents | D36: m2 | E36: 19.89
A37: 21 | C37: G-4
A38: 22 | C38: Ieklat blietētu šķembu kārtu fr. 20/40 100mm biezumā | D38: m3 | E38: 27.66
A39: 23 | C39: Siltināt grīdu ar ThermoWhite WD100R vai ekvivalents (λ ≤ 0.046 W/mk, dinamiskā slodze 10 kN/m2, spiedes stiprība 70 kPa) 220mm biezumā | D39: m2 | E39: 276.58
A40: 24 | C40: Ieklāt PVC plēvi - 200 mkr | D40: m2 | E40: 276.58
A41: 25 | C41: Ieklat cementa klona grīdu 82mm biezumā, ieskaitot visus stiprinājumus un palīgmateriālus. Cementa klons Estrich, 82 mm, (Atbilstoši LVS EN 13813:2005L stiprības klase C20, lieces stiprība 4N/mm2, spiedes stiprība 20 N/ mm2, grīda uz siltumizolācijas/peldoša) | D41: m2 | E41: 276.58
A42: 26 | C42: G-5
A43: 27 | C43: Ieklat blietētu šķembu kārtu fr. 20/40 100mm biezumā | D43: m3 | E43: 14.19
A44: 28 | C44: Siltināt grīdu ar ThermoWhite WD100R vai ekvivalents (λ ≤ 0.046 W/mk, dinamiskā slodze 10 kN/m2, spiedes stiprība 70 kPa) 220mm biezumā | D44: m2 | E44: 141.87
A45: 29 | C45: Ieklāt PVC plēvi - 200 mkr | D45: m2 | E45: 141.87
A46: 30 | C46: Ieklat cementa klona grīdu 72mm biezumā, ieskaitot visus stiprinājumus un palīgmateriālus. Cementa klons Estrich, 72 mm, (Atbilstoši LVS EN 13813:2005L stiprības klase C20, lieces stiprība 4N/mm2, spiedes stiprība 20 N/ mm2, grīda uz siltumizolācijas/peldoša) | D46: m2 | E46: 141.87
A47: 31 | C47: P-1
A48: 32 | C48: Siltināt grīdu ar ThermoWhite WD100R vai ekvivalents (λD ≤ 0,046 W/mK, dinamiskā slodze 10 kN/m2) 50mm biezumā | D48: m2 | E48: 1372.02
A49: 33 | C49: Ieklāt tvaika izolaciju ThermoWhite PE5/300 vai ekvivalents | D49: m2 | E49: 1372.02
A50: 34 | C50: Ieklat cementa klona grīdu 70mm biezumā, ieskaitot visus stiprinājumus un palīgmateriālus. Cementa klons atbilstoši Estrich DIN 18560 CT-F3-S70-H45 ar polipropilēna disperso armējumu 0.9 kg/m3 | D50: m2 | E50: 1372.02
A51: 35 | C51: Ieklāt PE plēvi 0.2 mm 2 kārtās - 200 mkr, 20 cm pārlaidums ar tvaika plēves līmi Gerbanda 586 vai ekvivalents | D51: m2 | E51: 1372.02
A52: 36 | C52: P-2
A53: 37 | C53: Ieklat gaisa un tvaika izolācijas plēvi no LD polietilēna PAROC XMV 020 bas vai ekvivalents | D53: m2 | E53: 1065.54
A54: 38 | C54: Siltināt pārsegumu ar PAROC Ultra vai ekvivalents (λD ≤ 0,035 W/mK, ugunsreakcijas klase A1) 150mm biezumā | D54: m2 | E54: 1065.54
A55: 39 | C55: Ieklāt pretvēja izolāciju PAROC WAS 25t vai ekvivalents (λD ≤ 0,033 W/mK, ugunsreakcijas klase A1) 50mm biezumā | D55: m2 | E55: 1065.54
A56: 40 | C56: Montēt bēniņu laipas 500mm biezumā, ieskaitot visus stiprinājumus un palīgmateriālus. | D56: m | E56: 16.58
A60: =KT!A23 -> Sastādīja: | D60: =KT!C27 -> 2026. gada 17.aprīlī
A61: (paraksts un tā atšifrējums, datums)
A62: =KT!A25 -> Sertifikāta Nr.:
A64: =KT!A27 -> Pārbaudīja: | D64: =KT!C27 -> 2026. gada 17.aprīlī
A65: (paraksts un tā atšifrējums, datums)
A66: =KT!A29 -> Sertifikāta Nr.:

Sheet 1,6
A2: Būvdarbu apjomu saraksts Nr.1,6
A3: =KA!C20 -> Jumti, segumi
A4: (būvdarbu veids vai konstruktīvā elementa nosaukums)
A6: Objekta nosaukums: | C6: =KT!B9 -> Garkalnes Mākslas un vispārizglītojošās pamatskolas piebūve
A7: Būves nosaukums: | C7: =KT!B10 -> Garkalnes Mākslas un vispārizglītojošā pamatskola
A8: Objekta adrese: | C8: =KT!B11 -> Ropažu novads, Garkalne, Vidzemes šoseja 34, LV-2137
A9: Pasūtījuma nr.: | C9: =KT!B12 -> 3DAD_228_GV34_L
A11: Apjomi sastādīti, pamatojoties uz būvprojekta rasējumiem
A14: Nr.p.k. | B14: Kods | C14: Būvdarbu nosaukums | D14: Mērvienība | E14: Daudzums
A17: 1 | C17: J-1
A18: 2 | C18: Ieklāt valcprofila jumta segumu, ieskaitot visus stiprinājumus un palīgmateriālus. | D18: m2 | E18: 628.08
A19: 3 | C19: Montēt omega-profilu karkasu 75mm biezumā (sānu malas perforētas, lai nodrošinātu gaisa caurplūdi), ieskaitot visus stiprinājumus un palīgmateriālus. | D19: m2 | E19: 628.08
A20: 4 | C20: Ieklāt difūzijas membrānu Ruukki 150 Fix vai ekvivalents | D20: m2 | E20: 628.08
A21: 5 | C21: Siltināt jumtu ar PAROC ROB 60 siltumizolācijas plāksni ar melnu pārklājumu (λD ≤ 0,038 W/mK, ugunsreakcijas klase A1) 30mm biezumā vai ekvivalents | D21: m2 | E21: 628.08
A22: 6 | C22: Siltināt jumtu ar PAROC ROS 30g siltumizolācijas plāksni ar melnu pārklājumu (λD ≤ 0,036 W/mK, ugunsreakcijas klase A1) 200mm biezumā vai ekvivalents | D22: m2 | E22: 628.08
A23: 7 | C23: Montēt Z-profila karkasu 230mm, ieskaitot visus stiprinājumus un palīgmateriālus. | D23: m2 | E23: 628.08
A24: 8 | C24: Ieklāt gaisa un tvaika izolācijas plēvi PAROC XMV 020 bas vai ekvivalents | D24: m2 | E24: 628.08
A25: 9 | C25: J-2
A26: 10 | C26: Ieklāt valcprofila jumta segumu, ieskaitot visus stiprinājumus un palīgmateriālus. | D26: m2 | E26: 1128.3
A27: 11 | C27: Montēt omega-profilu karkasu 75mm biezumā (sānu malas perforētas, lai nodrošinātu gaisa caurplūdi), ieskaitot visus stiprinājumus un palīgmateriālus. | D27: m2 | E27: 1128.3
A28: 12 | C28: Stiprināt piespiedējlatas pa siju 40mm, ieskaitot visus stiprinājumus un palīgmateriālus. | D28: m2 | E28: 1128.3
A29: 13 | C29: Ieklāt difūzijas membrānu Ruukki 150 Fix vai ekvivalents | D29: m2 | E29: 1128.3
A30: 14 | C30: P-3
A31: 15 | C31: Izveidot slīpuma kārtu (i=1%) | D31: m2 | E31: 34.02
A32: 16 | C32: Ieklāt sakņu izturīgu PE-LD hidroizolācijas slāni WSF 40 vai ekvivalents | D32: m2 | E32: 34.02
A33: 17 | C33: Siltināt pārsegumu ar DOW ekstrudētu putupolistirolu STYROFOAM 300 vai ekvivalents 100 mm biezumā λ=0.036 W/mK | D33: m2 | E33: 34.02
A34: 18 | C34: Siltināt pārsegumu ar DOW ekstrudētu putupolistirolu STYROFOAM 300 vai ekvivalents 100 mm biezumā λ=0.036 W/mK | D34: m2 | E34: 34.02
A35: 19 | C35: Ieklat hidrofobu polipropilēna atdalošu membrānu TGV 21 vai ekvivalents | D35: m2 | E35: 34.02
A36: 20 | C36: Ieklāt pārstrādāta poliolefīna drenāžas elementu Floradrain FD 25-E (spiedes izturība 270 kN/m2) vai ekvivalents | D36: m2 | E36: 34.02
A37: 21 | C37: Ieklat termiski stiprinātu polipropilēna ģeotekstilu (stiepes izturība atbilstoši EN ISO 10319: 7.0 kN/m) | D37: m2 | E37: 34.02
A38: 22 | C38: Izveidot zālāja segumu pievedot augu substrātu 80mm biezumā | D38: m2 | E38: 34.02
A39: 23 | C39: Papildmateriāli
A40: 24 | C40: Montēt skārda kori, ieskaitot visus stiprinājumus un palīgmateriālus. | D40: m | E40: 69.18
A41: 25 | C41: Montēt skārda satekni, ieskaitot visus stiprinājumus un palīgmateriālus. | D41: m | E41: 54.74
A42: 26 | C42: Montēt skārda lāseni/vējmalu, ieskaitot visus stiprinājumus un palīgmateriālus. | D42: m | E42: 354.33
A43: 27 | C43: Montēt skārda tekni, ieskaitot visus stiprinājumus un palīgmateriālus. | D43: m | E43: 259
A44: 28 | C44: Montēt skārda noteku, ieskaitot visus stiprinājumus un palīgmateriālus. | D44: m | E44: 242.63
A45: 29 | C45: Montēt skārda sienas pieslēguma elementu, ieskaitot visus stiprinājumus un palīgmateriālus. | D45: m | E45: 86.5
A46: 30 | C46: Montēt jumta horizontālās kāpnes, ieskaitot visus stiprinājumus un palīgmateriālus. | D46: m | E46: 29.5
A47: 31 | C47: Montēt jumta laipu, ieskaitot visus stiprinājumus un palīgmateriālus. | D47: m | E47: 74
A48: 32 | C48: Montēt jumta vertikālās kāpnes TA-1, ieskaitot visus stiprinājumus un palīgmateriālus. 1. Ārējās ugunsdzēsības kāpnes no A1 ugunsreakcijas klases materiāla 2. Tonis RAL 9006 | D48: gb | E48: 1
A49: 33 | C49: Montēt jumta vertikālās kāpnes TA-2, ieskaitot visus stiprinājumus un palīgmateriālus. 1. Ārējās ugunsdzēsības kāpnes no A1 ugunsreakcijas klases materiāla 2. Tonis RAL 9006 | D49: gb | E49: 1
A50: 34 | C50: Montēt jumta vertikālās kāpnes TA-3, ieskaitot visus stiprinājumus un palīgmateriālus. 1. Ārējās ugunsdzēsības kāpnes no A1 ugunsreakcijas klases materiāla 2. Tonis RAL 9006 | D50: gb | E50: 1
A51: 35 | C51: Montēt jumta vertikālās kāpnes TA-4, ieskaitot visus stiprinājumus un palīgmateriālus. 1. Ārējās ugunsdzēsības kāpnes no A1 ugunsreakcijas klases materiāla 2. Tonis RAL 9006 | D51: gb | E51: 1
... A53: 37 | C53: Montēt sniega barjeras, ieskaitot visus stiprinājumus un palīgmateriālus. | D53: m | E53: 42
A54: 38 | C54: Esošā jumta un piebūves pieslēguma mezgls M-03
A55: 39 | C55: Esošais jumts
A56: 40 | C56: Demontēt jumta vējkasti un izvest būvgružus utilizācijai | D56: m | E56: 9.8
A57: 41 | C57: Daļēji demontēt un atjaunot esošā jumta segumu hidroizolācijas uzstādīšanai, ieskaitot visus stiprinājumus un palīgmateriālus. | D57: m2 | E57: 14.7
A58: 42 | C58: Ieklāt hidroizolāciju jumtam | D58: m2 | E58: 14.7
A59: 43 | C59: Siltināt vējkasti 200mm biezumā | D59: m2 | E59: 8.33
A60: 44 | C60: Ieklāt vēja izolāciju 30mm biezumā | D60: m2 | E60: 8.33
A61: 45 | C61: Savienojums
A62: 46 | C62: Montēt koka ielikni starp tērauda sijām, ieskaitot visus stiprinājumus un palīgmateriālus. | D62: m | E62: =E56*2 -> 19.6
A63: 47 | C63: Montēt koka sijas ar soli 600mm, ieskaitot visus stiprinājumus un palīgmateriālus. | D63: m | E63: 9.8
A64: 48 | C64: Siltināt savienojumu 100mm biezumā | D64: m2 | E64: 10.78
A65: 49 | C65: Montēt metala profilu karkasu 75mm biezumā, ieskaitot visus stiprinājumus un palīgmateriālus | D65: m2 | E65: 13.72
A66: 50 | C66: Ieklāt izolāciju 75mm biezumā | D66: m2 | E66: 13.72
A67: 51 | C67: Apšūt karkasu ar Knauf GKFI vai ekvivalents 12,5mm ģipškartona loksnēm divās kārtās, ieskaitot visus stiprinājumus un palīgmateriālus. Veikt šuvju špaktelēšanu | D67: m2 | E67: 13.72
A68: 52 | C68: Ieklāt vēja izolāciju 30mm biezumā | D68: m2 | E68: 7.84
A69: 53 | C69: Ieklāt hidroizolāciju jumtam | D69: m2 | E69: 13.23
A70: 54 | C70: Montēt 50x50mm koka latas, ieskaitot visus stiprinājumus un palīgmateriālus. | D70: m2 | E70: 13.23
A71: 55 | C71: Stiprināt 20mm OSB plātni, ieskaitot visus stiprinājumus un palīgmateriālus. | D71: m2 | E71: 13.23
A72: 56 | C72: Izveidot tekni no skārda, ieskaitot visus stiprinājumus un palīgmateriālus. | D72: m2 | E72: 13.72
A73: 57 | C73: Jumta sāns
A74: 58 | C74: Montēt omega-profilu karkasu 75mm biezumā (sānu malas perforētas, lai nodrošinātu gaisa caurplūdi), ieskaitot visus stiprinājumus un palīgmateriālus. | D74: m2 | E74: 13.25
A75: 59 | C75: Ieklāt valcprofila jumta segumu, ieskaitot visus stiprinājumus un palīgmateriālus. | D75: m2 | E75: 13.25
A76: 60 | C76: Stiprināt pretinsektu sietu | D76: m | E76: 9.8
A77: 61 | C77: M-01 Dzegas mezgls ar "Equiton" fasādes apdari un M-02 Dzegas mezgls ar Perforētu metāla loksņu fasādes apdari
A78: 62 | C78: Montēt koka latojumu zem sniega barjerām, ieskaitot visus stiprinājumus un palīgmateriālus. | D78: m2 | E78: 32.76
A79: 63 | C79: Stiprināt pretinsektu sietu | D79: m | E79: 259
A80: 64 | C80: Montēt koka latas teknei, ieskaitot visus stiprinājumus un palīgmateriālus. | D80: m2 | E80: 101.01
A81: 65 | C81: Montēt skārda lāseni teknes savienojumā ar sienu, ieskaitot visus stiprinājumus un palīgmateriālus. | D81: m | E81: 259
A82: 66 | C82: Zaļā jumta mezgls M-06
A83: 67 | C83: Sāns
A84: 68 | C84: Ieklāt sakņu izturīgu PE-LD hidroizolācijas slāni WSF 40 vai ekvivalents | D84: m2 | E84: 15.9
A85: 69 | C85: Siltināt pārsegumu ar DOW ekstrudētu putupolistirolu STYROFOAM 300 vai ekvivalents 50 mm biezumā λ=0.036 W/mK | D85: m2 | E85: 18.79
A86: 70 | C86: Ieklāt siltumizolācijas stūra elementu | D86: m | E86: 14.45
A87: 71 | C87: Armēt virsmu ar armēšanas javu pa stiklašķiedras sietu, ieskaitot visus stiprinājumus un palīgmateriālus. | D87: m2 | E87: 15.9
A88: 72 | C88: Gruntēt un apmest virsmu ar tonētu dekoratīvo apmetumu, ieskaitot visus stiprinājumus un palīgmateriālus. | D88: m2 | E88: 15.9
A89: 73 | C89: Margas daļa
A90: 74 | C90: Montēt koka latu 270x50mm, ieskaitot visus stiprinājumus un palīgmateriālus. | D90: m | E90: 14.45
A91: 75 | C91: Montēt koka latu 35x50mm, ieskaitot visus stiprinājumus un palīgmateriālus. | D91: m | E91: 28.9
A92: 76 | C92: Montēt skārda lāseni, ieskaitot visus stiprinājumus un palīgmateriālus. | D92: m | E92: 14.45
A93: 77 | C93: Montēt skārda palodzi, ieskaitot visus stiprinājumus un palīgmateriālus. | D93: m | E93: 14.45
A94: 78 | C94: Jumta daļa
A95: 79 | C95: Ieklāt dekoratīvās šķembas. Akmeņus jau masā sajaukti ar saistvielu. | D95: m | E95: 14.45
A99: =KT!A23 -> Sastādīja: | D99: =KT!C27 -> 2026. gada 17.aprīlī
A100: (paraksts un tā atšifrējums, datums)
A101: =KT!A25 -> Sertifikāta Nr.:
A103: =KT!A27 -> Pārbaudīja: | D103: =KT!C27 -> 2026. gada 17.aprīlī
A104: (paraksts un tā atšifrējums, datums)
A105: =KT!A29 -> Sertifikāta Nr.:

Sheet 1,7
A2: Būvdarbu apjomu saraksts Nr.1,7
A3: =KA!C21 -> Aiļu aizpildījumu elementi, speciālo konstrukciju fasādes
A4: (būvdarbu veids vai konstruktīvā elementa nosaukums)
A6: Objekta nosaukums: | C6: =KT!B9 -> Garkalnes Mākslas un vispārizglītojošās pamatskolas piebūve
A7: Būves nosaukums: | C7: =KT!B10 -> Garkalnes Mākslas un vispārizglītojošā pamatskola
A8: Objekta adrese: | C8: =KT!B11 -> Ropažu novads, Garkalne, Vidzemes šoseja 34, LV-2137
A9: Pasūtījuma nr.: | C9: =KT!B12 -> 3DAD_228_GV34_L
A11: Apjomi sastādīti, pamatojoties uz būvprojekta rasējumiem
A14: Nr.p.k. | B14: Kods | C14: Būvdarbu nosaukums | D14: Mērvienība | E14: Daudzums
A17: 1 | C17: Logi
A18: 2 | C18: Montēt logu L-1 6700x1800 mm, ieskaitot visus palīgmateriālus un stiprinājumus. Alumīnija logu sistēma, krāsojums RAL 1019 Grey Beige, 3-kāršu stikla paketi, U ≤ 0.80 W/m²K. Furnitūra Dieckmann JANUS 1010. | D18: gb | E18: 2
A19: 3 | C19: Montēt logu L-1.1 6700x1800 mm, ieskaitot visus palīgmateriālus un stiprinājumus. Alumīnija logu sistēma, krāsojums RAL 1019 Grey Beige, 3-kāršu stikla paketi, U ≤ 0.80 W/m²K. | D19: gb | E19: 1
A20: 4 | C20: Montēt logu L-2 6700x1800 mm, ieskaitot visus palīgmateriālus un stiprinājumus. Alumīnija logu sistēma, krāsojums RAL 1019 Grey Beige, 3-kāršu stikla paketi, U ≤ 0.80 W/m²K. | D20: gb | E20: 2
A21: 5 | C21: Montēt logu L-2 (2) 6700x1800 mm, ieskaitot visus palīgmateriālus un stiprinājumus. Alumīnija logu sistēma, krāsojums RAL 1019 Grey Beige, 3-kāršu stikla paketi, U ≤ 0.80 W/m²K. | D21: gb | E21: 3
A22: 6 | C22: Montēt logu L-3 1925x1800 mm, ieskaitot visus palīgmateriālus un stiprinājumus. Alumīnija logu sistēma, krāsojums RAL 1019 Grey Beige, 3-kāršu stikla paketi, U ≤ 0.80 W/m²K. | D22: gb | E22: 3
A23: 7 | C23: Montēt logu L-6 1300x1800 mm, ieskaitot visus palīgmateriālus un stiprinājumus. Alumīnija logu sistēma, krāsojums RAL 1019 Grey Beige, 3-kāršu stikla paketi, U ≤ 0.80 W/m²K. | D23: gb | E23: 8
A24: 8 | C24: Montēt logu L-6.1 1300x1800 mm, ieskaitot visus palīgmateriālus un stiprinājumus. Alumīnija logu sistēma, krāsojums RAL 1019 Grey Beige, 3-kāršu stikla paketi, U ≤ 0.80 W/m²K. | D24: gb | E24: 3
A25: 9 | C25: Montēt logu L-7 6700x1800 mm, ieskaitot visus palīgmateriālus un stiprinājumus. Alumīnija logu sistēma, krāsojums RAL 1019 Grey Beige, 3-kāršu stikla paketi, U ≤ 0.80 W/m²K. | D25: gb | E25: 3
A26: 10 | C26: Montēt logu L-8 1180x2550 mm, ieskaitot visus palīgmateriālus un stiprinājumus. Alumīnija logu sistēma, krāsojums RAL 1019 Grey Beige, 3-kāršu stikla paketi, U ≤ 0.80 W/m²K. | D26: gb | E26: 2
A27: 11 | C27: Montēt rāmja stiprinājuma karkasu siltumizolācijā, ieskaitot visus stiprinājumus un palīgmateriālus. | D27: m | E27: 292.5
A28: 12 | C28: Uzstādīt tvaika izolācijas lenti, ieskaitot visus stiprinājumus un palīgmateriālus. | D28: m | E28: 292.5
A29: 13 | C29: Uzstādīt difuzijas lenti, ieskaitot visus stiprinājumus un palīgmateriālus. | D29: m | E29: 292.5
... A31: 15 | C31: Uzstādīt ārējo skārda palodzi, ieskaitot visus stiprinājumus un palīgmateriālus. | D31: m | E31: 96.15
A32: 16 | C32: Stiklotās sistēmas
A33: 17 | C33: Montēt stiklotu fasādes sistēmu SSA-1 8000x5200 mm, alumīnija rāmis, trīskāršā stikla pakete, U≤0.80 W/m²K, krāsojums RAL 1019 Grey Beige, ar veramām vēdināšanas vērtnēm un furnitūru. | D33: gb | E33: 1
A34: 18 | C34: Montēt stiklotu fasādes sistēmu SSA-2 8000x4220 mm, alumīnija rāmis, trīskāršā stikla pakete, U≤0.80 W/m²K, krāsojums RAL 1019 Grey Beige, ar veramām vēdināšanas vērtnēm un manuālu atvēršanu. | D34: gb | E34: 1
A35: 19 | C35: Montēt stiklotu fasādes sistēmu SSA-3 1790x3200 mm, alumīnija rāmis, trīskāršā stikla pakete, U≤0.80 W/m²K, krāsojums RAL 1019 Grey Beige. | D35: gb | E35: 3
A36: 20 | C36: Montēt stiklotu fasādes sistēmu SSA-4 3830x3200 mm, alumīnija rāmis, trīskāršā stikla pakete, U≤0.80 W/m²K, krāsojums RAL 1019 Grey Beige. | D36: gb | E36: 2
A37: 21 | C37: Montēt stiklotu fasādes sistēmu SSA-5 4953x2925 mm, alumīnija rāmis, laminēta trīskāršā stikla pakete, U≤0.80 W/m²K, krāsojums RAL 1019 Grey Beige. | D37: gb | E37: 1
A38: 22 | C38: Montēt stiklotu fasādes sistēmu SSA-6 4953x2925 mm, alumīnija rāmis, laminēta trīskāršā stikla pakete, U≤0.80 W/m²K, krāsojums RAL 1019 Grey Beige. | D38: gb | E38: 2
A39: 23 | C39: Montēt stiklotu fasādes sistēmu SSA-7.1 2726x2925 mm, alumīnija rāmis, laminēta trīskāršā stikla pakete, U≤0.80 W/m²K, krāsojums RAL 1019 Grey Beige. | D39: gb | E39: 1
A40: 24 | C40: Montēt stiklotu fasādes sistēmu SSA-7.2 8170x3460 mm, alumīnija rāmis, trīskāršā stikla pakete, U≤0.80 W/m²K, ar automātiskām bīdāmajām durvīm un evakuācijas izeju. | D40: gb | E40: 1
A41: 25 | C41: Montēt stiklotu fasādes sistēmu SSA-8 3830x2560 mm, alumīnija rāmis, trīskāršā stikla pakete, U≤0.80 W/m²K. | D41: gb | E41: 3
A42: 26 | C42: Montēt stiklotu fasādes sistēmu SSA-9 3400x3200 mm, alumīnija rāmis, trīskāršā stikla pakete, U≤0.80 W/m²K, ar evakuācijas izeju. | D42: gb | E42: 1
A43: 27 | C43: Montēt stiklotu fasādes sistēmu SSA-10 3730x3500 mm, alumīnija rāmis, trīskāršā stikla pakete, U≤0.80 W/m²K, ar iekšējām vērtņu sistēmām. | D43: gb | E43: 1
A44: 28 | C44: Montēt stiklotu fasādes sistēmu SSA-11 6270x2870 mm, alumīnija rāmis, trīskāršā stikla pakete, U≤0.80 W/m²K | D44: gb | E44: 1
... A49: 33 | C49: Uzstādīt ārējo skārda palodzi, ieskaitot visus stiprinājumus un palīgmateriālus. | D49: m | E49: 79.86
A50: 34 | C50: Ārdurvis
A51: 35 | C51: Montēt ārdurvis AD-1.1K 2004x2560 mm, alumīnija profils, divviru evakuācijas durvis, U≤1.5 W/m²K, krāsojums RAL 1019 (iekšpuse/ārpuse), aprīkotas ar evakuācijas furnitūru, piekļuves kontroli (elektroniska atslēga), pašaizvēršanās mehānisms. | D51: gb | E51: 1
A52: 36 | C52: Montēt ārdurvis AD-1.2 2005x2140 mm, alumīnija profils, divviru evakuācijas durvis, U≤1.5 W/m²K, krāsojums RAL 1019 (iekšpuse/ārpuse), aprīkotas ar evakuācijas furnitūru, piekļuves kontroli (elektroniska atslēga), pašaizvēršanās mehānisms. | D52: gb | E52: 1
A53: 37 | C53: Montēt piegādes vārtus AD-2 2500x2250 mm, automātiski paceļami vārti, U≤1.5 W/m²K, krāsojums RAL 1019, piekļuves kontrole, slēdzams cilindrs. | D53: gb | E53: 1
A54: 38 | C54: Montēt ārdurvis AD-3K 1300x2570 mm, alumīnija profils, vienviru (kreisā), evakuācijas durvis, U≤1.5 W/m²K, krāsojums RAL 1019, piekļuves kontrole, pašaizvēršanās mehānisms. | D54: gb | E54: 1
A55: 39 | C55: Montēt ārdurvis AD-4K 1300x2100 mm, alumīnija profils, vienviru (kreisā), evakuācijas durvis, U≤1.5 W/m²K, krāsojums RAL 1019, piekļuves kontrole, pašaizvēršanās mehānisms. | D55: gb | E55: 1
A56: 40 | C56: Montēt ārdurvis AD-5L 1100x2100 mm, alumīnija profils, vienviru (labā), saimniecības telpas durvis, U≤1.5 W/m²K, krāsojums RAL 1019, slēdzamas, pašaizvēršanās mehānisms. | D56: gb | E56: 1
A57: 41 | C57: Montēt ārdurvis AD-7L 1100x2100 mm, alumīnija profils, vienviru (labā), evakuācijas kāpņu durvis, ugunsizturība EI-30, krāsojums RAL 9007, piekļuves kontrole, pašaizvēršanās mehānisms. | D57: gb | E57: 3
A58: 42 | C58: Montēt ārdurvis AD-8L 1180x2590 mm, alumīnija profils, vienviru (labā), evakuācijas durvis, ugunsizturība EI-30/C, krāsojums RAL 1019, piekļuves kontrole, pašaizvēršanās mehānisms. | D58: gb | E58: 1
A59: 43 | C59: Montēt rāmja stiprinājuma karkasu siltumizolācijā, ieskaitot visus stiprinājumus un palīgmateriālus. | D59: m | E59: 74.58
A60: 44 | C60: Uzstādīt tvaika izolācijas lenti, ieskaitot visus stiprinājumus un palīgmateriālus. | D60: m | E60: 74.58
A61: 45 | C61: Uzstādīt difuzijas lenti, ieskaitot visus stiprinājumus un palīgmateriālus. | D61: m | E61: 74.58
A62: 46 | C62: Lūkas
A63: 47 | C63: Montēt lūku LU-1 900x900 mm, lūka no bēniņiem uz jumtu, cinkots skārds, tonis NCS S 3502-R (RAL 9006) abpusējs, aprīkota ar rokturi no abām pusēm lūkas atvēršanai. | D63: gb | E63: 1
A64: 48 | C64: Montēt lūku LU-2 860x1440 mm, lūka no koplietošanas telpām uz bēniņstāva telpu, ugunsizturība EI-60, U=0.64 W/m²K, materiāls metāls/HDF/koks, tonis pēc ražotāja, komplektā ugunsdrošas bēniņu kāpnes (3-daļīgas), slodze līdz 200 kg, siltināta lūka, kāpņu garums ~360 cm. | D64: gb | E64: 2
A65: 49 | C65: Montēt lūku LU-3 900x900 mm, lūka no tehniskās telpas uz jumtu, U=0.80 W/m²K, alumīnijs un stikls, tonis NCS S 3502-R (RAL 9006), rokturis no abām pusēm, siltumizolācija integrēta vērtnē un rāmī. | D65: gb | E65: 1
A66: 50 | C66: Montēt lūku LU-4 1050x1050 mm, lūka no multifunkcionālās zāles skatuves telpas uz jumtu, U=0.80 W/m²K, alumīnijs, tonis NCS S 3502-R (RAL 9006), manuāla atvēršana ar distances vadību, centrēts izpildmehānisms, elektromagnētiskā slēdzene. | D66: gb | E66: 1
A67: 51 | C67: Iekšējie logi
A68: 52 | C68: Montēt logu L-11 3842x650 mm, ieskaitot visus palīgmateriālus un stiprinājumus. Alumīnija logu sistēma, krāsojums RAL 1019 Grey Beige, 3-kāršu stikla paketi, U ≤ 0.80 W/m²K. | D68: gb | E68: 3
A69: 53 | C69: Montēt logu L-12 1200x1200 mm, ieskaitot visus palīgmateriālus un stiprinājumus. Alumīnija logu sistēma, krāsojums RAL 1019 Grey Beige, 3-kāršu stikla paketi, U ≤ 0.80 W/m²K. | D69: gb | E69: 2
A70: 54 | C70: Iekšdurvis
A71: 55 | C71: Montēt iekšdurvis D-1.1K ailē 1000x2100 mm, koka durvis, vienviru (kreisā), slēdzamas | D71: gb | E71: 1
A72: 56 | C72: Montēt iekšdurvis D-1.1L ailē 1000x2100 mm, koka durvis, vienviru (labā), slēdzamas | D72: gb | E72: 1
A73: 57 | C73: Montēt iekšdurvis D-1.2K ailē 1100x2100 mm, koka durvis, vienviru (kreisā), slēdzamas | D73: gb | E73: 2
A74: 58 | C74: Montēt iekšdurvis D-1.2L ailē 1100x2100 mm, koka durvis, vienviru (labā), slēdzamas | D74: gb | E74: 2
A75: 59 | C75: Montēt iekšdurvis D-1.3K ailē 900x2100 mm, koka durvis, vienviru (kreisā), slēdzamas | D75: gb | E75: 2
A76: 60 | C76: Montēt iekšdurvis D-1.3L ailē 900x2100 mm, koka durvis, vienviru (labā), slēdzamas | D76: gb | E76: 1
A77: 61 | C77: Montēt iekšdurvis D-1.4L ailē 1100x2100 mm, koka durvis, vienviru (labā), slēdzamas | D77: gb | E77: 1
A78: 62 | C78: Montēt iekšdurvis D-1.5L ailē 1100x2100 mm, koka durvis, vienviru (labā), slēdzamas | D78: gb | E78: 1
A79: 63 | C79: Montēt iekšdurvis D-1.6K ailē 1100x2100 mm, koka durvis, vienviru (kreisā), slēdzamas | D79: gb | E79: 1
A80: 64 | C80: Montēt stiklotas alumīnija durvis D-10.1 ailē 2005x2600 mm, divviru, ar automātiku | D80: gb | E80: 1
A81: 65 | C81: Montēt stiklotas alumīnija durvis D-10.2 ailē 2005x2600 mm, divviru, ar automātiku | D81: gb | E81: 1
A82: 66 | C82: Montēt iekšdurvis D-10.3K ailē 1230x3200 mm, alumīnija profils, vienviru (kreisā) | D82: gb | E82: 1
... A114: 98 | C114: Montēt iekšdurvis D-9L ailē 1100x2100 mm, koka durvis, vienviru (labā), EI-30/C | D114: gb | E114: 1
A118: =KT!A23 -> Sastādīja: | D118: =KT!C27 -> 2026. gada 17.aprīlī
A119: (paraksts un tā atšifrējums, datums)
A120: =KT!A25 -> Sertifikāta Nr.:
A122: =KT!A27 -> Pārbaudīja: | D122: =KT!C27 -> 2026. gada 17.aprīlī
A123: (paraksts un tā atšifrējums, datums)
A124: =KT!A29 -> Sertifikāta Nr.:

Sheet 1,8
A2: Būvdarbu apjomu saraksts Nr.1,8
A3: =KA!C22 -> Iekšējie apdares darbi
A4: (būvdarbu veids vai konstruktīvā elementa nosaukums)
A6: Objekta nosaukums: | C6: =KT!B9 -> Garkalnes Mākslas un vispārizglītojošās pamatskolas piebūve
A7: Būves nosaukums: | C7: =KT!B10 -> Garkalnes Mākslas un vispārizglītojošā pamatskola
A8: Objekta adrese: | C8: =KT!B11 -> Ropažu novads, Garkalne, Vidzemes šoseja 34, LV-2137
A9: Pasūtījuma nr.: | C9: =KT!B12 -> 3DAD_228_GV34_L
A11: Apjomi sastādīti, pamatojoties uz būvprojekta rasējumiem
A14: Nr.p.k. | B14: Kods | C14: Būvdarbu nosaukums | D14: Mērvienība | E14: Daudzums
A17: 1 | C17: Sienas
A18: 2 | C18: Gruntēt, špaktelēt un slīpēt sienas | D18: m2 | E18: 2764.55
A19: 3 | C19: Gruntēt un krāsot sienas divās kārtās | D19: m2 | E19: 2764.55
A20: 4 | C20: Ieklāt flīžu segumu uz līmjavas kārtas un šuves aizpildīt ar šuvotāju, ieskaitot visus stiprinājumus un palīgmateriālus. | D20: m2 | E20: 836.3
A21: 5 | C21: Cewood 25mm vai ekvivalents biezas akustiskās plātnes uz 50 mm profila rāmja ar minerālvates pildījumu, A absorbcija klase; Dekoratīvā skaņas izkliedes sienas konstrukcija uz 12mm bieza bērza saplākšņa pamatnes, uz kuras izveidota kārba ar 12mm biezām saplākšņa malām. Kārbas virsējā kārta ir 6,5mm biezs saplāksnis, konstrukcija hermētiski noslēgta, iekšpusē 50 mm biezs minerālvates slānis (blīvums 30 - 50 kg/ m3) | D21: m2 | E21: 122.3
A22: 6 | C22: Dekoratīvā skaņas izkliedes sienas konstrukcija uz 12mm bieza bērza saplākšņa pamatnes, uz kuras izveidota kārba ar 12mm biezām saplākšņa malām. Kārbas virsējā kārta ir 6,5mm biezs saplāksnis, konstrukcija hermētiski noslēgta, iekšpusē 50 mm biezs minerālvates slānis (blīvums 30 - 50 kg/m3); 20–50 mm platas koka latas ar 20–50 atstarpi; Perforētie paneļi Latvijas Finieris Riga (vai Glastik, Fantoni vai ekvivalents), frezēts, panelis M 4-16/4-65, paneļa biezums 15 mm, gaiss 60 mm, bez minerālas vates (absorbcijas dati: αw 0,5, klase D); Logu un durvju aizkari, kokvilnas audums, blīvums 400-600 g/m2 vai absorbcijas koeficienta vērtības, kā norādīts zemāk, attālums no virsmas 130 mm. Krokojums ½ logiem, krokojums 1/3 skatuves sienai (absorbcijas dati: αw 0,6, klase C); Sienu krāsa (pelēka) - NCS color S 1002-Y (toni saskaņot ar Būvniecības ierosinātāju un interjera risinājumiem) | D22: m2 | E22: 414.7
A23: 7 | C23: Ecophon Akusto One vai ekvivalenti paneļi, (izmērs 1192x592x40), absorbcijas koeficients αw > 0,9 (A klase); | D23: m2 | E23: 33.87
A24: 8 | C24: Ecophon Akusto Wall C vai ekvivalenti paneļi, (izmērs 1192x592x40), absorbcijas koeficients αw > 0.9 (A klase); | D24: m2 | E24: 59.28
A25: 9 | C25: Krāsotas sienas NCS S 1002-Y | D25: m2 | E25: 986.3
A26: 10 | C26: Flīzētas sienas daļa | D26: m2 | E26: 10.56
A27: 11 | C27: Skatuves sānu sienu izkliedes paneļi, saplāksnis vai MDF ar finiera virsmu 8-10 mm biezs, paneļu iekšējais tilpums aizpildīts ar mīkstu minerālo vati 50 mm biezumā; Sienu krāsa (pelēka) - NCS color S 1002-Y (toni saskaņot ar Būvniecības ierosinātāju un interjera risinājumiem) | D27: m2 | E27: 258.2
A28: 12 | C28: Griesti
A29: 13 | C29: PG-1.1
A30: 14 | C30: Montēt metala profilu karkasu, ieskaitot visus stiprinājumus un palīgmateriālus | D30: m2 | E30: 669.97
A31: 15 | C31: Ieklāt izolāciju 50mm biezumā Akmens vate ar blīvumu 70 kg/m3 | D31: m2 | E31: 669.97
A32: 16 | C32: Apšūt karkasu ar Knauf Danoline Tectopanel ar Quadril perforācijas tipu vai ekvivalents (paneļa perforācija 10-15%) 12,5mm, ieskaitot visus stiprinājumus un palīgmateriālus. | D32: m2 | E32: 669.97
A33: 17 | C33: Gruntēt un krāsot griestus divās kārtās | D33: m2 | E33: 669.97
A34: 18 | C34: PG-1.2
A35: 19 | C35: Montēt metala profilu karkasu, ieskaitot visus stiprinājumus un palīgmateriālus | D35: m2 | E35: 155.64
A36: 20 | C36: Ieklāt izolāciju 50mm biezumā Akmens vate ar blīvumu 70 kg/m3 | D36: m2 | E36: 155.64
A37: 21 | C37: Apšūt karkasu ar mitrumizturīgiem Ecophon Hygiene vai ekvivalenti noņemamiem paneļiem bez perforācijas (D klases skaņas absorbcija) 12,5mm, ieskaitot visus stiprinājumus un palīgmateriālus. | D37: m2 | E37: 155.64
A38: 22 | C38: Gruntēt un krāsot griestus divās kārtās | D38: m2 | E38: 155.64
A39: 23 | C39: PG-1.3
A40: 24 | C40: Montēt metala profilu karkasu, ieskaitot visus stiprinājumus un palīgmateriālus | D40: m2 | E40: 52.28
A41: 25 | C41: Stiprināt koka latas 50x50mm, ieskaitot visus stiprinājumus un palīgmateriālus | D41: m2 | E41: 52.28
A42: 26 | C42: Ieklāt izolāciju 50mm biezumā Akmens vate ar blīvumu 70 kg/m3 | D42: m2 | E42: 52.28
A43: 27 | C43: Apšūt karkasu ar Knauf Danoline Tectopanel ar Quadril perforācijas tipu vai ekvivalents (paneļa perforācija 10-15%) 12,5mm, ieskaitot visus stiprinājumus un palīgmateriālus. | D43: m2 | E43: 52.28
A44: 28 | C44: Gruntēt un krāsot griestus divās kārtās | D44: m2 | E44: 52.28
A45: 29 | C45: PG-2
A46: 30 | C46: Montēt metala profilu karkasu, ieskaitot visus stiprinājumus un palīgmateriālus | D46: m2 | E46: 572.79
A47: 31 | C47: Apšūt karkasu ar Ecophone Advantage A vai ekvivalentas skaņu absorbējošām griestu plāksnēsm (minimālais skaņas absorbcijas koeficients αw=0.7) 15mm, ieskaitot visus stiprinājumus un palīgmateriālus. | D47: m2 | E47: 572.79
A48: 32 | C48: AG-1
A49: 33 | C49: Gruntēt un apmest griestus 10mm biezumā | D49: m2 | E49: 995.01
A50: 34 | C50: Gruntēt, špaktelēt un slīpēt griestus | D50: m2 | E50: 995.01
A51: 35 | C51: Gruntēt un krāsot griestus divās kārtās | D51: m2 | E51: 995.01
A52: 36 | C52: AG-2
A53: 37 | C53: Gruntēt un apmest griestus Akustiskais apmetums Ecophon Fade 15+5 mm vai ekvivalents | D53: m2 | E53: 229.53
A54: 38 | C54: Gruntēt, špaktelēt un slīpēt griestus | D54: m2 | E54: 229.53
A55: 39 | C55: Gruntēt un krāsot griestus divās kārtās | D55: m2 | E55: 229.53
A56: 40 | C56: Grīdas
A57: 41 | C57: Gr-1
A58: 42 | C58: Izlīdzināt grīdas pirms seguma ieklāšanas | D58: m2 | E58: 275.24
A59: 43 | C59: Iekka masīvkoka grīdas segumu, ieskaitot visus stiprinājumus un palīgmateriālus. Ozola masīvkoka spundes dēļi Herringbone Select (tīras šķiedras raksts, bez baltās aplievas un zarojumiem) 16 x 68 x 408 mm bez fāzēm vai ekvivalents | D59: m2 | E59: 275.24
A60: 44 | C60: Gr-2 | E60: 0
A61: 45 | C61: Izlīdzināt grīdas pirms seguma ieklāšanas | D61: m2 | E61: 312.79
A62: 46 | C62: Iekka masīvkoka grīdas segumu, ieskaitot visus stiprinājumus un palīgmateriālus. Ozola masīvkoka spundes dēļi Herringbone Nature (izteiktāks šķiedras raksts, bez baltās aplievas un ar maziem punktveida zarojumiem) 16 x 68 x 408 mm bez fāzēm vai ekvivalents | D62: m2 | E62: 312.79
A63: 47 | C63: Gr-3 | E63: 0
A64: 48 | C64: Izlīdzināt grīdas pirms seguma ieklāšanas | D64: m2 | E64: 24.1
A65: 49 | C65: Iekka divslāņu dēļu grīdas segumu, ieskaitot visus stiprinājumus un palīgmateriālus. Ozola divslāņa Herringbone spundes dēļi Prestige ar Natural apdari (koksnes raksts, ar nelieliem zarojumiem) 10-12 x 100 x 470-500mm bez fāzēm vai ekvivalents | D65: m2 | E65: 24.1
A66: 50 | C66: Gr-4 | E66: 0
A67: 51 | C67: Izlīdzināt grīdas pirms seguma ieklāšanas | D67: m2 | E67: 150.55
A68: 52 | C68: Iekka masīvkoka grīdas segumu, ieskaitot visus stiprinājumus un palīgmateriālus. Ozola masīvkoka spundes dēļi Select (tīras šķiedras raksts) 16 x 130 x 600-3000 mm bez fāzēm, krāsoti ar melnu skatuves grīdas krāsu PatzFinish black vai ekvivalentu divās kārtās | D68: m2 | E68: 150.55
A69: 53 | C69: Gr-5 | E69: 0
A70: 54 | C70: Izlīdzināt grīdas pirms seguma ieklāšanas | D70: m2 | E70: 21.72
A71: 55 | C71: Ieklāt vinila segumu uz līmjavas kārtas, ieskaitot visus stiprinājumus un palīgmateriālus. Forbo sphera SD/EC vai ekvivalents homogēns elektrību izkliedējošs vinils | D71: m2 | E71: 21.72
A72: 56 | C72: Gr-6 | E72: 0
A73: 57 | C73: Izlīdzināt grīdas pirms seguma ieklāšanas | D73: m2 | E73: 596.09
A74: 58 | C74: Ieklāt vinila segumu uz līmjavas kārtas, ieskaitot visus stiprinājumus un palīgmateriālus. Forbo Sarlon 15db vai ekvivalents akustiskais vinila grīdas segums (4211T4315 light grey canyon, NCS S 3502-Y), biezums 2.6 mm, R10 pretslīdes noturības klase | D74: m2 | E74: 596.09
A75: 59 | C75: Gr-7 | E75: 0
A76: 60 | C76: Izlīdzināt grīdas pirms seguma ieklāšanas | D76: m2 | E76: 84.85
A77: 61 | C77: Ieklāt vinila segumu uz līmjavas kārtas, ieskaitot visus stiprinājumus un palīgmateriālus. Forbo Sphera Element vai ekvivalents grīdas segums (50062 storm grey, NCS S S 1502-G), biezums 2 mm, R10 pretslīdes noturības klase | D77: m2 | E77: 84.85
A78: 62 | C78: Gr-8 | E78: 0
A79: 63 | C79: Izlīdzināt grīdas pirms seguma ieklāšanas | D79: m2 | E79: 267.65
A80: 64 | C80: Ieklāt hidroizolācijas slāni | D80: m2 | E80: 267.65
A81: 65 | C81: Ieklāt flīžu segumu uz līmjavas kārtas un šuves aizpildīt ar šuvotāju, ieskaitot visus stiprinājumus un palīgmateriālus. Akmens masas flīzes, R10 pretslīdes noturības klase | D81: m2 | E81: 267.65
A82: 66 | C82: Gr-9 | E82: 0
A83: 67 | C83: Montēt kājslauķi, ieskaitot visus stiprinājumus un palīgmateriālus. Iekštelpu kājslauķis Forbo vai ekvivalents | D83: m2 | E83: 15.1
A84: 68 | C84: Gr-10 | E84: 0
A85: 69 | C85: Montēt pakāpienus, ieskaitot visus stiprinājumus un palīgmateriālus. Ozola masīvkoka pakāpieni, krāsoti ar melnu skatuves grīdas krāsu PatzFinish black vai ekvivalentu divās kārtās | D85: m2 | E85: 19.08
A86: 70 | C86: Gr-11 | E86: 0
A87: 71 | C87: Montēt pakāpienus, ieskaitot visus stiprinājumus un palīgmateriālus. Ozola masīvkoka pakāpieni | D87: m2 | E87: 26.63
A88: 72 | C88: Gr-12 | E88: 0
A89: 73 | C89: Nopulēt betona grīdu | D89: m2 | E89: 93.87
A90: 74 | C90: Gr-10 (2.stāvam, 3.stāvam, 4.stāvam) | E90: 0
A91: 75 | C91: Izlīdzināt grīdas pirms seguma ieklāšanas | D91: m2 | E91: 799.17
A92: 76 | C92: Ieklāt vinila segumu uz līmjavas kārtas, ieskaitot visus stiprinājumus un palīgmateriālus. Forbo Sphera Element vai ekvivalents grīdas segums (50008 silver grey, NCS S 2502-B), biezums 2 mm, R10 pretslīdes noturības klase | D92: m2 | E92: 799.17
A93: 77 | C93: Grīdlīstes | E93: 0
A94: 78 | C94: Montēt grīdlīsti Gl-1, ieskaitot visus stiprinājumus un palīgmateriālus. Nerūsējoša tērauda grīdlīste | D94: m | E94: 734.75
A95: 79 | C95: Montēt grīdlīsti Gl-2, ieskaitot visus stiprinājumus un palīgmateriālus. Akmens masas flīžu apmale | D95: m | E95: 369.15
A96: 80 | C96: Montēt grīdlīsti Gl-3, ieskaitot visus stiprinājumus un palīgmateriālus. Koka grīdlīste | D96: m | E96: 128.73
A97: 81 | C97: Montēt grīdlīsti Gl-4, ieskaitot visus stiprinājumus un palīgmateriālus. Vinila grīdlīste | D97: m | E97: 103.5
A98: 82 | C98: Ārsienu ailes
A99: 83 | C99: Gruntēt, špaktelēt un slīpēt sienas | D99: m | E99: 451.81
A100: 84 | C100: Gruntēt un krāsot sienas divās kārtās | D100: m | E100: 451.81
A101: 85 | C101: Kāpņu telpa K1
A102: 86 | C102: Montēt margas kāpnēm, ieskaitot visus stiprinājumus un palīgmateriālus. | D102: m | E102: 25.28
A103: 87 | C103: Iestrādāt tektīlās zonas, ieskaitot visus stiprinājumus un palīgmateriālus. | D103: m2 | E103: 8.92
A104: 88 | C104: Marķēt kāpņu pakāpienus, ieskaitot visus stiprinājumus un palīgmateriālus. | D104: m | E104: 18.9
A105: 89 | C105: Kāpņu telpa K2
A106: 90 | C106: Montēt margas pie sienas, ieskaitot visus stiprinājumus un palīgmateriālus. | D106: m | E106: 8.13
A107: 91 | C107: Kāpņu telpa K4
...

Sheet 1,9
A2: Būvdarbu apjomu saraksts Nr.1,9
A3: =KA!C23 -> Ārējie apdares darbi
A4: (būvdarbu veids vai konstruktīvā elementa nosaukums)
A6: Objekta nosaukums: | C6: =KT!B9 -> Garkalnes Mākslas un vispārizglītojošās pamatskolas piebūve
A7: Būves nosaukums: | C7: =KT!B10 -> Garkalnes Mākslas un vispārizglītojošā pamatskola
A8: Objekta adrese: | C8: =KT!B11 -> Ropažu novads, Garkalne, Vidzemes šoseja 34, LV-2137
A9: Pasūtījuma nr.: | C9: =KT!B12 -> 3DAD_228_GV34_L
A11: Apjomi sastādīti, pamatojoties uz būvprojekta rasējumiem
A14: Nr.p.k. | B14: Kods | C14: Būvdarbu nosaukums | D14: Mērvienība | E14: Daudzums
A17: 1 | C17: SA-1 / SA-1.1
A18: 2 | C18: Montēt fasādes apakškarkasa konstrukciju, ieskaitot visus stiprinājumus un palīgmateriālus. | D18: m2 | E18: 986.27
A19: 3 | C19: Siltināt sienu ar PAROC Ultra siltumizolācijas plāksnēm vai ekvivalents (λD ≤ 0,035 W/mK, ugunsreakcijas klase A1) 150mm | D19: m2 | E19: 986.27
A20: 4 | C20: Stiprināt vēja izolāciju PAROC Cortex b ar melnu pārklājumu vai ekvivalents (λD ≤ 0,033 W/mK, ugunsreakcijas klase A2-s1, d0), ieskaitot visus stiprinājumus un palīgmateriālus. | D20: m2 | E20: 986.27
A21: 5 | C21: Apšūt karkasu ar EQUITONE [linea] un EQUITONE [tectiva] šķiedrcementa masā krāsotiem paneļiem vai ekvivalents 10mm (skatīt fasāžu krāsu pasi) (minimālā ugunsreakcijas klase B-s1,d0), ieskaitot visus stiprinājumus un palīgmateriālus. | D21: m2 | E21: 986.27
A22: 6 | C22: SA-1.2
A23: 7 | C23: Stiprināt koka latas 38x63mm, ieskaitot visus stiprinājumus un palīgmateriālus. | D23: m2 | E23: 267.65
A24: 8 | C24: Apšūt karkasu ar EQUITONE [linea] un EQUITONE [tectiva] šķiedrcementa masā krāsotiem paneļiem vai ekvivalents 10mm (skatīt fasāžu krāsu pasi) (minimālā ugunsreakcijas klase B-s1,d0), ieskaitot visus stiprinājumus un palīgmateriālus. | D24: m2 | E24: 267.65
A25: 9 | C25: SA-2
A26: 10 | C26: Montēt fasādes apakškarkasa konstrukciju, ieskaitot visus stiprinājumus un palīgmateriālus. | D26: m2 | E26: 174.38
A27: 11 | C27: Siltināt sienu ar PAROC Ultra siltumizolācijas plāksnēm vai ekvivalents (λD ≤ 0,035 W/mK, ugunsreakcijas klase A1) 150mm | D27: m2 | E27: 174.38
A28: 12 | C28: Stiprināt vēja izolāciju PAROC Cortex b ar melnu pārklājumu vai ekvivalents (λD ≤ 0,033 W/mK, ugunsreakcijas klase A2-s1, d0), ieskaitot visus stiprinājumus un palīgmateriālus. | D28: m2 | E28: 174.38
A29: 13 | C29: Stiprināt stamisol Color vai ekvivalents elpojoša poliestera fasādes membrānu (tonis Granite 08119) | D29: m2 | E29: 174.38
A30: 14 | C30: Apšūt karkasu ar perforētām alumīnija loksnēm ar gofrētu augstu vertikālo šuvi (skatīt fasāžu krāsu pasi), perforācija Rv 5-8, BEMO fasāžu sistēma vai ekvivalents (minimālā ugunsreakcijas klase B-s1,d0), ieskaitot visus stiprinājumus un palīgmateriālus. 2mm | D30: m2 | E30: 174.38
A31: 15 | C31: SA-2.1
A32: 16 | C32: Stiprināt koka latas 38x63mm, ieskaitot visus stiprinājumus un palīgmateriālus. | D32: m2 | E32: 85.53
A33: 17 | C33: Apšūt karkasu ar perforētām alumīnija loksnēm ar gofrētu augstu vertikālo šuvi (skatīt fasāžu krāsu pasi), perforācija Rv 5-8, BEMO fasāžu sistēma vai ekvivalents (minimālā ugunsreakcijas klase B-s1,d0), ieskaitot visus stiprinājumus un palīgmateriālus. 2mm | D33: m2 | E33: 85.53
A34: 18 | C34: Sienu siltinājums jumta daļā bez apdares
A35: 19 | C35: Montēt fasādes apakškarkasa konstrukciju, ieskaitot visus stiprinājumus un palīgmateriālus. | D35: m2 | E35: 120
A36: 20 | C36: Siltināt sienu ar PAROC Ultra siltumizolācijas plāksnēm vai ekvivalents (λD ≤ 0,035 W/mK, ugunsreakcijas klase A1) 150mm | D36: m2 | E36: 120
A37: 21 | C37: Stiprināt vēja izolāciju PAROC Cortex b ar melnu pārklājumu vai ekvivalents (λD ≤ 0,033 W/mK, ugunsreakcijas klase A2-s1, d0), ieskaitot visus stiprinājumus un palīgmateriālus. | D37: m2 | E37: 120
A38: 22 | C38: Pārkares mezgls M-20
A39: 23 | C39: Stiprināt koka latas 38x63mm, ieskaitot visus stiprinājumus un palīgmateriālus. | D39: m2 | E39: 128.6
A40: 24 | C40: Apšūt karkasu ar EQUITONE [linea] un EQUITONE [tectiva] šķiedrcementa masā krāsotiem paneļiem vai ekvivalents 10mm (skatīt fasāžu krāsu pasi) (minimālā ugunsreakcijas klase B-s1,d0), ieskaitot visus stiprinājumus un palīgmateriālus. | D40: m2 | E40: 128.6
A41: 25 | C41: C-1
A42: 26 | C42: Ieklāt bitumena mastikas hidroizolāciju no abām pusēm | D42: m2 | E42: 972
A43: 27 | C43: Siltināt pamatus ar ekstrudētu putupolistirolu Finnfoam FL300 vai ekvivalents uz līmjavas kārtas 100mm biezumā, ieskaitot visus stiprinājumus un palīgmateriālus. | D43: m2 | E43: 486
A44: 28 | C44: Armēt virsmu ar armēšanas javu pa stiklašķiedras sietu, ieskaitot visus stiprinājumus un palīgmateriālus. | D44: m2 | E44: 61.26
A45: 29 | C45: Gruntēt un apmest virsmu ar tonētu dekoratīvo apmetumu, ieskaitot visus stiprinājumus un palīgmateriālus. | D45: m2 | E45: 61.26
A46: 30 | C46: C-2
A47: 31 | C47: Ieklāt bitumena mastikas hidroizolāciju | D47: m2 | E47: 73.95
A48: 32 | C48: Siltināt pamatus ar ekstrudētu putupolistirolu Finnfoam FL300 vai ekvivalents uz līmjavas kārtas 100mm biezumā, ieskaitot visus stiprinājumus un palīgmateriālus. | D48: m2 | E48: 73.95
A49: 33 | C49: Ieklāt ģeomembrānu ar ģeotekstilu PM DRAIN-TEC 250 vai ekvivalents | D49: m2 | E49: 73.95
A50: 34 | C50: Ārsienu ailes
A51: 35 | C51: Montēt ailēs Aluclad Systems vai ekvivalents kompozītalumīnija dekoratīvus profilus, ieskaitot visus stiprinājumus un palīgmateriālus. | D51: m | E51: 451.81
A52: 36 | C52: Velonovietnes dekoratīvā siena
A53: 37 | C53: Montēt vertikālas dekoratīvas detaļas, ieskaitot visus stiprinājumus un palīgmateriālus. | D53: m2 | E53: 43.46
A54: 38 | C54: Pandusa dekoratīvā siena
A55: 39 | C55: Montēt vertikālas dekoratīvas detaļas, ieskaitot visus stiprinājumus un palīgmateriālus.
A56: 39.1 | C56: Krāsots alumīnija profils 50x150x3400mm (garumu var uz vietas nogriezt) ar slēptiem stiprinājumiem augšā un apakšā. *Detalizācija tiks izstrādātā būvniecības procesā konsultējoties ar būvnieku. | D56: gb | E56: 9
A57: 39.2 | C57: Krāsots alumīnija profils 50x150x2700mm (garumu var uz vietas nogriezt) ar slēptiem stiprinājumiem augšā un apakšā. *Detalizācija tiks izstrādātā būvniecības procesā konsultējoties ar būvnieku. | D57: gb | E57: 32
A58: 39.3 | C58: Krāsots alumīnija profils 50x150x3000mm (garumu var uz vietas nogriezt) ar slēptiem stiprinājumiem augšā un apakšā. *Detalizācija tiks izstrādātā būvniecības procesā konsultējoties ar būvnieku. | D58: gb | E58: 5
A59: 40 | C59: M-04 Ieejas sliekšņa mezgls
A60: 41 | C60: Montēt metāla leņķprofilu L100x100x10 mm ar balsta plāksni, ieskaitot visus stiprinājumus un palīgmateriālus. | D60: m | E60: 8.9
A61: 42 | C61: Montēt konstruktīvo siltumizolāciju greenteQ Klima Konform vai ekvivalents | D61: m | E61: 8.9
A62: 43 | C62: Ierīkot drenāžu, ieskaitot visus stiprinājumus un palīgmateriālus. | D62: m | E62: 8.9
A63: 44 | C63: Siltināt pamatu ar FL300 vai ekvivalents b=50 mm horizontālu cokola siltumizolāciju | D63: m2 | E63: 4.81
A64: 45 | C64: Montēt elastīgu starpliku abās pusēs | D64: m | E64: 17.8
A65: 46 | C65: Ieklāt betona pamatojumu 150mm biezumā | D65: m2 | E65: 7.21
A66: 47 | C66: Betonēt veidņos tekni ar C20/25, betonu padodot ar sūkni iestrādes vietā, ieskaitot visus palīgmateriālus un stiprinājumus. | D66: m3 | E66: 1.14
A67: 48 | C67: Montēt līnījveida tekni ACO Multidrain M100D 30.0 vai ekvivalents, ieskaitot visus palīgmateriālus un stiprinājumus. | D67: m | E67: 8.9
A68: 49 | C68: Ieklāt starpliku Belmix PP Fiber 12 mm vai ekvivalents | D68: m | E68: 8.9
A69: 50 | C69: Betonēt slieksni ar C20/25, betonu padodot ar sūkni iestrādes vietā, ieskaitot visus palīgmateriālus un stiprinājumus. | D69: m2 | E69: 1.6
A70: 51 | C70: Stiegrot slieksni ar B500B klases tērauda stiegrām, ieskaitot visus palīgmateriālus un stiprinājumus. Stiegrojums Ø8 s=200 | D70: m2 | E70: 1.6
A71: 52 | C71: M-21 un M-23 Cokola mezgls
A72: 53 | C72: Ierīkot drenāžu, ieskaitot visus stiprinājumus un palīgmateriālus. | D72: m | E72: 101.56
A73: 54 | C73: Siltināt pamatu ar FL300 vai ekvivalents b=50 mm horizontālu cokola siltumizolāciju | D73: m2 | E73: =E72*0.58 -> 58.9048
A74: 55 | C74: Ieklāt blietētu šķembu kārtu fr. 20/40 150mm biezumā | D74: m2 | E74: 59.76
A75: 56 | C75: Betonēt veidņos apmali ar C20/25, betonu padodot ar sūkni iestrādes vietā, ieskaitot visus palīgmateriālus un stiprinājumus. | D75: m2 | E75: 59.76
A76: 57 | C76: Slēptās nosegcaurules mezgls M-19
A77: 58 | C77: Stiprināt noteku zonās poliuretāna siltumizolācijas loksnes ar difūzijas necaurlaidīgu materiālu (PIR) FF-PIR λD ≤ 0,022 W/mK vai ekvivalents | D77: m | E77: 242.63
A78: 59 | C78: Cits
A79: 60 | C79: Montēt margas rampai, ieskaitot visus stiprinājumus un palīgmateriālus. | D79: m | E79: 36
A80: 61 | C80: Montēt margas pie evakuācijas kāpnēm, ieskaitot visus stiprinājumus un palīgmateriālus. | D80: m | E80: 47.45
A81: 62 | C81: Montēt margas zaļajam jumtam, ieskaitot visus stiprinājumus un palīgmateriālus. | D81: m | E81: 14.45
A82: 63 | C82: Izveidot ēkas nosaukumu uz fasādes, ieskaitot visus stiprinājumus un palīgmateriālus. | D82: kpl | E82: 1
A86: =KT!A23 -> Sastādīja: | D86: =KT!C27 -> 2026. gada 17.aprīlī
A87: (paraksts un tā atšifrējums, datums)
A88: =KT!A25 -> Sertifikāta Nr.:
A90: =KT!A27 -> Pārbaudīja: | D90: =KT!C27 -> 2026. gada 17.aprīlī
A91: (paraksts un tā atšifrējums, datums)
A92: =KT!A29 -> Sertifikāta Nr.:

Sheet 1,10
A2: Būvdarbu apjomu saraksts Nr.1,10
A3: =KA!C24 -> Žogi, nožogojumi, vārti un vārtiņi
A4: (būvdarbu veids vai konstruktīvā elementa nosaukums)
A6: Objekta nosaukums: | C6: =KT!B9 -> Garkalnes Mākslas un vispārizglītojošās pamatskolas piebūve
A7: Būves nosaukums: | C7: =KT!B10 -> Garkalnes Mākslas un vispārizglītojošā pamatskola
A8: Objekta adrese: | C8: =KT!B11 -> Ropažu novads, Garkalne, Vidzemes šoseja 34, LV-2137
A9: Pasūtījuma nr.: | C9: =KT!B12 -> 3DAD_228_GV34_L
A11: Apjomi sastādīti, pamatojoties uz būvprojekta rasējumiem
A14: Nr.p.k. | B14: Kods | C14: Būvdarbu nosaukums | D14: Mērvienība | E14: Daudzums
A17: 1 | C17: Demontāža
A18: 2 | C18: Demontēt žogu un izvest būvgružus utilizācijai | D18: m | E18: 88
A19: 3 | C19: Koka žogs
A20: 4 | C20: Montēt koka žogu uz betona pamatiem, ieskaitot visus stiprinājumus un palīgmateriālus H=1800m | D20: m | E20: 83.32
A21: 5 | C21: Izveidot gabionu I01 4000x1800x500mm | D21: gb | E21: 1
A22: 6 | C22: Izveidot gabionu I02 4000x1800x500mm | D22: gb | E22: 1
A23: 7 | C23: Montēt veramus vārtu gajējiem analogi žoga tipam uz betona pamatiem, ieskaitot visus stiprinājumus un palīgmateriālus H=1800m, L=3000mm | D23: gb | E23: 1
A24: 8 | C24: Metāla žogs
A25: 9 | C25: Montēt metāla žogu uz betona pamatiem, ieskaitot visus stiprinājumus un palīgmateriālus H=1800m | D25: m | E25: 7.75
A26: 10 | C26: Montēt veramus vārtu gajējiem analogi žoga tipam uz betona pamatiem, ieskaitot visus stiprinājumus un palīgmateriālus H=1800m, L=1500mm | D26: gb | E26: 1
A27: 11 | C27: Montēt bīdāmus vārtus analogi žoga tipam uz betona pamatiem, ieskaitot visus stiprinājumus un palīgmateriālus H=1800m, L=8000mm | D27: gb | E27: 1
A31: =KT!A23 -> Sastādīja: | D31: =KT!C27 -> 2026. gada 17.aprīlī
A32: (paraksts un tā atšifrējums, datums)
A33: =KT!A25 -> Sertifikāta Nr.:
A35: =KT!A27 -> Pārbaudīja: | D35: =KT!C27 -> 2026. gada 17.aprīlī
A36: (paraksts un tā atšifrējums, datums)
A37: =KT!A29 -> Sertifikāta Nr.:

Sheet 1,11
A2: Būvdarbu apjomu saraksts Nr.1,11
A3: =KA!C25 -> Ceļi un laukumi
A4: (būvdarbu veids vai konstruktīvā elementa nosaukums)
A6: Objekta nosaukums: | C6: =KT!B9 -> Garkalnes Mākslas un vispārizglītojošās pamatskolas piebūve
A7: Būves nosaukums: | C7: =KT!B10 -> Garkalnes Mākslas un vispārizglītojošā pamatskola
A8: Objekta adrese: | C8: =KT!B11 -> Ropažu novads, Garkalne, Vidzemes šoseja 34, LV-2137
A9: Pasūtījuma nr.: | C9: =KT!B12 -> 3DAD_228_GV34_L
A11: Apjomi sastādīti, pamatojoties uz būvprojekta rasējumiem
A14: Nr.p.k. | B14: Kods | C14: Būvdarbu nosaukums | D14: Mērvienība | E14: Daudzums
A17: 1 | C17: TS-CD daļa
A18: 2 | C18: Ceļa segums
A19: 3 | C19: Zemes klātnes ierakuma būvniecība hvid=70 cm | D19: m2 | E19: 680
A20: 4 | C20: Zemes klātnes uzbēruma būvniecība hvid=50 cm | D20: m2 | E20: 250
A21: 5 | C21: Zemes planēšana , no esošās zemes klātnes iegūtās grunts | D21: m2 | E21: 150
A22: 6 | C22: Ieklāt betona bruģakmens segumu 80mm biezumā. Hansa 8 (500x500x80mm) Tonis: Moon anthracite Ražotājs: Betono mozaika vai ekvivalents | D22: m2 | E22: 680
A23: 7 | C23: Ieklāt izlīdzinošo slāni 40mm biezumā Nesaistītu minerālmateriālu izlīdzinošās starpkārtas būvniecība (H = 4 cm) | D23: m2 | E23: 694
A24: 8 | C24: Ieklāt blietētu šķembu kārtu Nesaist. minerālmateriālu (fr.0/45) izbūve, N-III, h=20 cm | D24: m2 | E24: 700
A25: 9 | C25: Ieklāt blietētu smilts kārtu Pastiprināta salizturīgā kārtas izbūve, hvid=40cm | D25: m2 | E25: 748
A26: 10 | C26: Nomaļu uzpildīšana (Šķembu maisījums 0/32s (N-III klase)) 10 cm biezumā | D26: m3 | E26: 1
A27: 11 | C27: Karstā asfalta dilumkārtas AC 11 surf būvniecība 5 cm biezumā | D27: m2 | E27: 12
A28: 12 | C28: Ceļa zīmju uzstādīšana | E28: 0
A29: 13 | C29: 206 | D29: gb. | E29: 1
A30: 14 | C30: 301 | D30: gb. | E30: 1
A31: 15 | C31: 302 | D31: gb. | E31: 1
A32: 16 | C32: 323 | D32: gb. | E32: 1
A33: 17 | C33: 849 | D33: gb. | E33: 1
A34: 18 | C34: Horizontālā apzīmējumi | E34: 0
A35: 19 | C35: 920 | D35: m | E35: 6.8
A36: 20 | C36: 930 | D36: m | E36: 4.3
A37: 21 | C37: Ceļa zīmju balstu uzstādīšana betona C30/37 pamatos, min. 0,30x0,30x0,50m | D37: gb. | E37: 3
A38: 22 | C38: Ielas betona apmales 100x30x15 uzstādīšana uz betona pamata | D38: m | E38: 168
A39: 23 | C39: Ielas betona apmales 100x30/22x15 uzstādīšana uz betona pamata | D39: m | E39: 8
A40: 24 | C40: Ielas betona apmales 100x22x15 uzstādīšana uz betona pamata | D40: m | E40: 6
A41: 25 | C41: Atbalsta sienas izveide un montāža ( Ieskaitot nepieciešamos materiālus) | D41: m | E41: 90
A42: 26 | C42: Meliorācijas darbi | E42: 0
A43: 27 | C43: Ievalkas izveidošana hvid=30-50cm | D43: m2 | E43: 150
A44: 28 | C44: Komunikāciju pārbūve | E44: 0
A45: 29 | C45: Kabeļa aizsargcaurule D110,750N | D45: m | E45: 24
A46: 30 | C46: Labiekārtošanas darbi | E46: 0
A47: 31 | C47: Augu zeme apsēta ar daudzgadīgu zāliena sēklām h=10cm | D47: m2 | E47: 250
A48: 32 | C48: TS-L daļa | E48: 0
A49: 33 | C49: Demontāža | E49: 0
A50: 34 | C50: Demontēt esošo rampu un izvest būvgružus utilizācijai | D50: kpl | E50: 1
A51: 35 | C51: Demontēt ceļa segumu un izvest būvgružus utilizācijai | D51: m2 | E51: 1095
A52: 36 | C52: Zemes darbi | E52: 0
A53: 37 | C53: Norakt grunti teritorijas labiekārtošanas darbiem | D53: m3 | E53: 1085.25
A54: 38 | C54: Izvest lieko grunti utilizācijai | D54: m3 | E54: 1085.25
A55: 39 | C55: Betona bruģakmens segums tips 2 | E55: 0
A56: 40 | C56: Ieklāt betona bruģakmens segumu 80mm biezumā. Hansa 8 (500x500x80mm) Tonis: Dzeltens Ražotājs: Betono mozaika vai ekvivalents | D56: m2 | E56: 17.8
A57: 41 | C57: Ieklāt izlīdzinošo slāni 40mm biezumā | D57: m2 | E57: 17.8
A58: 42 | C58: Ieklāt blietētu šķembu kārtu Minerālmat. maisījums 0/45 (N-III), h=20cm | D58: m3 | E58: 3.56
A59: 43 | C59: Ieklāt blietētu smilts kārtu Drenējošais slānis, Kf>1m/dnn, h=40cm | D59: m3 | E59: 7.12
A60: 44 | C60: Betona bruģakmens segums tips 3 | E60: 0
A61: 45 | C61: Ieklāt betona bruģakmens segumu 80mm biezumā. Hansa 8 (500x500x80mm) Tonis: Moon anthracite Ražotājs: Betono mozaika vai ekvivalents | D61: m2 | E61: 1040.3
A62: 46 | C62: Ieklāt izlīdzinošo slāni 50mm biezumā Vidēji rupja smilts | D62: m2 | E62: 1040.3
A63: 47 | C63: Ieklāt blietētu šķembu kārtu Nesaistītu minerālmateriālu pamata nesošā kārta, fr.0/45, h=12cm | D63: m3 | E63: 124.84
A64: 48 | C64: Ieklāt blietētu šķembu kārtu Nesaistītu minerālmateriālu pamata nesošā kārta fr.0/63, h=18cm | D64: m3 | E64: 187.25
A65: 49 | C65: Ieklāt blietētu smilts kārtu Salizturīgā kārta no drenējošas smilts (kf>1m/dn, Ev2>60MPa), h=40cm | D65: m3 | E65: 416.12
A66: 50 | C66: Ieklāt ģeotekstilu nw15 vai ekvivalents | D66: m2 | E66: 1040.3
A67: 51 | C67: Betona bruģakmens segums tips 4 | E67: 0
A68: 52 | C68: Ieklāt betona bruģakmens segumu 80mm biezumā. Kuba 8B (100x100x80mm) Tonis: Granit Ražotājs: Betono mozaika vai ekvivalents | D68: m2 | E68: 401
A69: 53 | C69: Ieklāt izlīdzinošo slāni 50mm biezumā Vidēji rupja smilts | D69: m2 | E69: 401
A70: 54 | C70: Ieklāt blietētu šķembu kārtu Nesaistītu minerālmateriālu pamata nesošā kārta, fr.0/45, h=12cm | D70: m3 | E70: 48.12
A71: 55 | C71: Ieklāt blietētu šķembu kārtu Nesaistītu minerālmateriālu pamata nesošā kārta fr.0/63, h=18cm | D71: m3 | E71: 72.18
A72: 56 | C72: Ieklāt blietētu smilts kārtu Salizturīgā kārta no drenējošas smilts (kf>1m/dn, Ev2>60MPa), h=40cm | D72: m3 | E72: 160.4
A73: 57 | C73: Ieklāt ģeotekstilu nw15 vai ekvivalents | D73: m2 | E73: 401
A74: 58 | C74: Betona bruģakmens segums tips 5 | E74: 0
A75: 59 | C75: Ieklāt betona bruģakmens segumu 80mm biezumā. "Konuss" (105/80x120x60mm) Tonis: Sarkans Ražotājs: „Kalndruvas bloks” vai ekvivalents | D75: m2 | E75: 81
A76: 60 | C76: Ieklāt izlīdzinošo slāni 50mm biezumā Vidēji rupja smilts | D76: m2 | E76: 81
A77: 61 | C77: Ieklāt blietētu šķembu kārtu Nesaistītu minerālmateriālu pamata nesošā kārta, fr.0/45, h=12cm | D77: m3 | E77: 9.72
A78: 62 | C78: Ieklāt blietētu šķembu kārtu Nesaistītu minerālmateriālu pamata nesošā kārta fr.0/63, h=18cm | D78: m3 | E78: 14.58
A79: 63 | C79: Ieklāt blietētu smilts kārtu Salizturīgā kārta no drenējošas smilts (kf>1m/dn, Ev2>60MPa), h=40cm | D79: m3 | E79: 32.4
A80: 64 | C80: Ieklāt ģeotekstilu nw15 vai ekvivalents | D80: m2 | E80: 81
A81: 65 | C81: Ar sveķiem sasaistīts dekoratīvu šķembu ceļa segums
A82: 66 | C82: Ieklāt ar sveķiem sasaistītu dekoratīvu šķembu maisījuma sehumu, h=2cm | D82: m2 | E82: 59.7
A83: 67 | C83: Ieklāt stikla šķiedras tīklu Iestrādāts šķembu maisījumā | D83: m2 | E83: 59.7
A84: 68 | C84: Aizpildīt ģeošūnas ar šķembu (fr. 0/30 ), h=4cm un noblietēt | D84: m2 | E84: 59.7
A85: 69 | C85: Ieklāt ģeošūnas | D85: m2 | E85: 59.7
A86: 70 | C86: Ieklāt blietētu smilts kārtu Rupjas smilts izlīdzinošā kārta, h=1cm | D86: m2 | E86: 59.7
A87: 71 | C87: Ieklāt ģeomembrānu | D87: m2 | E87: 59.7
A88: 72 | C88: Ieklāt blietētu šķembu kārtu fr.0/30, h=15cm | D88: m3 | E88: 8.96
A89: 73 | C89: Ieklāt ģeosietu ar ģeomebrānu | D89: m2 | E89: 59.7
A90: 74 | C90: Apmales | E90: 0
A91: 75 | C91: Uzstādīt apmali BR100.20.8 uz betona kārtas un nesaistīta minerālmateriāla pamatojuma | D91: m | E91: 1095.5
A95: =KT!A23 -> Sastādīja: | D95: =KT!C27 -> 2026. gada 17.aprīlī
A96: (paraksts un tā atšifrējums, datums)
A97: =KT!A25 -> Sertifikāta Nr.:
A99: =KT!A27 -> Pārbaudīja: | D99: =KT!C27 -> 2026. gada 17.aprīlī
A100: (paraksts un tā atšifrējums, datums)
A101: =KT!A29 -> Sertifikāta Nr.:

Sheet 1,12
A2: Būvdarbu apjomu saraksts Nr.1,12
A3: =KA!C26 -> Apzaļumošanas darbi
A4: (būvdarbu veids vai konstruktīvā elementa nosaukums)
A6: Objekta nosaukums: | C6: =KT!B9 -> Garkalnes Mākslas un vispārizglītojošās pamatskolas piebūve
A7: Būves nosaukums: | C7: =KT!B10 -> Garkalnes Mākslas un vispārizglītojošā pamatskola
A8: Objekta adrese: | C8: =KT!B11 -> Ropažu novads, Garkalne, Vidzemes šoseja 34, LV-2137
A9: Pasūtījuma nr.: | C9: =KT!B12 -> 3DAD_228_GV34_L
A11: Apjomi sastādīti, pamatojoties uz būvprojekta rasējumiem
A14: Nr.p.k. | B14: Kods | C14: Būvdarbu nosaukums | D14: Mērvienība | E14: Daudzums
A17: 1 | C17: Atjaunojama zāliena segums
A18: 2 | C18: Ieklāt zālāja segumu 15cm biezumā pievedot auglīgo melnzemes kārtu | D18: m2 | E18: 1646
A19: 3 | C19: Mizas mulčas segums
A20: 4 | C20: Ieklāt triecienu absorbējošu mulčas segumu, h=25cm | D20: m2 | E20: 278.9
A21: 5 | C21: Ieklāt ģeotekstilu nw15 vai ekvivalents | D21: m2 | E21: 278.9
A22: 6 | C22: Apstādījumi
A23: 7 | C23: Norakt grunti teritorijas labiekārtošanas darbiem | D23: m3 | E23: 167.34
A24: 8 | C24: Izvest lieko grunti utilizācijai | D24: m3 | E24: 167.34
A25: 9 | C25: Ieklāt sijātu auglīgās augsnes kārtu 60cm biezumā | D25: m3 | E25: 167.34
A26: 10 | C26: Stādvietas jāpapildina ar priežu mizas mulču 7 cm biezumā (vidēju frakciju fr. 20-40 mm) | D26: m2 | E26: 278.9
A27: 11 | C27: Koka šķeldas segums
A28: 12 | C28: Ieklāt triecienu absorbējošu koka šķeldas segumu, h=25cm | D28: m2 | E28: 238
A29: 13 | C29: Ieklāt ģeotekstilu nw15 vai ekvivalents | D29: m2 | E29: 238
A30: 14 | C30: Augi
A31: 15 | C31: Physocarpus opulifolius ‘Amber Jubilee’ – irbeņlapu fizokarps, C5, izcelsme/audzētājs: kokaudzētava Baltezers vai ekvivalents, pieauguša auga izmērs h 1.5 m, d 1.5 m | D31: gb | E31: 21
A32: 16 | C32: Hydrangea paniculata ‘Bokralame’ – skarainā hortenzija, C5, izcelsme/audzētājs: kokaudzētava Baltezers vai ekvivalents, pieauguša auga izmērs h 1.5 m, d 1.5 m | D32: gb | E32: 71
A33: 17 | C33: Pinus mugo var. pumilio – kalnu priede, augstums 80 cm, 1x pārstādīts, izcelsme/audzētājs: kokaudzētava Buldēni vai ekvivalents, pieauguša auga izmērs h 1.5 m, d 2.5 m | D33: gb | E33: 12
A34: 18 | C34: Miscanthus sinensis ‘Kaskade’ – Ķīnas miskante, izcelsme/audzētājs: stādaudzētava Puķu lauki vai ekvivalents, pieauguša auga izmērs h 1.8 m, d 0.8 m | D34: gb | E34: 173
A35: 19 | C35: Echinacea ‘SunSeekers Yellow’ – ehinācija, izcelsme/audzētājs: stādaudzētava Puķu lauki vai ekvivalents, pieauguša auga izmērs h 0.5–0.7 m, d 0.4 m | D35: gb | E35: 63
A36: 20 | C36: Hemerocallis ‘Happy Returns’ – dienziede, izcelsme/audzētājs: stādaudzētava Puķu lauki vai ekvivalents, pieauguša auga izmērs h 0.5 m, d 0.4 m | D36: gb | E36: 25
A37: 21 | C37: Koka stādam paredzēt ierīkot pārvietojamu laistīšanas sistēmu - laistīšanas maisus ar 50 līdz 70 l ietilpību. | D37: gb | E37: 12
A38: 22 | C38: Nocirst kokus, izraut celmus un izvest utilizācijai | D38: gb | E38: 43
A42: =KT!A23 -> Sastādīja: | D42: =KT!C27 -> 2026. gada 17.aprīlī
A43: (paraksts un tā atšifrējums, datums)
A44: =KT!A25 -> Sertifikāta Nr.:
A46: =KT!A27 -> Pārbaudīja: | D46: =KT!C27 -> 2026. gada 17.aprīlī
A47: (paraksts un tā atšifrējums, datums)
A48: =KT!A29 -> Sertifikāta Nr.:

Sheet 1,13
A2: Būvdarbu apjomu saraksts Nr.1,13
A3: =KA!C27 -> Dažādi darbi - labiekārtojuma elementi
A4: (būvdarbu veids vai konstruktīvā elementa nosaukums)
A6: Objekta nosaukums: | C6: =KT!B9 -> Garkalnes Mākslas un vispārizglītojošās pamatskolas piebūve
A7: Būves nosaukums: | C7: =KT!B10 -> Garkalnes Mākslas un vispārizglītojošā pamatskola
A8: Objekta adrese: | C8: =KT!B11 -> Ropažu novads, Garkalne, Vidzemes šoseja 34, LV-2137
A9: Pasūtījuma nr.: | C9: =KT!B12 -> 3DAD_228_GV34_L
A11: Apjomi sastādīti, pamatojoties uz būvprojekta rasējumiem
A14: Nr.p.k. | B14: Kods | C14: Būvdarbu nosaukums | D14: Mērvienība | E14: Daudzums
A17: 1 | C17: Labiekārtojuma elementu montāža
A18: 2 | C18: Rotāļu laukuma aprīkojums - Robinia RB0700. Vinci play spēļu laukumu aprīkojums. Augstums 450mm, Platums 450mm, Garums 450mm, Vecuma grupa 3+ gadi, Kapacitāte 3 bērni vai ekvivalents | D18: gb | E18: 1
A19: 3 | C19: Rotāļu laukuma aprīkojums - Šūpoles Gelia 8038421. Hags spēļu laukumu aprīkojums. Augstums 2700mm, Platums 2600mm, Garums 3900mm, Vecuma grupa 3+ gadi vai ekvivalents | D19: gb | E19: 1
A20: 4 | C20: Rotāļu laukuma aprīkojums - Robinia RB1369. Vinci play spēļu laukumu aprīkojums. Augstums 470mm, Platums 970mm, Garums 970mm, Vecuma grupa 3+ gadi, Kapacitāte 3 bērni vai ekvivalents | D20: gb | E20: 1
A21: 5 | C21: Rotāļu laukuma aprīkojums - Robinia RB1218. Vinci play spēļu laukumu aprīkojums. Augstums 1900mm, Platums 500mm, Garums 8600mm, Vecuma grupa 3+ gadi, Kapacitāte 16 bērni vai ekvivalents | D21: gb | E21: 1
A22: 6 | C22: Rotāļu laukuma aprīkojums - Robinia RB1370. Vinci play spēļu laukumu aprīkojums. Augstums 860mm, Platums 360mm, Garums 950mm, Vecuma grupa 3+ gadi, Kapacitāte 2 bērni vai ekvivalents | D22: gb | E22: 1
A23: 7 | C23: Rotāļu laukuma aprīkojums - HOOP 0728. Vinci play spēļu laukumu aprīkojums - karuselis, pielāgots bērniem ratiņkrēslā. Augstums 900mm, Platums 2200mm, Garums 2200mm, Vecuma grupa 3–12 gadi, Kapacitāte 6 bērni vai ekvivalents | D23: gb | E23: 1
A24: 8 | C24: Galda tenisa galds - 8002872. Hags sporta aprīkojums. Augstums 850mm, Platums 1600mm, Garums 2750mm vai ekvivalents | D24: gb | E24: 2
A25: 9 | C25: Ugunskurā vieta Jazz d100 - 8919528. Tērauda ugunskura trauks, tonis melns. Augstums 300mm, Diametrs 1000mm vai ekvivalents | D25: gb | E25: 1
A26: 10 | C26: Velosipēdu statīvs - Pico 05.020. U-veida velosipēdu statīvs no nerūsējošā tērauda, ražotājs ZANO. Augstums 830mm, Tērauda caurules diametrs 60mm, Garums 660mm vai ekvivalents | D26: gb | E26: 10
A27: 11 | C27: Atkritumu urna šķirotiem atkritumiem. Cinkota tērauda atkritumu urna ar stikla, plastmasas un sadzīves atkritumu nodalījumiem, tonis RAL 9005, iespēja stiprināt zemē, ietilpība 3 x 75l. Augstums 800mm, Garums 1120mm, Platums 380mm vai ekvivalents | D27: gb | E27: 3
A28: 12 | C28: Soliņi ap ugunskuru Soliņu C01 TS-L-4 | D28: gb | E28: 2
A29: 13 | C29: Soliņi ap ugunskuru Soliņu C02 TS-L-4 | D29: gb | E29: 1
... A53: 37 | C53: Rotaļu laukuma aprīkojums - Soliņš Robinia RB1390; Vinci play spēļu laukumu aprīkojums; Augstums 950 mm; Platums 600 mm; Garums 1500 mm. (vai ekvivalents) | D53: gb. | E53: 6
A57: =KT!A23 -> Sastādīja: | D57: =KT!C27 -> 2026. gada 17.aprīlī
A58: (paraksts un tā atšifrējums, datums)
A59: =KT!A25 -> Sertifikāta Nr.:
A61: =KT!A27 -> Pārbaudīja: | D61: =KT!C27 -> 2026. gada 17.aprīlī
A62: (paraksts un tā atšifrējums, datums)
A63: =KT!A29 -> Sertifikāta Nr.:

Sheet 1,14
A2: Būvdarbu apjomu saraksts Nr.1,14
A3: =KA!C28 -> Dažādi darbi - ēdnīcas aprīkojums
A4: (būvdarbu veids vai konstruktīvā elementa nosaukums)
A6: Objekta nosaukums: | C6: =KT!B9 -> Garkalnes Mākslas un vispārizglītojošās pamatskolas piebūve
A7: Būves nosaukums: | C7: =KT!B10 -> Garkalnes Mākslas un vispārizglītojošā pamatskola
A8: Objekta adrese: | C8: =KT!B11 -> Ropažu novads, Garkalne, Vidzemes šoseja 34, LV-2137
A9: Pasūtījuma nr.: | C9: =KT!B12 -> 3DAD_228_GV34_L
A11: Apjomi sastādīti, pamatojoties uz būvprojekta rasējumiem
A14: Nr.p.k. | B14: Kods | C14: Būvdarbu nosaukums | D14: Mērvienība | E14: Daudzums
A17: 1 | C17: Ēdiena piegādes zonas iekārtu specifikācija
A18: 2 | C18: Nerūsējošā tērauda AISI 304 galds ar padziļinājumu virsmā trauku groziem un apakšējo plauktu, maliņu 130 mm aizmugurē.Galdam ir 1 izlietne 500x400 x250mm kreisajā pusē .Galds savienojas kreisajā pusē ar trauku mašīnu. Galdam ir atbīdītas kājas un plaukts no aizmugures 150 mm. | D18: gb | E18: 1
A19: 3 | C19: Skalošanas duša ar krānu un maisītāju.Elastīga šļūtene , grozāma dažādos virzienos. Duša stiprinās pie galda virsmas ar atsaiti pie sienas. Maisītāja garums vismaz 255 mm . | D19: gb | E19: 1
A20: 4 | C20: Kupola trauku mazgājamā mašīna, grozs 500x500mm, Ūdens patēriņš ciklā – 2 litri. Mazgāšanas cikli: 45/84/150 sek un pašttīrīšanās cikls; boileris – 12 l, tanks 24 litri. Ražība – 1400 šķīvji/h (80 grozi). Pašdiagnostika. Nerūsējošā tērauda konstrukcija , mazgāšanas tvertne ar noapaļotiem stūriem , filtri , mazgāšanas sprauslas no ner. tērauda. Iebūvēts skalošanas līdzekļa dozators, mazgāšanas līdzekļa dozators, noteces sūknis. Komplektā 2 kasetes un groziņš galda piederumu mazgāšanai. | D20: gb | E20: 1
A21: 5 | C21: Nerūsējošā tērauda ventilācijas kape ar labirinta tipa vai cikloniskajiem filtriem, izvada diam. 315 mm, max.gaisa plūsma | D21: gb | E21: 1
A22: 6 | C22: Nerūsējošā tērauda AISI 304 pēcmazgāšanas galds ar padziļinājumu virsmā trauku groziem un apakšējo plauktu, maliņu 130 mm aizmugurē.Galds savienojas labajā pusē ar trauku mašīnu. Galdam ir atbīdītas kājas un plaukts no aizmugures 150 mm. | D22: gb | E22: 1
A23: 7 | C23: Nerūsējošā tērauda AISI 304 sastatne ar 5 plauktiem, metinātas konstrukcijas.Plaukti ar pastiprinājumu. Svara izturība vismaz 120 kg katram plauktam. | D23: gb | E23: 1
A24: 8 | C24: Nerūsējošā tērauda AISI 304 rati ar sliežu virzītājiem 6 trauku groziem 500x500 mm.Attālums starp sliežu virzītājiem 250 mm. Pagriežams sliežu bloķētājs vienā pusē. 4 riteņi, 2 no tiem ar bremzēm. | D24: gb | E24: 1
A25: 9 | C25: Platformas ratiņi FOLD Salokāmi, 300 kg kravnesība, 610x905 mm | D25: gb | E25: 1
A26: 10 | C26: Nerūsējošā tērauda izlietne roku mazgāšanai, stiprināma pie sienas, ar maisītāju un sifonu | D26: gb | E26: 1
A27: 11 | C27: Nerūsējošā tērauda galds ar apakšējo plauktu, maliņu Galdam ir atbīdītas kājas un plaukts no aizmugures 100 mm. | D27: gb | E27: 1
A28: 12 | C28: Marmīts ar tvertni 2 GN 1/1 traukiem ar dziļumu 200mm. Aprīkots ar riteņiem, 2 no tiem ar bremzēm. Termostats, temp. +30-100oC. Komplektā starplika GN 1/1.Ar krānu ūdens noliešanai. | D28: gb | E28: 1
A29: 13 | C29: Nerūsējošā tērauda metinātas konstrukcijas ratiņi ar 2 plauktiem. Kravnesība - vismaz 50 kg uz plauktu. 4 riteņi ar diametri 125 mm, ar plastikāta aizsargiem. 2 riteņi ir aprīkoti ar bremzēm. | D29: gb | E29: 1
... A31: 15 | C31: Krāsota metāla garderobes skapītis 3 personām . Katrs nodalījums ar starpsienu, plauktu cepurēm, ventilācijas atverēm korpusā, slēdzamas durvis, augstumā regulējamu kāju rāmis | D31: gb | E31: 1
A35: =KT!A23 -> Sastādīja: | D35: =KT!C27 -> 2026. gada 17.aprīlī
A36: (paraksts un tā atšifrējums, datums)
A37: =KT!A25 -> Sertifikāta Nr.:
A39: =KT!A27 -> Pārbaudīja: | D39: =KT!C27 -> 2026. gada 17.aprīlī
A40: (paraksts un tā atšifrējums, datums)
A41: =KT!A29 -> Sertifikāta Nr.:

Sheet 2,1
A2: Būvdarbu apjomu saraksts Nr.2,1
A3: =KA!C30 -> Iekšējie elektrotīkli, apgaismojums, spēka pievadi
A4: (būvdarbu veids vai konstruktīvā elementa nosaukums)
A6: Objekta nosaukums: | C6: =KT!B9 -> Garkalnes Mākslas un vispārizglītojošās pamatskolas piebūve
A7: Būves nosaukums: | C7: =KT!B10 -> Garkalnes Mākslas un vispārizglītojošā pamatskola
A8: Objekta adrese: | C8: =KT!B11 -> Ropažu novads, Garkalne, Vidzemes šoseja 34, LV-2137
A9: Pasūtījuma nr.: | C9: =KT!B12 -> 3DAD_228_GV34_L
A11: Apjomi sastādīti, pamatojoties uz būvprojekta rasējumiem
A14: Nr.p.k. | B14: Kods | C14: Būvdarbu nosaukums | D14: Mērvienība | E14: Daudzums
A17: 1 | C17: 1. Elektrosadalnes, komutācijas aparā
A18: 2 | C18: 3polu automātslēdzis ~400V, 160A, NSX250B TM-D, un PowerTag, "Schneider", papildus uzstādīšanai esošas ēkas galvenajā elektrosadalnē vai ekvivalents | D18: gb | E18: 1
A19: 3 | C19: Galvenā elektrosadalne GS, ~400V, IP43, ar montāžas kompl. un vietu rezervi 30%, slēdzama: | D19: kpl | E19: 1
A20: 4 | C20: ievadā: 3polu atvienotājslēdzis ~400V, 250A, INS, "Schneider" vai ekvivalents | D20: gb | E20: 1
A21: 5 | C21: 3polu automātslēdzis ~400V, 100A, NSX100B TM-D, "Schneider" vai ekvivalents | D21: kpl | E21: 1
A22: 6 | C22: pārspriegumu aizsardzība ~400V, 3P+N, I+II klases, PRD1 25r, "Schneider" vai ekvivalents | D22: gb | E22: 1
A23: 7 | C23: līnijās: 3polu automātslēdzis ~400V, C80A, Acti9, "Schneider" vai ekvivalents | D23: gb | E23: 1
A24: 8 | C24: 3pola automātslēdzis ~400V, C63A, Acti9, "Schneider" vai ekvivalents | D24: gb | E24: 2
A25: 9 | C25: 3pola automātslēdzis ~400V, C25A, Acti9, "Schneider" vai ekvivalents | D25: gb | E25: 14
A26: 10 | C26: 3pola automātslēdzis ~400V, C16A, Acti9, "Schneider" vai ekvivalents | D26: gb | E26: 4
A27: 11 | C27: 1pola automātslēdzis ~230V, C16A, Acti9, "Schneider" vai ekvivalents | D27: gb | E27: 1
A28: 12 | C28: 4polu kontaktors Inom=63A, ~400V, Uc=230V AC, iCT, "Schneider" vai ekvivalents | D28: gb | E28: 1
A29: 13 | C29: 4polu kontaktors Inom=25A, ~400V, Uc=230V AC, iCT, "Schneider" vai ekvivalents | D29: gb | E29: 3
... A72: 56 | C72: 4polu automātslēdzis ar diferenciālu aizsardzību ΔI=30mA, C16A, Acti9 iC60, AC tips, "Schneider" vai ekvivalents | D72: gb | E72: 4
A73: 57 | C73: 2polu automātslēdzis ar diferenciālu aizsardzību ΔI=30mA, C16A, Acti9 iDPN N Vigi, AC tips, "Schneider" vai ekvivalents | D73: gb | E73: 11
A74: 58 | C74: 1pola automātslēdzis ~230V, C16A, Acti9, "Schneider" vai ekvivalents | D74: gb | E74: 1
A75: 59 | C75: 1pola automātslēdzis ~230V, C10A, Acti9, "Schneider" vai ekvivalents | D75: gb | E75: 7
A76: 60 | C76: 2polu kontaktors Inom=25A, ~400V, Uc=230V AC, iCT, "Schneider" vai ekvivalents | D76: gb | E76: 1
A77: 61 | C77: 4polu kontaktors Inom=40A, ~400V, Uc=230V AC, iCT, "Schneider" vai ekvivalents | D77: gb | E77: 1
A78: 62 | C78: 2. stāva grupu elektrosadalne 2ES1, ~400V, IP43, ar montāžas kompl. un vietu rezervi 30%: | D78: kpl | E78: 1
A79: 63 | C79: ievadā: 3polu atvienotājslēdzis ~400V, 40A, iSW, "Schneider" vai ekvivalents | D79: gb | E79: 1
A80: 64 | C80: līnijās: 2polu automātslēdzis ar diferenciālu aizsardzību ΔI=30mA, C16A, Acti9 iDPN N Vigi, AC tips, "Schneider" vai ekvivalents | D80: gb | E80: 5
A81: 65 | C81: 2polu automātslēdzis ar diferenciālu aizsardzību ΔI=30mA, C10A, Ac>9 iDPN N Vigi, AC >ps, "Schneider" vai ekvivalents | D81: gb | E81: 3
A82: 66 | C82: 1pola automātslēdzis ~230V, C10A, Acti9, "Schneider" vai ekvivalents | D82: gb | E82: 2
A83: 67 | C83: 1pola automātslēdzis ~230V, C6A, Acti9, "Schneider" vai ekvivalents | D83: gb | E83: 2
A84: 68 | C84: 2polu kontaktors Inom=25A, ~400V, Uc=230V AC, iCT, "Schneider" vai ekvivalents | D84: gb | E84: 1
A85: 69 | C85: 2. stāva grupu elektrosadalne 2ES2, ~400V, IP43, ar montāžas kompl. un vietu rezervi 30%: | D85: kpl | E85: 1
A86: 70 | C86: ievadā: 3polu atvienotājslēdzis ~400V, 40A, iSW, "Schneider" vai ekvivalents | D86: gb | E86: 1
A87: 71 | C87: līnijās: 2polu automātslēdzis ar diferenciālu aizsardzību ΔI=30mA, C16A, Acti9 iDPN N Vigi, AC tips, "Schneider" vai ekvivalents | D87: gb | E87: 10
A88: 72 | C88: līnijās: 2polu automātslēdzis ar diferenciālu aizsardzību ΔI=30mA, C10A, Ac>9 iDPN N Vigi, AC >ps, "Schneider" vai ekvivalents | D88: gb | E88: 4
A89: 73 | C89: 1pola automātslēdzis ~230V, C10A, Acti9, "Schneider" vai ekvivalents | D89: gb | E89: 2
A90: 74 | C90: 2. stāva grupu elektrosadalne 2ES3, ~400V, IP43, ar montāžas kompl. un vietu rezervi 30%: | D90: kpl | E90: 1
A91: 75 | C91: ievadā: 3polu atvienotājslēdzis ~400V, 40A, iSW, "Schneider" vai ekvivalents | D91: gb | E91: 1
A92: 76 | C92: līnijās: 2polu automātslēdzis ar diferenciālu aizsardzību ΔI=30mA, C16A, Acti9 iDPN N Vigi, AC tips, "Schneider" vai ekvivalents | D92: gb | E92: 4
A93: 77 | C93: 2polu automātslēdzis ar diferenciālu aizsardzību ΔI=30mA, C10A, Ac>9 iDPN N Vigi, AC >ps, "Schneider" vai ekvivalents | D93: gb | E93: 3
A94: 78 | C94: 1pola automātslēdzis ~230V, C10A, Acti9, "Schneider" vai ekvivalents | D94: gb | E94: 1
A95: 79 | C95: 1pola automātslēdzis ~230V, C6A, Ac>9, "Schneider" vai ekvivalents | D95: gb | E95: 1
A96: 80 | C96: 2polu kontaktors Inom=25A, ~400V, Uc=230V AC, iCT, "Schneider" vai ekvivalents | D96: gb | E96: 1
A97: 81 | C97: 3. stāva grupu elektrosadalne 3ES1, ~400V, IP43, ar montāžas kompl. un vietu rezervi 30%: | D97: kpl | E97: 1
A98: 82 | C98: ievadā: 3polu atvienotājslēdzis ~400V, 40A, iSW, "Schneider" vai ekvivalents | D98: gb | E98: 1
A99: 83 | C99: līnijās: 2polu automātslēdzis ar diferenciālu aizsardzību ΔI=30mA, C16A, Acti9 iDPN N Vigi, AC tips, "Schneider" vai ekvivalents | D99: gb | E99: 11
A100: 84 | C100: 1pola automātslēdzis ~230V, C10A, Acti9, "Schneider" vai ekvivalents | D100: gb | E100: 8
A101: 85 | C101: 1pola automātslēdzis ~230V, C6A, Acti9, "Schneider" vai ekvivalents | D101: gb | E101: 2
A102: 86 | C102: 2polu kontaktors Inom=25A, ~400V, Uc=230V AC, iCT, "Schneider" vai ekvivalents | D102: gb | E102: 1
A103: 87 | C103: 3. stāva grupu elektrosadalne 3ES2, ~400V, IP43, ar montāžas kompl. un vietu rezervi 30%: | D103: kpl | E103: 1
A104: 88 | C104: ievadā: 3polu atvienotājslēdzis ~400V, 40A, iSW, "Schneider" vai ekvivalents | D104: gb | E104: 1
A105: 89 | C105: līnijās: 2polu automātslēdzis ar diferenciālu aizsardzību ΔI=30mA, C16A, Acti9 iDPN N Vigi, AC tips, "Schneider" vai ekvivalents | D105: gb | E105: 4
A106: 90 | C106: 1pola automātslēdzis ~230V, C16A, Acti9, "Schneider" vai ekvivalents | D106: gb | E106: 2
A107: 91 | C107: 1pola automātslēdzis ~230V, C10A, Acti9, "Schneider" vai ekvivalents | D107: gb | E107: 4
A108: 92 | C108: 3. stāva grupu elektrosadalne 3ES3, ~400V, IP43, ar montāžas kompl. un vietu rezervi 30%: | D108: kpl | E108: 1
... A130: 114 | C130: Ugunsdzēsības sistēmas vadības sadalne UGVS, IP44, ~230V, ar automātikas komplektu | D130: kpl | E130: 1
A131: 115 | C131: 2. Apgaismojuma, kontaktligzdu sistēmu elektroiekārtas
A132: 116 | C132: Gaismeklis ar gaismas diodēm kompl. ar barošanas bloku ~230V 13W, iebūv., IP44/IP20, 1400lm, 4000°K, Ø170mm, 2325 G3 C05 OA LED 20/14/08/ML-8MC ET, art.7791140, "Trilux" vai ekviv. | D132: gb | E132: 99
A133: 117 | C133: Gaismeklis ar gaismas diodēm kompl. ar barošanas bloku ~230V 29W, griestu, IP20, 3981lm, 4000°K, 1414x36x63mm, ESSENCE LED 5500 PLX E 21 840 / L-1414MM, art.19.3081.0014.21, "Luxiona" vai ekviv. | D133: gb | E133: 72
A134: 118 | C134: Gaismeklis ar gaismas diodēm kompl. ar barošanas bloku ~230V 21W, iebūv., IP40/IP20, 3510lm, 4000°K, 595x595x32mm, UGR<19, PL FLEX 600 S 30W 840 U19 PS, art.4099854276507, "Ledvance" vai ekviv. | D134: gb | E134: 149
A135: 119 | C135: Gaismeklis ar gaismas diodēm kompl. ar barošanas bloku ~230V 17W, iebūv., IP40/IP20, 2880lm, 4000°K, 595x595x32mm, UGR<19, PL FLEX 600 S 30W 840 U19 PS, art.4099854276507, "Ledvance" vai ekviv. | D135: gb | E135: 8
A136: 120 | C136: Gaismeklis ar gaismas diodēm kompl. ar barošanas bloku ~230V 24.7W, griestu, IP20, 3644lm, 4000°K, 1193x80x40mm, ARUNA SLIM SURFACE LED 4400 OPTICS-1L, art.19.4407.1221.34, "Luxiona" vai ekviv. | D136: gb | E136: 12
A137: 121 | C137: Gaismeklis ar gaismas diodēm kompl. ar barošanas bloku ~230V 34.9W, piekārts, IP20, 4000lm, 4000°K, Ø850x87mm, Rotao100, art.127-580K-10GEE/840 | D137: gb | E137: 3
A138: 122 | C138: Gaismeklis ar gaismas diodēm kompl. ar barošanas bloku ~230V 46.6W, piekārts, IP20, 5330lm, 4000°K, Ø1200x87mm, Rotao100, art.127-5B0K-10GEE/840, "Halla" vai ekviv. | D138: gb | E138: 2
A139: 123 | C139: Gaismeklis ar gaismas diodēm kompl. ar barošanas bloku ~230V 22.5W, griestu, IP20, 2865lm, 4000°K, Ø185x156mm, BERYL SURFACE NEW LED O-2 3600 MICRO-PRM, art.19.4041.5221.34, "Luxiona" vai ekv. vai ekvivalents | D139: gb | E139: 8
A140: 124 | C140: Gaismeklis ar gaismas diodēm kompl. ar barošanas bloku ~230V 31W, piekārts, IP40, 4090lm, 4000°K, 1412x57x67 mm, Lina60, art. 04-500K-25GGE-840, "Halla" vai ekviv. | D140: gb | E140: 8
A141: 125 | C141: Gaismeklis ar gaismas diodēm kompl. ar barošanas bloku ~230V 19W, griestu, IP65, 2000lm, 4000°K, Ø300x85mm, 2345 G2 WD1 20/14/10/ML-8MC ET, art.7790640, "Trilux" vai ekviv. | D141: gb | E141: 30
A142: 126 | C142: Gaismeklis ar gaismas diodēm kompl. ar barošanas bloku ~230V 45.9W, piekārts, IP20, 5360lm, 4000°K, 1140x65mm, Rotao60, art.227-2B0K-10GEE/840, "Halla" vai ekviv. | D142: gb | E142: 3
A143: 127 | C143: Gaismeklis ar gaismas diodēm kompl. ar barošanas bloku ~230V 39.3W, piekārts, IP20, 3949lm, 4000°K, Ø300mm, 50826.3 K4, "Bega" vai ekviv. | D143: gb | E143: 15
A144: 128 | C144: Gaismeklis ar gaismas diodēm kompl. ar barošanas bloku ~230V 13.3W, griestu, IP20, 2065lm, 4000°K, 572x92x86mm, ONLINE LED 2600 PLX E 34 840, art.19.3090.0002.34, "Luxiona" vai ekviv. | D144: gb | E144: 4
A145: 129 | C145: Gaismeklis ar gaismas diodēm kompl. ar barošanas bloku ~230V 94.9W, piekārts, IP20, 11100lm, 4000°K, Ø1150x87mm, Rundo87, art.190-2A0I-10GED/840, "Halla" vai ekviv. | D145: gb | E145: 15
A146: 130 | C146: Gaismeklis ar gaismas diodēm kompl. ar barošanas bloku ~230V 57W, griestu, IP20, 6649lm, 4000°K, 1193x80x40mm, ARUNA SLIM SURFACE LED 8000 OPTICS-1L E 34, art.19.4407.1321.34, "Luxiona" vai ekv. vai ekvivalents | D146: gb | E146: 16
A147: 131 | C147: Gaismeklis ar gaismas diodēm kompl. ar barošanas bloku ~230V 19.7W, griestu, IP65, 1797lm, 4000°K, 130x130x100mm, 50168.1 K4, "Bega" vai ekviv. | D147: gb | E147: 3
A148: 132 | C148: Gaismeklis ar gaismas diodēm kompl. ar barošanas bloku ~230V 19W, iebūv., IP44, 2000lm, 4000°K, Ø230x43mm, 2325 G3 C07 OA LED 18/14/10/ML-8MC ET, art.7791240, "Trilux" vai ekviv. | D148: gb | E148: 12
A149: 133 | C149: Gaismeklis ar gaismas diodēm kompl. ar barošanas bloku ~230V 33W, griestu, IP66, 3960lm, 4000°K, 1285x53x60mm, DP COMP TH 1200 V 33W 840 IP66 PS, art.4058075740914, "Ledvance" vai ekviv. | D149: gb | E149: 26
A150: 134 | C150: Gaismeklis ar gaismas diodēm kompl. ar barošanas bloku ~230V 42.4W, piekārts, IP20, 4890lm, 4000°K, Ø800x65mm, Rotao60, art. 227-280K-10GGE/840, "Halla" vai ekviv. | D150: gb | E150: 14
A151: 135 | C151: Gaismeklis ar gaismas diodēm kompl. ar barošanas bloku ~230V 0.9/3.0W, griestu, IP20, >350cd/m², ar akumulatoru 3h darbībai, TM.ONTEC G E1E 180 M AT, art.TM-OG.EEATM800W, "TM Technologie" vai ekviv. | D151: gb | E151: 37
A152: 136 | C152: Gaismeklis ar gaismas diodēm kompl. ar barošanas bloku ~230V 3.8W, sienas, IP65, redzamība 20m, ar akumulatoru 3h darbībai, TM.ONTEC S20 M1X 60/180 M/NM AT, art.TM-S2.MXATX060W, "TM Technologie" vai ekviv. | D152: gb | E152: 2
A153: 137 | C153: Gaismeklis ar gaismas diodēm kompl. ar barošanas bloku ~230V 1.7/2W, griestu/iebūv., IP20, 135lm, ar akumul. 3h darbībai, TM.ONTEC R C1U 301 NM ST, art. TM-OR.CUSTN300W, "TM Technologie" vai ekviv. | D153: gb | E153: 28
A154: 138 | C154: Gaismeklis ar gaismas diodēm kompl. ar barošanas bloku ~230V 2/7.2W, griestu/iebūv., IP20, 288lm, ar akumul. 3h darbībai, TM.ONTEC R M2 302 M AT, art. TM-OR.M2ATM300W, "TM Technologie" vai ekviv. | D154: gb | E154: 46
A155: 139 | C155: Gaismeklis ar gaismas diodēm kompl. ar barošanas bloku ~230V 1.2/2W, griestu/iebūv., IP65, 389lm, ar akumul. 1h darbībai, ITECH M1 60 NM AT, art. TM-IT.M1ATN660W, "TM Technologie" vai ekviv. | D155: gb | E155: 22
A156: 140 | C156: Gaismeklis ar gaismas diodēm kompl. ar barošanas bloku ~230V 13.2W, iebūv., IP65, 1701lm, 3000°K, Ø220mm, 24904 K3, "Bega" vai ekviv. | D156: gb | E156: 23
A157: 141 | C157: Gaismeklis ar gaismas diodēm kompl. ar barošanas bloku ~230V 5W, sienas, IP65, 485lm, 3000°K, 160x80x105mm, 24727 K3, "Bega" vai ekviv. | D157: gb | E157: 16
A158: 142 | C158: Apgaismojuma slēdzis ~230V, 10A, z/a | D158: gb | E158: 31
A159: 143 | C159: Apgaismojuma dubultslēdzis ~230V, 10A, z/a | D159: gb | E159: 25
A160: 144 | C160: Apgaismojuma hermētisks slēdzis ~230V, 10A, IP44 | D160: gb | E160: 6
A161: 145 | C161: Apgaismojuma hermē>sks pārslēdzis ~230V, 10A, IP44 | D161: gb | E161: 4
A162: 146 | C162: Apgaismojuma pārslēdzis ~230V, 10A, z/a | D162: gb | E162: 18
A163: 147 | C163: Apgaismojuma impulsa slēdzis (tasters) ~230V, 10A, z/a | D163: gb | E163: 12
A164: 148 | C164: Apgaismojuma dimmers DALI, z/a | D164: gb | E164: 12
A165: 149 | C165: Apgaismojuma kustības devējs 360°, IP65, ar laika aizturi līdz 10 min, griestu montāžai | D165: gb | E165: 68
A166: 150 | C166: Divpolu kontaktligzda ar zemēšanas kontaktu ~230V, 16A, z/a | D166: gb | E166: 214
A167: 151 | C167: Divpolu kontaktligzda ar zemēšanas kontaktu, ar bērnu aizsardzību, ~230V, 16A, z/a | D167: gb | E167: 46
A168: 152 | C168: Divpolu kontaktligzda ar zemēšanas kontaktu ~230V, 16A, v/a (griestu kārbā) | D168: gb | E168: 6
A169: 153 | C169: Divpolu kontaktligzda ar zemēšanas kontaktu ~230V, 16A, montāžai grīdas kārbā | D169: gb | E169: 60
A170: 154 | C170: Divpolu hermētiskā kontaktligzda ar zemēšanas kontaktu ~230V, 16A, IP44, v/a | D170: gb | E170: 51
...

Sheet 2,2
A2: Būvdarbu apjomu saraksts Nr.2,2
A3: =KA!C31 -> Iekšējās apkures sistēmas
A4: (būvdarbu veids vai konstruktīvā elementa nosaukums)
A6: Objekta nosaukums: | C6: =KT!B9 -> Garkalnes Mākslas un vispārizglītojošās pamatskolas piebūve
A7: Būves nosaukums: | C7: =KT!B10 -> Garkalnes Mākslas un vispārizglītojošā pamatskola
A8: Objekta adrese: | C8: =KT!B11 -> Ropažu novads, Garkalne, Vidzemes šoseja 34, LV-2137
A9: Pasūtījuma nr.: | C9: =KT!B12 -> 3DAD_228_GV34_L
A11: Apjomi sastādīti, pamatojoties uz būvprojekta rasējumiem
A14: Nr.p.k. | B14: Kods | C14: Būvdarbu nosaukums | D14: Mērvienība | E14: Daudzums
A17: 1 | C17: Apkure
A18: 2 | C18: Presētās tērauda caurules 15 KAN-therm vai ekvivalents | D18: m | E18: 750
A19: 3 | C19: Presētās tērauda caurules 20 KAN-therm vai ekvivalents | D19: m | E19: 150
A20: 4 | C20: Presētās tērauda caurules 25 KAN-therm vai ekvivalents | D20: m | E20: 80
A21: 5 | C21: Presētās tērauda caurules 32 KAN-therm vai ekvivalents | D21: m | E21: 30
A22: 6 | C22: Presētās tērauda caurules 40 KAN-therm vai ekvivalents | D22: m | E22: 35
A23: 7 | C23: Presētās tērauda caurules 50 KAN-therm vai ekvivalents | D23: m | E23: 20
A24: 8 | C24: Presēta tērauda līkums 90° 15 KAN-therm vai ekvivalents | D24: gb | E24: 427
A25: 9 | C25: Presēta tērauda līkums 90° 20 KAN-therm vai ekvivalents | D25: gb | E25: 23
A26: 10 | C26: Presēta tērauda līkums 90° 25 KAN-therm vai ekvivalents | D26: gb | E26: 6
A27: 11 | C27: Presēta tērauda līkums 90° 32 KAN-therm vai ekvivalents | D27: gb | E27: 3
A28: 12 | C28: Presēta tērauda līkums 90° 50 KAN-therm vai ekvivalents | D28: gb | E28: 2
A29: 13 | C29: Presēta tērauda T-gabals 90° 15/15 KAN-therm vai ekvivalents | D29: gb | E29: 118
A30: 14 | C30: Presēta tērauda T-gabals 90° 15/15/20 KAN-therm vai ekvivalents | D30: gb | E30: 2
A31: 15 | C31: Presēta tērauda T-gabals 90° 20/20/15 KAN-therm vai ekvivalents | D31: gb | E31: 18
A32: 16 | C32: Presēta tērauda T-gabals 90° 20/20 KAN-therm vai ekvivalents | D32: gb | E32: 6
A33: 17 | C33: Presēta tērauda T-gabals 90° 25/25/15 KAN-therm vai ekvivalents | D33: gb | E33: 8
A34: 18 | C34: Presēta tērauda T-gabals 90° 25/25/20 KAN-therm vai ekvivalents | D34: gb | E34: 2
A35: 19 | C35: Presēta tērauda T-gabals 90° 32/32/15 KAN-therm vai ekvivalents | D35: gb | E35: 2
A36: 20 | C36: Presēta tērauda T-gabals 90° 32/32/25 KAN-therm vai ekvivalents | D36: gb | E36: 2
A37: 21 | C37: Presēta tērauda T-gabals 90° 32/32 KAN-therm vai ekvivalents | D37: gb | E37: 2
A38: 22 | C38: Presēta tērauda T-gabals 90° 40/40/15 KAN-therm vai ekvivalents | D38: gb | E38: 4
A39: 23 | C39: Presēta tērauda T-gabals 90° 40/40/20 KAN-therm vai ekvivalents | D39: gb | E39: 2
A40: 24 | C40: Presēta tērauda T-gabals 90° 50/50/40 KAN-therm vai ekvivalents | D40: gb | E40: 2
A41: 25 | C41: Presēta tērauda T-gabals 90° 50/50 KAN-therm vai ekvivalents | D41: gb | E41: 2
A42: 26 | C42: Presēta tērauda X-gabals 90° 15/15 KAN-therm vai ekvivalents | D42: gb | E42: 2
A43: 27 | C43: Presēta tērauda pāreja 18x15/18x15 KAN-therm vai ekvivalents | D43: gb | E43: 4
A44: 28 | C44: Presēta tērauda pāreja 20/15 KAN-therm vai ekvivalents | D44: gb | E44: 14
A45: 29 | C45: Presēta tērauda pāreja 25/20 KAN-therm vai ekvivalents | D45: gb | E45: 6
A46: 30 | C46: Presēta tērauda pāreja 32/15 KAN-therm vai ekvivalents | D46: gb | E46: 2
A47: 31 | C47: Presēta tērauda pāreja 32/25 KAN-therm vai ekvivalents | D47: gb | E47: 4
A48: 32 | C48: Presēta tērauda pāreja 40/32 KAN-therm vai ekvivalents | D48: gb | E48: 2
A49: 33 | C49: Presēta tērauda pāreja 50/15 KAN-therm vai ekvivalents | D49: gb | E49: 2
A50: 34 | C50: Presēta tērauda pāreja 50/32 KAN-therm vai ekvivalents | D50: gb | E50: 2
A51: 35 | C51: Tērauda grīdas konvektors Aquilo FMS 25-2400-19 vai ekvivalents | D51: kpl | E51: 5
A52: 36 | C52: Tērauda apkures radiatori ar sānu pieslēgumu C33-500-1000 PURMO Compact vai ekvivalents | D52: kpl | E52: 2
A53: 37 | C53: Tērauda apkures radiatori ar sānu pieslēgumu C33-500-1200 PURMO Compact vai ekvivalents | D53: kpl | E53: 7
A54: 38 | C54: Tērauda apkures radiatori ar sānu pieslēgumu C33-500-1400 PURMO Compact vai ekvivalents | D54: kpl | E54: 8
A55: 39 | C55: Tērauda apkures radiatori ar sānu pieslēgumu C33-500-1600 PURMO Compact vai ekvivalents | D55: kpl | E55: 4
A56: 40 | C56: Tērauda apkures radiatori ar sānu pieslēgumu C33-900-1400 PURMO Compact vai ekvivalents | D56: kpl | E56: 6
A57: 41 | C57: Tērauda apkures dvieļu žāvētājs | D57: kpl | E57: 15
A58: 42 | C58: Tērauda apkures radiatori ar sānu pieslēgumu C11-500-1000 PURMO Compact vai ekvivalents | D58: kpl | E58: 5
A59: 43 | C59: Tērauda apkures radiatori ar sānu pieslēgumu C11-500-1100 PURMO Compact vai ekvivalents | D59: kpl | E59: 4
A60: 44 | C60: Tērauda apkures radiatori ar sānu pieslēgumu C11-500-1200 PURMO Compact vai ekvivalents | D60: kpl | E60: 3
A61: 45 | C61: Tērauda apkures radiatori ar sānu pieslēgumu C11-500-1400 PURMO Compact vai ekvivalents | D61: kpl | E61: 5
A62: 46 | C62: Tērauda apkures radiatori ar sānu pieslēgumu C11-500-400 PURMO Compact vai ekvivalents | D62: kpl | E62: 3
A63: 47 | C63: Tērauda apkures radiatori ar sānu pieslēgumu C11-500-600 PURMO Compact vai ekvivalents | D63: kpl | E63: 1
A64: 48 | C64: Tērauda apkures radiatori ar sānu pieslēgumu C11-500-800 PURMO Compact vai ekvivalents | D64: kpl | E64: 5
A65: 49 | C65: Tērauda apkures radiatori ar sānu pieslēgumu C11-500-900 PURMO Compact vai ekvivalents | D65: kpl | E65: 1
A66: 50 | C66: Tērauda apkures radiatori ar sānu pieslēgumu C22-500-1100 PURMO Compact vai ekvivalents | D66: kpl | E66: 4
A67: 51 | C67: Tērauda apkures radiatori ar sānu pieslēgumu C22-500-1200 PURMO Compact vai ekvivalents | D67: kpl | E67: 6
A68: 52 | C68: Tērauda apkures radiatori ar sānu pieslēgumu C22-500-1400 PURMO Compact vai ekvivalents | D68: kpl | E68: 6
A69: 53 | C69: Tērauda apkures radiatori ar sānu pieslēgumu C22-500-900 PURMO Compact vai ekvivalents | D69: kpl | E69: 4
A70: 54 | C70: Termostatiskais radiatora vārsts ar spiediena starpības regulatoru , 15 Fe | D70: kpl | E70: 94
A71: 55 | C71: Atgaitas vārsts 15 Fe | D71: gb | E71: 94
A72: 56 | C72: Lodveida ventilis t=110˚; P=8 bar 15 Fe | D72: gb | E72: 74
A73: 57 | C73: Lodveida ventilis t=110˚; P=8 bar 20 Fe | D73: gb | E73: 4
A74: 58 | C74: Lodveida ventilis t=110˚; P=8 bar 25 Fe | D74: gb | E74: 2
A75: 59 | C75: Lodveida ventilis t=110˚; P=8 bar 32 Fe | D75: gb | E75: 2
A76: 60 | C76: Lodveida ventilis t=110˚; P=8 bar 50 Fe | D76: gb | E76: 2
A77: 61 | C77: Izlaides ventilis 15 Fe | D77: gb | E77: 10
A78: 62 | C78: Akmensvates izolācijas čaula, ar alum. atstarojošo slāni; b=30mm 18/30 λ30≤0,037 W/mK | D78: m | E78: 210
A79: 63 | C79: Akmensvates izolācijas čaula, ar alum. atstarojošo slāni; b=30mm 22/30 λ30≤0,037 W/mK | D79: m | E79: 120
A80: 64 | C80: Akmensvates izolācijas čaula, ar alum. atstarojošo slāni; b=30mm 28/30 λ30≤0,037 W/mK | D80: m | E80: 90
A81: 65 | C81: Akmensvates izolācijas čaula, ar alum. atstarojošo slāni; b=30mm 35/30 λ30≤0,037 W/mK | D81: m | E81: 40
A82: 66 | C82: Akmensvates izolācijas čaula, ar alum. atstarojošo slāni; b=30mm 42/30 λ30≤0,037 W/mK | D82: m | E82: 40
A83: 67 | C83: Akmensvates izolācijas čaula, ar alum. atstarojošo slāni; b=30mm 54/30 λ30≤0,037 W/mK | D83: m | E83: 20
A84: 68 | C84: PVC pārklājumu guļvadiem | D84: kpl | E84: 1
A85: 69 | C85: Nekustīgie balsti | D85: kpl | E85: 1
A86: 70 | C86: Stiprinājumi un palīgmateriāli | D86: kpl | E86: 1
... A95: 79 | C95: Gaisa aizkars elektrisks SIFEC15E12-H vai ekvivalents | D95: kpl | E95: 1
A96: 80 | C96: Siltummezgls
A97: 81 | C97: Presētās tērauda caurules ar siltumizolācijas čaulāmλ50≤0,037 W/mK 20 Fe | D97: m | E97: 5
A98: 82 | C98: Presētās tērauda caurules ar siltumizolācijas čaulāmλ50≤0,037 W/mK 32 Fe | D98: m | E98: 5
A99: 83 | C99: Presētās tērauda caurules ar siltumizolācijas čaulāmλ50≤0,037 W/mK 40 Fe | D99: m | E99: 5
A100: 84 | C100: Presētās tērauda caurules ar siltumizolācijas čaulāmλ50≤0,037 W/mK 50 Fe | D100: m | E100: 60
A101: 85 | C101: Cauruļu veidgabali Fe | D101: kpl | E101: 1
A102: 86 | C102: Lodveida ventilis t=110˚; P=8 bar 15 | D102: gb | E102: 12
A103: 87 | C103: Lodveida ventilis t=110˚; P=8 bar 32 Fe | D103: gb | E103: 2
A104: 88 | C104: Lodveida ventilis t=110˚; P=8 bar 40 Fe | D104: gb | E104: 2
A105: 89 | C105: Lodveida ventilis t=110˚; P=9 bar 50 Fe | D105: gb | E105: 2
A106: 90 | C106: Divgaitas vārsts karstam ūdenim ar vadību VM 2 PN25 20/4, AMV 30 | D106: kpl | E106: 1
A107: 91 | C107: Divgaitas vārsts apkurei ar vadību VM 2 PN25 25/6.3 AMV 10 | D107: kpl | E107: 1
A108: 92 | C108: Vienvirziena vārsts 32 | D108: gb | E108: 1
... A136: 120 | C136: Pieslēguma kontūrs katlu mājā, ieskaitot cirkulācijas sūkni (Stratos MAXO 25/0,5-6 PN10)* vai ekvivalents | D136: kpl | E136: 1
A140: =KT!A23 -> Sastādīja: | D140: =KT!C27 -> 2026. gada 17.aprīlī
A141: (paraksts un tā atšifrējums, datums)
A142: =KT!A25 -> Sertifikāta Nr.:
A144: =KT!A27 -> Pārbaudīja: | D144: =KT!C27 -> 2026. gada 17.aprīlī
A145: (paraksts un tā atšifrējums, datums)
A146: =KT!A29 -> Sertifikāta Nr.:

Sheet 2,3
A2: Būvdarbu apjomu saraksts Nr.2,3
A3: =KA!C32 -> Vēdināšana, gaisa kondicionēšana
A4: (būvdarbu veids vai konstruktīvā elementa nosaukums)
A6: Objekta nosaukums: | C6: =KT!B9 -> Garkalnes Mākslas un vispārizglītojošās pamatskolas piebūve
A7: Būves nosaukums: | C7: =KT!B10 -> Garkalnes Mākslas un vispārizglītojošā pamatskola
A8: Objekta adrese: | C8: =KT!B11 -> Ropažu novads, Garkalne, Vidzemes šoseja 34, LV-2137
A9: Pasūtījuma nr.: | C9: =KT!B12 -> 3DAD_228_GV34_L
A11: Apjomi sastādīti, pamatojoties uz būvprojekta rasējumiem
A14: Nr.p.k. | B14: Kods | C14: Būvdarbu nosaukums | D14: Mērvienība | E14: Daudzums
A17: 1 | C17: Ventilācija
A18: 2 | C18: GAISA APSTRĀDES IEKĀRTA ZĀLEI VVS100c-R-FRVHH/VVS100c-L FRV_cd VVS100c-R-FRVHH/VVS100c-L vai ekvivalents | D18: kpl | E18: 1
A19: 3 | C19: GAISA APSTRĀDES IEKĀRTA SKOLAI VVS100c-R-FRVH/VVS100c-L-FRV_cd VVS100c-R-FRVH/VVS100c-L-FRV_cd vai ekvivalents | D19: kpl | E19: 1
A20: 4 | C20: GAISA APSTRĀDES IEKĀRTA ĒDAMZONAI VVS030s-R-FPVH/VVS030s-L-FPV_cd VVS030s-R-FPVH/VVS030s-L-FPV_cd vai ekvivalents | D20: kpl | E20: 1
A21: 5 | C21: Antivibrācijas rāmis | D21: kpl | E21: 2
A22: 6 | C22: Vadības bloks | D22: kpl | E22: 3
A23: 7 | C23: Elektrokomutācijas kabeļi | D23: kpl | E23: 3
A24: 8 | C24: Nosūces ventilators PRIO160EC vai ekvivalents | D24: kpl | E24: 5
A25: 9 | C25: Nosūces ventilators PRIO 200EC vai ekvivalents | D25: kpl | E25: 3
A26: 10 | C26: Nosūces ventilators STEM KLASE vai ekvivalents | D26: kpl | E26: 1
A27: 11 | C27: Nosūces ventilators STEM KLASE vai ekvivalents | D27: kpl | E27: 1
A28: 12 | C28: Trokšņu slāpētājs 1m 1400x600 | D28: kpl | E28: 2
A29: 13 | C29: Trokšņu slāpētājs 1m 250 | D29: kpl | E29: 1
A30: 14 | C30: Trokšņu slāpētājs 1m 800 | D30: kpl | E30: 3
A31: 15 | C31: Pieplūdes gaisa difuzors 100 | D31: kpl | E31: 8
A32: 16 | C32: Pieplūdes gaisa difuzors 125 | D32: kpl | E32: 15
A33: 17 | C33: Pieplūdes gaisa difuzors 160 | D33: kpl | E33: 33
A34: 18 | C34: Pieplūdes gaisa difuzors 200 | D34: kpl | E34: 5
A35: 19 | C35: Pieplūdes gaisa difuzors SI-200-100+TG-200-100-B | D35: kpl | E35: 10
A36: 20 | C36: Pieplūdes gaisa difuzors SI-300-150+TG-300-150-B | D36: kpl | E36: 21
A37: 21 | C37: Nosūces gaisa difuzors KSO-100 vai ekvivalents | D37: kpl | E37: 36
A38: 22 | C38: Nosūces gaisa difuzors KSO-125 vai ekvivalents | D38: kpl | E38: 1
A39: 23 | C39: Nosūces gaisa difuzors KSO-160 vai ekvivalents | D39: kpl | E39: 5
A40: 24 | C40: Nosūces gaisa difuzors KSO-200 vai ekvivalents | D40: kpl | E40: 1
A41: 25 | C41: Nosūces gaisa reste 300x150 | D41: kpl | E41: 2
A42: 26 | C42: Nosūces gaisa reste 300x200 | D42: kpl | E42: 7
A43: 27 | C43: Nosūces gaisa reste 400x200 | D43: kpl | E43: 2
A44: 28 | C44: Nosūces gaisa reste 600x200 | D44: kpl | E44: 5
A45: 29 | C45: Jumtiņš gaisa izmešanai 125 | D45: kpl | E45: 1
A46: 30 | C46: Jumtiņš gaisa izmešanai 200 | D46: kpl | E46: 7
A47: 31 | C47: Jumtiņš gaisa izmešanai 250 | D47: kpl | E47: 2
A48: 32 | C48: Jumtiņš gaisa izmešanai 500 | D48: kpl | E48: 1
A49: 33 | C49: Jumtiņš gaisa izmešanai 800 | D49: kpl | E49: 2
... A51: 35 | C51: Pretlietus žalūziju reste svaigā gaisa ieņemšanai RIS-1500x900 | D51: kpl | E51: 2
A52: 36 | C52: Droseļvārsts 100 | D52: gb | E52: 32
A53: 37 | C53: Droseļvārsts 125 | D53: gb | E53: 15
A54: 38 | C54: Droseļvārsts 160 | D54: gb | E54: 32
A55: 39 | C55: Droseļvārsts 200 | D55: gb | E55: 27
A56: 40 | C56: Droseļvārsts 250 | D56: gb | E56: 8
A57: 41 | C57: Droseļvārsts 315 | D57: gb | E57: 1
A58: 42 | C58: Droseļvārsts 600x200 | D58: gb | E58: 5
A59: 43 | C59: Dabīgs gaisa pieplūdes vārsts montāšai logā | D59: gb | E59: 3
A60: 44 | C60: Ugunsdrošais vārsts, EI-60 100 | D60: gb | E60: 6
A61: 45 | C61: Ugunsdrošais vārsts, EI-60 125 | D61: gb | E61: 1
A62: 46 | C62: Ugunsdrošais vārsts, EI-60 160 | D62: gb | E62: 5
A63: 47 | C63: Ugunsdrošais vārsts, EI-60 200 | D63: gb | E63: 9
A64: 48 | C64: Ugunsdrošais vārsts, EI-60 250 | D64: gb | E64: 6
A65: 49 | C65: Ugunsdrošais vārsts, EI-60 315 | D65: gb | E65: 2
A66: 50 | C66: Ugunsdrošais vārsts, EI-60 400 | D66: gb | E66: 3
A67: 51 | C67: Ugunsdrošais vārsts, EI-60 500 | D67: gb | E67: 3
A68: 52 | C68: Ugunsdrošais vārsts, EI-60 630 | D68: gb | E68: 3
A69: 53 | C69: Ugunsdrošais vārsts, EI-60 250x200 | D69: gb | E69: 2
A70: 54 | C70: Ugunsdrošais vārsts, EI-60 600x600 | D70: gb | E70: 2
A71: 55 | C71: Ugunsdrošais vārsts, EI-60 800x300 | D71: gb | E71: 1
A72: 56 | C72: Ugunsdrošais vārsts, EI-60 800x400 | D72: gb | E72: 1
A73: 57 | C73: Ugunsdrošais vārsts, EI-60 500x200 | D73: gb | E73: 1
A74: 58 | C74: Ugunsdrošais vārsts, EI-60 600x200 | D74: gb | E74: 1
A75: 59 | C75: Ugunsdrošais vārsts, EI-60 279x279 | D75: gb | E75: 3
A76: 60 | C76: Ugunsdrošais vārsts, EI-60 410x279 | D76: gb | E76: 2
A77: 61 | C77: Ugunsdrošais vārsts, EI-60 595x279 | D77: gb | E77: 1
A78: 62 | C78: Ugunsdrošais vārsts, EI-60 964x758 | D78: gb | E78: 2
A79: 63 | C79: Gaisa vadu revīzija | D79: kpl | E79: 1
A80: 64 | C80: Gaisa vads no cinkota skārda 100 | D80: m | E80: 100
A81: 65 | C81: Gaisa vads no cinkota skārda 125 | D81: m | E81: 60
A82: 66 | C82: Gaisa vads no cinkota skārda 160 | D82: m | E82: 100
A83: 67 | C83: Gaisa vads no cinkota skārda 200 | D83: m | E83: 170
A84: 68 | C84: Gaisa vads no cinkota skārda 250 | D84: m | E84: 105
A85: 69 | C85: Gaisa vads no cinkota skārda 315 | D85: m | E85: 30
A86: 70 | C86: Gaisa vads no cinkota skārda 400 | D86: m | E86: 40
A87: 71 | C87: Gaisa vads no cinkota skārda 500 | D87: m | E87: 10
A88: 72 | C88: Gaisa vads no cinkota skārda 630 | D88: m | E88: 4
A89: 73 | C89: Gaisa vads no cinkota skārda 800 | D89: m | E89: 20
A90: 74 | C90: Gaisa vads no cinkota skārda 1000 | D90: m | E90: 30
A91: 75 | C91: Gaisa vads no cinkota skārda 200x150 | D91: m | E91: 18
A92: 76 | C92: Gaisa vads no cinkota skārda 250x150 | D92: m | E92: 15
A93: 77 | C93: Gaisa vads no cinkota skārda 250x200 | D93: m | E93: 75
A94: 78 | C94: Gaisa vads no cinkota skārda 250x250 | D94: m | E94: 1
A95: 79 | C95: Gaisa vads no cinkota skārda 300x200 | D95: m | E95: 28
A96: 80 | C96: Gaisa vads no cinkota skārda 300x250 | D96: m | E96: 2
A97: 81 | C97: Gaisa vads no cinkota skārda 400x200 | D97: m | E97: 23
A98: 82 | C98: Gaisa vads no cinkota skārda 400x250 | D98: m | E98: 18
A99: 83 | C99: Gaisa vads no cinkota skārda 400x400 | D99: m | E99: 3
A100: 84 | C100: Gaisa vads no cinkota skārda 500x200 | D100: m | E100: 35
A101: 85 | C101: Gaisa vads no cinkota skārda 600x200 | D101: m | E101: 35
A102: 86 | C102: Gaisa vads no cinkota skārda 600x250 | D102: m | E102: 6
A103: 87 | C103: Gaisa vads no cinkota skārda 600x600 | D103: m | E103: 4
A104: 88 | C104: Gaisa vads no cinkota skārda 800x200 | D104: m | E104: 23
A105: 89 | C105: Gaisa vads no cinkota skārda 800x250 | D105: m | E105: 17
A106: 90 | C106: Gaisa vads no cinkota skārda 800x300 | D106: m | E106: 9
A107: 91 | C107: Gaisa vads no cinkota skārda 800x400 | D107: m | E107: 7
A108: 92 | C108: Gaisa vads no cinkota skārda 1000x200 | D108: m | E108: 9
...

Sheet 2,4
A2: Būvdarbu apjomu saraksts Nr.2,4
A3: =KA!C33 -> Iekšējie ūdensvada tīkli, aprīkojums
A4: (būvdarbu veids vai konstruktīvā elementa nosaukums)
A6: Objekta nosaukums: | C6: =KT!B9 -> Garkalnes Mākslas un vispārizglītojošās pamatskolas piebūve
A7: Būves nosaukums: | C7: =KT!B10 -> Garkalnes Mākslas un vispārizglītojošā pamatskola
A8: Objekta adrese: | C8: =KT!B11 -> Ropažu novads, Garkalne, Vidzemes šoseja 34, LV-2137
A9: Pasūtījuma nr.: | C9: =KT!B12 -> 3DAD_228_GV34_L
A11: Apjomi sastādīti, pamatojoties uz būvprojekta rasējumiem
A14: Nr.p.k. | B14: Kods | C14: Būvdarbu nosaukums | D14: Mērvienība | E14: Daudzums
A17: 1 | C17: ŪDENSAPGĀDE iekšējie tīkli
A18: 2 | C18: Cauruļvads ar stiprinājumiem 20 PPR ar šķiedru | D18: m | E18: 400
A19: 3 | C19: Cauruļvads ar stiprinājumiem 25 PPR ar šķiedru | D19: m | E19: 250
A20: 4 | C20: Cauruļvads ar stiprinājumiem 32 PPR ar šķiedru | D20: m | E20: 180
A21: 5 | C21: Cauruļvads ar stiprinājumiem 40 PPR ar šķiedru | D21: m | E21: 60
A22: 6 | C22: Cauruļvads ar stiprinājumiem 50 PPR ar šķiedru | D22: m | E22: 10
A23: 7 | C23: Cauruļvads ar stiprinājumiem 63 PPR ar šķiedru | D23: m | E23: 1
A24: 8 | C24: Līkums-90 20 PPR | D24: gb | E24: 301
A25: 9 | C25: Līkums-90 25 PPR | D25: gb | E25: 64
A26: 10 | C26: Līkums-90 32 PPR | D26: gb | E26: 23
A27: 11 | C27: Līkums-90 40 PPR | D27: gb | E27: 9
A28: 12 | C28: T-gabals-90 20/20 PPR | D28: gb | E28: 44
A29: 13 | C29: T-gabals-90 20/20/25 PPR | D29: gb | E29: 6
A30: 14 | C30: T-gabals-90 25/25/20 PPR | D30: gb | E30: 86
A31: 15 | C31: T-gabals-90 25/25 PPR | D31: gb | E31: 26
A32: 16 | C32: T-gabals-90 25/25/32 PPR | D32: gb | E32: 1
A33: 17 | C33: T-gabals-90 32/32/20 PPR | D33: gb | E33: 22
A34: 18 | C34: T-gabals-90 32/32/25 PPR | D34: gb | E34: 11
A35: 19 | C35: T-gabals-90 32/32 PPR | D35: gb | E35: 7
A36: 20 | C36: T-gabals-90 32/32/40 PPR | D36: gb | E36: 1
A37: 21 | C37: T-gabals-90 40/40/25 PPR | D37: gb | E37: 1
A38: 22 | C38: T-gabals-90 40/40/32 PPR | D38: gb | E38: 2
A39: 23 | C39: T-gabals-90 40/40 PPR | D39: gb | E39: 2
A40: 24 | C40: T-gabals-90 50/50/32 PPR | D40: gb | E40: 1
A41: 25 | C41: T-gabals-90 50/50/40 PPR | D41: gb | E41: 1
A42: 26 | C42: X-gabals-90 50/50 PPR | D42: gb | E42: 1
A43: 27 | C43: X-gabals-90 63/63/40 PPR | D43: gb | E43: 1
A44: 28 | C44: X-gabals-90 20/20 PPR | D44: gb | E44: 1
A45: 29 | C45: X-gabals-90 20/20/25/25 PPR | D45: gb | E45: 2
A46: 30 | C46: X-gabals-90 25/25/20/20 PPR | D46: gb | E46: 2
A47: 31 | C47: X-gabals-90 25/25/32/32 PPR | D47: gb | E47: 1
A48: 32 | C48: Pāreja 25/20 PPR | D48: gb | E48: 40
A49: 33 | C49: Pāreja 32/20 PPR | D49: gb | E49: 7
A50: 34 | C50: Pāreja 32/25 PPR | D50: gb | E50: 7
A51: 35 | C51: Pāreja 40/25 PPR | D51: gb | E51: 1
A52: 36 | C52: Pāreja 40/32 PPR | D52: gb | E52: 3
A53: 37 | C53: Pāreja 50/25 PPR | D53: gb | E53: 1
A54: 38 | C54: Pāreja 50/40 PPR | D54: gb | E54: 1
A55: 39 | C55: Pāreja 63/50 PPR | D55: gb | E55: 1
A56: 40 | C56: Ugunsdrošs šķērsojums | D56: kpl | E56: 1
A57: 41 | C57: Lodveida ventilis 15 | D57: gb | E57: 25
A58: 42 | C58: Lodveida ventilis 20 | D58: gb | E58: 24
A59: 43 | C59: Lodveida ventilis 25 | D59: gb | E59: 9
A60: 44 | C60: Lodveida ventilis 32 | D60: gb | E60: 3
A61: 45 | C61: Lodveida ventilis 40 | D61: gb | E61: 1
A62: 46 | C62: Lodveida ventilis 50 | D62: gb | E62: 1
A63: 47 | C63: Balansēšanas vārsts 15 | D63: gb | E63: 6
A64: 48 | C64: Pretkondensāta izolāciju Kflex 22/9mm vai ekvivalents | D64: m | E64: 110
A65: 49 | C65: Pretkondensāta izolāciju Kflex 28/9mm vai ekvivalents | D65: m | E65: 110
A66: 50 | C66: Pretkondensāta izolāciju Kflex 34/9mm vai ekvivalents | D66: m | E66: 80
A67: 51 | C67: Pretkondensāta izolāciju Kflex 42/9mm vai ekvivalents | D67: m | E67: 50
A68: 52 | C68: Pretkondensāta izolāciju Kflex 54/9mm vai ekvivalents | D68: m | E68: 10
A69: 53 | C69: Pretkondensāta izolāciju Kflex 64/9mm vai ekvivalents | D69: m | E69: 1
A70: 54 | C70: Akmensvates izolācijas čaula, ar alum. atstarojošo slāni; 22/30 λ30≤0,037 W/mK | D70: m | E70: 290
A71: 55 | C71: Akmensvates izolācijas čaula, ar alum. atstarojošo slāni; 28/30 λ30≤0,037 W/mK | D71: m | E71: 140
A72: 56 | C72: Akmensvates izolācijas čaula, ar alum. atstarojošo slāni; 35/30 λ30≤0,037 W/mK | D72: m | E72: 100
A73: 57 | C73: Akmensvates izolācijas čaula, ar alum. atstarojošo slāni; 42/50 λ0≤0,037 W/mK | D73: m | E73: 10
A74: 58 | C74: Pievienojums ūdens ievadam | D74: kpl | E74: 1
A75: 59 | C75: Caurumu urbšana-pārsegumos, | D75: kpl | E75: 1
A76: 60 | C76: Pievienojums karstā ūdens sagatavošanas iekārtai* | D76: kpl | E76: 1
A77: 61 | C77: Elektroaizbīdnis 40 Fe | D77: kpl | E77: 1
A78: 62 | C78: ŪGUNSDZĒSĪBAS IEKŠĒJĀ SISTĒMA
A79: 63 | C79: Cinkotās tērauda ūdensvada caurules Dn60 montāžas 65 Fe | D79: m | E79: 130
A80: 64 | C80: Cinkotās tērauda ūdensvada caurules Dn50 montāžas 50 Fe | D80: m | E80: 18
A81: 65 | C81: Cinkotā tērauda ūdensvada caurule Dn100 montāža 100 Fe | D81: m | E81: 5
A82: 66 | C82: Pāreja Dn50/100 | D82: gb | E82: 1
A83: 67 | C83: Cinkota tērauda līkums 90 65 Fe | D83: gb | E83: 27
A84: 68 | C84: Cinkota tērauda līkums 90 50 Fe | D84: gb | E84: 9
A85: 69 | C85: Iekšējā ugunsdzēsības ūdensvada krāna kaste, komplektā d.50 mm ugunsdzēsības šļūteni L=20 m, ugunsdzēsības stobru d.50 mm, stobra izplūdes d.13 mm, 50 | D85: kpl | E85: 9
A86: 70 | C86: Elementu skaits | D86: kpl | E86: 1
A87: 71 | C87: Elektroaizbīdnis 50 Fe | D87: kpl | E87: 1
A88: 72 | C88: Noslēgventilis 50 | D88: kpl | E88: 1
A89: 73 | C89: Papildus montāžas materiāli | D89: kpl | E89: 1
A90: 74 | C90: Pievienojums pie ugunsdzēsības skapja | D90: kpl | E90: 9
A91: 75 | C91: Citi materiāli un darbi
A92: 76 | C92: Kompensātori | D92: kpl | E92: 1
A93: 77 | C93: Nekustīgie balsti | D93: kpl | E93: 1
A94: 78 | C94: Stiprinājumi un palīgmateriāli | D94: kpl | E94: 1
A95: 79 | C95: Montāžas komplekts | D95: kpl | E95: 1
A96: 80 | C96: Ūdensapgādes sistēmas hidrauliskās pārbaude un sistēmas skalošana , balansēšana | D96: kpl | E96: 1
A100: =KT!A23 -> Sastādīja: | D100: =KT!C27 -> 2026. gada 17.aprīlī
A101: (paraksts un tā atšifrējums, datums)
A102: =KT!A25 -> Sertifikāta Nr.:
A104: =KT!A27 -> Pārbaudīja: | D104: =KT!C27 -> 2026. gada 17.aprīlī
A105: (paraksts un tā atšifrējums, datums)
A106: =KT!A29 -> Sertifikāta Nr.:

Sheet 2,5
A2: Būvdarbu apjomu saraksts Nr.2,5
A3: =KA!C34 -> Iekšējie kanalizācijas tīkli, aprīkojums
A4: (būvdarbu veids vai konstruktīvā elementa nosaukums)
A6: Objekta nosaukums: | C6: =KT!B9 -> Garkalnes Mākslas un vispārizglītojošās pamatskolas piebūve
A7: Būves nosaukums: | C7: =KT!B10 -> Garkalnes Mākslas un vispārizglītojošā pamatskola
A8: Objekta adrese: | C8: =KT!B11 -> Ropažu novads, Garkalne, Vidzemes šoseja 34, LV-2137
A9: Pasūtījuma nr.: | C9: =KT!B12 -> 3DAD_228_GV34_L
A11: Apjomi sastādīti, pamatojoties uz būvprojekta rasējumiem
A14: Nr.p.k. | B14: Kods | C14: Būvdarbu nosaukums | D14: Mērvienība | E14: Daudzums
A17: 1 | C17: KANALIZĀCIJA K1 iekšējie tīkli
A18: 2 | C18: Kanalizācijas caurule 50 PP | D18: m | E18: 180
A19: 3 | C19: Kanalizācijas caurule 110 PP | D19: m | E19: 190
A20: 4 | C20: Līkums 50 PP | D20: gb | E20: 192
A21: 5 | C21: Līkums 110 PP | D21: gb | E21: 88
A22: 6 | C22: T-gabals 50/50 PP | D22: gb | E22: 31
A23: 7 | C23: T-gabals 110/110/50 PP | D23: gb | E23: 34
A24: 8 | C24: T-gabals 110/110 PP | D24: gb | E24: 35
A25: 9 | C25: X-gabals 50/50 PP | D25: gb | E25: 1
A26: 10 | C26: X-gabals 110/110 PP | D26: gb | E26: 3
A27: 11 | C27: Pāreja 110/50 PP | D27: gb | E27: 11
A28: 12 | C28: Gala vāks - tīrīšanas lūka 160 | D28: gb | E28: 15
A29: 13 | C29: Revīzija 50 PP | D29: gb | E29: 3
... A34: 18 | C34: Vēdināšanas jumtiņš DN110 | D34: gb | E34: 5
A35: 19 | C35: Citi materiāli un darbi
A36: 20 | C36: Kompensātori | D36: kpl | E36: 1
A37: 21 | C37: Nekustīgie balsti | D37: kpl | E37: 1
A38: 22 | C38: Stiprinājumi un palīgmateriāli | D38: kpl | E38: 1
A39: 23 | C39: Montāžas komplekts | D39: kpl | E39: 1
A40: 24 | C40: SANTEHNIKA
A41: 25 | C41: Dušas iekārta sporta ģērbtuvēs | D41: gb | E41: 4
A42: 26 | C42: Izlietnes ar bezkontakta jaucējkrāniem ar termostatu apmeklētājiem paredzēto sanmezglu priekštelpās | D42: gb | E42: 12
A43: 27 | C43: Izlietnes ar bezkontakta jaucējkrāniem ar termostatu sanmezglos cilvēkiem ar funkcionāliem traucējumiem | D43: gb | E43: 5
A44: 28 | C44: Izlietnes apkopēju telpās | D44: gb | E44: 3
A45: 29 | C45: Ēdnīcas roku mazgāšanas zonas izlietnes | D45: gb | E45: 5
A46: 30 | C46: Izlietnes sanmezglos ar bezkontakta jaucējkrānu ar termostatu | D46: gb | E46: 2
A47: 31 | C47: Izlietnes ģērbtuvēs | D47: gb | E47: 6
A48: 32 | C48: Izlietnes mācību klasēs un skolotāju labarotorijās | D48: gb | E48: 6
A49: 33 | C49: Galdā iebūvejamas izlietnes mājturības kabinetā | D49: gb | E49: 1
A50: 34 | C50: Galdā iebūvejamas izlietnes dabaszinātņu un mākslas kabinetos | D50: gb | E50: 3
A51: 35 | C51: Galdā iebūvejamas izlietnes dabaszinātņu un mākslas kabinetos | D51: gb | E51: 6
A52: 36 | C52: Izlietnes grupu telpu sanitārtehniskajos mezglos 500-700 mm augstumā no grīdas līmeņa | D52: gb | E52: 12
... A57: 41 | C57: Trauku mazgājamās mašīnas | D57: gb | E57: 3
A58: 42 | C58: Laistīšanas krāns | D58: kpl | E58: 10
A59: 43 | C59: Grīdas traps | D59: kpl | E59: 13
A60: 44 | C60: Montāžas komplekts | D60: kpl | E60: 1
A64: =KT!A23 -> Sastādīja: | D64: =KT!C27 -> 2026. gada 17.aprīlī
A65: (paraksts un tā atšifrējums, datums)
A66: =KT!A25 -> Sertifikāta Nr.:
A68: =KT!A27 -> Pārbaudīja: | D68: =KT!C27 -> 2026. gada 17.aprīlī
A69: (paraksts un tā atšifrējums, datums)
A70: =KT!A29 -> Sertifikāta Nr.:

Sheet 2,6
A2: Būvdarbu apjomu saraksts Nr.2,6
A3: =KA!C35 -> Vājstrāvas tīkli - UATS
A4: (būvdarbu veids vai konstruktīvā elementa nosaukums)
A6: Objekta nosaukums: | C6: =KT!B9 -> Garkalnes Mākslas un vispārizglītojošās pamatskolas piebūve
A7: Būves nosaukums: | C7: =KT!B10 -> Garkalnes Mākslas un vispārizglītojošā pamatskola
A8: Objekta adrese: | C8: =KT!B11 -> Ropažu novads, Garkalne, Vidzemes šoseja 34, LV-2137
A9: Pasūtījuma nr.: | C9: =KT!B12 -> 3DAD_228_GV34_L
A11: Apjomi sastādīti, pamatojoties uz būvprojekta rasējumiem
A14: Nr.p.k. | B14: Kods | C14: Būvdarbu nosaukums | D14: Mērvienība | E14: Daudzums
A17: 1 | C17: Kontroles panelis komplektā ar akumulatoriem Esmi Sense FDP252 vai ekvivalents | D17: kpl | E17: 1
A18: 2 | C18: Cilpu modulis 2 cilpas | D18: gb | E18: 2
A19: 3 | C19: Atkārtotājs FMP SENSE / FFS00702606LV, Schneider Electric vai ekvivalents | D19: kpl | E19: 1
A20: 4 | C20: Adrešu dūmu detektors EDI-20 vai ekvivalents | D20: gb | E20: 166
A21: 5 | C21: Adrešu siltuma detektors EDI-50 vai ekvivalents | D21: gb | E21: 53
A22: 6 | C22: Detektora bāze ar izolatoru EBI-11 vai ekvivalents | D22: gb | E22: 219
A23: 7 | C23: Rokas adreses trauksmes poga ar izolatoru EPP-20 vai ekvivalents | D23: kpl | E23: 18
A24: 8 | C24: Rokas adreses trauksmes pogas bāze SR2G | D24: gb | E24: 18
A25: 9 | C25: Vadības modulis EMI-311/240 vai ekvivalents | D25: kpl | E25: 25
A26: 10 | C26: Adrešu sirēna FFS06728104 vai ekvivalents | D26: kpl | E26: 1
A27: 11 | C27: Iznesamais LED indikators ERI-10 vai ekvivalents | D27: gb | E27: 70
A28: 12 | C28: Kabelis detektoru pieslēgšana 2x1.0 (E30) Eurosafe vai ekvivalents | D28: m | E28: 2300
A29: 13 | C29: Kabelis el. barošana NHXN-FE180/E30 3x2.5mm2 vai ekvivalents | D29: m | E29: 20
A30: 14 | C30: Gofrētā caurule d25mm | D30: m | E30: 500
A31: 15 | C31: Aizsargcaurule stāvvadam d50 mm | D31: m | E31: 30
A32: 16 | C32: Montāžas materiāli | D32: kpl | E32: 1
A33: 17 | C33: Ugunsdrošs kabeļu turētājs OZM/OZMO. (WxLxH) 42x33x62mm. 0.7mm. E-90 | D33: gb | E33: 20
A34: 18 | C34: Ugunsdrošais stiprinājums UDFB8. E90, d 8mm | D34: gb | E34: 6900
A35: 19 | C35: Ugunsdrošo šķērsojumu aizdares materiāli ugunsdrošo konstrukciju šķērsojuma vietās | D35: kpl | E35: 1
A36: 20 | C36: Montāžas putas | D36: kpl | E36: 1
A37: 21 | C37: Uzlīme "Automātiski un manuālo ugunsdrošības sistēmu un iekārtu ieslēgšana" vai ekvivalents | D37: kpl | E37: 18
A38: 22 | C38: Aizsargcauruļu d50 mm stāvvadiem (pārsegumu šķērsojumu vietās) ugunsdrošās manžetes/lentes, palīgmateriāli | D38: kpl | E38: 1
A39: 23 | C39: Materiāli atvērumu aizdarei ne ugunsdrošo konstrukciju šķērsojuma vietās (poliuretāna celtniecības putas, apmetums un krāsojams hermētiķis) | D39: kpl | E39: 1
A40: 24 | C40: Kabeļa zemapmetuma montāža | D40: m | E40: 500
A44: =KT!A23 -> Sastādīja: | D44: =KT!C27 -> 2026. gada 17.aprīlī
A45: (paraksts un tā atšifrējums, datums)
A46: =KT!A25 -> Sertifikāta Nr.:
A48: =KT!A27 -> Pārbaudīja: | D48: =KT!C27 -> 2026. gada 17.aprīlī
A49: (paraksts un tā atšifrējums, datums)
A50: =KT!A29 -> Sertifikāta Nr.:

Sheet 2,7
A2: Būvdarbu apjomu saraksts Nr.2,7
A3: =KA!C36 -> Vājstrāvas tīkli - AS
A4: (būvdarbu veids vai konstruktīvā elementa nosaukums)
A6: Objekta nosaukums: | C6: =KT!B9 -> Garkalnes Mākslas un vispārizglītojošās pamatskolas piebūve
A7: Būves nosaukums: | C7: =KT!B10 -> Garkalnes Mākslas un vispārizglītojošā pamatskola
A8: Objekta adrese: | C8: =KT!B11 -> Ropažu novads, Garkalne, Vidzemes šoseja 34, LV-2137
A9: Pasūtījuma nr.: | C9: =KT!B12 -> 3DAD_228_GV34_L
A11: Apjomi sastādīti, pamatojoties uz būvprojekta rasējumiem
A14: Nr.p.k. | B14: Kods | C14: Būvdarbu nosaukums | D14: Mērvienība | E14: Daudzums
A17: 1 | C17: Apsardzes panelis 8-64 zonas 8 rajoni DSC PC-1864 vai ekvivalents | D17: kpl | E17: 1
A18: 2 | C18: Zonu paplašinātājs, 8 zonas PC5108 vai ekvivalents | D18: gb | E18: 7
A19: 3 | C19: Kombinētais GSM + IP komunikators DSC TL-265GS vai ekvivalents | D19: gb | E19: 1
A20: 4 | C20: Akumulators 7A/h 12V | D20: gb | E20: 1
A21: 5 | C21: Transformators AC 220/12V | D21: gb | E21: 1
A22: 6 | C22: Kustības detektors ACD-0001 / Premier Compact, Texecom vai ekvivalents | D22: gb | E22: 41
A23: 7 | C23: Magnēta kontakts metāla durvīm MS-51 vai ekvivalents | D23: gb | E23: 26
A24: 8 | C24: Stikla plīšanas detektors AEC-0001 / IMPAQ, Texecom vai ekvivalents | D24: gb | E24: 22
A25: 9 | C25: LCD tastatūra PK5500 vai ekvivalents | D25: gb | E25: 8
A26: 10 | C26: Sirēna ārtelpu MR-300; 115 dB vai ekvivalents | D26: gb | E26: 1
A27: 11 | C27: Kabelis CQR 6x0.22mm2 | D27: m | E27: 4000
A28: 12 | C28: PVC caurule, t.sk. stiprinājumi d25 Evopipe gofrēta, pelēka | D28: m | E28: 1000
A29: 13 | C29: PVC caurule stāvvadam d50 | D29: m | E29: 10
A30: 14 | C30: Montāžas un stiprināšanas materiāli | D30: kpl | E30: 1
A31: 15 | C31: Ugunsdrošo šķērsojumu aizdares materiāli ugunsdrošo konstrukciju šķērsojuma vietās | D31: kpl | E31: 1
A32: 16 | C32: Aizsargcauruļu d50 mm stāvvadiem (pārsegumu šķērsojumu vietās) ugunsdrošās manžetes/lentes, palīgmateriāli | D32: kpl | E32: 1
A33: 17 | C33: Materiāli atvērumu aizdarei ne ugunsdrošo konstrukciju šķērsojuma vietās (poliuretāna celtniecības putas, apmetums un krāsojams hermētiķis) | D33: kpl | E33: 1
A34: 18 | C34: Kabeļa zemapmetuma montāža | D34: m | E34: 1000
A35: 19 | C35: Kabeļu marķēšana | D35: kpl | E35: 1
A36: 20 | C36: Tīkla konfigurēšana | D36: kpl | E36: 1
A40: =KT!A23 -> Sastādīja: | D40: =KT!C27 -> 2026. gada 17.aprīlī
A41: (paraksts un tā atšifrējums, datums)
A42: =KT!A25 -> Sertifikāta Nr.:
A44: =KT!A27 -> Pārbaudīja: | D44: =KT!C27 -> 2026. gada 17.aprīlī
A45: (paraksts un tā atšifrējums, datums)
A46: =KT!A29 -> Sertifikāta Nr.:

Sheet 2,8
A2: Būvdarbu apjomu saraksts Nr.2,8
A3: =KA!C37 -> Vājstrāvas tīkli - CI
A4: (būvdarbu veids vai konstruktīvā elementa nosaukums)
A6: Objekta nosaukums: | C6: =KT!B9 -> Garkalnes Mākslas un vispārizglītojošās pamatskolas piebūve
A7: Būves nosaukums: | C7: =KT!B10 -> Garkalnes Mākslas un vispārizglītojošā pamatskola
A8: Objekta adrese: | C8: =KT!B11 -> Ropažu novads, Garkalne, Vidzemes šoseja 34, LV-2137
A9: Pasūtījuma nr.: | C9: =KT!B12 -> 3DAD_228_GV34_L
A11: Apjomi sastādīti, pamatojoties uz būvprojekta rasējumiem
A14: Nr.p.k. | B14: Kods | C14: Būvdarbu nosaukums | D14: Mērvienība | E14: Daudzums
A17: 1 | C17: Servera un komutācijas statne ar metāla durvīm un slēdzi 42U 800x800mm | D17: kpl | E17: 1
A18: 2 | C18: Ventilatoru panelis ar termostatu | D18: kpl | E18: 1
A19: 3 | C19: Zemējuma klemme komutācijas skapim | D19: kpl | E19: 1
A20: 4 | C20: EL rozešu bloks 8-vietīgā, 19' 1U | D20: kpl | E20: 1
A21: 5 | C21: Akumulatoru ladēšanas iekārtas Bosch vai ekvivalents | D21: kpl | E21: 1
A22: 6 | C22: Akumulatoru baterija 12V 70A/h Bosch vai ekvivalents | D22: gb | E22: 2
A23: 7 | C23: Audio izziņošanas sistēmas kontrolieris PVA-4CR12; PAVIRO vai ekvivalents | D23: gb | E23: 1
A24: 8 | C24: Pastiprinātājs PVA-2P500; PAVIRO vai ekvivalents | D24: gb | E24: 8
A25: 9 | C25: Balss signalizācijas zvanu stacija LBB 1946/00 | D25: gb | E25: 1
A26: 10 | C26: Skaņas projektors; 20 / 10 / 5 / 2.5 W Bosch, LP1-UC20E-1 vai ekvivalents | D26: gb | E26: 6
A27: 11 | C27: Metāla kabineta skaļrunis; 6 /3/1.5/0.75W Bosch, LBC3018/01 vai ekvivalents | D27: gb | E27: 18
A28: 12 | C28: Griestu iegriežamais skaļrunis; 6/3/1.5W Bosch; LC3-UM06E vai ekvivalents | D28: gb | E28: 48
A29: 13 | C29: Rupora skaļrunis, IP65; 10 / 5 / 2.5 / 1.25 W Bosch; LH1-10M10E vai ekvivalents | D29: gb | E29: 2
A30: 14 | C30: Līnijas gala iekārtas PVA-1WEOL | D30: gb | E30: 8
A31: 15 | C31: Ugunsizturīgs kabelis 1x2x1.5 (E30) | D31: m | E31: 1800
A32: 16 | C32: Kabelis (Mikrofonu stacijas pieslēgšanai) UTP Kat. 5e E30 | D32: m | E32: 50
A33: 17 | C33: Aizsargcaurule cietā PVC d25 mm FRANKISCHE, isofix-EL-F 320N vai ekvivalents | D33: m | E33: 400
A34: 18 | C34: Caurules stiprinājums E30-E90 vai ekvivalents | D34: gb | E34: 3000
A35: 19 | C35: Aizsargcaurule stāvvadam PVC d50 | D35: m | E35: 30
A36: 20 | C36: Ugunsdrošais stiprinājums UDFB8. E90, d 8mm | D36: gb | E36: 5400
A37: 21 | C37: Ugunsdrošo šķērsojumu aizdares materiāli ugunsdrošo konstrukciju šķērsojuma vietās | D37: kpl | E37: 1
A38: 22 | C38: Montāžas putas | D38: kpl | E38: 1
A39: 23 | C39: Aizsargcauruļu d50 mm stāvvadiem (pārsegumu šķērsojumu vietās) ugunsdrošās manžetes/lentes, palīgmateriāli | D39: kpl | E39: 1
A40: 24 | C40: Materiāli atvērumu aizdarei ne ugunsdrošo konstrukciju šķērsojuma vietās (poliuretāna celtniecības putas, apmetums un krāsojams hermētiķis) | D40: kpl | E40: 1
... A42: 26 | C42: Sistēmas konfigurēšana un palaišana | D42: kpl | E42: 1
A46: =KT!A23 -> Sastādīja: | D46: =KT!C27 -> 2026. gada 17.aprīlī
A47: (paraksts un tā atšifrējums, datums)
A48: =KT!A25 -> Sertifikāta Nr.:
A50: =KT!A27 -> Pārbaudīja: | D50: =KT!C27 -> 2026. gada 17.aprīlī
A51: (paraksts un tā atšifrējums, datums)
A52: =KT!A29 -> Sertifikāta Nr.:

Sheet 2,9
A2: Būvdarbu apjomu saraksts Nr.2,9
A3: =KA!C38 -> Vājstrāvas tīkli - DA
A4: (būvdarbu veids vai konstruktīvā elementa nosaukums)
A6: Objekta nosaukums: | C6: =KT!B9 -> Garkalnes Mākslas un vispārizglītojošās pamatskolas piebūve
A7: Būves nosaukums: | C7: =KT!B10 -> Garkalnes Mākslas un vispārizglītojošā pamatskola
A8: Objekta adrese: | C8: =KT!B11 -> Ropažu novads, Garkalne, Vidzemes šoseja 34, LV-2137
A9: Pasūtījuma nr.: | C9: =KT!B12 -> 3DAD_228_GV34_L
A11: Apjomi sastādīti, pamatojoties uz būvprojekta rasējumiem
A14: Nr.p.k. | B14: Kods | C14: Būvdarbu nosaukums | D14: Mērvienība | E14: Daudzums
A17: 1 | C17: Divu - sešu zonu vadības panelis ACTULUX SVL 48V 50A vai ekvivalents | D17: gb | E17: 1
A18: 2 | C18: Vienas zonas paplašinātājs ACTULUX SVL Group Board vai ekvivalents | D18: gb | E18: 4
A19: 3 | C19: Trauksmes pogas Actulux Smoke vent IP 40 vai ekvivalents | D19: gb | E19: 15
A20: 4 | C20: Loga automātikas piedziņa Actulux HCV 500/1000 vai ekvivalents | D20: gb | E20: 26
A21: 5 | C21: Elektriskais logu atvērējs 48 V DC HCV 500 mN | D21: gb | E21: 26
A22: 6 | C22: Barošanas kabelis E30 3x1,5 | D22: m | E22: 50
A23: 7 | C23: Kabelis piedziņu un aizvērēju savienošanai ekranēts E30 2x1.5 RE | D23: m | E23: 950
A24: 8 | C24: Kabelis pogu savienošanai ekranēts E30 8x0,5 | D24: m | E24: 570
A25: 9 | C25: Ugunsdrošie blīvējumi Hilti EI 30 vai ekvivalents | D25: kpl | E25: 1
A26: 10 | C26: Ugunsdrošie stiprinājumi E90 UDFB8. E90, d 8mm | D26: gb | E26: 4560
A27: 11 | C27: Caurule stāvvadam PVC d50 | D27: m | E27: 20
A28: 12 | C28: Kabeļa montāža zemapmetuma | D28: m | E28: 200
A32: =KT!A23 -> Sastādīja: | D32: =KT!C27 -> 2026. gada 17.aprīlī
A33: (paraksts un tā atšifrējums, datums)
A34: =KT!A25 -> Sertifikāta Nr.:
A36: =KT!A27 -> Pārbaudīja: | D36: =KT!C27 -> 2026. gada 17.aprīlī
A37: (paraksts un tā atšifrējums, datums)
A38: =KT!A29 -> Sertifikāta Nr.:

Sheet 2,10
A2: Būvdarbu apjomu saraksts Nr.2,10
A3: =KA!C39 -> Vājstrāvas tīkli - TK
A4: (būvdarbu veids vai konstruktīvā elementa nosaukums)
A6: Objekta nosaukums: | C6: =KT!B9 -> Garkalnes Mākslas un vispārizglītojošās pamatskolas piebūve
A7: Būves nosaukums: | C7: =KT!B10 -> Garkalnes Mākslas un vispārizglītojošā pamatskola
A8: Objekta adrese: | C8: =KT!B11 -> Ropažu novads, Garkalne, Vidzemes šoseja 34, LV-2137
A9: Pasūtījuma nr.: | C9: =KT!B12 -> 3DAD_228_GV34_L
A11: Apjomi sastādīti, pamatojoties uz būvprojekta rasējumiem
A14: Nr.p.k. | B14: Kods | C14: Būvdarbu nosaukums | D14: Mērvienība | E14: Daudzums
A17: 1 | C17: Servera un komutācijas statne 42U perforēts sakaru skapis ar izmēriem (WxD 800x800) 42U 19"w Server Rack - Perforated Doors vai ekvivalents | D17: kpl | E17: 1
A18: 2 | C18: Ventilatoru bloks ar digitālo termostatu 19' 1U, 4 ventilatori | D18: kpl | E18: 1
A19: 3 | C19: Zemējuma klemme komutācijas skapim | D19: kpl | E19: 1
A20: 4 | C20: Skrūves - uzgriežņi M6 | D20: kpl | E20: 1
A21: 5 | C21: EL rozešu bloks 8-vietīgā, 19' 1U | D21: kpl | E21: 1
A22: 6 | C22: Optiskais patch panelis ar kaseti, adapteriem un pigteiliem priekš SM optiskā kabeļa 12 dzīslām 8p duplex rackmounted | D22: kpl | E22: 1
A23: 7 | C23: Kabeļu organaizeris horizontālais 1U | D23: gb | E23: 5
A24: 8 | C24: Optiskais patch kabelis SM SC-LC 1m | D24: gb | E24: 1
A25: 9 | C25: SFP modulis SM | D25: kpl | E25: 1
A26: 10 | C26: Patch panelis 24p Cat6 UTP | D26: gb | E26: 5
A27: 11 | C27: Patch kabelis 1.0m Cat6 UTP 1m | D27: gb | E27: 168
A28: 12 | C28: Centrālais ruteris 24 PoE output gigabit Ethernet router/switch with four 10Gbps SFP+ ports | D28: gb | E28: 1
A29: 13 | C29: Komutators 48 porti | D29: gb | E29: 1
A30: 14 | C30: Komutators 48 porti PoE | D30: gb | E30: 1
A31: 15 | C31: Komutators 24 porti | D31: gb | E31: 1
A32: 16 | C32: WiFi piekļuves punkts darba telpai; 15+ lietotāji 802.11ax; 2.4/5GHz; ≥1200Mbit/s; MU-MIMO; QoS; [Cisco Meraki MR36 vai ekvivalents] | D32: gb | E32: 42
A33: 17 | C33: Ārtelpu WiFi piekļuves punkts | D33: gb | E33: 1
A34: 18 | C34: Datu ligzda z/a 2xRJ45 Cat6 ar rāmi; vizuālo izskatu saskaņot ar EL rozetēm (viena marka/sērija/modelis) | D34: kpl | E34: 14
A35: 19 | C35: Datu ligzda z/a 1xRJ45 Cat6 ar rāmi; vizuālo izskatu saskaņot ar EL rozetēm (viena marka/sērija/modelis) | D35: kpl | E35: 68
A36: 20 | C36: Nepārtrauktās barošanas bloks UPS APC Smart-UPS 5000VA vai ekvivalents | D36: gb | E36: 1
A37: 21 | C37: Kabelis Cat6 U/UTP 4x2x0.5, CPR Eca, liesmu slāpējošs | D37: m | E37: 8500
A38: 22 | C38: Kabelis Cat6 U/UTP 4x2x0.5, ārtelpu | D38: m | E38: 90
A39: 23 | C39: Kabelis FO 4dzīslas, SM | D39: m | E39: 350
A40: 24 | C40: PVC caurule, t.sk. stiprinājumi d25 Evopipe gofrēta vai ekvivalents, pelēka | D40: m | E40: 2000
A41: 25 | C41: PVC caurule stāvvadam d50 | D41: m | E41: 30
A42: 26 | C42: Montāžas un stiprināšanas materiāli | D42: kpl | E42: 1
A43: 27 | C43: Ugunsdrošo šķērsojumu aizdares materiāli ugunsdrošo konstrukciju šķērsojuma vietās | D43: kpl | E43: 1
A44: 28 | C44: Kabeļu trepe. t.sk., sienas/griestu stiprinājumi C1-C2 200mm 3m vai ekvivalents | D44: gb | E44: 75
A45: 29 | C45: Kabeļu trepes 90 grādu līkums 200mm | D45: gb | E45: 8
A46: 30 | C46: Aizsargcauruļu d50 mm stāvvadiem (pārsegumu šķērsojumu vietās) ugunsdrošās manžetes/lentes, palīgmateriāli | D46: kpl | E46: 1
... A50: 34 | C50: Tīkla konfigurēšana | D50: kpl | E50: 1
A54: =KT!A23 -> Sastādīja: | D54: =KT!C27 -> 2026. gada 17.aprīlī
A55: (paraksts un tā atšifrējums, datums)
A56: =KT!A25 -> Sertifikāta Nr.:
A58: =KT!A27 -> Pārbaudīja: | D58: =KT!C27 -> 2026. gada 17.aprīlī
A59: (paraksts un tā atšifrējums, datums)
A60: =KT!A29 -> Sertifikāta Nr.:

Sheet 2,11
A2: Būvdarbu apjomu saraksts Nr.2,11
A3: =KA!C40 -> Vājstrāvas tīkli - VAS
A4: (būvdarbu veids vai konstruktīvā elementa nosaukums)
A6: Objekta nosaukums: | C6: =KT!B9 -> Garkalnes Mākslas un vispārizglītojošās pamatskolas piebūve
A7: Būves nosaukums: | C7: =KT!B10 -> Garkalnes Mākslas un vispārizglītojošā pamatskola
A8: Objekta adrese: | C8: =KT!B11 -> Ropažu novads, Garkalne, Vidzemes šoseja 34, LV-2137
A9: Pasūtījuma nr.: | C9: =KT!B12 -> 3DAD_228_GV34_L
A11: Apjomi sastādīti, pamatojoties uz būvprojekta rasējumiem
A14: Nr.p.k. | B14: Kods | C14: Būvdarbu nosaukums | D14: Mērvienība | E14: Daudzums
A17: 1 | C17: Vadības sadalne VAS-1: Sadalne 800x800x250, metāla, IP54, montāžas plate Ievada līnijas jauda 1kW, 230VAC Sadalnes apgaismojums, 2xrozetes uz DIN sliedes Spēka ievada līnijas aizsardzības slēdzis Vadības ķēžu aizsardzības automātslēdži Kontrolleru, moduļu el.barošanas aizsardzības drošinātāji Elektrobarošanas bloki Releju bloki ar LED moduli Spailes, vadi, vadu kanāli, montāžas palīgmateriāli | D17: kpl | E17: 1
A18: 2 | C18: Barošanas bloks 24VDC, 3A Schneider Electric ABL8RPS24030 vai ekvivalents | D18: gb | E18: 1
A19: 3 | C19: Akumulatora vadības modulis Schneider Electric ABL8BBU24200 vai ekvivalents | D19: gb | E19: 1
A20: 4 | C20: Akumulatora baterija Schneider Electric 2VDC, 32A, 3.2Ah vai ekvivalents | D20: gb | E20: 1
A21: 5 | C21: Integrācijas un optimizācijas kontrolieris ar 1 izolētu Ethernet portu, 3 komutētiem Ethernet portiem un 4 RS485 portiem Honeywell N-ADV-134-H-C vai ekvivalents | D21: gb | E21: 1
A22: 6 | C22: Universālo ieeju/izeju modulis Honeywell IO-16 UIO-S-P vai ekvivalents | D22: gb | E22: 1
A23: 7 | C23: Digitālo ieeju modulis Honeywell IO-16 DI-S-P vai ekvivalents | D23: gb | E23: 1
A24: 8 | C24: I/O moduļu savienojuma adapteris Honeywell IO-ADPT-S-2 vai ekvivalents | D24: gb | E24: 1
A25: 9 | C25: Licences / “core” kontroliera pamat-pakete, līdz 25 ierīcēm vai līdz 1250 “global points” + līdz 255 Panel Bus punktiem Honeywell N-ADV-01250-255PCA vai ekvivalents | D25: gb | E25: 1
A26: 10 | C26: Modbus/TCP uz RTU/ASCII gateway ar PoE, 1xRJ-45 10/100 Base-TX un 3-portu izolētiem RS-485, 12-48VDC ICP DAS tGW-735i CR vai ekvivalents | D26: gb | E26: 1
A27: 11 | C27: Maršrutētājs Mikrotik hEX S vai ekvivalents | D27: gb | E27: 1
A28: 12 | C28: Ethernet komutators Simens 6GK5116-0BA00-2AB2 vai ekvivalents | D28: gb | E28: 1
... A39: 23 | C39: 19" statnē montējams serveris: Core I7, 3.5GHz, 12 MB Cache, RAM 32GB, DDR4, 2400MHz, 2TB SSD, Videokarte 16GB, Windows 11 Pro, 64-bit, Windows server 2022 Standard, UPS bloks 55VA vai ekvivalents | D39: kpl | E39: 1
A40: 24 | C40: Kontrollera programmēšana | D40: kpl | E40: 1
A41: 25 | C41: Siltummezgla integrācija, Modbus | D41: kpl | E41: 1
A42: 26 | C42: Kabeļu marķēšana | D42: kpl | E42: 1
A43: 27 | C43: Iekārtu marķēšana | D43: kpl | E43: 1
A44: 28 | C44: Kabeļu pretestības mērīšana un vadības sadalņu termogrāfija | D44: kpl | E44: 1
A48: =KT!A23 -> Sastādīja: | D48: =KT!C27 -> 2026. gada 17.aprīlī
A49: (paraksts un tā atšifrējums, datums)
A50: =KT!A25 -> Sertifikāta Nr.:
A52: =KT!A27 -> Pārbaudīja: | D52: =KT!C27 -> 2026. gada 17.aprīlī
A53: (paraksts un tā atšifrējums, datums)
A54: =KT!A29 -> Sertifikāta Nr.:

Sheet 2,12
A2: Būvdarbu apjomu saraksts Nr.2,12
A3: =KA!C41 -> Vājstrāvas tīkli - VN
A4: (būvdarbu veids vai konstruktīvā elementa nosaukums)
A6: Objekta nosaukums: | C6: =KT!B9 -> Garkalnes Mākslas un vispārizglītojošās pamatskolas piebūve
A7: Būves nosaukums: | C7: =KT!B10 -> Garkalnes Mākslas un vispārizglītojošā pamatskola
A8: Objekta adrese: | C8: =KT!B11 -> Ropažu novads, Garkalne, Vidzemes šoseja 34, LV-2137
A9: Pasūtījuma nr.: | C9: =KT!B12 -> 3DAD_228_GV34_L
A11: Apjomi sastādīti, pamatojoties uz būvprojekta rasējumiem
A14: Nr.p.k. | B14: Kods | C14: Būvdarbu nosaukums | D14: Mērvienība | E14: Daudzums
A17: 1 | C17: IP videokamera ārtelpu Tube IP camera 8 Mpx; 13.5mm lens | D17: gb | E17: 10
A18: 2 | C18: IP videokamera iekštelpu Dome IP camera 8 Mpx; 2.8mm lens | D18: gb | E18: 25
A19: 3 | C19: Sienas kronšteins kamerām | D19: gb | E19: 35
A20: 4 | C20: Komutators PoE 48p | D20: gb | E20: 1
A21: 5 | C21: SFP modulis SM | D21: gb | E21: 2
A22: 6 | C22: Tīkla videoreģistrators NVR 32 kanāli/PoE, caurlaides spēja ≥ 320 Mbps | D22: gb | E22: 1
A23: 7 | C23: Cietie Diski HDD WD Red Pro NAS Hard Drive - 26TB vai ekvivalents | D23: gb | E23: 3
A24: 8 | C24: Pārsprieguma aizsarzība DT-LAN-CAT.6+ | D24: gb | E24: 10
A25: 9 | C25: Patch kabelis Cat6 U/UTP 1.5 m Cat6 UTP 1.5m | D25: gb | E25: 68
A26: 10 | C26: Patch panelis 24p Cat6 UTP | D26: gb | E26: 1
A27: 11 | C27: Kabeļu organaizeris horizontālais 1U | D27: gb | E27: 2
A28: 12 | C28: Optiskais patch kabelis SM LC-LC 3,0m | D28: gb | E28: 1
A29: 13 | C29: Kabelis Cat6 U/UTP 4x2x0.5, CPR Eca, liesmu slāpējošs | D29: m | E29: 2450
A30: 14 | C30: Aizsargcaurule gofrētā, t.sk. stiprinājumi d25 mm | D30: m | E30: 50
A31: 15 | C31: Aizsargcaurule stāvvadam PVC d50 mm | D31: m | E31: 30
A32: 16 | C32: Ugunsdrošo šķērsojumu aizdares materiāli ugunsdrošo konstrukciju šķērsojuma vietās | D32: kpl | E32: 1
A33: 17 | C33: Instalācijas materiāli | D33: kpl | E33: 1
A34: 18 | C34: Licences | D34: kpl | E34: 1
A35: 19 | C35: Montāžas un stiprināšanas materiāli | D35: kpl | E35: 1
A36: 20 | C36: Aizsargcauruļu d50 mm stāvvadiem (pārsegumu šķērsojumu vietās) ugunsdrošās manžetes/lentes, palīgmateriāli | D36: kpl | E36: 1
A37: 21 | C37: Materiāli atvērumu aizdarei ne ugunsdrošo konstrukciju šķērsojuma vietās (poliuretāna celtniecības putas, apmetums un krāsojams hermētiķis) | D37: kpl | E37: 1
A38: 22 | C38: Kabeļa zemapmetuma montāža | D38: m | E38: 1500
A39: 23 | C39: Tīkla konfigurēšana | D39: kpl | E39: 1
A40: 24 | C40: Sistēmas programmēšana un palaišana | D40: kpl | E40: 1
A41: 25 | C41: Kabeļu marķēšana | D41: gb | E41: 68
A45: =KT!A23 -> Sastādīja: | D45: =KT!C27 -> 2026. gada 17.aprīlī
A46: (paraksts un tā atšifrējums, datums)
A47: =KT!A25 -> Sertifikāta Nr.:
A49: =KT!A27 -> Pārbaudīja: | D49: =KT!C27 -> 2026. gada 17.aprīlī
A50: (paraksts un tā atšifrējums, datums)
A51: =KT!A29 -> Sertifikāta Nr.:

Sheet 2,13
A2: Būvdarbu apjomu saraksts Nr.2,13
A3: =KA!C42 -> Lifti, liftu šahtas
A4: (būvdarbu veids vai konstruktīvā elementa nosaukums)
A6: Objekta nosaukums: | C6: =KT!B9 -> Garkalnes Mākslas un vispārizglītojošās pamatskolas piebūve
A7: Būves nosaukums: | C7: =KT!B10 -> Garkalnes Mākslas un vispārizglītojošā pamatskola
A8: Objekta adrese: | C8: =KT!B11 -> Ropažu novads, Garkalne, Vidzemes šoseja 34, LV-2137
A9: Pasūtījuma nr.: | C9: =KT!B12 -> 3DAD_228_GV34_L
A11: Apjomi sastādīti, pamatojoties uz būvprojekta rasējumiem
A14: Nr.p.k. | B14: Kods | C14: Būvdarbu nosaukums | D14: Mērvienība | E14: Daudzums
A17: 1 | C17: Montēt liftu Li-1, ieskaitot visus stiprinājumus un palīgmateriālus. | D17: kpl | E17: 1
A21: =KT!A23 -> Sastādīja: | D21: =KT!C27 -> 2026. gada 17.aprīlī
A22: (paraksts un tā atšifrējums, datums)
A23: =KT!A25 -> Sertifikāta Nr.:
A25: =KT!A27 -> Pārbaudīja: | D25: =KT!C27 -> 2026. gada 17.aprīlī
A26: (paraksts un tā atšifrējums, datums)
A27: =KT!A29 -> Sertifikāta Nr.:

Sheet 3,1
A2: Būvdarbu apjomu saraksts Nr.3,1
A3: =KA!C44 -> Ārējie elektrotīkli, apgaismojums. Maģistrālās elektrolīnijas
A4: (būvdarbu veids vai konstruktīvā elementa nosaukums)
A6: Objekta nosaukums: | C6: =KT!B9 -> Garkalnes Mākslas un vispārizglītojošās pamatskolas piebūve
A7: Būves nosaukums: | C7: =KT!B10 -> Garkalnes Mākslas un vispārizglītojošā pamatskola
A8: Objekta adrese: | C8: =KT!B11 -> Ropažu novads, Garkalne, Vidzemes šoseja 34, LV-2137
A9: Pasūtījuma nr.: | C9: =KT!B12 -> 3DAD_228_GV34_L
A11: Apjomi sastādīti, pamatojoties uz būvprojekta rasējumiem
A14: Nr.p.k. | B14: Kods | C14: Būvdarbu nosaukums | D14: Mērvienība | E14: Daudzums
A17: 1 | C17: 1. Elektrosadalne.
A18: 2 | C18: Teritorijas un fasādes apgaismojuma elektrosadalne TAS, ~400V, IP44, ar vietu rezervi 30%, ar montāžas kompl. - sk. EL daļu!: | D18: kpl | E18: 1
A19: 3 | C19: Fasādes apgaismojuma automātslēdži (sk. EL daļu!) | D19: kpl | E19: 1
A20: 4 | C20: līnijās: 3polu automātslēdzis ~400V, C16A, Ac:9, "Schneider" vai ekvivalents | D20: gb | E20: 1
A21: 5 | C21: 1pola automātslēdzis ~230V, C10A, Ac:9, "Schneider" vai ekvivalents | D21: gb | E21: 7
A22: 6 | C22: 1pola automātslēdzis ~230V, B6A, Ac:9, "Schneider" vai ekvivalents | D22: gb | E22: 1
A23: 7 | C23: 3-fāzes elektroenerģijas skaitītājs ~400V, <63A, kontroluzskaitei, iEM3135, "Schneider" vai ekvivalents | D23: gb | E23: 1
A24: 8 | C24: 4polu kontaktors ~400V, 25A, Uc=230V, KM, iCT, "Schneider" vai ekvivalents | D24: gb | E24: 1
A25: 9 | C25: Astronomiskais relejs Ac:9 IC Astro 2C SMART, ~230V, art.CCT15245, "Schneider" vai ekvivalents | D25: gb | E25: 1
A26: 10 | C26: 3 stāvokļu pārslēdzis (4 blok-kontak:), ~230V | D26: gb | E26: 1
A27: 11 | C27: 2. Kabeļi un caurules.
A28: 12 | C28: Spēka kabelis ar vara dzīslām ar PVH izolāciju un šķērsgriezumu 3x4mm², XPUJ-HF-0.45/0.75kV, "Prysmian" vai ekvivalents | D28: m | E28: 218
A29: 13 | C29: Spēka kabelis ar vara dzīslām ar PVH izolāciju un šķērsgriezumu 5x2.5mm², XPUJ-HF-0.45/0.75kV, "Prysmian" vai ekvivalents | D29: m | E29: 300
A30: 14 | C30: Spēka kabelis ar vara dzīslām ar PVH izolāciju un šķērsgriezumu 3x2.5mm², XPUJ-HF-0.45/0.75kV, "Prysmian" vai ekvivalents | D30: m | E30: 265
A31: 15 | C31: Spēka kabelis ar vara dzīslām ar PVH izolāciju un šķērsgriezumu 3x1.5mm², XPJ-HF-0.45/0.75kV, "Prysmian" vai ekvivalents | D31: m | E31: 2
A32: 16 | C32: PEHD caurule Ø50mm, EVOCAB FLEX, 450N, "evopipes" vai ekvivalents | D32: m | E32: 625
A33: 17 | C33: 3. Teritorijas apgaismojums.
A34: 18 | C34: Gaismeklis ar gaismas diodēm ~230V, kompl. ar barošanas bloku 28W, stabā h=5.0m virs zemes, IP65, 2658 lm, 3000°K, 85014 K3, "Bega" vai ekvivalents | D34: gb | E34: 8
A35: 19 | C35: Gaismeklis ar gaismas diodēm ~230V, kompl. ar barošanas bloku 6.4W, iebūv. sienā, IP65, 670 lm, 3000°K, 24207 K3, "Bega" vai ekvivalents | D35: gb | E35: 9
A36: 20 | C36: Gaismeklis ar gaismas diodēm ~230V, kompl. ar barošanas bloku 7W, iebūv. zemē, IP67, 670 lm, 3000°K, IK10, spiediena slodze 1000kg, 77089 K3, "Bega" vai ekvivalents | D36: gb | E36: 66
A37: 21 | C37: Nozarošanas spaiļu komplekts SV-15 | D37: gb | E37: 8
A38: 22 | C38: 1pola automātslēdzis ~230V, C6A | D38: gb | E38: 8
A39: 23 | C39: Betona pamats parka stabiem līdz 6m 91.8kg DBP-8 | D39: gb | E39: 8
A40: 24 | C40: Gumijas blīve 3-6m parka stabam GB04N | D40: gb | E40: 8
A41: 25 | C41: Cinkota tērauda konisks stabs h=5.0m CP5500-60, "Tecnopali" vai ekvivalents | D41: gb | E41: 8
A42: 26 | C42: 4. Zemējuma kontūrs.
A43: 27 | C43: Cinkota tērauda lente 30x3.5mm | D43: m | E43: 190
A44: 28 | C44: Cinkota tērauda stienis L=1.5m, Ø20mm, 219 20 ST FT, "Obo Bettermann" vai ekvivalents | D44: gb | E44: 76
A45: 29 | C45: Uzsišanas uzgalis zemējuma stieņiem ST, 1819 20BP, "Obo Bettermann" vai ekvivalents | D45: gb | E45: 19
A46: 30 | C46: Savienojums 30x3.5mm lente/20mm s:enis | D46: gb | E46: 19
A47: 31 | C47: Plastiska pretkorozijas aizsarglente 356100, L=10m, A=100mm, "Obo Betermann" vai ekvivalents | D47: gb | E47: 4
A51: =KT!A23 -> Sastādīja: | D51: =KT!C27 -> 2026. gada 17.aprīlī
A52: (paraksts un tā atšifrējums, datums)
A53: =KT!A25 -> Sertifikāta Nr.:
A55: =KT!A27 -> Pārbaudīja: | D55: =KT!C27 -> 2026. gada 17.aprīlī
A56: (paraksts un tā atšifrējums, datums)
A57: =KT!A29 -> Sertifikāta Nr.:

Sheet 3,2
A2: Būvdarbu apjomu saraksts Nr.3,2
A3: =KA!C45 -> Ārējie siltumtīkli
A4: (būvdarbu veids vai konstruktīvā elementa nosaukums)
A6: Objekta nosaukums: | C6: =KT!B9 -> Garkalnes Mākslas un vispārizglītojošās pamatskolas piebūve
A7: Būves nosaukums: | C7: =KT!B10 -> Garkalnes Mākslas un vispārizglītojošā pamatskola
A8: Objekta adrese: | C8: =KT!B11 -> Ropažu novads, Garkalne, Vidzemes šoseja 34, LV-2137
A9: Pasūtījuma nr.: | C9: =KT!B12 -> 3DAD_228_GV34_L
A11: Apjomi sastādīti, pamatojoties uz būvprojekta rasējumiem
A14: Nr.p.k. | B14: Kods | C14: Būvdarbu nosaukums | D14: Mērvienība | E14: Daudzums
A17: 1 | C17: Siltumtrases materiāli
A18: 2 | C18: Rūpnieciski izolēta lokanā siltumtrases caurule Ecoflex VIP Thermo Twin PN 6 2x75/250 vai ekvivalents | D18: m | E18: 35
A19: 3 | C19: Brīdinājuma lenta | D19: m | E19: 15
A20: 4 | C20: Pamatus/betona grīdas šķērsošanas komplekts (elastīgais ievads, hermētiķi utt) d250mm | D20: kpl | E20: 2
A21: 5 | C21: Ievads katlu mājā, pievienojums esošajiem tīkliem* | D21: kpl | E21: 1
A22: 6 | C22: Ievads piebūves ēkā | D22: kpl | E22: 1
A23: 7 | C23: Aizsargčaula | D23: kpl | E23: 2
A24: 8 | C24: Blīvēšanas un hermetizācijas materiāli | D24: kpl | E24: 1
A25: 9 | C25: Montāžas komplekts | D25: kpl | E25: 1
A26: 10 | C26: Palīgmateriāli | D26: kpl | E26: 1
A27: 11 | C27: Siltumtrases izbūves darbu apjomi
A28: 12 | C28: Tranšeju izrakšana un sagatavošana | D28: kpl | E28: 1
A29: 13 | C29: Siltumtrases ieguldīšana un montāža | D29: kpl | E29: 1
A30: 14 | C30: Vertikālā līkuma (ievada katlu mājā) montāža | D30: kpl | E30: 2
A31: 15 | C31: Siltumtrases un vertikālā līkuma savienojuma montāža, izolēšana un hermetizācija | D31: kpl | E31: 1
A32: 16 | C32: Pamatus/betona grīdas šķērsošanas komplekta (elastīgā ievada) montāža | D32: kpl | E32: 2
A33: 17 | C33: Ievadu blīvēšana un hermetizācija | D33: kpl | E33: 1
A34: 18 | C34: Brīdinājuma lentas montāža | D34: kpl | E34: 1
A35: 19 | C35: Tranšeju aizrakšana | D35: kpl | E35: 1
A36: 20 | C36: Teritorijas seguma atjaunošana | D36: kpl | E36: 1
A37: 21 | C37: Palīgdarbi | D37: kpl | E37: 1
A41: =KT!A23 -> Sastādīja: | D41: =KT!C27 -> 2026. gada 17.aprīlī
A42: (paraksts un tā atšifrējums, datums)
A43: =KT!A25 -> Sertifikāta Nr.:
A45: =KT!A27 -> Pārbaudīja: | D45: =KT!C27 -> 2026. gada 17.aprīlī
A46: (paraksts un tā atšifrējums, datums)
A47: =KT!A29 -> Sertifikāta Nr.:

Sheet 3,3
A2: Būvdarbu apjomu saraksts Nr.3,3
A3: =KA!C46 -> Ārējie ūdensvada tīkli
A4: (būvdarbu veids vai konstruktīvā elementa nosaukums)
A6: Objekta nosaukums: | C6: =KT!B9 -> Garkalnes Mākslas un vispārizglītojošās pamatskolas piebūve
A7: Būves nosaukums: | C7: =KT!B10 -> Garkalnes Mākslas un vispārizglītojošā pamatskola
A8: Objekta adrese: | C8: =KT!B11 -> Ropažu novads, Garkalne, Vidzemes šoseja 34, LV-2137
A9: Pasūtījuma nr.: | C9: =KT!B12 -> 3DAD_228_GV34_L
A11: Apjomi sastādīti, pamatojoties uz būvprojekta rasējumiem
A14: Nr.p.k. | B14: Kods | C14: Būvdarbu nosaukums | D14: Mērvienība | E14: Daudzums
A17: 1 | C17: ŪDENSVADS Ū1 (tai skaitā montāža)
A18: 2 | C18: Polietilēna ūdensvada caurule (PE 100) Dn110mm, PN10, tās montāža tranšejā 1,7 -1,8 m dziļumā | D18: m | E18: 69
A19: 3 | C19: Ūdensvada trases nospraušana - ārējie tīkli | D19: m | E19: 69
A20: 4 | C20: Pievienošanās pie ārējiem* | D20: kpl | E20: 1
A21: 5 | C21: Ūdens skaitītāja mezgls | D21: kpl | E21: 1
A22: 6 | C22: Tranšeju un būvbedru rakšana un ar to saistītie darbi | D22: m3 | E22: 124
A23: 7 | C23: Smilts, no jauna pievesta (drenējoša Kf> 1m/dn) pamatnes ierīkošana zem U1 cauruļvadiem un | D23: m3 | E23: 10
A24: 8 | C24: Būvbedru aizbēršana, kā arī noblīvēšana pa slāņiem tranšejas platumā 1,5 m | D24: m3 | E24: 114
A25: 9 | C25: Seguma atjaunošana | D25: m2 | E25: 69
A26: 10 | C26: Ūdensvada sistēmas hidrauliskā spiediena pārbaude, t.sk visi ar to saistītie darbi | D26: kpl | E26: 1
A27: 11 | C27: Ūdensvada sistēmas dezinfekcija | D27: kpl | E27: 1
A28: 12 | C28: Savienojumi, projektā neuzrādīti veidgabali, blīvējums, pakulas, smēre u.c., montāža | D28: kpl | E28: 1
A32: =KT!A23 -> Sastādīja: | D32: =KT!C27 -> 2026. gada 17.aprīlī
A33: (paraksts un tā atšifrējums, datums)
A34: =KT!A25 -> Sertifikāta Nr.:
A36: =KT!A27 -> Pārbaudīja: | D36: =KT!C27 -> 2026. gada 17.aprīlī
A37: (paraksts un tā atšifrējums, datums)
A38: =KT!A29 -> Sertifikāta Nr.:

Sheet 3,4
A2: Būvdarbu apjomu saraksts Nr.3,4
A3: =KA!C47 -> Ārējie kanalizācijas tīkli. Attīrīšanas ietaises
A4: (būvdarbu veids vai konstruktīvā elementa nosaukums)
A6: Objekta nosaukums: | C6: =KT!B9 -> Garkalnes Mākslas un vispārizglītojošās pamatskolas piebūve
A7: Būves nosaukums: | C7: =KT!B10 -> Garkalnes Mākslas un vispārizglītojošā pamatskola
A8: Objekta adrese: | C8: =KT!B11 -> Ropažu novads, Garkalne, Vidzemes šoseja 34, LV-2137
A9: Pasūtījuma nr.: | C9: =KT!B12 -> 3DAD_228_GV34_L
A11: Apjomi sastādīti, pamatojoties uz būvprojekta rasējumiem
A14: Nr.p.k. | B14: Kods | C14: Būvdarbu nosaukums | D14: Mērvienība | E14: Daudzums
A17: 1 | C17: KANALIZĀCIJA K1 (tai skaitā montāža)
A18: 2 | C18: PP monolītsienu kanalizācijas caurule, Dn110 SN8 | D18: m | E18: 22
A19: 3 | C19: PP monolītsienu kanalizācijas caurule, Dn200 SN8 | D19: m | E19: 73
A20: 4 | C20: Pievienojums esošiem tīkliem* | D20: kpl | E20: 1
A21: 5 | C21: Aizsarguzmava caurulei Dn110 iebetonēšanai | D21: gb | E21: 7
A22: 6 | C22: Aizsarguzmava caurulei Dn200 iebetonēšanai | D22: gb | E22: 11
A23: 7 | C23: Aka D0,4m, ar pamatni, vāku, h=0,9-3,2m | D23: kpl | E23: 6
A24: 8 | C24: Tranšeju un būvbedru rakšana, ietverot grunts izvešanu uz atbērtni un visi ar to saistītie darbi | D24: m3 | E24: 95
A25: 9 | C25: Smilts, no jauna pievesta (drenējoša Kf> 1m/dn) pamatnes ierīkošana zem K1 cauruļvadiem, akām un | D25: m3 | E25: 14
A26: 10 | C26: Būvbedru aizbēršana, kā arī noblīvēšana pa slāņiem tranšejas platumā 1,5 m | D26: m3 | E26: 81
A27: 11 | C27: Seguma atjaunošana | D27: m2 | E27: 95
A28: 12 | C28: Citi neuzskaitītie papildus materiāli K1 sistēmai | D28: kpl | E28: 1
A32: =KT!A23 -> Sastādīja: | D32: =KT!C27 -> 2026. gada 17.aprīlī
A33: (paraksts un tā atšifrējums, datums)
A34: =KT!A25 -> Sertifikāta Nr.:
A36: =KT!A27 -> Pārbaudīja: | D36: =KT!C27 -> 2026. gada 17.aprīlī
A37: (paraksts un tā atšifrējums, datums)
A38: =KT!A29 -> Sertifikāta Nr.:

Sheet 3,5
A2: Būvdarbu apjomu saraksts Nr.3,5
A3: =KA!C48 -> Lietusūdens kanalizācijas tīkli
A4: (būvdarbu veids vai konstruktīvā elementa nosaukums)
A6: Objekta nosaukums: | C6: =KT!B9 -> Garkalnes Mākslas un vispārizglītojošās pamatskolas piebūve
A7: Būves nosaukums: | C7: =KT!B10 -> Garkalnes Mākslas un vispārizglītojošā pamatskola
A8: Objekta adrese: | C8: =KT!B11 -> Ropažu novads, Garkalne, Vidzemes šoseja 34, LV-2137
A9: Pasūtījuma nr.: | C9: =KT!B12 -> 3DAD_228_GV34_L
A11: Apjomi sastādīti, pamatojoties uz būvprojekta rasējumiem
A14: Nr.p.k. | B14: Kods | C14: Būvdarbu nosaukums | D14: Mērvienība | E14: Daudzums
A17: 1 | C17: LIETUS KANALIZĀCIJA LK (tai skaitā montāža) infiltrācijai gruntī
A18: 2 | C18: PP monolītsienu kanalizācijas caurule, Dn110 SN8 | D18: m | E18: 25
A19: 3 | C19: PP monolītsienu kanalizācijas caurule, Dn200 SN8 | D19: m | E19: 180
A20: 4 | C20: LKA aka D400, h=<3,6 m | D20: kpl | E20: 11
A21: 5 | C21: LKA pievienojums jumt teknēm* | D21: kpl | E21: 8
A22: 6 | C22: Tranšeju un būvbedru rakšana, ietverot grunts izvešanu uz atbērtni un visi ar to saistītie darbi | D22: m3 | E22: 308
A23: 7 | C23: Smilts, no jauna pievesta (drenējoša Kf> 1m/dn) pamatnes ierīkošana zem K1 cauruļvadiem, akām un apbēruma veidošana virs cauruļvadiem 0,3m, ietverot noblīvēšanu | D23: m3 | E23: 9
A24: 8 | C24: Būvbedru aizbēršana, kā arī noblīvēšana pa slāņiem tranšejas platumā 1,5 m | D24: m3 | E24: 298
A25: 9 | C25: Seguma atjaunošana | D25: m2 | E25: 205
A26: 10 | C26: Citi neuzskaitītie papildus materiāli LKT sistēmai | D26: kpl | E26: 1
A27: 11 | C27: Infiltrācijas kasetes AquaCell Lite inf. kasete 390x500x1000 vai ekvivalents | D27: gb | E27: 124
A31: =KT!A23 -> Sastādīja: | D31: =KT!C27 -> 2026. gada 17.aprīlī
A32: (paraksts un tā atšifrējums, datums)
A33: =KT!A25 -> Sertifikāta Nr.:
A35: =KT!A27 -> Pārbaudīja: | D35: =KT!C27 -> 2026. gada 17.aprīlī
A36: (paraksts un tā atšifrējums, datums)
A37: =KT!A29 -> Sertifikāta Nr.:

Sheet 3,6
A2: Būvdarbu apjomu saraksts Nr.3,6
A3: =KA!C49 -> Vājstrāvas tīkli
A4: (būvdarbu veids vai konstruktīvā elementa nosaukums)
A6: Objekta nosaukums: | C6: =KT!B9 -> Garkalnes Mākslas un vispārizglītojošās pamatskolas piebūve
A7: Būves nosaukums: | C7: =KT!B10 -> Garkalnes Mākslas un vispārizglītojošā pamatskola
A8: Objekta adrese: | C8: =KT!B11 -> Ropažu novads, Garkalne, Vidzemes šoseja 34, LV-2137
A9: Pasūtījuma nr.: | C9: =KT!B12 -> 3DAD_228_GV34_L
A11: Apjomi sastādīti, pamatojoties uz būvprojekta rasējumiem
A14: Nr.p.k. | B14: Kods | C14: Būvdarbu nosaukums | D14: Mērvienība | E14: Daudzums
A17: 1 | C17: Iekārtu, konstrukciju un būvizstrādājumu kopsavilkums
A18: 2 | C18: Kabeļu kanalizācijas caurule 100x6000 | D18: gb | E18: 15
A19: 3 | C19: Plastmasas aka KP-PEH-800x650mm ar kv.pam. KP-PEH 800x650 vai ekvivalents | D19: kpl | E19: 3
A20: 4 | C20: Dībelis saitītēm 10x43(JST) | D20: gb | E20: 30
A21: 5 | C21: Kab. kanalizācijas akas vāks (max. slodze 12,5 t) | D21: kpl | E21: 3
A22: 6 | C22: Silikons N, neitrāls hermēt.310ml vai ekvivalents | D22: gb | E22: 1
A23: 7 | C23: Atloks dzelzsb. gredz. pilnai fiksācijai | D23: gb | E23: 9
A24: 8 | C24: Kabeļu akas dzelzbetona riņķis | D24: kpl | E24: 6
A25: 9 | C25: Kabeļu cauruļu blīvēšanas materiāls 16 A | D25: gb | E25: 1
A26: 10 | C26: Salizturīga smilts komunikāciju ”spilvenam” vai ekvivalents | D26: m3 | E26: 6.3
A27: 11 | C27: Strēmelēs plīstošā brīdin. lenta 50mmx500m | D27: gb | E27: 1
A28: 12 | C28: Virve kabeļa ievilkšanai 6mm/500m | D28: gb | E28: 1
A29: 13 | C29: Gofrētā caurule iekštelpām d40 | D29: m | E29: 60
A30: 14 | C30: Montāžas materiāli cauruļu savienojumi, naglas utt. | D30: kpl | E30: 1
A31: 15 | C31: Uzmavas komplekts (Nitto) JCSA 200 vai ekvivalents | D31: kpl | E31: 1
A32: 16 | C32: Pazemes kabelis 50x2x0.5, želejas pild. | D32: m | E32: 133
A33: 17 | C33: Būvdarbu apjomu saraksts
A34: 18 | C34: Kabeļu kanalizācijas celtniecība, ja cauruļu skaits blokā: 1 | D34: m | E34: 90
A35: 19 | C35: Kabeļu kanalizācijas cauruļu ieguldīšana tranšejā | D35: m | E35: 90
A36: 20 | C36: Kabeļu akas PEH uzstādīšana | D36: kpl | E36: 3
A37: 21 | C37: Ievada izveidošana ēkā | D37: gb | E37: 1
A38: 22 | C38: Iekštelpas stāvvada izbūvēšana | D38: m | E38: 1
A39: 23 | C39: Tranšejas rakšana (ar rokām) | D39: m | E39: 90
A40: 24 | C40: Kabeļa ievietošana kabeļu kanalizācijā | D40: m | E40: 113
A41: 25 | C41: Kabeļa guldīšana iekštelpās | D41: m | E41: 30
A42: 26 | C42: Uzmavas uzstādīšana | D42: gb | E42: 1
A43: 27 | C43: Stāvvada izveidošana | D43: gb | E43: 1
A44: 28 | C44: Papilddarbi | D44: kpl | E44: 1
A48: =KT!A23 -> Sastādīja: | D48: =KT!C27 -> 2026. gada 17.aprīlī
A49: (paraksts un tā atšifrējums, datums)
A50: =KT!A25 -> Sertifikāta Nr.:
A52: =KT!A27 -> Pārbaudīja: | D52: =KT!C27 -> 2026. gada 17.aprīlī
A53: (paraksts un tā atšifrējums, datums)
A54: =KT!A29 -> Sertifikāta Nr.:
