Workbook
Name datums: [1]KA!$K$45
Name likme: KT!$E$22
Name parb: [1]KA!$K$43
Name procenti: #REF!
Name sast: [1]KA!$K$42
Name sertif: [1]KA!$K$44

Sheet KT
C2: APSTIPRINU_________________________________
C3: (pasūtītāja paraksts un tā atšifrējums)
C4: Z.V.
C5: ___.gada ___.______________
A7: Būvniecības koptāme
A9: Objekta nosaukums: | B9: Garkalnes Mākslas un vispārizglītojošās pamatskolas piebūve
A10: Būves nosaukums: | B10: Garkalnes Mākslas un vispārizglītojošā pamatskola
A11: Objekta adrese: | B11: Ropažu novads, Garkalne, Vidzemes šoseja 34, LV-2137
A12: Pasūtījuma nr.:
A14: Nr.p.k. | B14: Objekta nosaukums | C14: Objekta izmaksas (euro)
A15: 1 | B15: =B9 -> Garkalnes Mākslas un vispārizglītojošās pamatskolas piebūve | C15: =KA!E51 -> 0
B18: Kopā | C18: =SUM(C15:C17) -> 0
D19: Virsizdevumi | E19: 0.1
A20: PVN (21%) | C20: =ROUND(C18*21%,2) -> 0 | D20: DA | E20: 0.05
D21: Peļņa | E21: 0.07
D22: Likme | E22: 15

Sheet KA
A2: Kopsavilkuma aprēķins nr.1
A3: =C6 -> Garkalnes Mākslas un vispārizglītojošās pamatskolas piebūve
A4: (būvdarbu veids vai konstruktīvā elementa nosaukums)
A6: Objekta nosaukums: | C6: =KT!B9 -> Garkalnes Mākslas un vispārizglītojošās pamatskolas piebūve
A7: Būves nosaukums: | C7: =KT!B10 -> Garkalnes Mākslas un vispārizglītojošā pamatskola
A8: Objekta adrese: | C8: =KT!B11 -> Ropažu novads, Garkalne, Vidzemes šoseja 34, LV-2137
A9: Pasūtījuma nr.: | C9: =KT!B12 -> 0
C10: Par kopējo summu (euro) | E10: =E51 -> 0
C11: Kopējā darbietilpība (c/h) | E11: =SUM(I14:I49) -> 0
A12: Nr.p.k. | B12: kods, tāmes nr. | C12: Būvdarbu veids vai konstruktīvā elementa nosaukums | E12: Tāmes izmaksas | F12: Tai skaitā | I12: Darbietilpība (c/h)
F13: Darba alga | G13: Būvizstrādājumi | H13: Mehānismi
A14: 1 | C14: 1. Vispārējie būvdarbi | E14: =SUM(F14:H14) -> 0 | I14: =ROUND(F14/likme,2) -> 0
A15: 2 | B15: 1.1 | C15: Zemes darbi | E15: =SUM(F15:H15) -> 0 | F15: ='1,1'!M21 -> 0 | G15: ='1,1'!N21 -> 0 | H15: ='1,1'!O21 -> 0 | I15: =ROUND(F15/likme,2) -> 0
A16: 3 | B16: 1.2 | C16: Pamati un pamatnes | E16: =SUM(F16:H16) -> 0 | F16: ='1,2'!M35 -> 0 | G16: ='1,2'!N35 -> 0 | H16: ='1,2'!O35 -> 0 | I16: =ROUND(F16/likme,2) -> 0
A17: 4 | B17: 1.3 | C17: Sienas, ēku un būvju karkasu konstrukcijas | E17: =SUM(F17:H17) -> 0 | F17: ='1,3'!M158 -> 0 | G17: ='1,3'!N158 -> 0 | H17: ='1,3'!O158 -> 0 | I17: =ROUND(F17/likme,2) -> 0
A18: 5 | B18: 1.4 | C18: Starpsienas | E18: =SUM(F18:H18) -> 0 | F18: ='1,4'!M55 -> 0 | G18: ='1,4'!N55 -> 0 | H18: ='1,4'!O55 -> 0 | I18: =ROUND(F18/likme,2) -> 0
A19: 6 | B19: 1.5 | C19: Grīdu pamatnes, segumi | E19: =SUM(F19:H19) -> 0 | F19: ='1,5'!M58 -> 0 | G19: ='1,5'!N58 -> 0 | H19: ='1,5'!O58 -> 0 | I19: =ROUND(F19/likme,2) -> 0
A20: 7 | B20: 1.6 | C20: Jumti, segumi | E20: =SUM(F20:H20) -> 0 | F20: ='1,6'!M97 -> 0 | G20: ='1,6'!N97 -> 0 | H20: ='1,6'!O97 -> 0 | I20: =ROUND(F20/likme,2) -> 0
A21: 8 | B21: 1.7 | C21: Aiļu aizpildījumu elementi, speciālo konstrukciju fasādes | E21: =SUM(F21:H21) -> 0 | F21: ='1,7'!M116 -> 0 | G21: ='1,7'!N116 -> 0 | H21: ='1,7'!O116 -> 0 | I21: =ROUND(F21/likme,2) -> 0
A22: 9 | B22: 1.8 | C22: Iekšējie apdares darbi | E22: =SUM(F22:H22) -> 0 | F22: ='1,8'!M113 -> 0 | G22: ='1,8'!N113 -> 0 | H22: ='1,8'!O113 -> 0 | I22: =ROUND(F22/likme,2) -> 0
A23: 10 | B23: 1.9 | C23: Ārējie apdares darbi | E23: =SUM(F23:H23) -> 0 | F23: ='1,9'!M84 -> 0 | G23: ='1,9'!N84 -> 0 | H23: ='1,9'!O84 -> 0 | I23: =ROUND(F23/likme,2) -> 0
A24: 11 | B24: 1.1 | C24: Žogi, nožogojumi, vārti un vārtiņi | E24: =SUM(F24:H24) -> 0 | F24: ='1,10'!M29 -> 0 | G24: ='1,10'!N29 -> 0 | H24: ='1,10'!O29 -> 0 | I24: =ROUND(F24/likme,2) -> 0
A25: 12 | B25: 1.11 | C25: Ceļi un laukumi | E25: =SUM(F25:H25) -> 0 | F25: ='1,11'!M93 -> 0 | G25: ='1,11'!N93 -> 0 | H25: ='1,11'!O93 -> 0 | I25: =ROUND(F25/likme,2) -> 0
A26: 13 | B26: 1.12 | C26: Apzaļumošanas darbi | E26: =SUM(F26:H26) -> 0 | F26: ='1,12'!M40 -> 0 | G26: ='1,12'!N40 -> 0 | H26: ='1,12'!O40 -> 0 | I26: =ROUND(F26/likme,2) -> 0
A27: 14 | B27: 1.13 | C27: Dažādi darbi - labiekārtojuma elementi | E27: =SUM(F27:H27) -> 0 | F27: ='1,13'!M55 -> 0 | G27: ='1,13'!N55 -> 0 | H27: ='1,13'!O55 -> 0 | I27: =ROUND(F27/likme,2) -> 0
A28: 15 | B28: 1.14 | C28: Dažādi darbi - ēdnīcas aprīkojums | E28: =SUM(F28:H28) -> 0 | F28: ='1,14'!M33 -> 0 | G28: ='1,14'!N33 -> 0 | H28: ='1,14'!O33 -> 0 | I28: =ROUND(F28/likme,2) -> 0
A29: 16 | C29: 2. Specializētie darbi – iekšējie tīkli, sistēmas | E29: =SUM(F29:H29) -> 0 | I29: =ROUND(F29/likme,2) -> 0
A30: 17 | B30: 2.1 | C30: Iekšējie elektrotīkli, apgaismojums, spēka pievadi | E30: =SUM(F30:H30) -> 0 | F30: ='2,1'!M226 -> 0 | G30: ='2,1'!N226 -> 0 | H30: ='2,1'!O226 -> 0 | I30: =ROUND(F30/likme,2) -> 0
A31: 18 | B31: 2.2 | C31: Iekšējās apkures sistēmas | E31: =SUM(F31:H31) -> 0 | F31: ='2,2'!M141 -> 0 | G31: ='2,2'!N141 -> 0 | H31: ='2,2'!O141 -> 0 | I31: =ROUND(F31/likme,2) -> 0
A32: 19 | B32: 2.3 | C32: Vēdināšana, gaisa kondicionēšana | E32: =SUM(F32:H32) -> 0 | F32: ='2,3'!M309 -> 0 | G32: ='2,3'!N309 -> 0 | H32: ='2,3'!O309 -> 0 | I32: =ROUND(F32/likme,2) -> 0
A33: 20 | B33: 2.4 | C33: Iekšējie ūdensvada tīkli, aprīkojums | E33: =SUM(F33:H33) -> 0 | F33: ='2,4'!M99 -> 0 | G33: ='2,4'!N99 -> 0 | H33: ='2,4'!O99 -> 0 | I33: =ROUND(F33/likme,2) -> 0
A34: 21 | B34: 2.5 | C34: Iekšējie kanalizācijas tīkli, aprīkojums | E34: =SUM(F34:H34) -> 0 | F34: ='2,5'!M62 -> 0 | G34: ='2,5'!N62 -> 0 | H34: ='2,5'!O62 -> 0 | I34: =ROUND(F34/likme,2) -> 0
A35: 22 | B35: 2.6 | C35: Vājstrāvas tīkli - UATS | E35: =SUM(F35:H35) -> 0 | F35: ='2,6'!M42 -> 0 | G35: ='2,6'!N42 -> 0 | H35: ='2,6'!O42 -> 0 | I35: =ROUND(F35/likme,2) -> 0
A36: 23 | B36: 2.7 | C36: Vājstrāvas tīkli - AS | E36: =SUM(F36:H36) -> 0 | F36: ='2,7'!M38 -> 0 | G36: ='2,7'!N38 -> 0 | H36: ='2,7'!O38 -> 0 | I36: =ROUND(F36/likme,2) -> 0
A37: 24 | B37: 2.8 | C37: Vājstrāvas tīkli - CI | E37: =SUM(F37:H37) -> 0 | F37: ='2,8'!M44 -> 0 | G37: ='2,8'!N44 -> 0 | H37: ='2,8'!O44 -> 0 | I37: =ROUND(F37/likme,2) -> 0
A38: 25 | B38: 2.9 | C38: Vājstrāvas tīkli - DA | E38: =SUM(F38:H38) -> 0 | F38: ='2,9'!M30 -> 0 | G38: ='2,9'!N30 -> 0 | H38: ='2,9'!O30 -> 0 | I38: =ROUND(F38/likme,2) -> 0
A39: 26 | B39: 2.1 | C39: Vājstrāvas tīkli - TK | E39: =SUM(F39:H39) -> 0 | F39: ='2,10'!M52 -> 0 | G39: ='2,10'!N52 -> 0 | H39: ='2,10'!O52 -> 0 | I39: =ROUND(F39/likme,2) -> 0
A40: 27 | B40: 2.11 | C40: Vājstrāvas tīkli - VAS | E40: =SUM(F40:H40) -> 0 | F40: ='2,11'!M46 -> 0 | G40: ='2,11'!N46 -> 0 | H40: ='2,11'!O46 -> 0 | I40: =ROUND(F40/likme,2) -> 0
A41: 28 | B41: 2.12 | C41: Vājstrāvas tīkli - VN | E41: =SUM(F41:H41) -> 0 | F41: ='2,12'!M43 -> 0 | G41: ='2,12'!N43 -> 0 | H41: ='2,12'!O43 -> 0 | I41: =ROUND(F41/likme,2) -> 0
A42: 29 | B42: 2.13 | C42: Lifti, liftu šahtas | E42: =SUM(F42:H42) -> 0 | F42: ='2,13'!M19 -> 0 | G42: ='2,13'!N19 -> 0 | H42: ='2,13'!O19 -> 0 | I42: =ROUND(F42/likme,2) -> 0
A43: 30 | C43: 3. Specializētie darbi – ārējie tīkli, sistēmas | E43: =SUM(F43:H43) -> 0 | I43: =ROUND(F43/likme,2) -> 0
A44: 31 | B44: 3.1 | C44: Ārējie elektrotīkli, apgaismojums. Maģistrālās elektrolīnijas | E44: =SUM(F44:H44) -> 0 | F44: ='3,1'!M49 -> 0 | G44: ='3,1'!N49 -> 0 | H44: ='3,1'!O49 -> 0 | I44: =ROUND(F44/likme,2) -> 0
A45: 32 | B45: 3.2 | C45: Ārējie siltumtīkli | E45: =SUM(F45:H45) -> 0 | F45: ='3,2'!M39 -> 0 | G45: ='3,2'!N39 -> 0 | H45: ='3,2'!O39 -> 0 | I45: =ROUND(F45/likme,2) -> 0
A46: 33 | B46: 3.3 | C46: Ārējie ūdensvada tīkli | E46: =SUM(F46:H46) -> 0 | F46: ='3,3'!M30 -> 0 | G46: ='3,3'!N30 -> 0 | H46: ='3,3'!O30 -> 0 | I46: =ROUND(F46/likme,2) -> 0
A47: 34 | B47: 3.4 | C47: Ārējie kanalizācijas tīkli. Attīrīšanas ietaises | E47: =SUM(F47:H47) -> 0 | F47: ='3,4'!M30 -> 0 | G47: ='3,4'!N30 -> 0 | H47: ='3,4'!O30 -> 0 | I47: =ROUND(F47/likme,2) -> 0
A48: 35 | B48: 3.5 | C48: Lietusūdens kanalizācijas tīkli | E48: =SUM(F48:H48) -> 0 | F48: ='3,5'!M29 -> 0 | G48: ='3,5'!N29 -> 0 | H48: ='3,5'!O29 -> 0 | I48: =ROUND(F48/likme,2) -> 0
A49: 36 | B49: 3.6 | C49: Vājstrāvas tīkli | E49: =SUM(F49:H49) -> 0 | F49: ='3,6'!M46 -> 0 | G49: ='3,6'!N46 -> 0 | H49: ='3,6'!O46 -> 0 | I49: =ROUND(F49/likme,2) -> 0
A50: Kopā | E50: =SUM(E14:E49) -> 0
A51: Pavisam kopā | E51: =ROUND(E50,2) -> 0
A53: =KT!A23 -> 0 | E53: =KT!C27 -> 0
A54: (paraksts un tā atšifrējums, datums)
A55: =KT!A25 -> 0
A57: =KT!A27 -> 0 | E57: =KT!C27 -> 0
A58: (paraksts un tā atšifrējums, datums)
A59: =KT!A29 -> 0

Sheet 1,1
A2: Lokālā tāme Nr.1,1
A3: =KA!C15 -> Zemes darbi
A4: (būvdarbu veids vai konstruktīvā elementa nosaukums)
A6: Objekta nosaukums: | C6: =KT!B9 -> Garkalnes Mākslas un vispārizglītojošās pamatskolas piebūve
A7: Būves nosaukums: | C7: =KT!B10 -> Garkalnes Mākslas un vispārizglītojošā pamatskola
A8: Objekta adrese: | C8: =KT!B11 -> Ropažu novads, Garkalne, Vidzemes šoseja 34, LV-2137
A9: Pasūtījuma nr.: | C9: =KT!B12 -> 0
A11: Tāme sastādīta 2026. gada tirgus cenās, pamatojoties uz būvprojekta rasējumiem | M11: Tāmes izmaksas: | O11: =P21 -> 0 | P11: EUR
N12: Tāme sastādītā | O12: =KT!C27 -> 0
A14: Nr.p.k. | B14: Kods | C14: Būvdarbu nosaukums | D14: Mērvienība | E14: Daudzums | F14: Vienības izmaksas | L14: Kopā uz visu apjomu
F15: Laika norma (c/h) | G15: Darba samaksas likme (euro/h) | H15: Darba alga | I15: Būvizstrādājumi | J15: Mehānismi | K15: KOPĀ | L15: Darbietilpība (c/h) | M15: Darba alga | N15: Būvizstrādājumi | O15: Mehānismi | P15: Summa
A17: 1 | C17: Rakt būvbedri līdz projektā paredzētajam dziļumam | D17: m3 | E17: 9359.53 | F17: 0 | G17: =IF(F17>0,likme,0) -> 0 | H17: =ROUND(F17*G17,2) -> 0 | I17: 0 | J17: 0 | K17: =SUM(H17:J17) -> 0 | L17: =ROUND(E17*F17,2) -> 0 | M17: =ROUND(E17*H17,2) -> 0 | N17: =ROUND(E17*I17,2) -> 0 | O17: =ROUND(E17*J17,2) -> 0 | P17: =SUM(M17:O17) -> 0
A18: 2 | C18: Izvest lieko grunti uz būvuzņēmēja atbērtni un utilizēt | D18: m3 | E18: 9359.53 | F18: 0 | G18: =IF(F18>0,likme,0) -> 0 | H18: =ROUND(F18*G18,2) -> 0 | I18: 0 | J18: 0 | K18: =SUM(H18:J18) -> 0 | L18: =ROUND(E18*F18,2) -> 0 | M18: =ROUND(E18*H18,2) -> 0 | N18: =ROUND(E18*I18,2) -> 0 | O18: =ROUND(E18*J18,2) -> 0 | P18: =SUM(M18:O18) -> 0
A19: 3 | C19: Visus grunts atbēršanas darbus jāveic izmantojot kvalitatīvas un standartiem atbilstošas sablietētas smiltis, klājot slāni uz slāņa, kur maksimālais slāņa biezums ir līdz 0.2 m. | D19: m3 | E19: 8889.73 | F19: 0 | G19: =IF(F19>0,likme,0) -> 0 | H19: =ROUND(F19*G19,2) -> 0 | I19: 0 | J19: 0 | K19: =SUM(H19:J19) -> 0 | L19: =ROUND(E19*F19,2) -> 0 | M19: =ROUND(E19*H19,2) -> 0 | N19: =ROUND(E19*I19,2) -> 0 | O19: =ROUND(E19*J19,2) -> 0 | P19: =SUM(M19:O19) -> 0
A21: Tiešās izmaksas kopā, t.sk. Darba dēvēja sociālais nodoklis (23,59%) | L21: =SUM(L17:L20) -> 0 | M21: =SUM(M17:M20) -> 0 | N21: =SUM(N17:N20) -> 0 | O21: =SUM(O17:O20) -> 0 | P21: =SUM(P17:P20) -> 0
A23: =KT!A23 -> 0 | D23: =KT!C27 -> 0
A24: (paraksts un tā atšifrējums, datums)
A25: =KT!A25 -> 0
A27: =KT!A27 -> 0 | D27: =KT!C27 -> 0
A28: (paraksts un tā atšifrējums, datums)
A29: =KT!A29 -> 0

Sheet 1,2
A2: Lokālā tāme Nr.1,2
A3: =KA!C16 -> Pamati un pamatnes
A4: (būvdarbu veids vai konstruktīvā elementa nosaukums)
A6: Objekta nosaukums: | C6: =KT!B9 -> Garkalnes Mākslas un vispārizglītojošās pamatskolas piebūve
A7: Būves nosaukums: | C7: =KT!B10 -> Garkalnes Mākslas un vispārizglītojošā pamatskola
A8: Objekta adrese: | C8: =KT!B11 -> Ropažu novads, Garkalne, Vidzemes šoseja 34, LV-2137
A9: Pasūtījuma nr.: | C9: =KT!B12 -> 0
A11: Tāme sastādīta 2026. gada tirgus cenās, pamatojoties uz būvprojekta rasējumiem | M11: Tāmes izmaksas: | O11: =P35 -> 0 | P11: EUR
N12: Tāme sastādītā | O12: =KT!C27 -> 0
A14: Nr.p.k. | B14: Kods | C14: Būvdarbu nosaukums | D14: Mērvienība | E14: Daudzums | F14: Vienības izmaksas | L14: Kopā uz visu apjomu
F15: Laika norma (c/h) | G15: Darba samaksas likme (euro/h) | H15: Darba alga | I15: Būvizstrādājumi | J15: Mehānismi | K15: KOPĀ | L15: Darbietilpība (c/h) | M15: Darba alga | N15: Būvizstrādājumi | O15: Mehānismi | P15: Summa
A17: 1 | C17: Pamatnes | F17: 0 | G17: =IF(F17>0,likme,0) -> 0 | H17: =ROUND(F17*G17,2) -> 0 | I17: 0 | J17: 0 | K17: =SUM(H17:J17) -> 0 | L17: =ROUND(E17*F17,2) -> 0 | M17: =ROUND(E17*H17,2) -> 0 | N17: =ROUND(E17*I17,2) -> 0 | O17: =ROUND(E17*J17,2) -> 0 | P17: =SUM(M17:O17) -> 0
A18: 2 | C18: Ierīkot blietētu šķembu 20-45 kārtu zem pamatiem 100mm biezumā. | D18: m3 | E18: 56.65 | F18: 0 | G18: =IF(F18>0,likme,0) -> 0 | H18: =ROUND(F18*G18,2) -> 0 | I18: 0 | J18: 0 | K18: =SUM(H18:J18) -> 0 | L18: =ROUND(E18*F18,2) -> 0 | M18: =ROUND(E18*H18,2) -> 0 | N18: =ROUND(E18*I18,2) -> 0 | O18: =ROUND(E18*J18,2) -> 0 | P18: =SUM(M18:O18) -> 0
A19: 3 | C19: Pamati | F19: 0 | G19: =IF(F19>0,likme,0) -> 0 | H19: =ROUND(F19*G19,2) -> 0 | I19: 0 | J19: 0 | K19: =SUM(H19:J19) -> 0 | L19: =ROUND(E19*F19,2) -> 0 | M19: =ROUND(E19*H19,2) -> 0 | N19: =ROUND(E19*I19,2) -> 0 | O19: =ROUND(E19*J19,2) -> 0 | P19: =SUM(M19:O19) -> 0
A20: 4 | C20: Betonēt veidņos lentveida pamata pēdu (-5,625m) ar C30/37 XC2 klases betonu, betonu padodot ar sūkni iestrādes vietā, ieskaitot visus palīgmateriālus un stiprinājumus. | D20: m3 | E20: 111.58 | F20: 0 | G20: =IF(F20>0,likme,0) -> 0 | H20: =ROUND(F20*G20,2) -> 0 | I20: 0 | J20: 0 | K20: =SUM(H20:J20) -> 0 | L20: =ROUND(E20*F20,2) -> 0 | M20: =ROUND(E20*H20,2) -> 0 | N20: =ROUND(E20*I20,2) -> 0 | O20: =ROUND(E20*J20,2) -> 0 | P20: =SUM(M20:O20) -> 0
A21: 5 | C21: Betonēt veidņos stabveida pamatu pēdu (-5,625m) ar C30/37 XC2 klases betonu, betonu padodot ar sūkni iestrādes vietā, ieskaitot visus palīgmateriālus un stiprinājumus. | D21: m3 | E21: 12.33 | F21: 0 | G21: =IF(F21>0,likme,0) -> 0 | H21: =ROUND(F21*G21,2) -> 0 | I21: 0 | J21: 0 | K21: =SUM(H21:J21) -> 0 | L21: =ROUND(E21*F21,2) -> 0 | M21: =ROUND(E21*H21,2) -> 0 | N21: =ROUND(E21*I21,2) -> 0 | O21: =ROUND(E21*J21,2) -> 0 | P21: =SUM(M21:O21) -> 0
A22: 6 | C22: Stiegrot pamatus (-5,625m) ar B500B klases tērauda stiegrām, ieskaitot visus palīgmateriālus un stiprinājumus. | D22: kg | E22: 12233.1 | F22: 0 | G22: =IF(F22>0,likme,0) -> 0 | H22: =ROUND(F22*G22,2) -> 0 | I22: 0 | J22: 0 | K22: =SUM(H22:J22) -> 0 | L22: =ROUND(E22*F22,2) -> 0 | M22: =ROUND(E22*H22,2) -> 0 | N22: =ROUND(E22*I22,2) -> 0 | O22: =ROUND(E22*J22,2) -> 0 | P22: =SUM(M22:O22) -> 0
A23: 7 | C23: Betonēt veidņos lentveida pamata pēdu (-4,150m) ar C30/37 XC2 klases betonu, betonu padodot ar sūkni iestrādes vietā, ieskaitot visus palīgmateriālus un stiprinājumus. | D23: m3 | E23: 21.36 | F23: 0 | G23: =IF(F23>0,likme,0) -> 0 | H23: =ROUND(F23*G23,2) -> 0 | I23: 0 | J23: 0 | K23: =SUM(H23:J23) -> 0 | L23: =ROUND(E23*F23,2) -> 0 | M23: =ROUND(E23*H23,2) -> 0 | N23: =ROUND(E23*I23,2) -> 0 | O23: =ROUND(E23*J23,2) -> 0 | P23: =SUM(M23:O23) -> 0
A24: 8 | C24: Stiegrot pamatus (-4,150m) ar B500B klases tērauda stiegrām, ieskaitot visus palīgmateriālus un stiprinājumus. | D24: kg | E24: 2279.2 | F24: 0 | G24: =IF(F24>0,likme,0) -> 0 | H24: =ROUND(F24*G24,2) -> 0 | I24: 0 | J24: 0 | K24: =SUM(H24:J24) -> 0 | L24: =ROUND(E24*F24,2) -> 0 | M24: =ROUND(E24*H24,2) -> 0 | N24: =ROUND(E24*I24,2) -> 0 | O24: =ROUND(E24*J24,2) -> 0 | P24: =SUM(M24:O24) -> 0
A25: 9 | C25: Betonēt veidņos atbalstsienu ar C30/37 XC2 klases betonu, betonu padodot ar sūkni iestrādes vietā, ieskaitot visus palīgmateriālus un stiprinājumus. | D25: m3 | E25: 24.16 | F25: 0 | G25: =IF(F25>0,likme,0) -> 0 | H25: =ROUND(F25*G25,2) -> 0 | I25: 0 | J25: 0 | K25: =SUM(H25:J25) -> 0 | L25: =ROUND(E25*F25,2) -> 0 | M25: =ROUND(E25*H25,2) -> 0 | N25: =ROUND(E25*I25,2) -> 0 | O25: =ROUND(E25*J25,2) -> 0 | P25: =SUM(M25:O25) -> 0
A26: 10 | C26: Betonēt veidņos lentveida pamata sienu ar C30/37 XC2 klases betonu, betonu padodot ar sūkni iestrādes vietā, ieskaitot visus palīgmateriālus un stiprinājumus. | D26: m3 | E26: 251.27 | F26: 0 | G26: =IF(F26>0,likme,0) -> 0 | H26: =ROUND(F26*G26,2) -> 0 | I26: 0 | J26: 0 | K26: =SUM(H26:J26) -> 0 | L26: =ROUND(E26*F26,2) -> 0 | M26: =ROUND(E26*H26,2) -> 0 | N26: =ROUND(E26*I26,2) -> 0 | O26: =ROUND(E26*J26,2) -> 0 | P26: =SUM(M26:O26) -> 0
A27: 11 | C27: Betonēt veidņos stabveida pamata vertikālo daļu ar C30/37 XC2 klases betonu, betonu padodot ar sūkni iestrādes vietā, ieskaitot visus palīgmateriālus un stiprinājumus. | D27: m3 | E27: 3.92 | F27: 0 | G27: =IF(F27>0,likme,0) -> 0 | H27: =ROUND(F27*G27,2) -> 0 | I27: 0 | J27: 0 | K27: =SUM(H27:J27) -> 0 | L27: =ROUND(E27*F27,2) -> 0 | M27: =ROUND(E27*H27,2) -> 0 | N27: =ROUND(E27*I27,2) -> 0 | O27: =ROUND(E27*J27,2) -> 0 | P27: =SUM(M27:O27) -> 0
A28: 12 | C28: Stiegrot pamatu vertikālās daļas ar B500B klases tērauda stiegrām, ieskaitot visus palīgmateriālus un stiprinājumus. | D28: kg | E28: 27077.6 | F28: 0 | G28: =IF(F28>0,likme,0) -> 0 | H28: =ROUND(F28*G28,2) -> 0 | I28: 0 | J28: 0 | K28: =SUM(H28:J28) -> 0 | L28: =ROUND(E28*F28,2) -> 0 | M28: =ROUND(E28*H28,2) -> 0 | N28: =ROUND(E28*I28,2) -> 0 | O28: =ROUND(E28*J28,2) -> 0 | P28: =SUM(M28:O28) -> 0
A29: 13 | C29: Ieliekamās detaļas | F29: 0 | G29: =IF(F29>0,likme,0) -> 0 | H29: =ROUND(F29*G29,2) -> 0 | I29: 0 | J29: 0 | K29: =SUM(H29:J29) -> 0 | L29: =ROUND(E29*F29,2) -> 0 | M29: =ROUND(E29*H29,2) -> 0 | N29: =ROUND(E29*I29,2) -> 0 | O29: =ROUND(E29*J29,2) -> 0 | P29: =SUM(M29:O29) -> 0
A30: 14 | C30: Montēt ieliekamo detaļu HPM20P vai ekvivalents | D30: gb | E30: 64 | F30: 0 | G30: =IF(F30>0,likme,0) -> 0 | H30: =ROUND(F30*G30,2) -> 0 | I30: 0 | J30: 0 | K30: =SUM(H30:J30) -> 0 | L30: =ROUND(E30*F30,2) -> 0 | M30: =ROUND(E30*H30,2) -> 0 | N30: =ROUND(E30*I30,2) -> 0 | O30: =ROUND(E30*J30,2) -> 0 | P30: =SUM(M30:O30) -> 0
A31: 15 | C31: Urbt pamatos caurumus stiegru izvadiem | D31: gb | E31: 203 | F31: 0 | G31: =IF(F31>0,likme,0) -> 0 | H31: =ROUND(F31*G31,2) -> 0 | I31: 0 | J31: 0 | K31: =SUM(H31:J31) -> 0 | L31: =ROUND(E31*F31,2) -> 0 | M31: =ROUND(E31*H31,2) -> 0 | N31: =ROUND(E31*I31,2) -> 0 | O31: =ROUND(E31*J31,2) -> 0 | P31: =SUM(M31:O31) -> 0
A32: 16 | C32: Monet stiegras d20x330mm izvadu ielīmējot ar HILTI HIT-HY 150 MAX vai ekvivalents | D32: gb | E32: 6 | F32: 0 | G32: =IF(F32>0,likme,0) -> 0 | H32: =ROUND(F32*G32,2) -> 0 | I32: 0 | J32: 0 | K32: =SUM(H32:J32) -> 0 | L32: =ROUND(E32*F32,2) -> 0 | M32: =ROUND(E32*H32,2) -> 0 | N32: =ROUND(E32*I32,2) -> 0 | O32: =ROUND(E32*J32,2) -> 0 | P32: =SUM(M32:O32) -> 0
A33: 17 | C33: Monet stiegras d20x950mm izvadu ielīmējot ar HILTI HIT-HY 150 MAX vai ekvivalents | D33: gb | E33: 197 | F33: 0 | G33: =IF(F33>0,likme,0) -> 0 | H33: =ROUND(F33*G33,2) -> 0 | I33: 0 | J33: 0 | K33: =SUM(H33:J33) -> 0 | L33: =ROUND(E33*F33,2) -> 0 | M33: =ROUND(E33*H33,2) -> 0 | N33: =ROUND(E33*I33,2) -> 0 | O33: =ROUND(E33*J33,2) -> 0 | P33: =SUM(M33:O33) -> 0
A35: Tiešās izmaksas kopā, t.sk. Darba dēvēja sociālais nodoklis (23,59%) | L35: =SUM(L17:L34) -> 0 | M35: =SUM(M17:M34) -> 0 | N35: =SUM(N17:N34) -> 0 | O35: =SUM(O17:O34) -> 0 | P35: =SUM(P17:P34) -> 0
A37: =KT!A23 -> 0 | D37: =KT!C27 -> 0
A38: (paraksts un tā atšifrējums, datums)
A39: =KT!A25 -> 0
A41: =KT!A27 -> 0 | D41: =KT!C27 -> 0
A42: (paraksts un tā atšifrējums, datums)
A43: =KT!A29 -> 0

Sheet 1,3
A2: Lokālā tāme Nr.1,3
A3: =KA!C17 -> Sienas, ēku un būvju karkasu konstrukcijas
A4: (būvdarbu veids vai konstruktīvā elementa nosaukums)
A6: Objekta nosaukums: | C6: =KT!B9 -> Garkalnes Mākslas un vispārizglītojošās pamatskolas piebūve
A7: Būves nosaukums: | C7: =KT!B10 -> Garkalnes Mākslas un vispārizglītojošā pamatskola
A8: Objekta adrese: | C8: =KT!B11 -> Ropažu novads, Garkalne, Vidzemes šoseja 34, LV-2137
A9: Pasūtījuma nr.: | C9: =KT!B12 -> 0
A11: Tāme sastādīta 2026. gada tirgus cenās, pamatojoties uz būvprojekta rasējumiem | M11: Tāmes izmaksas: | O11: =P158 -> 0 | P11: EUR
N12: Tāme sastādītā | O12: =KT!C27 -> 0
A14: Nr.p.k. | B14: Kods | C14: Būvdarbu nosaukums | D14: Mērvienība | E14: Daudzums | F14: Vienības izmaksas | L14: Kopā uz visu apjomu
F15: Laika norma (c/h) | G15: Darba samaksas likme (euro/h) | H15: Darba alga | I15: Būvizstrādājumi | J15: Mehānismi | K15: KOPĀ | L15: Darbietilpība (c/h) | M15: Darba alga | N15: Būvizstrādājumi | O15: Mehānismi | P15: Summa
A17: 1 | C17: 1. stāva vertikālo konstrukciju plāns | F17: 0 | G17: =IF(F17>0,likme,0) -> 0 | H17: =ROUND(F17*G17,2) -> 0 | I17: 0 | J17: 0 | K17: =SUM(H17:J17) -> 0 | L17: =ROUND(E17*F17,2) -> 0 | M17: =ROUND(E17*H17,2) -> 0 | N17: =ROUND(E17*I17,2) -> 0 | O17: =ROUND(E17*J17,2) -> 0 | P17: =SUM(M17:O17) -> 0
A18: 2 | C18: Montēt saliekamās dz/b kolonnas, konstrukciju padodot ar celtni iestrādes vietā, ieskaitot visus palīgmateriālus un stiprinājumus. Betons C40/50, XC1 | D18: m3 | E18: 19.01 | F18: 0 | G18: =IF(F18>0,likme,0) -> 0 | H18: =ROUND(F18*G18,2) -> 0 | I18: 0 | J18: 0 | K18: =SUM(H18:J18) -> 0 | L18: =ROUND(E18*F18,2) -> 0 | M18: =ROUND(E18*H18,2) -> 0 | N18: =ROUND(E18*I18,2) -> 0 | O18: =ROUND(E18*J18,2) -> 0 | P18: =SUM(M18:O18) -> 0
A19: 3 | C19: Montēt saliekamās dz/b sienas 200mm, konstrukciju padodot ar celtni iestrādes vietā, ieskaitot visus palīgmateriālus un stiprinājumus. Betons C40/50, XC1 Aizpildīt šuves ar smalkgraudainu betonu C40/50 | D19: m2 | E19: 885.31 | F19: 0 | G19: =IF(F19>0,likme,0) -> 0 | H19: =ROUND(F19*G19,2) -> 0 | I19: 0 | J19: 0 | K19: =SUM(H19:J19) -> 0 | L19: =ROUND(E19*F19,2) -> 0 | M19: =ROUND(E19*H19,2) -> 0 | N19: =ROUND(E19*I19,2) -> 0 | O19: =ROUND(E19*J19,2) -> 0 | P19: =SUM(M19:O19) -> 0
A20: 4 | C20: Montēt saliekamās dz/b sienas 241mm, konstrukciju padodot ar celtni iestrādes vietā, ieskaitot visus palīgmateriālus un stiprinājumus. Betons C40/50, XC1 Aizpildīt šuves ar smalkgraudainu betonu C40/50 | D20: m2 | E20: 15.47 | F20: 0 | G20: =IF(F20>0,likme,0) -> 0 | H20: =ROUND(F20*G20,2) -> 0 | I20: 0 | J20: 0 | K20: =SUM(H20:J20) -> 0 | L20: =ROUND(E20*F20,2) -> 0 | M20: =ROUND(E20*H20,2) -> 0 | N20: =ROUND(E20*I20,2) -> 0 | O20: =ROUND(E20*J20,2) -> 0 | P20: =SUM(M20:O20) -> 0
A21: 5 | C21: Montēt saliekamās dz/b sienas 350mm, konstrukciju padodot ar celtni iestrādes vietā, ieskaitot visus palīgmateriālus un stiprinājumus. Betons C40/50, XC1 Aizpildīt šuves ar smalkgraudainu betonu C40/50 | D21: m2 | E21: 72.19 | F21: 0 | G21: =IF(F21>0,likme,0) -> 0 | H21: =ROUND(F21*G21,2) -> 0 | I21: 0 | J21: 0 | K21: =SUM(H21:J21) -> 0 | L21: =ROUND(E21*F21,2) -> 0 | M21: =ROUND(E21*H21,2) -> 0 | N21: =ROUND(E21*I21,2) -> 0 | O21: =ROUND(E21*J21,2) -> 0 | P21: =SUM(M21:O21) -> 0
A22: 6 | C22: Montēt saliekamās dz/b sienas 400mm, konstrukciju padodot ar celtni iestrādes vietā, ieskaitot visus palīgmateriālus un stiprinājumus. Betons C40/50, XC1 Aizpildīt šuves ar smalkgraudainu betonu C40/50 | D22: m2 | E22: 15.69 | F22: 0 | G22: =IF(F22>0,likme,0) -> 0 | H22: =ROUND(F22*G22,2) -> 0 | I22: 0 | J22: 0 | K22: =SUM(H22:J22) -> 0 | L22: =ROUND(E22*F22,2) -> 0 | M22: =ROUND(E22*H22,2) -> 0 | N22: =ROUND(E22*I22,2) -> 0 | O22: =ROUND(E22*J22,2) -> 0 | P22: =SUM(M22:O22) -> 0
A23: 7 | C23: Montēt saliekamās dz/b sienas 604mm, konstrukciju padodot ar celtni iestrādes vietā, ieskaitot visus palīgmateriālus un stiprinājumus. Betons C40/50, XC1 Aizpildīt šuves ar smalkgraudainu betonu C40/50 | D23: m2 | E23: 22.32 | F23: 0 | G23: =IF(F23>0,likme,0) -> 0 | H23: =ROUND(F23*G23,2) -> 0 | I23: 0 | J23: 0 | K23: =SUM(H23:J23) -> 0 | L23: =ROUND(E23*F23,2) -> 0 | M23: =ROUND(E23*H23,2) -> 0 | N23: =ROUND(E23*I23,2) -> 0 | O23: =ROUND(E23*J23,2) -> 0 | P23: =SUM(M23:O23) -> 0
A24: 8 | C24: Montēt tērauda kolonnas, ieskaitot visus palīgmateriālus un stiprinājumus. Visas metāla konstrukcijas izgatavojamas no tērauda ar stiprības klasi ne zemāku par S355J2. | D24: kg | E24: 240 | F24: 0 | G24: =IF(F24>0,likme,0) -> 0 | H24: =ROUND(F24*G24,2) -> 0 | I24: 0 | J24: 0 | K24: =SUM(H24:J24) -> 0 | L24: =ROUND(E24*F24,2) -> 0 | M24: =ROUND(E24*H24,2) -> 0 | N24: =ROUND(E24*I24,2) -> 0 | O24: =ROUND(E24*J24,2) -> 0 | P24: =SUM(M24:O24) -> 0
A25: 9 | C25: Pārklāt tērauda kolonas ar ugunsdrošo krāsu nodrošinot R-60 | D25: m2 | E25: 6.3 | F25: 0 | G25: =IF(F25>0,likme,0) -> 0 | H25: =ROUND(F25*G25,2) -> 0 | I25: 0 | J25: 0 | K25: =SUM(H25:J25) -> 0 | L25: =ROUND(E25*F25,2) -> 0 | M25: =ROUND(E25*H25,2) -> 0 | N25: =ROUND(E25*I25,2) -> 0 | O25: =ROUND(E25*J25,2) -> 0 | P25: =SUM(M25:O25) -> 0
A26: 10 | C26: Aizpildīt kolonas bāzes šuvi ar smalkgraudainu betonu C30/37 | D26: gb | E26: 29 | F26: 0 | G26: =IF(F26>0,likme,0) -> 0 | H26: =ROUND(F26*G26,2) -> 0 | I26: 0 | J26: 0 | K26: =SUM(H26:J26) -> 0 | L26: =ROUND(E26*F26,2) -> 0 | M26: =ROUND(E26*H26,2) -> 0 | N26: =ROUND(E26*I26,2) -> 0 | O26: =ROUND(E26*J26,2) -> 0 | P26: =SUM(M26:O26) -> 0
A27: 11 | C27: 1. stāva vertikālo konstrukciju savienojoša stiegrojuma plāns | F27: 0 | G27: =IF(F27>0,likme,0) -> 0 | H27: =ROUND(F27*G27,2) -> 0 | I27: 0 | J27: 0 | K27: =SUM(H27:J27) -> 0 | L27: =ROUND(E27*F27,2) -> 0 | M27: =ROUND(E27*H27,2) -> 0 | N27: =ROUND(E27*I27,2) -> 0 | O27: =ROUND(E27*J27,2) -> 0 | P27: =SUM(M27:O27) -> 0
A28: 12 | C28: Savienot sienas ar B500B klases tērauda stiegrojumu, ieskaitot visus palīgmateriālus un stiprinājumus. | D28: kg | E28: 388.5 | F28: 0 | G28: =IF(F28>0,likme,0) -> 0 | H28: =ROUND(F28*G28,2) -> 0 | I28: 0 | J28: 0 | K28: =SUM(H28:J28) -> 0 | L28: =ROUND(E28*F28,2) -> 0 | M28: =ROUND(E28*H28,2) -> 0 | N28: =ROUND(E28*I28,2) -> 0 | O28: =ROUND(E28*J28,2) -> 0 | P28: =SUM(M28:O28) -> 0
A29: 13 | C29: 1. stāva izvadu plāns | F29: 0 | G29: =IF(F29>0,likme,0) -> 0 | H29: =ROUND(F29*G29,2) -> 0 | I29: 0 | J29: 0 | K29: =SUM(H29:J29) -> 0 | L29: =ROUND(E29*F29,2) -> 0 | M29: =ROUND(E29*H29,2) -> 0 | N29: =ROUND(E29*I29,2) -> 0 | O29: =ROUND(E29*J29,2) -> 0 | P29: =SUM(M29:O29) -> 0
A30: 14 | C30: Montēt stiegru izvadus ar B500B klases tērauda stiegrojumu, ieskaitot visus palīgmateriālus un stiprinājumus. | D30: kg | E30: 172 | F30: 0 | G30: =IF(F30>0,likme,0) -> 0 | H30: =ROUND(F30*G30,2) -> 0 | I30: 0 | J30: 0 | K30: =SUM(H30:J30) -> 0 | L30: =ROUND(E30*F30,2) -> 0 | M30: =ROUND(E30*H30,2) -> 0 | N30: =ROUND(E30*I30,2) -> 0 | O30: =ROUND(E30*J30,2) -> 0 | P30: =SUM(M30:O30) -> 0
A31: 15 | C31: Montēt vītņstieņa M20x260mm izvadus, ieskaitot visus palīgmateriālus un stiprinājumus. | D31: gb | E31: 19 | F31: 0 | G31: =IF(F31>0,likme,0) -> 0 | H31: =ROUND(F31*G31,2) -> 0 | I31: 0 | J31: 0 | K31: =SUM(H31:J31) -> 0 | L31: =ROUND(E31*F31,2) -> 0 | M31: =ROUND(E31*H31,2) -> 0 | N31: =ROUND(E31*I31,2) -> 0 | O31: =ROUND(E31*J31,2) -> 0 | P31: =SUM(M31:O31) -> 0
A32: 16 | C32: Montēt vītņstieņa M20x350mm izvadus, ieskaitot visus palīgmateriālus un stiprinājumus. | D32: gb | E32: 24 | F32: 0 | G32: =IF(F32>0,likme,0) -> 0 | H32: =ROUND(F32*G32,2) -> 0 | I32: 0 | J32: 0 | K32: =SUM(H32:J32) -> 0 | L32: =ROUND(E32*F32,2) -> 0 | M32: =ROUND(E32*H32,2) -> 0 | N32: =ROUND(E32*I32,2) -> 0 | O32: =ROUND(E32*J32,2) -> 0 | P32: =SUM(M32:O32) -> 0
A33: 17 | C33: Montēt TSE-16-M20-1020.0 izvadus vai ekvivalents, ieskaitot visus palīgmateriālus un stiprinājumus. | D33: gb | E33: 85 | F33: 0 | G33: =IF(F33>0,likme,0) -> 0 | H33: =ROUND(F33*G33,2) -> 0 | I33: 0 | J33: 0 | K33: =SUM(H33:J33) -> 0 | L33: =ROUND(E33*F33,2) -> 0 | M33: =ROUND(E33*H33,2) -> 0 | N33: =ROUND(E33*I33,2) -> 0 | O33: =ROUND(E33*J33,2) -> 0 | P33: =SUM(M33:O33) -> 0
A34: 18 | C34: 2. stāva vertikālo konstrukciju plāns | F34: 0 | G34: =IF(F34>0,likme,0) -> 0 | H34: =ROUND(F34*G34,2) -> 0 | I34: 0 | J34: 0 | K34: =SUM(H34:J34) -> 0 | L34: =ROUND(E34*F34,2) -> 0 | M34: =ROUND(E34*H34,2) -> 0 | N34: =ROUND(E34*I34,2) -> 0 | O34: =ROUND(E34*J34,2) -> 0 | P34: =SUM(M34:O34) -> 0
A35: 19 | C35: Montēt saliekamās dz/b kolonnas, konstrukciju padodot ar celtni iestrādes vietā, ieskaitot visus palīgmateriālus un stiprinājumus. Betons C40/50, XC1 | D35: m3 | E35: 1.41 | F35: 0 | G35: =IF(F35>0,likme,0) -> 0 | H35: =ROUND(F35*G35,2) -> 0 | I35: 0 | J35: 0 | K35: =SUM(H35:J35) -> 0 | L35: =ROUND(E35*F35,2) -> 0 | M35: =ROUND(E35*H35,2) -> 0 | N35: =ROUND(E35*I35,2) -> 0 | O35: =ROUND(E35*J35,2) -> 0 | P35: =SUM(M35:O35) -> 0
A36: 20 | C36: Montēt saliekamās dz/b sienas 200mm, konstrukciju padodot ar celtni iestrādes vietā, ieskaitot visus palīgmateriālus un stiprinājumus. Betons C40/50, XC1 Aizpildīt šuves ar smalkgraudainu betonu C40/50 | D36: m2 | E36: 600.86 | F36: 0 | G36: =IF(F36>0,likme,0) -> 0 | H36: =ROUND(F36*G36,2) -> 0 | I36: 0 | J36: 0 | K36: =SUM(H36:J36) -> 0 | L36: =ROUND(E36*F36,2) -> 0 | M36: =ROUND(E36*H36,2) -> 0 | N36: =ROUND(E36*I36,2) -> 0 | O36: =ROUND(E36*J36,2) -> 0 | P36: =SUM(M36:O36) -> 0
A37: 21 | C37: Montēt saliekamās dz/b sienas 220mm, konstrukciju padodot ar celtni iestrādes vietā, ieskaitot visus palīgmateriālus un stiprinājumus. Betons C40/50, XC1 Aizpildīt šuves ar smalkgraudainu betonu C40/50 | D37: m2 | E37: 18.72 | F37: 0 | G37: =IF(F37>0,likme,0) -> 0 | H37: =ROUND(F37*G37,2) -> 0 | I37: 0 | J37: 0 | K37: =SUM(H37:J37) -> 0 | L37: =ROUND(E37*F37,2) -> 0 | M37: =ROUND(E37*H37,2) -> 0 | N37: =ROUND(E37*I37,2) -> 0 | O37: =ROUND(E37*J37,2) -> 0 | P37: =SUM(M37:O37) -> 0
A38: 22 | C38: Montēt saliekamās dz/b sienas 241mm, konstrukciju padodot ar celtni iestrādes vietā, ieskaitot visus palīgmateriālus un stiprinājumus. Betons C40/50, XC1 Aizpildīt šuves ar smalkgraudainu betonu C40/50 | D38: m2 | E38: 12.29 | F38: 0 | G38: =IF(F38>0,likme,0) -> 0 | H38: =ROUND(F38*G38,2) -> 0 | I38: 0 | J38: 0 | K38: =SUM(H38:J38) -> 0 | L38: =ROUND(E38*F38,2) -> 0 | M38: =ROUND(E38*H38,2) -> 0 | N38: =ROUND(E38*I38,2) -> 0 | O38: =ROUND(E38*J38,2) -> 0 | P38: =SUM(M38:O38) -> 0
A39: 23 | C39: Montēt saliekamās dz/b sienas 350mm, konstrukciju padodot ar celtni iestrādes vietā, ieskaitot visus palīgmateriālus un stiprinājumus. Betons C40/50, XC1 Aizpildīt šuves ar smalkgraudainu betonu C40/50 | D39: m2 | E39: 49.75 | F39: 0 | G39: =IF(F39>0,likme,0) -> 0 | H39: =ROUND(F39*G39,2) -> 0 | I39: 0 | J39: 0 | K39: =SUM(H39:J39) -> 0 | L39: =ROUND(E39*F39,2) -> 0 | M39: =ROUND(E39*H39,2) -> 0 | N39: =ROUND(E39*I39,2) -> 0 | O39: =ROUND(E39*J39,2) -> 0 | P39: =SUM(M39:O39) -> 0
A40: 24 | C40: Montēt tērauda kolonnas, ieskaitot visus palīgmateriālus un stiprinājumus. Visas metāla konstrukcijas izgatavojamas no tērauda ar stiprības klasi ne zemāku par S355J2. | D40: kg | E40: 52 | F40: 0 | G40: =IF(F40>0,likme,0) -> 0 | H40: =ROUND(F40*G40,2) -> 0 | I40: 0 | J40: 0 | K40: =SUM(H40:J40) -> 0 | L40: =ROUND(E40*F40,2) -> 0 | M40: =ROUND(E40*H40,2) -> 0 | N40: =ROUND(E40*I40,2) -> 0 | O40: =ROUND(E40*J40,2) -> 0 | P40: =SUM(M40:O40) -> 0
A41: 25 | C41: Pārklāt tērauda kolonas ar ugunsdrošo krāsu nodrošinot R-60 | D41: m2 | E41: 1.1 | F41: 0 | G41: =IF(F41>0,likme,0) -> 0 | H41: =ROUND(F41*G41,2) -> 0 | I41: 0 | J41: 0 | K41: =SUM(H41:J41) -> 0 | L41: =ROUND(E41*F41,2) -> 0 | M41: =ROUND(E41*H41,2) -> 0 | N41: =ROUND(E41*I41,2) -> 0 | O41: =ROUND(E41*J41,2) -> 0 | P41: =SUM(M41:O41) -> 0
A42: 26 | C42: Aizpildīt kolonas bāzes šuvi ar smalkgraudainu betonu C30/37 | D42: gb | E42: 3 | F42: 0 | G42: =IF(F42>0,likme,0) -> 0 | H42: =ROUND(F42*G42,2) -> 0 | I42: 0 | J42: 0 | K42: =SUM(H42:J42) -> 0 | L42: =ROUND(E42*F42,2) -> 0 | M42: =ROUND(E42*H42,2) -> 0 | N42: =ROUND(E42*I42,2) -> 0 | O42: =ROUND(E42*J42,2) -> 0 | P42: =SUM(M42:O42) -> 0
A43: 27 | C43: 2. stāva vertikālo konstrukciju savienojoša stiegrojuma plāns | F43: 0 | G43: =IF(F43>0,likme,0) -> 0 | H43: =ROUND(F43*G43,2) -> 0 | I43: 0 | J43: 0 | K43: =SUM(H43:J43) -> 0 | L43: =ROUND(E43*F43,2) -> 0 | M43: =ROUND(E43*H43,2) -> 0 | N43: =ROUND(E43*I43,2) -> 0 | O43: =ROUND(E43*J43,2) -> 0 | P43: =SUM(M43:O43) -> 0
A44: 28 | C44: Savienot sienas ar B500B klases tērauda stiegrojumu, ieskaitot visus palīgmateriālus un stiprinājumus. | D44: kg | E44: 243.45 | F44: 0 | G44: =IF(F44>0,likme,0) -> 0 | H44: =ROUND(F44*G44,2) -> 0 | I44: 0 | J44: 0 | K44: =SUM(H44:J44) -> 0 | L44: =ROUND(E44*F44,2) -> 0 | M44: =ROUND(E44*H44,2) -> 0 | N44: =ROUND(E44*I44,2) -> 0 | O44: =ROUND(E44*J44,2) -> 0 | P44: =SUM(M44:O44) -> 0
A45: 29 | C45: 2. stāva izvadu plāns | F45: 0 | G45: =IF(F45>0,likme,0) -> 0 | H45: =ROUND(F45*G45,2) -> 0 | I45: 0 | J45: 0 | K45: =SUM(H45:J45) -> 0 | L45: =ROUND(E45*F45,2) -> 0 | M45: =ROUND(E45*H45,2) -> 0 | N45: =ROUND(E45*I45,2) -> 0 | O45: =ROUND(E45*J45,2) -> 0 | P45: =SUM(M45:O45) -> 0
A46: 30 | C46: Montēt TSE-16-M20-1020.0 izvadus vai ekvivalents, ieskaitot visus palīgmateriālus un stiprinājumus. | D46: gb | E46: 126 | F46: 0 | G46: =IF(F46>0,likme,0) -> 0 | H46: =ROUND(F46*G46,2) -> 0 | I46: 0 | J46: 0 | K46: =SUM(H46:J46) -> 0 | L46: =ROUND(E46*F46,2) -> 0 | M46: =ROUND(E46*H46,2) -> 0 | N46: =ROUND(E46*I46,2) -> 0 | O46: =ROUND(E46*J46,2) -> 0 | P46: =SUM(M46:O46) -> 0
A47: 31 | C47: 3. stāva vertikālo konstrukciju plāns | F47: 0 | G47: =IF(F47>0,likme,0) -> 0 | H47: =ROUND(F47*G47,2) -> 0 | I47: 0 | J47: 0 | K47: =SUM(H47:J47) -> 0 | L47: =ROUND(E47*F47,2) -> 0 | M47: =ROUND(E47*H47,2) -> 0 | N47: =ROUND(E47*I47,2) -> 0 | O47: =ROUND(E47*J47,2) -> 0 | P47: =SUM(M47:O47) -> 0
A48: 32 | C48: Montēt saliekamās dz/b sienas 200mm, konstrukciju padodot ar celtni iestrādes vietā, ieskaitot visus palīgmateriālus un stiprinājumus. Betons C40/50, XC1 Aizpildīt šuves ar smalkgraudainu betonu C40/50 | D48: m2 | E48: 382.37 | F48: 0 | G48: =IF(F48>0,likme,0) -> 0 | H48: =ROUND(F48*G48,2) -> 0 | I48: 0 | J48: 0 | K48: =SUM(H48:J48) -> 0 | L48: =ROUND(E48*F48,2) -> 0 | M48: =ROUND(E48*H48,2) -> 0 | N48: =ROUND(E48*I48,2) -> 0 | O48: =ROUND(E48*J48,2) -> 0 | P48: =SUM(M48:O48) -> 0
A49: 33 | C49: Montēt saliekamās dz/b sienas 220mm, konstrukciju padodot ar celtni iestrādes vietā, ieskaitot visus palīgmateriālus un stiprinājumus. Betons C40/50, XC1 Aizpildīt šuves ar smalkgraudainu betonu C40/50 | D49: m2 | E49: 19.59 | F49: 0 | G49: =IF(F49>0,likme,0) -> 0 | H49: =ROUND(F49*G49,2) -> 0 | I49: 0 | J49: 0 | K49: =SUM(H49:J49) -> 0 | L49: =ROUND(E49*F49,2) -> 0 | M49: =ROUND(E49*H49,2) -> 0 | N49: =ROUND(E49*I49,2) -> 0 | O49: =ROUND(E49*J49,2) -> 0 | P49: =SUM(M49:O49) -> 0
A50: 34 | C50: Montēt saliekamās dz/b sienas 241mm, konstrukciju padodot ar celtni iestrādes vietā, ieskaitot visus palīgmateriālus un stiprinājumus. Betons C40/50, XC1 Aizpildīt šuves ar smalkgraudainu betonu C40/50 | D50: m2 | E50: 12.86 | F50: 0 | G50: =IF(F50>0,likme,0) -> 0 | H50: =ROUND(F50*G50,2) -> 0 | I50: 0 | J50: 0 | K50: =SUM(H50:J50) -> 0 | L50: =ROUND(E50*F50,2) -> 0 | M50: =ROUND(E50*H50,2) -> 0 | N50: =ROUND(E50*I50,2) -> 0 | O50: =ROUND(E50*J50,2) -> 0 | P50: =SUM(M50:O50) -> 0
A51: 35 | C51: Montēt saliekamās dz/b sienas 350mm, konstrukciju padodot ar celtni iestrādes vietā, ieskaitot visus palīgmateriālus un stiprinājumus. Betons C40/50, XC1 Aizpildīt šuves ar smalkgraudainu betonu C40/50 | D51: m2 | E51: 71.81 | F51: 0 | G51: =IF(F51>0,likme,0) -> 0 | H51: =ROUND(F51*G51,2) -> 0 | I51: 0 | J51: 0 | K51: =SUM(H51:J51) -> 0 | L51: =ROUND(E51*F51,2) -> 0 | M51: =ROUND(E51*H51,2) -> 0 | N51: =ROUND(E51*I51,2) -> 0 | O51: =ROUND(E51*J51,2) -> 0 | P51: =SUM(M51:O51) -> 0
A52: 36 | C52: Montēt saliekamās dz/b sienas 370mm, konstrukciju padodot ar celtni iestrādes vietā, ieskaitot visus palīgmateriālus un stiprinājumus. Betons C40/50, XC1 Aizpildīt šuves ar smalkgraudainu betonu C40/50 | D52: m2 | E52: 16.83 | F52: 0 | G52: =IF(F52>0,likme,0) -> 0 | H52: =ROUND(F52*G52,2) -> 0 | I52: 0 | J52: 0 | K52: =SUM(H52:J52) -> 0 | L52: =ROUND(E52*F52,2) -> 0 | M52: =ROUND(E52*H52,2) -> 0 | N52: =ROUND(E52*I52,2) -> 0 | O52: =ROUND(E52*J52,2) -> 0 | P52: =SUM(M52:O52) -> 0
A53: 37 | C53: Montēt saliekamās dz/b sienas 450mm, konstrukciju padodot ar celtni iestrādes vietā, ieskaitot visus palīgmateriālus un stiprinājumus. Betons C40/50, XC1 Aizpildīt šuves ar smalkgraudainu betonu C40/50 | D53: m2 | E53: 34 | F53: 0 | G53: =IF(F53>0,likme,0) -> 0 | H53: =ROUND(F53*G53,2) -> 0 | I53: 0 | J53: 0 | K53: =SUM(H53:J53) -> 0 | L53: =ROUND(E53*F53,2) -> 0 | M53: =ROUND(E53*H53,2) -> 0 | N53: =ROUND(E53*I53,2) -> 0 | O53: =ROUND(E53*J53,2) -> 0 | P53: =SUM(M53:O53) -> 0
A54: 38 | C54: 3. stāva vertikālo konstrukciju savienojoša stiegrojuma plāns | F54: 0 | G54: =IF(F54>0,likme,0) -> 0 | H54: =ROUND(F54*G54,2) -> 0 | I54: 0 | J54: 0 | K54: =SUM(H54:J54) -> 0 | L54: =ROUND(E54*F54,2) -> 0 | M54: =ROUND(E54*H54,2) -> 0 | N54: =ROUND(E54*I54,2) -> 0 | O54: =ROUND(E54*J54,2) -> 0 | P54: =SUM(M54:O54) -> 0
A55: 39 | C55: Savienot sienas ar B500B klases tērauda stiegrojumu, ieskaitot visus palīgmateriālus un stiprinājumus. | D55: kg | E55: 179.61 | F55: 0 | G55: =IF(F55>0,likme,0) -> 0 | H55: =ROUND(F55*G55,2) -> 0 | I55: 0 | J55: 0 | K55: =SUM(H55:J55) -> 0 | L55: =ROUND(E55*F55,2) -> 0 | M55: =ROUND(E55*H55,2) -> 0 | N55: =ROUND(E55*I55,2) -> 0 | O55: =ROUND(E55*J55,2) -> 0 | P55: =SUM(M55:O55) -> 0
A56: 40 | C56: 3. stāva izvadu plāns | F56: 0 | G56: =IF(F56>0,likme,0) -> 0 | H56: =ROUND(F56*G56,2) -> 0 | I56: 0 | J56: 0 | K56: =SUM(H56:J56) -> 0 | L56: =ROUND(E56*F56,2) -> 0 | M56: =ROUND(E56*H56,2) -> 0 | N56: =ROUND(E56*I56,2) -> 0 | O56: =ROUND(E56*J56,2) -> 0 | P56: =SUM(M56:O56) -> 0
A57: 41 | C57: Montēt TSE-16-M20-1020.0 izvadus vai ekvivalents, ieskaitot visus palīgmateriālus un stiprinājumus. | D57: gb | E57: 111 | F57: 0 | G57: =IF(F57>0,likme,0) -> 0 | H57: =ROUND(F57*G57,2) -> 0 | I57: 0 | J57: 0 | K57: =SUM(H57:J57) -> 0 | L57: =ROUND(E57*F57,2) -> 0 | M57: =ROUND(E57*H57,2) -> 0 | N57: =ROUND(E57*I57,2) -> 0 | O57: =ROUND(E57*J57,2) -> 0 | P57: =SUM(M57:O57) -> 0
A58: 42 | C58: Montēt TSE-16-M20-1200.0 izvadus vai ekvivalents, ieskaitot visus palīgmateriālus un stiprinājumus. | D58: gb | E58: 10 | F58: 0 | G58: =IF(F58>0,likme,0) -> 0 | H58: =ROUND(F58*G58,2) -> 0 | I58: 0 | J58: 0 | K58: =SUM(H58:J58) -> 0 | L58: =ROUND(E58*F58,2) -> 0 | M58: =ROUND(E58*H58,2) -> 0 | N58: =ROUND(E58*I58,2) -> 0 | O58: =ROUND(E58*J58,2) -> 0 | P58: =SUM(M58:O58) -> 0
A59: 43 | C59: 4. stāva vertikālo konstrukciju plāns | F59: 0 | G59: =IF(F59>0,likme,0) -> 0 | H59: =ROUND(F59*G59,2) -> 0 | I59: 0 | J59: 0 | K59: =SUM(H59:J59) -> 0 | L59: =ROUND(E59*F59,2) -> 0 | M59: =ROUND(E59*H59,2) -> 0 | N59: =ROUND(E59*I59,2) -> 0 | O59: =ROUND(E59*J59,2) -> 0 | P59: =SUM(M59:O59) -> 0
A60: 44 | C60: Montēt saliekamās dz/b sienas 200mm, konstrukciju padodot ar celtni iestrādes vietā, ieskaitot visus palīgmateriālus un stiprinājumus. Betons C40/50, XC1 Aizpildīt šuves ar smalkgraudainu betonu C40/50 | D60: m2 | E60: 481.4 | F60: 0 | G60: =IF(F60>0,likme,0) -> 0 | H60: =ROUND(F60*G60,2) -> 0 | I60: 0 | J60: 0 | K60: =SUM(H60:J60) -> 0 | L60: =ROUND(E60*F60,2) -> 0 | M60: =ROUND(E60*H60,2) -> 0 | N60: =ROUND(E60*I60,2) -> 0 | O60: =ROUND(E60*J60,2) -> 0 | P60: =SUM(M60:O60) -> 0
A61: 45 | C61: Montēt saliekamās dz/b sienas 241mm, konstrukciju padodot ar celtni iestrādes vietā, ieskaitot visus palīgmateriālus un stiprinājumus. Betons C40/50, XC1 Aizpildīt šuves ar smalkgraudainu betonu C40/50 | D61: m2 | E61: 13.43 | F61: 0 | G61: =IF(F61>0,likme,0) -> 0 | H61: =ROUND(F61*G61,2) -> 0 | I61: 0 | J61: 0 | K61: =SUM(H61:J61) -> 0 | L61: =ROUND(E61*F61,2) -> 0 | M61: =ROUND(E61*H61,2) -> 0 | N61: =ROUND(E61*I61,2) -> 0 | O61: =ROUND(E61*J61,2) -> 0 | P61: =SUM(M61:O61) -> 0
A62: 46 | C62: Montēt saliekamās dz/b sienas 350mm, konstrukciju padodot ar celtni iestrādes vietā, ieskaitot visus palīgmateriālus un stiprinājumus. Betons C40/50, XC1 Aizpildīt šuves ar smalkgraudainu betonu C40/50 | D62: m2 | E62: 48.48 | F62: 0 | G62: =IF(F62>0,likme,0) -> 0 | H62: =ROUND(F62*G62,2) -> 0 | I62: 0 | J62: 0 | K62: =SUM(H62:J62) -> 0 | L62: =ROUND(E62*F62,2) -> 0 | M62: =ROUND(E62*H62,2) -> 0 | N62: =ROUND(E62*I62,2) -> 0 | O62: =ROUND(E62*J62,2) -> 0 | P62: =SUM(M62:O62) -> 0
A63: 47 | C63: 4. stāva vertikālo konstrukciju savienojoša stiegrojuma plāns | F63: 0 | G63: =IF(F63>0,likme,0) -> 0 | H63: =ROUND(F63*G63,2) -> 0 | I63: 0 | J63: 0 | K63: =SUM(H63:J63) -> 0 | L63: =ROUND(E63*F63,2) -> 0 | M63: =ROUND(E63*H63,2) -> 0 | N63: =ROUND(E63*I63,2) -> 0 | O63: =ROUND(E63*J63,2) -> 0 | P63: =SUM(M63:O63) -> 0
A64: 48 | C64: Savienot sienas ar B500B klases tērauda stiegrojumu, ieskaitot visus palīgmateriālus un stiprinājumus. | D64: kg | E64: 194.95 | F64: 0 | G64: =IF(F64>0,likme,0) -> 0 | H64: =ROUND(F64*G64,2) -> 0 | I64: 0 | J64: 0 | K64: =SUM(H64:J64) -> 0 | L64: =ROUND(E64*F64,2) -> 0 | M64: =ROUND(E64*H64,2) -> 0 | N64: =ROUND(E64*I64,2) -> 0 | O64: =ROUND(E64*J64,2) -> 0 | P64: =SUM(M64:O64) -> 0
A65: 49 | C65: 1. stāva siju plāns | F65: 0 | G65: =IF(F65>0,likme,0) -> 0 | H65: =ROUND(F65*G65,2) -> 0 | I65: 0 | J65: 0 | K65: =SUM(H65:J65) -> 0 | L65: =ROUND(E65*F65,2) -> 0 | M65: =ROUND(E65*H65,2) -> 0 | N65: =ROUND(E65*I65,2) -> 0 | O65: =ROUND(E65*J65,2) -> 0 | P65: =SUM(M65:O65) -> 0
A66: 50 | C66: Montēt saliekamās dz/b sijas, konstrukciju padodot ar celtni iestrādes vietā, ieskaitot visus palīgmateriālus un stiprinājumus. Betons C40/50, XC1 | D66: m3 | E66: 9.54 | F66: 0 | G66: =IF(F66>0,likme,0) -> 0 | H66: =ROUND(F66*G66,2) -> 0 | I66: 0 | J66: 0 | K66: =SUM(H66:J66) -> 0 | L66: =ROUND(E66*F66,2) -> 0 | M66: =ROUND(E66*H66,2) -> 0 | N66: =ROUND(E66*I66,2) -> 0 | O66: =ROUND(E66*J66,2) -> 0 | P66: =SUM(M66:O66) -> 0
A67: 51 | C67: Montēt tērauda sijas, ieskaitot visus palīgmateriālus un stiprinājumus. Visas metāla konstrukcijas izgatavojamas no tērauda ar stiprības klasi ne zemāku par S355J2. | D67: kg | E67: 5671 | F67: 0 | G67: =IF(F67>0,likme,0) -> 0 | H67: =ROUND(F67*G67,2) -> 0 | I67: 0 | J67: 0 | K67: =SUM(H67:J67) -> 0 | L67: =ROUND(E67*F67,2) -> 0 | M67: =ROUND(E67*H67,2) -> 0 | N67: =ROUND(E67*I67,2) -> 0 | O67: =ROUND(E67*J67,2) -> 0 | P67: =SUM(M67:O67) -> 0
A68: 52 | C68: Pārklāt tērauda sijas ar ugunsdrošo krāsu nodrošinot R-30 | D68: m2 | E68: 142 | F68: 0 | G68: =IF(F68>0,likme,0) -> 0 | H68: =ROUND(F68*G68,2) -> 0 | I68: 0 | J68: 0 | K68: =SUM(H68:J68) -> 0 | L68: =ROUND(E68*F68,2) -> 0 | M68: =ROUND(E68*H68,2) -> 0 | N68: =ROUND(E68*I68,2) -> 0 | O68: =ROUND(E68*J68,2) -> 0 | P68: =SUM(M68:O68) -> 0
A69: 53 | C69: 2. stāva siju plāns | F69: 0 | G69: =IF(F69>0,likme,0) -> 0 | H69: =ROUND(F69*G69,2) -> 0 | I69: 0 | J69: 0 | K69: =SUM(H69:J69) -> 0 | L69: =ROUND(E69*F69,2) -> 0 | M69: =ROUND(E69*H69,2) -> 0 | N69: =ROUND(E69*I69,2) -> 0 | O69: =ROUND(E69*J69,2) -> 0 | P69: =SUM(M69:O69) -> 0
A70: 54 | C70: Montēt saliekamās dz/b sijas, konstrukciju padodot ar celtni iestrādes vietā, ieskaitot visus palīgmateriālus un stiprinājumus. Betons C40/50, XC1 | D70: m3 | E70: 28.41 | F70: 0 | G70: =IF(F70>0,likme,0) -> 0 | H70: =ROUND(F70*G70,2) -> 0 | I70: 0 | J70: 0 | K70: =SUM(H70:J70) -> 0 | L70: =ROUND(E70*F70,2) -> 0 | M70: =ROUND(E70*H70,2) -> 0 | N70: =ROUND(E70*I70,2) -> 0 | O70: =ROUND(E70*J70,2) -> 0 | P70: =SUM(M70:O70) -> 0
A71: 55 | C71: Montēt tērauda sijas, ieskaitot visus palīgmateriālus un stiprinājumus. Visas metāla konstrukcijas izgatavojamas no tērauda ar stiprības klasi ne zemāku par S355J2. | D71: kg | E71: 376 | F71: 0 | G71: =IF(F71>0,likme,0) -> 0 | H71: =ROUND(F71*G71,2) -> 0 | I71: 0 | J71: 0 | K71: =SUM(H71:J71) -> 0 | L71: =ROUND(E71*F71,2) -> 0 | M71: =ROUND(E71*H71,2) -> 0 | N71: =ROUND(E71*I71,2) -> 0 | O71: =ROUND(E71*J71,2) -> 0 | P71: =SUM(M71:O71) -> 0
A72: 56 | C72: Pārklāt tērauda sijas ar ugunsdrošo krāsu nodrošinot R-30 | D72: m2 | E72: 17 | F72: 0 | G72: =IF(F72>0,likme,0) -> 0 | H72: =ROUND(F72*G72,2) -> 0 | I72: 0 | J72: 0 | K72: =SUM(H72:J72) -> 0 | L72: =ROUND(E72*F72,2) -> 0 | M72: =ROUND(E72*H72,2) -> 0 | N72: =ROUND(E72*I72,2) -> 0 | O72: =ROUND(E72*J72,2) -> 0 | P72: =SUM(M72:O72) -> 0
A73: 57 | C73: 3. stāva siju plāns | F73: 0 | G73: =IF(F73>0,likme,0) -> 0 | H73: =ROUND(F73*G73,2) -> 0 | I73: 0 | J73: 0 | K73: =SUM(H73:J73) -> 0 | L73: =ROUND(E73*F73,2) -> 0 | M73: =ROUND(E73*H73,2) -> 0 | N73: =ROUND(E73*I73,2) -> 0 | O73: =ROUND(E73*J73,2) -> 0 | P73: =SUM(M73:O73) -> 0
A74: 58 | C74: Montēt saliekamās dz/b sijas, konstrukciju padodot ar celtni iestrādes vietā, ieskaitot visus palīgmateriālus un stiprinājumus. Betons C40/50, XC1 | D74: m3 | E74: 18.56 | F74: 0 | G74: =IF(F74>0,likme,0) -> 0 | H74: =ROUND(F74*G74,2) -> 0 | I74: 0 | J74: 0 | K74: =SUM(H74:J74) -> 0 | L74: =ROUND(E74*F74,2) -> 0 | M74: =ROUND(E74*H74,2) -> 0 | N74: =ROUND(E74*I74,2) -> 0 | O74: =ROUND(E74*J74,2) -> 0 | P74: =SUM(M74:O74) -> 0
A75: 59 | C75: Montēt tērauda sijas, ieskaitot visus palīgmateriālus un stiprinājumus. Visas metāla konstrukcijas izgatavojamas no tērauda ar stiprības klasi ne zemāku par S355J2. | D75: kg | E75: 371 | F75: 0 | G75: =IF(F75>0,likme,0) -> 0 | H75: =ROUND(F75*G75,2) -> 0 | I75: 0 | J75: 0 | K75: =SUM(H75:J75) -> 0 | L75: =ROUND(E75*F75,2) -> 0 | M75: =ROUND(E75*H75,2) -> 0 | N75: =ROUND(E75*I75,2) -> 0 | O75: =ROUND(E75*J75,2) -> 0 | P75: =SUM(M75:O75) -> 0
A76: 60 | C76: Pārklāt tērauda sijas ar ugunsdrošo krāsu nodrošinot R-30 | D76: m2 | E76: 9.3 | F76: 0 | G76: =IF(F76>0,likme,0) -> 0 | H76: =ROUND(F76*G76,2) -> 0 | I76: 0 | J76: 0 | K76: =SUM(H76:J76) -> 0 | L76: =ROUND(E76*F76,2) -> 0 | M76: =ROUND(E76*H76,2) -> 0 | N76: =ROUND(E76*I76,2) -> 0 | O76: =ROUND(E76*J76,2) -> 0 | P76: =SUM(M76:O76) -> 0
A77: 61 | C77: 4. stāva siju plāns | F77: 0 | G77: =IF(F77>0,likme,0) -> 0 | H77: =ROUND(F77*G77,2) -> 0 | I77: 0 | J77: 0 | K77: =SUM(H77:J77) -> 0 | L77: =ROUND(E77*F77,2) -> 0 | M77: =ROUND(E77*H77,2) -> 0 | N77: =ROUND(E77*I77,2) -> 0 | O77: =ROUND(E77*J77,2) -> 0 | P77: =SUM(M77:O77) -> 0
A78: 62 | C78: Montēt saliekamās dz/b sijas, konstrukciju padodot ar celtni iestrādes vietā, ieskaitot visus palīgmateriālus un stiprinājumus. Betons C40/50, XC1 | D78: m3 | E78: 12.47 | F78: 0 | G78: =IF(F78>0,likme,0) -> 0 | H78: =ROUND(F78*G78,2) -> 0 | I78: 0 | J78: 0 | K78: =SUM(H78:J78) -> 0 | L78: =ROUND(E78*F78,2) -> 0 | M78: =ROUND(E78*H78,2) -> 0 | N78: =ROUND(E78*I78,2) -> 0 | O78: =ROUND(E78*J78,2) -> 0 | P78: =SUM(M78:O78) -> 0
A79: 63 | C79: Montēt tērauda sijas, ieskaitot visus palīgmateriālus un stiprinājumus. Visas metāla konstrukcijas izgatavojamas no tērauda ar stiprības klasi ne zemāku par S355J2. | D79: kg | E79: 234 | F79: 0 | G79: =IF(F79>0,likme,0) -> 0 | H79: =ROUND(F79*G79,2) -> 0 | I79: 0 | J79: 0 | K79: =SUM(H79:J79) -> 0 | L79: =ROUND(E79*F79,2) -> 0 | M79: =ROUND(E79*H79,2) -> 0 | N79: =ROUND(E79*I79,2) -> 0 | O79: =ROUND(E79*J79,2) -> 0 | P79: =SUM(M79:O79) -> 0
A80: 64 | C80: Pārklāt tērauda sijas ar ugunsdrošo krāsu nodrošinot R-30 | D80: m2 | E80: 5.85 | F80: 0 | G80: =IF(F80>0,likme,0) -> 0 | H80: =ROUND(F80*G80,2) -> 0 | I80: 0 | J80: 0 | K80: =SUM(H80:J80) -> 0 | L80: =ROUND(E80*F80,2) -> 0 | M80: =ROUND(E80*H80,2) -> 0 | N80: =ROUND(E80*I80,2) -> 0 | O80: =ROUND(E80*J80,2) -> 0 | P80: =SUM(M80:O80) -> 0
A81: 65 | C81: 1. stāva pārseguma plāns | F81: 0 | G81: =IF(F81>0,likme,0) -> 0 | H81: =ROUND(F81*G81,2) -> 0 | I81: 0 | J81: 0 | K81: =SUM(H81:J81) -> 0 | L81: =ROUND(E81*F81,2) -> 0 | M81: =ROUND(E81*H81,2) -> 0 | N81: =ROUND(E81*I81,2) -> 0 | O81: =ROUND(E81*J81,2) -> 0 | P81: =SUM(M81:O81) -> 0
A82: 66 | C82: Montēt saliekamās dz/b masīvās plātnes 320mm uz neoprēna lentas, konstrukciju padodot ar celtni iestrādes vietā, ieskaitot visus palīgmateriālus un stiprinājumus. | D82: m2 | E82: 33.43 | F82: 0 | G82: =IF(F82>0,likme,0) -> 0 | H82: =ROUND(F82*G82,2) -> 0 | I82: 0 | J82: 0 | K82: =SUM(H82:J82) -> 0 | L82: =ROUND(E82*F82,2) -> 0 | M82: =ROUND(E82*H82,2) -> 0 | N82: =ROUND(E82*I82,2) -> 0 | O82: =ROUND(E82*J82,2) -> 0 | P82: =SUM(M82:O82) -> 0
A83: 67 | C83: Montēt saliekamās dz/b pārseguma paneļus HC220 uz neoprēna lentas, konstrukciju padodot ar celtni iestrādes vietā, ieskaitot visus palīgmateriālus un stiprinājumus. | D83: m2 | E83: 320.84 | F83: 0 | G83: =IF(F83>0,likme,0) -> 0 | H83: =ROUND(F83*G83,2) -> 0 | I83: 0 | J83: 0 | K83: =SUM(H83:J83) -> 0 | L83: =ROUND(E83*F83,2) -> 0 | M83: =ROUND(E83*H83,2) -> 0 | N83: =ROUND(E83*I83,2) -> 0 | O83: =ROUND(E83*J83,2) -> 0 | P83: =SUM(M83:O83) -> 0
A84: 68 | C84: Montēt saliekamās dz/b pārseguma paneļus HC320 uz neoprēna lentas, konstrukciju padodot ar celtni iestrādes vietā, ieskaitot visus palīgmateriālus un stiprinājumus. | D84: m2 | E84: 368.89 | F84: 0 | G84: =IF(F84>0,likme,0) -> 0 | H84: =ROUND(F84*G84,2) -> 0 | I84: 0 | J84: 0 | K84: =SUM(H84:J84) -> 0 | L84: =ROUND(E84*F84,2) -> 0 | M84: =ROUND(E84*H84,2) -> 0 | N84: =ROUND(E84*I84,2) -> 0 | O84: =ROUND(E84*J84,2) -> 0 | P84: =SUM(M84:O84) -> 0
A85: 69 | C85: Montēt montāža detaļu PETRA 1200mm vai ekvivalents | D85: gb | E85: 1 | F85: 0 | G85: =IF(F85>0,likme,0) -> 0 | H85: =ROUND(F85*G85,2) -> 0 | I85: 0 | J85: 0 | K85: =SUM(H85:J85) -> 0 | L85: =ROUND(E85*F85,2) -> 0 | M85: =ROUND(E85*H85,2) -> 0 | N85: =ROUND(E85*I85,2) -> 0 | O85: =ROUND(E85*J85,2) -> 0 | P85: =SUM(M85:O85) -> 0
A86: 70 | C86: Betonēt veidņos pārsegumu ar C30/37 XC1 klases betonu, betonu padodot ar sūkni iestrādes vietā, ieskaitot visus palīgmateriālus un stiprinājumus. | D86: m3 | E86: 61.88 | F86: 0 | G86: =IF(F86>0,likme,0) -> 0 | H86: =ROUND(F86*G86,2) -> 0 | I86: 0 | J86: 0 | K86: =SUM(H86:J86) -> 0 | L86: =ROUND(E86*F86,2) -> 0 | M86: =ROUND(E86*H86,2) -> 0 | N86: =ROUND(E86*I86,2) -> 0 | O86: =ROUND(E86*J86,2) -> 0 | P86: =SUM(M86:O86) -> 0
A87: 71 | C87: Stiegrot pārsegumu ar B500B klases tērauda stiegrām, ieskaitot visus palīgmateriālus un stiprinājumus. | D87: kg | E87: 5810.7 | F87: 0 | G87: =IF(F87>0,likme,0) -> 0 | H87: =ROUND(F87*G87,2) -> 0 | I87: 0 | J87: 0 | K87: =SUM(H87:J87) -> 0 | L87: =ROUND(E87*F87,2) -> 0 | M87: =ROUND(E87*H87,2) -> 0 | N87: =ROUND(E87*I87,2) -> 0 | O87: =ROUND(E87*J87,2) -> 0 | P87: =SUM(M87:O87) -> 0
A88: 72 | C88: Savienot parseguma paneļus ar B500B klases tērauda stiegrojumu, ieskaitot visus palīgmateriālus un stiprinājumus. | D88: kg | E88: 578.9 | F88: 0 | G88: =IF(F88>0,likme,0) -> 0 | H88: =ROUND(F88*G88,2) -> 0 | I88: 0 | J88: 0 | K88: =SUM(H88:J88) -> 0 | L88: =ROUND(E88*F88,2) -> 0 | M88: =ROUND(E88*H88,2) -> 0 | N88: =ROUND(E88*I88,2) -> 0 | O88: =ROUND(E88*J88,2) -> 0 | P88: =SUM(M88:O88) -> 0
A89: 73 | C89: Monolitizēt pārseguma paneļus ar C30/37 XC1 klases betonu, betonu padodot ar sūkni iestrādes vietā, ieskaitot visus palīgmateriālus un stiprinājumus. | D89: m3 | E89: 1.45 | F89: 0 | G89: =IF(F89>0,likme,0) -> 0 | H89: =ROUND(F89*G89,2) -> 0 | I89: 0 | J89: 0 | K89: =SUM(H89:J89) -> 0 | L89: =ROUND(E89*F89,2) -> 0 | M89: =ROUND(E89*H89,2) -> 0 | N89: =ROUND(E89*I89,2) -> 0 | O89: =ROUND(E89*J89,2) -> 0 | P89: =SUM(M89:O89) -> 0
A90: 74 | C90: Stiegrot pārseguma paneļus ar B500B klases tērauda stiegrām, ieskaitot visus palīgmateriālus un stiprinājumus. | D90: kg | E90: 1234 | F90: 0 | G90: =IF(F90>0,likme,0) -> 0 | H90: =ROUND(F90*G90,2) -> 0 | I90: 0 | J90: 0 | K90: =SUM(H90:J90) -> 0 | L90: =ROUND(E90*F90,2) -> 0 | M90: =ROUND(E90*H90,2) -> 0 | N90: =ROUND(E90*I90,2) -> 0 | O90: =ROUND(E90*J90,2) -> 0 | P90: =SUM(M90:O90) -> 0
A91: 75 | C91: 2. stāva pārseguma plāns | F91: 0 | G91: =IF(F91>0,likme,0) -> 0 | H91: =ROUND(F91*G91,2) -> 0 | I91: 0 | J91: 0 | K91: =SUM(H91:J91) -> 0 | L91: =ROUND(E91*F91,2) -> 0 | M91: =ROUND(E91*H91,2) -> 0 | N91: =ROUND(E91*I91,2) -> 0 | O91: =ROUND(E91*J91,2) -> 0 | P91: =SUM(M91:O91) -> 0
A92: 76 | C92: Montēt saliekamās dz/b pārseguma paneļus HC220 uz neoprēna lentas, konstrukciju padodot ar celtni iestrādes vietā, ieskaitot visus palīgmateriālus un stiprinājumus. | D92: m2 | E92: 527.25 | F92: 0 | G92: =IF(F92>0,likme,0) -> 0 | H92: =ROUND(F92*G92,2) -> 0 | I92: 0 | J92: 0 | K92: =SUM(H92:J92) -> 0 | L92: =ROUND(E92*F92,2) -> 0 | M92: =ROUND(E92*H92,2) -> 0 | N92: =ROUND(E92*I92,2) -> 0 | O92: =ROUND(E92*J92,2) -> 0 | P92: =SUM(M92:O92) -> 0
A93: 77 | C93: Montēt montāža detaļu PETRA 1200mm vai ekvivalents | D93: gb | E93: 1 | F93: 0 | G93: =IF(F93>0,likme,0) -> 0 | H93: =ROUND(F93*G93,2) -> 0 | I93: 0 | J93: 0 | K93: =SUM(H93:J93) -> 0 | L93: =ROUND(E93*F93,2) -> 0 | M93: =ROUND(E93*H93,2) -> 0 | N93: =ROUND(E93*I93,2) -> 0 | O93: =ROUND(E93*J93,2) -> 0 | P93: =SUM(M93:O93) -> 0
A94: 78 | C94: Savienot parseguma paneļus ar B500B klases tērauda stiegrojumu, ieskaitot visus palīgmateriālus un stiprinājumus. | D94: kg | E94: 497.4 | F94: 0 | G94: =IF(F94>0,likme,0) -> 0 | H94: =ROUND(F94*G94,2) -> 0 | I94: 0 | J94: 0 | K94: =SUM(H94:J94) -> 0 | L94: =ROUND(E94*F94,2) -> 0 | M94: =ROUND(E94*H94,2) -> 0 | N94: =ROUND(E94*I94,2) -> 0 | O94: =ROUND(E94*J94,2) -> 0 | P94: =SUM(M94:O94) -> 0
A95: 79 | C95: Monolitizēt pārseguma paneļus ar C30/37 XC1 klases betonu, betonu padodot ar sūkni iestrādes vietā, ieskaitot visus palīgmateriālus un stiprinājumus. | D95: m3 | E95: 1.73 | F95: 0 | G95: =IF(F95>0,likme,0) -> 0 | H95: =ROUND(F95*G95,2) -> 0 | I95: 0 | J95: 0 | K95: =SUM(H95:J95) -> 0 | L95: =ROUND(E95*F95,2) -> 0 | M95: =ROUND(E95*H95,2) -> 0 | N95: =ROUND(E95*I95,2) -> 0 | O95: =ROUND(E95*J95,2) -> 0 | P95: =SUM(M95:O95) -> 0
A96: 80 | C96: Stiegrot pārseguma paneļus ar B500B klases tērauda stiegrām, ieskaitot visus palīgmateriālus un stiprinājumus. | D96: kg | E96: 1109.6 | F96: 0 | G96: =IF(F96>0,likme,0) -> 0 | H96: =ROUND(F96*G96,2) -> 0 | I96: 0 | J96: 0 | K96: =SUM(H96:J96) -> 0 | L96: =ROUND(E96*F96,2) -> 0 | M96: =ROUND(E96*H96,2) -> 0 | N96: =ROUND(E96*I96,2) -> 0 | O96: =ROUND(E96*J96,2) -> 0 | P96: =SUM(M96:O96) -> 0
A97: 81 | C97: 3. stāva pārseguma plāns | F97: 0 | G97: =IF(F97>0,likme,0) -> 0 | H97: =ROUND(F97*G97,2) -> 0 | I97: 0 | J97: 0 | K97: =SUM(H97:J97) -> 0 | L97: =ROUND(E97*F97,2) -> 0 | M97: =ROUND(E97*H97,2) -> 0 | N97: =ROUND(E97*I97,2) -> 0 | O97: =ROUND(E97*J97,2) -> 0 | P97: =SUM(M97:O97) -> 0
A98: 82 | C98: Montēt saliekamās dz/b pārseguma paneļus HC220 uz neoprēna lentas, konstrukciju padodot ar celtni iestrādes vietā, ieskaitot visus palīgmateriālus un stiprinājumus. | D98: m2 | E98: 431.02 | F98: 0 | G98: =IF(F98>0,likme,0) -> 0 | H98: =ROUND(F98*G98,2) -> 0 | I98: 0 | J98: 0 | K98: =SUM(H98:J98) -> 0 | L98: =ROUND(E98*F98,2) -> 0 | M98: =ROUND(E98*H98,2) -> 0 | N98: =ROUND(E98*I98,2) -> 0 | O98: =ROUND(E98*J98,2) -> 0 | P98: =SUM(M98:O98) -> 0
A99: 83 | C99: Savienot parseguma paneļus ar B500B klases tērauda stiegrojumu, ieskaitot visus palīgmateriālus un stiprinājumus. | D99: kg | E99: 404.5 | F99: 0 | G99: =IF(F99>0,likme,0) -> 0 | H99: =ROUND(F99*G99,2) -> 0 | I99: 0 | J99: 0 | K99: =SUM(H99:J99) -> 0 | L99: =ROUND(E99*F99,2) -> 0 | M99: =ROUND(E99*H99,2) -> 0 | N99: =ROUND(E99*I99,2) -> 0 | O99: =ROUND(E99*J99,2) -> 0 | P99: =SUM(M99:O99) -> 0
A100: 84 | C100: Monolitizēt pārseguma paneļus ar C30/37 XC1 klases betonu, betonu padodot ar sūkni iestrādes vietā, ieskaitot visus palīgmateriālus un stiprinājumus. | D100: m3 | E100: 1.83 | F100: 0 | G100: =IF(F100>0,likme,0) -> 0 | H100: =ROUND(F100*G100,2) -> 0 | I100: 0 | J100: 0 | K100: =SUM(H100:J100) -> 0 | L100: =ROUND(E100*F100,2) -> 0 | M100: =ROUND(E100*H100,2) -> 0 | N100: =ROUND(E100*I100,2) -> 0 | O100: =ROUND(E100*J100,2) -> 0 | P100: =SUM(M100:O100) -> 0
A101: 85 | C101: Stiegrot pārseguma paneļus ar B500B klases tērauda stiegrām, ieskaitot visus palīgmateriālus un stiprinājumus. | D101: kg | E101: 1027.8 | F101: 0 | G101: =IF(F101>0,likme,0) -> 0 | H101: =ROUND(F101*G101,2) -> 0 | I101: 0 | J101: 0 | K101: =SUM(H101:J101) -> 0 | L101: =ROUND(E101*F101,2) -> 0 | M101: =ROUND(E101*H101,2) -> 0 | N101: =ROUND(E101*I101,2) -> 0 | O101: =ROUND(E101*J101,2) -> 0 | P101: =SUM(M101:O101) -> 0
A102: 86 | C102: 4. stāva pārseguma plāns | F102: 0 | G102: =IF(F102>0,likme,0) -> 0 | H102: =ROUND(F102*G102,2) -> 0 | I102: 0 | J102: 0 | K102: =SUM(H102:J102) -> 0 | L102: =ROUND(E102*F102,2) -> 0 | M102: =ROUND(E102*H102,2) -> 0 | N102: =ROUND(E102*I102,2) -> 0 | O102: =ROUND(E102*J102,2) -> 0 | P102: =SUM(M102:O102) -> 0
A103: 87 | C103: Montēt saliekamās dz/b masīvās plātnes 320mm uz neoprēna lentas, konstrukciju padodot ar celtni iestrādes vietā, ieskaitot visus palīgmateriālus un stiprinājumus. | D103: m2 | E103: 15.52 | F103: 0 | G103: =IF(F103>0,likme,0) -> 0 | H103: =ROUND(F103*G103,2) -> 0 | I103: 0 | J103: 0 | K103: =SUM(H103:J103) -> 0 | L103: =ROUND(E103*F103,2) -> 0 | M103: =ROUND(E103*H103,2) -> 0 | N103: =ROUND(E103*I103,2) -> 0 | O103: =ROUND(E103*J103,2) -> 0 | P103: =SUM(M103:O103) -> 0
A104: 88 | C104: Montēt saliekamās dz/b masīvās plātnes 465mm uz neoprēna lentas, konstrukciju padodot ar celtni iestrādes vietā, ieskaitot visus palīgmateriālus un stiprinājumus. | D104: m2 | E104: 3.6 | F104: 0 | G104: =IF(F104>0,likme,0) -> 0 | H104: =ROUND(F104*G104,2) -> 0 | I104: 0 | J104: 0 | K104: =SUM(H104:J104) -> 0 | L104: =ROUND(E104*F104,2) -> 0 | M104: =ROUND(E104*H104,2) -> 0 | N104: =ROUND(E104*I104,2) -> 0 | O104: =ROUND(E104*J104,2) -> 0 | P104: =SUM(M104:O104) -> 0
A105: 89 | C105: Montēt saliekamās dz/b masīvās plātnes 695mm uz neoprēna lentas, konstrukciju padodot ar celtni iestrādes vietā, ieskaitot visus palīgmateriālus un stiprinājumus. | D105: m2 | E105: 10.51 | F105: 0 | G105: =IF(F105>0,likme,0) -> 0 | H105: =ROUND(F105*G105,2) -> 0 | I105: 0 | J105: 0 | K105: =SUM(H105:J105) -> 0 | L105: =ROUND(E105*F105,2) -> 0 | M105: =ROUND(E105*H105,2) -> 0 | N105: =ROUND(E105*I105,2) -> 0 | O105: =ROUND(E105*J105,2) -> 0 | P105: =SUM(M105:O105) -> 0
...

Sheet 1,4
A2: Lokālā tāme Nr.1,4
A3: =KA!C18 -> Starpsienas
A4: (būvdarbu veids vai konstruktīvā elementa nosaukums)
A6: Objekta nosaukums: | C6: =KT!B9 -> Garkalnes Mākslas un vispārizglītojošās pamatskolas piebūve
A7: Būves nosaukums: | C7: =KT!B10 -> Garkalnes Mākslas un vispārizglītojošā pamatskola
A8: Objekta adrese: | C8: =KT!B11 -> Ropažu novads, Garkalne, Vidzemes šoseja 34, LV-2137
A9: Pasūtījuma nr.: | C9: =KT!B12 -> 0
A11: Tāme sastādīta 2026. gada tirgus cenās, pamatojoties uz būvprojekta rasējumiem | M11: Tāmes izmaksas: | O11: =P55 -> 0 | P11: EUR
N12: Tāme sastādītā | O12: =KT!C27 -> 0
A14: Nr.p.k. | B14: Kods | C14: Būvdarbu nosaukums | D14: Mērvienība | E14: Daudzums | F14: Vienības izmaksas | L14: Kopā uz visu apjomu
F15: Laika norma (c/h) | G15: Darba samaksas likme (euro/h) | H15: Darba alga | I15: Būvizstrādājumi | J15: Mehānismi | K15: KOPĀ | L15: Darbietilpība (c/h) | M15: Darba alga | N15: Būvizstrādājumi | O15: Mehānismi | P15: Summa
A17: 1 | C17: SA-1.1 | F17: 0 | G17: =IF(F17>0,likme,0) -> 0 | H17: =ROUND(F17*G17,2) -> 0 | I17: 0 | J17: 0 | K17: =SUM(H17:J17) -> 0 | L17: =ROUND(E17*F17,2) -> 0 | M17: =ROUND(E17*H17,2) -> 0 | N17: =ROUND(E17*I17,2) -> 0 | O17: =ROUND(E17*J17,2) -> 0 | P17: =SUM(M17:O17) -> 0
A18: 2 | C18: Montēt metala profilu karkasu 75mm biezumā, ieskaitot visus stiprinājumus un palīgmateriālus Ultrastill CW75 profili vai ekvivalents | D18: m2 | E18: 8.79 | F18: 0 | G18: =IF(F18>0,likme,0) -> 0 | H18: =ROUND(F18*G18,2) -> 0 | I18: 0 | J18: 0 | K18: =SUM(H18:J18) -> 0 | L18: =ROUND(E18*F18,2) -> 0 | M18: =ROUND(E18*H18,2) -> 0 | N18: =ROUND(E18*I18,2) -> 0 | O18: =ROUND(E18*J18,2) -> 0 | P18: =SUM(M18:O18) -> 0
A19: 3 | C19: Ieklāt izolāciju 75mm biezumā Skaņas izolācija Isover Acoustic 75 mm (R’w = 64 dB) vai ekvivalents | D19: m2 | E19: 8.79 | F19: 0 | G19: =IF(F19>0,likme,0) -> 0 | H19: =ROUND(F19*G19,2) -> 0 | I19: 0 | J19: 0 | K19: =SUM(H19:J19) -> 0 | L19: =ROUND(E19*F19,2) -> 0 | M19: =ROUND(E19*H19,2) -> 0 | N19: =ROUND(E19*I19,2) -> 0 | O19: =ROUND(E19*J19,2) -> 0 | P19: =SUM(M19:O19) -> 0
A20: 4 | C20: Apšūt karkasu ar Knauf GKFI vai ekvivalents 12,5mm ģipškartona loksnēm divās kārtās, ieskaitot visus stiprinājumus un palīgmateriālus. Veikt šuvju špaktelēšanu | D20: m2 | E20: 8.79 | F20: 0 | G20: =IF(F20>0,likme,0) -> 0 | H20: =ROUND(F20*G20,2) -> 0 | I20: 0 | J20: 0 | K20: =SUM(H20:J20) -> 0 | L20: =ROUND(E20*F20,2) -> 0 | M20: =ROUND(E20*H20,2) -> 0 | N20: =ROUND(E20*I20,2) -> 0 | O20: =ROUND(E20*J20,2) -> 0 | P20: =SUM(M20:O20) -> 0
A21: 5 | C21: SI-1 | F21: 0 | G21: =IF(F21>0,likme,0) -> 0 | H21: =ROUND(F21*G21,2) -> 0 | I21: 0 | J21: 0 | K21: =SUM(H21:J21) -> 0 | L21: =ROUND(E21*F21,2) -> 0 | M21: =ROUND(E21*H21,2) -> 0 | N21: =ROUND(E21*I21,2) -> 0 | O21: =ROUND(E21*J21,2) -> 0 | P21: =SUM(M21:O21) -> 0
A22: 6 | C22: Montēt metala profilu karkasu 75mm biezumā, ieskaitot visus stiprinājumus un palīgmateriālus Ultrastill CW75 profili vai ekvivalents | D22: m2 | E22: 130.82 | F22: 0 | G22: =IF(F22>0,likme,0) -> 0 | H22: =ROUND(F22*G22,2) -> 0 | I22: 0 | J22: 0 | K22: =SUM(H22:J22) -> 0 | L22: =ROUND(E22*F22,2) -> 0 | M22: =ROUND(E22*H22,2) -> 0 | N22: =ROUND(E22*I22,2) -> 0 | O22: =ROUND(E22*J22,2) -> 0 | P22: =SUM(M22:O22) -> 0
A23: 7 | C23: Ieklāt izolāciju 75mm biezumā Skaņas izolācija Isover Acoustic 75 mm (R’w = 64 dB) vai ekvivalents | D23: m2 | E23: 130.82 | F23: 0 | G23: =IF(F23>0,likme,0) -> 0 | H23: =ROUND(F23*G23,2) -> 0 | I23: 0 | J23: 0 | K23: =SUM(H23:J23) -> 0 | L23: =ROUND(E23*F23,2) -> 0 | M23: =ROUND(E23*H23,2) -> 0 | N23: =ROUND(E23*I23,2) -> 0 | O23: =ROUND(E23*J23,2) -> 0 | P23: =SUM(M23:O23) -> 0
A24: 8 | C24: Apšūt karkasu ar Knauf GKF vai ekvivalents 12,5mm ģipškartona loksnēm divās kārtās, ieskaitot visus stiprinājumus un palīgmateriālus. Veikt šuvju špaktelēšanu | D24: m2 | E24: 130.82 | F24: 0 | G24: =IF(F24>0,likme,0) -> 0 | H24: =ROUND(F24*G24,2) -> 0 | I24: 0 | J24: 0 | K24: =SUM(H24:J24) -> 0 | L24: =ROUND(E24*F24,2) -> 0 | M24: =ROUND(E24*H24,2) -> 0 | N24: =ROUND(E24*I24,2) -> 0 | O24: =ROUND(E24*J24,2) -> 0 | P24: =SUM(M24:O24) -> 0
A25: 9 | C25: SI-2 | F25: 0 | G25: =IF(F25>0,likme,0) -> 0 | H25: =ROUND(F25*G25,2) -> 0 | I25: 0 | J25: 0 | K25: =SUM(H25:J25) -> 0 | L25: =ROUND(E25*F25,2) -> 0 | M25: =ROUND(E25*H25,2) -> 0 | N25: =ROUND(E25*I25,2) -> 0 | O25: =ROUND(E25*J25,2) -> 0 | P25: =SUM(M25:O25) -> 0
A26: 10 | C26: Apšūt karkasu ar Knauf GKFI vai ekvivalents 12,5mm ģipškartona loksnēm divās kārtās, ieskaitot visus stiprinājumus un palīgmateriālus. Veikt šuvju špaktelēšanu | D26: m2 | E26: 556.64 | F26: 0 | G26: =IF(F26>0,likme,0) -> 0 | H26: =ROUND(F26*G26,2) -> 0 | I26: 0 | J26: 0 | K26: =SUM(H26:J26) -> 0 | L26: =ROUND(E26*F26,2) -> 0 | M26: =ROUND(E26*H26,2) -> 0 | N26: =ROUND(E26*I26,2) -> 0 | O26: =ROUND(E26*J26,2) -> 0 | P26: =SUM(M26:O26) -> 0
A27: 11 | C27: Ieklāt izolāciju 75mm biezumā Skaņas izolācija Isover Acoustic 75 mm (R’w = 64 dB) vai ekvivalents | D27: m2 | E27: 556.64 | F27: 0 | G27: =IF(F27>0,likme,0) -> 0 | H27: =ROUND(F27*G27,2) -> 0 | I27: 0 | J27: 0 | K27: =SUM(H27:J27) -> 0 | L27: =ROUND(E27*F27,2) -> 0 | M27: =ROUND(E27*H27,2) -> 0 | N27: =ROUND(E27*I27,2) -> 0 | O27: =ROUND(E27*J27,2) -> 0 | P27: =SUM(M27:O27) -> 0
A28: 12 | C28: Montēt metala profilu karkasu 75mm biezumā, ieskaitot visus stiprinājumus un palīgmateriālus Ultrastill CW75 profili vai ekvivalents | D28: m2 | E28: 556.64 | F28: 0 | G28: =IF(F28>0,likme,0) -> 0 | H28: =ROUND(F28*G28,2) -> 0 | I28: 0 | J28: 0 | K28: =SUM(H28:J28) -> 0 | L28: =ROUND(E28*F28,2) -> 0 | M28: =ROUND(E28*H28,2) -> 0 | N28: =ROUND(E28*I28,2) -> 0 | O28: =ROUND(E28*J28,2) -> 0 | P28: =SUM(M28:O28) -> 0
A29: 13 | C29: Montēt metala profilu karkasu 75mm biezumā, ieskaitot visus stiprinājumus un palīgmateriālus Ultrastill CW75 profili vai ekvivalents | D29: m2 | E29: 556.64 | F29: 0 | G29: =IF(F29>0,likme,0) -> 0 | H29: =ROUND(F29*G29,2) -> 0 | I29: 0 | J29: 0 | K29: =SUM(H29:J29) -> 0 | L29: =ROUND(E29*F29,2) -> 0 | M29: =ROUND(E29*H29,2) -> 0 | N29: =ROUND(E29*I29,2) -> 0 | O29: =ROUND(E29*J29,2) -> 0 | P29: =SUM(M29:O29) -> 0
A30: 14 | C30: Ieklāt izolāciju 75mm biezumā Skaņas izolācija Isover Acoustic 75 mm (R’w = 64 dB) vai ekvivalents | D30: m2 | E30: 556.64 | F30: 0 | G30: =IF(F30>0,likme,0) -> 0 | H30: =ROUND(F30*G30,2) -> 0 | I30: 0 | J30: 0 | K30: =SUM(H30:J30) -> 0 | L30: =ROUND(E30*F30,2) -> 0 | M30: =ROUND(E30*H30,2) -> 0 | N30: =ROUND(E30*I30,2) -> 0 | O30: =ROUND(E30*J30,2) -> 0 | P30: =SUM(M30:O30) -> 0
A31: 15 | C31: Apšūt karkasu ar Knauf GKFI vai ekvivalents 12,5mm ģipškartona loksnēm divās kārtās, ieskaitot visus stiprinājumus un palīgmateriālus. Veikt šuvju špaktelēšanu | D31: m2 | E31: 556.64 | F31: 0 | G31: =IF(F31>0,likme,0) -> 0 | H31: =ROUND(F31*G31,2) -> 0 | I31: 0 | J31: 0 | K31: =SUM(H31:J31) -> 0 | L31: =ROUND(E31*F31,2) -> 0 | M31: =ROUND(E31*H31,2) -> 0 | N31: =ROUND(E31*I31,2) -> 0 | O31: =ROUND(E31*J31,2) -> 0 | P31: =SUM(M31:O31) -> 0
A32: 16 | C32: SI-3 | F32: 0 | G32: =IF(F32>0,likme,0) -> 0 | H32: =ROUND(F32*G32,2) -> 0 | I32: 0 | J32: 0 | K32: =SUM(H32:J32) -> 0 | L32: =ROUND(E32*F32,2) -> 0 | M32: =ROUND(E32*H32,2) -> 0 | N32: =ROUND(E32*I32,2) -> 0 | O32: =ROUND(E32*J32,2) -> 0 | P32: =SUM(M32:O32) -> 0
A33: 17 | C33: Apšūt karkasu ar Knauf GKFI vai ekvivalents 12,5mm ģipškartona loksnēm divās kārtās, ieskaitot visus stiprinājumus un palīgmateriālus. Veikt šuvju špaktelēšanu | D33: m2 | E33: 98.41 | F33: 0 | G33: =IF(F33>0,likme,0) -> 0 | H33: =ROUND(F33*G33,2) -> 0 | I33: 0 | J33: 0 | K33: =SUM(H33:J33) -> 0 | L33: =ROUND(E33*F33,2) -> 0 | M33: =ROUND(E33*H33,2) -> 0 | N33: =ROUND(E33*I33,2) -> 0 | O33: =ROUND(E33*J33,2) -> 0 | P33: =SUM(M33:O33) -> 0
A34: 18 | C34: Montēt metala profilu karkasu 75mm biezumā, ieskaitot visus stiprinājumus un palīgmateriālus Ultrastill CW75 profili vai ekvivalents | D34: m2 | E34: 98.41 | F34: 0 | G34: =IF(F34>0,likme,0) -> 0 | H34: =ROUND(F34*G34,2) -> 0 | I34: 0 | J34: 0 | K34: =SUM(H34:J34) -> 0 | L34: =ROUND(E34*F34,2) -> 0 | M34: =ROUND(E34*H34,2) -> 0 | N34: =ROUND(E34*I34,2) -> 0 | O34: =ROUND(E34*J34,2) -> 0 | P34: =SUM(M34:O34) -> 0
A35: 19 | C35: Ieklāt izolāciju 75mm biezumā Skaņas izolācija Isover Acoustic 75 mm (R’w = 64 dB) vai ekvivalents | D35: m2 | E35: 98.41 | F35: 0 | G35: =IF(F35>0,likme,0) -> 0 | H35: =ROUND(F35*G35,2) -> 0 | I35: 0 | J35: 0 | K35: =SUM(H35:J35) -> 0 | L35: =ROUND(E35*F35,2) -> 0 | M35: =ROUND(E35*H35,2) -> 0 | N35: =ROUND(E35*I35,2) -> 0 | O35: =ROUND(E35*J35,2) -> 0 | P35: =SUM(M35:O35) -> 0
A36: 20 | C36: Apšūt karkasu ar Knauf GKFI vai ekvivalents 12,5mm ģipškartona loksnēm divās kārtās, ieskaitot visus stiprinājumus un palīgmateriālus. Veikt šuvju špaktelēšanu | D36: m2 | E36: 98.41 | F36: 0 | G36: =IF(F36>0,likme,0) -> 0 | H36: =ROUND(F36*G36,2) -> 0 | I36: 0 | J36: 0 | K36: =SUM(H36:J36) -> 0 | L36: =ROUND(E36*F36,2) -> 0 | M36: =ROUND(E36*H36,2) -> 0 | N36: =ROUND(E36*I36,2) -> 0 | O36: =ROUND(E36*J36,2) -> 0 | P36: =SUM(M36:O36) -> 0
A37: 21 | C37: SI-4 (* Mitrās telpās (sanitārtehniskajās telpās) izmantot atbilstošas ģipškartona plāksnes Hydro 2x12.5 mm vai ekvivalents | F37: 0 | G37: =IF(F37>0,likme,0) -> 0 | H37: =ROUND(F37*G37,2) -> 0 | I37: 0 | J37: 0 | K37: =SUM(H37:J37) -> 0 | L37: =ROUND(E37*F37,2) -> 0 | M37: =ROUND(E37*H37,2) -> 0 | N37: =ROUND(E37*I37,2) -> 0 | O37: =ROUND(E37*J37,2) -> 0 | P37: =SUM(M37:O37) -> 0
A38: 22 | C38: Apšūt karkasu ar Knauf GKF vai ekvivalents 12,5mm ģipškartona loksnēm divās kārtās, ieskaitot visus stiprinājumus un palīgmateriālus. Veikt šuvju špaktelēšanu | D38: m2 | E38: 134.78 | F38: 0 | G38: =IF(F38>0,likme,0) -> 0 | H38: =ROUND(F38*G38,2) -> 0 | I38: 0 | J38: 0 | K38: =SUM(H38:J38) -> 0 | L38: =ROUND(E38*F38,2) -> 0 | M38: =ROUND(E38*H38,2) -> 0 | N38: =ROUND(E38*I38,2) -> 0 | O38: =ROUND(E38*J38,2) -> 0 | P38: =SUM(M38:O38) -> 0
A39: 23 | C39: Ieklāt izolāciju 75mm biezumā Skaņas izolācija Isover Acoustic 75 mm (R’w = 64 dB) vai ekvivalents | D39: m2 | E39: 134.78 | F39: 0 | G39: =IF(F39>0,likme,0) -> 0 | H39: =ROUND(F39*G39,2) -> 0 | I39: 0 | J39: 0 | K39: =SUM(H39:J39) -> 0 | L39: =ROUND(E39*F39,2) -> 0 | M39: =ROUND(E39*H39,2) -> 0 | N39: =ROUND(E39*I39,2) -> 0 | O39: =ROUND(E39*J39,2) -> 0 | P39: =SUM(M39:O39) -> 0
A40: 24 | C40: Montēt metala profilu karkasu 75mm biezumā, ieskaitot visus stiprinājumus un palīgmateriālus Ultrastill CW75 profili vai ekvivalents | D40: m2 | E40: 134.78 | F40: 0 | G40: =IF(F40>0,likme,0) -> 0 | H40: =ROUND(F40*G40,2) -> 0 | I40: 0 | J40: 0 | K40: =SUM(H40:J40) -> 0 | L40: =ROUND(E40*F40,2) -> 0 | M40: =ROUND(E40*H40,2) -> 0 | N40: =ROUND(E40*I40,2) -> 0 | O40: =ROUND(E40*J40,2) -> 0 | P40: =SUM(M40:O40) -> 0
A41: 25 | C41: Montēt metala profilu karkasu 75mm biezumā, ieskaitot visus stiprinājumus un palīgmateriālus Ultrastill CW75 profili vai ekvivalents | D41: m2 | E41: 134.78 | F41: 0 | G41: =IF(F41>0,likme,0) -> 0 | H41: =ROUND(F41*G41,2) -> 0 | I41: 0 | J41: 0 | K41: =SUM(H41:J41) -> 0 | L41: =ROUND(E41*F41,2) -> 0 | M41: =ROUND(E41*H41,2) -> 0 | N41: =ROUND(E41*I41,2) -> 0 | O41: =ROUND(E41*J41,2) -> 0 | P41: =SUM(M41:O41) -> 0
A42: 26 | C42: Ieklāt izolāciju 75mm biezumā Skaņas izolācija Isover Acoustic 75 mm (R’w = 64 dB) vai ekvivalents | D42: m2 | E42: 134.78 | F42: 0 | G42: =IF(F42>0,likme,0) -> 0 | H42: =ROUND(F42*G42,2) -> 0 | I42: 0 | J42: 0 | K42: =SUM(H42:J42) -> 0 | L42: =ROUND(E42*F42,2) -> 0 | M42: =ROUND(E42*H42,2) -> 0 | N42: =ROUND(E42*I42,2) -> 0 | O42: =ROUND(E42*J42,2) -> 0 | P42: =SUM(M42:O42) -> 0
A43: 27 | C43: Apšūt karkasu ar Knauf GKF vai ekvivalents 12,5mm ģipškartona loksnēm divās kārtās, ieskaitot visus stiprinājumus un palīgmateriālus. Veikt šuvju špaktelēšanu | D43: m2 | E43: 134.78 | F43: 0 | G43: =IF(F43>0,likme,0) -> 0 | H43: =ROUND(F43*G43,2) -> 0 | I43: 0 | J43: 0 | K43: =SUM(H43:J43) -> 0 | L43: =ROUND(E43*F43,2) -> 0 | M43: =ROUND(E43*H43,2) -> 0 | N43: =ROUND(E43*I43,2) -> 0 | O43: =ROUND(E43*J43,2) -> 0 | P43: =SUM(M43:O43) -> 0
A44: 28 | C44: SI-9.1 (* Mitrās telpās (sanitārtehniskajās telpās) izmantot atbilstošas ģipškartona plāksnes Hydro 2x12.5 mm vai ekvivalents | F44: 0 | G44: =IF(F44>0,likme,0) -> 0 | H44: =ROUND(F44*G44,2) -> 0 | I44: 0 | J44: 0 | K44: =SUM(H44:J44) -> 0 | L44: =ROUND(E44*F44,2) -> 0 | M44: =ROUND(E44*H44,2) -> 0 | N44: =ROUND(E44*I44,2) -> 0 | O44: =ROUND(E44*J44,2) -> 0 | P44: =SUM(M44:O44) -> 0
A45: 29 | C45: Apšūt karkasu ar Knauf GKFI vai ekvivalents 12,5mm ģipškartona loksnēm divās kārtās, ieskaitot visus stiprinājumus un palīgmateriālus. Veikt šuvju špaktelēšanu | D45: m2 | E45: 127.93 | F45: 0 | G45: =IF(F45>0,likme,0) -> 0 | H45: =ROUND(F45*G45,2) -> 0 | I45: 0 | J45: 0 | K45: =SUM(H45:J45) -> 0 | L45: =ROUND(E45*F45,2) -> 0 | M45: =ROUND(E45*H45,2) -> 0 | N45: =ROUND(E45*I45,2) -> 0 | O45: =ROUND(E45*J45,2) -> 0 | P45: =SUM(M45:O45) -> 0
A46: 30 | C46: Ieklāt izolāciju 50mm biezumā Skaņas izolācija Isover Acoustic 50 mm (R’w = 64 dB) vai ekvivalents | D46: m2 | E46: 127.93 | F46: 0 | G46: =IF(F46>0,likme,0) -> 0 | H46: =ROUND(F46*G46,2) -> 0 | I46: 0 | J46: 0 | K46: =SUM(H46:J46) -> 0 | L46: =ROUND(E46*F46,2) -> 0 | M46: =ROUND(E46*H46,2) -> 0 | N46: =ROUND(E46*I46,2) -> 0 | O46: =ROUND(E46*J46,2) -> 0 | P46: =SUM(M46:O46) -> 0
A47: 31 | C47: Montēt metala profilu karkasu 75mm biezumā, ieskaitot visus stiprinājumus un palīgmateriālus Ultrastill CW75 profili vai ekvivalents | D47: m2 | E47: 127.93 | F47: 0 | G47: =IF(F47>0,likme,0) -> 0 | H47: =ROUND(F47*G47,2) -> 0 | I47: 0 | J47: 0 | K47: =SUM(H47:J47) -> 0 | L47: =ROUND(E47*F47,2) -> 0 | M47: =ROUND(E47*H47,2) -> 0 | N47: =ROUND(E47*I47,2) -> 0 | O47: =ROUND(E47*J47,2) -> 0 | P47: =SUM(M47:O47) -> 0
A48: 32 | C48: Tualešu starpsienas | F48: 0 | G48: =IF(F48>0,likme,0) -> 0 | H48: =ROUND(F48*G48,2) -> 0 | I48: 0 | J48: 0 | K48: =SUM(H48:J48) -> 0 | L48: =ROUND(E48*F48,2) -> 0 | M48: =ROUND(E48*H48,2) -> 0 | N48: =ROUND(E48*I48,2) -> 0 | O48: =ROUND(E48*J48,2) -> 0 | P48: =SUM(M48:O48) -> 0
A49: 33 | C49: Montēt tualešu starpsienas, ieskaitot visus stiprinājumus un palīgmateriālus. HPL 13mm starpsienas uz tērauda kājiņām. (bez durvīm) | D49: m2 | E49: 68.8 | F49: 0 | G49: =IF(F49>0,likme,0) -> 0 | H49: =ROUND(F49*G49,2) -> 0 | I49: 0 | J49: 0 | K49: =SUM(H49:J49) -> 0 | L49: =ROUND(E49*F49,2) -> 0 | M49: =ROUND(E49*H49,2) -> 0 | N49: =ROUND(E49*I49,2) -> 0 | O49: =ROUND(E49*J49,2) -> 0 | P49: =SUM(M49:O49) -> 0
A50: 34 | C50: Ārsienu ailes | F50: 0 | G50: =IF(F50>0,likme,0) -> 0 | H50: =ROUND(F50*G50,2) -> 0 | I50: 0 | J50: 0 | K50: =SUM(H50:J50) -> 0 | L50: =ROUND(E50*F50,2) -> 0 | M50: =ROUND(E50*H50,2) -> 0 | N50: =ROUND(E50*I50,2) -> 0 | O50: =ROUND(E50*J50,2) -> 0 | P50: =SUM(M50:O50) -> 0
A51: 35 | C51: Montēt metala profilu karkasu, ieskaitot visus stiprinājumus un palīgmateriālus | D51: m | E51: 451.81 | F51: 0 | G51: =IF(F51>0,likme,0) -> 0 | H51: =ROUND(F51*G51,2) -> 0 | I51: 0 | J51: 0 | K51: =SUM(H51:J51) -> 0 | L51: =ROUND(E51*F51,2) -> 0 | M51: =ROUND(E51*H51,2) -> 0 | N51: =ROUND(E51*I51,2) -> 0 | O51: =ROUND(E51*J51,2) -> 0 | P51: =SUM(M51:O51) -> 0
A52: 36 | C52: Ieklāt izolāciju 30mm biezumā | D52: m | E52: 451.81 | F52: 0 | G52: =IF(F52>0,likme,0) -> 0 | H52: =ROUND(F52*G52,2) -> 0 | I52: 0 | J52: 0 | K52: =SUM(H52:J52) -> 0 | L52: =ROUND(E52*F52,2) -> 0 | M52: =ROUND(E52*H52,2) -> 0 | N52: =ROUND(E52*I52,2) -> 0 | O52: =ROUND(E52*J52,2) -> 0 | P52: =SUM(M52:O52) -> 0
A53: 37 | C53: Apšūt karkasu ar Knauf GKFI vai ekvivalents 12,5mm ģipškartona loksnēm vienā kārtā, ieskaitot visus stiprinājumus un palīgmateriālus. Veikt šuvju špaktelēšanu | D53: m | E53: 451.81 | F53: 0 | G53: =IF(F53>0,likme,0) -> 0 | H53: =ROUND(F53*G53,2) -> 0 | I53: 0 | J53: 0 | K53: =SUM(H53:J53) -> 0 | L53: =ROUND(E53*F53,2) -> 0 | M53: =ROUND(E53*H53,2) -> 0 | N53: =ROUND(E53*I53,2) -> 0 | O53: =ROUND(E53*J53,2) -> 0 | P53: =SUM(M53:O53) -> 0
A55: Tiešās izmaksas kopā, t.sk. Darba dēvēja sociālais nodoklis (23,59%) | L55: =SUM(L17:L54) -> 0 | M55: =SUM(M17:M54) -> 0 | N55: =SUM(N17:N54) -> 0 | O55: =SUM(O17:O54) -> 0 | P55: =SUM(P17:P54) -> 0
A57: =KT!A23 -> 0 | D57: =KT!C27 -> 0
A58: (paraksts un tā atšifrējums, datums)
A59: =KT!A25 -> 0
A61: =KT!A27 -> 0 | D61: =KT!C27 -> 0
A62: (paraksts un tā atšifrējums, datums)
A63: =KT!A29 -> 0

Sheet 1,5
A2: Lokālā tāme Nr.1,5
A3: =KA!C19 -> Grīdu pamatnes, segumi
A4: (būvdarbu veids vai konstruktīvā elementa nosaukums)
A6: Objekta nosaukums: | C6: =KT!B9 -> Garkalnes Mākslas un vispārizglītojošās pamatskolas piebūve
A7: Būves nosaukums: | C7: =KT!B10 -> Garkalnes Mākslas un vispārizglītojošā pamatskola
A8: Objekta adrese: | C8: =KT!B11 -> Ropažu novads, Garkalne, Vidzemes šoseja 34, LV-2137
A9: Pasūtījuma nr.: | C9: =KT!B12 -> 0
A11: Tāme sastādīta 2026. gada tirgus cenās, pamatojoties uz būvprojekta rasējumiem | M11: Tāmes izmaksas: | O11: =P58 -> 0 | P11: EUR
N12: Tāme sastādītā | O12: =KT!C27 -> 0
A14: Nr.p.k. | B14: Kods | C14: Būvdarbu nosaukums | D14: Mērvienība | E14: Daudzums | F14: Vienības izmaksas | L14: Kopā uz visu apjomu
F15: Laika norma (c/h) | G15: Darba samaksas likme (euro/h) | H15: Darba alga | I15: Būvizstrādājumi | J15: Mehānismi | K15: KOPĀ | L15: Darbietilpība (c/h) | M15: Darba alga | N15: Būvizstrādājumi | O15: Mehānismi | P15: Summa
A17: 1 | C17: G-1 | F17: 0 | G17: =IF(F17>0,likme,0) -> 0 | H17: =ROUND(F17*G17,2) -> 0 | I17: 0 | J17: 0 | L17: =ROUND(E17*F17,2) -> 0 | M17: =ROUND(E17*H17,2) -> 0 | N17: =ROUND(E17*I17,2) -> 0 | O17: =ROUND(E17*J17,2) -> 0 | P17: =SUM(M17:O17) -> 0
A18: 2 | C18: Ieklat blietētu šķembu kārtu fr. 20/40 100mm biezumā | D18: m3 | E18: 44.49 | F18: 0 | G18: =IF(F18>0,likme,0) -> 0 | H18: =ROUND(F18*G18,2) -> 0 | I18: 0 | J18: 0 | L18: =ROUND(E18*F18,2) -> 0 | M18: =ROUND(E18*H18,2) -> 0 | N18: =ROUND(E18*I18,2) -> 0 | O18: =ROUND(E18*J18,2) -> 0 | P18: =SUM(M18:O18) -> 0
A19: 3 | C19: Siltināt grīdu ar ThermoWhite WD100R vai ekvivalents (λ ≤ 0.046 W/mk, dinamiskā slodze 10 kN/m2, spiedes stiprība 70 kPa) 150mm biezumā | D19: m2 | E19: 444.87 | F19: 0 | G19: =IF(F19>0,likme,0) -> 0 | H19: =ROUND(F19*G19,2) -> 0 | I19: 0 | J19: 0 | L19: =ROUND(E19*F19,2) -> 0 | M19: =ROUND(E19*H19,2) -> 0 | N19: =ROUND(E19*I19,2) -> 0 | O19: =ROUND(E19*J19,2) -> 0 | P19: =SUM(M19:O19) -> 0
A20: 4 | C20: Ieklāt PVC plēvi - 200 mkr | D20: m2 | E20: 444.87 | F20: 0 | G20: =IF(F20>0,likme,0) -> 0 | H20: =ROUND(F20*G20,2) -> 0 | I20: 0 | J20: 0 | L20: =ROUND(E20*F20,2) -> 0 | M20: =ROUND(E20*H20,2) -> 0 | N20: =ROUND(E20*I20,2) -> 0 | O20: =ROUND(E20*J20,2) -> 0 | P20: =SUM(M20:O20) -> 0
A21: 5 | C21: Ieklat cementa klona grīdu 70mm biezumā, ieskaitot visus stiprinājumus un palīgmateriālus. Cementa klons Estrich, 70 mm, (Atbilstoši LVS EN 13813:2005L stiprības klase C20, lieces stiprība 4N/mm2, spiedes stiprība 20 N/ mm2, grīda uz siltumizolācijas/peldoša) | D21: m2 | E21: 444.87 | F21: 0 | G21: =IF(F21>0,likme,0) -> 0 | H21: =ROUND(F21*G21,2) -> 0 | I21: 0 | J21: 0 | L21: =ROUND(E21*F21,2) -> 0 | M21: =ROUND(E21*H21,2) -> 0 | N21: =ROUND(E21*I21,2) -> 0 | O21: =ROUND(E21*J21,2) -> 0 | P21: =SUM(M21:O21) -> 0
A22: 6 | C22: Ieklāt PE plēvi 0.2 mm 2 kārtās - 200 mkr, 20 cm pārlaidums ar tvaika plēves līmi Gerbanda 586 vai ekvivalents | D22: m2 | E22: 444.87 | F22: 0 | G22: =IF(F22>0,likme,0) -> 0 | H22: =ROUND(F22*G22,2) -> 0 | I22: 0 | J22: 0 | L22: =ROUND(E22*F22,2) -> 0 | M22: =ROUND(E22*H22,2) -> 0 | N22: =ROUND(E22*I22,2) -> 0 | O22: =ROUND(E22*J22,2) -> 0 | P22: =SUM(M22:O22) -> 0
A23: 7 | C23: Montēt grīdas balsta konstrukciju 75mm biezumā, ieskaitot visus stiprinājumus un palīgmateriālus. Arenaflex vai ekvivalents grīdu sistēma, ozolkoka balsta lāgas (45x48 mm) stiprināmas polipropilēna ligzdās uz absorbējoša paliktņa | D23: m2 | E23: 444.87 | F23: 0 | G23: =IF(F23>0,likme,0) -> 0 | H23: =ROUND(F23*G23,2) -> 0 | I23: 0 | J23: 0 | L23: =ROUND(E23*F23,2) -> 0 | M23: =ROUND(E23*H23,2) -> 0 | N23: =ROUND(E23*I23,2) -> 0 | O23: =ROUND(E23*J23,2) -> 0 | P23: =SUM(M23:O23) -> 0
A24: 8 | C24: Stiprināt saplāksni 22mm biezumā, ieskaitot visus stiprinājumus un palīgmateriālus. | D24: m2 | E24: 444.87 | F24: 0 | G24: =IF(F24>0,likme,0) -> 0 | H24: =ROUND(F24*G24,2) -> 0 | I24: 0 | J24: 0 | L24: =ROUND(E24*F24,2) -> 0 | M24: =ROUND(E24*H24,2) -> 0 | N24: =ROUND(E24*I24,2) -> 0 | O24: =ROUND(E24*J24,2) -> 0 | P24: =SUM(M24:O24) -> 0
A25: 9 | C25: G-2 | F25: 0 | G25: =IF(F25>0,likme,0) -> 0 | H25: =ROUND(F25*G25,2) -> 0 | I25: 0 | J25: 0 | L25: =ROUND(E25*F25,2) -> 0 | M25: =ROUND(E25*H25,2) -> 0 | N25: =ROUND(E25*I25,2) -> 0 | O25: =ROUND(E25*J25,2) -> 0 | P25: =SUM(M25:O25) -> 0
A26: 10 | C26: Ieklat blietētu šķembu kārtu fr. 20/40 100mm biezumā | D26: m3 | E26: 32.55 | F26: 0 | G26: =IF(F26>0,likme,0) -> 0 | H26: =ROUND(F26*G26,2) -> 0 | I26: 0 | J26: 0 | L26: =ROUND(E26*F26,2) -> 0 | M26: =ROUND(E26*H26,2) -> 0 | N26: =ROUND(E26*I26,2) -> 0 | O26: =ROUND(E26*J26,2) -> 0 | P26: =SUM(M26:O26) -> 0
A27: 11 | C27: Siltināt grīdu ar ThermoWhite WD100R vai ekvivalents (λ ≤ 0.046 W/mk, dinamiskā slodze 10 kN/m2, spiedes stiprība 70 kPa) 220mm biezumā | D27: m2 | E27: 325.53 | F27: 0 | G27: =IF(F27>0,likme,0) -> 0 | H27: =ROUND(F27*G27,2) -> 0 | I27: 0 | J27: 0 | L27: =ROUND(E27*F27,2) -> 0 | M27: =ROUND(E27*H27,2) -> 0 | N27: =ROUND(E27*I27,2) -> 0 | O27: =ROUND(E27*J27,2) -> 0 | P27: =SUM(M27:O27) -> 0
A28: 12 | C28: Ieklāt PVC plēvi - 200 mkr | D28: m2 | E28: 325.53 | F28: 0 | G28: =IF(F28>0,likme,0) -> 0 | H28: =ROUND(F28*G28,2) -> 0 | I28: 0 | J28: 0 | L28: =ROUND(E28*F28,2) -> 0 | M28: =ROUND(E28*H28,2) -> 0 | N28: =ROUND(E28*I28,2) -> 0 | O28: =ROUND(E28*J28,2) -> 0 | P28: =SUM(M28:O28) -> 0
A29: 13 | C29: Ieklat cementa klona grīdu 70mm biezumā, ieskaitot visus stiprinājumus un palīgmateriālus. Cementa klons Estrich, 70 mm, (Atbilstoši LVS EN 13813:2005L stiprības klase C20, lieces stiprība 4N/mm2, spiedes stiprība 20 N/ mm2, grīda uz siltumizolācijas/peldoša) | D29: m2 | E29: 325.53 | F29: 0 | G29: =IF(F29>0,likme,0) -> 0 | H29: =ROUND(F29*G29,2) -> 0 | I29: 0 | J29: 0 | L29: =ROUND(E29*F29,2) -> 0 | M29: =ROUND(E29*H29,2) -> 0 | N29: =ROUND(E29*I29,2) -> 0 | O29: =ROUND(E29*J29,2) -> 0 | P29: =SUM(M29:O29) -> 0
A30: 14 | C30: Ieklāt PE plēvi 0.2 mm 2 kārtās - 200 mkr, 20 cm pārlaidums ar tvaika plēves līmi Gerbanda 586 vai ekvivalents | D30: m2 | E30: 325.53 | F30: 0 | G30: =IF(F30>0,likme,0) -> 0 | H30: =ROUND(F30*G30,2) -> 0 | I30: 0 | J30: 0 | L30: =ROUND(E30*F30,2) -> 0 | M30: =ROUND(E30*H30,2) -> 0 | N30: =ROUND(E30*I30,2) -> 0 | O30: =ROUND(E30*J30,2) -> 0 | P30: =SUM(M30:O30) -> 0
A31: 15 | C31: G-3 | F31: 0 | G31: =IF(F31>0,likme,0) -> 0 | H31: =ROUND(F31*G31,2) -> 0 | I31: 0 | J31: 0 | L31: =ROUND(E31*F31,2) -> 0 | M31: =ROUND(E31*H31,2) -> 0 | N31: =ROUND(E31*I31,2) -> 0 | O31: =ROUND(E31*J31,2) -> 0 | P31: =SUM(M31:O31) -> 0
A32: 16 | C32: Ieklat blietētu šķembu kārtu fr. 20/40 100mm biezumā | D32: m3 | E32: 1.99 | F32: 0 | G32: =IF(F32>0,likme,0) -> 0 | H32: =ROUND(F32*G32,2) -> 0 | I32: 0 | J32: 0 | L32: =ROUND(E32*F32,2) -> 0 | M32: =ROUND(E32*H32,2) -> 0 | N32: =ROUND(E32*I32,2) -> 0 | O32: =ROUND(E32*J32,2) -> 0 | P32: =SUM(M32:O32) -> 0
A33: 17 | C33: Siltināt grīdu ar ThermoWhite WD100R vai ekvivalents (λ ≤ 0.046 W/mk, dinamiskā slodze 10 kN/m2, spiedes stiprība 70 kPa) 220mm biezumā | D33: m2 | E33: 19.89 | F33: 0 | G33: =IF(F33>0,likme,0) -> 0 | H33: =ROUND(F33*G33,2) -> 0 | I33: 0 | J33: 0 | L33: =ROUND(E33*F33,2) -> 0 | M33: =ROUND(E33*H33,2) -> 0 | N33: =ROUND(E33*I33,2) -> 0 | O33: =ROUND(E33*J33,2) -> 0 | P33: =SUM(M33:O33) -> 0
A34: 18 | C34: Ieklāt PVC plēvi - 200 mkr | D34: m2 | E34: 19.89 | F34: 0 | G34: =IF(F34>0,likme,0) -> 0 | H34: =ROUND(F34*G34,2) -> 0 | I34: 0 | J34: 0 | L34: =ROUND(E34*F34,2) -> 0 | M34: =ROUND(E34*H34,2) -> 0 | N34: =ROUND(E34*I34,2) -> 0 | O34: =ROUND(E34*J34,2) -> 0 | P34: =SUM(M34:O34) -> 0
A35: 19 | C35: Ieklat cementa klona grīdu 74mm biezumā, ieskaitot visus stiprinājumus un palīgmateriālus. Cementa klons Estrich, 74 mm, (Atbilstoši LVS EN 13813:2005L stiprības klase C20, lieces stiprība 4N/mm2, spiedes stiprība 20 N/ mm2, grīda uz siltumizolācijas/peldoša) | D35: m2 | E35: 19.89 | F35: 0 | G35: =IF(F35>0,likme,0) -> 0 | H35: =ROUND(F35*G35,2) -> 0 | I35: 0 | J35: 0 | L35: =ROUND(E35*F35,2) -> 0 | M35: =ROUND(E35*H35,2) -> 0 | N35: =ROUND(E35*I35,2) -> 0 | O35: =ROUND(E35*J35,2) -> 0 | P35: =SUM(M35:O35) -> 0
A36: 20 | C36: Ieklāt PE plēvi 0.2 mm 2 kārtās - 200 mkr, 20 cm pārlaidums ar tvaika plēves līmi Gerbanda 586 vai ekvivalents | D36: m2 | E36: 19.89 | F36: 0 | G36: =IF(F36>0,likme,0) -> 0 | H36: =ROUND(F36*G36,2) -> 0 | I36: 0 | J36: 0 | L36: =ROUND(E36*F36,2) -> 0 | M36: =ROUND(E36*H36,2) -> 0 | N36: =ROUND(E36*I36,2) -> 0 | O36: =ROUND(E36*J36,2) -> 0 | P36: =SUM(M36:O36) -> 0
A37: 21 | C37: G-4 | F37: 0 | G37: =IF(F37>0,likme,0) -> 0 | H37: =ROUND(F37*G37,2) -> 0 | I37: 0 | J37: 0 | L37: =ROUND(E37*F37,2) -> 0 | M37: =ROUND(E37*H37,2) -> 0 | N37: =ROUND(E37*I37,2) -> 0 | O37: =ROUND(E37*J37,2) -> 0 | P37: =SUM(M37:O37) -> 0
A38: 22 | C38: Ieklat blietētu šķembu kārtu fr. 20/40 100mm biezumā | D38: m3 | E38: 27.66 | F38: 0 | G38: =IF(F38>0,likme,0) -> 0 | H38: =ROUND(F38*G38,2) -> 0 | I38: 0 | J38: 0 | L38: =ROUND(E38*F38,2) -> 0 | M38: =ROUND(E38*H38,2) -> 0 | N38: =ROUND(E38*I38,2) -> 0 | O38: =ROUND(E38*J38,2) -> 0 | P38: =SUM(M38:O38) -> 0
A39: 23 | C39: Siltināt grīdu ar ThermoWhite WD100R vai ekvivalents (λ ≤ 0.046 W/mk, dinamiskā slodze 10 kN/m2, spiedes stiprība 70 kPa) 220mm biezumā | D39: m2 | E39: 276.58 | F39: 0 | G39: =IF(F39>0,likme,0) -> 0 | H39: =ROUND(F39*G39,2) -> 0 | I39: 0 | J39: 0 | L39: =ROUND(E39*F39,2) -> 0 | M39: =ROUND(E39*H39,2) -> 0 | N39: =ROUND(E39*I39,2) -> 0 | O39: =ROUND(E39*J39,2) -> 0 | P39: =SUM(M39:O39) -> 0
A40: 24 | C40: Ieklāt PVC plēvi - 200 mkr | D40: m2 | E40: 276.58 | F40: 0 | G40: =IF(F40>0,likme,0) -> 0 | H40: =ROUND(F40*G40,2) -> 0 | I40: 0 | J40: 0 | L40: =ROUND(E40*F40,2) -> 0 | M40: =ROUND(E40*H40,2) -> 0 | N40: =ROUND(E40*I40,2) -> 0 | O40: =ROUND(E40*J40,2) -> 0 | P40: =SUM(M40:O40) -> 0
A41: 25 | C41: Ieklat cementa klona grīdu 82mm biezumā, ieskaitot visus stiprinājumus un palīgmateriālus. Cementa klons Estrich, 82 mm, (Atbilstoši LVS EN 13813:2005L stiprības klase C20, lieces stiprība 4N/mm2, spiedes stiprība 20 N/ mm2, grīda uz siltumizolācijas/peldoša) | D41: m2 | E41: 276.58 | F41: 0 | G41: =IF(F41>0,likme,0) -> 0 | H41: =ROUND(F41*G41,2) -> 0 | I41: 0 | J41: 0 | L41: =ROUND(E41*F41,2) -> 0 | M41: =ROUND(E41*H41,2) -> 0 | N41: =ROUND(E41*I41,2) -> 0 | O41: =ROUND(E41*J41,2) -> 0 | P41: =SUM(M41:O41) -> 0
A42: 26 | C42: G-5 | F42: 0 | G42: =IF(F42>0,likme,0) -> 0 | H42: =ROUND(F42*G42,2) -> 0 | I42: 0 | J42: 0 | L42: =ROUND(E42*F42,2) -> 0 | M42: =ROUND(E42*H42,2) -> 0 | N42: =ROUND(E42*I42,2) -> 0 | O42: =ROUND(E42*J42,2) -> 0 | P42: =SUM(M42:O42) -> 0
A43: 27 | C43: Ieklat blietētu šķembu kārtu fr. 20/40 100mm biezumā | D43: m3 | E43: 14.19 | F43: 0 | G43: =IF(F43>0,likme,0) -> 0 | H43: =ROUND(F43*G43,2) -> 0 | I43: 0 | J43: 0 | L43: =ROUND(E43*F43,2) -> 0 | M43: =ROUND(E43*H43,2) -> 0 | N43: =ROUND(E43*I43,2) -> 0 | O43: =ROUND(E43*J43,2) -> 0 | P43: =SUM(M43:O43) -> 0
A44: 28 | C44: Siltināt grīdu ar ThermoWhite WD100R vai ekvivalents (λ ≤ 0.046 W/mk, dinamiskā slodze 10 kN/m2, spiedes stiprība 70 kPa) 220mm biezumā | D44: m2 | E44: 141.87 | F44: 0 | G44: =IF(F44>0,likme,0) -> 0 | H44: =ROUND(F44*G44,2) -> 0 | I44: 0 | J44: 0 | L44: =ROUND(E44*F44,2) -> 0 | M44: =ROUND(E44*H44,2) -> 0 | N44: =ROUND(E44*I44,2) -> 0 | O44: =ROUND(E44*J44,2) -> 0 | P44: =SUM(M44:O44) -> 0
A45: 29 | C45: Ieklāt PVC plēvi - 200 mkr | D45: m2 | E45: 141.87 | F45: 0 | G45: =IF(F45>0,likme,0) -> 0 | H45: =ROUND(F45*G45,2) -> 0 | I45: 0 | J45: 0 | L45: =ROUND(E45*F45,2) -> 0 | M45: =ROUND(E45*H45,2) -> 0 | N45: =ROUND(E45*I45,2) -> 0 | O45: =ROUND(E45*J45,2) -> 0 | P45: =SUM(M45:O45) -> 0
A46: 30 | C46: Ieklat cementa klona grīdu 72mm biezumā, ieskaitot visus stiprinājumus un palīgmateriālus. Cementa klons Estrich, 72 mm, (Atbilstoši LVS EN 13813:2005L stiprības klase C20, lieces stiprība 4N/mm2, spiedes stiprība 20 N/ mm2, grīda uz siltumizolācijas/peldoša) | D46: m2 | E46: 141.87 | F46: 0 | G46: =IF(F46>0,likme,0) -> 0 | H46: =ROUND(F46*G46,2) -> 0 | I46: 0 | J46: 0 | L46: =ROUND(E46*F46,2) -> 0 | M46: =ROUND(E46*H46,2) -> 0 | N46: =ROUND(E46*I46,2) -> 0 | O46: =ROUND(E46*J46,2) -> 0 | P46: =SUM(M46:O46) -> 0
A47: 31 | C47: P-1 | F47: 0 | G47: =IF(F47>0,likme,0) -> 0 | H47: =ROUND(F47*G47,2) -> 0 | I47: 0 | J47: 0 | L47: =ROUND(E47*F47,2) -> 0 | M47: =ROUND(E47*H47,2) -> 0 | N47: =ROUND(E47*I47,2) -> 0 | O47: =ROUND(E47*J47,2) -> 0 | P47: =SUM(M47:O47) -> 0
A48: 32 | C48: Siltināt grīdu ar ThermoWhite WD100R vai ekvivalents (λD ≤ 0,046 W/mK, dinamiskā slodze 10 kN/m2) 50mm biezumā | D48: m2 | E48: 1372.02 | F48: 0 | G48: =IF(F48>0,likme,0) -> 0 | H48: =ROUND(F48*G48,2) -> 0 | I48: 0 | J48: 0 | L48: =ROUND(E48*F48,2) -> 0 | M48: =ROUND(E48*H48,2) -> 0 | N48: =ROUND(E48*I48,2) -> 0 | O48: =ROUND(E48*J48,2) -> 0 | P48: =SUM(M48:O48) -> 0
A49: 33 | C49: Ieklāt tvaika izolaciju ThermoWhite PE5/300 vai ekvivalents | D49: m2 | E49: 1372.02 | F49: 0 | G49: =IF(F49>0,likme,0) -> 0 | H49: =ROUND(F49*G49,2) -> 0 | I49: 0 | J49: 0 | L49: =ROUND(E49*F49,2) -> 0 | M49: =ROUND(E49*H49,2) -> 0 | N49: =ROUND(E49*I49,2) -> 0 | O49: =ROUND(E49*J49,2) -> 0 | P49: =SUM(M49:O49) -> 0
A50: 34 | C50: Ieklat cementa klona grīdu 70mm biezumā, ieskaitot visus stiprinājumus un palīgmateriālus. Cementa klons atbilstoši Estrich DIN 18560 CT-F3-S70-H45 ar polipropilēna disperso armējumu 0.9 kg/m3 | D50: m2 | E50: 1372.02 | F50: 0 | G50: =IF(F50>0,likme,0) -> 0 | H50: =ROUND(F50*G50,2) -> 0 | I50: 0 | J50: 0 | L50: =ROUND(E50*F50,2) -> 0 | M50: =ROUND(E50*H50,2) -> 0 | N50: =ROUND(E50*I50,2) -> 0 | O50: =ROUND(E50*J50,2) -> 0 | P50: =SUM(M50:O50) -> 0
A51: 35 | C51: Ieklāt PE plēvi 0.2 mm 2 kārtās - 200 mkr, 20 cm pārlaidums ar tvaika plēves līmi Gerbanda 586 vai ekvivalents | D51: m2 | E51: 1372.02 | F51: 0 | G51: =IF(F51>0,likme,0) -> 0 | H51: =ROUND(F51*G51,2) -> 0 | I51: 0 | J51: 0 | L51: =ROUND(E51*F51,2) -> 0 | M51: =ROUND(E51*H51,2) -> 0 | N51: =ROUND(E51*I51,2) -> 0 | O51: =ROUND(E51*J51,2) -> 0 | P51: =SUM(M51:O51) -> 0
A52: 36 | C52: P-2 | F52: 0 | G52: =IF(F52>0,likme,0) -> 0 | H52: =ROUND(F52*G52,2) -> 0 | I52: 0 | J52: 0 | L52: =ROUND(E52*F52,2) -> 0 | M52: =ROUND(E52*H52,2) -> 0 | N52: =ROUND(E52*I52,2) -> 0 | O52: =ROUND(E52*J52,2) -> 0 | P52: =SUM(M52:O52) -> 0
A53: 37 | C53: Ieklat gaisa un tvaika izolācijas plēvi no LD polietilēna PAROC XMV 020 bas vai ekvivalents | D53: m2 | E53: 1065.54 | F53: 0 | G53: =IF(F53>0,likme,0) -> 0 | H53: =ROUND(F53*G53,2) -> 0 | I53: 0 | J53: 0 | L53: =ROUND(E53*F53,2) -> 0 | M53: =ROUND(E53*H53,2) -> 0 | N53: =ROUND(E53*I53,2) -> 0 | O53: =ROUND(E53*J53,2) -> 0 | P53: =SUM(M53:O53) -> 0
A54: 38 | C54: Siltināt pārsegumu ar PAROC Ultra vai ekvivalents (λD ≤ 0,035 W/mK, ugunsreakcijas klase A1) 150mm biezumā | D54: m2 | E54: 1065.54 | F54: 0 | G54: =IF(F54>0,likme,0) -> 0 | H54: =ROUND(F54*G54,2) -> 0 | I54: 0 | J54: 0 | L54: =ROUND(E54*F54,2) -> 0 | M54: =ROUND(E54*H54,2) -> 0 | N54: =ROUND(E54*I54,2) -> 0 | O54: =ROUND(E54*J54,2) -> 0 | P54: =SUM(M54:O54) -> 0
A55: 39 | C55: Ieklāt pretvēja izolāciju PAROC WAS 25t vai ekvivalents (λD ≤ 0,033 W/mK, ugunsreakcijas klase A1) 50mm biezumā | D55: m2 | E55: 1065.54 | F55: 0 | G55: =IF(F55>0,likme,0) -> 0 | H55: =ROUND(F55*G55,2) -> 0 | I55: 0 | J55: 0 | L55: =ROUND(E55*F55,2) -> 0 | M55: =ROUND(E55*H55,2) -> 0 | N55: =ROUND(E55*I55,2) -> 0 | O55: =ROUND(E55*J55,2) -> 0 | P55: =SUM(M55:O55) -> 0
A56: 40 | C56: Montēt bēniņu laipas 500mm biezumā, ieskaitot visus stiprinājumus un palīgmateriālus. | D56: m | E56: 16.58 | F56: 0 | G56: =IF(F56>0,likme,0) -> 0 | H56: =ROUND(F56*G56,2) -> 0 | I56: 0 | J56: 0 | L56: =ROUND(E56*F56,2) -> 0 | M56: =ROUND(E56*H56,2) -> 0 | N56: =ROUND(E56*I56,2) -> 0 | O56: =ROUND(E56*J56,2) -> 0 | P56: =SUM(M56:O56) -> 0
A58: Tiešās izmaksas kopā, t.sk. Darba dēvēja sociālais nodoklis (23,59%) | L58: =SUM(L17:L57) -> 0 | M58: =SUM(M17:M57) -> 0 | N58: =SUM(N17:N57) -> 0 | O58: =SUM(O17:O57) -> 0 | P58: =SUM(P17:P57) -> 0
A60: =KT!A23 -> 0 | D60: =KT!C27 -> 0
A61: (paraksts un tā atšifrējums, datums)
A62: =KT!A25 -> 0
A64: =KT!A27 -> 0 | D64: =KT!C27 -> 0
A65: (paraksts un tā atšifrējums, datums)
A66: =KT!A29 -> 0

Sheet 1,6
A2: Lokālā tāme Nr.1,6
A3: =KA!C20 -> Jumti, segumi
A4: (būvdarbu veids vai konstruktīvā elementa nosaukums)
A6: Objekta nosaukums: | C6: =KT!B9 -> Garkalnes Mākslas un vispārizglītojošās pamatskolas piebūve
A7: Būves nosaukums: | C7: =KT!B10 -> Garkalnes Mākslas un vispārizglītojošā pamatskola
A8: Objekta adrese: | C8: =KT!B11 -> Ropažu novads, Garkalne, Vidzemes šoseja 34, LV-2137
A9: Pasūtījuma nr.: | C9: =KT!B12 -> 0
A11: Tāme sastādīta 2026. gada tirgus cenās, pamatojoties uz būvprojekta rasējumiem | M11: Tāmes izmaksas: | O11: =P97 -> 0 | P11: EUR
N12: Tāme sastādītā | O12: =KT!C27 -> 0
A14: Nr.p.k. | B14: Kods | C14: Būvdarbu nosaukums | D14: Mērvienība | E14: Daudzums | F14: Vienības izmaksas | L14: Kopā uz visu apjomu
F15: Laika norma (c/h) | G15: Darba samaksas likme (euro/h) | H15: Darba alga | I15: Būvizstrādājumi | J15: Mehānismi | K15: KOPĀ | L15: Darbietilpība (c/h) | M15: Darba alga | N15: Būvizstrādājumi | O15: Mehānismi | P15: Summa
A17: 1 | C17: J-1 | F17: 0 | G17: =IF(F17>0,likme,0) -> 0 | H17: =ROUND(F17*G17,2) -> 0 | I17: 0 | J17: 0 | K17: =SUM(H17:J17) -> 0 | L17: =ROUND(E17*F17,2) -> 0 | M17: =ROUND(E17*H17,2) -> 0 | N17: =ROUND(E17*I17,2) -> 0 | O17: =ROUND(E17*J17,2) -> 0 | P17: =SUM(M17:O17) -> 0
A18: 2 | C18: Ieklāt valcprofila jumta segumu, ieskaitot visus stiprinājumus un palīgmateriālus. | D18: m2 | E18: 628.08 | F18: 0 | G18: =IF(F18>0,likme,0) -> 0 | H18: =ROUND(F18*G18,2) -> 0 | I18: 0 | J18: 0 | K18: =SUM(H18:J18) -> 0 | L18: =ROUND(E18*F18,2) -> 0 | M18: =ROUND(E18*H18,2) -> 0 | N18: =ROUND(E18*I18,2) -> 0 | O18: =ROUND(E18*J18,2) -> 0 | P18: =SUM(M18:O18) -> 0
A19: 3 | C19: Montēt omega-profilu karkasu 75mm biezumā (sānu malas perforētas, lai nodrošinātu gaisa caurplūdi), ieskaitot visus stiprinājumus un palīgmateriālus. | D19: m2 | E19: 628.08 | F19: 0 | G19: =IF(F19>0,likme,0) -> 0 | H19: =ROUND(F19*G19,2) -> 0 | I19: 0 | J19: 0 | K19: =SUM(H19:J19) -> 0 | L19: =ROUND(E19*F19,2) -> 0 | M19: =ROUND(E19*H19,2) -> 0 | N19: =ROUND(E19*I19,2) -> 0 | O19: =ROUND(E19*J19,2) -> 0 | P19: =SUM(M19:O19) -> 0
A20: 4 | C20: Ieklāt difūzijas membrānu Ruukki 150 Fix vai ekvivalents | D20: m2 | E20: 628.08 | F20: 0 | G20: =IF(F20>0,likme,0) -> 0 | H20: =ROUND(F20*G20,2) -> 0 | I20: 0 | J20: 0 | K20: =SUM(H20:J20) -> 0 | L20: =ROUND(E20*F20,2) -> 0 | M20: =ROUND(E20*H20,2) -> 0 | N20: =ROUND(E20*I20,2) -> 0 | O20: =ROUND(E20*J20,2) -> 0 | P20: =SUM(M20:O20) -> 0
A21: 5 | C21: Siltināt jumtu ar PAROC ROB 60 siltumizolācijas plāksni ar melnu pārklājumu (λD ≤ 0,038 W/mK, ugunsreakcijas klase A1) 30mm biezumā vai ekvivalents | D21: m2 | E21: 628.08 | F21: 0 | G21: =IF(F21>0,likme,0) -> 0 | H21: =ROUND(F21*G21,2) -> 0 | I21: 0 | J21: 0 | K21: =SUM(H21:J21) -> 0 | L21: =ROUND(E21*F21,2) -> 0 | M21: =ROUND(E21*H21,2) -> 0 | N21: =ROUND(E21*I21,2) -> 0 | O21: =ROUND(E21*J21,2) -> 0 | P21: =SUM(M21:O21) -> 0
A22: 6 | C22: Siltināt jumtu ar PAROC ROS 30g siltumizolācijas plāksni ar melnu pārklājumu (λD ≤ 0,036 W/mK, ugunsreakcijas klase A1) 200mm biezumā vai ekvivalents | D22: m2 | E22: 628.08 | F22: 0 | G22: =IF(F22>0,likme,0) -> 0 | H22: =ROUND(F22*G22,2) -> 0 | I22: 0 | J22: 0 | K22: =SUM(H22:J22) -> 0 | L22: =ROUND(E22*F22,2) -> 0 | M22: =ROUND(E22*H22,2) -> 0 | N22: =ROUND(E22*I22,2) -> 0 | O22: =ROUND(E22*J22,2) -> 0 | P22: =SUM(M22:O22) -> 0
A23: 7 | C23: Montēt Z-profila karkasu 230mm, ieskaitot visus stiprinājumus un palīgmateriālus. | D23: m2 | E23: 628.08 | F23: 0 | G23: =IF(F23>0,likme,0) -> 0 | H23: =ROUND(F23*G23,2) -> 0 | I23: 0 | J23: 0 | K23: =SUM(H23:J23) -> 0 | L23: =ROUND(E23*F23,2) -> 0 | M23: =ROUND(E23*H23,2) -> 0 | N23: =ROUND(E23*I23,2) -> 0 | O23: =ROUND(E23*J23,2) -> 0 | P23: =SUM(M23:O23) -> 0
A24: 8 | C24: Ieklāt gaisa un tvaika izolācijas plēvi PAROC XMV 020 bas vai ekvivalents | D24: m2 | E24: 628.08 | F24: 0 | G24: =IF(F24>0,likme,0) -> 0 | H24: =ROUND(F24*G24,2) -> 0 | I24: 0 | J24: 0 | K24: =SUM(H24:J24) -> 0 | L24: =ROUND(E24*F24,2) -> 0 | M24: =ROUND(E24*H24,2) -> 0 | N24: =ROUND(E24*I24,2) -> 0 | O24: =ROUND(E24*J24,2) -> 0 | P24: =SUM(M24:O24) -> 0
A25: 9 | C25: J-2 | F25: 0 | G25: =IF(F25>0,likme,0) -> 0 | H25: =ROUND(F25*G25,2) -> 0 | I25: 0 | J25: 0 | K25: =SUM(H25:J25) -> 0 | L25: =ROUND(E25*F25,2) -> 0 | M25: =ROUND(E25*H25,2) -> 0 | N25: =ROUND(E25*I25,2) -> 0 | O25: =ROUND(E25*J25,2) -> 0 | P25: =SUM(M25:O25) -> 0
A26: 10 | C26: Ieklāt valcprofila jumta segumu, ieskaitot visus stiprinājumus un palīgmateriālus. | D26: m2 | E26: 1128.3 | F26: 0 | G26: =IF(F26>0,likme,0) -> 0 | H26: =ROUND(F26*G26,2) -> 0 | I26: 0 | J26: 0 | K26: =SUM(H26:J26) -> 0 | L26: =ROUND(E26*F26,2) -> 0 | M26: =ROUND(E26*H26,2) -> 0 | N26: =ROUND(E26*I26,2) -> 0 | O26: =ROUND(E26*J26,2) -> 0 | P26: =SUM(M26:O26) -> 0
A27: 11 | C27: Montēt omega-profilu karkasu 75mm biezumā (sānu malas perforētas, lai nodrošinātu gaisa caurplūdi), ieskaitot visus stiprinājumus un palīgmateriālus. | D27: m2 | E27: 1128.3 | F27: 0 | G27: =IF(F27>0,likme,0) -> 0 | H27: =ROUND(F27*G27,2) -> 0 | I27: 0 | J27: 0 | K27: =SUM(H27:J27) -> 0 | L27: =ROUND(E27*F27,2) -> 0 | M27: =ROUND(E27*H27,2) -> 0 | N27: =ROUND(E27*I27,2) -> 0 | O27: =ROUND(E27*J27,2) -> 0 | P27: =SUM(M27:O27) -> 0
A28: 12 | C28: Stiprināt piespiedējlatas pa siju 40mm, ieskaitot visus stiprinājumus un palīgmateriālus. | D28: m2 | E28: 1128.3 | F28: 0 | G28: =IF(F28>0,likme,0) -> 0 | H28: =ROUND(F28*G28,2) -> 0 | I28: 0 | J28: 0 | K28: =SUM(H28:J28) -> 0 | L28: =ROUND(E28*F28,2) -> 0 | M28: =ROUND(E28*H28,2) -> 0 | N28: =ROUND(E28*I28,2) -> 0 | O28: =ROUND(E28*J28,2) -> 0 | P28: =SUM(M28:O28) -> 0
A29: 13 | C29: Ieklāt difūzijas membrānu Ruukki 150 Fix vai ekvivalents | D29: m2 | E29: 1128.3 | F29: 0 | G29: =IF(F29>0,likme,0) -> 0 | H29: =ROUND(F29*G29,2) -> 0 | I29: 0 | J29: 0 | K29: =SUM(H29:J29) -> 0 | L29: =ROUND(E29*F29,2) -> 0 | M29: =ROUND(E29*H29,2) -> 0 | N29: =ROUND(E29*I29,2) -> 0 | O29: =ROUND(E29*J29,2) -> 0 | P29: =SUM(M29:O29) -> 0
A30: 14 | C30: P-3 | F30: 0 | G30: =IF(F30>0,likme,0) -> 0 | H30: =ROUND(F30*G30,2) -> 0 | I30: 0 | J30: 0 | K30: =SUM(H30:J30) -> 0 | L30: =ROUND(E30*F30,2) -> 0 | M30: =ROUND(E30*H30,2) -> 0 | N30: =ROUND(E30*I30,2) -> 0 | O30: =ROUND(E30*J30,2) -> 0 | P30: =SUM(M30:O30) -> 0
A31: 15 | C31: Izveidot slīpuma kārtu (i=1%) | D31: m2 | E31: 34.02 | F31: 0 | G31: =IF(F31>0,likme,0) -> 0 | H31: =ROUND(F31*G31,2) -> 0 | I31: 0 | J31: 0 | K31: =SUM(H31:J31) -> 0 | L31: =ROUND(E31*F31,2) -> 0 | M31: =ROUND(E31*H31,2) -> 0 | N31: =ROUND(E31*I31,2) -> 0 | O31: =ROUND(E31*J31,2) -> 0 | P31: =SUM(M31:O31) -> 0
A32: 16 | C32: Ieklāt sakņu izturīgu PE-LD hidroizolācijas slāni WSF 40 vai ekvivalents | D32: m2 | E32: 34.02 | F32: 0 | G32: =IF(F32>0,likme,0) -> 0 | H32: =ROUND(F32*G32,2) -> 0 | I32: 0 | J32: 0 | K32: =SUM(H32:J32) -> 0 | L32: =ROUND(E32*F32,2) -> 0 | M32: =ROUND(E32*H32,2) -> 0 | N32: =ROUND(E32*I32,2) -> 0 | O32: =ROUND(E32*J32,2) -> 0 | P32: =SUM(M32:O32) -> 0
A33: 17 | C33: Siltināt pārsegumu ar DOW ekstrudētu putupolistirolu STYROFOAM 300 vai ekvivalents 100 mm biezumā λ=0.036 W/mK | D33: m2 | E33: 34.02 | F33: 0 | G33: =IF(F33>0,likme,0) -> 0 | H33: =ROUND(F33*G33,2) -> 0 | I33: 0 | J33: 0 | K33: =SUM(H33:J33) -> 0 | L33: =ROUND(E33*F33,2) -> 0 | M33: =ROUND(E33*H33,2) -> 0 | N33: =ROUND(E33*I33,2) -> 0 | O33: =ROUND(E33*J33,2) -> 0 | P33: =SUM(M33:O33) -> 0
A34: 18 | C34: Siltināt pārsegumu ar DOW ekstrudētu putupolistirolu STYROFOAM 300 vai ekvivalents 100 mm biezumā λ=0.036 W/mK | D34: m2 | E34: 34.02 | F34: 0 | G34: =IF(F34>0,likme,0) -> 0 | H34: =ROUND(F34*G34,2) -> 0 | I34: 0 | J34: 0 | K34: =SUM(H34:J34) -> 0 | L34: =ROUND(E34*F34,2) -> 0 | M34: =ROUND(E34*H34,2) -> 0 | N34: =ROUND(E34*I34,2) -> 0 | O34: =ROUND(E34*J34,2) -> 0 | P34: =SUM(M34:O34) -> 0
A35: 19 | C35: Ieklat hidrofobu polipropilēna atdalošu membrānu TGV 21 vai ekvivalents | D35: m2 | E35: 34.02 | F35: 0 | G35: =IF(F35>0,likme,0) -> 0 | H35: =ROUND(F35*G35,2) -> 0 | I35: 0 | J35: 0 | K35: =SUM(H35:J35) -> 0 | L35: =ROUND(E35*F35,2) -> 0 | M35: =ROUND(E35*H35,2) -> 0 | N35: =ROUND(E35*I35,2) -> 0 | O35: =ROUND(E35*J35,2) -> 0 | P35: =SUM(M35:O35) -> 0
A36: 20 | C36: Ieklāt pārstrādāta poliolefīna drenāžas elementu Floradrain FD 25-E (spiedes izturība 270 kN/m2) vai ekvivalents | D36: m2 | E36: 34.02 | F36: 0 | G36: =IF(F36>0,likme,0) -> 0 | H36: =ROUND(F36*G36,2) -> 0 | I36: 0 | J36: 0 | K36: =SUM(H36:J36) -> 0 | L36: =ROUND(E36*F36,2) -> 0 | M36: =ROUND(E36*H36,2) -> 0 | N36: =ROUND(E36*I36,2) -> 0 | O36: =ROUND(E36*J36,2) -> 0 | P36: =SUM(M36:O36) -> 0
A37: 21 | C37: Ieklat termiski stiprinātu polipropilēna ģeotekstilu (stiepes izturība atbilstoši EN ISO 10319: 7.0 kN/m) | D37: m2 | E37: 34.02 | F37: 0 | G37: =IF(F37>0,likme,0) -> 0 | H37: =ROUND(F37*G37,2) -> 0 | I37: 0 | J37: 0 | K37: =SUM(H37:J37) -> 0 | L37: =ROUND(E37*F37,2) -> 0 | M37: =ROUND(E37*H37,2) -> 0 | N37: =ROUND(E37*I37,2) -> 0 | O37: =ROUND(E37*J37,2) -> 0 | P37: =SUM(M37:O37) -> 0
A38: 22 | C38: Izveidot zālāja segumu pievedot augu substrātu 80mm biezumā | D38: m2 | E38: 34.02 | F38: 0 | G38: =IF(F38>0,likme,0) -> 0 | H38: =ROUND(F38*G38,2) -> 0 | I38: 0 | J38: 0 | K38: =SUM(H38:J38) -> 0 | L38: =ROUND(E38*F38,2) -> 0 | M38: =ROUND(E38*H38,2) -> 0 | N38: =ROUND(E38*I38,2) -> 0 | O38: =ROUND(E38*J38,2) -> 0 | P38: =SUM(M38:O38) -> 0
A39: 23 | C39: Papildmateriāli | F39: 0 | G39: =IF(F39>0,likme,0) -> 0 | H39: =ROUND(F39*G39,2) -> 0 | I39: 0 | J39: 0 | K39: =SUM(H39:J39) -> 0 | L39: =ROUND(E39*F39,2) -> 0 | M39: =ROUND(E39*H39,2) -> 0 | N39: =ROUND(E39*I39,2) -> 0 | O39: =ROUND(E39*J39,2) -> 0 | P39: =SUM(M39:O39) -> 0
A40: 24 | C40: Montēt skārda kori, ieskaitot visus stiprinājumus un palīgmateriālus. | D40: m | E40: 69.18 | F40: 0 | G40: =IF(F40>0,likme,0) -> 0 | H40: =ROUND(F40*G40,2) -> 0 | I40: 0 | J40: 0 | K40: =SUM(H40:J40) -> 0 | L40: =ROUND(E40*F40,2) -> 0 | M40: =ROUND(E40*H40,2) -> 0 | N40: =ROUND(E40*I40,2) -> 0 | O40: =ROUND(E40*J40,2) -> 0 | P40: =SUM(M40:O40) -> 0
A41: 25 | C41: Montēt skārda satekni, ieskaitot visus stiprinājumus un palīgmateriālus. | D41: m | E41: 54.74 | F41: 0 | G41: =IF(F41>0,likme,0) -> 0 | H41: =ROUND(F41*G41,2) -> 0 | I41: 0 | J41: 0 | K41: =SUM(H41:J41) -> 0 | L41: =ROUND(E41*F41,2) -> 0 | M41: =ROUND(E41*H41,2) -> 0 | N41: =ROUND(E41*I41,2) -> 0 | O41: =ROUND(E41*J41,2) -> 0 | P41: =SUM(M41:O41) -> 0
A42: 26 | C42: Montēt skārda lāseni/vējmalu, ieskaitot visus stiprinājumus un palīgmateriālus. | D42: m | E42: 354.33 | F42: 0 | G42: =IF(F42>0,likme,0) -> 0 | H42: =ROUND(F42*G42,2) -> 0 | I42: 0 | J42: 0 | K42: =SUM(H42:J42) -> 0 | L42: =ROUND(E42*F42,2) -> 0 | M42: =ROUND(E42*H42,2) -> 0 | N42: =ROUND(E42*I42,2) -> 0 | O42: =ROUND(E42*J42,2) -> 0 | P42: =SUM(M42:O42) -> 0
A43: 27 | C43: Montēt skārda tekni, ieskaitot visus stiprinājumus un palīgmateriālus. | D43: m | E43: 259 | F43: 0 | G43: =IF(F43>0,likme,0) -> 0 | H43: =ROUND(F43*G43,2) -> 0 | I43: 0 | J43: 0 | K43: =SUM(H43:J43) -> 0 | L43: =ROUND(E43*F43,2) -> 0 | M43: =ROUND(E43*H43,2) -> 0 | N43: =ROUND(E43*I43,2) -> 0 | O43: =ROUND(E43*J43,2) -> 0 | P43: =SUM(M43:O43) -> 0
A44: 28 | C44: Montēt skārda noteku, ieskaitot visus stiprinājumus un palīgmateriālus. | D44: m | E44: 242.63 | F44: 0 | G44: =IF(F44>0,likme,0) -> 0 | H44: =ROUND(F44*G44,2) -> 0 | I44: 0 | J44: 0 | K44: =SUM(H44:J44) -> 0 | L44: =ROUND(E44*F44,2) -> 0 | M44: =ROUND(E44*H44,2) -> 0 | N44: =ROUND(E44*I44,2) -> 0 | O44: =ROUND(E44*J44,2) -> 0 | P44: =SUM(M44:O44) -> 0
A45: 29 | C45: Montēt skārda sienas pieslēguma elementu, ieskaitot visus stiprinājumus un palīgmateriālus. | D45: m | E45: 86.5 | F45: 0 | G45: =IF(F45>0,likme,0) -> 0 | H45: =ROUND(F45*G45,2) -> 0 | I45: 0 | J45: 0 | K45: =SUM(H45:J45) -> 0 | L45: =ROUND(E45*F45,2) -> 0 | M45: =ROUND(E45*H45,2) -> 0 | N45: =ROUND(E45*I45,2) -> 0 | O45: =ROUND(E45*J45,2) -> 0 | P45: =SUM(M45:O45) -> 0
A46: 30 | C46: Montēt jumta horizontālās kāpnes, ieskaitot visus stiprinājumus un palīgmateriālus. | D46: m | E46: 29.5 | F46: 0 | G46: =IF(F46>0,likme,0) -> 0 | H46: =ROUND(F46*G46,2) -> 0 | I46: 0 | J46: 0 | K46: =SUM(H46:J46) -> 0 | L46: =ROUND(E46*F46,2) -> 0 | M46: =ROUND(E46*H46,2) -> 0 | N46: =ROUND(E46*I46,2) -> 0 | O46: =ROUND(E46*J46,2) -> 0 | P46: =SUM(M46:O46) -> 0
A47: 31 | C47: Montēt jumta laipu, ieskaitot visus stiprinājumus un palīgmateriālus. | D47: m | E47: 74 | F47: 0 | G47: =IF(F47>0,likme,0) -> 0 | H47: =ROUND(F47*G47,2) -> 0 | I47: 0 | J47: 0 | K47: =SUM(H47:J47) -> 0 | L47: =ROUND(E47*F47,2) -> 0 | M47: =ROUND(E47*H47,2) -> 0 | N47: =ROUND(E47*I47,2) -> 0 | O47: =ROUND(E47*J47,2) -> 0 | P47: =SUM(M47:O47) -> 0
A48: 32 | C48: Montēt jumta vertikālās kāpnes TA-1, ieskaitot visus stiprinājumus un palīgmateriālus. 1. Ārējās ugunsdzēsības kāpnes no A1 ugunsreakcijas klases materiāla 2. Tonis RAL 9006 | D48: gb | E48: 1 | F48: 0 | G48: =IF(F48>0,likme,0) -> 0 | H48: =ROUND(F48*G48,2) -> 0 | I48: 0 | J48: 0 | K48: =SUM(H48:J48) -> 0 | L48: =ROUND(E48*F48,2) -> 0 | M48: =ROUND(E48*H48,2) -> 0 | N48: =ROUND(E48*I48,2) -> 0 | O48: =ROUND(E48*J48,2) -> 0 | P48: =SUM(M48:O48) -> 0
A49: 33 | C49: Montēt jumta vertikālās kāpnes TA-2, ieskaitot visus stiprinājumus un palīgmateriālus. 1. Ārējās ugunsdzēsības kāpnes no A1 ugunsreakcijas klases materiāla 2. Tonis RAL 9006 | D49: gb | E49: 1 | F49: 0 | G49: =IF(F49>0,likme,0) -> 0 | H49: =ROUND(F49*G49,2) -> 0 | I49: 0 | J49: 0 | K49: =SUM(H49:J49) -> 0 | L49: =ROUND(E49*F49,2) -> 0 | M49: =ROUND(E49*H49,2) -> 0 | N49: =ROUND(E49*I49,2) -> 0 | O49: =ROUND(E49*J49,2) -> 0 | P49: =SUM(M49:O49) -> 0
A50: 34 | C50: Montēt jumta vertikālās kāpnes TA-3, ieskaitot visus stiprinājumus un palīgmateriālus. 1. Ārējās ugunsdzēsības kāpnes no A1 ugunsreakcijas klases materiāla 2. Tonis RAL 9006 | D50: gb | E50: 1 | F50: 0 | G50: =IF(F50>0,likme,0) -> 0 | H50: =ROUND(F50*G50,2) -> 0 | I50: 0 | J50: 0 | K50: =SUM(H50:J50) -> 0 | L50: =ROUND(E50*F50,2) -> 0 | M50: =ROUND(E50*H50,2) -> 0 | N50: =ROUND(E50*I50,2) -> 0 | O50: =ROUND(E50*J50,2) -> 0 | P50: =SUM(M50:O50) -> 0
A51: 35 | C51: Montēt jumta vertikālās kāpnes TA-4, ieskaitot visus stiprinājumus un palīgmateriālus. 1. Ārējās ugunsdzēsības kāpnes no A1 ugunsreakcijas klases materiāla 2. Tonis RAL 9006 | D51: gb | E51: 1 | F51: 0 | G51: =IF(F51>0,likme,0) -> 0 | H51: =ROUND(F51*G51,2) -> 0 | I51: 0 | J51: 0 | K51: =SUM(H51:J51) -> 0 | L51: =ROUND(E51*F51,2) -> 0 | M51: =ROUND(E51*H51,2) -> 0 | N51: =ROUND(E51*I51,2) -> 0 | O51: =ROUND(E51*J51,2) -> 0 | P51: =SUM(M51:O51) -> 0
... A53: 37 | C53: Montēt sniega barjeras, ieskaitot visus stiprinājumus un palīgmateriālus. | D53: m | E53: 42 | F53: 0 | G53: =IF(F53>0,likme,0) -> 0 | H53: =ROUND(F53*G53,2) -> 0 | I53: 0 | J53: 0 | K53: =SUM(H53:J53) -> 0 | L53: =ROUND(E53*F53,2) -> 0 | M53: =ROUND(E53*H53,2) -> 0 | N53: =ROUND(E53*I53,2) -> 0 | O53: =ROUND(E53*J53,2) -> 0 | P53: =SUM(M53:O53) -> 0
A54: 38 | C54: Esošā jumta un piebūves pieslēguma mezgls M-03 | F54: 0 | G54: =IF(F54>0,likme,0) -> 0 | H54: =ROUND(F54*G54,2) -> 0 | I54: 0 | J54: 0 | K54: =SUM(H54:J54) -> 0 | L54: =ROUND(E54*F54,2) -> 0 | M54: =ROUND(E54*H54,2) -> 0 | N54: =ROUND(E54*I54,2) -> 0 | O54: =ROUND(E54*J54,2) -> 0 | P54: =SUM(M54:O54) -> 0
A55: 39 | C55: Esošais jumts | F55: 0 | G55: =IF(F55>0,likme,0) -> 0 | H55: =ROUND(F55*G55,2) -> 0 | I55: 0 | J55: 0 | K55: =SUM(H55:J55) -> 0 | L55: =ROUND(E55*F55,2) -> 0 | M55: =ROUND(E55*H55,2) -> 0 | N55: =ROUND(E55*I55,2) -> 0 | O55: =ROUND(E55*J55,2) -> 0 | P55: =SUM(M55:O55) -> 0
A56: 40 | C56: Demontēt jumta vējkasti un izvest būvgružus utilizācijai | D56: m | E56: 9.8 | F56: 0 | G56: =IF(F56>0,likme,0) -> 0 | H56: =ROUND(F56*G56,2) -> 0 | I56: 0 | J56: 0 | K56: =SUM(H56:J56) -> 0 | L56: =ROUND(E56*F56,2) -> 0 | M56: =ROUND(E56*H56,2) -> 0 | N56: =ROUND(E56*I56,2) -> 0 | O56: =ROUND(E56*J56,2) -> 0 | P56: =SUM(M56:O56) -> 0
A57: 41 | C57: Daļēji demontēt un atjaunot esošā jumta segumu hidroizolācijas uzstādīšanai, ieskaitot visus stiprinājumus un palīgmateriālus. | D57: m2 | E57: 14.7 | F57: 0 | G57: =IF(F57>0,likme,0) -> 0 | H57: =ROUND(F57*G57,2) -> 0 | I57: 0 | J57: 0 | K57: =SUM(H57:J57) -> 0 | L57: =ROUND(E57*F57,2) -> 0 | M57: =ROUND(E57*H57,2) -> 0 | N57: =ROUND(E57*I57,2) -> 0 | O57: =ROUND(E57*J57,2) -> 0 | P57: =SUM(M57:O57) -> 0
A58: 42 | C58: Ieklāt hidroizolāciju jumtam | D58: m2 | E58: 14.7 | F58: 0 | G58: =IF(F58>0,likme,0) -> 0 | H58: =ROUND(F58*G58,2) -> 0 | I58: 0 | J58: 0 | K58: =SUM(H58:J58) -> 0 | L58: =ROUND(E58*F58,2) -> 0 | M58: =ROUND(E58*H58,2) -> 0 | N58: =ROUND(E58*I58,2) -> 0 | O58: =ROUND(E58*J58,2) -> 0 | P58: =SUM(M58:O58) -> 0
A59: 43 | C59: Siltināt vējkasti 200mm biezumā | D59: m2 | E59: 8.33 | F59: 0 | G59: =IF(F59>0,likme,0) -> 0 | H59: =ROUND(F59*G59,2) -> 0 | I59: 0 | J59: 0 | K59: =SUM(H59:J59) -> 0 | L59: =ROUND(E59*F59,2) -> 0 | M59: =ROUND(E59*H59,2) -> 0 | N59: =ROUND(E59*I59,2) -> 0 | O59: =ROUND(E59*J59,2) -> 0 | P59: =SUM(M59:O59) -> 0
A60: 44 | C60: Ieklāt vēja izolāciju 30mm biezumā | D60: m2 | E60: 8.33 | F60: 0 | G60: =IF(F60>0,likme,0) -> 0 | H60: =ROUND(F60*G60,2) -> 0 | I60: 0 | J60: 0 | K60: =SUM(H60:J60) -> 0 | L60: =ROUND(E60*F60,2) -> 0 | M60: =ROUND(E60*H60,2) -> 0 | N60: =ROUND(E60*I60,2) -> 0 | O60: =ROUND(E60*J60,2) -> 0 | P60: =SUM(M60:O60) -> 0
A61: 45 | C61: Savienojums | F61: 0 | G61: =IF(F61>0,likme,0) -> 0 | H61: =ROUND(F61*G61,2) -> 0 | I61: 0 | J61: 0 | K61: =SUM(H61:J61) -> 0 | L61: =ROUND(E61*F61,2) -> 0 | M61: =ROUND(E61*H61,2) -> 0 | N61: =ROUND(E61*I61,2) -> 0 | O61: =ROUND(E61*J61,2) -> 0 | P61: =SUM(M61:O61) -> 0
A62: 46 | C62: Montēt koka ielikni starp tērauda sijām, ieskaitot visus stiprinājumus un palīgmateriālus. | D62: m | E62: =E56*2 -> 19.6 | F62: 0 | G62: =IF(F62>0,likme,0) -> 0 | H62: =ROUND(F62*G62,2) -> 0 | I62: 0 | J62: 0 | K62: =SUM(H62:J62) -> 0 | L62: =ROUND(E62*F62,2) -> 0 | M62: =ROUND(E62*H62,2) -> 0 | N62: =ROUND(E62*I62,2) -> 0 | O62: =ROUND(E62*J62,2) -> 0 | P62: =SUM(M62:O62) -> 0
A63: 47 | C63: Montēt koka sijas ar soli 600mm, ieskaitot visus stiprinājumus un palīgmateriālus. | D63: m | E63: 9.8 | F63: 0 | G63: =IF(F63>0,likme,0) -> 0 | H63: =ROUND(F63*G63,2) -> 0 | I63: 0 | J63: 0 | K63: =SUM(H63:J63) -> 0 | L63: =ROUND(E63*F63,2) -> 0 | M63: =ROUND(E63*H63,2) -> 0 | N63: =ROUND(E63*I63,2) -> 0 | O63: =ROUND(E63*J63,2) -> 0 | P63: =SUM(M63:O63) -> 0
A64: 48 | C64: Siltināt savienojumu 100mm biezumā | D64: m2 | E64: 10.78 | F64: 0 | G64: =IF(F64>0,likme,0) -> 0 | H64: =ROUND(F64*G64,2) -> 0 | I64: 0 | J64: 0 | K64: =SUM(H64:J64) -> 0 | L64: =ROUND(E64*F64,2) -> 0 | M64: =ROUND(E64*H64,2) -> 0 | N64: =ROUND(E64*I64,2) -> 0 | O64: =ROUND(E64*J64,2) -> 0 | P64: =SUM(M64:O64) -> 0
A65: 49 | C65: Montēt metala profilu karkasu 75mm biezumā, ieskaitot visus stiprinājumus un palīgmateriālus | D65: m2 | E65: 13.72 | F65: 0 | G65: =IF(F65>0,likme,0) -> 0 | H65: =ROUND(F65*G65,2) -> 0 | I65: 0 | J65: 0 | K65: =SUM(H65:J65) -> 0 | L65: =ROUND(E65*F65,2) -> 0 | M65: =ROUND(E65*H65,2) -> 0 | N65: =ROUND(E65*I65,2) -> 0 | O65: =ROUND(E65*J65,2) -> 0 | P65: =SUM(M65:O65) -> 0
A66: 50 | C66: Ieklāt izolāciju 75mm biezumā | D66: m2 | E66: 13.72 | F66: 0 | G66: =IF(F66>0,likme,0) -> 0 | H66: =ROUND(F66*G66,2) -> 0 | I66: 0 | J66: 0 | K66: =SUM(H66:J66) -> 0 | L66: =ROUND(E66*F66,2) -> 0 | M66: =ROUND(E66*H66,2) -> 0 | N66: =ROUND(E66*I66,2) -> 0 | O66: =ROUND(E66*J66,2) -> 0 | P66: =SUM(M66:O66) -> 0
A67: 51 | C67: Apšūt karkasu ar Knauf GKFI vai ekvivalents 12,5mm ģipškartona loksnēm divās kārtās, ieskaitot visus stiprinājumus un palīgmateriālus. Veikt šuvju špaktelēšanu | D67: m2 | E67: 13.72 | F67: 0 | G67: =IF(F67>0,likme,0) -> 0 | H67: =ROUND(F67*G67,2) -> 0 | I67: 0 | J67: 0 | K67: =SUM(H67:J67) -> 0 | L67: =ROUND(E67*F67,2) -> 0 | M67: =ROUND(E67*H67,2) -> 0 | N67: =ROUND(E67*I67,2) -> 0 | O67: =ROUND(E67*J67,2) -> 0 | P67: =SUM(M67:O67) -> 0
A68: 52 | C68: Ieklāt vēja izolāciju 30mm biezumā | D68: m2 | E68: 7.84 | F68: 0 | G68: =IF(F68>0,likme,0) -> 0 | H68: =ROUND(F68*G68,2) -> 0 | I68: 0 | J68: 0 | K68: =SUM(H68:J68) -> 0 | L68: =ROUND(E68*F68,2) -> 0 | M68: =ROUND(E68*H68,2) -> 0 | N68: =ROUND(E68*I68,2) -> 0 | O68: =ROUND(E68*J68,2) -> 0 | P68: =SUM(M68:O68) -> 0
A69: 53 | C69: Ieklāt hidroizolāciju jumtam | D69: m2 | E69: 13.23 | F69: 0 | G69: =IF(F69>0,likme,0) -> 0 | H69: =ROUND(F69*G69,2) -> 0 | I69: 0 | J69: 0 | K69: =SUM(H69:J69) -> 0 | L69: =ROUND(E69*F69,2) -> 0 | M69: =ROUND(E69*H69,2) -> 0 | N69: =ROUND(E69*I69,2) -> 0 | O69: =ROUND(E69*J69,2) -> 0 | P69: =SUM(M69:O69) -> 0
A70: 54 | C70: Montēt 50x50mm koka latas, ieskaitot visus stiprinājumus un palīgmateriālus. | D70: m2 | E70: 13.23 | F70: 0 | G70: =IF(F70>0,likme,0) -> 0 | H70: =ROUND(F70*G70,2) -> 0 | I70: 0 | J70: 0 | K70: =SUM(H70:J70) -> 0 | L70: =ROUND(E70*F70,2) -> 0 | M70: =ROUND(E70*H70,2) -> 0 | N70: =ROUND(E70*I70,2) -> 0 | O70: =ROUND(E70*J70,2) -> 0 | P70: =SUM(M70:O70) -> 0
A71: 55 | C71: Stiprināt 20mm OSB plātni, ieskaitot visus stiprinājumus un palīgmateriālus. | D71: m2 | E71: 13.23 | F71: 0 | G71: =IF(F71>0,likme,0) -> 0 | H71: =ROUND(F71*G71,2) -> 0 | I71: 0 | J71: 0 | K71: =SUM(H71:J71) -> 0 | L71: =ROUND(E71*F71,2) -> 0 | M71: =ROUND(E71*H71,2) -> 0 | N71: =ROUND(E71*I71,2) -> 0 | O71: =ROUND(E71*J71,2) -> 0 | P71: =SUM(M71:O71) -> 0
A72: 56 | C72: Izveidot tekni no skārda, ieskaitot visus stiprinājumus un palīgmateriālus. | D72: m2 | E72: 13.72 | F72: 0 | G72: =IF(F72>0,likme,0) -> 0 | H72: =ROUND(F72*G72,2) -> 0 | I72: 0 | J72: 0 | K72: =SUM(H72:J72) -> 0 | L72: =ROUND(E72*F72,2) -> 0 | M72: =ROUND(E72*H72,2) -> 0 | N72: =ROUND(E72*I72,2) -> 0 | O72: =ROUND(E72*J72,2) -> 0 | P72: =SUM(M72:O72) -> 0
A73: 57 | C73: Jumta sāns | F73: 0 | G73: =IF(F73>0,likme,0) -> 0 | H73: =ROUND(F73*G73,2) -> 0 | I73: 0 | J73: 0 | K73: =SUM(H73:J73) -> 0 | L73: =ROUND(E73*F73,2) -> 0 | M73: =ROUND(E73*H73,2) -> 0 | N73: =ROUND(E73*I73,2) -> 0 | O73: =ROUND(E73*J73,2) -> 0 | P73: =SUM(M73:O73) -> 0
A74: 58 | C74: Montēt omega-profilu karkasu 75mm biezumā (sānu malas perforētas, lai nodrošinātu gaisa caurplūdi), ieskaitot visus stiprinājumus un palīgmateriālus. | D74: m2 | E74: 13.25 | F74: 0 | G74: =IF(F74>0,likme,0) -> 0 | H74: =ROUND(F74*G74,2) -> 0 | I74: 0 | J74: 0 | K74: =SUM(H74:J74) -> 0 | L74: =ROUND(E74*F74,2) -> 0 | M74: =ROUND(E74*H74,2) -> 0 | N74: =ROUND(E74*I74,2) -> 0 | O74: =ROUND(E74*J74,2) -> 0 | P74: =SUM(M74:O74) -> 0
A75: 59 | C75: Ieklāt valcprofila jumta segumu, ieskaitot visus stiprinājumus un palīgmateriālus. | D75: m2 | E75: 13.25 | F75: 0 | G75: =IF(F75>0,likme,0) -> 0 | H75: =ROUND(F75*G75,2) -> 0 | I75: 0 | J75: 0 | K75: =SUM(H75:J75) -> 0 | L75: =ROUND(E75*F75,2) -> 0 | M75: =ROUND(E75*H75,2) -> 0 | N75: =ROUND(E75*I75,2) -> 0 | O75: =ROUND(E75*J75,2) -> 0 | P75: =SUM(M75:O75) -> 0
A76: 60 | C76: Stiprināt pretinsektu sietu | D76: m | E76: 9.8 | F76: 0 | G76: =IF(F76>0,likme,0) -> 0 | H76: =ROUND(F76*G76,2) -> 0 | I76: 0 | J76: 0 | K76: =SUM(H76:J76) -> 0 | L76: =ROUND(E76*F76,2) -> 0 | M76: =ROUND(E76*H76,2) -> 0 | N76: =ROUND(E76*I76,2) -> 0 | O76: =ROUND(E76*J76,2) -> 0 | P76: =SUM(M76:O76) -> 0
A77: 61 | C77: M-01 Dzegas mezgls ar "Equiton" fasādes apdari un M-02 Dzegas mezgls ar Perforētu metāla loksņu fasādes apdari | F77: 0 | G77: =IF(F77>0,likme,0) -> 0 | H77: =ROUND(F77*G77,2) -> 0 | I77: 0 | J77: 0 | K77: =SUM(H77:J77) -> 0 | L77: =ROUND(E77*F77,2) -> 0 | M77: =ROUND(E77*H77,2) -> 0 | N77: =ROUND(E77*I77,2) -> 0 | O77: =ROUND(E77*J77,2) -> 0 | P77: =SUM(M77:O77) -> 0
A78: 62 | C78: Montēt koka latojumu zem sniega barjerām, ieskaitot visus stiprinājumus un palīgmateriālus. | D78: m2 | E78: 32.76 | F78: 0 | G78: =IF(F78>0,likme,0) -> 0 | H78: =ROUND(F78*G78,2) -> 0 | I78: 0 | J78: 0 | K78: =SUM(H78:J78) -> 0 | L78: =ROUND(E78*F78,2) -> 0 | M78: =ROUND(E78*H78,2) -> 0 | N78: =ROUND(E78*I78,2) -> 0 | O78: =ROUND(E78*J78,2) -> 0 | P78: =SUM(M78:O78) -> 0
A79: 63 | C79: Stiprināt pretinsektu sietu | D79: m | E79: 259 | F79: 0 | G79: =IF(F79>0,likme,0) -> 0 | H79: =ROUND(F79*G79,2) -> 0 | I79: 0 | J79: 0 | K79: =SUM(H79:J79) -> 0 | L79: =ROUND(E79*F79,2) -> 0 | M79: =ROUND(E79*H79,2) -> 0 | N79: =ROUND(E79*I79,2) -> 0 | O79: =ROUND(E79*J79,2) -> 0 | P79: =SUM(M79:O79) -> 0
A80: 64 | C80: Montēt koka latas teknei, ieskaitot visus stiprinājumus un palīgmateriālus. | D80: m2 | E80: 101.01 | F80: 0 | G80: =IF(F80>0,likme,0) -> 0 | H80: =ROUND(F80*G80,2) -> 0 | I80: 0 | J80: 0 | K80: =SUM(H80:J80) -> 0 | L80: =ROUND(E80*F80,2) -> 0 | M80: =ROUND(E80*H80,2) -> 0 | N80: =ROUND(E80*I80,2) -> 0 | O80: =ROUND(E80*J80,2) -> 0 | P80: =SUM(M80:O80) -> 0
A81: 65 | C81: Montēt skārda lāseni teknes savienojumā ar sienu, ieskaitot visus stiprinājumus un palīgmateriālus. | D81: m | E81: 259 | F81: 0 | G81: =IF(F81>0,likme,0) -> 0 | H81: =ROUND(F81*G81,2) -> 0 | I81: 0 | J81: 0 | K81: =SUM(H81:J81) -> 0 | L81: =ROUND(E81*F81,2) -> 0 | M81: =ROUND(E81*H81,2) -> 0 | N81: =ROUND(E81*I81,2) -> 0 | O81: =ROUND(E81*J81,2) -> 0 | P81: =SUM(M81:O81) -> 0
A82: 66 | C82: Zaļā jumta mezgls M-06 | F82: 0 | G82: =IF(F82>0,likme,0) -> 0 | H82: =ROUND(F82*G82,2) -> 0 | I82: 0 | J82: 0 | K82: =SUM(H82:J82) -> 0 | L82: =ROUND(E82*F82,2) -> 0 | M82: =ROUND(E82*H82,2) -> 0 | N82: =ROUND(E82*I82,2) -> 0 | O82: =ROUND(E82*J82,2) -> 0 | P82: =SUM(M82:O82) -> 0
A83: 67 | C83: Sāns | F83: 0 | G83: =IF(F83>0,likme,0) -> 0 | H83: =ROUND(F83*G83,2) -> 0 | I83: 0 | J83: 0 | K83: =SUM(H83:J83) -> 0 | L83: =ROUND(E83*F83,2) -> 0 | M83: =ROUND(E83*H83,2) -> 0 | N83: =ROUND(E83*I83,2) -> 0 | O83: =ROUND(E83*J83,2) -> 0 | P83: =SUM(M83:O83) -> 0
A84: 68 | C84: Ieklāt sakņu izturīgu PE-LD hidroizolācijas slāni WSF 40 vai ekvivalents | D84: m2 | E84: 15.9 | F84: 0 | G84: =IF(F84>0,likme,0) -> 0 | H84: =ROUND(F84*G84,2) -> 0 | I84: 0 | J84: 0 | K84: =SUM(H84:J84) -> 0 | L84: =ROUND(E84*F84,2) -> 0 | M84: =ROUND(E84*H84,2) -> 0 | N84: =ROUND(E84*I84,2) -> 0 | O84: =ROUND(E84*J84,2) -> 0 | P84: =SUM(M84:O84) -> 0
A85: 69 | C85: Siltināt pārsegumu ar DOW ekstrudētu putupolistirolu STYROFOAM 300 vai ekvivalents 50 mm biezumā λ=0.036 W/mK | D85: m2 | E85: 18.79 | F85: 0 | G85: =IF(F85>0,likme,0) -> 0 | H85: =ROUND(F85*G85,2) -> 0 | I85: 0 | J85: 0 | K85: =SUM(H85:J85) -> 0 | L85: =ROUND(E85*F85,2) -> 0 | M85: =ROUND(E85*H85,2) -> 0 | N85: =ROUND(E85*I85,2) -> 0 | O85: =ROUND(E85*J85,2) -> 0 | P85: =SUM(M85:O85) -> 0
A86: 70 | C86: Ieklāt siltumizolācijas stūra elementu | D86: m | E86: 14.45 | F86: 0 | G86: =IF(F86>0,likme,0) -> 0 | H86: =ROUND(F86*G86,2) -> 0 | I86: 0 | J86: 0 | K86: =SUM(H86:J86) -> 0 | L86: =ROUND(E86*F86,2) -> 0 | M86: =ROUND(E86*H86,2) -> 0 | N86: =ROUND(E86*I86,2) -> 0 | O86: =ROUND(E86*J86,2) -> 0 | P86: =SUM(M86:O86) -> 0
A87: 71 | C87: Armēt virsmu ar armēšanas javu pa stiklašķiedras sietu, ieskaitot visus stiprinājumus un palīgmateriālus. | D87: m2 | E87: 15.9 | F87: 0 | G87: =IF(F87>0,likme,0) -> 0 | H87: =ROUND(F87*G87,2) -> 0 | I87: 0 | J87: 0 | K87: =SUM(H87:J87) -> 0 | L87: =ROUND(E87*F87,2) -> 0 | M87: =ROUND(E87*H87,2) -> 0 | N87: =ROUND(E87*I87,2) -> 0 | O87: =ROUND(E87*J87,2) -> 0 | P87: =SUM(M87:O87) -> 0
A88: 72 | C88: Gruntēt un apmest virsmu ar tonētu dekoratīvo apmetumu, ieskaitot visus stiprinājumus un palīgmateriālus. | D88: m2 | E88: 15.9 | F88: 0 | G88: =IF(F88>0,likme,0) -> 0 | H88: =ROUND(F88*G88,2) -> 0 | I88: 0 | J88: 0 | K88: =SUM(H88:J88) -> 0 | L88: =ROUND(E88*F88,2) -> 0 | M88: =ROUND(E88*H88,2) -> 0 | N88: =ROUND(E88*I88,2) -> 0 | O88: =ROUND(E88*J88,2) -> 0 | P88: =SUM(M88:O88) -> 0
A89: 73 | C89: Margas daļa | F89: 0 | G89: =IF(F89>0,likme,0) -> 0 | H89: =ROUND(F89*G89,2) -> 0 | I89: 0 | J89: 0 | K89: =SUM(H89:J89) -> 0 | L89: =ROUND(E89*F89,2) -> 0 | M89: =ROUND(E89*H89,2) -> 0 | N89: =ROUND(E89*I89,2) -> 0 | O89: =ROUND(E89*J89,2) -> 0 | P89: =SUM(M89:O89) -> 0
A90: 74 | C90: Montēt koka latu 270x50mm, ieskaitot visus stiprinājumus un palīgmateriālus. | D90: m | E90: 14.45 | F90: 0 | G90: =IF(F90>0,likme,0) -> 0 | H90: =ROUND(F90*G90,2) -> 0 | I90: 0 | J90: 0 | K90: =SUM(H90:J90) -> 0 | L90: =ROUND(E90*F90,2) -> 0 | M90: =ROUND(E90*H90,2) -> 0 | N90: =ROUND(E90*I90,2) -> 0 | O90: =ROUND(E90*J90,2) -> 0 | P90: =SUM(M90:O90) -> 0
A91: 75 | C91: Montēt koka latu 35x50mm, ieskaitot visus stiprinājumus un palīgmateriālus. | D91: m | E91: 28.9 | F91: 0 | G91: =IF(F91>0,likme,0) -> 0 | H91: =ROUND(F91*G91,2) -> 0 | I91: 0 | J91: 0 | K91: =SUM(H91:J91) -> 0 | L91: =ROUND(E91*F91,2) -> 0 | M91: =ROUND(E91*H91,2) -> 0 | N91: =ROUND(E91*I91,2) -> 0 | O91: =ROUND(E91*J91,2) -> 0 | P91: =SUM(M91:O91) -> 0
A92: 76 | C92: Montēt skārda lāseni, ieskaitot visus stiprinājumus un palīgmateriālus. | D92: m | E92: 14.45 | F92: 0 | G92: =IF(F92>0,likme,0) -> 0 | H92: =ROUND(F92*G92,2) -> 0 | I92: 0 | J92: 0 | K92: =SUM(H92:J92) -> 0 | L92: =ROUND(E92*F92,2) -> 0 | M92: =ROUND(E92*H92,2) -> 0 | N92: =ROUND(E92*I92,2) -> 0 | O92: =ROUND(E92*J92,2) -> 0 | P92: =SUM(M92:O92) -> 0
A93: 77 | C93: Montēt skārda palodzi, ieskaitot visus stiprinājumus un palīgmateriālus. | D93: m | E93: 14.45 | F93: 0 | G93: =IF(F93>0,likme,0) -> 0 | H93: =ROUND(F93*G93,2) -> 0 | I93: 0 | J93: 0 | K93: =SUM(H93:J93) -> 0 | L93: =ROUND(E93*F93,2) -> 0 | M93: =ROUND(E93*H93,2) -> 0 | N93: =ROUND(E93*I93,2) -> 0 | O93: =ROUND(E93*J93,2) -> 0 | P93: =SUM(M93:O93) -> 0
A94: 78 | C94: Jumta daļa | F94: 0 | G94: =IF(F94>0,likme,0) -> 0 | H94: =ROUND(F94*G94,2) -> 0 | I94: 0 | J94: 0 | K94: =SUM(H94:J94) -> 0 | L94: =ROUND(E94*F94,2) -> 0 | M94: =ROUND(E94*H94,2) -> 0 | N94: =ROUND(E94*I94,2) -> 0 | O94: =ROUND(E94*J94,2) -> 0 | P94: =SUM(M94:O94) -> 0
A95: 79 | C95: Ieklāt dekoratīvās šķembas. Akmeņus jau masā sajaukti ar saistvielu. | D95: m | E95: 14.45 | F95: 0 | G95: =IF(F95>0,likme,0) -> 0 | H95: =ROUND(F95*G95,2) -> 0 | I95: 0 | J95: 0 | K95: =SUM(H95:J95) -> 0 | L95: =ROUND(E95*F95,2) -> 0 | M95: =ROUND(E95*H95,2) -> 0 | N95: =ROUND(E95*I95,2) -> 0 | O95: =ROUND(E95*J95,2) -> 0 | P95: =SUM(M95:O95) -> 0
A97: Tiešās izmaksas kopā, t.sk. Darba dēvēja sociālais nodoklis (23,59%) | L97: =SUM(L17:L96) -> 0 | M97: =SUM(M17:M96) -> 0 | N97: =SUM(N17:N96) -> 0 | O97: =SUM(O17:O96) -> 0 | P97: =SUM(P17:P96) -> 0
A99: =KT!A23 -> 0 | D99: =KT!C27 -> 0
A100: (paraksts un tā atšifrējums, datums)
A101: =KT!A25 -> 0
A103: =KT!A27 -> 0 | D103: =KT!C27 -> 0
A104: (paraksts un tā atšifrējums, datums)
A105: =KT!A29 -> 0

Sheet 1,7
A2: Lokālā tāme Nr.1,7
A3: =KA!C21 -> Aiļu aizpildījumu elementi, speciālo konstrukciju fasādes
A4: (būvdarbu veids vai konstruktīvā elementa nosaukums)
A6: Objekta nosaukums: | C6: =KT!B9 -> Garkalnes Mākslas un vispārizglītojošās pamatskolas piebūve
A7: Būves nosaukums: | C7: =KT!B10 -> Garkalnes Mākslas un vispārizglītojošā pamatskola
A8: Objekta adrese: | C8: =KT!B11 -> Ropažu novads, Garkalne, Vidzemes šoseja 34, LV-2137
A9: Pasūtījuma nr.: | C9: =KT!B12 -> 0
A11: Tāme sastādīta 2026. gada tirgus cenās, pamatojoties uz būvprojekta rasējumiem | M11: Tāmes izmaksas: | O11: =P116 -> 0 | P11: EUR
N12: Tāme sastādītā | O12: =KT!C27 -> 0
A14: Nr.p.k. | B14: Kods | C14: Būvdarbu nosaukums | D14: Mērvienība | E14: Daudzums | F14: Vienības izmaksas | L14: Kopā uz visu apjomu
F15: Laika norma (c/h) | G15: Darba samaksas likme (euro/h) | H15: Darba alga | I15: Būvizstrādājumi | J15: Mehānismi | K15: KOPĀ | L15: Darbietilpība (c/h) | M15: Darba alga | N15: Būvizstrādājumi | O15: Mehānismi | P15: Summa
A17: 1 | C17: Logi | F17: 0 | G17: =IF(F17>0,likme,0) -> 0 | H17: =ROUND(F17*G17,2) -> 0 | I17: 0 | J17: 0 | K17: =SUM(H17:J17) -> 0 | L17: =ROUND(E17*F17,2) -> 0 | M17: =ROUND(E17*H17,2) -> 0 | N17: =ROUND(E17*I17,2) -> 0 | O17: =ROUND(E17*J17,2) -> 0 | P17: =SUM(M17:O17) -> 0
A18: 2 | C18: Montēt logu L-1 6700x1800 mm, ieskaitot visus palīgmateriālus un stiprinājumus. Alumīnija logu sistēma, krāsojums RAL 1019 Grey Beige, 3-kāršu stikla paketi, U ≤ 0.80 W/m²K. Furnitūra Dieckmann JANUS 1010 vai ekvivalents. | D18: gb | E18: 2 | F18: 0 | G18: =IF(F18>0,likme,0) -> 0 | H18: =ROUND(F18*G18,2) -> 0 | I18: 0 | J18: 0 | K18: =SUM(H18:J18) -> 0 | L18: =ROUND(E18*F18,2) -> 0 | M18: =ROUND(E18*H18,2) -> 0 | N18: =ROUND(E18*I18,2) -> 0 | O18: =ROUND(E18*J18,2) -> 0 | P18: =SUM(M18:O18) -> 0
A19: 3 | C19: Montēt logu L-1.1 6700x1800 mm, ieskaitot visus palīgmateriālus un stiprinājumus. Alumīnija logu sistēma, krāsojums RAL 1019 Grey Beige, 3-kāršu stikla paketi, U ≤ 0.80 W/m²K. | D19: gb | E19: 1 | F19: 0 | G19: =IF(F19>0,likme,0) -> 0 | H19: =ROUND(F19*G19,2) -> 0 | I19: 0 | J19: 0 | K19: =SUM(H19:J19) -> 0 | L19: =ROUND(E19*F19,2) -> 0 | M19: =ROUND(E19*H19,2) -> 0 | N19: =ROUND(E19*I19,2) -> 0 | O19: =ROUND(E19*J19,2) -> 0 | P19: =SUM(M19:O19) -> 0
A20: 4 | C20: Montēt logu L-2 6700x1800 mm, ieskaitot visus palīgmateriālus un stiprinājumus. Alumīnija logu sistēma, krāsojums RAL 1019 Grey Beige, 3-kāršu stikla paketi, U ≤ 0.80 W/m²K. | D20: gb | E20: 2 | F20: 0 | G20: =IF(F20>0,likme,0) -> 0 | H20: =ROUND(F20*G20,2) -> 0 | I20: 0 | J20: 0 | K20: =SUM(H20:J20) -> 0 | L20: =ROUND(E20*F20,2) -> 0 | M20: =ROUND(E20*H20,2) -> 0 | N20: =ROUND(E20*I20,2) -> 0 | O20: =ROUND(E20*J20,2) -> 0 | P20: =SUM(M20:O20) -> 0
A21: 5 | C21: Montēt logu L-2 (2) 6700x1800 mm, ieskaitot visus palīgmateriālus un stiprinājumus. Alumīnija logu sistēma, krāsojums RAL 1019 Grey Beige, 3-kāršu stikla paketi, U ≤ 0.80 W/m²K. | D21: gb | E21: 3 | F21: 0 | G21: =IF(F21>0,likme,0) -> 0 | H21: =ROUND(F21*G21,2) -> 0 | I21: 0 | J21: 0 | K21: =SUM(H21:J21) -> 0 | L21: =ROUND(E21*F21,2) -> 0 | M21: =ROUND(E21*H21,2) -> 0 | N21: =ROUND(E21*I21,2) -> 0 | O21: =ROUND(E21*J21,2) -> 0 | P21: =SUM(M21:O21) -> 0
A22: 6 | C22: Montēt logu L-3 1925x1800 mm, ieskaitot visus palīgmateriālus un stiprinājumus. Alumīnija logu sistēma, krāsojums RAL 1019 Grey Beige, 3-kāršu stikla paketi, U ≤ 0.80 W/m²K. | D22: gb | E22: 3 | F22: 0 | G22: =IF(F22>0,likme,0) -> 0 | H22: =ROUND(F22*G22,2) -> 0 | I22: 0 | J22: 0 | K22: =SUM(H22:J22) -> 0 | L22: =ROUND(E22*F22,2) -> 0 | M22: =ROUND(E22*H22,2) -> 0 | N22: =ROUND(E22*I22,2) -> 0 | O22: =ROUND(E22*J22,2) -> 0 | P22: =SUM(M22:O22) -> 0
A23: 7 | C23: Montēt logu L-6 1300x1800 mm, ieskaitot visus palīgmateriālus un stiprinājumus. Alumīnija logu sistēma, krāsojums RAL 1019 Grey Beige, 3-kāršu stikla paketi, U ≤ 0.80 W/m²K. | D23: gb | E23: 8 | F23: 0 | G23: =IF(F23>0,likme,0) -> 0 | H23: =ROUND(F23*G23,2) -> 0 | I23: 0 | J23: 0 | K23: =SUM(H23:J23) -> 0 | L23: =ROUND(E23*F23,2) -> 0 | M23: =ROUND(E23*H23,2) -> 0 | N23: =ROUND(E23*I23,2) -> 0 | O23: =ROUND(E23*J23,2) -> 0 | P23: =SUM(M23:O23) -> 0
A24: 8 | C24: Montēt logu L-6.1 1300x1800 mm, ieskaitot visus palīgmateriālus un stiprinājumus. Alumīnija logu sistēma, krāsojums RAL 1019 Grey Beige, 3-kāršu stikla paketi, U ≤ 0.80 W/m²K. | D24: gb | E24: 3 | F24: 0 | G24: =IF(F24>0,likme,0) -> 0 | H24: =ROUND(F24*G24,2) -> 0 | I24: 0 | J24: 0 | K24: =SUM(H24:J24) -> 0 | L24: =ROUND(E24*F24,2) -> 0 | M24: =ROUND(E24*H24,2) -> 0 | N24: =ROUND(E24*I24,2) -> 0 | O24: =ROUND(E24*J24,2) -> 0 | P24: =SUM(M24:O24) -> 0
A25: 9 | C25: Montēt logu L-7 6700x1800 mm, ieskaitot visus palīgmateriālus un stiprinājumus. Alumīnija logu sistēma, krāsojums RAL 1019 Grey Beige, 3-kāršu stikla paketi, U ≤ 0.80 W/m²K. | D25: gb | E25: 3 | F25: 0 | G25: =IF(F25>0,likme,0) -> 0 | H25: =ROUND(F25*G25,2) -> 0 | I25: 0 | J25: 0 | K25: =SUM(H25:J25) -> 0 | L25: =ROUND(E25*F25,2) -> 0 | M25: =ROUND(E25*H25,2) -> 0 | N25: =ROUND(E25*I25,2) -> 0 | O25: =ROUND(E25*J25,2) -> 0 | P25: =SUM(M25:O25) -> 0
A26: 10 | C26: Montēt logu L-8 1180x2550 mm, ieskaitot visus palīgmateriālus un stiprinājumus. Alumīnija logu sistēma, krāsojums RAL 1019 Grey Beige, 3-kāršu stikla paketi, U ≤ 0.80 W/m²K. | D26: gb | E26: 2 | F26: 0 | G26: =IF(F26>0,likme,0) -> 0 | H26: =ROUND(F26*G26,2) -> 0 | I26: 0 | J26: 0 | K26: =SUM(H26:J26) -> 0 | L26: =ROUND(E26*F26,2) -> 0 | M26: =ROUND(E26*H26,2) -> 0 | N26: =ROUND(E26*I26,2) -> 0 | O26: =ROUND(E26*J26,2) -> 0 | P26: =SUM(M26:O26) -> 0
A27: 11 | C27: Montēt rāmja stiprinājuma karkasu siltumizolācijā, ieskaitot visus stiprinājumus un palīgmateriālus. | D27: m | E27: 292.5 | F27: 0 | G27: =IF(F27>0,likme,0) -> 0 | H27: =ROUND(F27*G27,2) -> 0 | I27: 0 | J27: 0 | K27: =SUM(H27:J27) -> 0 | L27: =ROUND(E27*F27,2) -> 0 | M27: =ROUND(E27*H27,2) -> 0 | N27: =ROUND(E27*I27,2) -> 0 | O27: =ROUND(E27*J27,2) -> 0 | P27: =SUM(M27:O27) -> 0
A28: 12 | C28: Uzstādīt tvaika izolācijas lenti, ieskaitot visus stiprinājumus un palīgmateriālus. | D28: m | E28: 292.5 | F28: 0 | G28: =IF(F28>0,likme,0) -> 0 | H28: =ROUND(F28*G28,2) -> 0 | I28: 0 | J28: 0 | K28: =SUM(H28:J28) -> 0 | L28: =ROUND(E28*F28,2) -> 0 | M28: =ROUND(E28*H28,2) -> 0 | N28: =ROUND(E28*I28,2) -> 0 | O28: =ROUND(E28*J28,2) -> 0 | P28: =SUM(M28:O28) -> 0
A29: 13 | C29: Uzstādīt difuzijas lenti, ieskaitot visus stiprinājumus un palīgmateriālus. | D29: m | E29: 292.5 | F29: 0 | G29: =IF(F29>0,likme,0) -> 0 | H29: =ROUND(F29*G29,2) -> 0 | I29: 0 | J29: 0 | K29: =SUM(H29:J29) -> 0 | L29: =ROUND(E29*F29,2) -> 0 | M29: =ROUND(E29*H29,2) -> 0 | N29: =ROUND(E29*I29,2) -> 0 | O29: =ROUND(E29*J29,2) -> 0 | P29: =SUM(M29:O29) -> 0
... A31: 15 | C31: Uzstādīt ārējo skārda palodzi, ieskaitot visus stiprinājumus un palīgmateriālus. | D31: m | E31: 96.15 | F31: 0 | G31: =IF(F31>0,likme,0) -> 0 | H31: =ROUND(F31*G31,2) -> 0 | I31: 0 | J31: 0 | K31: =SUM(H31:J31) -> 0 | L31: =ROUND(E31*F31,2) -> 0 | M31: =ROUND(E31*H31,2) -> 0 | N31: =ROUND(E31*I31,2) -> 0 | O31: =ROUND(E31*J31,2) -> 0 | P31: =SUM(M31:O31) -> 0
A32: 16 | C32: Stiklotās sistēmas | F32: 0 | G32: =IF(F32>0,likme,0) -> 0 | H32: =ROUND(F32*G32,2) -> 0 | I32: 0 | J32: 0 | K32: =SUM(H32:J32) -> 0 | L32: =ROUND(E32*F32,2) -> 0 | M32: =ROUND(E32*H32,2) -> 0 | N32: =ROUND(E32*I32,2) -> 0 | O32: =ROUND(E32*J32,2) -> 0 | P32: =SUM(M32:O32) -> 0
A33: 17 | C33: Montēt stiklotu fasādes sistēmu SSA-1 8000x5200 mm, alumīnija rāmis, trīskāršā stikla pakete, U≤0.80 W/m²K, krāsojums RAL 1019 Grey Beige, ar veramām vēdināšanas vērtnēm un furnitūru. | D33: gb | E33: 1 | F33: 0 | G33: =IF(F33>0,likme,0) -> 0 | H33: =ROUND(F33*G33,2) -> 0 | I33: 0 | J33: 0 | K33: =SUM(H33:J33) -> 0 | L33: =ROUND(E33*F33,2) -> 0 | M33: =ROUND(E33*H33,2) -> 0 | N33: =ROUND(E33*I33,2) -> 0 | O33: =ROUND(E33*J33,2) -> 0 | P33: =SUM(M33:O33) -> 0
A34: 18 | C34: Montēt stiklotu fasādes sistēmu SSA-2 8000x4220 mm, alumīnija rāmis, trīskāršā stikla pakete, U≤0.80 W/m²K, krāsojums RAL 1019 Grey Beige, ar veramām vēdināšanas vērtnēm un manuālu atvēršanu. | D34: gb | E34: 1 | F34: 0 | G34: =IF(F34>0,likme,0) -> 0 | H34: =ROUND(F34*G34,2) -> 0 | I34: 0 | J34: 0 | K34: =SUM(H34:J34) -> 0 | L34: =ROUND(E34*F34,2) -> 0 | M34: =ROUND(E34*H34,2) -> 0 | N34: =ROUND(E34*I34,2) -> 0 | O34: =ROUND(E34*J34,2) -> 0 | P34: =SUM(M34:O34) -> 0
A35: 19 | C35: Montēt stiklotu fasādes sistēmu SSA-3 1790x3200 mm, alumīnija rāmis, trīskāršā stikla pakete, U≤0.80 W/m²K, krāsojums RAL 1019 Grey Beige. | D35: gb | E35: 3 | F35: 0 | G35: =IF(F35>0,likme,0) -> 0 | H35: =ROUND(F35*G35,2) -> 0 | I35: 0 | J35: 0 | K35: =SUM(H35:J35) -> 0 | L35: =ROUND(E35*F35,2) -> 0 | M35: =ROUND(E35*H35,2) -> 0 | N35: =ROUND(E35*I35,2) -> 0 | O35: =ROUND(E35*J35,2) -> 0 | P35: =SUM(M35:O35) -> 0
A36: 20 | C36: Montēt stiklotu fasādes sistēmu SSA-4 3830x3200 mm, alumīnija rāmis, trīskāršā stikla pakete, U≤0.80 W/m²K, krāsojums RAL 1019 Grey Beige. | D36: gb | E36: 2 | F36: 0 | G36: =IF(F36>0,likme,0) -> 0 | H36: =ROUND(F36*G36,2) -> 0 | I36: 0 | J36: 0 | K36: =SUM(H36:J36) -> 0 | L36: =ROUND(E36*F36,2) -> 0 | M36: =ROUND(E36*H36,2) -> 0 | N36: =ROUND(E36*I36,2) -> 0 | O36: =ROUND(E36*J36,2) -> 0 | P36: =SUM(M36:O36) -> 0
A37: 21 | C37: Montēt stiklotu fasādes sistēmu SSA-5 4953x2925 mm, alumīnija rāmis, laminēta trīskāršā stikla pakete, U≤0.80 W/m²K, krāsojums RAL 1019 Grey Beige. | D37: gb | E37: 1 | F37: 0 | G37: =IF(F37>0,likme,0) -> 0 | H37: =ROUND(F37*G37,2) -> 0 | I37: 0 | J37: 0 | K37: =SUM(H37:J37) -> 0 | L37: =ROUND(E37*F37,2) -> 0 | M37: =ROUND(E37*H37,2) -> 0 | N37: =ROUND(E37*I37,2) -> 0 | O37: =ROUND(E37*J37,2) -> 0 | P37: =SUM(M37:O37) -> 0
A38: 22 | C38: Montēt stiklotu fasādes sistēmu SSA-6 4953x2925 mm, alumīnija rāmis, laminēta trīskāršā stikla pakete, U≤0.80 W/m²K, krāsojums RAL 1019 Grey Beige. | D38: gb | E38: 2 | F38: 0 | G38: =IF(F38>0,likme,0) -> 0 | H38: =ROUND(F38*G38,2) -> 0 | I38: 0 | J38: 0 | K38: =SUM(H38:J38) -> 0 | L38: =ROUND(E38*F38,2) -> 0 | M38: =ROUND(E38*H38,2) -> 0 | N38: =ROUND(E38*I38,2) -> 0 | O38: =ROUND(E38*J38,2) -> 0 | P38: =SUM(M38:O38) -> 0
A39: 23 | C39: Montēt stiklotu fasādes sistēmu SSA-7.1 2726x2925 mm, alumīnija rāmis, laminēta trīskāršā stikla pakete, U≤0.80 W/m²K, krāsojums RAL 1019 Grey Beige. | D39: gb | E39: 1 | F39: 0 | G39: =IF(F39>0,likme,0) -> 0 | H39: =ROUND(F39*G39,2) -> 0 | I39: 0 | J39: 0 | K39: =SUM(H39:J39) -> 0 | L39: =ROUND(E39*F39,2) -> 0 | M39: =ROUND(E39*H39,2) -> 0 | N39: =ROUND(E39*I39,2) -> 0 | O39: =ROUND(E39*J39,2) -> 0 | P39: =SUM(M39:O39) -> 0
A40: 24 | C40: Montēt stiklotu fasādes sistēmu SSA-7.2 8170x3460 mm, alumīnija rāmis, trīskāršā stikla pakete, U≤0.80 W/m²K, ar automātiskām bīdāmajām durvīm un evakuācijas izeju. | D40: gb | E40: 1 | F40: 0 | G40: =IF(F40>0,likme,0) -> 0 | H40: =ROUND(F40*G40,2) -> 0 | I40: 0 | J40: 0 | K40: =SUM(H40:J40) -> 0 | L40: =ROUND(E40*F40,2) -> 0 | M40: =ROUND(E40*H40,2) -> 0 | N40: =ROUND(E40*I40,2) -> 0 | O40: =ROUND(E40*J40,2) -> 0 | P40: =SUM(M40:O40) -> 0
A41: 25 | C41: Montēt stiklotu fasādes sistēmu SSA-8 3830x2560 mm, alumīnija rāmis, trīskāršā stikla pakete, U≤0.80 W/m²K. | D41: gb | E41: 3 | F41: 0 | G41: =IF(F41>0,likme,0) -> 0 | H41: =ROUND(F41*G41,2) -> 0 | I41: 0 | J41: 0 | K41: =SUM(H41:J41) -> 0 | L41: =ROUND(E41*F41,2) -> 0 | M41: =ROUND(E41*H41,2) -> 0 | N41: =ROUND(E41*I41,2) -> 0 | O41: =ROUND(E41*J41,2) -> 0 | P41: =SUM(M41:O41) -> 0
A42: 26 | C42: Montēt stiklotu fasādes sistēmu SSA-9 3400x3200 mm, alumīnija rāmis, trīskāršā stikla pakete, U≤0.80 W/m²K, ar evakuācijas izeju. | D42: gb | E42: 1 | F42: 0 | G42: =IF(F42>0,likme,0) -> 0 | H42: =ROUND(F42*G42,2) -> 0 | I42: 0 | J42: 0 | K42: =SUM(H42:J42) -> 0 | L42: =ROUND(E42*F42,2) -> 0 | M42: =ROUND(E42*H42,2) -> 0 | N42: =ROUND(E42*I42,2) -> 0 | O42: =ROUND(E42*J42,2) -> 0 | P42: =SUM(M42:O42) -> 0
A43: 27 | C43: Montēt stiklotu fasādes sistēmu SSA-10 3730x3500 mm, alumīnija rāmis, trīskāršā stikla pakete, U≤0.80 W/m²K, ar iekšējām vērtņu sistēmām. | D43: gb | E43: 1 | F43: 0 | G43: =IF(F43>0,likme,0) -> 0 | H43: =ROUND(F43*G43,2) -> 0 | I43: 0 | J43: 0 | K43: =SUM(H43:J43) -> 0 | L43: =ROUND(E43*F43,2) -> 0 | M43: =ROUND(E43*H43,2) -> 0 | N43: =ROUND(E43*I43,2) -> 0 | O43: =ROUND(E43*J43,2) -> 0 | P43: =SUM(M43:O43) -> 0
A44: 28 | C44: Montēt stiklotu fasādes sistēmu SSA-11 6270x2870 mm, alumīnija rāmis, trīskāršā stikla pakete, U≤0.80 W/m²K | D44: gb | E44: 1 | F44: 0 | G44: =IF(F44>0,likme,0) -> 0 | H44: =ROUND(F44*G44,2) -> 0 | I44: 0 | J44: 0 | K44: =SUM(H44:J44) -> 0 | L44: =ROUND(E44*F44,2) -> 0 | M44: =ROUND(E44*H44,2) -> 0 | N44: =ROUND(E44*I44,2) -> 0 | O44: =ROUND(E44*J44,2) -> 0 | P44: =SUM(M44:O44) -> 0
... A49: 33 | C49: Uzstādīt ārējo skārda palodzi, ieskaitot visus stiprinājumus un palīgmateriālus. | D49: m | E49: 79.86 | F49: 0 | G49: =IF(F49>0,likme,0) -> 0 | H49: =ROUND(F49*G49,2) -> 0 | I49: 0 | J49: 0 | K49: =SUM(H49:J49) -> 0 | L49: =ROUND(E49*F49,2) -> 0 | M49: =ROUND(E49*H49,2) -> 0 | N49: =ROUND(E49*I49,2) -> 0 | O49: =ROUND(E49*J49,2) -> 0 | P49: =SUM(M49:O49) -> 0
A50: 34 | C50: Ārdurvis | F50: 0 | G50: =IF(F50>0,likme,0) -> 0 | H50: =ROUND(F50*G50,2) -> 0 | I50: 0 | J50: 0 | K50: =SUM(H50:J50) -> 0 | L50: =ROUND(E50*F50,2) -> 0 | M50: =ROUND(E50*H50,2) -> 0 | N50: =ROUND(E50*I50,2) -> 0 | O50: =ROUND(E50*J50,2) -> 0 | P50: =SUM(M50:O50) -> 0
A51: 35 | C51: Montēt ārdurvis AD-1.1K 2004x2560 mm, alumīnija profils, divviru evakuācijas durvis, U≤1.5 W/m²K, krāsojums RAL 1019 (iekšpuse/ārpuse), aprīkotas ar evakuācijas furnitūru, piekļuves kontroli (elektroniska atslēga), pašaizvēršanās mehānisms. | D51: gb | E51: 1 | F51: 0 | G51: =IF(F51>0,likme,0) -> 0 | H51: =ROUND(F51*G51,2) -> 0 | I51: 0 | J51: 0 | K51: =SUM(H51:J51) -> 0 | L51: =ROUND(E51*F51,2) -> 0 | M51: =ROUND(E51*H51,2) -> 0 | N51: =ROUND(E51*I51,2) -> 0 | O51: =ROUND(E51*J51,2) -> 0 | P51: =SUM(M51:O51) -> 0
A52: 36 | C52: Montēt ārdurvis AD-1.2 2005x2140 mm, alumīnija profils, divviru evakuācijas durvis, U≤1.5 W/m²K, krāsojums RAL 1019 (iekšpuse/ārpuse), aprīkotas ar evakuācijas furnitūru, piekļuves kontroli (elektroniska atslēga), pašaizvēršanās mehānisms. | D52: gb | E52: 1 | F52: 0 | G52: =IF(F52>0,likme,0) -> 0 | H52: =ROUND(F52*G52,2) -> 0 | I52: 0 | J52: 0 | K52: =SUM(H52:J52) -> 0 | L52: =ROUND(E52*F52,2) -> 0 | M52: =ROUND(E52*H52,2) -> 0 | N52: =ROUND(E52*I52,2) -> 0 | O52: =ROUND(E52*J52,2) -> 0 | P52: =SUM(M52:O52) -> 0
A53: 37 | C53: Montēt piegādes vārtus AD-2 2500x2250 mm, automātiski paceļami vārti, U≤1.5 W/m²K, krāsojums RAL 1019, piekļuves kontrole, slēdzams cilindrs. | D53: gb | E53: 1 | F53: 0 | G53: =IF(F53>0,likme,0) -> 0 | H53: =ROUND(F53*G53,2) -> 0 | I53: 0 | J53: 0 | K53: =SUM(H53:J53) -> 0 | L53: =ROUND(E53*F53,2) -> 0 | M53: =ROUND(E53*H53,2) -> 0 | N53: =ROUND(E53*I53,2) -> 0 | O53: =ROUND(E53*J53,2) -> 0 | P53: =SUM(M53:O53) -> 0
A54: 38 | C54: Montēt ārdurvis AD-3K 1300x2570 mm, alumīnija profils, vienviru (kreisā), evakuācijas durvis, U≤1.5 W/m²K, krāsojums RAL 1019, piekļuves kontrole, pašaizvēršanās mehānisms. | D54: gb | E54: 1 | F54: 0 | G54: =IF(F54>0,likme,0) -> 0 | H54: =ROUND(F54*G54,2) -> 0 | I54: 0 | J54: 0 | K54: =SUM(H54:J54) -> 0 | L54: =ROUND(E54*F54,2) -> 0 | M54: =ROUND(E54*H54,2) -> 0 | N54: =ROUND(E54*I54,2) -> 0 | O54: =ROUND(E54*J54,2) -> 0 | P54: =SUM(M54:O54) -> 0
A55: 39 | C55: Montēt ārdurvis AD-4K 1300x2100 mm, alumīnija profils, vienviru (kreisā), evakuācijas durvis, U≤1.5 W/m²K, krāsojums RAL 1019, piekļuves kontrole, pašaizvēršanās mehānisms. | D55: gb | E55: 1 | F55: 0 | G55: =IF(F55>0,likme,0) -> 0 | H55: =ROUND(F55*G55,2) -> 0 | I55: 0 | J55: 0 | K55: =SUM(H55:J55) -> 0 | L55: =ROUND(E55*F55,2) -> 0 | M55: =ROUND(E55*H55,2) -> 0 | N55: =ROUND(E55*I55,2) -> 0 | O55: =ROUND(E55*J55,2) -> 0 | P55: =SUM(M55:O55) -> 0
A56: 40 | C56: Montēt ārdurvis AD-5L 1100x2100 mm, alumīnija profils, vienviru (labā), saimniecības telpas durvis, U≤1.5 W/m²K, krāsojums RAL 1019, slēdzamas, pašaizvēršanās mehānisms. | D56: gb | E56: 1 | F56: 0 | G56: =IF(F56>0,likme,0) -> 0 | H56: =ROUND(F56*G56,2) -> 0 | I56: 0 | J56: 0 | K56: =SUM(H56:J56) -> 0 | L56: =ROUND(E56*F56,2) -> 0 | M56: =ROUND(E56*H56,2) -> 0 | N56: =ROUND(E56*I56,2) -> 0 | O56: =ROUND(E56*J56,2) -> 0 | P56: =SUM(M56:O56) -> 0
A57: 41 | C57: Montēt ārdurvis AD-7L 1100x2100 mm, alumīnija profils, vienviru (labā), evakuācijas kāpņu durvis, ugunsizturība EI-30, krāsojums RAL 9007, piekļuves kontrole, pašaizvēršanās mehānisms. | D57: gb | E57: 3 | F57: 0 | G57: =IF(F57>0,likme,0) -> 0 | H57: =ROUND(F57*G57,2) -> 0 | I57: 0 | J57: 0 | K57: =SUM(H57:J57) -> 0 | L57: =ROUND(E57*F57,2) -> 0 | M57: =ROUND(E57*H57,2) -> 0 | N57: =ROUND(E57*I57,2) -> 0 | O57: =ROUND(E57*J57,2) -> 0 | P57: =SUM(M57:O57) -> 0
A58: 42 | C58: Montēt ārdurvis AD-8L 1180x2590 mm, alumīnija profils, vienviru (labā), evakuācijas durvis, ugunsizturība EI-30/C, krāsojums RAL 1019, piekļuves kontrole, pašaizvēršanās mehānisms. | D58: gb | E58: 1 | F58: 0 | G58: =IF(F58>0,likme,0) -> 0 | H58: =ROUND(F58*G58,2) -> 0 | I58: 0 | J58: 0 | K58: =SUM(H58:J58) -> 0 | L58: =ROUND(E58*F58,2) -> 0 | M58: =ROUND(E58*H58,2) -> 0 | N58: =ROUND(E58*I58,2) -> 0 | O58: =ROUND(E58*J58,2) -> 0 | P58: =SUM(M58:O58) -> 0
A59: 43 | C59: Montēt rāmja stiprinājuma karkasu siltumizolācijā, ieskaitot visus stiprinājumus un palīgmateriālus. | D59: m | E59: 74.58 | F59: 0 | G59: =IF(F59>0,likme,0) -> 0 | H59: =ROUND(F59*G59,2) -> 0 | I59: 0 | J59: 0 | K59: =SUM(H59:J59) -> 0 | L59: =ROUND(E59*F59,2) -> 0 | M59: =ROUND(E59*H59,2) -> 0 | N59: =ROUND(E59*I59,2) -> 0 | O59: =ROUND(E59*J59,2) -> 0 | P59: =SUM(M59:O59) -> 0
A60: 44 | C60: Uzstādīt tvaika izolācijas lenti, ieskaitot visus stiprinājumus un palīgmateriālus. | D60: m | E60: 74.58 | F60: 0 | G60: =IF(F60>0,likme,0) -> 0 | H60: =ROUND(F60*G60,2) -> 0 | I60: 0 | J60: 0 | K60: =SUM(H60:J60) -> 0 | L60: =ROUND(E60*F60,2) -> 0 | M60: =ROUND(E60*H60,2) -> 0 | N60: =ROUND(E60*I60,2) -> 0 | O60: =ROUND(E60*J60,2) -> 0 | P60: =SUM(M60:O60) -> 0
A61: 45 | C61: Uzstādīt difuzijas lenti, ieskaitot visus stiprinājumus un palīgmateriālus. | D61: m | E61: 74.58 | F61: 0 | G61: =IF(F61>0,likme,0) -> 0 | H61: =ROUND(F61*G61,2) -> 0 | I61: 0 | J61: 0 | K61: =SUM(H61:J61) -> 0 | L61: =ROUND(E61*F61,2) -> 0 | M61: =ROUND(E61*H61,2) -> 0 | N61: =ROUND(E61*I61,2) -> 0 | O61: =ROUND(E61*J61,2) -> 0 | P61: =SUM(M61:O61) -> 0
A62: 46 | C62: Lūkas | F62: 0 | G62: =IF(F62>0,likme,0) -> 0 | H62: =ROUND(F62*G62,2) -> 0 | I62: 0 | J62: 0 | K62: =SUM(H62:J62) -> 0 | L62: =ROUND(E62*F62,2) -> 0 | M62: =ROUND(E62*H62,2) -> 0 | N62: =ROUND(E62*I62,2) -> 0 | O62: =ROUND(E62*J62,2) -> 0 | P62: =SUM(M62:O62) -> 0
A63: 47 | C63: Montēt lūku LU-1 900x900 mm, lūka no bēniņiem uz jumtu, cinkots skārds, tonis NCS S 3502-R (RAL 9006) abpusējs, aprīkota ar rokturi no abām pusēm lūkas atvēršanai. | D63: gb | E63: 1 | F63: 0 | G63: =IF(F63>0,likme,0) -> 0 | H63: =ROUND(F63*G63,2) -> 0 | I63: 0 | J63: 0 | K63: =SUM(H63:J63) -> 0 | L63: =ROUND(E63*F63,2) -> 0 | M63: =ROUND(E63*H63,2) -> 0 | N63: =ROUND(E63*I63,2) -> 0 | O63: =ROUND(E63*J63,2) -> 0 | P63: =SUM(M63:O63) -> 0
A64: 48 | C64: Montēt lūku LU-2 860x1440 mm, lūka no koplietošanas telpām uz bēniņstāva telpu, ugunsizturība EI-60, U=0.64 W/m²K, materiāls metāls/HDF/koks, tonis pēc ražotāja, komplektā ugunsdrošas bēniņu kāpnes (3-daļīgas), slodze līdz 200 kg, siltināta lūka, kāpņu garums ~360 cm. | D64: gb | E64: 2 | F64: 0 | G64: =IF(F64>0,likme,0) -> 0 | H64: =ROUND(F64*G64,2) -> 0 | I64: 0 | J64: 0 | K64: =SUM(H64:J64) -> 0 | L64: =ROUND(E64*F64,2) -> 0 | M64: =ROUND(E64*H64,2) -> 0 | N64: =ROUND(E64*I64,2) -> 0 | O64: =ROUND(E64*J64,2) -> 0 | P64: =SUM(M64:O64) -> 0
A65: 49 | C65: Montēt lūku LU-3 900x900 mm, lūka no tehniskās telpas uz jumtu, U=0.80 W/m²K, alumīnijs un stikls, tonis NCS S 3502-R (RAL 9006), rokturis no abām pusēm, siltumizolācija integrēta vērtnē un rāmī. | D65: gb | E65: 1 | F65: 0 | G65: =IF(F65>0,likme,0) -> 0 | H65: =ROUND(F65*G65,2) -> 0 | I65: 0 | J65: 0 | K65: =SUM(H65:J65) -> 0 | L65: =ROUND(E65*F65,2) -> 0 | M65: =ROUND(E65*H65,2) -> 0 | N65: =ROUND(E65*I65,2) -> 0 | O65: =ROUND(E65*J65,2) -> 0 | P65: =SUM(M65:O65) -> 0
A66: 50 | C66: Montēt lūku LU-4 1050x1050 mm, lūka no multifunkcionālās zāles skatuves telpas uz jumtu, U=0.80 W/m²K, alumīnijs, tonis NCS S 3502-R (RAL 9006), manuāla atvēršana ar distances vadību, centrēts izpildmehānisms, elektromagnētiskā slēdzene. | D66: gb | E66: 1 | F66: 0 | G66: =IF(F66>0,likme,0) -> 0 | H66: =ROUND(F66*G66,2) -> 0 | I66: 0 | J66: 0 | K66: =SUM(H66:J66) -> 0 | L66: =ROUND(E66*F66,2) -> 0 | M66: =ROUND(E66*H66,2) -> 0 | N66: =ROUND(E66*I66,2) -> 0 | O66: =ROUND(E66*J66,2) -> 0 | P66: =SUM(M66:O66) -> 0
A67: 51 | C67: Iekšējie logi | F67: 0 | G67: =IF(F67>0,likme,0) -> 0 | H67: =ROUND(F67*G67,2) -> 0 | I67: 0 | J67: 0 | K67: =SUM(H67:J67) -> 0 | L67: =ROUND(E67*F67,2) -> 0 | M67: =ROUND(E67*H67,2) -> 0 | N67: =ROUND(E67*I67,2) -> 0 | O67: =ROUND(E67*J67,2) -> 0 | P67: =SUM(M67:O67) -> 0
A68: 52 | C68: Montēt logu L-11 3842x650 mm, ieskaitot visus palīgmateriālus un stiprinājumus. Alumīnija logu sistēma, krāsojums RAL 1019 Grey Beige, 3-kāršu stikla paketi, U ≤ 0.80 W/m²K. | D68: gb | E68: 3 | F68: 0 | G68: =IF(F68>0,likme,0) -> 0 | H68: =ROUND(F68*G68,2) -> 0 | I68: 0 | J68: 0 | K68: =SUM(H68:J68) -> 0 | L68: =ROUND(E68*F68,2) -> 0 | M68: =ROUND(E68*H68,2) -> 0 | N68: =ROUND(E68*I68,2) -> 0 | O68: =ROUND(E68*J68,2) -> 0 | P68: =SUM(M68:O68) -> 0
A69: 53 | C69: Montēt logu L-12 1200x1200 mm, ieskaitot visus palīgmateriālus un stiprinājumus. Alumīnija logu sistēma, krāsojums RAL 1019 Grey Beige, 3-kāršu stikla paketi, U ≤ 0.80 W/m²K. | D69: gb | E69: 2 | F69: 0 | G69: =IF(F69>0,likme,0) -> 0 | H69: =ROUND(F69*G69,2) -> 0 | I69: 0 | J69: 0 | K69: =SUM(H69:J69) -> 0 | L69: =ROUND(E69*F69,2) -> 0 | M69: =ROUND(E69*H69,2) -> 0 | N69: =ROUND(E69*I69,2) -> 0 | O69: =ROUND(E69*J69,2) -> 0 | P69: =SUM(M69:O69) -> 0
A70: 54 | C70: Iekšdurvis | F70: 0 | G70: =IF(F70>0,likme,0) -> 0 | H70: =ROUND(F70*G70,2) -> 0 | I70: 0 | J70: 0 | K70: =SUM(H70:J70) -> 0 | L70: =ROUND(E70*F70,2) -> 0 | M70: =ROUND(E70*H70,2) -> 0 | N70: =ROUND(E70*I70,2) -> 0 | O70: =ROUND(E70*J70,2) -> 0 | P70: =SUM(M70:O70) -> 0
A71: 55 | C71: Montēt iekšdurvis D-1.1K ailē 1000x2100 mm, koka durvis, vienviru (kreisā), slēdzamas | D71: gb | E71: 1 | F71: 0 | G71: =IF(F71>0,likme,0) -> 0 | H71: =ROUND(F71*G71,2) -> 0 | I71: 0 | J71: 0 | K71: =SUM(H71:J71) -> 0 | L71: =ROUND(E71*F71,2) -> 0 | M71: =ROUND(E71*H71,2) -> 0 | N71: =ROUND(E71*I71,2) -> 0 | O71: =ROUND(E71*J71,2) -> 0 | P71: =SUM(M71:O71) -> 0
A72: 56 | C72: Montēt iekšdurvis D-1.1L ailē 1000x2100 mm, koka durvis, vienviru (labā), slēdzamas | D72: gb | E72: 1 | F72: 0 | G72: =IF(F72>0,likme,0) -> 0 | H72: =ROUND(F72*G72,2) -> 0 | I72: 0 | J72: 0 | K72: =SUM(H72:J72) -> 0 | L72: =ROUND(E72*F72,2) -> 0 | M72: =ROUND(E72*H72,2) -> 0 | N72: =ROUND(E72*I72,2) -> 0 | O72: =ROUND(E72*J72,2) -> 0 | P72: =SUM(M72:O72) -> 0
A73: 57 | C73: Montēt iekšdurvis D-1.2K ailē 1100x2100 mm, koka durvis, vienviru (kreisā), slēdzamas | D73: gb | E73: 2 | F73: 0 | G73: =IF(F73>0,likme,0) -> 0 | H73: =ROUND(F73*G73,2) -> 0 | I73: 0 | J73: 0 | K73: =SUM(H73:J73) -> 0 | L73: =ROUND(E73*F73,2) -> 0 | M73: =ROUND(E73*H73,2) -> 0 | N73: =ROUND(E73*I73,2) -> 0 | O73: =ROUND(E73*J73,2) -> 0 | P73: =SUM(M73:O73) -> 0
A74: 58 | C74: Montēt iekšdurvis D-1.2L ailē 1100x2100 mm, koka durvis, vienviru (labā), slēdzamas | D74: gb | E74: 2 | F74: 0 | G74: =IF(F74>0,likme,0) -> 0 | H74: =ROUND(F74*G74,2) -> 0 | I74: 0 | J74: 0 | K74: =SUM(H74:J74) -> 0 | L74: =ROUND(E74*F74,2) -> 0 | M74: =ROUND(E74*H74,2) -> 0 | N74: =ROUND(E74*I74,2) -> 0 | O74: =ROUND(E74*J74,2) -> 0 | P74: =SUM(M74:O74) -> 0
A75: 59 | C75: Montēt iekšdurvis D-1.3K ailē 900x2100 mm, koka durvis, vienviru (kreisā), slēdzamas | D75: gb | E75: 2 | F75: 0 | G75: =IF(F75>0,likme,0) -> 0 | H75: =ROUND(F75*G75,2) -> 0 | I75: 0 | J75: 0 | K75: =SUM(H75:J75) -> 0 | L75: =ROUND(E75*F75,2) -> 0 | M75: =ROUND(E75*H75,2) -> 0 | N75: =ROUND(E75*I75,2) -> 0 | O75: =ROUND(E75*J75,2) -> 0 | P75: =SUM(M75:O75) -> 0
A76: 60 | C76: Montēt iekšdurvis D-1.3L ailē 900x2100 mm, koka durvis, vienviru (labā), slēdzamas | D76: gb | E76: 1 | F76: 0 | G76: =IF(F76>0,likme,0) -> 0 | H76: =ROUND(F76*G76,2) -> 0 | I76: 0 | J76: 0 | K76: =SUM(H76:J76) -> 0 | L76: =ROUND(E76*F76,2) -> 0 | M76: =ROUND(E76*H76,2) -> 0 | N76: =ROUND(E76*I76,2) -> 0 | O76: =ROUND(E76*J76,2) -> 0 | P76: =SUM(M76:O76) -> 0
A77: 61 | C77: Montēt iekšdurvis D-1.4L ailē 1100x2100 mm, koka durvis, vienviru (labā), slēdzamas | D77: gb | E77: 1 | F77: 0 | G77: =IF(F77>0,likme,0) -> 0 | H77: =ROUND(F77*G77,2) -> 0 | I77: 0 | J77: 0 | K77: =SUM(H77:J77) -> 0 | L77: =ROUND(E77*F77,2) -> 0 | M77: =ROUND(E77*H77,2) -> 0 | N77: =ROUND(E77*I77,2) -> 0 | O77: =ROUND(E77*J77,2) -> 0 | P77: =SUM(M77:O77) -> 0
A78: 62 | C78: Montēt iekšdurvis D-1.5L ailē 1100x2100 mm, koka durvis, vienviru (labā), slēdzamas | D78: gb | E78: 1 | F78: 0 | G78: =IF(F78>0,likme,0) -> 0 | H78: =ROUND(F78*G78,2) -> 0 | I78: 0 | J78: 0 | K78: =SUM(H78:J78) -> 0 | L78: =ROUND(E78*F78,2) -> 0 | M78: =ROUND(E78*H78,2) -> 0 | N78: =ROUND(E78*I78,2) -> 0 | O78: =ROUND(E78*J78,2) -> 0 | P78: =SUM(M78:O78) -> 0
A79: 63 | C79: Montēt iekšdurvis D-1.6K ailē 1100x2100 mm, koka durvis, vienviru (kreisā), slēdzamas | D79: gb | E79: 1 | F79: 0 | G79: =IF(F79>0,likme,0) -> 0 | H79: =ROUND(F79*G79,2) -> 0 | I79: 0 | J79: 0 | K79: =SUM(H79:J79) -> 0 | L79: =ROUND(E79*F79,2) -> 0 | M79: =ROUND(E79*H79,2) -> 0 | N79: =ROUND(E79*I79,2) -> 0 | O79: =ROUND(E79*J79,2) -> 0 | P79: =SUM(M79:O79) -> 0
A80: 64 | C80: Montēt stiklotas alumīnija durvis D-10.1 ailē 2005x2600 mm, divviru, ar automātiku | D80: gb | E80: 1 | F80: 0 | G80: =IF(F80>0,likme,0) -> 0 | H80: =ROUND(F80*G80,2) -> 0 | I80: 0 | J80: 0 | K80: =SUM(H80:J80) -> 0 | L80: =ROUND(E80*F80,2) -> 0 | M80: =ROUND(E80*H80,2) -> 0 | N80: =ROUND(E80*I80,2) -> 0 | O80: =ROUND(E80*J80,2) -> 0 | P80: =SUM(M80:O80) -> 0
A81: 65 | C81: Montēt stiklotas alumīnija durvis D-10.2 ailē 2005x2600 mm, divviru, ar automātiku | D81: gb | E81: 1 | F81: 0 | G81: =IF(F81>0,likme,0) -> 0 | H81: =ROUND(F81*G81,2) -> 0 | I81: 0 | J81: 0 | K81: =SUM(H81:J81) -> 0 | L81: =ROUND(E81*F81,2) -> 0 | M81: =ROUND(E81*H81,2) -> 0 | N81: =ROUND(E81*I81,2) -> 0 | O81: =ROUND(E81*J81,2) -> 0 | P81: =SUM(M81:O81) -> 0
A82: 66 | C82: Montēt iekšdurvis D-10.3K ailē 1230x3200 mm, alumīnija profils, vienviru (kreisā) | D82: gb | E82: 1 | F82: 0 | G82: =IF(F82>0,likme,0) -> 0 | H82: =ROUND(F82*G82,2) -> 0 | I82: 0 | J82: 0 | K82: =SUM(H82:J82) -> 0 | L82: =ROUND(E82*F82,2) -> 0 | M82: =ROUND(E82*H82,2) -> 0 | N82: =ROUND(E82*I82,2) -> 0 | O82: =ROUND(E82*J82,2) -> 0 | P82: =SUM(M82:O82) -> 0
... A114: 98 | C114: Montēt iekšdurvis D-9L ailē 1100x2100 mm, koka durvis, vienviru (labā), EI-30/C | D114: gb | E114: 1 | F114: 0 | G114: =IF(F114>0,likme,0) -> 0 | H114: =ROUND(F114*G114,2) -> 0 | I114: 0 | J114: 0 | K114: =SUM(H114:J114) -> 0 | L114: =ROUND(E114*F114,2) -> 0 | M114: =ROUND(E114*H114,2) -> 0 | N114: =ROUND(E114*I114,2) -> 0 | O114: =ROUND(E114*J114,2) -> 0 | P114: =SUM(M114:O114) -> 0
A116: Tiešās izmaksas kopā, t.sk. Darba dēvēja sociālais nodoklis (23,59%) | L116: =SUM(L17:L115) -> 0 | M116: =SUM(M17:M115) -> 0 | N116: =SUM(N17:N115) -> 0 | O116: =SUM(O17:O115) -> 0 | P116: =SUM(P17:P115) -> 0
A118: =KT!A23 -> 0 | D118: =KT!C27 -> 0
A119: (paraksts un tā atšifrējums, datums)
A120: =KT!A25 -> 0
A122: =KT!A27 -> 0 | D122: =KT!C27 -> 0
A123: (paraksts un tā atšifrējums, datums)
A124: =KT!A29 -> 0

Sheet 1,8
A2: Lokālā tāme Nr.1,8
A3: =KA!C22 -> Iekšējie apdares darbi
A4: (būvdarbu veids vai konstruktīvā elementa nosaukums)
A6: Objekta nosaukums: | C6: =KT!B9 -> Garkalnes Mākslas un vispārizglītojošās pamatskolas piebūve
A7: Būves nosaukums: | C7: =KT!B10 -> Garkalnes Mākslas un vispārizglītojošā pamatskola
A8: Objekta adrese: | C8: =KT!B11 -> Ropažu novads, Garkalne, Vidzemes šoseja 34, LV-2137
A9: Pasūtījuma nr.: | C9: =KT!B12 -> 0
A11: Tāme sastādīta 2026. gada tirgus cenās, pamatojoties uz būvprojekta rasējumiem | M11: Tāmes izmaksas: | O11: =P113 -> 0 | P11: EUR
N12: Tāme sastādītā | O12: =KT!C27 -> 0
A14: Nr.p.k. | B14: Kods | C14: Būvdarbu nosaukums | D14: Mērvienība | E14: Daudzums | F14: Vienības izmaksas | L14: Kopā uz visu apjomu
F15: Laika norma (c/h) | G15: Darba samaksas likme (euro/h) | H15: Darba alga | I15: Būvizstrādājumi | J15: Mehānismi | K15: KOPĀ | L15: Darbietilpība (c/h) | M15: Darba alga | N15: Būvizstrādājumi | O15: Mehānismi | P15: Summa
A17: 1 | C17: Sienas | F17: 0 | G17: =IF(F17>0,likme,0) -> 0 | H17: =ROUND(F17*G17,2) -> 0 | I17: 0 | J17: 0 | K17: =SUM(H17:J17) -> 0 | L17: =ROUND(E17*F17,2) -> 0 | M17: =ROUND(E17*H17,2) -> 0 | N17: =ROUND(E17*I17,2) -> 0 | O17: =ROUND(E17*J17,2) -> 0 | P17: =SUM(M17:O17) -> 0
A18: 2 | C18: Gruntēt, špaktelēt un slīpēt sienas | D18: m2 | E18: 2764.55 | F18: 0 | G18: =IF(F18>0,likme,0) -> 0 | H18: =ROUND(F18*G18,2) -> 0 | I18: 0 | J18: 0 | K18: =SUM(H18:J18) -> 0 | L18: =ROUND(E18*F18,2) -> 0 | M18: =ROUND(E18*H18,2) -> 0 | N18: =ROUND(E18*I18,2) -> 0 | O18: =ROUND(E18*J18,2) -> 0 | P18: =SUM(M18:O18) -> 0
A19: 3 | C19: Gruntēt un krāsot sienas divās kārtās | D19: m2 | E19: 2764.55 | F19: 0 | G19: =IF(F19>0,likme,0) -> 0 | H19: =ROUND(F19*G19,2) -> 0 | I19: 0 | J19: 0 | K19: =SUM(H19:J19) -> 0 | L19: =ROUND(E19*F19,2) -> 0 | M19: =ROUND(E19*H19,2) -> 0 | N19: =ROUND(E19*I19,2) -> 0 | O19: =ROUND(E19*J19,2) -> 0 | P19: =SUM(M19:O19) -> 0
A20: 4 | C20: Ieklāt flīžu segumu uz līmjavas kārtas un šuves aizpildīt ar šuvotāju, ieskaitot visus stiprinājumus un palīgmateriālus. | D20: m2 | E20: 836.3 | F20: 0 | G20: =IF(F20>0,likme,0) -> 0 | H20: =ROUND(F20*G20,2) -> 0 | I20: 0 | J20: 0 | K20: =SUM(H20:J20) -> 0 | L20: =ROUND(E20*F20,2) -> 0 | M20: =ROUND(E20*H20,2) -> 0 | N20: =ROUND(E20*I20,2) -> 0 | O20: =ROUND(E20*J20,2) -> 0 | P20: =SUM(M20:O20) -> 0
A21: 5 | C21: Cewood 25mm vai ekvivalents biezas akustiskās plātnes uz 50 mm profila rāmja ar minerālvates pildījumu, A absorbcija klase; Dekoratīvā skaņas izkliedes sienas konstrukcija uz 12mm bieza bērza saplākšņa pamatnes, uz kuras izveidota kārba ar 12mm biezām saplākšņa malām. Kārbas virsējā kārta ir 6,5mm biezs saplāksnis, konstrukcija hermētiski noslēgta, iekšpusē 50 mm biezs minerālvates slānis (blīvums 30 - 50 kg/ m3) | D21: m2 | E21: 122.3 | F21: 0 | G21: =IF(F21>0,likme,0) -> 0 | H21: =ROUND(F21*G21,2) -> 0 | I21: 0 | J21: 0 | K21: =SUM(H21:J21) -> 0 | L21: =ROUND(E21*F21,2) -> 0 | M21: =ROUND(E21*H21,2) -> 0 | N21: =ROUND(E21*I21,2) -> 0 | O21: =ROUND(E21*J21,2) -> 0 | P21: =SUM(M21:O21) -> 0
A22: 6 | C22: Dekoratīvā skaņas izkliedes sienas konstrukcija uz 12mm bieza bērza saplākšņa pamatnes, uz kuras izveidota kārba ar 12mm biezām saplākšņa malām. Kārbas virsējā kārta ir 6,5mm biezs saplāksnis, konstrukcija hermētiski noslēgta, iekšpusē 50 mm biezs minerālvates slānis (blīvums 30 - 50 kg/m3); 20–50 mm platas koka latas ar 20–50 atstarpi; Perforētie paneļi Latvijas Finieris Riga (vai Glastik, Fantoni vai ekvivalents), frezēts, panelis M 4-16/4-65, paneļa biezums 15 mm, gaiss 60 mm, bez minerālas vates (absorbcijas dati: αw 0,5, klase D); Logu un durvju aizkari, kokvilnas audums, blīvums 400-600 g/m2 vai absorbcijas koeficienta vērtības, kā norādīts zemāk, attālums no virsmas 130 mm. Krokojums ½ logiem, krokojums 1/3 skatuves sienai (absorbcijas dati: αw 0,6, klase C); Sienu krāsa (pelēka) - NCS color S 1002-Y (toni saskaņot ar Būvniecības ierosinātāju un interjera risinājumiem) | D22: m2 | E22: 414.7 | F22: 0 | G22: =IF(F22>0,likme,0) -> 0 | H22: =ROUND(F22*G22,2) -> 0 | I22: 0 | J22: 0 | K22: =SUM(H22:J22) -> 0 | L22: =ROUND(E22*F22,2) -> 0 | M22: =ROUND(E22*H22,2) -> 0 | N22: =ROUND(E22*I22,2) -> 0 | O22: =ROUND(E22*J22,2) -> 0 | P22: =SUM(M22:O22) -> 0
A23: 7 | C23: Ecophon Akusto One vai ekvivalenti paneļi, (izmērs 1192x592x40), absorbcijas koeficients αw > 0,9 (A klase); Ecophon Akusto Wall C vai ekvivalenti paneļi, (izmērs 1192x592x40), absorbcijas koeficients αw > 0,9 (A klase); Sienu krāsa (pelēka) - NCS color S 1002-Y (toni saskaņot ar Būvniecības ierosinātāju un interjera risinājumiem); | D23: m2 | E23: 870.4 | F23: 0 | G23: =IF(F23>0,likme,0) -> 0 | H23: =ROUND(F23*G23,2) -> 0 | I23: 0 | J23: 0 | K23: =SUM(H23:J23) -> 0 | L23: =ROUND(E23*F23,2) -> 0 | M23: =ROUND(E23*H23,2) -> 0 | N23: =ROUND(E23*I23,2) -> 0 | O23: =ROUND(E23*J23,2) -> 0 | P23: =SUM(M23:O23) -> 0
A24: 8 | C24: Ecophon Akusto Wall C vai ekvivalenti paneļi, (izmērs 1192x592x40), absorbcijas koeficients αw > 0.9 (A klase); Sienu krāsa (pelēka) - NCS color S 1002-Y (toni saskaņot ar Būvniecības ierosinātāju un interjera risinājumiem) | D24: m2 | E24: 115.9 | F24: 0 | G24: =IF(F24>0,likme,0) -> 0 | H24: =ROUND(F24*G24,2) -> 0 | I24: 0 | J24: 0 | K24: =SUM(H24:J24) -> 0 | L24: =ROUND(E24*F24,2) -> 0 | M24: =ROUND(E24*H24,2) -> 0 | N24: =ROUND(E24*I24,2) -> 0 | O24: =ROUND(E24*J24,2) -> 0 | P24: =SUM(M24:O24) -> 0
A25: 9 | C25: Skatuves sānu sienu izkliedes paneļi, saplāksnis vai MDF ar finiera virsmu 8-10 mm biezs, paneļu iekšējais tilpums aizpildīts ar mīkstu minerālo vati 50 mm biezumā; Sienu krāsa (pelēka) - NCS color S 1002-Y (toni saskaņot ar Būvniecības ierosinātāju un interjera risinājumiem) | D25: m2 | E25: 258.2 | F25: 0 | G25: =IF(F25>0,likme,0) -> 0 | H25: =ROUND(F25*G25,2) -> 0 | I25: 0 | J25: 0 | K25: =SUM(H25:J25) -> 0 | L25: =ROUND(E25*F25,2) -> 0 | M25: =ROUND(E25*H25,2) -> 0 | N25: =ROUND(E25*I25,2) -> 0 | O25: =ROUND(E25*J25,2) -> 0 | P25: =SUM(M25:O25) -> 0
A26: 10 | C26: Griesti | F26: 0 | G26: =IF(F26>0,likme,0) -> 0 | H26: =ROUND(F26*G26,2) -> 0 | I26: 0 | J26: 0 | K26: =SUM(H26:J26) -> 0 | L26: =ROUND(E26*F26,2) -> 0 | M26: =ROUND(E26*H26,2) -> 0 | N26: =ROUND(E26*I26,2) -> 0 | O26: =ROUND(E26*J26,2) -> 0 | P26: =SUM(M26:O26) -> 0
A27: 11 | C27: PG-1.1 | F27: 0 | G27: =IF(F27>0,likme,0) -> 0 | H27: =ROUND(F27*G27,2) -> 0 | I27: 0 | J27: 0 | K27: =SUM(H27:J27) -> 0 | L27: =ROUND(E27*F27,2) -> 0 | M27: =ROUND(E27*H27,2) -> 0 | N27: =ROUND(E27*I27,2) -> 0 | O27: =ROUND(E27*J27,2) -> 0 | P27: =SUM(M27:O27) -> 0
A28: 12 | C28: Montēt metala profilu karkasu, ieskaitot visus stiprinājumus un palīgmateriālus | D28: m2 | E28: 669.97 | F28: 0 | G28: =IF(F28>0,likme,0) -> 0 | H28: =ROUND(F28*G28,2) -> 0 | I28: 0 | J28: 0 | K28: =SUM(H28:J28) -> 0 | L28: =ROUND(E28*F28,2) -> 0 | M28: =ROUND(E28*H28,2) -> 0 | N28: =ROUND(E28*I28,2) -> 0 | O28: =ROUND(E28*J28,2) -> 0 | P28: =SUM(M28:O28) -> 0
A29: 13 | C29: Ieklāt izolāciju 50mm biezumā Akmens vate ar blīvumu 70 kg/m3 | D29: m2 | E29: 669.97 | F29: 0 | G29: =IF(F29>0,likme,0) -> 0 | H29: =ROUND(F29*G29,2) -> 0 | I29: 0 | J29: 0 | K29: =SUM(H29:J29) -> 0 | L29: =ROUND(E29*F29,2) -> 0 | M29: =ROUND(E29*H29,2) -> 0 | N29: =ROUND(E29*I29,2) -> 0 | O29: =ROUND(E29*J29,2) -> 0 | P29: =SUM(M29:O29) -> 0
A30: 14 | C30: Apšūt karkasu ar Knauf Danoline Tectopanel ar Quadril perforācijas tipu vai ekvivalents (paneļa perforācija 10-15%) 12,5mm, ieskaitot visus stiprinājumus un palīgmateriālus. | D30: m2 | E30: 669.97 | F30: 0 | G30: =IF(F30>0,likme,0) -> 0 | H30: =ROUND(F30*G30,2) -> 0 | I30: 0 | J30: 0 | K30: =SUM(H30:J30) -> 0 | L30: =ROUND(E30*F30,2) -> 0 | M30: =ROUND(E30*H30,2) -> 0 | N30: =ROUND(E30*I30,2) -> 0 | O30: =ROUND(E30*J30,2) -> 0 | P30: =SUM(M30:O30) -> 0
A31: 15 | C31: Gruntēt un krāsot griestus divās kārtās | D31: m2 | E31: 669.97 | F31: 0 | G31: =IF(F31>0,likme,0) -> 0 | H31: =ROUND(F31*G31,2) -> 0 | I31: 0 | J31: 0 | K31: =SUM(H31:J31) -> 0 | L31: =ROUND(E31*F31,2) -> 0 | M31: =ROUND(E31*H31,2) -> 0 | N31: =ROUND(E31*I31,2) -> 0 | O31: =ROUND(E31*J31,2) -> 0 | P31: =SUM(M31:O31) -> 0
A32: 16 | C32: PG-1.2 | F32: 0 | G32: =IF(F32>0,likme,0) -> 0 | H32: =ROUND(F32*G32,2) -> 0 | I32: 0 | J32: 0 | K32: =SUM(H32:J32) -> 0 | L32: =ROUND(E32*F32,2) -> 0 | M32: =ROUND(E32*H32,2) -> 0 | N32: =ROUND(E32*I32,2) -> 0 | O32: =ROUND(E32*J32,2) -> 0 | P32: =SUM(M32:O32) -> 0
A33: 17 | C33: Montēt metala profilu karkasu, ieskaitot visus stiprinājumus un palīgmateriālus | D33: m2 | E33: 155.64 | F33: 0 | G33: =IF(F33>0,likme,0) -> 0 | H33: =ROUND(F33*G33,2) -> 0 | I33: 0 | J33: 0 | K33: =SUM(H33:J33) -> 0 | L33: =ROUND(E33*F33,2) -> 0 | M33: =ROUND(E33*H33,2) -> 0 | N33: =ROUND(E33*I33,2) -> 0 | O33: =ROUND(E33*J33,2) -> 0 | P33: =SUM(M33:O33) -> 0
A34: 18 | C34: Ieklāt izolāciju 50mm biezumā Akmens vate ar blīvumu 70 kg/m3 | D34: m2 | E34: 155.64 | F34: 0 | G34: =IF(F34>0,likme,0) -> 0 | H34: =ROUND(F34*G34,2) -> 0 | I34: 0 | J34: 0 | K34: =SUM(H34:J34) -> 0 | L34: =ROUND(E34*F34,2) -> 0 | M34: =ROUND(E34*H34,2) -> 0 | N34: =ROUND(E34*I34,2) -> 0 | O34: =ROUND(E34*J34,2) -> 0 | P34: =SUM(M34:O34) -> 0
A35: 19 | C35: Apšūt karkasu ar mitrumizturīgiem Ecophon Hygiene vai ekvivalenti noņemamiem paneļiem bez perforācijas (D klases skaņas absorbcija) 12,5mm, ieskaitot visus stiprinājumus un palīgmateriālus. | D35: m2 | E35: 155.64 | F35: 0 | G35: =IF(F35>0,likme,0) -> 0 | H35: =ROUND(F35*G35,2) -> 0 | I35: 0 | J35: 0 | K35: =SUM(H35:J35) -> 0 | L35: =ROUND(E35*F35,2) -> 0 | M35: =ROUND(E35*H35,2) -> 0 | N35: =ROUND(E35*I35,2) -> 0 | O35: =ROUND(E35*J35,2) -> 0 | P35: =SUM(M35:O35) -> 0
A36: 20 | C36: Gruntēt un krāsot griestus divās kārtās | D36: m2 | E36: 155.64 | F36: 0 | G36: =IF(F36>0,likme,0) -> 0 | H36: =ROUND(F36*G36,2) -> 0 | I36: 0 | J36: 0 | K36: =SUM(H36:J36) -> 0 | L36: =ROUND(E36*F36,2) -> 0 | M36: =ROUND(E36*H36,2) -> 0 | N36: =ROUND(E36*I36,2) -> 0 | O36: =ROUND(E36*J36,2) -> 0 | P36: =SUM(M36:O36) -> 0
A37: 21 | C37: PG-1.3 | F37: 0 | G37: =IF(F37>0,likme,0) -> 0 | H37: =ROUND(F37*G37,2) -> 0 | I37: 0 | J37: 0 | K37: =SUM(H37:J37) -> 0 | L37: =ROUND(E37*F37,2) -> 0 | M37: =ROUND(E37*H37,2) -> 0 | N37: =ROUND(E37*I37,2) -> 0 | O37: =ROUND(E37*J37,2) -> 0 | P37: =SUM(M37:O37) -> 0
A38: 22 | C38: Montēt metala profilu karkasu, ieskaitot visus stiprinājumus un palīgmateriālus | D38: m2 | E38: 52.28 | F38: 0 | G38: =IF(F38>0,likme,0) -> 0 | H38: =ROUND(F38*G38,2) -> 0 | I38: 0 | J38: 0 | K38: =SUM(H38:J38) -> 0 | L38: =ROUND(E38*F38,2) -> 0 | M38: =ROUND(E38*H38,2) -> 0 | N38: =ROUND(E38*I38,2) -> 0 | O38: =ROUND(E38*J38,2) -> 0 | P38: =SUM(M38:O38) -> 0
A39: 23 | C39: Stiprināt koka latas 50x50mm, ieskaitot visus stiprinājumus un palīgmateriālus | D39: m2 | E39: 52.28 | F39: 0 | G39: =IF(F39>0,likme,0) -> 0 | H39: =ROUND(F39*G39,2) -> 0 | I39: 0 | J39: 0 | K39: =SUM(H39:J39) -> 0 | L39: =ROUND(E39*F39,2) -> 0 | M39: =ROUND(E39*H39,2) -> 0 | N39: =ROUND(E39*I39,2) -> 0 | O39: =ROUND(E39*J39,2) -> 0 | P39: =SUM(M39:O39) -> 0
A40: 24 | C40: Ieklāt izolāciju 50mm biezumā Akmens vate ar blīvumu 70 kg/m3 | D40: m2 | E40: 52.28 | F40: 0 | G40: =IF(F40>0,likme,0) -> 0 | H40: =ROUND(F40*G40,2) -> 0 | I40: 0 | J40: 0 | K40: =SUM(H40:J40) -> 0 | L40: =ROUND(E40*F40,2) -> 0 | M40: =ROUND(E40*H40,2) -> 0 | N40: =ROUND(E40*I40,2) -> 0 | O40: =ROUND(E40*J40,2) -> 0 | P40: =SUM(M40:O40) -> 0
A41: 25 | C41: Apšūt karkasu ar Knauf Danoline Tectopanel ar Quadril perforācijas tipu vai ekvivalents (paneļa perforācija 10-15%) 12,5mm, ieskaitot visus stiprinājumus un palīgmateriālus. | D41: m2 | E41: 52.28 | F41: 0 | G41: =IF(F41>0,likme,0) -> 0 | H41: =ROUND(F41*G41,2) -> 0 | I41: 0 | J41: 0 | K41: =SUM(H41:J41) -> 0 | L41: =ROUND(E41*F41,2) -> 0 | M41: =ROUND(E41*H41,2) -> 0 | N41: =ROUND(E41*I41,2) -> 0 | O41: =ROUND(E41*J41,2) -> 0 | P41: =SUM(M41:O41) -> 0
A42: 26 | C42: Gruntēt un krāsot griestus divās kārtās | D42: m2 | E42: 52.28 | F42: 0 | G42: =IF(F42>0,likme,0) -> 0 | H42: =ROUND(F42*G42,2) -> 0 | I42: 0 | J42: 0 | K42: =SUM(H42:J42) -> 0 | L42: =ROUND(E42*F42,2) -> 0 | M42: =ROUND(E42*H42,2) -> 0 | N42: =ROUND(E42*I42,2) -> 0 | O42: =ROUND(E42*J42,2) -> 0 | P42: =SUM(M42:O42) -> 0
A43: 27 | C43: PG-2 | F43: 0 | G43: =IF(F43>0,likme,0) -> 0 | H43: =ROUND(F43*G43,2) -> 0 | I43: 0 | J43: 0 | K43: =SUM(H43:J43) -> 0 | L43: =ROUND(E43*F43,2) -> 0 | M43: =ROUND(E43*H43,2) -> 0 | N43: =ROUND(E43*I43,2) -> 0 | O43: =ROUND(E43*J43,2) -> 0 | P43: =SUM(M43:O43) -> 0
A44: 28 | C44: Montēt metala profilu karkasu, ieskaitot visus stiprinājumus un palīgmateriālus | D44: m2 | E44: 572.79 | F44: 0 | G44: =IF(F44>0,likme,0) -> 0 | H44: =ROUND(F44*G44,2) -> 0 | I44: 0 | J44: 0 | K44: =SUM(H44:J44) -> 0 | L44: =ROUND(E44*F44,2) -> 0 | M44: =ROUND(E44*H44,2) -> 0 | N44: =ROUND(E44*I44,2) -> 0 | O44: =ROUND(E44*J44,2) -> 0 | P44: =SUM(M44:O44) -> 0
A45: 29 | C45: Apšūt karkasu ar Ecophone Advantage A vai ekvivalentas skaņu absorbējošām griestu plāksnēsm (minimālais skaņas absorbcijas koeficients αw=0.7) 15mm, ieskaitot visus stiprinājumus un palīgmateriālus. | D45: m2 | E45: 572.79 | F45: 0 | G45: =IF(F45>0,likme,0) -> 0 | H45: =ROUND(F45*G45,2) -> 0 | I45: 0 | J45: 0 | K45: =SUM(H45:J45) -> 0 | L45: =ROUND(E45*F45,2) -> 0 | M45: =ROUND(E45*H45,2) -> 0 | N45: =ROUND(E45*I45,2) -> 0 | O45: =ROUND(E45*J45,2) -> 0 | P45: =SUM(M45:O45) -> 0
A46: 30 | C46: AG-1 | F46: 0 | G46: =IF(F46>0,likme,0) -> 0 | H46: =ROUND(F46*G46,2) -> 0 | I46: 0 | J46: 0 | K46: =SUM(H46:J46) -> 0 | L46: =ROUND(E46*F46,2) -> 0 | M46: =ROUND(E46*H46,2) -> 0 | N46: =ROUND(E46*I46,2) -> 0 | O46: =ROUND(E46*J46,2) -> 0 | P46: =SUM(M46:O46) -> 0
A47: 31 | C47: Gruntēt un apmest griestus 10mm biezumā | D47: m2 | E47: 995.01 | F47: 0 | G47: =IF(F47>0,likme,0) -> 0 | H47: =ROUND(F47*G47,2) -> 0 | I47: 0 | J47: 0 | K47: =SUM(H47:J47) -> 0 | L47: =ROUND(E47*F47,2) -> 0 | M47: =ROUND(E47*H47,2) -> 0 | N47: =ROUND(E47*I47,2) -> 0 | O47: =ROUND(E47*J47,2) -> 0 | P47: =SUM(M47:O47) -> 0
A48: 32 | C48: Gruntēt, špaktelēt un slīpēt griestus | D48: m2 | E48: 995.01 | F48: 0 | G48: =IF(F48>0,likme,0) -> 0 | H48: =ROUND(F48*G48,2) -> 0 | I48: 0 | J48: 0 | K48: =SUM(H48:J48) -> 0 | L48: =ROUND(E48*F48,2) -> 0 | M48: =ROUND(E48*H48,2) -> 0 | N48: =ROUND(E48*I48,2) -> 0 | O48: =ROUND(E48*J48,2) -> 0 | P48: =SUM(M48:O48) -> 0
A49: 33 | C49: Gruntēt un krāsot griestus divās kārtās | D49: m2 | E49: 995.01 | F49: 0 | G49: =IF(F49>0,likme,0) -> 0 | H49: =ROUND(F49*G49,2) -> 0 | I49: 0 | J49: 0 | K49: =SUM(H49:J49) -> 0 | L49: =ROUND(E49*F49,2) -> 0 | M49: =ROUND(E49*H49,2) -> 0 | N49: =ROUND(E49*I49,2) -> 0 | O49: =ROUND(E49*J49,2) -> 0 | P49: =SUM(M49:O49) -> 0
A50: 34 | C50: AG-2 | F50: 0 | G50: =IF(F50>0,likme,0) -> 0 | H50: =ROUND(F50*G50,2) -> 0 | I50: 0 | J50: 0 | K50: =SUM(H50:J50) -> 0 | L50: =ROUND(E50*F50,2) -> 0 | M50: =ROUND(E50*H50,2) -> 0 | N50: =ROUND(E50*I50,2) -> 0 | O50: =ROUND(E50*J50,2) -> 0 | P50: =SUM(M50:O50) -> 0
A51: 35 | C51: Gruntēt un apmest griestus Akustiskais apmetums Ecophon Fade 15+5 mm vai ekvivalents | D51: m2 | E51: 229.53 | F51: 0 | G51: =IF(F51>0,likme,0) -> 0 | H51: =ROUND(F51*G51,2) -> 0 | I51: 0 | J51: 0 | K51: =SUM(H51:J51) -> 0 | L51: =ROUND(E51*F51,2) -> 0 | M51: =ROUND(E51*H51,2) -> 0 | N51: =ROUND(E51*I51,2) -> 0 | O51: =ROUND(E51*J51,2) -> 0 | P51: =SUM(M51:O51) -> 0
A52: 36 | C52: Gruntēt, špaktelēt un slīpēt griestus | D52: m2 | E52: 229.53 | F52: 0 | G52: =IF(F52>0,likme,0) -> 0 | H52: =ROUND(F52*G52,2) -> 0 | I52: 0 | J52: 0 | K52: =SUM(H52:J52) -> 0 | L52: =ROUND(E52*F52,2) -> 0 | M52: =ROUND(E52*H52,2) -> 0 | N52: =ROUND(E52*I52,2) -> 0 | O52: =ROUND(E52*J52,2) -> 0 | P52: =SUM(M52:O52) -> 0
A53: 37 | C53: Gruntēt un krāsot griestus divās kārtās | D53: m2 | E53: 229.53 | F53: 0 | G53: =IF(F53>0,likme,0) -> 0 | H53: =ROUND(F53*G53,2) -> 0 | I53: 0 | J53: 0 | K53: =SUM(H53:J53) -> 0 | L53: =ROUND(E53*F53,2) -> 0 | M53: =ROUND(E53*H53,2) -> 0 | N53: =ROUND(E53*I53,2) -> 0 | O53: =ROUND(E53*J53,2) -> 0 | P53: =SUM(M53:O53) -> 0
A54: 38 | C54: Grīdas | F54: 0 | G54: =IF(F54>0,likme,0) -> 0 | H54: =ROUND(F54*G54,2) -> 0 | I54: 0 | J54: 0 | K54: =SUM(H54:J54) -> 0 | L54: =ROUND(E54*F54,2) -> 0 | M54: =ROUND(E54*H54,2) -> 0 | N54: =ROUND(E54*I54,2) -> 0 | O54: =ROUND(E54*J54,2) -> 0 | P54: =SUM(M54:O54) -> 0
A55: 39 | C55: Gr-1 | F55: 0 | G55: =IF(F55>0,likme,0) -> 0 | H55: =ROUND(F55*G55,2) -> 0 | I55: 0 | J55: 0 | K55: =SUM(H55:J55) -> 0 | L55: =ROUND(E55*F55,2) -> 0 | M55: =ROUND(E55*H55,2) -> 0 | N55: =ROUND(E55*I55,2) -> 0 | O55: =ROUND(E55*J55,2) -> 0 | P55: =SUM(M55:O55) -> 0
A56: 40 | C56: Izlīdzināt grīdas pirms seguma ieklāšanas | D56: m2 | E56: 275.24 | F56: 0 | G56: =IF(F56>0,likme,0) -> 0 | H56: =ROUND(F56*G56,2) -> 0 | I56: 0 | J56: 0 | K56: =SUM(H56:J56) -> 0 | L56: =ROUND(E56*F56,2) -> 0 | M56: =ROUND(E56*H56,2) -> 0 | N56: =ROUND(E56*I56,2) -> 0 | O56: =ROUND(E56*J56,2) -> 0 | P56: =SUM(M56:O56) -> 0
A57: 41 | C57: Iekka masīvkoka grīdas segumu, ieskaitot visus stiprinājumus un palīgmateriālus. Ozola masīvkoka spundes dēļi Herringbone Select (tīras šķiedras raksts, bez baltās aplievas un zarojumiem) 16 x 68 x 408 mm bez fāzēm vai ekvivalents | D57: m2 | E57: 275.24 | F57: 0 | G57: =IF(F57>0,likme,0) -> 0 | H57: =ROUND(F57*G57,2) -> 0 | I57: 0 | J57: 0 | K57: =SUM(H57:J57) -> 0 | L57: =ROUND(E57*F57,2) -> 0 | M57: =ROUND(E57*H57,2) -> 0 | N57: =ROUND(E57*I57,2) -> 0 | O57: =ROUND(E57*J57,2) -> 0 | P57: =SUM(M57:O57) -> 0
A58: 42 | C58: Gr-2 | E58: 0 | F58: 0 | G58: =IF(F58>0,likme,0) -> 0 | H58: =ROUND(F58*G58,2) -> 0 | I58: 0 | J58: 0 | K58: =SUM(H58:J58) -> 0 | L58: =ROUND(E58*F58,2) -> 0 | M58: =ROUND(E58*H58,2) -> 0 | N58: =ROUND(E58*I58,2) -> 0 | O58: =ROUND(E58*J58,2) -> 0 | P58: =SUM(M58:O58) -> 0
A59: 43 | C59: Izlīdzināt grīdas pirms seguma ieklāšanas | D59: m2 | E59: 312.79 | F59: 0 | G59: =IF(F59>0,likme,0) -> 0 | H59: =ROUND(F59*G59,2) -> 0 | I59: 0 | J59: 0 | K59: =SUM(H59:J59) -> 0 | L59: =ROUND(E59*F59,2) -> 0 | M59: =ROUND(E59*H59,2) -> 0 | N59: =ROUND(E59*I59,2) -> 0 | O59: =ROUND(E59*J59,2) -> 0 | P59: =SUM(M59:O59) -> 0
A60: 44 | C60: Iekka masīvkoka grīdas segumu, ieskaitot visus stiprinājumus un palīgmateriālus. Ozola masīvkoka spundes dēļi Herringbone Nature (izteiktāks šķiedras raksts, bez baltās aplievas un ar maziem punktveida zarojumiem) 16 x 68 x 408 mm bez fāzēm vai ekvivalents | D60: m2 | E60: 312.79 | F60: 0 | G60: =IF(F60>0,likme,0) -> 0 | H60: =ROUND(F60*G60,2) -> 0 | I60: 0 | J60: 0 | K60: =SUM(H60:J60) -> 0 | L60: =ROUND(E60*F60,2) -> 0 | M60: =ROUND(E60*H60,2) -> 0 | N60: =ROUND(E60*I60,2) -> 0 | O60: =ROUND(E60*J60,2) -> 0 | P60: =SUM(M60:O60) -> 0
A61: 45 | C61: Gr-3 | E61: 0 | F61: 0 | G61: =IF(F61>0,likme,0) -> 0 | H61: =ROUND(F61*G61,2) -> 0 | I61: 0 | J61: 0 | K61: =SUM(H61:J61) -> 0 | L61: =ROUND(E61*F61,2) -> 0 | M61: =ROUND(E61*H61,2) -> 0 | N61: =ROUND(E61*I61,2) -> 0 | O61: =ROUND(E61*J61,2) -> 0 | P61: =SUM(M61:O61) -> 0
A62: 46 | C62: Izlīdzināt grīdas pirms seguma ieklāšanas | D62: m2 | E62: 24.1 | F62: 0 | G62: =IF(F62>0,likme,0) -> 0 | H62: =ROUND(F62*G62,2) -> 0 | I62: 0 | J62: 0 | K62: =SUM(H62:J62) -> 0 | L62: =ROUND(E62*F62,2) -> 0 | M62: =ROUND(E62*H62,2) -> 0 | N62: =ROUND(E62*I62,2) -> 0 | O62: =ROUND(E62*J62,2) -> 0 | P62: =SUM(M62:O62) -> 0
A63: 47 | C63: Iekka divslāņu dēļu grīdas segumu, ieskaitot visus stiprinājumus un palīgmateriālus. Ozola divslāņa Herringbone spundes dēļi Prestige ar Natural apdari (koksnes raksts, ar nelieliem zarojumiem) 10-12 x 100 x 470-500mm bez fāzēm vai ekvivalents | D63: m2 | E63: 24.1 | F63: 0 | G63: =IF(F63>0,likme,0) -> 0 | H63: =ROUND(F63*G63,2) -> 0 | I63: 0 | J63: 0 | K63: =SUM(H63:J63) -> 0 | L63: =ROUND(E63*F63,2) -> 0 | M63: =ROUND(E63*H63,2) -> 0 | N63: =ROUND(E63*I63,2) -> 0 | O63: =ROUND(E63*J63,2) -> 0 | P63: =SUM(M63:O63) -> 0
A64: 48 | C64: Gr-4 | E64: 0 | F64: 0 | G64: =IF(F64>0,likme,0) -> 0 | H64: =ROUND(F64*G64,2) -> 0 | I64: 0 | J64: 0 | K64: =SUM(H64:J64) -> 0 | L64: =ROUND(E64*F64,2) -> 0 | M64: =ROUND(E64*H64,2) -> 0 | N64: =ROUND(E64*I64,2) -> 0 | O64: =ROUND(E64*J64,2) -> 0 | P64: =SUM(M64:O64) -> 0
A65: 49 | C65: Izlīdzināt grīdas pirms seguma ieklāšanas | D65: m2 | E65: 150.55 | F65: 0 | G65: =IF(F65>0,likme,0) -> 0 | H65: =ROUND(F65*G65,2) -> 0 | I65: 0 | J65: 0 | K65: =SUM(H65:J65) -> 0 | L65: =ROUND(E65*F65,2) -> 0 | M65: =ROUND(E65*H65,2) -> 0 | N65: =ROUND(E65*I65,2) -> 0 | O65: =ROUND(E65*J65,2) -> 0 | P65: =SUM(M65:O65) -> 0
A66: 50 | C66: Iekka masīvkoka grīdas segumu, ieskaitot visus stiprinājumus un palīgmateriālus. Ozola masīvkoka spundes dēļi Select (tīras šķiedras raksts) 16 x 130 x 600-3000 mm bez fāzēm, krāsoti ar melnu skatuves grīdas krāsu PatzFinish black vai ekvivalentu divās kārtās | D66: m2 | E66: 150.55 | F66: 0 | G66: =IF(F66>0,likme,0) -> 0 | H66: =ROUND(F66*G66,2) -> 0 | I66: 0 | J66: 0 | K66: =SUM(H66:J66) -> 0 | L66: =ROUND(E66*F66,2) -> 0 | M66: =ROUND(E66*H66,2) -> 0 | N66: =ROUND(E66*I66,2) -> 0 | O66: =ROUND(E66*J66,2) -> 0 | P66: =SUM(M66:O66) -> 0
A67: 51 | C67: Gr-5 | E67: 0 | F67: 0 | G67: =IF(F67>0,likme,0) -> 0 | H67: =ROUND(F67*G67,2) -> 0 | I67: 0 | J67: 0 | K67: =SUM(H67:J67) -> 0 | L67: =ROUND(E67*F67,2) -> 0 | M67: =ROUND(E67*H67,2) -> 0 | N67: =ROUND(E67*I67,2) -> 0 | O67: =ROUND(E67*J67,2) -> 0 | P67: =SUM(M67:O67) -> 0
A68: 52 | C68: Izlīdzināt grīdas pirms seguma ieklāšanas | D68: m2 | E68: 21.72 | F68: 0 | G68: =IF(F68>0,likme,0) -> 0 | H68: =ROUND(F68*G68,2) -> 0 | I68: 0 | J68: 0 | K68: =SUM(H68:J68) -> 0 | L68: =ROUND(E68*F68,2) -> 0 | M68: =ROUND(E68*H68,2) -> 0 | N68: =ROUND(E68*I68,2) -> 0 | O68: =ROUND(E68*J68,2) -> 0 | P68: =SUM(M68:O68) -> 0
A69: 53 | C69: Ieklāt vinila segumu uz līmjavas kārtas, ieskaitot visus stiprinājumus un palīgmateriālus. Forbo sphera SD/EC vai ekvivalents homogēns elektrību izkliedējošs vinils | D69: m2 | E69: 21.72 | F69: 0 | G69: =IF(F69>0,likme,0) -> 0 | H69: =ROUND(F69*G69,2) -> 0 | I69: 0 | J69: 0 | K69: =SUM(H69:J69) -> 0 | L69: =ROUND(E69*F69,2) -> 0 | M69: =ROUND(E69*H69,2) -> 0 | N69: =ROUND(E69*I69,2) -> 0 | O69: =ROUND(E69*J69,2) -> 0 | P69: =SUM(M69:O69) -> 0
A70: 54 | C70: Gr-6 | E70: 0 | F70: 0 | G70: =IF(F70>0,likme,0) -> 0 | H70: =ROUND(F70*G70,2) -> 0 | I70: 0 | J70: 0 | K70: =SUM(H70:J70) -> 0 | L70: =ROUND(E70*F70,2) -> 0 | M70: =ROUND(E70*H70,2) -> 0 | N70: =ROUND(E70*I70,2) -> 0 | O70: =ROUND(E70*J70,2) -> 0 | P70: =SUM(M70:O70) -> 0
A71: 55 | C71: Izlīdzināt grīdas pirms seguma ieklāšanas | D71: m2 | E71: 596.09 | F71: 0 | G71: =IF(F71>0,likme,0) -> 0 | H71: =ROUND(F71*G71,2) -> 0 | I71: 0 | J71: 0 | K71: =SUM(H71:J71) -> 0 | L71: =ROUND(E71*F71,2) -> 0 | M71: =ROUND(E71*H71,2) -> 0 | N71: =ROUND(E71*I71,2) -> 0 | O71: =ROUND(E71*J71,2) -> 0 | P71: =SUM(M71:O71) -> 0
A72: 56 | C72: Ieklāt vinila segumu uz līmjavas kārtas, ieskaitot visus stiprinājumus un palīgmateriālus. Forbo Sarlon 15db vai ekvivalents akustiskais vinila grīdas segums (4211T4315 light grey canyon, NCS S 3502-Y), biezums 2.6 mm, R10 pretslīdes noturības klase | D72: m2 | E72: 596.09 | F72: 0 | G72: =IF(F72>0,likme,0) -> 0 | H72: =ROUND(F72*G72,2) -> 0 | I72: 0 | J72: 0 | K72: =SUM(H72:J72) -> 0 | L72: =ROUND(E72*F72,2) -> 0 | M72: =ROUND(E72*H72,2) -> 0 | N72: =ROUND(E72*I72,2) -> 0 | O72: =ROUND(E72*J72,2) -> 0 | P72: =SUM(M72:O72) -> 0
A73: 57 | C73: Gr-7 | E73: 0 | F73: 0 | G73: =IF(F73>0,likme,0) -> 0 | H73: =ROUND(F73*G73,2) -> 0 | I73: 0 | J73: 0 | K73: =SUM(H73:J73) -> 0 | L73: =ROUND(E73*F73,2) -> 0 | M73: =ROUND(E73*H73,2) -> 0 | N73: =ROUND(E73*I73,2) -> 0 | O73: =ROUND(E73*J73,2) -> 0 | P73: =SUM(M73:O73) -> 0
A74: 58 | C74: Izlīdzināt grīdas pirms seguma ieklāšanas | D74: m2 | E74: 84.85 | F74: 0 | G74: =IF(F74>0,likme,0) -> 0 | H74: =ROUND(F74*G74,2) -> 0 | I74: 0 | J74: 0 | K74: =SUM(H74:J74) -> 0 | L74: =ROUND(E74*F74,2) -> 0 | M74: =ROUND(E74*H74,2) -> 0 | N74: =ROUND(E74*I74,2) -> 0 | O74: =ROUND(E74*J74,2) -> 0 | P74: =SUM(M74:O74) -> 0
A75: 59 | C75: Ieklāt vinila segumu uz līmjavas kārtas, ieskaitot visus stiprinājumus un palīgmateriālus. Forbo Sphera Element vai ekvivalents grīdas segums (50062 storm grey, NCS S S 1502-G), biezums 2 mm, R10 pretslīdes noturības klase | D75: m2 | E75: 84.85 | F75: 0 | G75: =IF(F75>0,likme,0) -> 0 | H75: =ROUND(F75*G75,2) -> 0 | I75: 0 | J75: 0 | K75: =SUM(H75:J75) -> 0 | L75: =ROUND(E75*F75,2) -> 0 | M75: =ROUND(E75*H75,2) -> 0 | N75: =ROUND(E75*I75,2) -> 0 | O75: =ROUND(E75*J75,2) -> 0 | P75: =SUM(M75:O75) -> 0
A76: 60 | C76: Gr-8 | E76: 0 | F76: 0 | G76: =IF(F76>0,likme,0) -> 0 | H76: =ROUND(F76*G76,2) -> 0 | I76: 0 | J76: 0 | K76: =SUM(H76:J76) -> 0 | L76: =ROUND(E76*F76,2) -> 0 | M76: =ROUND(E76*H76,2) -> 0 | N76: =ROUND(E76*I76,2) -> 0 | O76: =ROUND(E76*J76,2) -> 0 | P76: =SUM(M76:O76) -> 0
A77: 61 | C77: Izlīdzināt grīdas pirms seguma ieklāšanas | D77: m2 | E77: 267.65 | F77: 0 | G77: =IF(F77>0,likme,0) -> 0 | H77: =ROUND(F77*G77,2) -> 0 | I77: 0 | J77: 0 | K77: =SUM(H77:J77) -> 0 | L77: =ROUND(E77*F77,2) -> 0 | M77: =ROUND(E77*H77,2) -> 0 | N77: =ROUND(E77*I77,2) -> 0 | O77: =ROUND(E77*J77,2) -> 0 | P77: =SUM(M77:O77) -> 0
A78: 62 | C78: Ieklāt hidroizolācijas slāni | D78: m2 | E78: 267.65 | F78: 0 | G78: =IF(F78>0,likme,0) -> 0 | H78: =ROUND(F78*G78,2) -> 0 | I78: 0 | J78: 0 | K78: =SUM(H78:J78) -> 0 | L78: =ROUND(E78*F78,2) -> 0 | M78: =ROUND(E78*H78,2) -> 0 | N78: =ROUND(E78*I78,2) -> 0 | O78: =ROUND(E78*J78,2) -> 0 | P78: =SUM(M78:O78) -> 0
A79: 63 | C79: Ieklāt flīžu segumu uz līmjavas kārtas un šuves aizpildīt ar šuvotāju, ieskaitot visus stiprinājumus un palīgmateriālus. Akmens masas flīzes, R10 pretslīdes noturības klase | D79: m2 | E79: 267.65 | F79: 0 | G79: =IF(F79>0,likme,0) -> 0 | H79: =ROUND(F79*G79,2) -> 0 | I79: 0 | J79: 0 | K79: =SUM(H79:J79) -> 0 | L79: =ROUND(E79*F79,2) -> 0 | M79: =ROUND(E79*H79,2) -> 0 | N79: =ROUND(E79*I79,2) -> 0 | O79: =ROUND(E79*J79,2) -> 0 | P79: =SUM(M79:O79) -> 0
A80: 64 | C80: Gr-9 | E80: 0 | F80: 0 | G80: =IF(F80>0,likme,0) -> 0 | H80: =ROUND(F80*G80,2) -> 0 | I80: 0 | J80: 0 | K80: =SUM(H80:J80) -> 0 | L80: =ROUND(E80*F80,2) -> 0 | M80: =ROUND(E80*H80,2) -> 0 | N80: =ROUND(E80*I80,2) -> 0 | O80: =ROUND(E80*J80,2) -> 0 | P80: =SUM(M80:O80) -> 0
A81: 65 | C81: Montēt kājslauķi, ieskaitot visus stiprinājumus un palīgmateriālus. Iekštelpu kājslauķis Forbo vai ekvivalents | D81: m2 | E81: 15.1 | F81: 0 | G81: =IF(F81>0,likme,0) -> 0 | H81: =ROUND(F81*G81,2) -> 0 | I81: 0 | J81: 0 | K81: =SUM(H81:J81) -> 0 | L81: =ROUND(E81*F81,2) -> 0 | M81: =ROUND(E81*H81,2) -> 0 | N81: =ROUND(E81*I81,2) -> 0 | O81: =ROUND(E81*J81,2) -> 0 | P81: =SUM(M81:O81) -> 0
A82: 66 | C82: Gr-10 | E82: 0 | F82: 0 | G82: =IF(F82>0,likme,0) -> 0 | H82: =ROUND(F82*G82,2) -> 0 | I82: 0 | J82: 0 | K82: =SUM(H82:J82) -> 0 | L82: =ROUND(E82*F82,2) -> 0 | M82: =ROUND(E82*H82,2) -> 0 | N82: =ROUND(E82*I82,2) -> 0 | O82: =ROUND(E82*J82,2) -> 0 | P82: =SUM(M82:O82) -> 0
A83: 67 | C83: Montēt pakāpienus, ieskaitot visus stiprinājumus un palīgmateriālus. Ozola masīvkoka pakāpieni, krāsoti ar melnu skatuves grīdas krāsu PatzFinish black vai ekvivalentu divās kārtās | D83: m2 | E83: 19.08 | F83: 0 | G83: =IF(F83>0,likme,0) -> 0 | H83: =ROUND(F83*G83,2) -> 0 | I83: 0 | J83: 0 | K83: =SUM(H83:J83) -> 0 | L83: =ROUND(E83*F83,2) -> 0 | M83: =ROUND(E83*H83,2) -> 0 | N83: =ROUND(E83*I83,2) -> 0 | O83: =ROUND(E83*J83,2) -> 0 | P83: =SUM(M83:O83) -> 0
A84: 68 | C84: Gr-11 | E84: 0 | F84: 0 | G84: =IF(F84>0,likme,0) -> 0 | H84: =ROUND(F84*G84,2) -> 0 | I84: 0 | J84: 0 | K84: =SUM(H84:J84) -> 0 | L84: =ROUND(E84*F84,2) -> 0 | M84: =ROUND(E84*H84,2) -> 0 | N84: =ROUND(E84*I84,2) -> 0 | O84: =ROUND(E84*J84,2) -> 0 | P84: =SUM(M84:O84) -> 0
A85: 69 | C85: Montēt pakāpienus, ieskaitot visus stiprinājumus un palīgmateriālus. Ozola masīvkoka pakāpieni | D85: m2 | E85: 26.63 | F85: 0 | G85: =IF(F85>0,likme,0) -> 0 | H85: =ROUND(F85*G85,2) -> 0 | I85: 0 | J85: 0 | K85: =SUM(H85:J85) -> 0 | L85: =ROUND(E85*F85,2) -> 0 | M85: =ROUND(E85*H85,2) -> 0 | N85: =ROUND(E85*I85,2) -> 0 | O85: =ROUND(E85*J85,2) -> 0 | P85: =SUM(M85:O85) -> 0
A86: 70 | C86: Gr-12 | E86: 0 | F86: 0 | G86: =IF(F86>0,likme,0) -> 0 | H86: =ROUND(F86*G86,2) -> 0 | I86: 0 | J86: 0 | K86: =SUM(H86:J86) -> 0 | L86: =ROUND(E86*F86,2) -> 0 | M86: =ROUND(E86*H86,2) -> 0 | N86: =ROUND(E86*I86,2) -> 0 | O86: =ROUND(E86*J86,2) -> 0 | P86: =SUM(M86:O86) -> 0
A87: 71 | C87: Nopulēt betona grīdu | D87: m2 | E87: 93.87 | F87: 0 | G87: =IF(F87>0,likme,0) -> 0 | H87: =ROUND(F87*G87,2) -> 0 | I87: 0 | J87: 0 | K87: =SUM(H87:J87) -> 0 | L87: =ROUND(E87*F87,2) -> 0 | M87: =ROUND(E87*H87,2) -> 0 | N87: =ROUND(E87*I87,2) -> 0 | O87: =ROUND(E87*J87,2) -> 0 | P87: =SUM(M87:O87) -> 0
A88: 72 | C88: Gr-10 (2.stāvam, 3.stāvam, 4.stāvam) | E88: 0 | F88: 0 | G88: =IF(F88>0,likme,0) -> 0 | H88: =ROUND(F88*G88,2) -> 0 | I88: 0 | J88: 0 | K88: =SUM(H88:J88) -> 0 | L88: =ROUND(E88*F88,2) -> 0 | M88: =ROUND(E88*H88,2) -> 0 | N88: =ROUND(E88*I88,2) -> 0 | O88: =ROUND(E88*J88,2) -> 0 | P88: =SUM(M88:O88) -> 0
A89: 73 | C89: Izlīdzināt grīdas pirms seguma ieklāšanas | D89: m2 | E89: 799.17 | F89: 0 | G89: =IF(F89>0,likme,0) -> 0 | H89: =ROUND(F89*G89,2) -> 0 | I89: 0 | J89: 0 | K89: =SUM(H89:J89) -> 0 | L89: =ROUND(E89*F89,2) -> 0 | M89: =ROUND(E89*H89,2) -> 0 | N89: =ROUND(E89*I89,2) -> 0 | O89: =ROUND(E89*J89,2) -> 0 | P89: =SUM(M89:O89) -> 0
A90: 74 | C90: Ieklāt vinila segumu uz līmjavas kārtas, ieskaitot visus stiprinājumus un palīgmateriālus. Forbo Sphera Element vai ekvivalents grīdas segums (50008 silver grey, NCS S 2502-B), biezums 2 mm, R10 pretslīdes noturības klase | D90: m2 | E90: 799.17 | F90: 0 | G90: =IF(F90>0,likme,0) -> 0 | H90: =ROUND(F90*G90,2) -> 0 | I90: 0 | J90: 0 | K90: =SUM(H90:J90) -> 0 | L90: =ROUND(E90*F90,2) -> 0 | M90: =ROUND(E90*H90,2) -> 0 | N90: =ROUND(E90*I90,2) -> 0 | O90: =ROUND(E90*J90,2) -> 0 | P90: =SUM(M90:O90) -> 0
A91: 75 | C91: Grīdlīstes | E91: 0 | F91: 0 | G91: =IF(F91>0,likme,0) -> 0 | H91: =ROUND(F91*G91,2) -> 0 | I91: 0 | J91: 0 | K91: =SUM(H91:J91) -> 0 | L91: =ROUND(E91*F91,2) -> 0 | M91: =ROUND(E91*H91,2) -> 0 | N91: =ROUND(E91*I91,2) -> 0 | O91: =ROUND(E91*J91,2) -> 0 | P91: =SUM(M91:O91) -> 0
A92: 76 | C92: Montēt grīdlīsti Gl-1, ieskaitot visus stiprinājumus un palīgmateriālus. Nerūsējoša tērauda grīdlīste | D92: m | E92: 734.75 | F92: 0 | G92: =IF(F92>0,likme,0) -> 0 | H92: =ROUND(F92*G92,2) -> 0 | I92: 0 | J92: 0 | K92: =SUM(H92:J92) -> 0 | L92: =ROUND(E92*F92,2) -> 0 | M92: =ROUND(E92*H92,2) -> 0 | N92: =ROUND(E92*I92,2) -> 0 | O92: =ROUND(E92*J92,2) -> 0 | P92: =SUM(M92:O92) -> 0
A93: 77 | C93: Montēt grīdlīsti Gl-2, ieskaitot visus stiprinājumus un palīgmateriālus. Akmens masas flīžu apmale | D93: m | E93: 369.15 | F93: 0 | G93: =IF(F93>0,likme,0) -> 0 | H93: =ROUND(F93*G93,2) -> 0 | I93: 0 | J93: 0 | K93: =SUM(H93:J93) -> 0 | L93: =ROUND(E93*F93,2) -> 0 | M93: =ROUND(E93*H93,2) -> 0 | N93: =ROUND(E93*I93,2) -> 0 | O93: =ROUND(E93*J93,2) -> 0 | P93: =SUM(M93:O93) -> 0
A94: 78 | C94: Montēt grīdlīsti Gl-3, ieskaitot visus stiprinājumus un palīgmateriālus. Koka grīdlīste | D94: m | E94: 128.73 | F94: 0 | G94: =IF(F94>0,likme,0) -> 0 | H94: =ROUND(F94*G94,2) -> 0 | I94: 0 | J94: 0 | K94: =SUM(H94:J94) -> 0 | L94: =ROUND(E94*F94,2) -> 0 | M94: =ROUND(E94*H94,2) -> 0 | N94: =ROUND(E94*I94,2) -> 0 | O94: =ROUND(E94*J94,2) -> 0 | P94: =SUM(M94:O94) -> 0
A95: 79 | C95: Montēt grīdlīsti Gl-4, ieskaitot visus stiprinājumus un palīgmateriālus. Vinila grīdlīste | D95: m | E95: 103.5 | F95: 0 | G95: =IF(F95>0,likme,0) -> 0 | H95: =ROUND(F95*G95,2) -> 0 | I95: 0 | J95: 0 | K95: =SUM(H95:J95) -> 0 | L95: =ROUND(E95*F95,2) -> 0 | M95: =ROUND(E95*H95,2) -> 0 | N95: =ROUND(E95*I95,2) -> 0 | O95: =ROUND(E95*J95,2) -> 0 | P95: =SUM(M95:O95) -> 0
A96: 80 | C96: Ārsienu ailes | F96: 0 | G96: =IF(F96>0,likme,0) -> 0 | H96: =ROUND(F96*G96,2) -> 0 | I96: 0 | J96: 0 | K96: =SUM(H96:J96) -> 0 | L96: =ROUND(E96*F96,2) -> 0 | M96: =ROUND(E96*H96,2) -> 0 | N96: =ROUND(E96*I96,2) -> 0 | O96: =ROUND(E96*J96,2) -> 0 | P96: =SUM(M96:O96) -> 0
A97: 81 | C97: Gruntēt, špaktelēt un slīpēt sienas | D97: m | E97: 451.81 | F97: 0 | G97: =IF(F97>0,likme,0) -> 0 | H97: =ROUND(F97*G97,2) -> 0 | I97: 0 | J97: 0 | K97: =SUM(H97:J97) -> 0 | L97: =ROUND(E97*F97,2) -> 0 | M97: =ROUND(E97*H97,2) -> 0 | N97: =ROUND(E97*I97,2) -> 0 | O97: =ROUND(E97*J97,2) -> 0 | P97: =SUM(M97:O97) -> 0
A98: 82 | C98: Gruntēt un krāsot sienas divās kārtās | D98: m | E98: 451.81 | F98: 0 | G98: =IF(F98>0,likme,0) -> 0 | H98: =ROUND(F98*G98,2) -> 0 | I98: 0 | J98: 0 | K98: =SUM(H98:J98) -> 0 | L98: =ROUND(E98*F98,2) -> 0 | M98: =ROUND(E98*H98,2) -> 0 | N98: =ROUND(E98*I98,2) -> 0 | O98: =ROUND(E98*J98,2) -> 0 | P98: =SUM(M98:O98) -> 0
A99: 83 | C99: Kāpņu telpa K1 | F99: 0 | G99: =IF(F99>0,likme,0) -> 0 | H99: =ROUND(F99*G99,2) -> 0 | I99: 0 | J99: 0 | K99: =SUM(H99:J99) -> 0 | L99: =ROUND(E99*F99,2) -> 0 | M99: =ROUND(E99*H99,2) -> 0 | N99: =ROUND(E99*I99,2) -> 0 | O99: =ROUND(E99*J99,2) -> 0 | P99: =SUM(M99:O99) -> 0
A100: 84 | C100: Montēt margas kāpnēm, ieskaitot visus stiprinājumus un palīgmateriālus. | D100: m | E100: 25.28 | F100: 0 | G100: =IF(F100>0,likme,0) -> 0 | H100: =ROUND(F100*G100,2) -> 0 | I100: 0 | J100: 0 | K100: =SUM(H100:J100) -> 0 | L100: =ROUND(E100*F100,2) -> 0 | M100: =ROUND(E100*H100,2) -> 0 | N100: =ROUND(E100*I100,2) -> 0 | O100: =ROUND(E100*J100,2) -> 0 | P100: =SUM(M100:O100) -> 0
A101: 85 | C101: Iestrādāt tektīlās zonas, ieskaitot visus stiprinājumus un palīgmateriālus. | D101: m2 | E101: 8.92 | F101: 0 | G101: =IF(F101>0,likme,0) -> 0 | H101: =ROUND(F101*G101,2) -> 0 | I101: 0 | J101: 0 | K101: =SUM(H101:J101) -> 0 | L101: =ROUND(E101*F101,2) -> 0 | M101: =ROUND(E101*H101,2) -> 0 | N101: =ROUND(E101*I101,2) -> 0 | O101: =ROUND(E101*J101,2) -> 0 | P101: =SUM(M101:O101) -> 0
A102: 86 | C102: Marķēt kāpņu pakāpienus, ieskaitot visus stiprinājumus un palīgmateriālus. | D102: m | E102: 18.9 | F102: 0 | G102: =IF(F102>0,likme,0) -> 0 | H102: =ROUND(F102*G102,2) -> 0 | I102: 0 | J102: 0 | K102: =SUM(H102:J102) -> 0 | L102: =ROUND(E102*F102,2) -> 0 | M102: =ROUND(E102*H102,2) -> 0 | N102: =ROUND(E102*I102,2) -> 0 | O102: =ROUND(E102*J102,2) -> 0 | P102: =SUM(M102:O102) -> 0
A103: 87 | C103: Kāpņu telpa K2 | F103: 0 | G103: =IF(F103>0,likme,0) -> 0 | H103: =ROUND(F103*G103,2) -> 0 | I103: 0 | J103: 0 | K103: =SUM(H103:J103) -> 0 | L103: =ROUND(E103*F103,2) -> 0 | M103: =ROUND(E103*H103,2) -> 0 | N103: =ROUND(E103*I103,2) -> 0 | O103: =ROUND(E103*J103,2) -> 0 | P103: =SUM(M103:O103) -> 0
A104: 88 | C104: Montēt margas pie sienas, ieskaitot visus stiprinājumus un palīgmateriālus. | D104: m | E104: 8.13 | F104: 0 | G104: =IF(F104>0,likme,0) -> 0 | H104: =ROUND(F104*G104,2) -> 0 | I104: 0 | J104: 0 | K104: =SUM(H104:J104) -> 0 | L104: =ROUND(E104*F104,2) -> 0 | M104: =ROUND(E104*H104,2) -> 0 | N104: =ROUND(E104*I104,2) -> 0 | O104: =ROUND(E104*J104,2) -> 0 | P104: =SUM(M104:O104) -> 0
A105: 89 | C105: Kāpņu telpa K4 | F105: 0 | I105: 0 | J105: 0
...

Sheet 1,9
A2: Lokālā tāme Nr.1,9
A3: =KA!C23 -> Ārējie apdares darbi
A4: (būvdarbu veids vai konstruktīvā elementa nosaukums)
A6: Objekta nosaukums: | C6: =KT!B9 -> Garkalnes Mākslas un vispārizglītojošās pamatskolas piebūve
A7: Būves nosaukums: | C7: =KT!B10 -> Garkalnes Mākslas un vispārizglītojošā pamatskola
A8: Objekta adrese: | C8: =KT!B11 -> Ropažu novads, Garkalne, Vidzemes šoseja 34, LV-2137
A9: Pasūtījuma nr.: | C9: =KT!B12 -> 0
A11: Tāme sastādīta 2026. gada tirgus cenās, pamatojoties uz būvprojekta rasējumiem | M11: Tāmes izmaksas: | O11: =P84 -> 0 | P11: EUR
N12: Tāme sastādītā | O12: =KT!C27 -> 0
A14: Nr.p.k. | B14: Kods | C14: Būvdarbu nosaukums | D14: Mērvienība | E14: Daudzums | F14: Vienības izmaksas | L14: Kopā uz visu apjomu
F15: Laika norma (c/h) | G15: Darba samaksas likme (euro/h) | H15: Darba alga | I15: Būvizstrādājumi | J15: Mehānismi | K15: KOPĀ | L15: Darbietilpība (c/h) | M15: Darba alga | N15: Būvizstrādājumi | O15: Mehānismi | P15: Summa
A17: 1 | C17: SA-1 / SA-1.1 | F17: 0 | G17: =IF(F17>0,likme,0) -> 0 | H17: =ROUND(F17*G17,2) -> 0 | I17: 0 | J17: 0 | K17: =SUM(H17:J17) -> 0 | L17: =ROUND(E17*F17,2) -> 0 | M17: =ROUND(E17*H17,2) -> 0 | N17: =ROUND(E17*I17,2) -> 0 | O17: =ROUND(E17*J17,2) -> 0 | P17: =SUM(M17:O17) -> 0
A18: 2 | C18: Montēt fasādes apakškarkasa konstrukciju, ieskaitot visus stiprinājumus un palīgmateriālus. | D18: m2 | E18: 986.27 | F18: 0 | G18: =IF(F18>0,likme,0) -> 0 | H18: =ROUND(F18*G18,2) -> 0 | I18: 0 | J18: 0 | K18: =SUM(H18:J18) -> 0 | L18: =ROUND(E18*F18,2) -> 0 | M18: =ROUND(E18*H18,2) -> 0 | N18: =ROUND(E18*I18,2) -> 0 | O18: =ROUND(E18*J18,2) -> 0 | P18: =SUM(M18:O18) -> 0
A19: 3 | C19: Siltināt sienu ar PAROC Ultra siltumizolācijas plāksnēm vai ekvivalents (λD ≤ 0,035 W/mK, ugunsreakcijas klase A1) 150mm | D19: m2 | E19: 986.27 | F19: 0 | G19: =IF(F19>0,likme,0) -> 0 | H19: =ROUND(F19*G19,2) -> 0 | I19: 0 | J19: 0 | K19: =SUM(H19:J19) -> 0 | L19: =ROUND(E19*F19,2) -> 0 | M19: =ROUND(E19*H19,2) -> 0 | N19: =ROUND(E19*I19,2) -> 0 | O19: =ROUND(E19*J19,2) -> 0 | P19: =SUM(M19:O19) -> 0
A20: 4 | C20: Stiprināt vēja izolāciju PAROC Cortex b ar melnu pārklājumu vai ekvivalents (λD ≤ 0,033 W/mK, ugunsreakcijas klase A2-s1, d0), ieskaitot visus stiprinājumus un palīgmateriālus. | D20: m2 | E20: 986.27 | F20: 0 | G20: =IF(F20>0,likme,0) -> 0 | H20: =ROUND(F20*G20,2) -> 0 | I20: 0 | J20: 0 | K20: =SUM(H20:J20) -> 0 | L20: =ROUND(E20*F20,2) -> 0 | M20: =ROUND(E20*H20,2) -> 0 | N20: =ROUND(E20*I20,2) -> 0 | O20: =ROUND(E20*J20,2) -> 0 | P20: =SUM(M20:O20) -> 0
A21: 5 | C21: Apšūt karkasu ar EQUITONE [linea] un EQUITONE [tectiva] šķiedrcementa masā krāsotiem paneļiem vai ekvivalents 10mm (skatīt fasāžu krāsu pasi) (minimālā ugunsreakcijas klase B-s1,d0), ieskaitot visus stiprinājumus un palīgmateriālus. | D21: m2 | E21: 986.27 | F21: 0 | G21: =IF(F21>0,likme,0) -> 0 | H21: =ROUND(F21*G21,2) -> 0 | I21: 0 | J21: 0 | K21: =SUM(H21:J21) -> 0 | L21: =ROUND(E21*F21,2) -> 0 | M21: =ROUND(E21*H21,2) -> 0 | N21: =ROUND(E21*I21,2) -> 0 | O21: =ROUND(E21*J21,2) -> 0 | P21: =SUM(M21:O21) -> 0
A22: 6 | C22: SA-1.2 | F22: 0 | G22: =IF(F22>0,likme,0) -> 0 | H22: =ROUND(F22*G22,2) -> 0 | I22: 0 | J22: 0 | K22: =SUM(H22:J22) -> 0 | L22: =ROUND(E22*F22,2) -> 0 | M22: =ROUND(E22*H22,2) -> 0 | N22: =ROUND(E22*I22,2) -> 0 | O22: =ROUND(E22*J22,2) -> 0 | P22: =SUM(M22:O22) -> 0
A23: 7 | C23: Stiprināt koka latas 38x63mm, ieskaitot visus stiprinājumus un palīgmateriālus. | D23: m2 | E23: 267.65 | F23: 0 | G23: =IF(F23>0,likme,0) -> 0 | H23: =ROUND(F23*G23,2) -> 0 | I23: 0 | J23: 0 | K23: =SUM(H23:J23) -> 0 | L23: =ROUND(E23*F23,2) -> 0 | M23: =ROUND(E23*H23,2) -> 0 | N23: =ROUND(E23*I23,2) -> 0 | O23: =ROUND(E23*J23,2) -> 0 | P23: =SUM(M23:O23) -> 0
A24: 8 | C24: Apšūt karkasu ar EQUITONE [linea] un EQUITONE [tectiva] šķiedrcementa masā krāsotiem paneļiem vai ekvivalents 10mm (skatīt fasāžu krāsu pasi) (minimālā ugunsreakcijas klase B-s1,d0), ieskaitot visus stiprinājumus un palīgmateriālus. | D24: m2 | E24: 267.65 | F24: 0 | G24: =IF(F24>0,likme,0) -> 0 | H24: =ROUND(F24*G24,2) -> 0 | I24: 0 | J24: 0 | K24: =SUM(H24:J24) -> 0 | L24: =ROUND(E24*F24,2) -> 0 | M24: =ROUND(E24*H24,2) -> 0 | N24: =ROUND(E24*I24,2) -> 0 | O24: =ROUND(E24*J24,2) -> 0 | P24: =SUM(M24:O24) -> 0
A25: 9 | C25: SA-2 | F25: 0 | G25: =IF(F25>0,likme,0) -> 0 | H25: =ROUND(F25*G25,2) -> 0 | I25: 0 | J25: 0 | K25: =SUM(H25:J25) -> 0 | L25: =ROUND(E25*F25,2) -> 0 | M25: =ROUND(E25*H25,2) -> 0 | N25: =ROUND(E25*I25,2) -> 0 | O25: =ROUND(E25*J25,2) -> 0 | P25: =SUM(M25:O25) -> 0
A26: 10 | C26: Montēt fasādes apakškarkasa konstrukciju, ieskaitot visus stiprinājumus un palīgmateriālus. | D26: m2 | E26: 174.38 | F26: 0 | G26: =IF(F26>0,likme,0) -> 0 | H26: =ROUND(F26*G26,2) -> 0 | I26: 0 | J26: 0 | K26: =SUM(H26:J26) -> 0 | L26: =ROUND(E26*F26,2) -> 0 | M26: =ROUND(E26*H26,2) -> 0 | N26: =ROUND(E26*I26,2) -> 0 | O26: =ROUND(E26*J26,2) -> 0 | P26: =SUM(M26:O26) -> 0
A27: 11 | C27: Siltināt sienu ar PAROC Ultra siltumizolācijas plāksnēm vai ekvivalents (λD ≤ 0,035 W/mK, ugunsreakcijas klase A1) 150mm | D27: m2 | E27: 174.38 | F27: 0 | G27: =IF(F27>0,likme,0) -> 0 | H27: =ROUND(F27*G27,2) -> 0 | I27: 0 | J27: 0 | K27: =SUM(H27:J27) -> 0 | L27: =ROUND(E27*F27,2) -> 0 | M27: =ROUND(E27*H27,2) -> 0 | N27: =ROUND(E27*I27,2) -> 0 | O27: =ROUND(E27*J27,2) -> 0 | P27: =SUM(M27:O27) -> 0
A28: 12 | C28: Stiprināt vēja izolāciju PAROC Cortex b ar melnu pārklājumu vai ekvivalents (λD ≤ 0,033 W/mK, ugunsreakcijas klase A2-s1, d0), ieskaitot visus stiprinājumus un palīgmateriālus. | D28: m2 | E28: 174.38 | F28: 0 | G28: =IF(F28>0,likme,0) -> 0 | H28: =ROUND(F28*G28,2) -> 0 | I28: 0 | J28: 0 | K28: =SUM(H28:J28) -> 0 | L28: =ROUND(E28*F28,2) -> 0 | M28: =ROUND(E28*H28,2) -> 0 | N28: =ROUND(E28*I28,2) -> 0 | O28: =ROUND(E28*J28,2) -> 0 | P28: =SUM(M28:O28) -> 0
A29: 13 | C29: Stiprināt stamisol Color vai ekvivalents elpojoša poliestera fasādes membrānu (tonis Granite 08119) | D29: m2 | E29: 174.38 | F29: 0 | G29: =IF(F29>0,likme,0) -> 0 | H29: =ROUND(F29*G29,2) -> 0 | I29: 0 | J29: 0 | K29: =SUM(H29:J29) -> 0 | L29: =ROUND(E29*F29,2) -> 0 | M29: =ROUND(E29*H29,2) -> 0 | N29: =ROUND(E29*I29,2) -> 0 | O29: =ROUND(E29*J29,2) -> 0 | P29: =SUM(M29:O29) -> 0
A30: 14 | C30: Apšūt karkasu ar perforētām alumīnija loksnēm ar gofrētu augstu vertikālo šuvi (skatīt fasāžu krāsu pasi), perforācija Rv 5-8, BEMO fasāžu sistēma vai ekvivalents (minimālā ugunsreakcijas klase B-s1,d0), ieskaitot visus stiprinājumus un palīgmateriālus. 2mm | D30: m2 | E30: 174.38 | F30: 0 | G30: =IF(F30>0,likme,0) -> 0 | H30: =ROUND(F30*G30,2) -> 0 | I30: 0 | J30: 0 | K30: =SUM(H30:J30) -> 0 | L30: =ROUND(E30*F30,2) -> 0 | M30: =ROUND(E30*H30,2) -> 0 | N30: =ROUND(E30*I30,2) -> 0 | O30: =ROUND(E30*J30,2) -> 0 | P30: =SUM(M30:O30) -> 0
A31: 15 | C31: SA-2.1 | F31: 0 | G31: =IF(F31>0,likme,0) -> 0 | H31: =ROUND(F31*G31,2) -> 0 | I31: 0 | J31: 0 | K31: =SUM(H31:J31) -> 0 | L31: =ROUND(E31*F31,2) -> 0 | M31: =ROUND(E31*H31,2) -> 0 | N31: =ROUND(E31*I31,2) -> 0 | O31: =ROUND(E31*J31,2) -> 0 | P31: =SUM(M31:O31) -> 0
A32: 16 | C32: Stiprināt koka latas 38x63mm, ieskaitot visus stiprinājumus un palīgmateriālus. | D32: m2 | E32: 85.53 | F32: 0 | G32: =IF(F32>0,likme,0) -> 0 | H32: =ROUND(F32*G32,2) -> 0 | I32: 0 | J32: 0 | K32: =SUM(H32:J32) -> 0 | L32: =ROUND(E32*F32,2) -> 0 | M32: =ROUND(E32*H32,2) -> 0 | N32: =ROUND(E32*I32,2) -> 0 | O32: =ROUND(E32*J32,2) -> 0 | P32: =SUM(M32:O32) -> 0
A33: 17 | C33: Apšūt karkasu ar perforētām alumīnija loksnēm ar gofrētu augstu vertikālo šuvi (skatīt fasāžu krāsu pasi), perforācija Rv 5-8, BEMO fasāžu sistēma vai ekvivalents (minimālā ugunsreakcijas klase B-s1,d0), ieskaitot visus stiprinājumus un palīgmateriālus. 2mm | D33: m2 | E33: 85.53 | F33: 0 | G33: =IF(F33>0,likme,0) -> 0 | H33: =ROUND(F33*G33,2) -> 0 | I33: 0 | J33: 0 | K33: =SUM(H33:J33) -> 0 | L33: =ROUND(E33*F33,2) -> 0 | M33: =ROUND(E33*H33,2) -> 0 | N33: =ROUND(E33*I33,2) -> 0 | O33: =ROUND(E33*J33,2) -> 0 | P33: =SUM(M33:O33) -> 0
A34: 18 | C34: Sienu siltinājums jumta daļā bez apdares | F34: 0 | G34: =IF(F34>0,likme,0) -> 0 | H34: =ROUND(F34*G34,2) -> 0 | I34: 0 | J34: 0 | K34: =SUM(H34:J34) -> 0 | L34: =ROUND(E34*F34,2) -> 0 | M34: =ROUND(E34*H34,2) -> 0 | N34: =ROUND(E34*I34,2) -> 0 | O34: =ROUND(E34*J34,2) -> 0 | P34: =SUM(M34:O34) -> 0
A35: 19 | C35: Montēt fasādes apakškarkasa konstrukciju, ieskaitot visus stiprinājumus un palīgmateriālus. | D35: m2 | E35: 120 | F35: 0 | G35: =IF(F35>0,likme,0) -> 0 | H35: =ROUND(F35*G35,2) -> 0 | I35: 0 | J35: 0 | K35: =SUM(H35:J35) -> 0 | L35: =ROUND(E35*F35,2) -> 0 | M35: =ROUND(E35*H35,2) -> 0 | N35: =ROUND(E35*I35,2) -> 0 | O35: =ROUND(E35*J35,2) -> 0 | P35: =SUM(M35:O35) -> 0
A36: 20 | C36: Siltināt sienu ar PAROC Ultra siltumizolācijas plāksnēm vai ekvivalents (λD ≤ 0,035 W/mK, ugunsreakcijas klase A1) 150mm | D36: m2 | E36: 120 | F36: 0 | G36: =IF(F36>0,likme,0) -> 0 | H36: =ROUND(F36*G36,2) -> 0 | I36: 0 | J36: 0 | K36: =SUM(H36:J36) -> 0 | L36: =ROUND(E36*F36,2) -> 0 | M36: =ROUND(E36*H36,2) -> 0 | N36: =ROUND(E36*I36,2) -> 0 | O36: =ROUND(E36*J36,2) -> 0 | P36: =SUM(M36:O36) -> 0
A37: 21 | C37: Stiprināt vēja izolāciju PAROC Cortex b ar melnu pārklājumu vai ekvivalents (λD ≤ 0,033 W/mK, ugunsreakcijas klase A2-s1, d0), ieskaitot visus stiprinājumus un palīgmateriālus. | D37: m2 | E37: 120 | F37: 0 | G37: =IF(F37>0,likme,0) -> 0 | H37: =ROUND(F37*G37,2) -> 0 | I37: 0 | J37: 0 | K37: =SUM(H37:J37) -> 0 | L37: =ROUND(E37*F37,2) -> 0 | M37: =ROUND(E37*H37,2) -> 0 | N37: =ROUND(E37*I37,2) -> 0 | O37: =ROUND(E37*J37,2) -> 0 | P37: =SUM(M37:O37) -> 0
A38: 22 | C38: Pārkares mezgls M-20 | F38: 0 | I38: 0 | J38: 0
A39: 23 | C39: Stiprināt koka latas 38x63mm, ieskaitot visus stiprinājumus un palīgmateriālus. | D39: m2 | E39: 128.6 | F39: 0 | G39: =IF(F39>0,likme,0) -> 0 | H39: =ROUND(F39*G39,2) -> 0 | I39: 0 | J39: 0 | K39: =SUM(H39:J39) -> 0 | L39: =ROUND(E39*F39,2) -> 0 | M39: =ROUND(E39*H39,2) -> 0 | N39: =ROUND(E39*I39,2) -> 0 | O39: =ROUND(E39*J39,2) -> 0 | P39: =SUM(M39:O39) -> 0
A40: 24 | C40: Apšūt karkasu ar EQUITONE [linea] un EQUITONE [tectiva] šķiedrcementa masā krāsotiem paneļiem vai ekvivalents 10mm (skatīt fasāžu krāsu pasi) (minimālā ugunsreakcijas klase B-s1,d0), ieskaitot visus stiprinājumus un palīgmateriālus. | D40: m2 | E40: 128.6 | F40: 0 | G40: =IF(F40>0,likme,0) -> 0 | H40: =ROUND(F40*G40,2) -> 0 | I40: 0 | J40: 0 | K40: =SUM(H40:J40) -> 0 | L40: =ROUND(E40*F40,2) -> 0 | M40: =ROUND(E40*H40,2) -> 0 | N40: =ROUND(E40*I40,2) -> 0 | O40: =ROUND(E40*J40,2) -> 0 | P40: =SUM(M40:O40) -> 0
A41: 25 | C41: C-1 | F41: 0 | G41: =IF(F41>0,likme,0) -> 0 | H41: =ROUND(F41*G41,2) -> 0 | I41: 0 | J41: 0 | K41: =SUM(H41:J41) -> 0 | L41: =ROUND(E41*F41,2) -> 0 | M41: =ROUND(E41*H41,2) -> 0 | N41: =ROUND(E41*I41,2) -> 0 | O41: =ROUND(E41*J41,2) -> 0 | P41: =SUM(M41:O41) -> 0
A42: 26 | C42: Ieklāt bitumena mastikas hidroizolāciju no abām pusēm | D42: m2 | E42: 972 | F42: 0 | G42: =IF(F42>0,likme,0) -> 0 | H42: =ROUND(F42*G42,2) -> 0 | I42: 0 | J42: 0 | K42: =SUM(H42:J42) -> 0 | L42: =ROUND(E42*F42,2) -> 0 | M42: =ROUND(E42*H42,2) -> 0 | N42: =ROUND(E42*I42,2) -> 0 | O42: =ROUND(E42*J42,2) -> 0 | P42: =SUM(M42:O42) -> 0
A43: 27 | C43: Siltināt pamatus ar ekstrudētu putupolistirolu Finnfoam FL300 vai ekvivalents uz līmjavas kārtas 100mm biezumā, ieskaitot visus stiprinājumus un palīgmateriālus. | D43: m2 | E43: 486 | F43: 0 | G43: =IF(F43>0,likme,0) -> 0 | H43: =ROUND(F43*G43,2) -> 0 | I43: 0 | J43: 0 | K43: =SUM(H43:J43) -> 0 | L43: =ROUND(E43*F43,2) -> 0 | M43: =ROUND(E43*H43,2) -> 0 | N43: =ROUND(E43*I43,2) -> 0 | O43: =ROUND(E43*J43,2) -> 0 | P43: =SUM(M43:O43) -> 0
A44: 28 | C44: Armēt virsmu ar armēšanas javu pa stiklašķiedras sietu, ieskaitot visus stiprinājumus un palīgmateriālus. | D44: m2 | E44: 61.26 | F44: 0 | G44: =IF(F44>0,likme,0) -> 0 | H44: =ROUND(F44*G44,2) -> 0 | I44: 0 | J44: 0 | K44: =SUM(H44:J44) -> 0 | L44: =ROUND(E44*F44,2) -> 0 | M44: =ROUND(E44*H44,2) -> 0 | N44: =ROUND(E44*I44,2) -> 0 | O44: =ROUND(E44*J44,2) -> 0 | P44: =SUM(M44:O44) -> 0
A45: 29 | C45: Gruntēt un apmest virsmu ar tonētu dekoratīvo apmetumu, ieskaitot visus stiprinājumus un palīgmateriālus. | D45: m2 | E45: 61.26 | F45: 0 | G45: =IF(F45>0,likme,0) -> 0 | H45: =ROUND(F45*G45,2) -> 0 | I45: 0 | J45: 0 | K45: =SUM(H45:J45) -> 0 | L45: =ROUND(E45*F45,2) -> 0 | M45: =ROUND(E45*H45,2) -> 0 | N45: =ROUND(E45*I45,2) -> 0 | O45: =ROUND(E45*J45,2) -> 0 | P45: =SUM(M45:O45) -> 0
A46: 30 | C46: C-2 | F46: 0 | G46: =IF(F46>0,likme,0) -> 0 | H46: =ROUND(F46*G46,2) -> 0 | I46: 0 | J46: 0 | K46: =SUM(H46:J46) -> 0 | L46: =ROUND(E46*F46,2) -> 0 | M46: =ROUND(E46*H46,2) -> 0 | N46: =ROUND(E46*I46,2) -> 0 | O46: =ROUND(E46*J46,2) -> 0 | P46: =SUM(M46:O46) -> 0
A47: 31 | C47: Ieklāt bitumena mastikas hidroizolāciju | D47: m2 | E47: 73.95 | F47: 0 | G47: =IF(F47>0,likme,0) -> 0 | H47: =ROUND(F47*G47,2) -> 0 | I47: 0 | J47: 0 | K47: =SUM(H47:J47) -> 0 | L47: =ROUND(E47*F47,2) -> 0 | M47: =ROUND(E47*H47,2) -> 0 | N47: =ROUND(E47*I47,2) -> 0 | O47: =ROUND(E47*J47,2) -> 0 | P47: =SUM(M47:O47) -> 0
A48: 32 | C48: Siltināt pamatus ar ekstrudētu putupolistirolu Finnfoam FL300 vai ekvivalents uz līmjavas kārtas 100mm biezumā, ieskaitot visus stiprinājumus un palīgmateriālus. | D48: m2 | E48: 73.95 | F48: 0 | G48: =IF(F48>0,likme,0) -> 0 | H48: =ROUND(F48*G48,2) -> 0 | I48: 0 | J48: 0 | K48: =SUM(H48:J48) -> 0 | L48: =ROUND(E48*F48,2) -> 0 | M48: =ROUND(E48*H48,2) -> 0 | N48: =ROUND(E48*I48,2) -> 0 | O48: =ROUND(E48*J48,2) -> 0 | P48: =SUM(M48:O48) -> 0
A49: 33 | C49: Ieklāt ģeomembrānu ar ģeotekstilu PM DRAIN-TEC 250 vai ekvivalents | D49: m2 | E49: 73.95 | F49: 0 | G49: =IF(F49>0,likme,0) -> 0 | H49: =ROUND(F49*G49,2) -> 0 | I49: 0 | J49: 0 | K49: =SUM(H49:J49) -> 0 | L49: =ROUND(E49*F49,2) -> 0 | M49: =ROUND(E49*H49,2) -> 0 | N49: =ROUND(E49*I49,2) -> 0 | O49: =ROUND(E49*J49,2) -> 0 | P49: =SUM(M49:O49) -> 0
A50: 34 | C50: Ārsienu ailes | F50: 0 | G50: =IF(F50>0,likme,0) -> 0 | H50: =ROUND(F50*G50,2) -> 0 | I50: 0 | J50: 0 | K50: =SUM(H50:J50) -> 0 | L50: =ROUND(E50*F50,2) -> 0 | M50: =ROUND(E50*H50,2) -> 0 | N50: =ROUND(E50*I50,2) -> 0 | O50: =ROUND(E50*J50,2) -> 0 | P50: =SUM(M50:O50) -> 0
A51: 35 | C51: Montēt ailēs Aluclad Systems vai ekvivalents kompozītalumīnija dekoratīvus profilus, ieskaitot visus stiprinājumus un palīgmateriālus. | D51: m | E51: 451.81 | F51: 0 | G51: =IF(F51>0,likme,0) -> 0 | H51: =ROUND(F51*G51,2) -> 0 | I51: 0 | J51: 0 | K51: =SUM(H51:J51) -> 0 | L51: =ROUND(E51*F51,2) -> 0 | M51: =ROUND(E51*H51,2) -> 0 | N51: =ROUND(E51*I51,2) -> 0 | O51: =ROUND(E51*J51,2) -> 0 | P51: =SUM(M51:O51) -> 0
A52: 36 | C52: Velonovietnes dekoratīvā siena | F52: 0 | G52: =IF(F52>0,likme,0) -> 0 | H52: =ROUND(F52*G52,2) -> 0 | I52: 0 | J52: 0 | K52: =SUM(H52:J52) -> 0 | L52: =ROUND(E52*F52,2) -> 0 | M52: =ROUND(E52*H52,2) -> 0 | N52: =ROUND(E52*I52,2) -> 0 | O52: =ROUND(E52*J52,2) -> 0 | P52: =SUM(M52:O52) -> 0
A53: 37 | C53: Montēt vertikālas dekoratīvas detaļas, ieskaitot visus stiprinājumus un palīgmateriālus. | D53: m2 | E53: 43.46 | F53: 0 | G53: =IF(F53>0,likme,0) -> 0 | H53: =ROUND(F53*G53,2) -> 0 | I53: 0 | J53: 0 | K53: =SUM(H53:J53) -> 0 | L53: =ROUND(E53*F53,2) -> 0 | M53: =ROUND(E53*H53,2) -> 0 | N53: =ROUND(E53*I53,2) -> 0 | O53: =ROUND(E53*J53,2) -> 0 | P53: =SUM(M53:O53) -> 0
A54: 38 | C54: Pandusa dekoratīvā siena | F54: 0 | G54: =IF(F54>0,likme,0) -> 0 | H54: =ROUND(F54*G54,2) -> 0 | I54: 0 | J54: 0 | K54: =SUM(H54:J54) -> 0 | L54: =ROUND(E54*F54,2) -> 0 | M54: =ROUND(E54*H54,2) -> 0 | N54: =ROUND(E54*I54,2) -> 0 | O54: =ROUND(E54*J54,2) -> 0 | P54: =SUM(M54:O54) -> 0
A55: 39 | C55: Montēt vertikālas dekoratīvas detaļas, ieskaitot visus stiprinājumus un palīgmateriālus. | F55: 0 | G55: =IF(F55>0,likme,0) -> 0 | H55: =ROUND(F55*G55,2) -> 0 | I55: 0 | J55: 0 | K55: =SUM(H55:J55) -> 0 | L55: =ROUND(E55*F55,2) -> 0 | M55: =ROUND(E55*H55,2) -> 0 | N55: =ROUND(E55*I55,2) -> 0 | O55: =ROUND(E55*J55,2) -> 0 | P55: =SUM(M55:O55) -> 0
A56: 39.1 | C56: Krāsots alumīnija profils 50x150x3400mm (garumu var uz vietas nogriezt) ar slēptiem stiprinājumiem augšā un apakšā. *Detalizācija tiks izstrādātā būvniecības procesā konsultējoties ar būvnieku. | D56: gb | E56: 9 | F56: 0 | G56: =IF(F56>0,likme,0) -> 0 | H56: =ROUND(F56*G56,2) -> 0 | I56: 0 | J56: 0 | K56: =SUM(H56:J56) -> 0 | L56: =ROUND(E56*F56,2) -> 0 | M56: =ROUND(E56*H56,2) -> 0 | N56: =ROUND(E56*I56,2) -> 0 | O56: =ROUND(E56*J56,2) -> 0 | P56: =SUM(M56:O56) -> 0
A57: 39.2 | C57: Krāsots alumīnija profils 50x150x2700mm (garumu var uz vietas nogriezt) ar slēptiem stiprinājumiem augšā un apakšā. *Detalizācija tiks izstrādātā būvniecības procesā konsultējoties ar būvnieku. | D57: gb | E57: 32 | F57: 0 | G57: =IF(F57>0,likme,0) -> 0 | H57: =ROUND(F57*G57,2) -> 0 | I57: 0 | J57: 0 | K57: =SUM(H57:J57) -> 0 | L57: =ROUND(E57*F57,2) -> 0 | M57: =ROUND(E57*H57,2) -> 0 | N57: =ROUND(E57*I57,2) -> 0 | O57: =ROUND(E57*J57,2) -> 0 | P57: =SUM(M57:O57) -> 0
A58: 39.3 | C58: Krāsots alumīnija profils 50x150x3000mm (garumu var uz vietas nogriezt) ar slēptiem stiprinājumiem augšā un apakšā. *Detalizācija tiks izstrādātā būvniecības procesā konsultējoties ar būvnieku. | D58: gb | E58: 5 | F58: 0 | G58: =IF(F58>0,likme,0) -> 0 | H58: =ROUND(F58*G58,2) -> 0 | I58: 0 | J58: 0 | K58: =SUM(H58:J58) -> 0 | L58: =ROUND(E58*F58,2) -> 0 | M58: =ROUND(E58*H58,2) -> 0 | N58: =ROUND(E58*I58,2) -> 0 | O58: =ROUND(E58*J58,2) -> 0 | P58: =SUM(M58:O58) -> 0
A59: 40 | C59: M-04 Ieejas sliekšņa mezgls | F59: 0 | G59: =IF(F59>0,likme,0) -> 0 | H59: =ROUND(F59*G59,2) -> 0 | I59: 0 | J59: 0 | K59: =SUM(H59:J59) -> 0 | L59: =ROUND(E59*F59,2) -> 0 | M59: =ROUND(E59*H59,2) -> 0 | N59: =ROUND(E59*I59,2) -> 0 | O59: =ROUND(E59*J59,2) -> 0 | P59: =SUM(M59:O59) -> 0
A60: 41 | C60: Montēt metāla leņķprofilu L100x100x10 mm ar balsta plāksni, ieskaitot visus stiprinājumus un palīgmateriālus. | D60: m | E60: 8.9 | F60: 0 | G60: =IF(F60>0,likme,0) -> 0 | H60: =ROUND(F60*G60,2) -> 0 | I60: 0 | J60: 0 | K60: =SUM(H60:J60) -> 0 | L60: =ROUND(E60*F60,2) -> 0 | M60: =ROUND(E60*H60,2) -> 0 | N60: =ROUND(E60*I60,2) -> 0 | O60: =ROUND(E60*J60,2) -> 0 | P60: =SUM(M60:O60) -> 0
