Workbook
Name datums: [1]KA!$K$45
Name likme: KT!$E$22
Name parb: [1]KA!$K$43
Name procenti: #REF!
Name sast: [1]KA!$K$42
Name sertif: [1]KA!$K$44

Sheet KT
C2: APSTIPRINU_________________________________
C3: (pasūtītāja paraksts un tā atšifrējums)
C4: Z.V.
C5: ___.gada ___.______________
A7: Būvniecības koptāme
A9: Objekta nosaukums: | B9: Garkalnes Mākslas un vispārizglītojošās pamatskolas piebūve
A10: Būves nosaukums: | B10: Garkalnes Mākslas un vispārizglītojošā pamatskola
A11: Objekta adrese: | B11: Ropažu novads, Garkalne, Vidzemes šoseja 34, LV-2137
A12: Pasūtījuma nr.:
A14: Nr.p.k. | B14: Objekta nosaukums | C14: Objekta izmaksas (euro)
A15: 1 | B15: =B9 -> Garkalnes Mākslas un vispārizglītojošās pamatskolas piebūve | C15: =KA!E51 -> 0
B18: Kopā | C18: =SUM(C15:C17) -> 0
D19: Virsizdevumi | E19: 0.1
A20: PVN (21%) | C20: =ROUND(C18*21%,2) -> 0 | D20: DA | E20: 0.05
D21: Peļņa | E21: 0.07
D22: Likme | E22: 15

Sheet KA
A2: Kopsavilkuma aprēķins nr.1
A3: =C6 -> Garkalnes Mākslas un vispārizglītojošās pamatskolas piebūve
A4: (būvdarbu veids vai konstruktīvā elementa nosaukums)
A6: Objekta nosaukums: | C6: =KT!B9 -> Garkalnes Mākslas un vispārizglītojošās pamatskolas piebūve
A7: Būves nosaukums: | C7: =KT!B10 -> Garkalnes Mākslas un vispārizglītojošā pamatskola
A8: Objekta adrese: | C8: =KT!B11 -> Ropažu novads, Garkalne, Vidzemes šoseja 34, LV-2137
A9: Pasūtījuma nr.: | C9: =KT!B12 -> 0
C10: Par kopējo summu (euro) | E10: =E51 -> 0
C11: Kopējā darbietilpība (c/h) | E11: =SUM(I14:I49) -> 0
A12: Nr.p.k. | B12: kods, tāmes nr. | C12: Būvdarbu veids vai konstruktīvā elementa nosaukums | E12: Tāmes izmaksas | F12: Tai skaitā | I12: Darbietilpība (c/h)
F13: Darba alga | G13: Būvizstrādājumi | H13: Mehānismi
A14: 1 | C14: 1. Vispārējie būvdarbi | E14: =SUM(F14:H14) -> 0 | I14: =ROUND(F14/likme,2) -> 0
A15: 2 | B15: 1.1 | C15: Zemes darbi | E15: =SUM(F15:H15) -> 0 | F15: ='1,1'!M21 -> 0 | G15: ='1,1'!N21 -> 0 | H15: ='1,1'!O21 -> 0 | I15: =ROUND(F15/likme,2) -> 0
A16: 3 | B16: 1.2 | C16: Pamati un pamatnes | E16: =SUM(F16:H16) -> 0 | F16: ='1,2'!M35 -> 0 | G16: ='1,2'!N35 -> 0 | H16: ='1,2'!O35 -> 0 | I16: =ROUND(F16/likme,2) -> 0
A17: 4 | B17: 1.3 | C17: Sienas, ēku un būvju karkasu konstrukcijas | E17: =SUM(F17:H17) -> 0 | F17: ='1,3'!M158 -> 0 | G17: ='1,3'!N158 -> 0 | H17: ='1,3'!O158 -> 0 | I17: =ROUND(F17/likme,2) -> 0
A18: 5 | B18: 1.4 | C18: Starpsienas | E18: =SUM(F18:H18) -> 0 | F18: ='1,4'!M55 -> 0 | G18: ='1,4'!N55 -> 0 | H18: ='1,4'!O55 -> 0 | I18: =ROUND(F18/likme,2) -> 0
A19: 6 | B19: 1.5 | C19: Grīdu pamatnes, segumi | E19: =SUM(F19:H19) -> 0 | F19: ='1,5'!M58 -> 0 | G19: ='1,5'!N58 -> 0 | H19: ='1,5'!O58 -> 0 | I19: =ROUND(F19/likme,2) -> 0
A20: 7 | B20: 1.6 | C20: Jumti, segumi | E20: =SUM(F20:H20) -> 0 | F20: ='1,6'!M97 -> 0 | G20: ='1,6'!N97 -> 0 | H20: ='1,6'!O97 -> 0 | I20: =ROUND(F20/likme,2) -> 0
A21: 8 | B21: 1.7 | C21: Aiļu aizpildījumu elementi, speciālo konstrukciju fasādes | E21: =SUM(F21:H21) -> 0 | F21: ='1,7'!M116 -> 0 | G21: ='1,7'!N116 -> 0 | H21: ='1,7'!O116 -> 0 | I21: =ROUND(F21/likme,2) -> 0
A22: 9 | B22: 1.8 | C22: Iekšējie apdares darbi | E22: =SUM(F22:H22) -> 0 | F22: ='1,8'!M113 -> 0 | G22: ='1,8'!N113 -> 0 | H22: ='1,8'!O113 -> 0 | I22: =ROUND(F22/likme,2) -> 0
A23: 10 | B23: 1.9 | C23: Ārējie apdares darbi | E23: =SUM(F23:H23) -> 0 | F23: ='1,9'!M84 -> 0 | G23: ='1,9'!N84 -> 0 | H23: ='1,9'!O84 -> 0 | I23: =ROUND(F23/likme,2) -> 0
A24: 11 | B24: 1.1 | C24: Žogi, nožogojumi, vārti un vārtiņi | E24: =SUM(F24:H24) -> 0 | F24: ='1,10'!M29 -> 0 | G24: ='1,10'!N29 -> 0 | H24: ='1,10'!O29 -> 0 | I24: =ROUND(F24/likme,2) -> 0
A25: 12 | B25: 1.11 | C25: Ceļi un laukumi | E25: =SUM(F25:H25) -> 0 | F25: ='1,11'!M93 -> 0 | G25: ='1,11'!N93 -> 0 | H25: ='1,11'!O93 -> 0 | I25: =ROUND(F25/likme,2) -> 0
A26: 13 | B26: 1.12 | C26: Apzaļumošanas darbi | E26: =SUM(F26:H26) -> 0 | F26: ='1,12'!M40 -> 0 | G26: ='1,12'!N40 -> 0 | H26: ='1,12'!O40 -> 0 | I26: =ROUND(F26/likme,2) -> 0
A27: 14 | B27: 1.13 | C27: Dažādi darbi - labiekārtojuma elementi | E27: =SUM(F27:H27) -> 0 | F27: ='1,13'!M55 -> 0 | G27: ='1,13'!N55 -> 0 | H27: ='1,13'!O55 -> 0 | I27: =ROUND(F27/likme,2) -> 0
A28: 15 | B28: 1.14 | C28: Dažādi darbi - ēdnīcas aprīkojums | E28: =SUM(F28:H28) -> 0 | F28: ='1,14'!M33 -> 0 | G28: ='1,14'!N33 -> 0 | H28: ='1,14'!O33 -> 0 | I28: =ROUND(F28/likme,2) -> 0
A29: 16 | C29: 2. Specializētie darbi – iekšējie tīkli, sistēmas | E29: =SUM(F29:H29) -> 0 | I29: =ROUND(F29/likme,2) -> 0
A30: 17 | B30: 2.1 | C30: Iekšējie elektrotīkli, apgaismojums, spēka pievadi | E30: =SUM(F30:H30) -> 0 | F30: ='2,1'!M226 -> 0 | G30: ='2,1'!N226 -> 0 | H30: ='2,1'!O226 -> 0 | I30: =ROUND(F30/likme,2) -> 0
A31: 18 | B31: 2.2 | C31: Iekšējās apkures sistēmas | E31: =SUM(F31:H31) -> 0 | F31: ='2,2'!M141 -> 0 | G31: ='2,2'!N141 -> 0 | H31: ='2,2'!O141 -> 0 | I31: =ROUND(F31/likme,2) -> 0
A32: 19 | B32: 2.3 | C32: Vēdināšana, gaisa kondicionēšana | E32: =SUM(F32:H32) -> 0 | F32: ='2,3'!M309 -> 0 | G32: ='2,3'!N309 -> 0 | H32: ='2,3'!O309 -> 0 | I32: =ROUND(F32/likme,2) -> 0
A33: 20 | B33: 2.4 | C33: Iekšējie ūdensvada tīkli, aprīkojums | E33: =SUM(F33:H33) -> 0 | F33: ='2,4'!M99 -> 0 | G33: ='2,4'!N99 -> 0 | H33: ='2,4'!O99 -> 0 | I33: =ROUND(F33/likme,2) -> 0
A34: 21 | B34: 2.5 | C34: Iekšējie kanalizācijas tīkli, aprīkojums | E34: =SUM(F34:H34) -> 0 | F34: ='2,5'!M62 -> 0 | G34: ='2,5'!N62 -> 0 | H34: ='2,5'!O62 -> 0 | I34: =ROUND(F34/likme,2) -> 0
A35: 22 | B35: 2.6 | C35: Vājstrāvas tīkli - UATS | E35: =SUM(F35:H35) -> 0 | F35: ='2,6'!M42 -> 0 | G35: ='2,6'!N42 -> 0 | H35: ='2,6'!O42 -> 0 | I35: =ROUND(F35/likme,2) -> 0
A36: 23 | B36: 2.7 | C36: Vājstrāvas tīkli - AS | E36: =SUM(F36:H36) -> 0 | F36: ='2,7'!M38 -> 0 | G36: ='2,7'!N38 -> 0 | H36: ='2,7'!O38 -> 0 | I36: =ROUND(F36/likme,2) -> 0
A37: 24 | B37: 2.8 | C37: Vājstrāvas tīkli - CI | E37: =SUM(F37:H37) -> 0 | F37: ='2,8'!M44 -> 0 | G37: ='2,8'!N44 -> 0 | H37: ='2,8'!O44 -> 0 | I37: =ROUND(F37/likme,2) -> 0
A38: 25 | B38: 2.9 | C38: Vājstrāvas tīkli - DA | E38: =SUM(F38:H38) -> 0 | F38: ='2,9'!M30 -> 0 | G38: ='2,9'!N30 -> 0 | H38: ='2,9'!O30 -> 0 | I38: =ROUND(F38/likme,2) -> 0
A39: 26 | B39: 2.1 | C39: Vājstrāvas tīkli - TK | E39: =SUM(F39:H39) -> 0 | F39: ='2,10'!M52 -> 0 | G39: ='2,10'!N52 -> 0 | H39: ='2,10'!O52 -> 0 | I39: =ROUND(F39/likme,2) -> 0
A40: 27 | B40: 2.11 | C40: Vājstrāvas tīkli - VAS | E40: =SUM(F40:H40) -> 0 | F40: ='2,11'!M46 -> 0 | G40: ='2,11'!N46 -> 0 | H40: ='2,11'!O46 -> 0 | I40: =ROUND(F40/likme,2) -> 0
A41: 28 | B41: 2.12 | C41: Vājstrāvas tīkli - VN | E41: =SUM(F41:H41) -> 0 | F41: ='2,12'!M43 -> 0 | G41: ='2,12'!N43 -> 0 | H41: ='2,12'!O43 -> 0 | I41: =ROUND(F41/likme,2) -> 0
A42: 29 | B42: 2.13 | C42: Lifti, liftu šahtas | E42: =SUM(F42:H42) -> 0 | F42: ='2,13'!M19 -> 0 | G42: ='2,13'!N19 -> 0 | H42: ='2,13'!O19 -> 0 | I42: =ROUND(F42/likme,2) -> 0
...

Sheet 1,1
A2: Lokālā tāme Nr.1,1
A3: =KA!C15 -> Zemes darbi
A4: (būvdarbu veids vai konstruktīvā elementa nosaukums)
A6: Objekta nosaukums: | C6: =KT!B9 -> Garkalnes Mākslas un vispārizglītojošās pamatskolas piebūve
A7: Būves nosaukums: | C7: =KT!B10 -> Garkalnes Mākslas un vispārizglītojošā pamatskola
A8: Objekta adrese: | C8: =KT!B11 -> Ropažu novads, Garkalne, Vidzemes šoseja 34, LV-2137
A9: Pasūtījuma nr.: | C9: =KT!B12 -> 0
A11: Tāme sastādīta 2026. gada tirgus cenās, pamatojoties uz būvprojekta rasējumiem | M11: Tāmes izmaksas: | O11: =P21 -> 0 | P11: EUR
N12: Tāme sastādītā | O12: =KT!C27 -> 0
A14: Nr.p.k. | B14: Kods | C14: Būvdarbu nosaukums | D14: Mērvienība | E14: Daudzums | F14: Vienības izmaksas | L14: Kopā uz visu apjomu
F15: Laika norma (c/h) | G15: Darba samaksas likme (euro/h) | H15: Darba alga | I15: Būvizstrādājumi | J15: Mehānismi | K15: KOPĀ | L15: Darbietilpība (c/h) | M15: Darba alga | N15: Būvizstrādājumi | O15: Mehānismi | P15: Summa
A17: 1 | C17: Rakt būvbedri līdz projektā paredzētajam dziļumam | D17: m3 | E17: 9359.53 | F17: 0 | G17: =IF(F17>0,likme,0) -> 0 | H17: =ROUND(F17*G17,2) -> 0 | I17: 0 | J17: 0 | K17: =SUM(H17:J17) -> 0 | L17: =ROUND(E17*F17,2) -> 0 | M17: =ROUND(E17*H17,2) -> 0 | N17: =ROUND(E17*I17,2) -> 0 | O17: =ROUND(E17*J17,2) -> 0 | P17: =SUM(M17:O17) -> 0
A18: 2 | C18: Izvest lieko grunti uz būvuzņēmēja atbērtni un utilizēt | D18: m3 | E18: 9359.53 | F18: 0 | G18: =IF(F18>0,likme,0) -> 0 | H18: =ROUND(F18*G18,2) -> 0 | I18: 0 | J18: 0 | K18: =SUM(H18:J18) -> 0 | L18: =ROUND(E18*F18,2) -> 0 | M18: =ROUND(E18*H18,2) -> 0 | N18: =ROUND(E18*I18,2) -> 0 | O18: =ROUND(E18*J18,2) -> 0 | P18: =SUM(M18:O18) -> 0
A19: 3 | C19: Visus grunts atbēršanas darbus jāveic izmantojot kvalitatīvas un standartiem atbilstošas sablietētas smiltis, klājot slāni uz slāņa, kur maksimālais slāņa biezums ir līdz 0.2 m. | D19: m3 | E19: 8889.73 | F19: 0 | G19: =IF(F19>0,likme,0) -> 0 | H19: =ROUND(F19*G19,2) -> 0 | I19: 0 | J19: 0 | K19: =SUM(H19:J19) -> 0 | L19: =ROUND(E19*F19,2) -> 0 | M19: =ROUND(E19*H19,2) -> 0 | N19: =ROUND(E19*I19,2) -> 0 | O19: =ROUND(E19*J19,2) -> 0 | P19: =SUM(M19:O19) -> 0
A21: Tiešās izmaksas kopā, t.sk. Darba dēvēja sociālais nodoklis (23,59%) | L21: =SUM(L17:L20) -> 0 | M21: =SUM(M17:M20) -> 0 | N21: =SUM(N17:N20) -> 0 | O21: =SUM(O17:O20) -> 0 | P21: =SUM(P17:P20) -> 0
A23: =KT!A23 -> 0 | D23: =KT!C27 -> 0
A24: (paraksts un tā atšifrējums, datums)
A25: =KT!A25 -> 0
A27: =KT!A27 -> 0 | D27: =KT!C27 -> 0
A28: (paraksts un tā atšifrējums, datums)
A29: =KT!A29 -> 0

Sheet 1,2
A2: Lokālā tāme Nr.1,2
A3: =KA!C16 -> Pamati un pamatnes
A4: (būvdarbu veids vai konstruktīvā elementa nosaukums)
A6: Objekta nosaukums: | C6: =KT!B9 -> Garkalnes Mākslas un vispārizglītojošās pamatskolas piebūve
A7: Būves nosaukums: | C7: =KT!B10 -> Garkalnes Mākslas un vispārizglītojošā pamatskola
A8: Objekta adrese: | C8: =KT!B11 -> Ropažu novads, Garkalne, Vidzemes šoseja 34, LV-2137
A9: Pasūtījuma nr.: | C9: =KT!B12 -> 0
A11: Tāme sastādīta 2026. gada tirgus cenās, pamatojoties uz būvprojekta rasējumiem | M11: Tāmes izmaksas: | O11: =P35 -> 0 | P11: EUR
N12: Tāme sastādītā | O12: =KT!C27 -> 0
A14: Nr.p.k. | B14: Kods | C14: Būvdarbu nosaukums | D14: Mērvienība | E14: Daudzums | F14: Vienības izmaksas | L14: Kopā uz visu apjomu
F15: Laika norma (c/h) | G15: Darba samaksas likme (euro/h) | H15: Darba alga | I15: Būvizstrādājumi | J15: Mehānismi | K15: KOPĀ | L15: Darbietilpība (c/h) | M15: Darba alga | N15: Būvizstrādājumi | O15: Mehānismi | P15: Summa
A17: 1 | C17: Pamatnes | F17: 0 | G17: =IF(F17>0,likme,0) -> 0 | H17: =ROUND(F17*G17,2) -> 0 | I17: 0 | J17: 0 | K17: =SUM(H17:J17) -> 0 | L17: =ROUND(E17*F17,2) -> 0 | M17: =ROUND(E17*H17,2) -> 0 | N17: =ROUND(E17*I17,2) -> 0 | O17: =ROUND(E17*J17,2) -> 0 | P17: =SUM(M17:O17) -> 0
A18: 2 | C18: Ierīkot blietētu šķembu 20-45 kārtu zem pamatiem 100mm biezumā. | D18: m3 | E18: 56.65 | F18: 0 | G18: =IF(F18>0,likme,0) -> 0 | H18: =ROUND(F18*G18,2) -> 0 | I18: 0 | J18: 0 | K18: =SUM(H18:J18) -> 0 | L18: =ROUND(E18*F18,2) -> 0 | M18: =ROUND(E18*H18,2) -> 0 | N18: =ROUND(E18*I18,2) -> 0 | O18: =ROUND(E18*J18,2) -> 0 | P18: =SUM(M18:O18) -> 0
A19: 3 | C19: Pamati | F19: 0 | G19: =IF(F19>0,likme,0) -> 0 | H19: =ROUND(F19*G19,2) -> 0 | I19: 0 | J19: 0 | K19: =SUM(H19:J19) -> 0 | L19: =ROUND(E19*F19,2) -> 0 | M19: =ROUND(E19*H19,2) -> 0 | N19: =ROUND(E19*I19,2) -> 0 | O19: =ROUND(E19*J19,2) -> 0 | P19: =SUM(M19:O19) -> 0
A20: 4 | C20: Betonēt veidņos lentveida pamata pēdu (-5,625m) ar C30/37 XC2 klases betonu, betonu padodot ar sūkni iestrādes vietā, ieskaitot visus palīgmateriālus un stiprinājumus. | D20: m3 | E20: 111.58 | F20: 0 | G20: =IF(F20>0,likme,0) -> 0 | H20: =ROUND(F20*G20,2) -> 0 | I20: 0 | J20: 0 | K20: =SUM(H20:J20) -> 0 | L20: =ROUND(E20*F20,2) -> 0 | M20: =ROUND(E20*H20,2) -> 0 | N20: =ROUND(E20*I20,2) -> 0 | O20: =ROUND(E20*J20,2) -> 0 | P20: =SUM(M20:O20) -> 0
A21: 5 | C21: Betonēt veidņos stabveida pamatu pēdu (-5,625m) ar C30/37 XC2 klases betonu, betonu padodot ar sūkni iestrādes vietā, ieskaitot visus palīgmateriālus un stiprinājumus. | D21: m3 | E21: 12.33 | F21: 0 | G21: =IF(F21>0,likme,0) -> 0 | H21: =ROUND(F21*G21,2) -> 0 | I21: 0 | J21: 0 | K21: =SUM(H21:J21) -> 0 | L21: =ROUND(E21*F21,2) -> 0 | M21: =ROUND(E21*H21,2) -> 0 | N21: =ROUND(E21*I21,2) -> 0 | O21: =ROUND(E21*J21,2) -> 0 | P21: =SUM(M21:O21) -> 0
A22: 6 | C22: Stiegrot pamatus (-5,625m) ar B500B klases tērauda stiegrām, ieskaitot visus palīgmateriālus un stiprinājumus. | D22: kg | E22: 12233.1 | F22: 0 | G22: =IF(F22>0,likme,0) -> 0 | H22: =ROUND(F22*G22,2) -> 0 | I22: 0 | J22: 0 | K22: =SUM(H22:J22) -> 0 | L22: =ROUND(E22*F22,2) -> 0 | M22: =ROUND(E22*H22,2) -> 0 | N22: =ROUND(E22*I22,2) -> 0 | O22: =ROUND(E22*J22,2) -> 0 | P22: =SUM(M22:O22) -> 0
A23: 7 | C23: Betonēt veidņos lentveida pamata pēdu (-4,150m) ar C30/37 XC2 klases betonu, betonu padodot ar sūkni iestrādes vietā, ieskaitot visus palīgmateriālus un stiprinājumus. | D23: m3 | E23: 21.36 | F23: 0 | G23: =IF(F23>0,likme,0) -> 0 | H23: =ROUND(F23*G23,2) -> 0 | I23: 0 | J23: 0 | K23: =SUM(H23:J23) -> 0 | L23: =ROUND(E23*F23,2) -> 0 | M23: =ROUND(E23*H23,2) -> 0 | N23: =ROUND(E23*I23,2) -> 0 | O23: =ROUND(E23*J23,2) -> 0 | P23: =SUM(M23:O23) -> 0
A24: 8 | C24: Stiegrot pamatus (-4,150m) ar B500B klases tērauda stiegrām, ieskaitot visus palīgmateriālus un stiprinājumus. | D24: kg | E24: 2279.2 | F24: 0 | G24: =IF(F24>0,likme,0) -> 0 | H24: =ROUND(F24*G24,2) -> 0 | I24: 0 | J24: 0 | K24: =SUM(H24:J24) -> 0 | L24: =ROUND(E24*F24,2) -> 0 | M24: =ROUND(E24*H24,2) -> 0 | N24: =ROUND(E24*I24,2) -> 0 | O24: =ROUND(E24*J24,2) -> 0 | P24: =SUM(M24:O24) -> 0
A25: 9 | C25: Betonēt veidņos atbalstsienu ar C30/37 XC2 klases betonu, betonu padodot ar sūkni iestrādes vietā, ieskaitot visus palīgmateriālus un stiprinājumus. | D25: m3 | E25: 24.16 | F25: 0 | G25: =IF(F25>0,likme,0) -> 0 | H25: =ROUND(F25*G25,2) -> 0 | I25: 0 | J25: 0 | K25: =SUM(H25:J25) -> 0 | L25: =ROUND(E25*F25,2) -> 0 | M25: =ROUND(E25*H25,2) -> 0 | N25: =ROUND(E25*I25,2) -> 0 | O25: =ROUND(E25*J25,2) -> 0 | P25: =SUM(M25:O25) -> 0
A26: 10 | C26: Betonēt veidņos lentveida pamata sienu ar C30/37 XC2 klases betonu, betonu padodot ar sūkni iestrādes vietā, ieskaitot visus palīgmateriālus un stiprinājumus. | D26: m3 | E26: 251.27 | F26: 0 | G26: =IF(F26>0,likme,0) -> 0 | H26: =ROUND(F26*G26,2) -> 0 | I26: 0 | J26: 0 | K26: =SUM(H26:J26) -> 0 | L26: =ROUND(E26*F26,2) -> 0 | M26: =ROUND(E26*H26,2) -> 0 | N26: =ROUND(E26*I26,2) -> 0 | O26: =ROUND(E26*J26,2) -> 0 | P26: =SUM(M26:O26) -> 0
A27: 11 | C27: Betonēt veidņos stabveida pamata vertikālo daļu ar C30/37 XC2 klases betonu, betonu padodot ar sūkni iestrādes vietā, ieskaitot visus palīgmateriālus un stiprinājumus. | D27: m3 | E27: 3.92 | F27: 0 | G27: =IF(F27>0,likme,0) -> 0 | H27: =ROUND(F27*G27,2) -> 0 | I27: 0 | J27: 0 | K27: =SUM(H27:J27) -> 0 | L27: =ROUND(E27*F27,2) -> 0 | M27: =ROUND(E27*H27,2) -> 0 | N27: =ROUND(E27*I27,2) -> 0 | O27: =ROUND(E27*J27,2) -> 0 | P27: =SUM(M27:O27) -> 0
A28: 12 | C28: Stiegrot pamatu vertikālās daļas ar B500B klases tērauda stiegrām, ieskaitot visus palīgmateriālus un stiprinājumus. | D28: kg | E28: 27077.6 | F28: 0 | G28: =IF(F28>0,likme,0) -> 0 | H28: =ROUND(F28*G28,2) -> 0 | I28: 0 | J28: 0 | K28: =SUM(H28:J28) -> 0 | L28: =ROUND(E28*F28,2) -> 0 | M28: =ROUND(E28*H28,2) -> 0 | N28: =ROUND(E28*I28,2) -> 0 | O28: =ROUND(E28*J28,2) -> 0 | P28: =SUM(M28:O28) -> 0
A29: 13 | C29: Ieliekamās detaļas | F29: 0 | G29: =IF(F29>0,likme,0) -> 0 | H29: =ROUND(F29*G29,2) -> 0 | I29: 0 | J29: 0 | K29: =SUM(H29:J29) -> 0 | L29: =ROUND(E29*F29,2) -> 0 | M29: =ROUND(E29*H29,2) -> 0 | N29: =ROUND(E29*I29,2) -> 0 | O29: =ROUND(E29*J29,2) -> 0 | P29: =SUM(M29:O29) -> 0
A30: 14 | C30: Montēt ieliekamo detaļu HPM20P vai ekvivalents | D30: gb | E30: 64 | F30: 0 | G30: =IF(F30>0,likme,0) -> 0 | H30: =ROUND(F30*G30,2) -> 0 | I30: 0 | J30: 0 | K30: =SUM(H30:J30) -> 0 | L30: =ROUND(E30*F30,2) -> 0 | M30: =ROUND(E30*H30,2) -> 0 | N30: =ROUND(E30*I30,2) -> 0 | O30: =ROUND(E30*J30,2) -> 0 | P30: =SUM(M30:O30) -> 0
A31: 15 | C31: Urbt pamatos caurumus stiegru izvadiem | D31: gb | E31: 203 | F31: 0 | G31: =IF(F31>0,likme,0) -> 0 | H31: =ROUND(F31*G31,2) -> 0 | I31: 0 | J31: 0 | K31: =SUM(H31:J31) -> 0 | L31: =ROUND(E31*F31,2) -> 0 | M31: =ROUND(E31*H31,2) -> 0 | N31: =ROUND(E31*I31,2) -> 0 | O31: =ROUND(E31*J31,2) -> 0 | P31: =SUM(M31:O31) -> 0
A32: 16 | C32: Monet stiegras d20x330mm izvadu ielīmējot ar HILTI HIT-HY 150 MAX vai ekvivalents | D32: gb | E32: 6 | F32: 0 | G32: =IF(F32>0,likme,0) -> 0 | H32: =ROUND(F32*G32,2) -> 0 | I32: 0 | J32: 0 | K32: =SUM(H32:J32) -> 0 | L32: =ROUND(E32*F32,2) -> 0 | M32: =ROUND(E32*H32,2) -> 0 | N32: =ROUND(E32*I32,2) -> 0 | O32: =ROUND(E32*J32,2) -> 0 | P32: =SUM(M32:O32) -> 0
A33: 17 | C33: Monet stiegras d20x950mm izvadu ielīmējot ar HILTI HIT-HY 150 MAX vai ekvivalents | D33: gb | E33: 197 | F33: 0 | G33: =IF(F33>0,likme,0) -> 0 | H33: =ROUND(F33*G33,2) -> 0 | I33: 0 | J33: 0 | K33: =SUM(H33:J33) -> 0 | L33: =ROUND(E33*F33,2) -> 0 | M33: =ROUND(E33*H33,2) -> 0 | N33: =ROUND(E33*I33,2) -> 0 | O33: =ROUND(E33*J33,2) -> 0 | P33: =SUM(M33:O33) -> 0
A35: Tiešās izmaksas kopā, t.sk. Darba dēvēja sociālais nodoklis (23,59%) | L35: =SUM(L17:L34) -> 0 | M35: =SUM(M17:M34) -> 0 | N35: =SUM(N17:N34) -> 0 | O35: =SUM(O17:O34) -> 0 | P35: =SUM(P17:P34) -> 0
A37: =KT!A23 -> 0 | D37: =KT!C27 -> 0
A38: (paraksts un tā atšifrējums, datums)
A39: =KT!A25 -> 0
A41: =KT!A27 -> 0 | D41: =KT!C27 -> 0
A42: (paraksts un tā atšifrējums, datums)
A43: =KT!A29 -> 0

Sheet 1,3
A2: Lokālā tāme Nr.1,3
A3: =KA!C17 -> Sienas, ēku un būvju karkasu konstrukcijas
A4: (būvdarbu veids vai konstruktīvā elementa nosaukums)
A6: Objekta nosaukums: | C6: =KT!B9 -> Garkalnes Mākslas un vispārizglītojošās pamatskolas piebūve
A7: Būves nosaukums: | C7: =KT!B10 -> Garkalnes Mākslas un vispārizglītojošā pamatskola
A8: Objekta adrese: | C8: =KT!B11 -> Ropažu novads, Garkalne, Vidzemes šoseja 34, LV-2137
A9: Pasūtījuma nr.: | C9: =KT!B12 -> 0
A11: Tāme sastādīta 2026. gada tirgus cenās, pamatojoties uz būvprojekta rasējumiem | M11: Tāmes izmaksas: | O11: =P158 -> 0 | P11: EUR
N12: Tāme sastādītā | O12: =KT!C27 -> 0
A14: Nr.p.k. | B14: Kods | C14: Būvdarbu nosaukums | D14: Mērvienība | E14: Daudzums | F14: Vienības izmaksas | L14: Kopā uz visu apjomu
F15: Laika norma (c/h) | G15: Darba samaksas likme (euro/h) | H15: Darba alga | I15: Būvizstrādājumi | J15: Mehānismi | K15: KOPĀ | L15: Darbietilpība (c/h) | M15: Darba alga | N15: Būvizstrādājumi | O15: Mehānismi | P15: Summa
A17: 1 | C17: 1. stāva vertikālo konstrukciju plāns | F17: 0 | G17: =IF(F17>0,likme,0) -> 0 | H17: =ROUND(F17*G17,2) -> 0 | I17: 0 | J17: 0 | K17: =SUM(H17:J17) -> 0 | L17: =ROUND(E17*F17,2) -> 0 | M17: =ROUND(E17*H17,2) -> 0 | N17: =ROUND(E17*I17,2) -> 0 | O17: =ROUND(E17*J17,2) -> 0 | P17: =SUM(M17:O17) -> 0
A18: 2 | C18: Montēt saliekamās dz/b kolonnas, konstrukciju padodot ar celtni iestrādes vietā, ieskaitot visus palīgmateriālus un stiprinājumus. Betons C40/50, XC1 | D18: m3 | E18: 19.01 | F18: 0 | G18: =IF(F18>0,likme,0) -> 0 | H18: =ROUND(F18*G18,2) -> 0 | I18: 0 | J18: 0 | K18: =SUM(H18:J18) -> 0 | L18: =ROUND(E18*F18,2) -> 0 | M18: =ROUND(E18*H18,2) -> 0 | N18: =ROUND(E18*I18,2) -> 0 | O18: =ROUND(E18*J18,2) -> 0 | P18: =SUM(M18:O18) -> 0
A19: 3 | C19: Montēt saliekamās dz/b sienas 200mm, konstrukciju padodot ar celtni iestrādes vietā, ieskaitot visus palīgmateriālus un stiprinājumus. Betons C40/50, XC1 Aizpildīt šuves ar smalkgraudainu betonu C40/50 | D19: m2 | E19: 885.31 | F19: 0 | G19: =IF(F19>0,likme,0) -> 0 | H19: =ROUND(F19*G19,2) -> 0 | I19: 0 | J19: 0 | K19: =SUM(H19:J19) -> 0 | L19: =ROUND(E19*F19,2) -> 0 | M19: =ROUND(E19*H19,2) -> 0 | N19: =ROUND(E19*I19,2) -> 0 | O19: =ROUND(E19*J19,2) -> 0 | P19: =SUM(M19:O19) -> 0
A20: 4 | C20: Montēt saliekamās dz/b sienas 241mm, konstrukciju padodot ar celtni iestrādes vietā, ieskaitot visus palīgmateriālus un stiprinājumus. Betons C40/50, XC1 Aizpildīt šuves ar smalkgraudainu betonu C40/50 | D20: m2 | E20: 15.47 | F20: 0 | G20: =IF(F20>0,likme,0) -> 0 | H20: =ROUND(F20*G20,2) -> 0 | I20: 0 | J20: 0 | K20: =SUM(H20:J20) -> 0 | L20: =ROUND(E20*F20,2) -> 0 | M20: =ROUND(E20*H20,2) -> 0 | N20: =ROUND(E20*I20,2) -> 0 | O20: =ROUND(E20*J20,2) -> 0 | P20: =SUM(M20:O20) -> 0
A21: 5 | C21: Montēt saliekamās dz/b sienas 350mm, konstrukciju padodot ar celtni iestrādes vietā, ieskaitot visus palīgmateriālus un stiprinājumus. Betons C40/50, XC1 Aizpildīt šuves ar smalkgraudainu betonu C40/50 | D21: m2 | E21: 72.19 | F21: 0 | G21: =IF(F21>0,likme,0) -> 0 | H21: =ROUND(F21*G21,2) -> 0 | I21: 0 | J21: 0 | K21: =SUM(H21:J21) -> 0 | L21: =ROUND(E21*F21,2) -> 0 | M21: =ROUND(E21*H21,2) -> 0 | N21: =ROUND(E21*I21,2) -> 0 | O21: =ROUND(E21*J21,2) -> 0 | P21: =SUM(M21:O21) -> 0
A22: 6 | C22: Montēt saliekamās dz/b sienas 400mm, konstrukciju padodot ar celtni iestrādes vietā, ieskaitot visus palīgmateriālus un stiprinājumus. Betons C40/50, XC1 Aizpildīt šuves ar smalkgraudainu betonu C40/50 | D22: m2 | E22: 15.69 | F22: 0 | G22: =IF(F22>0,likme,0) -> 0 | H22: =ROUND(F22*G22,2) -> 0 | I22: 0 | J22: 0 | K22: =SUM(H22:J22) -> 0 | L22: =ROUND(E22*F22,2) -> 0 | M22: =ROUND(E22*H22,2) -> 0 | N22: =ROUND(E22*I22,2) -> 0 | O22: =ROUND(E22*J22,2) -> 0 | P22: =SUM(M22:O22) -> 0
A23: 7 | C23: Montēt saliekamās dz/b sienas 604mm, konstrukciju padodot ar celtni iestrādes vietā, ieskaitot visus palīgmateriālus un stiprinājumus. Betons C40/50, XC1 Aizpildīt šuves ar smalkgraudainu betonu C40/50 | D23: m2 | E23: 22.32 | F23: 0 | G23: =IF(F23>0,likme,0) -> 0 | H23: =ROUND(F23*G23,2) -> 0 | I23: 0 | J23: 0 | K23: =SUM(H23:J23) -> 0 | L23: =ROUND(E23*F23,2) -> 0 | M23: =ROUND(E23*H23,2) -> 0 | N23: =ROUND(E23*I23,2) -> 0 | O23: =ROUND(E23*J23,2) -> 0 | P23: =SUM(M23:O23) -> 0
A24: 8 | C24: Montēt tērauda kolonnas, ieskaitot visus palīgmateriālus un stiprinājumus. Visas metāla konstrukcijas izgatavojamas no tērauda ar stiprības klasi ne zemāku par S355J2. | D24: kg | E24: 240 | F24: 0 | G24: =IF(F24>0,likme,0) -> 0 | H24: =ROUND(F24*G24,2) -> 0 | I24: 0 | J24: 0 | K24: =SUM(H24:J24) -> 0 | L24: =ROUND(E24*F24,2) -> 0 | M24: =ROUND(E24*H24,2) -> 0 | N24: =ROUND(E24*I24,2) -> 0 | O24: =ROUND(E24*J24,2) -> 0 | P24: =SUM(M24:O24) -> 0
A25: 9 | C25: Pārklāt tērauda kolonas ar ugunsdrošo krāsu nodrošinot R-60 | D25: m2 | E25: 6.3 | F25: 0 | G25: =IF(F25>0,likme,0) -> 0 | H25: =ROUND(F25*G25,2) -> 0 | I25: 0 | J25: 0 | K25: =SUM(H25:J25) -> 0 | L25: =ROUND(E25*F25,2) -> 0 | M25: =ROUND(E25*H25,2) -> 0 | N25: =ROUND(E25*I25,2) -> 0 | O25: =ROUND(E25*J25,2) -> 0 | P25: =SUM(M25:O25) -> 0
A26: 10 | C26: Aizpildīt kolonas bāzes šuvi ar smalkgraudainu betonu C30/37 | D26: gb | E26: 29 | F26: 0 | G26: =IF(F26>0,likme,0) -> 0 | H26: =ROUND(F26*G26,2) -> 0 | I26: 0 | J26: 0 | K26: =SUM(H26:J26) -> 0 | L26: =ROUND(E26*F26,2) -> 0 | M26: =ROUND(E26*H26,2) -> 0 | N26: =ROUND(E26*I26,2) -> 0 | O26: =ROUND(E26*J26,2) -> 0 | P26: =SUM(M26:O26) -> 0
A27: 11 | C27: 1. stāva vertikālo konstrukciju savienojoša stiegrojuma plāns | F27: 0 | G27: =IF(F27>0,likme,0) -> 0 | H27: =ROUND(F27*G27,2) -> 0 | I27: 0 | J27: 0 | K27: =SUM(H27:J27) -> 0 | L27: =ROUND(E27*F27,2) -> 0 | M27: =ROUND(E27*H27,2) -> 0 | N27: =ROUND(E27*I27,2) -> 0 | O27: =ROUND(E27*J27,2) -> 0 | P27: =SUM(M27:O27) -> 0
A28: 12 | C28: Savienot sienas ar B500B klases tērauda stiegrojumu, ieskaitot visus palīgmateriālus un stiprinājumus. | D28: kg | E28: 388.5 | F28: 0 | G28: =IF(F28>0,likme,0) -> 0 | H28: =ROUND(F28*G28,2) -> 0 | I28: 0 | J28: 0 | K28: =SUM(H28:J28) -> 0 | L28: =ROUND(E28*F28,2) -> 0 | M28: =ROUND(E28*H28,2) -> 0 | N28: =ROUND(E28*I28,2) -> 0 | O28: =ROUND(E28*J28,2) -> 0 | P28: =SUM(M28:O28) -> 0
A29: 13 | C29: 1. stāva izvadu plāns | F29: 0 | G29: =IF(F29>0,likme,0) -> 0 | H29: =ROUND(F29*G29,2) -> 0 | I29: 0 | J29: 0 | K29: =SUM(H29:J29) -> 0 | L29: =ROUND(E29*F29,2) -> 0 | M29: =ROUND(E29*H29,2) -> 0 | N29: =ROUND(E29*I29,2) -> 0 | O29: =ROUND(E29*J29,2) -> 0 | P29: =SUM(M29:O29) -> 0
A30: 14 | C30: Montēt stiegru izvadus ar B500B klases tērauda stiegrojumu, ieskaitot visus palīgmateriālus un stiprinājumus. | D30: kg | E30: 172 | F30: 0 | G30: =IF(F30>0,likme,0) -> 0 | H30: =ROUND(F30*G30,2) -> 0 | I30: 0 | J30: 0 | K30: =SUM(H30:J30) -> 0 | L30: =ROUND(E30*F30,2) -> 0 | M30: =ROUND(E30*H30,2) -> 0 | N30: =ROUND(E30*I30,2) -> 0 | O30: =ROUND(E30*J30,2) -> 0 | P30: =SUM(M30:O30) -> 0
A31: 15 | C31: Montēt vītņstieņa M20x260mm izvadus, ieskaitot visus palīgmateriālus un stiprinājumus. | D31: gb | E31: 19 | F31: 0 | G31: =IF(F31>0,likme,0) -> 0 | H31: =ROUND(F31*G31,2) -> 0 | I31: 0 | J31: 0 | K31: =SUM(H31:J31) -> 0 | L31: =ROUND(E31*F31,2) -> 0 | M31: =ROUND(E31*H31,2) -> 0 | N31: =ROUND(E31*I31,2) -> 0 | O31: =ROUND(E31*J31,2) -> 0 | P31: =SUM(M31:O31) -> 0
A32: 16 | C32: Montēt vītņstieņa M20x350mm izvadus, ieskaitot visus palīgmateriālus un stiprinājumus. | D32: gb | E32: 24 | F32: 0 | G32: =IF(F32>0,likme,0) -> 0 | H32: =ROUND(F32*G32,2) -> 0 | I32: 0 | J32: 0 | K32: =SUM(H32:J32) -> 0 | L32: =ROUND(E32*F32,2) -> 0 | M32: =ROUND(E32*H32,2) -> 0 | N32: =ROUND(E32*I32,2) -> 0 | O32: =ROUND(E32*J32,2) -> 0 | P32: =SUM(M32:O32) -> 0
A33: 17 | C33: Montēt TSE-16-M20-1020.0 izvadus vai ekvivalents, ieskaitot visus palīgmateriālus un stiprinājumus. | D33: gb | E33: 85 | F33: 0 | G33: =IF(F33>0,likme,0) -> 0 | H33: =ROUND(F33*G33,2) -> 0 | I33: 0 | J33: 0 | K33: =SUM(H33:J33) -> 0 | L33: =ROUND(E33*F33,2) -> 0 | M33: =ROUND(E33*H33,2) -> 0 | N33: =ROUND(E33*I33,2) -> 0 | O33: =ROUND(E33*J33,2) -> 0 | P33: =SUM(M33:O33) -> 0
A34: 18 | C34: 2. stāva vertikālo konstrukciju plāns | F34: 0 | G34: =IF(F34>0,likme,0) -> 0 | H34: =ROUND(F34*G34,2) -> 0 | I34: 0 | J34: 0 | K34: =SUM(H34:J34) -> 0 | L34: =ROUND(E34*F34,2) -> 0 | M34: =ROUND(E34*H34,2) -> 0 | N34: =ROUND(E34*I34,2) -> 0 | O34: =ROUND(E34*J34,2) -> 0 | P34: =SUM(M34:O34) -> 0
A35: 19 | C35: Montēt saliekamās dz/b kolonnas, konstrukciju padodot ar celtni iestrādes vietā, ieskaitot visus palīgmateriālus un stiprinājumus. Betons C40/50, XC1 | D35: m3 | E35: 1.41 | F35: 0 | G35: =IF(F35>0,likme,0) -> 0 | H35: =ROUND(F35*G35,2) -> 0 | I35: 0 | J35: 0 | K35: =SUM(H35:J35) -> 0 | L35: =ROUND(E35*F35,2) -> 0 | M35: =ROUND(E35*H35,2) -> 0 | N35: =ROUND(E35*I35,2) -> 0 | O35: =ROUND(E35*J35,2) -> 0 | P35: =SUM(M35:O35) -> 0
A36: 20 | C36: Montēt saliekamās dz/b sienas 200mm, konstrukciju padodot ar celtni iestrādes vietā, ieskaitot visus palīgmateriālus un stiprinājumus. Betons C40/50, XC1 Aizpildīt šuves ar smalkgraudainu betonu C40/50 | D36: m2 | E36: 600.86 | F36: 0 | G36: =IF(F36>0,likme,0) -> 0 | H36: =ROUND(F36*G36,2) -> 0 | I36: 0 | J36: 0 | K36: =SUM(H36:J36) -> 0 | L36: =ROUND(E36*F36,2) -> 0 | M36: =ROUND(E36*H36,2) -> 0 | N36: =ROUND(E36*I36,2) -> 0 | O36: =ROUND(E36*J36,2) -> 0 | P36: =SUM(M36:O36) -> 0
A37: 21 | C37: Montēt saliekamās dz/b sienas 220mm, konstrukciju padodot ar celtni iestrādes vietā, ieskaitot visus palīgmateriālus un stiprinājumus. Betons C40/50, XC1 Aizpildīt šuves ar smalkgraudainu betonu C40/50 | D37: m2 | E37: 18.72 | F37: 0 | G37: =IF(F37>0,likme,0) -> 0 | H37: =ROUND(F37*G37,2) -> 0 | I37: 0 | J37: 0 | K37: =SUM(H37:J37) -> 0 | L37: =ROUND(E37*F37,2) -> 0 | M37: =ROUND(E37*H37,2) -> 0 | N37: =ROUND(E37*I37,2) -> 0 | O37: =ROUND(E37*J37,2) -> 0 | P37: =SUM(M37:O37) -> 0
A38: 22 | C38: Montēt saliekamās dz/b sienas 241mm, konstrukciju padodot ar celtni iestrādes vietā, ieskaitot visus palīgmateriālus un stiprinājumus. Betons C40/50, XC1 Aizpildīt šuves ar smalkgraudainu betonu C40/50 | D38: m2 | E38: 12.29 | F38: 0 | G38: =IF(F38>0,likme,0) -> 0 | H38: =ROUND(F38*G38,2) -> 0 | I38: 0 | J38: 0 | K38: =SUM(H38:J38) -> 0 | L38: =ROUND(E38*F38,2) -> 0 | M38: =ROUND(E38*H38,2) -> 0 | N38: =ROUND(E38*I38,2) -> 0 | O38: =ROUND(E38*J38,2) -> 0 | P38: =SUM(M38:O38) -> 0
A39: 23 | C39: Montēt saliekamās dz/b sienas 350mm, konstrukciju padodot ar celtni iestrādes vietā, ieskaitot visus palīgmateriālus un stiprinājumus. Betons C40/50, XC1 Aizpildīt šuves ar smalkgraudainu betonu C40/50 | D39: m2 | E39: 49.75 | F39: 0 | G39: =IF(F39>0,likme,0) -> 0 | H39: =ROUND(F39*G39,2) -> 0 | I39: 0 | J39: 0 | K39: =SUM(H39:J39) -> 0 | L39: =ROUND(E39*F39,2) -> 0 | M39: =ROUND(E39*H39,2) -> 0 | N39: =ROUND(E39*I39,2) -> 0 | O39: =ROUND(E39*J39,2) -> 0 | P39: =SUM(M39:O39) -> 0
A40: 24 | C40: Montēt tērauda kolonnas, ieskaitot visus palīgmateriālus un stiprinājumus. Visas metāla konstrukcijas izgatavojamas no tērauda ar stiprības klasi ne zemāku par S355J2. | D40: kg | E40: 52 | F40: 0 | G40: =IF(F40>0,likme,0) -> 0 | H40: =ROUND(F40*G40,2) -> 0 | I40: 0 | J40: 0 | K40: =SUM(H40:J40) -> 0 | L40: =ROUND(E40*F40,2) -> 0 | M40: =ROUND(E40*H40,2) -> 0 | N40: =ROUND(E40*I40,2) -> 0 | O40: =ROUND(E40*J40,2) -> 0 | P40: =SUM(M40:O40) -> 0
A41: 25 | C41: Pārklāt tērauda kolonas ar ugunsdrošo krāsu nodrošinot R-60 | D41: m2 | E41: 1.1 | F41: 0 | G41: =IF(F41>0,likme,0) -> 0 | H41: =ROUND(F41*G41,2) -> 0 | I41: 0 | J41: 0 | K41: =SUM(H41:J41) -> 0 | L41: =ROUND(E41*F41,2) -> 0 | M41: =ROUND(E41*H41,2) -> 0 | N41: =ROUND(E41*I41,2) -> 0 | O41: =ROUND(E41*J41,2) -> 0 | P41: =SUM(M41:O41) -> 0
A42: 26 | C42: Aizpildīt kolonas bāzes šuvi ar smalkgraudainu betonu C30/37 | D42: gb | E42: 3 | F42: 0 | G42: =IF(F42>0,likme,0) -> 0 | H42: =ROUND(F42*G42,2) -> 0 | I42: 0 | J42: 0 | K42: =SUM(H42:J42) -> 0 | L42: =ROUND(E42*F42,2) -> 0 | M42: =ROUND(E42*H42,2) -> 0 | N42: =ROUND(E42*I42,2) -> 0 | O42: =ROUND(E42*J42,2) -> 0 | P42: =SUM(M42:O42) -> 0
A43: 27 | C43: 2. stāva vertikālo konstrukciju savienojoša stiegrojuma plāns | F43: 0 | G43: =IF(F43>0,likme,0) -> 0 | H43: =ROUND(F43*G43,2) -> 0 | I43: 0 | J43: 0 | K43: =SUM(H43:J43) -> 0 | L43: =ROUND(E43*F43,2) -> 0 | M43: =ROUND(E43*H43,2) -> 0 | N43: =ROUND(E43*I43,2) -> 0 | O43: =ROUND(E43*J43,2) -> 0 | P43: =SUM(M43:O43) -> 0
A44: 28 | C44: Savienot sienas ar B500B klases tērauda stiegrojumu, ieskaitot visus palīgmateriālus un stiprinājumus. | D44: kg | E44: 243.45 | F44: 0 | G44: =IF(F44>0,likme,0) -> 0 | H44: =ROUND(F44*G44,2) -> 0 | I44: 0 | J44: 0 | K44: =SUM(H44:J44) -> 0 | L44: =ROUND(E44*F44,2) -> 0 | M44: =ROUND(E44*H44,2) -> 0 | N44: =ROUND(E44*I44,2) -> 0 | O44: =ROUND(E44*J44,2) -> 0 | P44: =SUM(M44:O44) -> 0
A45: 29 | C45: 2. stāva izvadu plāns | F45: 0 | G45: =IF(F45>0,likme,0) -> 0 | H45: =ROUND(F45*G45,2) -> 0 | I45: 0 | J45: 0 | K45: =SUM(H45:J45) -> 0 | L45: =ROUND(E45*F45,2) -> 0 | M45: =ROUND(E45*H45,2) -> 0 | N45: =ROUND(E45*I45,2) -> 0 | O45: =ROUND(E45*J45,2) -> 0 | P45: =SUM(M45:O45) -> 0
...

Sheet 1,4
A2: Lokālā tāme Nr.1,4
A3: =KA!C18 -> Starpsienas
A4: (būvdarbu veids vai konstruktīvā elementa nosaukums)
A6: Objekta nosaukums: | C6: =KT!B9 -> Garkalnes Mākslas un vispārizglītojošās pamatskolas piebūve
A7: Būves nosaukums: | C7: =KT!B10 -> Garkalnes Mākslas un vispārizglītojošā pamatskola
A8: Objekta adrese: | C8: =KT!B11 -> Ropažu novads, Garkalne, Vidzemes šoseja 34, LV-2137
A9: Pasūtījuma nr.: | C9: =KT!B12 -> 0
A11: Tāme sastādīta 2026. gada tirgus cenās, pamatojoties uz būvprojekta rasējumiem | M11: Tāmes izmaksas: | O11: =P55 -> 0 | P11: EUR
N12: Tāme sastādītā | O12: =KT!C27 -> 0
A14: Nr.p.k. | B14: Kods | C14: Būvdarbu nosaukums | D14: Mērvienība | E14: Daudzums | F14: Vienības izmaksas | L14: Kopā uz visu apjomu
F15: Laika norma (c/h) | G15: Darba samaksas likme (euro/h) | H15: Darba alga | I15: Būvizstrādājumi | J15: Mehānismi | K15: KOPĀ | L15: Darbietilpība (c/h) | M15: Darba alga | N15: Būvizstrādājumi | O15: Mehānismi | P15: Summa
A17: 1 | C17: SA-1.1 | F17: 0 | G17: =IF(F17>0,likme,0) -> 0 | H17: =ROUND(F17*G17,2) -> 0 | I17: 0 | J17: 0 | K17: =SUM(H17:J17) -> 0 | L17: =ROUND(E17*F17,2) -> 0 | M17: =ROUND(E17*H17,2) -> 0 | N17: =ROUND(E17*I17,2) -> 0 | O17: =ROUND(E17*J17,2) -> 0 | P17: =SUM(M17:O17) -> 0
A18: 2 | C18: Montēt metala profilu karkasu 75mm biezumā, ieskaitot visus stiprinājumus un palīgmateriālus Ultrastill CW75 profili vai ekvivalents | D18: m2 | E18: 8.79 | F18: 0 | G18: =IF(F18>0,likme,0) -> 0 | H18: =ROUND(F18*G18,2) -> 0 | I18: 0 | J18: 0 | K18: =SUM(H18:J18) -> 0 | L18: =ROUND(E18*F18,2) -> 0 | M18: =ROUND(E18*H18,2) -> 0 | N18: =ROUND(E18*I18,2) -> 0 | O18: =ROUND(E18*J18,2) -> 0 | P18: =SUM(M18:O18) -> 0
A19: 3 | C19: Ieklāt izolāciju 75mm biezumā Skaņas izolācija Isover Acoustic 75 mm (R’w = 64 dB) vai ekvivalents | D19: m2 | E19: 8.79 | F19: 0 | G19: =IF(F19>0,likme,0) -> 0 | H19: =ROUND(F19*G19,2) -> 0 | I19: 0 | J19: 0 | K19: =SUM(H19:J19) -> 0 | L19: =ROUND(E19*F19,2) -> 0 | M19: =ROUND(E19*H19,2) -> 0 | N19: =ROUND(E19*I19,2) -> 0 | O19: =ROUND(E19*J19,2) -> 0 | P19: =SUM(M19:O19) -> 0
A20: 4 | C20: Apšūt karkasu ar Knauf GKFI vai ekvivalents 12,5mm ģipškartona loksnēm divās kārtās, ieskaitot visus stiprinājumus un palīgmateriālus. Veikt šuvju špaktelēšanu | D20: m2 | E20: 8.79 | F20: 0 | G20: =IF(F20>0,likme,0) -> 0 | H20: =ROUND(F20*G20,2) -> 0 | I20: 0 | J20: 0 | K20: =SUM(H20:J20) -> 0 | L20: =ROUND(E20*F20,2) -> 0 | M20: =ROUND(E20*H20,2) -> 0 | N20: =ROUND(E20*I20,2) -> 0 | O20: =ROUND(E20*J20,2) -> 0 | P20: =SUM(M20:O20) -> 0
A21: 5 | C21: SI-1 | F21: 0 | G21: =IF(F21>0,likme,0) -> 0 | H21: =ROUND(F21*G21,2) -> 0 | I21: 0 | J21: 0 | K21: =SUM(H21:J21) -> 0 | L21: =ROUND(E21*F21,2) -> 0 | M21: =ROUND(E21*H21,2) -> 0 | N21: =ROUND(E21*I21,2) -> 0 | O21: =ROUND(E21*J21,2) -> 0 | P21: =SUM(M21:O21) -> 0
A22: 6 | C22: Montēt metala profilu karkasu 75mm biezumā, ieskaitot visus stiprinājumus un palīgmateriālus Ultrastill CW75 profili vai ekvivalents | D22: m2 | E22: 130.82 | F22: 0 | G22: =IF(F22>0,likme,0) -> 0 | H22: =ROUND(F22*G22,2) -> 0 | I22: 0 | J22: 0 | K22: =SUM(H22:J22) -> 0 | L22: =ROUND(E22*F22,2) -> 0 | M22: =ROUND(E22*H22,2) -> 0 | N22: =ROUND(E22*I22,2) -> 0 | O22: =ROUND(E22*J22,2) -> 0 | P22: =SUM(M22:O22) -> 0
A23: 7 | C23: Ieklāt izolāciju 75mm biezumā Skaņas izolācija Isover Acoustic 75 mm (R’w = 64 dB) vai ekvivalents | D23: m2 | E23: 130.82 | F23: 0 | G23: =IF(F23>0,likme,0) -> 0 | H23: =ROUND(F23*G23,2) -> 0 | I23: 0 | J23: 0 | K23: =SUM(H23:J23) -> 0 | L23: =ROUND(E23*F23,2) -> 0 | M23: =ROUND(E23*H23,2) -> 0 | N23: =ROUND(E23*I23,2) -> 0 | O23: =ROUND(E23*J23,2) -> 0 | P23: =SUM(M23:O23) -> 0
A24: 8 | C24: Apšūt karkasu ar Knauf GKF vai ekvivalents 12,5mm ģipškartona loksnēm divās kārtās, ieskaitot visus stiprinājumus un palīgmateriālus. Veikt šuvju špaktelēšanu | D24: m2 | E24: 130.82 | F24: 0 | G24: =IF(F24>0,likme,0) -> 0 | H24: =ROUND(F24*G24,2) -> 0 | I24: 0 | J24: 0 | K24: =SUM(H24:J24) -> 0 | L24: =ROUND(E24*F24,2) -> 0 | M24: =ROUND(E24*H24,2) -> 0 | N24: =ROUND(E24*I24,2) -> 0 | O24: =ROUND(E24*J24,2) -> 0 | P24: =SUM(M24:O24) -> 0
A25: 9 | C25: SI-2 | F25: 0 | G25: =IF(F25>0,likme,0) -> 0 | H25: =ROUND(F25*G25,2) -> 0 | I25: 0 | J25: 0 | K25: =SUM(H25:J25) -> 0 | L25: =ROUND(E25*F25,2) -> 0 | M25: =ROUND(E25*H25,2) -> 0 | N25: =ROUND(E25*I25,2) -> 0 | O25: =ROUND(E25*J25,2) -> 0 | P25: =SUM(M25:O25) -> 0
A26: 10 | C26: Apšūt karkasu ar Knauf GKFI vai ekvivalents 12,5mm ģipškartona loksnēm divās kārtās, ieskaitot visus stiprinājumus un palīgmateriālus. Veikt šuvju špaktelēšanu | D26: m2 | E26: 556.64 | F26: 0 | G26: =IF(F26>0,likme,0) -> 0 | H26: =ROUND(F26*G26,2) -> 0 | I26: 0 | J26: 0 | K26: =SUM(H26:J26) -> 0 | L26: =ROUND(E26*F26,2) -> 0 | M26: =ROUND(E26*H26,2) -> 0 | N26: =ROUND(E26*I26,2) -> 0 | O26: =ROUND(E26*J26,2) -> 0 | P26: =SUM(M26:O26) -> 0
A27: 11 | C27: Ieklāt izolāciju 75mm biezumā Skaņas izolācija Isover Acoustic 75 mm (R’w = 64 dB) vai ekvivalents | D27: m2 | E27: 556.64 | F27: 0 | G27: =IF(F27>0,likme,0) -> 0 | H27: =ROUND(F27*G27,2) -> 0 | I27: 0 | J27: 0 | K27: =SUM(H27:J27) -> 0 | L27: =ROUND(E27*F27,2) -> 0 | M27: =ROUND(E27*H27,2) -> 0 | N27: =ROUND(E27*I27,2) -> 0 | O27: =ROUND(E27*J27,2) -> 0 | P27: =SUM(M27:O27) -> 0
A28: 12 | C28: Montēt metala profilu karkasu 75mm biezumā, ieskaitot visus stiprinājumus un palīgmateriālus Ultrastill CW75 profili vai ekvivalents | D28: m2 | E28: 556.64 | F28: 0 | G28: =IF(F28>0,likme,0) -> 0 | H28: =ROUND(F28*G28,2) -> 0 | I28: 0 | J28: 0 | K28: =SUM(H28:J28) -> 0 | L28: =ROUND(E28*F28,2) -> 0 | M28: =ROUND(E28*H28,2) -> 0 | N28: =ROUND(E28*I28,2) -> 0 | O28: =ROUND(E28*J28,2) -> 0 | P28: =SUM(M28:O28) -> 0
A29: 13 | C29: Montēt metala profilu karkasu 75mm biezumā, ieskaitot visus stiprinājumus un palīgmateriālus Ultrastill CW75 profili vai ekvivalents | D29: m2 | E29: 556.64 | F29: 0 | G29: =IF(F29>0,likme,0) -> 0 | H29: =ROUND(F29*G29,2) -> 0 | I29: 0 | J29: 0 | K29: =SUM(H29:J29) -> 0 | L29: =ROUND(E29*F29,2) -> 0 | M29: =ROUND(E29*H29,2) -> 0 | N29: =ROUND(E29*I29,2) -> 0 | O29: =ROUND(E29*J29,2) -> 0 | P29: =SUM(M29:O29) -> 0
A30: 14 | C30: Ieklāt izolāciju 75mm biezumā Skaņas izolācija Isover Acoustic 75 mm (R’w = 64 dB) vai ekvivalents | D30: m2 | E30: 556.64 | F30: 0 | G30: =IF(F30>0,likme,0) -> 0 | H30: =ROUND(F30*G30,2) -> 0 | I30: 0 | J30: 0 | K30: =SUM(H30:J30) -> 0 | L30: =ROUND(E30*F30,2) -> 0 | M30: =ROUND(E30*H30,2) -> 0 | N30: =ROUND(E30*I30,2) -> 0 | O30: =ROUND(E30*J30,2) -> 0 | P30: =SUM(M30:O30) -> 0
A31: 15 | C31: Apšūt karkasu ar Knauf GKFI vai ekvivalents 12,5mm ģipškartona loksnēm divās kārtās, ieskaitot visus stiprinājumus un palīgmateriālus. Veikt šuvju špaktelēšanu | D31: m2 | E31: 556.64 | F31: 0 | G31: =IF(F31>0,likme,0) -> 0 | H31: =ROUND(F31*G31,2) -> 0 | I31: 0 | J31: 0 | K31: =SUM(H31:J31) -> 0 | L31: =ROUND(E31*F31,2) -> 0 | M31: =ROUND(E31*H31,2) -> 0 | N31: =ROUND(E31*I31,2) -> 0 | O31: =ROUND(E31*J31,2) -> 0 | P31: =SUM(M31:O31) -> 0
A32: 16 | C32: SI-3 | F32: 0 | G32: =IF(F32>0,likme,0) -> 0 | H32: =ROUND(F32*G32,2) -> 0 | I32: 0 | J32: 0 | K32: =SUM(H32:J32) -> 0 | L32: =ROUND(E32*F32,2) -> 0 | M32: =ROUND(E32*H32,2) -> 0 | N32: =ROUND(E32*I32,2) -> 0 | O32: =ROUND(E32*J32,2) -> 0 | P32: =SUM(M32:O32) -> 0
A33: 17 | C33: Apšūt karkasu ar Knauf GKFI vai ekvivalents 12,5mm ģipškartona loksnēm divās kārtās, ieskaitot visus stiprinājumus un palīgmateriālus. Veikt šuvju špaktelēšanu | D33: m2 | E33: 98.41 | F33: 0 | G33: =IF(F33>0,likme,0) -> 0 | H33: =ROUND(F33*G33,2) -> 0 | I33: 0 | J33: 0 | K33: =SUM(H33:J33) -> 0 | L33: =ROUND(E33*F33,2) -> 0 | M33: =ROUND(E33*H33,2) -> 0 | N33: =ROUND(E33*I33,2) -> 0 | O33: =ROUND(E33*J33,2) -> 0 | P33: =SUM(M33:O33) -> 0
A34: 18 | C34: Montēt metala profilu karkasu 75mm biezumā, ieskaitot visus stiprinājumus un palīgmateriālus Ultrastill CW75 profili vai ekvivalents | D34: m2 | E34: 98.41 | F34: 0 | G34: =IF(F34>0,likme,0) -> 0 | H34: =ROUND(F34*G34,2) -> 0 | I34: 0 | J34: 0 | K34: =SUM(H34:J34) -> 0 | L34: =ROUND(E34*F34,2) -> 0 | M34: =ROUND(E34*H34,2) -> 0 | N34: =ROUND(E34*I34,2) -> 0 | O34: =ROUND(E34*J34,2) -> 0 | P34: =SUM(M34:O34) -> 0
A35: 19 | C35: Ieklāt izolāciju 75mm biezumā Skaņas izolācija Isover Acoustic 75 mm (R’w = 64 dB) vai ekvivalents | D35: m2 | E35: 98.41 | F35: 0 | G35: =IF(F35>0,likme,0) -> 0 | H35: =ROUND(F35*G35,2) -> 0 | I35: 0 | J35: 0 | K35: =SUM(H35:J35) -> 0 | L35: =ROUND(E35*F35,2) -> 0 | M35: =ROUND(E35*H35,2) -> 0 | N35: =ROUND(E35*I35,2) -> 0 | O35: =ROUND(E35*J35,2) -> 0 | P35: =SUM(M35:O35) -> 0
A36: 20 | C36: Apšūt karkasu ar Knauf GKFI vai ekvivalents 12,5mm ģipškartona loksnēm divās kārtās, ieskaitot visus stiprinājumus un palīgmateriālus. Veikt šuvju špaktelēšanu | D36: m2 | E36: 98.41 | F36: 0 | G36: =IF(F36>0,likme,0) -> 0 | H36: =ROUND(F36*G36,2) -> 0 | I36: 0 | J36: 0 | K36: =SUM(H36:J36) -> 0 | L36: =ROUND(E36*F36,2) -> 0 | M36: =ROUND(E36*H36,2) -> 0 | N36: =ROUND(E36*I36,2) -> 0 | O36: =ROUND(E36*J36,2) -> 0 | P36: =SUM(M36:O36) -> 0
A37: 21 | C37: SI-4 (* Mitrās telpās (sanitārtehniskajās telpās) izmantot atbilstošas ģipškartona plāksnes Hydro 2x12.5 mm vai ekvivalents | F37: 0 | G37: =IF(F37>0,likme,0) -> 0 | H37: =ROUND(F37*G37,2) -> 0 | I37: 0 | J37: 0 | K37: =SUM(H37:J37) -> 0 | L37: =ROUND(E37*F37,2) -> 0 | M37: =ROUND(E37*H37,2) -> 0 | N37: =ROUND(E37*I37,2) -> 0 | O37: =ROUND(E37*J37,2) -> 0 | P37: =SUM(M37:O37) -> 0
A38: 22 | C38: Apšūt karkasu ar Knauf GKF vai ekvivalents 12,5mm ģipškartona loksnēm divās kārtās, ieskaitot visus stiprinājumus un palīgmateriālus. Veikt šuvju špaktelēšanu | D38: m2 | E38: 134.78 | F38: 0 | G38: =IF(F38>0,likme,0) -> 0 | H38: =ROUND(F38*G38,2) -> 0 | I38: 0 | J38: 0 | K38: =SUM(H38:J38) -> 0 | L38: =ROUND(E38*F38,2) -> 0 | M38: =ROUND(E38*H38,2) -> 0 | N38: =ROUND(E38*I38,2) -> 0 | O38: =ROUND(E38*J38,2) -> 0 | P38: =SUM(M38:O38) -> 0
A39: 23 | C39: Ieklāt izolāciju 75mm biezumā Skaņas izolācija Isover Acoustic 75 mm (R’w = 64 dB) vai ekvivalents | D39: m2 | E39: 134.78 | F39: 0 | G39: =IF(F39>0,likme,0) -> 0 | H39: =ROUND(F39*G39,2) -> 0 | I39: 0 | J39: 0 | K39: =SUM(H39:J39) -> 0 | L39: =ROUND(E39*F39,2) -> 0 | M39: =ROUND(E39*H39,2) -> 0 | N39: =ROUND(E39*I39,2) -> 0 | O39: =ROUND(E39*J39,2) -> 0 | P39: =SUM(M39:O39) -> 0
A40: 24 | C40: Montēt metala profilu karkasu 75mm biezumā, ieskaitot visus stiprinājumus un palīgmateriālus Ultrastill CW75 profili vai ekvivalents | D40: m2 | E40: 134.78 | F40: 0 | G40: =IF(F40>0,likme,0) -> 0 | H40: =ROUND(F40*G40,2) -> 0 | I40: 0 | J40: 0 | K40: =SUM(H40:J40) -> 0 | L40: =ROUND(E40*F40,2) -> 0 | M40: =ROUND(E40*H40,2) -> 0 | N40: =ROUND(E40*I40,2) -> 0 | O40: =ROUND(E40*J40,2) -> 0 | P40: =SUM(M40:O40) -> 0
A41: 25 | C41: Montēt metala profilu karkasu 75mm biezumā, ieskaitot visus stiprinājumus un palīgmateriālus Ultrastill CW75 profili vai ekvivalents | D41: m2 | E41: 134.78 | F41: 0 | G41: =IF(F41>0,likme,0) -> 0 | H41: =ROUND(F41*G41,2) -> 0 | I41: 0 | J41: 0 | K41: =SUM(H41:J41) -> 0 | L41: =ROUND(E41*F41,2) -> 0 | M41: =ROUND(E41*H41,2) -> 0 | N41: =ROUND(E41*I41,2) -> 0 | O41: =ROUND(E41*J41,2) -> 0 | P41: =SUM(M41:O41) -> 0
A42: 26 | C42: Ieklāt izolāciju 75mm biezumā Skaņas izolācija Isover Acoustic 75 mm (R’w = 64 dB) vai ekvivalents | D42: m2 | E42: 134.78 | F42: 0 | G42: =IF(F42>0,likme,0) -> 0 | H42: =ROUND(F42*G42,2) -> 0 | I42: 0 | J42: 0 | K42: =SUM(H42:J42) -> 0 | L42: =ROUND(E42*F42,2) -> 0 | M42: =ROUND(E42*H42,2) -> 0 | N42: =ROUND(E42*I42,2) -> 0 | O42: =ROUND(E42*J42,2) -> 0 | P42: =SUM(M42:O42) -> 0
A43: 27 | C43: Apšūt karkasu ar Knauf GKF vai ekvivalents 12,5mm ģipškartona loksnēm divās kārtās, ieskaitot visus stiprinājumus un palīgmateriālus. Veikt šuvju špaktelēšanu | D43: m2 | E43: 134.78 | F43: 0 | G43: =IF(F43>0,likme,0) -> 0 | H43: =ROUND(F43*G43,2) -> 0 | I43: 0 | J43: 0 | K43: =SUM(H43:J43) -> 0 | L43: =ROUND(E43*F43,2) -> 0 | M43: =ROUND(E43*H43,2) -> 0 | N43: =ROUND(E43*I43,2) -> 0 | O43: =ROUND(E43*J43,2) -> 0 | P43: =SUM(M43:O43) -> 0
A44: 28 | C44: SI-9.1 (* Mitrās telpās (sanitārtehniskajās telpās) izmantot atbilstošas ģipškartona plāksnes Hydro 2x12.5 mm vai ekvivalents | F44: 0 | G44: =IF(F44>0,likme,0) -> 0 | H44: =ROUND(F44*G44,2) -> 0 | I44: 0 | J44: 0 | K44: =SUM(H44:J44) -> 0 | L44: =ROUND(E44*F44,2) -> 0 | M44: =ROUND(E44*H44,2) -> 0 | N44: =ROUND(E44*I44,2) -> 0 | O44: =ROUND(E44*J44,2) -> 0 | P44: =SUM(M44:O44) -> 0
A45: 29 | C45: Apšūt karkasu ar Knauf GKFI vai ekvivalents 12,5mm ģipškartona loksnēm divās kārtās, ieskaitot visus stiprinājumus un palīgmateriālus. Veikt šuvju špaktelēšanu | D45: m2 | E45: 127.93 | F45: 0 | G45: =IF(F45>0,likme,0) -> 0 | H45: =ROUND(F45*G45,2) -> 0 | I45: 0 | J45: 0 | K45: =SUM(H45:J45) -> 0 | L45: =ROUND(E45*F45,2) -> 0 | M45: =ROUND(E45*H45,2) -> 0 | N45: =ROUND(E45*I45,2) -> 0 | O45: =ROUND(E45*J45,2) -> 0 | P45: =SUM(M45:O45) -> 0
...

Sheet 1,5
A2: Lokālā tāme Nr.1,5
A3: =KA!C19 -> Grīdu pamatnes, segumi
A4: (būvdarbu veids vai konstruktīvā elementa nosaukums)
A6: Objekta nosaukums: | C6: =KT!B9 -> Garkalnes Mākslas un vispārizglītojošās pamatskolas piebūve
A7: Būves nosaukums: | C7: =KT!B10 -> Garkalnes Mākslas un vispārizglītojošā pamatskola
A8: Objekta adrese: | C8: =KT!B11 -> Ropažu novads, Garkalne, Vidzemes šoseja 34, LV-2137
A9: Pasūtījuma nr.: | C9: =KT!B12 -> 0
A11: Tāme sastādīta 2026. gada tirgus cenās, pamatojoties uz būvprojekta rasējumiem | M11: Tāmes izmaksas: | O11: =P58 -> 0 | P11: EUR
N12: Tāme sastādītā | O12: =KT!C27 -> 0
A14: Nr.p.k. | B14: Kods | C14: Būvdarbu nosaukums | D14: Mērvienība | E14: Daudzums | F14: Vienības izmaksas | L14: Kopā uz visu apjomu
F15: Laika norma (c/h) | G15: Darba samaksas likme (euro/h) | H15: Darba alga | I15: Būvizstrādājumi | J15: Mehānismi | K15: KOPĀ | L15: Darbietilpība (c/h) | M15: Darba alga | N15: Būvizstrādājumi | O15: Mehānismi | P15: Summa
A17: 1 | C17: G-1 | F17: 0 | G17: =IF(F17>0,likme,0) -> 0 | H17: =ROUND(F17*G17,2) -> 0 | I17: 0 | J17: 0 | L17: =ROUND(E17*F17,2) -> 0 | M17: =ROUND(E17*H17,2) -> 0 | N17: =ROUND(E17*I17,2) -> 0 | O17: =ROUND(E17*J17,2) -> 0 | P17: =SUM(M17:O17) -> 0
A18: 2 | C18: Ieklat blietētu šķembu kārtu fr. 20/40 100mm biezumā | D18: m3 | E18: 44.49 | F18: 0 | G18: =IF(F18>0,likme,0) -> 0 | H18: =ROUND(F18*G18,2) -> 0 | I18: 0 | J18: 0 | L18: =ROUND(E18*F18,2) -> 0 | M18: =ROUND(E18*H18,2) -> 0 | N18: =ROUND(E18*I18,2) -> 0 | O18: =ROUND(E18*J18,2) -> 0 | P18: =SUM(M18:O18) -> 0
A19: 3 | C19: Siltināt grīdu ar ThermoWhite WD100R vai ekvivalents (λ ≤ 0.046 W/mk, dinamiskā slodze 10 kN/m2, spiedes stiprība 70 kPa) 150mm biezumā | D19: m2 | E19: 444.87 | F19: 0 | G19: =IF(F19>0,likme,0) -> 0 | H19: =ROUND(F19*G19,2) -> 0 | I19: 0 | J19: 0 | L19: =ROUND(E19*F19,2) -> 0 | M19: =ROUND(E19*H19,2) -> 0 | N19: =ROUND(E19*I19,2) -> 0 | O19: =ROUND(E19*J19,2) -> 0 | P19: =SUM(M19:O19) -> 0
A20: 4 | C20: Ieklāt PVC plēvi - 200 mkr | D20: m2 | E20: 444.87 | F20: 0 | G20: =IF(F20>0,likme,0) -> 0 | H20: =ROUND(F20*G20,2) -> 0 | I20: 0 | J20: 0 | L20: =ROUND(E20*F20,2) -> 0 | M20: =ROUND(E20*H20,2) -> 0 | N20: =ROUND(E20*I20,2) -> 0 | O20: =ROUND(E20*J20,2) -> 0 | P20: =SUM(M20:O20) -> 0
A21: 5 | C21: Ieklat cementa klona grīdu 70mm biezumā, ieskaitot visus stiprinājumus un palīgmateriālus. Cementa klons Estrich, 70 mm, (Atbilstoši LVS EN 13813:2005L stiprības klase C20, lieces stiprība 4N/mm2, spiedes stiprība 20 N/ mm2, grīda uz siltumizolācijas/peldoša) | D21: m2 | E21: 444.87 | F21: 0 | G21: =IF(F21>0,likme,0) -> 0 | H21: =ROUND(F21*G21,2) -> 0 | I21: 0 | J21: 0 | L21: =ROUND(E21*F21,2) -> 0 | M21: =ROUND(E21*H21,2) -> 0 | N21: =ROUND(E21*I21,2) -> 0 | O21: =ROUND(E21*J21,2) -> 0 | P21: =SUM(M21:O21) -> 0
A22: 6 | C22: Ieklāt PE plēvi 0.2 mm 2 kārtās - 200 mkr, 20 cm pārlaidums ar tvaika plēves līmi Gerbanda 586 vai ekvivalents | D22: m2 | E22: 444.87 | F22: 0 | G22: =IF(F22>0,likme,0) -> 0 | H22: =ROUND(F22*G22,2) -> 0 | I22: 0 | J22: 0 | L22: =ROUND(E22*F22,2) -> 0 | M22: =ROUND(E22*H22,2) -> 0 | N22: =ROUND(E22*I22,2) -> 0 | O22: =ROUND(E22*J22,2) -> 0 | P22: =SUM(M22:O22) -> 0
A23: 7 | C23: Montēt grīdas balsta konstrukciju 75mm biezumā, ieskaitot visus stiprinājumus un palīgmateriālus. Arenaflex vai ekvivalents grīdu sistēma, ozolkoka balsta lāgas (45x48 mm) stiprināmas polipropilēna ligzdās uz absorbējoša paliktņa | D23: m2 | E23: 444.87 | F23: 0 | G23: =IF(F23>0,likme,0) -> 0 | H23: =ROUND(F23*G23,2) -> 0 | I23: 0 | J23: 0 | L23: =ROUND(E23*F23,2) -> 0 | M23: =ROUND(E23*H23,2) -> 0 | N23: =ROUND(E23*I23,2) -> 0 | O23: =ROUND(E23*J23,2) -> 0 | P23: =SUM(M23:O23) -> 0
A24: 8 | C24: Stiprināt saplāksni 22mm biezumā, ieskaitot visus stiprinājumus un palīgmateriālus. | D24: m2 | E24: 444.87 | F24: 0 | G24: =IF(F24>0,likme,0) -> 0 | H24: =ROUND(F24*G24,2) -> 0 | I24: 0 | J24: 0 | L24: =ROUND(E24*F24,2) -> 0 | M24: =ROUND(E24*H24,2) -> 0 | N24: =ROUND(E24*I24,2) -> 0 | O24: =ROUND(E24*J24,2) -> 0 | P24: =SUM(M24:O24) -> 0
A25: 9 | C25: G-2 | F25: 0 | G25: =IF(F25>0,likme,0) -> 0 | H25: =ROUND(F25*G25,2) -> 0 | I25: 0 | J25: 0 | L25: =ROUND(E25*F25,2) -> 0 | M25: =ROUND(E25*H25,2) -> 0 | N25: =ROUND(E25*I25,2) -> 0 | O25: =ROUND(E25*J25,2) -> 0 | P25: =SUM(M25:O25) -> 0
A26: 10 | C26: Ieklat blietētu šķembu kārtu fr. 20/40 100mm biezumā | D26: m3 | E26: 32.55 | F26: 0 | G26: =IF(F26>0,likme,0) -> 0 | H26: =ROUND(F26*G26,2) -> 0 | I26: 0 | J26: 0 | L26: =ROUND(E26*F26,2) -> 0 | M26: =ROUND(E26*H26,2) -> 0 | N26: =ROUND(E26*I26,2) -> 0 | O26: =ROUND(E26*J26,2) -> 0 | P26: =SUM(M26:O26) -> 0
A27: 11 | C27: Siltināt grīdu ar ThermoWhite WD100R vai ekvivalents (λ ≤ 0.046 W/mk, dinamiskā slodze 10 kN/m2, spiedes stiprība 70 kPa) 220mm biezumā | D27: m2 | E27: 325.53 | F27: 0 | G27: =IF(F27>0,likme,0) -> 0 | H27: =ROUND(F27*G27,2) -> 0 | I27: 0 | J27: 0 | L27: =ROUND(E27*F27,2) -> 0 | M27: =ROUND(E27*H27,2) -> 0 | N27: =ROUND(E27*I27,2) -> 0 | O27: =ROUND(E27*J27,2) -> 0 | P27: =SUM(M27:O27) -> 0
A28: 12 | C28: Ieklāt PVC plēvi - 200 mkr | D28: m2 | E28: 325.53 | F28: 0 | G28: =IF(F28>0,likme,0) -> 0 | H28: =ROUND(F28*G28,2) -> 0 | I28: 0 | J28: 0 | L28: =ROUND(E28*F28,2) -> 0 | M28: =ROUND(E28*H28,2) -> 0 | N28: =ROUND(E28*I28,2) -> 0 | O28: =ROUND(E28*J28,2) -> 0 | P28: =SUM(M28:O28) -> 0
A29: 13 | C29: Ieklat cementa klona grīdu 70mm biezumā, ieskaitot visus stiprinājumus un palīgmateriālus. Cementa klons Estrich, 70 mm, (Atbilstoši LVS EN 13813:2005L stiprības klase C20, lieces stiprība 4N/mm2, spiedes stiprība 20 N/ mm2, grīda uz siltumizolācijas/peldoša) | D29: m2 | E29: 325.53 | F29: 0 | G29: =IF(F29>0,likme,0) -> 0 | H29: =ROUND(F29*G29,2) -> 0 | I29: 0 | J29: 0 | L29: =ROUND(E29*F29,2) -> 0 | M29: =ROUND(E29*H29,2) -> 0 | N29: =ROUND(E29*I29,2) -> 0 | O29: =ROUND(E29*J29,2) -> 0 | P29: =SUM(M29:O29) -> 0
A30: 14 | C30: Ieklāt PE plēvi 0.2 mm 2 kārtās - 200 mkr, 20 cm pārlaidums ar tvaika plēves līmi Gerbanda 586 vai ekvivalents | D30: m2 | E30: 325.53 | F30: 0 | G30: =IF(F30>0,likme,0) -> 0 | H30: =ROUND(F30*G30,2) -> 0 | I30: 0 | J30: 0 | L30: =ROUND(E30*F30,2) -> 0 | M30: =ROUND(E30*H30,2) -> 0 | N30: =ROUND(E30*I30,2) -> 0 | O30: =ROUND(E30*J30,2) -> 0 | P30: =SUM(M30:O30) -> 0
A31: 15 | C31: G-3 | F31: 0 | G31: =IF(F31>0,likme,0) -> 0 | H31: =ROUND(F31*G31,2) -> 0 | I31: 0 | J31: 0 | L31: =ROUND(E31*F31,2) -> 0 | M31: =ROUND(E31*H31,2) -> 0 | N31: =ROUND(E31*I31,2) -> 0 | O31: =ROUND(E31*J31,2) -> 0 | P31: =SUM(M31:O31) -> 0
A32: 16 | C32: Ieklat blietētu šķembu kārtu fr. 20/40 100mm biezumā | D32: m3 | E32: 1.99 | F32: 0 | G32: =IF(F32>0,likme,0) -> 0 | H32: =ROUND(F32*G32,2) -> 0 | I32: 0 | J32: 0 | L32: =ROUND(E32*F32,2) -> 0 | M32: =ROUND(E32*H32,2) -> 0 | N32: =ROUND(E32*I32,2) -> 0 | O32: =ROUND(E32*J32,2) -> 0 | P32: =SUM(M32:O32) -> 0
A33: 17 | C33: Siltināt grīdu ar ThermoWhite WD100R vai ekvivalents (λ ≤ 0.046 W/mk, dinamiskā slodze 10 kN/m2, spiedes stiprība 70 kPa) 220mm biezumā | D33: m2 | E33: 19.89 | F33: 0 | G33: =IF(F33>0,likme,0) -> 0 | H33: =ROUND(F33*G33,2) -> 0 | I33: 0 | J33: 0 | L33: =ROUND(E33*F33,2) -> 0 | M33: =ROUND(E33*H33,2) -> 0 | N33: =ROUND(E33*I33,2) -> 0 | O33: =ROUND(E33*J33,2) -> 0 | P33: =SUM(M33:O33) -> 0
A34: 18 | C34: Ieklāt PVC plēvi - 200 mkr | D34: m2 | E34: 19.89 | F34: 0 | G34: =IF(F34>0,likme,0) -> 0 | H34: =ROUND(F34*G34,2) -> 0 | I34: 0 | J34: 0 | L34: =ROUND(E34*F34,2) -> 0 | M34: =ROUND(E34*H34,2) -> 0 | N34: =ROUND(E34*I34,2) -> 0 | O34: =ROUND(E34*J34,2) -> 0 | P34: =SUM(M34:O34) -> 0
A35: 19 | C35: Ieklat cementa klona grīdu 74mm biezumā, ieskaitot visus stiprinājumus un palīgmateriālus. Cementa klons Estrich, 74 mm, (Atbilstoši LVS EN 13813:2005L stiprības klase C20, lieces stiprība 4N/mm2, spiedes stiprība 20 N/ mm2, grīda uz siltumizolācijas/peldoša) | D35: m2 | E35: 19.89 | F35: 0 | G35: =IF(F35>0,likme,0) -> 0 | H35: =ROUND(F35*G35,2) -> 0 | I35: 0 | J35: 0 | L35: =ROUND(E35*F35,2) -> 0 | M35: =ROUND(E35*H35,2) -> 0 | N35: =ROUND(E35*I35,2) -> 0 | O35: =ROUND(E35*J35,2) -> 0 | P35: =SUM(M35:O35) -> 0
A36: 20 | C36: Ieklāt PE plēvi 0.2 mm 2 kārtās - 200 mkr, 20 cm pārlaidums ar tvaika plēves līmi Gerbanda 586 vai ekvivalents | D36: m2 | E36: 19.89 | F36: 0 | G36: =IF(F36>0,likme,0) -> 0 | H36: =ROUND(F36*G36,2) -> 0 | I36: 0 | J36: 0 | L36: =ROUND(E36*F36,2) -> 0 | M36: =ROUND(E36*H36,2) -> 0 | N36: =ROUND(E36*I36,2) -> 0 | O36: =ROUND(E36*J36,2) -> 0 | P36: =SUM(M36:O36) -> 0
A37: 21 | C37: G-4 | F37: 0 | G37: =IF(F37>0,likme,0) -> 0 | H37: =ROUND(F37*G37,2) -> 0 | I37: 0 | J37: 0 | L37: =ROUND(E37*F37,2) -> 0 | M37: =ROUND(E37*H37,2) -> 0 | N37: =ROUND(E37*I37,2) -> 0 | O37: =ROUND(E37*J37,2) -> 0 | P37: =SUM(M37:O37) -> 0
A38: 22 | C38: Ieklat blietētu šķembu kārtu fr. 20/40 100mm biezumā | D38: m3 | E38: 27.66 | F38: 0 | G38: =IF(F38>0,likme,0) -> 0 | H38: =ROUND(F38*G38,2) -> 0 | I38: 0 | J38: 0 | L38: =ROUND(E38*F38,2) -> 0 | M38: =ROUND(E38*H38,2) -> 0 | N38: =ROUND(E38*I38,2) -> 0 | O38: =ROUND(E38*J38,2) -> 0 | P38: =SUM(M38:O38) -> 0
A39: 23 | C39: Siltināt grīdu ar ThermoWhite WD100R vai ekvivalents (λ ≤ 0.046 W/mk, dinamiskā slodze 10 kN/m2, spiedes stiprība 70 kPa) 220mm biezumā | D39: m2 | E39: 276.58 | F39: 0 | G39: =IF(F39>0,likme,0) -> 0 | H39: =ROUND(F39*G39,2) -> 0 | I39: 0 | J39: 0 | L39: =ROUND(E39*F39,2) -> 0 | M39: =ROUND(E39*H39,2) -> 0 | N39: =ROUND(E39*I39,2) -> 0 | O39: =ROUND(E39*J39,2) -> 0 | P39: =SUM(M39:O39) -> 0
A40: 24 | C40: Ieklāt PVC plēvi - 200 mkr | D40: m2 | E40: 276.58 | F40: 0 | G40: =IF(F40>0,likme,0) -> 0 | H40: =ROUND(F40*G40,2) -> 0 | I40: 0 | J40: 0 | L40: =ROUND(E40*F40,2) -> 0 | M40: =ROUND(E40*H40,2) -> 0 | N40: =ROUND(E40*I40,2) -> 0 | O40: =ROUND(E40*J40,2) -> 0 | P40: =SUM(M40:O40) -> 0
A41: 25 | C41: Ieklat cementa klona grīdu 82mm biezumā, ieskaitot visus stiprinājumus un palīgmateriālus. Cementa klons Estrich, 82 mm, (Atbilstoši LVS EN 13813:2005L stiprības klase C20, lieces stiprība 4N/mm2, spiedes stiprība 20 N/ mm2, grīda uz siltumizolācijas/peldoša) | D41: m2 | E41: 276.58 | F41: 0 | G41: =IF(F41>0,likme,0) -> 0 | H41: =ROUND(F41*G41,2) -> 0 | I41: 0 | J41: 0 | L41: =ROUND(E41*F41,2) -> 0 | M41: =ROUND(E41*H41,2) -> 0 | N41: =ROUND(E41*I41,2) -> 0 | O41: =ROUND(E41*J41,2) -> 0 | P41: =SUM(M41:O41) -> 0
A42: 26 | C42: G-5 | F42: 0 | G42: =IF(F42>0,likme,0) -> 0 | H42: =ROUND(F42*G42,2) -> 0 | I42: 0 | J42: 0 | L42: =ROUND(E42*F42,2) -> 0 | M42: =ROUND(E42*H42,2) -> 0 | N42: =ROUND(E42*I42,2) -> 0 | O42: =ROUND(E42*J42,2) -> 0 | P42: =SUM(M42:O42) -> 0
A43: 27 | C43: Ieklat blietētu šķembu kārtu fr. 20/40 100mm biezumā | D43: m3 | E43: 14.19 | F43: 0 | G43: =IF(F43>0,likme,0) -> 0 | H43: =ROUND(F43*G43,2) -> 0 | I43: 0 | J43: 0 | L43: =ROUND(E43*F43,2) -> 0 | M43: =ROUND(E43*H43,2) -> 0 | N43: =ROUND(E43*I43,2) -> 0 | O43: =ROUND(E43*J43,2) -> 0 | P43: =SUM(M43:O43) -> 0
A44: 28 | C44: Siltināt grīdu ar ThermoWhite WD100R vai ekvivalents (λ ≤ 0.046 W/mk, dinamiskā slodze 10 kN/m2, spiedes stiprība 70 kPa) 220mm biezumā | D44: m2 | E44: 141.87 | F44: 0 | G44: =IF(F44>0,likme,0) -> 0 | H44: =ROUND(F44*G44,2) -> 0 | I44: 0 | J44: 0 | L44: =ROUND(E44*F44,2) -> 0 | M44: =ROUND(E44*H44,2) -> 0 | N44: =ROUND(E44*I44,2) -> 0 | O44: =ROUND(E44*J44,2) -> 0 | P44: =SUM(M44:O44) -> 0
A45: 29 | C45: Ieklāt PVC plēvi - 200 mkr | D45: m2 | E45: 141.87 | F45: 0 | G45: =IF(F45>0,likme,0) -> 0 | H45: =ROUND(F45*G45,2) -> 0 | I45: 0 | J45: 0 | L45: =ROUND(E45*F45,2) -> 0 | M45: =ROUND(E45*H45,2) -> 0 | N45: =ROUND(E45*I45,2) -> 0 | O45: =ROUND(E45*J45,2) -> 0 | P45: =SUM(M45:O45) -> 0
...

Sheet 1,6
A2: Lokālā tāme Nr.1,6
A3: =KA!C20 -> Jumti, segumi
A4: (būvdarbu veids vai konstruktīvā elementa nosaukums)
A6: Objekta nosaukums: | C6: =KT!B9 -> Garkalnes Mākslas un vispārizglītojošās pamatskolas piebūve
A7: Būves nosaukums: | C7: =KT!B10 -> Garkalnes Mākslas un vispārizglītojošā pamatskola
A8: Objekta adrese: | C8: =KT!B11 -> Ropažu novads, Garkalne, Vidzemes šoseja 34, LV-2137
A9: Pasūtījuma nr.: | C9: =KT!B12 -> 0
A11: Tāme sastādīta 2026. gada tirgus cenās, pamatojoties uz būvprojekta rasējumiem | M11: Tāmes izmaksas: | O11: =P97 -> 0 | P11: EUR
N12: Tāme sastādītā | O12: =KT!C27 -> 0
A14: Nr.p.k. | B14: Kods | C14: Būvdarbu nosaukums | D14: Mērvienība | E14: Daudzums | F14: Vienības izmaksas | L14: Kopā uz visu apjomu
F15: Laika norma (c/h) | G15: Darba samaksas likme (euro/h) | H15: Darba alga | I15: Būvizstrādājumi | J15: Mehānismi | K15: KOPĀ | L15: Darbietilpība (c/h) | M15: Darba alga | N15: Būvizstrādājumi | O15: Mehānismi | P15: Summa
A17: 1 | C17: J-1 | F17: 0 | G17: =IF(F17>0,likme,0) -> 0 | H17: =ROUND(F17*G17,2) -> 0 | I17: 0 | J17: 0 | K17: =SUM(H17:J17) -> 0 | L17: =ROUND(E17*F17,2) -> 0 | M17: =ROUND(E17*H17,2) -> 0 | N17: =ROUND(E17*I17,2) -> 0 | O17: =ROUND(E17*J17,2) -> 0 | P17: =SUM(M17:O17) -> 0
A18: 2 | C18: Ieklāt valcprofila jumta segumu, ieskaitot visus stiprinājumus un palīgmateriālus. | D18: m2 | E18: 628.08 | F18: 0 | G18: =IF(F18>0,likme,0) -> 0 | H18: =ROUND(F18*G18,2) -> 0 | I18: 0 | J18: 0 | K18: =SUM(H18:J18) -> 0 | L18: =ROUND(E18*F18,2) -> 0 | M18: =ROUND(E18*H18,2) -> 0 | N18: =ROUND(E18*I18,2) -> 0 | O18: =ROUND(E18*J18,2) -> 0 | P18: =SUM(M18:O18) -> 0
A19: 3 | C19: Montēt omega-profilu karkasu 75mm biezumā (sānu malas perforētas, lai nodrošinātu gaisa caurplūdi), ieskaitot visus stiprinājumus un palīgmateriālus. | D19: m2 | E19: 628.08 | F19: 0 | G19: =IF(F19>0,likme,0) -> 0 | H19: =ROUND(F19*G19,2) -> 0 | I19: 0 | J19: 0 | K19: =SUM(H19:J19) -> 0 | L19: =ROUND(E19*F19,2) -> 0 | M19: =ROUND(E19*H19,2) -> 0 | N19: =ROUND(E19*I19,2) -> 0 | O19: =ROUND(E19*J19,2) -> 0 | P19: =SUM(M19:O19) -> 0
A20: 4 | C20: Ieklāt difūzijas membrānu Ruukki 150 Fix vai ekvivalents | D20: m2 | E20: 628.08 | F20: 0 | G20: =IF(F20>0,likme,0) -> 0 | H20: =ROUND(F20*G20,2) -> 0 | I20: 0 | J20: 0 | K20: =SUM(H20:J20) -> 0 | L20: =ROUND(E20*F20,2) -> 0 | M20: =ROUND(E20*H20,2) -> 0 | N20: =ROUND(E20*I20,2) -> 0 | O20: =ROUND(E20*J20,2) -> 0 | P20: =SUM(M20:O20) -> 0
A21: 5 | C21: Siltināt jumtu ar PAROC ROB 60 siltumizolācijas plāksni ar melnu pārklājumu (λD ≤ 0,038 W/mK, ugunsreakcijas klase A1) 30mm biezumā vai ekvivalents | D21: m2 | E21: 628.08 | F21: 0 | G21: =IF(F21>0,likme,0) -> 0 | H21: =ROUND(F21*G21,2) -> 0 | I21: 0 | J21: 0 | K21: =SUM(H21:J21) -> 0 | L21: =ROUND(E21*F21,2) -> 0 | M21: =ROUND(E21*H21,2) -> 0 | N21: =ROUND(E21*I21,2) -> 0 | O21: =ROUND(E21*J21,2) -> 0 | P21: =SUM(M21:O21) -> 0
A22: 6 | C22: Siltināt jumtu ar PAROC ROS 30g siltumizolācijas plāksni ar melnu pārklājumu (λD ≤ 0,036 W/mK, ugunsreakcijas klase A1) 200mm biezumā vai ekvivalents | D22: m2 | E22: 628.08 | F22: 0 | G22: =IF(F22>0,likme,0) -> 0 | H22: =ROUND(F22*G22,2) -> 0 | I22: 0 | J22: 0 | K22: =SUM(H22:J22) -> 0 | L22: =ROUND(E22*F22,2) -> 0 | M22: =ROUND(E22*H22,2) -> 0 | N22: =ROUND(E22*I22,2) -> 0 | O22: =ROUND(E22*J22,2) -> 0 | P22: =SUM(M22:O22) -> 0
A23: 7 | C23: Montēt Z-profila karkasu 230mm, ieskaitot visus stiprinājumus un palīgmateriālus. | D23: m2 | E23: 628.08 | F23: 0 | G23: =IF(F23>0,likme,0) -> 0 | H23: =ROUND(F23*G23,2) -> 0 | I23: 0 | J23: 0 | K23: =SUM(H23:J23) -> 0 | L23: =ROUND(E23*F23,2) -> 0 | M23: =ROUND(E23*H23,2) -> 0 | N23: =ROUND(E23*I23,2) -> 0 | O23: =ROUND(E23*J23,2) -> 0 | P23: =SUM(M23:O23) -> 0
A24: 8 | C24: Ieklāt gaisa un tvaika izolācijas plēvi PAROC XMV 020 bas vai ekvivalents | D24: m2 | E24: 628.08 | F24: 0 | G24: =IF(F24>0,likme,0) -> 0 | H24: =ROUND(F24*G24,2) -> 0 | I24: 0 | J24: 0 | K24: =SUM(H24:J24) -> 0 | L24: =ROUND(E24*F24,2) -> 0 | M24: =ROUND(E24*H24,2) -> 0 | N24: =ROUND(E24*I24,2) -> 0 | O24: =ROUND(E24*J24,2) -> 0 | P24: =SUM(M24:O24) -> 0
A25: 9 | C25: J-2 | F25: 0 | G25: =IF(F25>0,likme,0) -> 0 | H25: =ROUND(F25*G25,2) -> 0 | I25: 0 | J25: 0 | K25: =SUM(H25:J25) -> 0 | L25: =ROUND(E25*F25,2) -> 0 | M25: =ROUND(E25*H25,2) -> 0 | N25: =ROUND(E25*I25,2) -> 0 | O25: =ROUND(E25*J25,2) -> 0 | P25: =SUM(M25:O25) -> 0
A26: 10 | C26: Ieklāt valcprofila jumta segumu, ieskaitot visus stiprinājumus un palīgmateriālus. | D26: m2 | E26: 1128.3 | F26: 0 | G26: =IF(F26>0,likme,0) -> 0 | H26: =ROUND(F26*G26,2) -> 0 | I26: 0 | J26: 0 | K26: =SUM(H26:J26) -> 0 | L26: =ROUND(E26*F26,2) -> 0 | M26: =ROUND(E26*H26,2) -> 0 | N26: =ROUND(E26*I26,2) -> 0 | O26: =ROUND(E26*J26,2) -> 0 | P26: =SUM(M26:O26) -> 0
