Workbook

Sheet Būvn. Koptāme
C1: 7.1 pielikums
C2: APSTIPRINU
A4: _____________________________________________________________
A5: (pasūtītāja paraksts un tā atšifrējums)
C6: Z.v.
A8: __________.gada ______.________________
A10: Būvniecības koptāme
A13: Objekta nosaukums : Administratīvās ēkas pārseguma atjaunošana “Kaķukrogs"
A14: Būves nosaukums : Administratīvā ēka
A15: Objekta adrese : ''Kaķukrogs", Vaives pag., Cēsu nov., LV-4136
A16: Pasūtījuma Nr. : 2026/18
A19: Nr.p.k. | B19: Objekta nosaukums | C19: Objekta izmaksas (euro)
A20: 1 | B20: Administratīvās ēkas pārseguma atjaunošana “Kaķukrogs" | C20: =Kopsavilkums!D21 -> 0
B21: kopā | C21: =SUM(C20) -> 0
A23: PVN (21%) | C23: =C21*21% -> 0
B26: Sastādija ___________________________________
B27: (paraksts un tā atšifrējums,datums)
B29: Sertifikāta Nr.

Sheet Kopsavilkums
G1: 7.1 pielikums
C2: Kopsavilkuma aprēķins
A4: Vispārējie būvdarbi.
A5: (darba veids vai konstruktīvā elementa nosaukums)
A7: Objekta nosaukums : Administratīvās ēkas pārseguma atjaunošana “Kaķukrogs"
A8: Būves nosaukums : Administratīvā ēka
A9: Objekta adrese : ''Kaķukrogs", Vaives pag., Cēsu nov., LV-4136
A10: Pasūtījuma Nr. : 2026/18
C11: Par kopējo summu, euro | D11: =D21 -> 0
C12: Kopējā darbietilpība, c/h | D12: =H17 -> 0
A14: Nr.p.k. | B14: Kods, tāmes Nr. | C14: Būvdarbu veids vai konstruktīvā elementa nosaukums | D14: Tāmes izmaksas (euro) | E14: Tai skaitā | H14: Darbietilpība (c/h)
E15: darba alga (euro) | F15: būvizstrādājumi (euro) | G15: mehānismi (euro)
A16: 1 | B16: LT-1 | C16: Vispārējie būvdarbi. | D16: =E16+F16+G16 -> 0 | E16: ='LT1 bk'!M41 -> 0 | F16: ='LT1 bk'!N41 -> 0 | G16: ='LT1 bk'!O41 -> 0 | H16: ='LT1 bk'!L41 -> 0
C17: Kopā : | D17: =SUM(D16:D16) -> 0 | E17: =SUM(E16:E16) -> 0 | F17: =SUM(F16:F16) -> 0 | G17: =SUM(G16:G16) -> 0 | H17: =SUM(H16:H16) -> 0
C18: Virsizdevumi (%) | D18: =D17*0% -> 0
C19: t.sk.darba aizsardzība
C20: Peļņa (%) | D20: =D17*0% -> 0
C21: Pavisam kopā: | D21: =D17+D18+D20 -> 0
C23: Sastādīja _________________________________________________
C24: (paraksts un tā atšifrējums,datums)
C28: Pārbaudīja ________________________________________________
C29: (paraksts un tā atšifrējums,datums)

Sheet LT1 bk
O1: 7.1 pielikums
A2: Lokālā tāme Nr.1
A4: Vispārējie būvdarbi
A5: (būvdarbu veids vai konstruktīvā elementa nosaukums)
C7: Objekta nosaukums: Administratīvās ēkas pārseguma atjaunošana “Kaķukrogs"
C8: Būves nosaukums: Administratīvā ēka
C9: Objekta adrese: ''Kaķukrogs", Vaives pag., Cēsu nov., LV-4136
C10: Pasūtījuma Nr.: 2026/18
K11: Tāmes izmaksas: | M11: Eur | N11: =P41 -> 0
F13: =Kopsavilkums!C3 -> 0
A15: Nr.p.k. | B15: Kods | C15: Būvdarbu nosaukums | D15: Mērvienība | E15: Daudzums | F15: Vienības izmaksas | L15: Kopā uz visu apjomu
F16: Laika norma (c/h) | G16: darba samaksas likme* (euro/h) | H16: darba alga | I16: būvizstrādājumi | J16: mehānismi | K16: kopā | L16: darbietilpība (c/h) | M16: darba alga | N16: būvizstrādājumi | O16: mehānismi | P16: summa
A17: 1 | B17: 2 | C17: 3 | D17: 4 | E17: 5 | F17: 6 | G17: 7 | H17: 8 | I17: 9 | J17: 10 | K17: 11 | L17: 12 | M17: 13 | N17: 14 | O17: 15 | P17: 16
A18: 1 | C18: Demontāžas darbi | H18: =ROUND(G18*F18,2) -> 0 | K18: =ROUND(J18+I18+H18,2) -> 0 | L18: =ROUND(F18*E18,2) -> 0 | M18: =ROUND(H18*E18,2) -> 0 | N18: =ROUND(I18*E18,2) -> 0 | O18: =ROUND(J18*E18,2) -> 0 | P18: =ROUND(O18+N18+M18,2) -> 0
A19: 1.-1 | B19: Līgumc. | C19: Esošās koka laipas demontāža bēniņos pārseguma atjaunošanas zonā | D19: m2 | E19: 20 | H19: =ROUND(G19*F19,2) -> 0 | K19: =ROUND(J19+I19+H19,2) -> 0 | L19: =ROUND(F19*E19,2) -> 0 | M19: =ROUND(H19*E19,2) -> 0 | N19: =ROUND(I19*E19,2) -> 0 | O19: =ROUND(J19*E19,2) -> 0 | P19: =ROUND(O19+N19+M19,2) -> 0
A20: 1.-2 | B20: Līgumc. | C20: Esošās pretvēja izolācijas, membrānas demontāža | D20: m2 | E20: 220 | H20: =ROUND(G20*F20,2) -> 0 | K20: =ROUND(J20+I20+H20,2) -> 0 | L20: =ROUND(F20*E20,2) -> 0 | M20: =ROUND(H20*E20,2) -> 0 | N20: =ROUND(I20*E20,2) -> 0 | O20: =ROUND(J20*E20,2) -> 0 | P20: =ROUND(O20+N20+M20,2) -> 0
A21: 1.-3 | B21: Līgumc. | C21: Esošās siltumizolācijas - minerālvates demontāža un novietošana, uzglabāšana, lai daļu (75%) ieklātu atpakaļ | D21: m2 | E21: 220 | H21: =ROUND(G21*F21,2) -> 0 | K21: =ROUND(J21+I21+H21,2) -> 0 | L21: =ROUND(F21*E21,2) -> 0 | M21: =ROUND(H21*E21,2) -> 0 | N21: =ROUND(I21*E21,2) -> 0 | O21: =ROUND(J21*E21,2) -> 0 | P21: =ROUND(O21+N21+M21,2) -> 0
A22: 1.-4 | B22: Līgumc. | C22: Demontētie melnie griesti "trīnītī", pirms siju blankošanas | D22: m2 | E22: 45 | H22: =ROUND(G22*F22,2) -> 0 | K22: =ROUND(J22+I22+H22,2) -> 0 | L22: =ROUND(F22*E22,2) -> 0 | M22: =ROUND(H22*E22,2) -> 0 | N22: =ROUND(I22*E22,2) -> 0 | O22: =ROUND(J22*E22,2) -> 0 | P22: =ROUND(O22+N22+M22,2) -> 0
A23: 1.-5 | B23: Līgumc. | C23: Demontētie esošie apdares dēļi lielo pārseguma siju sānos, pirms siju blankošanas | D23: m2 | E23: 15 | H23: =ROUND(G23*F23,2) -> 0 | K23: =ROUND(J23+I23+H23,2) -> 0 | L23: =ROUND(F23*E23,2) -> 0 | M23: =ROUND(H23*E23,2) -> 0 | N23: =ROUND(I23*E23,2) -> 0 | O23: =ROUND(J23*E23,2) -> 0 | P23: =ROUND(O23+N23+M23,2) -> 0
A24: 1.-6 | B24: Līgumc. | C24: Demontētie piekārtie elementi pie griestiem, būvdarbu zonā pie atjaunojamām sijām | D24: gb. | E24: 20 | H24: =ROUND(G24*F24,2) -> 0 | K24: =ROUND(J24+I24+H24,2) -> 0 | L24: =ROUND(F24*E24,2) -> 0 | M24: =ROUND(H24*E24,2) -> 0 | N24: =ROUND(I24*E24,2) -> 0 | O24: =ROUND(J24*E24,2) -> 0 | P24: =ROUND(O24+N24+M24,2) -> 0
A25: 1.-7 | B25: Līgumc. | C25: Būvgružu utilizācija (ieskaitot celt. materiālu iepakojumu un atgriezumus) | D25: m3 | E25: 12 | H25: =ROUND(G25*F25,2) -> 0 | K25: =ROUND(J25+I25+H25,2) -> 0 | L25: =ROUND(F25*E25,2) -> 0 | M25: =ROUND(H25*E25,2) -> 0 | N25: =ROUND(I25*E25,2) -> 0 | O25: =ROUND(J25*E25,2) -> 0 | P25: =ROUND(O25+N25+M25,2) -> 0
A26: 2 | C26: Atjaunošanas darbi | H26: =ROUND(G26*F26,2) -> 0 | K26: =ROUND(J26+I26+H26,2) -> 0 | L26: =ROUND(F26*E26,2) -> 0 | M26: =ROUND(H26*E26,2) -> 0 | N26: =ROUND(I26*E26,2) -> 0 | O26: =ROUND(J26*E26,2) -> 0 | P26: =ROUND(O26+N26+M26,2) -> 0
A27: 2.-1 | B27: Līgumc. | C27: Pārseguma siju (bojāto, trupējušo elementu) blankošana, ar blankām no abām pusēm, 2 gab. 95x195x6000 mm, kalibrēts ēvelēts kokmateriāls C24, ieskaitot apstrādi ar antipirēniem, ieskaitot stiprinājuma elementus bultskrūves ar uzgriežņiem vai vītņstieņus (stipr. kl. 4.8) un zobotos pretbīdņus (RIS-1) | D27: kpl. | E27: 6 | H27: =ROUND(G27*F27,2) -> 0 | K27: =ROUND(J27+I27+H27,2) -> 0 | L27: =ROUND(F27*E27,2) -> 0 | M27: =ROUND(H27*E27,2) -> 0 | N27: =ROUND(I27*E27,2) -> 0 | O27: =ROUND(J27*E27,2) -> 0 | P27: =ROUND(O27+N27+M27,2) -> 0
A28: 2.-2 | B28: Līgumc. | C28: Pārseguma siju (bojāto, trupējušo elementu) blankošana, ar blankām no abām pusēm, 2 gab. 95x195x2500 mm, kalibrēts ēvelēts kokmateriāls C24, ieskaitot apstrādi ar antipirēniem, ieskaitot stiprinājuma elementus bultskrūves ar uzgriežņiem vai vītņstieņus (stipr. kl. 4.8) un zobotos pretbīdņus (RIS-2) | D28: kpl. | E28: 2 | H28: =ROUND(G28*F28,2) -> 0 | K28: =ROUND(J28+I28+H28,2) -> 0 | L28: =ROUND(F28*E28,2) -> 0 | M28: =ROUND(H28*E28,2) -> 0 | N28: =ROUND(I28*E28,2) -> 0 | O28: =ROUND(J28*E28,2) -> 0 | P28: =ROUND(O28+N28+M28,2) -> 0
A29: 2.-3 | B29: Līgumc. | C29: Pārseguma siju (bojāto, trupējušo elementu) blankošana, ar blankām no abām pusēm, 2 gab. 45x195x2500 mm, kalibrēts ēvelēts kokmateriāls C24, ieskaitot apstrādi ar antipirēniem, ieskaitot stiprinājuma elementus bultskrūves ar uzgriežņiem vai vītņstieņus (stipr. kl. 4.8) un zobotos pretbīdņus (RIS-3) | D29: kpl. | E29: 4 | H29: =ROUND(G29*F29,2) -> 0 | K29: =ROUND(J29+I29+H29,2) -> 0 | L29: =ROUND(F29*E29,2) -> 0 | M29: =ROUND(H29*E29,2) -> 0 | N29: =ROUND(I29*E29,2) -> 0 | O29: =ROUND(J29*E29,2) -> 0 | P29: =ROUND(O29+N29+M29,2) -> 0
A30: 2.-4 | B30: Līgumc. | C30: Pārseguma siju (bojāto, trupējušo elementu) blankošana, ar blanku no vienas puses, 45x195x2500 mm, kalibrēts ēvelēts kokmateriāls C24, ieskaitot apstrādi ar antipirēniem, ieskaitot stiprinājuma elementus bultskrūves ar uzgriežņiem vai vītņstieņus (stipr. kl. 4.8) un zobotos pretbīdņus (RIS-3) | D30: kpl. | E30: 1 | H30: =ROUND(G30*F30,2) -> 0 | K30: =ROUND(J30+I30+H30,2) -> 0 | L30: =ROUND(F30*E30,2) -> 0 | M30: =ROUND(H30*E30,2) -> 0 | N30: =ROUND(I30*E30,2) -> 0 | O30: =ROUND(J30*E30,2) -> 0 | P30: =ROUND(O30+N30+M30,2) -> 0
A31: 2.-5 | B31: Līgumc. | C31: Centrālās koka brusas (bojāto, trupējušo elementu) blankošana, ar blanku no vienas puses, 95x195x6000 mm, kalibrēts ēvelēts kokmateriāls C24, ieskaitot apstrādi ar antipirēniem, ieskaitot stiprinājuma elementus bultskrūves ar uzgriežņiem vai vītņstieņus (stipr. kl. 4.8) un zobotos pretbīdņus (līdzīgi RIS-1) | D31: kpl. | E31: 3 | H31: =ROUND(G31*F31,2) -> 0 | K31: =ROUND(J31+I31+H31,2) -> 0 | L31: =ROUND(F31*E31,2) -> 0 | M31: =ROUND(H31*E31,2) -> 0 | N31: =ROUND(I31*E31,2) -> 0 | O31: =ROUND(J31*E31,2) -> 0 | P31: =ROUND(O31+N31+M31,2) -> 0
A32: 2.-6 | B32: Līgumc. | C32: Atgāžņu un spārtura, statņa savienojumu stiprināšana jumta krēslam, izmantojot tērauda L-profilus un stiprinājuma elementus bultskrūves ar uzgriežņiem vai vītņstieņus (stipr. kl. 4.8) (RIS-4) | D32: kpl. | E32: 10 | H32: =ROUND(G32*F32,2) -> 0 | K32: =ROUND(J32+I32+H32,2) -> 0 | L32: =ROUND(F32*E32,2) -> 0 | M32: =ROUND(H32*E32,2) -> 0 | N32: =ROUND(I32*E32,2) -> 0 | O32: =ROUND(J32*E32,2) -> 0 | P32: =ROUND(O32+N32+M32,2) -> 0
A33: 2.-7 | B33: Līgumc. | C33: Papildus uzstādīto statņu un spārtura savienojumu stiprināšana jumta krēslam, izmantojot tērauda L-profilus un stiprinājuma elementus bultskrūves ar uzgriežņiem vai vītņstieņus (stipr. kl. 4.8) (RIS-4) | D33: kpl. | E33: 6 | H33: =ROUND(G33*F33,2) -> 0 | K33: =ROUND(J33+I33+H33,2) -> 0 | L33: =ROUND(F33*E33,2) -> 0 | M33: =ROUND(H33*E33,2) -> 0 | N33: =ROUND(I33*E33,2) -> 0 | O33: =ROUND(J33*E33,2) -> 0 | P33: =ROUND(O33+N33+M33,2) -> 0
A34: 2.-8 | B34: Līgumc. | C34: Spārtura savienojumu atjaunošana ar uzliktņiem no abām pusēm, 45x145x600 mm, kalibrēts ēvelēts kokmateriāls C24, ieskaitot apstrādi ar antipirēniem, ieskaitot stiprinājuma elementus naglas vai kokskrūves | D34: kpl. | E34: 10 | H34: =ROUND(G34*F34,2) -> 0 | K34: =ROUND(J34+I34+H34,2) -> 0 | L34: =ROUND(F34*E34,2) -> 0 | M34: =ROUND(H34*E34,2) -> 0 | N34: =ROUND(I34*E34,2) -> 0 | O34: =ROUND(J34*E34,2) -> 0 | P34: =ROUND(O34+N34+M34,2) -> 0
A35: 2.-9 | B35: Līgumc. | C35: Spārēm un savilcēm, kas nav kopņu sistēmā uzstāda abpusējas skavas, lai fiksētu to savienojumu ar spārturi, skavas 2 gab. ∅10, izgatavota no B500B | D35: kpl. | E35: 18 | H35: =ROUND(G35*F35,2) -> 0 | K35: =ROUND(J35+I35+H35,2) -> 0 | L35: =ROUND(F35*E35,2) -> 0 | M35: =ROUND(H35*E35,2) -> 0 | N35: =ROUND(I35*E35,2) -> 0 | O35: =ROUND(J35*E35,2) -> 0 | P35: =ROUND(O35+N35+M35,2) -> 0
A36: 2.-10 | B36: Līgumc. | C36: Atjaunojamie melnie griesti "trīnītī", pēc siju blankošanas, ieskaitot kokmateriālu 28x145x4500 mm un latas 45x45x4500 mm, kalibrēts ēvelēts kokmateriāls ≥C18, ieskaitot apstrādi ar antipirēniem | D36: m2 | E36: 45 | H36: =ROUND(G36*F36,2) -> 0 | K36: =ROUND(J36+I36+H36,2) -> 0 | L36: =ROUND(F36*E36,2) -> 0 | M36: =ROUND(H36*E36,2) -> 0 | N36: =ROUND(I36*E36,2) -> 0 | O36: =ROUND(J36*E36,2) -> 0 | P36: =ROUND(O36+N36+M36,2) -> 0
A37: 2.-11 | B37: Līgumc. | C37: Siltumizolācijas - minerālvates 2 kārtās ar kopējo biezumu 200 mm atjaunošana pārsegumā pēc atjaunošanas darbiem (esošās izolācijas ieklāšana atpakaļ, jauna izolācija 25% apjomā, 55.00 m2) | D37: m2 | E37: 220 | H37: =ROUND(G37*F37,2) -> 0 | K37: =ROUND(J37+I37+H37,2) -> 0 | L37: =ROUND(F37*E37,2) -> 0 | M37: =ROUND(H37*E37,2) -> 0 | N37: =ROUND(I37*E37,2) -> 0 | O37: =ROUND(J37*E37,2) -> 0 | P37: =ROUND(O37+N37+M37,2) -> 0
A38: 2.-12 | B38: Līgumc. | C38: Pretvēja izolācijas, membrānas atjaunošana pārsegumā pēc atjaunošanas darbiem (jauns materiāls) | D38: m2 | E38: 220 | H38: =ROUND(G38*F38,2) -> 0 | K38: =ROUND(J38+I38+H38,2) -> 0 | L38: =ROUND(F38*E38,2) -> 0 | M38: =ROUND(H38*E38,2) -> 0 | N38: =ROUND(I38*E38,2) -> 0 | O38: =ROUND(J38*E38,2) -> 0 | P38: =ROUND(O38+N38+M38,2) -> 0
... A40: 2.-14 | B40: Līgumc. | C40: Esošo piekārto elementu atpakaļmontāža, jaunas koka latas škērsām pārseguma sijām, 45x145x4000 mm, kalibrēts ēvelēts kokmateriāls C24 (apjoms 0.6 m3), ieskaitot stiprinājuma elementus bultskrūves ar uzgriežņiem vai vītņstieņus (stipr. kl. 4.8) | D40: gb. | E40: 20 | H40: =ROUND(G40*F40,2) -> 0 | K40: =ROUND(J40+I40+H40,2) -> 0 | L40: =ROUND(F40*E40,2) -> 0 | M40: =ROUND(H40*E40,2) -> 0 | N40: =ROUND(I40*E40,2) -> 0 | O40: =ROUND(J40*E40,2) -> 0 | P40: =ROUND(O40+N40+M40,2) -> 0
C41: Tiešās izmaksas kopā, t.sk. darba devēja sociālais nodoklis (23,59%) | L41: =SUM(L19:L40) -> 0 | M41: =SUM(M19:M40) -> 0 | N41: =SUM(N19:N40) -> 0 | O41: =SUM(O19:O40) -> 0 | P41: =ROUND(O41+N41+M41,2) -> 0
C44: =Kopsavilkums!C23:G23 -> Sastādīja _________________________________________________
C45: (paraksts un tā atšifrējums,datums)
C46: =Kopsavilkums!C25 -> 0
C49: =Kopsavilkums!C28:G28 -> Pārbaudīja ________________________________________________
C50: (paraksts un tā atšifrējums,datums)
C52: =Kopsavilkums!C31 -> 0

Sheet LT4 uats
A2: Lokālā tāme Nr.4
C4: Ugunsgrēka atklāšanas un trauksmes signalizācijas sistēma (UATS)
A5: (darba veids vai konstruktīvā elementa nosaukums)
C7: Objekta nosaukums: Raunas pamatskolas ēkas pārbūve
C8: Būves nosaukums: Pamatskola
C9: Objekta adrese: Skolas iela3, Rauna, Smiltenes novads
C10: Pasūtījuma Nr.:SNP–S- PA/BPR/ESAN/2-24
C11: Tāme sastādīta 2025.gada tirgus cenās,pamatojoties uz UATS daļas rasējumiem. | K11: Tāmes izmaksas: | M11: Eur | N11: =P42 -> 12920.78
F13: =Kopsavilkums!C25 -> 0
A15: Nr.p.k. | B15: Kods | C15: Būvdarbu nosaukums | D15: Mērvienība | E15: Daudzums | F15: Vienības izmaksas | L15: Kopā uz visu apjomu
F16: Laika norma (c/h) | G16: darba samaksas likme* (euro/h) | H16: darba alga | I16: būvizstrādājumi | J16: mehānismi | K16: kopā | L16: darbietilpība (c/h) | M16: darba alga | N16: būvizstrādājumi | O16: mehānismi | P16: summa
A17: 1 | B17: 2 | C17: 3 | D17: 4 | E17: 5 | F17: 6 | G17: 7 | H17: 8 | I17: 9 | J17: 10 | K17: 11 | L17: 12 | M17: 13 | N17: 14 | O17: 15 | P17: 16
A18: 1 | B18: Līgumc. | C18: Ugunsdrošības signalizācijas sistēmas centrāle 4-36 zonas SmartLine 36/04 | D18: gab. | E18: 1 | F18: 20 | G18: 14 | H18: =ROUND(G18*F18,2) -> 280 | I18: 240 | J18: 12 | K18: =ROUND(J18+I18+H18,2) -> 532 | L18: =ROUND(F18*E18,2) -> 20 | M18: =ROUND(H18*E18,2) -> 280 | N18: =ROUND(I18*E18,2) -> 240 | O18: =ROUND(J18*E18,2) -> 12 | P18: =ROUND(O18+N18+M18,2) -> 532
A19: 2 | B19: Līgumc. | C19: 8 zonu paplašinātājs Smartline 8Z SmartLine/8Z | D19: gab. | E19: 1 | F19: 2 | G19: 14 | H19: =ROUND(G19*F19,2) -> 28 | I19: 48 | J19: 2.4 | K19: =ROUND(J19+I19+H19,2) -> 78.4 | L19: =ROUND(F19*E19,2) -> 2 | M19: =ROUND(H19*E19,2) -> 28 | N19: =ROUND(I19*E19,2) -> 48 | O19: =ROUND(J19*E19,2) -> 2.4 | P19: =ROUND(O19+N19+M19,2) -> 78.4
A20: 3 | B20: Līgumc. | C20: Akumulators, 18Ah 12Vdc TC18-12 | D20: gab. | E20: 2 | F20: 0.5 | G20: 14 | H20: =ROUND(G20*F20,2) -> 7 | I20: 72 | J20: 3.6 | K20: =ROUND(J20+I20+H20,2) -> 82.6 | L20: =ROUND(F20*E20,2) -> 1 | M20: =ROUND(H20*E20,2) -> 14 | N20: =ROUND(I20*E20,2) -> 144 | O20: =ROUND(J20*E20,2) -> 7.2 | P20: =ROUND(O20+N20+M20,2) -> 165.2
A21: 4 | B21: Līgumc. | C21: Dūmu detektors, 8-30 VDC, iznesamā indikatora izeja, tālvadības trauksmes pārbaudes funkcija, EN54 sertifikāts, darbības temperatūra - 20 °C līdz + 60 °C ECO1003A | D21: gab. | E21: 41 | F21: 0.3 | G21: 14 | H21: =ROUND(G21*F21,2) -> 4.2 | I21: 25.6 | J21: 1.28 | K21: =ROUND(J21+I21+H21,2) -> 31.08 | L21: =ROUND(F21*E21,2) -> 12.3 | M21: =ROUND(H21*E21,2) -> 172.2 | N21: =ROUND(I21*E21,2) -> 1049.6 | O21: =ROUND(J21*E21,2) -> 52.48 | P21: =ROUND(O21+N21+M21,2) -> 1274.28
A22: 5 | B22: Līgumc. | C22: Siltuma detektors, 8-20 VDC, iznesamā indikatora izeja, tālvadības trauksmes pārbaudes funkcija, EN54 sertifikāts, darbības temperatūra - 20 °C līdz + 60 °C ECO1005A | D22: gab. | E22: 17 | F22: 0.3 | G22: 14 | H22: =ROUND(G22*F22,2) -> 4.2 | I22: 22.4 | J22: 1.12 | K22: =ROUND(J22+I22+H22,2) -> 27.72 | L22: =ROUND(F22*E22,2) -> 5.1 | M22: =ROUND(H22*E22,2) -> 71.4 | N22: =ROUND(I22*E22,2) -> 380.8 | O22: =ROUND(J22*E22,2) -> 19.04 | P22: =ROUND(O22+N22+M22,2) -> 471.24
A23: 6 | B23: Līgumc. | C23: Dūmu/Siltuma detektora pamatne ECO1000B | D23: gab. | E23: 58 | F23: 0.7 | G23: 14 | H23: =ROUND(G23*F23,2) -> 9.8 | I23: 6.56 | J23: 0.33 | K23: =ROUND(J23+I23+H23,2) -> 16.69 | L23: =ROUND(F23*E23,2) -> 40.6 | M23: =ROUND(H23*E23,2) -> 568.4 | N23: =ROUND(I23*E23,2) -> 380.48 | O23: =ROUND(J23*E23,2) -> 19.14 | P23: =ROUND(O23+N23+M23,2) -> 968.02
A24: 7 | B24: Līgumc. | C24: RI9000 kārba ar indikātoru 75x75x22 RI9000 | D24: gab. | E24: 13 | F24: 0.3 | G24: 14 | H24: =ROUND(G24*F24,2) -> 4.2 | I24: 4 | J24: 0.2 | K24: =ROUND(J24+I24+H24,2) -> 8.4 | L24: =ROUND(F24*E24,2) -> 3.9 | M24: =ROUND(H24*E24,2) -> 54.6 | N24: =ROUND(I24*E24,2) -> 52 | O24: =ROUND(J24*E24,2) -> 2.6 | P24: =ROUND(O24+N24+M24,2) -> 109.2
A25: 8 | B25: Līgumc. | C25: Manuālais izsaukuma punkts MCP50 | D25: gab. | E25: 6 | F25: 1 | G25: 14 | H25: =ROUND(G25*F25,2) -> 14 | I25: 9.6 | J25: 0.48 | K25: =ROUND(J25+I25+H25,2) -> 24.08 | L25: =ROUND(F25*E25,2) -> 6 | M25: =ROUND(H25*E25,2) -> 84 | N25: =ROUND(I25*E25,2) -> 57.6 | O25: =ROUND(J25*E25,2) -> 2.88 | P25: =ROUND(O25+N25+M25,2) -> 144.48
A26: 9 | B26: Līgumc. | C26: Aizsargstikls manuālajam izsaukuma punktam MCP50/Cover | D26: gab. | E26: 6 | F26: 0.1 | G26: 14 | H26: =ROUND(G26*F26,2) -> 1.4 | I26: 3.2 | J26: 0.16 | K26: =ROUND(J26+I26+H26,2) -> 4.76 | L26: =ROUND(F26*E26,2) -> 0.6 | M26: =ROUND(H26*E26,2) -> 8.4 | N26: =ROUND(I26*E26,2) -> 19.2 | O26: =ROUND(J26*E26,2) -> 0.96 | P26: =ROUND(O26+N26+M26,2) -> 28.56
A27: 10 | B27: Līgumc. | C27: Trauksmes pogu apzīmējumi (plāsknes) | D27: gab. | E27: 6 | F27: 0.2 | G27: 14 | H27: =ROUND(G27*F27,2) -> 2.8 | I27: 6.4 | J27: 0.32 | K27: =ROUND(J27+I27+H27,2) -> 9.52 | L27: =ROUND(F27*E27,2) -> 1.2 | M27: =ROUND(H27*E27,2) -> 16.8 | N27: =ROUND(I27*E27,2) -> 38.4 | O27: =ROUND(J27*E27,2) -> 1.92 | P27: =ROUND(O27+N27+M27,2) -> 57.12
A28: 11 | B28: Līgumc. | C28: Iekštelpu trauksmes sirēna SF 100 RSND | D28: gab. | E28: 12 | F28: 1 | G28: 14 | H28: =ROUND(G28*F28,2) -> 14 | I28: 17.6 | J28: 0.88 | K28: =ROUND(J28+I28+H28,2) -> 32.48 | L28: =ROUND(F28*E28,2) -> 12 | M28: =ROUND(H28*E28,2) -> 168 | N28: =ROUND(I28*E28,2) -> 211.2 | O28: =ROUND(J28*E28,2) -> 10.56 | P28: =ROUND(O28+N28+M28,2) -> 389.76
A29: 12 | B29: Līgumc. | C29: Ārtelpu trauksmes sirēna ar LED lampu IP65 VALKYRIE CSB | D29: gab. | E29: 1 | F29: 2 | G29: 14 | H29: =ROUND(G29*F29,2) -> 28 | I29: 32 | J29: 1.6 | K29: =ROUND(J29+I29+H29,2) -> 61.6 | L29: =ROUND(F29*E29,2) -> 2 | M29: =ROUND(H29*E29,2) -> 28 | N29: =ROUND(I29*E29,2) -> 32 | O29: =ROUND(J29*E29,2) -> 1.6 | P29: =ROUND(O29+N29+M29,2) -> 61.6
... A36: 19 | B36: Līgumc. | C36: Instalācijas materiāli | D36: kompl. | E36: 1 | F36: 8 | G36: 14 | H36: =ROUND(G36*F36,2) -> 112 | I36: 480 | J36: 24 | K36: =ROUND(J36+I36+H36,2) -> 616 | L36: =ROUND(F36*E36,2) -> 8 | M36: =ROUND(H36*E36,2) -> 112 | N36: =ROUND(I36*E36,2) -> 480 | O36: =ROUND(J36*E36,2) -> 24 | P36: =ROUND(O36+N36+M36,2) -> 616
A37: 20 | C37: Citi Darbi | H37: =ROUND(G37*F37,2) -> 0 | K37: =ROUND(J37+I37+H37,2) -> 0 | L37: =ROUND(F37*E37,2) -> 0 | M37: =ROUND(H37*E37,2) -> 0 | N37: =ROUND(I37*E37,2) -> 0 | O37: =ROUND(J37*E37,2) -> 0 | P37: =ROUND(O37+N37+M37,2) -> 0
A38: 21 | B38: Līgumc. | C38: Iekārtu un kabeļu marķēšana | D38: kompl. | E38: 1 | F38: 8 | G38: 14 | H38: =ROUND(G38*F38,2) -> 112 | I38: 0 | J38: 0 | K38: =ROUND(J38+I38+H38,2) -> 112 | L38: =ROUND(F38*E38,2) -> 8 | M38: =ROUND(H38*E38,2) -> 112 | N38: =ROUND(I38*E38,2) -> 0 | O38: =ROUND(J38*E38,2) -> 0 | P38: =ROUND(O38+N38+M38,2) -> 112
A39: 22 | B39: Līgumc. | C39: Sistēmas programmēšana, ieregulēšana un palaišana | D39: kompl. | E39: 1 | F39: 20 | G39: 14 | H39: =ROUND(G39*F39,2) -> 280 | I39: 0 | J39: 0 | K39: =ROUND(J39+I39+H39,2) -> 280 | L39: =ROUND(F39*E39,2) -> 20 | M39: =ROUND(H39*E39,2) -> 280 | N39: =ROUND(I39*E39,2) -> 0 | O39: =ROUND(J39*E39,2) -> 0 | P39: =ROUND(O39+N39+M39,2) -> 280
A40: 23 | B40: Līgumc. | C40: Personāla apmācība | D40: kompl. | E40: 1 | F40: 4 | G40: 14 | H40: =ROUND(G40*F40,2) -> 56 | I40: 0 | J40: 0 | K40: =ROUND(J40+I40+H40,2) -> 56 | L40: =ROUND(F40*E40,2) -> 4 | M40: =ROUND(H40*E40,2) -> 56 | N40: =ROUND(I40*E40,2) -> 0 | O40: =ROUND(J40*E40,2) -> 0 | P40: =ROUND(O40+N40+M40,2) -> 56
A41: 24 | B41: Līgumc. | C41: Darbu izpildes dokumentācija | D41: kompl. | E41: 1 | F41: 70 | G41: 14 | H41: =ROUND(G41*F41,2) -> 980 | I41: 0 | J41: 0 | K41: =ROUND(J41+I41+H41,2) -> 980 | L41: =ROUND(F41*E41,2) -> 70 | M41: =ROUND(H41*E41,2) -> 980 | N41: =ROUND(I41*E41,2) -> 0 | O41: =ROUND(J41*E41,2) -> 0 | P41: =ROUND(O41+N41+M41,2) -> 980
C42: Tiešās izmaksas kopā, t.sk. darba devēja sociālais nodoklis (23,59%) | L42: =SUM(L18:L41) -> 403.4 | M42: =SUM(M18:M41) -> 5647.6 | N42: =SUM(N18:N41) -> 6926.56 | O42: =SUM(O18:O41) -> 346.62 | P42: =ROUND(O42+N42+M42,2) -> 12920.78
C45: ='LT1 bk'!C44:P44 -> Sastādīja _________________________________________________
C46: (paraksts un tā atšifrējums,datums)
C47: ='LT1 bk'!C46:P46 -> 0
C50: ='LT1 bk'!C49:P49 -> Pārbaudīja ________________________________________________
C51: (paraksts un tā atšifrējums,datums)
C53: ='LT1 bk'!C52:N52 -> 0
C57: dewqdewdew
