Workbook

Sheet Koptāme
C1: APSTIPRINU
C2: (pasūtītāja paraksts un atšifrējums)
D3: Z.v.
C5: 2025.gada .
A7: Būvniecības koptāme
A9: Būvobjekta nosaukums: | C9: Sporta halles remonts
A10: Būves nosaukums: | C10: Sporta halles remonts
A11: Objekta adrese: | C11: Gaujas iela 1, Smiltene, Smiltenes novads, LV-4729
A12: Pasūtījuma Nr.:
A14: Nr.p.k. | B14: Objekta nosaukums | D14: Objekta izmaksas (euro)
A15: 1 | B15: 2 | D15: 3
A16: 1 | B16: =Kopsavilkums!A4 -> 2.DAĻA "SMILTENES SPORTA HALLES TRENAŽIERU ZĀLES UN FOAJĒ TEPLAS KOSMĒTISKAIS REMONTS" | D16: =Kopsavilkums!D24 -> 0
A17: KOPĀ: | D17: =SUM(D16) -> 0
A18: 0.21 | D18: =ROUND(D17*0.21,2) -> 0
A19: PAVISAM KOPĀ: | D19: =ROUND(SUM(D17:D18),2) -> 0
A23: Sastādīja:
B24: (paraksts un tā atšifrējums, datums)
A26: Sertifikāta Nr.
A28: Tāme sastādīta | C28: 2026.gada 22.jūlijs

Sheet Kopsavilkums
A2: Kopsavilkums aprēķins Nr. | E2: 1
A4: 2.DAĻA "SMILTENES SPORTA HALLES TRENAŽIERU ZĀLES UN FOAJĒ TEPLAS KOSMĒTISKAIS REMONTS"
A5: (būvdarbu veids vai konstruktīvā elementa nosaukums)
A7: Būvobjekta nosaukums: | C7: Sporta halles remonts
A8: Būves nosaukums: | C8: Sporta halles remonts
A9: Objekta adrese: | C9: Gaujas iela 1, Smiltene, Smiltenes novads, LV-4729
A10: Pasūtījuma Nr.: | C10: =[1]Koptāme!C12 -> 0
C12: Par kopējo summu (euro) | D12: =D24 -> 0
C13: Kopējā darbietilpība (c/st) | D13: =H20 -> 0
A15: Nr.p.k. | B15: Kods, tāmes Nr. | C15: Būvdarbu veids vai konstruktīvā elementa nosaukums | D15: Tāmes izmaksas | E15: Tai skaitā | H15: Darb-ietilpība c/st
E16: Darba alga | F16: Būvizstrādājumi | G16: Mehānismi
A17: 1 | B17: 2 | C17: 3 | D17: 4 | E17: 5 | F17: 6 | G17: 7 | H17: 8
A18: 1 | B18: 1 | C18: Trenežieru zāles remonts | D18: =ROUND(SUM(E18:G18),2) -> 0 | E18: ='Trenežieru zāle'!M30 -> 0 | F18: ='Trenežieru zāle'!N30 -> 0 | G18: ='Trenežieru zāle'!O30 -> 0 | H18: ='Trenežieru zāle'!L30 -> 0
A19: 1 | B19: 2 | C19: Sporta halles foajē remonts | D19: =ROUND(SUM(E19:G19),2) -> 0 | E19: ='Sporta halles foajē'!M33 -> 0 | F19: ='Sporta halles foajē'!N33 -> 0 | G19: ='Sporta halles foajē'!O33 -> 0 | H19: ='Sporta halles foajē'!L33 -> 0
C20: Kopā | D20: =ROUND(SUM(D18:D19),2) -> 0 | E20: =ROUND(SUM(E18:E19),2) -> 0 | F20: =ROUND(SUM(F18:F19),2) -> 0 | G20: =ROUND(SUM(G18:G19),2) -> 0 | H20: =ROUND(SUM(H18:H19),2) -> 0
B21: 0 | C21: Virsizdevumi | D21: =ROUND(D20*B21,2) -> 0
B22: 0 | C22: t.sk. darba aizsardzība | D22: =ROUND(D21*B22,2) -> 0
B23: 0 | C23: Peļņa | D23: =ROUND(D20*B23,2) -> 0
C24: Pavisam kopā | D24: =ROUND(D23+D21+D20,2) -> 0
A27: Sastādīja:
B28: (paraksts un tā atšifrējums, datums)
A30: Sertifikāta Nr.
A32: Tāme sastādīta | C32: 2026.gada 22.jūlijs
A34: Pārbaudīja:
B35: (paraksts un tā atšifrējums, datums)
A37: Sertifikāta Nr.
D40: =[1]Koptāme!C31 -> 0
D41: =[1]Koptāme!C32 -> 0
D42: =[1]Koptāme!C33 -> 0
D43: =[1]Koptāme!C34 -> 0
D44: =[1]Koptāme!C35 -> 0
D45: =[1]Koptāme!C36 -> 0
D46: =[1]Koptāme!C37 -> 0

Sheet Trenežieru zāle
A1: Lokālā tāme Nr. | G1: 1
A2: =Kopsavilkums!A4 -> 2.DAĻA "SMILTENES SPORTA HALLES TRENAŽIERU ZĀLES UN FOAJĒ TEPLAS KOSMĒTISKAIS REMONTS"
A3: (būvdarbu veids vai konstruktīvā elementa nosaukums)
A4: Būvobjekta nosaukums: | C4: Trenežieru zāles (1. telpa) kosmētiskais remonts
A5: Būves nosaukums: | C5: Trenežieru zāles (1. telpa) kosmētiskais remonts
A6: Objekta adrese: | C6: Gaujas iela 1, Smiltene, Smiltenes novads, LV-4729
A7: Pasūtījuma Nr.:
A8: Tāme sastādīta 2026.gada tirgus cenās.. | K8: Tāmes izmaksas | N8: =P30 -> 0 | P8: euro
K9: Tāme sastādīta | N9: 2026.gada 22.jūlijs
A11: Nr.p.k. | B11: Kods | C11: Darba nosaukums | D11: Mērvienība | E11: Daudzums | F11: Vienības izmaksas | L11: Kopā uz visu apjomu
F12: Laika norma, c/st. | G12: Darba samaksas likme, EUR/st. | H12: Darba alga, EUR | I12: Materiāli, EUR | J12: Mehānismi, EUR | K12: Kopā | L12: Darbietilpība, c/st. | M12: Darba alga, EUR | N12: Materiāli, EUR | O12: Mehānismi, EUR | P12: Summa, EUR
A13: 1 | B13: 2 | C13: 3 | D13: 4 | E13: 5 | F13: 6 | G13: 7 | H13: 8 | I13: 9 | J13: 10 | K13: 11 | L13: 12 | M13: 13 | N13: 14 | O13: 15 | P13: 16
C14: Demontāžas darbi
A15: 1 | C15: Koka apšuvumu demontāža no sienām un tā utilizācija (OSB plāksnes un dēļu apšuvums) | D15: m2 | E15: 12.48 | F15: 0 | G15: 0 | H15: =ROUND(G15*F15,2) -> 0 | I15: 0 | J15: 0 | K15: =ROUND(SUM(H15:J15),2) -> 0 | L15: =ROUND(E15*F15,2) -> 0 | M15: =ROUND(E15*H15,2) -> 0 | N15: =ROUND(I15*E15,2) -> 0 | O15: =ROUND(J15*E15,2) -> 0 | P15: =ROUND(SUM(M15:O15),2) -> 0
A16: 2 | C16: Ģipškartona sienas apšuvuma demontāža no trenežieru zāles ārējās sienas un tā utilizācija | D16: m2 | E16: 44.67 | F16: 0 | G16: 0 | H16: =ROUND(G16*F16,2) -> 0 | I16: 0 | J16: 0 | K16: =ROUND(SUM(H16:J16),2) -> 0 | L16: =ROUND(E16*F16,2) -> 0 | M16: =ROUND(E16*H16,2) -> 0 | N16: =ROUND(I16*E16,2) -> 0 | O16: =ROUND(J16*E16,2) -> 0 | P16: =ROUND(SUM(M16:O16),2) -> 0
A17: 3 | C17: Elementu, kas stiprināti pie sienām, demontāža un montāža atpakaļ pēc darbu pabeigšanas (spoguļi, plaukti u.c.) | D17: kpl | E17: 1 | F17: 0 | G17: 0 | H17: =ROUND(G17*F17,2) -> 0 | I17: 0 | J17: 0 | K17: =ROUND(SUM(H17:J17),2) -> 0 | L17: =ROUND(E17*F17,2) -> 0 | M17: =ROUND(E17*H17,2) -> 0 | N17: =ROUND(I17*E17,2) -> 0 | O17: =ROUND(J17*E17,2) -> 0 | P17: =ROUND(SUM(M17:O17),2) -> 0
A18: 4 | C18: Gaismekļu un dūmu detektora demontāža un montāža atpakaļ pēc darbu pabeigšanas | D18: kpl | E18: 1 | F18: 0 | G18: 0 | H18: =ROUND(G18*F18,2) -> 0 | I18: 0 | J18: 0 | K18: =ROUND(SUM(H18:J18),2) -> 0 | L18: =ROUND(E18*F18,2) -> 0 | M18: =ROUND(E18*H18,2) -> 0 | N18: =ROUND(I18*E18,2) -> 0 | O18: =ROUND(J18*E18,2) -> 0 | P18: =ROUND(SUM(M18:O18),2) -> 0
A19: 5 | C19: Apdares darbi
A20: 6 | C20: Ārējās sienas apmešana ar mašīnapmetumu | D20: m2 | E20: 44.67 | F20: 0 | G20: 0 | H20: =ROUND(G20*F20,2) -> 0 | I20: 0 | J20: 0 | K20: =ROUND(SUM(H20:J20),2) -> 0 | L20: =ROUND(E20*F20,2) -> 0 | M20: =ROUND(E20*H20,2) -> 0 | N20: =ROUND(I20*E20,2) -> 0 | O20: =ROUND(J20*E20,2) -> 0 | P20: =ROUND(SUM(M20:O20),2) -> 0
A21: 7 | C21: Ārējās sienas špaktelēšana un slīpēšana | D21: m2 | E21: 44.67 | F21: 0 | G21: 0 | H21: =ROUND(G21*F21,2) -> 0 | I21: 0 | J21: 0 | K21: =ROUND(SUM(H21:J21),2) -> 0 | L21: =ROUND(E21*F21,2) -> 0 | M21: =ROUND(E21*H21,2) -> 0 | N21: =ROUND(I21*E21,2) -> 0 | O21: =ROUND(J21*E21,2) -> 0 | P21: =ROUND(SUM(M21:O21),2) -> 0
A22: 8 | C22: Sienu nepilnību labošana, gruntēšana un krāsošana, 2 kārtās (krāsas toni saskaņot ar pasūtītāju) | D22: m2 | E22: 139.01 | F22: 0 | G22: 0 | H22: =ROUND(G22*F22,2) -> 0 | I22: 0 | J22: 0 | K22: =ROUND(SUM(H22:J22),2) -> 0 | L22: =ROUND(E22*F22,2) -> 0 | M22: =ROUND(E22*H22,2) -> 0 | N22: =ROUND(I22*E22,2) -> 0 | O22: =ROUND(J22*E22,2) -> 0 | P22: =ROUND(SUM(M22:O22),2) -> 0
A23: 9 | C23: Griestu gruntēšana un krāsošana, 2 kārtās (baltā krāsā) | D23: m2 | E23: 83.9 | F23: 0 | G23: 0 | H23: =ROUND(G23*F23,2) -> 0 | I23: 0 | J23: 0 | K23: =ROUND(SUM(H23:J23),2) -> 0 | L23: =ROUND(E23*F23,2) -> 0 | M23: =ROUND(E23*H23,2) -> 0 | N23: =ROUND(I23*E23,2) -> 0 | O23: =ROUND(J23*E23,2) -> 0 | P23: =ROUND(SUM(M23:O23),2) -> 0
A24: 10 | C24: Kolonnu ārējo stūru uzliku uzstādīšana 1500 metru augstumā (Nerūsejošais tērauds, 25x25x1,5 mm) | D24: gb. | E24: 8 | F24: 0 | G24: 0 | H24: =ROUND(G24*F24,2) -> 0 | I24: 0 | J24: 0 | K24: =ROUND(SUM(H24:J24),2) -> 0 | L24: =ROUND(E24*F24,2) -> 0 | M24: =ROUND(E24*H24,2) -> 0 | N24: =ROUND(I24*E24,2) -> 0 | O24: =ROUND(J24*E24,2) -> 0 | P24: =ROUND(SUM(M24:O24),2) -> 0
A25: 11 | C25: Finiera apšuvuma kārbas izveidošana ārsienai virs radiatoriem un caurulēm, 800x400 mm (finiera plāksnes 12 mm ar CNC frēzējumiem, koka karkass) | D25: m | E25: 12.3 | F25: 0 | G25: 0 | H25: =ROUND(G25*F25,2) -> 0 | I25: 0 | J25: 0 | K25: =ROUND(SUM(H25:J25),2) -> 0 | L25: =ROUND(E25*F25,2) -> 0 | M25: =ROUND(E25*H25,2) -> 0 | N25: =ROUND(I25*E25,2) -> 0 | O25: =ROUND(J25*E25,2) -> 0 | P25: =ROUND(SUM(M25:O25),2) -> 0
A26: 12 | C26: MDF grīdlīstu montāža (materiālu, krāsu un grīdlīstes profilu saskaņot ar pasūtītāju) | D26: m | E26: 43.44 | F26: 0 | G26: 0 | H26: =ROUND(G26*F26,2) -> 0 | I26: 0 | J26: 0 | K26: =ROUND(SUM(H26:J26),2) -> 0 | L26: =ROUND(E26*F26,2) -> 0 | M26: =ROUND(E26*H26,2) -> 0 | N26: =ROUND(I26*E26,2) -> 0 | O26: =ROUND(J26*E26,2) -> 0 | P26: =ROUND(SUM(M26:O26),2) -> 0
A27: 13 | C27: Citi darbi
A28: 14 | C28: Vadu kanālu izveidošana elektroinstalācijai zem demontētā apšuvuma un tās iestrāde | D28: kpl | E28: 1 | F28: 0 | G28: 0 | H28: =ROUND(G28*F28,2) -> 0 | I28: 0 | J28: 0 | K28: =ROUND(SUM(H28:J28),2) -> 0 | L28: =ROUND(E28*F28,2) -> 0 | M28: =ROUND(E28*H28,2) -> 0 | N28: =ROUND(I28*E28,2) -> 0 | O28: =ROUND(J28*E28,2) -> 0 | P28: =ROUND(SUM(M28:O28),2) -> 0
A29: 15 | C29: Apkures cauruļu nostiprināšana pēc jaunā apmetuma izveidošanas | D29: kpl | E29: 1 | F29: 0 | G29: 0 | H29: =ROUND(G29*F29,2) -> 0 | I29: 0 | J29: 0 | K29: =ROUND(SUM(H29:J29),2) -> 0 | L29: =ROUND(E29*F29,2) -> 0 | M29: =ROUND(E29*H29,2) -> 0 | N29: =ROUND(I29*E29,2) -> 0 | O29: =ROUND(J29*E29,2) -> 0 | P29: =ROUND(SUM(M29:O29),2) -> 0
A30: Tiešās izmaksas kopā, t.sk. darba devēja sociālais nodoklis (23.59%) | L30: =ROUND(SUM(L14:L29),2) -> 0 | M30: =ROUND(SUM(M14:M29),2) -> 0 | N30: =ROUND(SUM(N14:N29),2) -> 0 | O30: =ROUND(SUM(O14:O29),2) -> 0 | P30: =ROUND(SUM(P14:P29),2) -> 0
A34: Sastādīja:
B35: (paraksts un tā atšifrējums, datums)
A38: Tāme sastādīta | C38: 2026.gada 22.jūlijs
A39: Pārbaudīja:
B40: (paraksts un tā atšifrējums, datums)
A41: Sertifikāta Nr.

Sheet Sporta halles foajē
A1: Lokālā tāme Nr. | G1: 2
A2: ='Trenežieru zāle'!A2:P2 -> 2.DAĻA "SMILTENES SPORTA HALLES TRENAŽIERU ZĀLES UN FOAJĒ TEPLAS KOSMĒTISKAIS REMONTS"
A3: (būvdarbu veids vai konstruktīvā elementa nosaukums)
A4: Būvobjekta nosaukums: | C4: Sporta halles foajē
A5: Būves nosaukums: | C5: Sporta halle
A6: Objekta adrese: | C6: Gaujas iela 1, Smiltene, Smiltenes novads, LV-4729
A7: Pasūtījuma Nr.:
K8: Tāmes izmaksas | N8: =P33 -> 0 | P8: euro
K9: Tāme sastādīta | N9: 2026.gada 22.jūlijs
A11: Nr.p.k. | B11: Kods | C11: Darba nosaukums | D11: Mērvienība | E11: Daudzums | F11: Vienības izmaksas | L11: Kopā uz visu apjomu
F12: Laika norma, c/st. | G12: Darba samaksas likme, EUR/st. | H12: Darba alga, EUR | I12: Materiāli, EUR | J12: Mehānismi, EUR | K12: Kopā | L12: Darbietilpība, c/st. | M12: Darba alga, EUR | N12: Materiāli, EUR | O12: Mehānismi, EUR | P12: Summa, EUR
A13: 1 | B13: 2 | C13: 3 | D13: 4 | E13: 5 | F13: 6 | G13: 7 | H13: 8 | I13: 9 | J13: 10 | K13: 11 | L13: 12 | M13: 13 | N13: 14 | O13: 15 | P13: 16
C14: Demontāžas darbi
A15: 1 | C15: Esošo lineāro apgaismes ķermeņu demontāža nododot tos pasūtītājam | D15: gb | E15: 15 | F15: 0 | G15: 0 | H15: =ROUND(G15*F15,2) -> 0 | I15: 0 | J15: 0 | K15: =ROUND(SUM(H15:J15),2) -> 0 | L15: =ROUND(E15*F15,2) -> 0 | M15: =ROUND(E15*H15,2) -> 0 | N15: =ROUND(I15*E15,2) -> 0 | O15: =ROUND(J15*E15,2) -> 0 | P15: =ROUND(SUM(M15:O15),2) -> 0
A16: 2 | C16: Esošo prožektoru pie afišas dēļa demontāža un montāža atpakaļ pēc darbu pabeigšanas | D16: gb | E16: 2 | F16: 0 | G16: 0 | H16: =ROUND(G16*F16,2) -> 0 | I16: 0 | J16: 0 | K16: =ROUND(SUM(H16:J16),2) -> 0 | L16: =ROUND(E16*F16,2) -> 0 | M16: =ROUND(E16*H16,2) -> 0 | N16: =ROUND(I16*E16,2) -> 0 | O16: =ROUND(J16*E16,2) -> 0 | P16: =ROUND(SUM(M16:O16),2) -> 0
A17: 3 | C17: Durvju kleidu demontāža un montāža atpakaļ pēc darbu pabeigšanas | D17: m | E17: 31 | F17: 0 | G17: 0 | H17: =ROUND(G17*F17,2) -> 0 | I17: 0 | J17: 0 | K17: =ROUND(SUM(H17:J17),2) -> 0 | L17: =ROUND(E17*F17,2) -> 0 | M17: =ROUND(E17*H17,2) -> 0 | N17: =ROUND(I17*E17,2) -> 0 | O17: =ROUND(J17*E17,2) -> 0 | P17: =ROUND(SUM(M17:O17),2) -> 0
A18: 4 | C18: Esošo dūmu detektoru demontāža un montāža atpakaļ pēc darbu veikšanas | D18: gb | E18: 2 | F18: 0 | G18: 0 | H18: =ROUND(G18*F18,2) -> 0 | I18: 0 | J18: 0 | K18: =ROUND(SUM(H18:J18),2) -> 0 | L18: =ROUND(E18*F18,2) -> 0 | M18: =ROUND(E18*H18,2) -> 0 | N18: =ROUND(I18*E18,2) -> 0 | O18: =ROUND(J18*E18,2) -> 0 | P18: =ROUND(SUM(M18:O18),2) -> 0
A19: 5 | C19: Elektroiekārtu demontāža no sienām un montāža atpakaļ pēc darbu veikšanas | D19: kpl | E19: 1 | F19: 0 | G19: 0 | H19: =ROUND(G19*F19,2) -> 0 | I19: 0 | J19: 0 | K19: =ROUND(SUM(H19:J19),2) -> 0 | L19: =ROUND(E19*F19,2) -> 0 | M19: =ROUND(E19*H19,2) -> 0 | N19: =ROUND(I19*E19,2) -> 0 | O19: =ROUND(J19*E19,2) -> 0 | P19: =ROUND(SUM(M19:O19),2) -> 0
A20: 6 | C20: Apdares darbi
A21: 7 | C21: Sienas
A22: 8 | C22: Sīku defektu špaktelēšana un slīpēšana | D22: kpl | E22: 1 | F22: 0 | G22: 0 | H22: =ROUND(G22*F22,2) -> 0 | I22: 0 | J22: 0 | K22: =ROUND(SUM(H22:J22),2) -> 0 | L22: =ROUND(E22*F22,2) -> 0 | M22: =ROUND(E22*H22,2) -> 0 | N22: =ROUND(I22*E22,2) -> 0 | O22: =ROUND(J22*E22,2) -> 0 | P22: =ROUND(SUM(M22:O22),2) -> 0
A23: 9 | C23: Sienu gruntēšana | D23: m2 | E23: 128 | F23: 0 | G23: 0 | H23: =ROUND(G23*F23,2) -> 0 | I23: 0 | J23: 0 | K23: =ROUND(SUM(H23:J23),2) -> 0 | L23: =ROUND(E23*F23,2) -> 0 | M23: =ROUND(E23*H23,2) -> 0 | N23: =ROUND(I23*E23,2) -> 0 | O23: =ROUND(J23*E23,2) -> 0 | P23: =ROUND(SUM(M23:O23),2) -> 0
A24: 10 | C24: Sienu krāsošana 2 kārtās ar nodilumizturīgu krāsu | D24: m2 | E24: 128 | F24: 0 | G24: 0 | H24: =ROUND(G24*F24,2) -> 0 | I24: 0 | J24: 0 | K24: =ROUND(SUM(H24:J24),2) -> 0 | L24: =ROUND(E24*F24,2) -> 0 | M24: =ROUND(E24*H24,2) -> 0 | N24: =ROUND(I24*E24,2) -> 0 | O24: =ROUND(J24*E24,2) -> 0 | P24: =ROUND(SUM(M24:O24),2) -> 0
A25: 11 | C25: Griesti
A26: 12 | C26: Gaismēkļu stiprinājumu caurumu aiztaisīšana un slīpēšana | D26: kpl | E26: 1 | F26: 0 | G26: 0 | H26: =ROUND(G26*F26,2) -> 0 | I26: 0 | J26: 0 | K26: =ROUND(SUM(H26:J26),2) -> 0 | L26: =ROUND(E26*F26,2) -> 0 | M26: =ROUND(E26*H26,2) -> 0 | N26: =ROUND(I26*E26,2) -> 0 | O26: =ROUND(J26*E26,2) -> 0 | P26: =ROUND(SUM(M26:O26),2) -> 0
A27: 13 | C27: Griestu un venitālcijas cauruļu apšuvuma gruntēšana | D27: m2 | E27: 140.1 | F27: 0 | G27: 0 | H27: =ROUND(G27*F27,2) -> 0 | I27: 0 | J27: 0 | K27: =ROUND(SUM(H27:J27),2) -> 0 | L27: =ROUND(E27*F27,2) -> 0 | M27: =ROUND(E27*H27,2) -> 0 | N27: =ROUND(I27*E27,2) -> 0 | O27: =ROUND(J27*E27,2) -> 0 | P27: =ROUND(SUM(M27:O27),2) -> 0
A28: 14 | C28: Griestu un venitālcijas cauruļu apšuvuma krāsošana baltā krāsa | D28: m2 | E28: 140.1 | F28: 0 | G28: 0 | H28: =ROUND(G28*F28,2) -> 0 | I28: 0 | J28: 0 | K28: =ROUND(SUM(H28:J28),2) -> 0 | L28: =ROUND(E28*F28,2) -> 0 | M28: =ROUND(E28*H28,2) -> 0 | N28: =ROUND(I28*E28,2) -> 0 | O28: =ROUND(J28*E28,2) -> 0 | P28: =ROUND(SUM(M28:O28),2) -> 0
A29: 15 | C29: Apgaismes ķermeņi
A30: 16 | C30: Jaunu virsapmetuma LED apgaismes ķermeņu montāža, lineārs, 1500 mm garš, 3200K, vismaz 3200 Lm | D30: gb | E30: 15 | F30: 0 | G30: 0 | H30: =ROUND(G30*F30,2) -> 0 | I30: 0 | J30: 0 | K30: =ROUND(SUM(H30:J30),2) -> 0 | L30: =ROUND(E30*F30,2) -> 0 | M30: =ROUND(E30*H30,2) -> 0 | N30: =ROUND(I30*E30,2) -> 0 | O30: =ROUND(J30*E30,2) -> 0 | P30: =ROUND(SUM(M30:O30),2) -> 0
A31: 17 | C31: Citi darbi
A32: 18 | C32: Video novērošanas vadu ievietošana plastmasas kabeļu kanālā 40x20 mm, ar stiprināšanas materiāliem (sporta zāles siena) | D32: m | E32: 21.6 | F32: 0 | G32: 0 | H32: =ROUND(G32*F32,2) -> 0 | I32: 0 | J32: 0 | K32: =ROUND(SUM(H32:J32),2) -> 0 | L32: =ROUND(E32*F32,2) -> 0 | M32: =ROUND(E32*H32,2) -> 0 | N32: =ROUND(I32*E32,2) -> 0 | O32: =ROUND(J32*E32,2) -> 0 | P32: =ROUND(SUM(M32:O32),2) -> 0
A33: Tiešās izmaksas kopā, t.sk. darba devēja sociālais nodoklis (23.59%) | L33: =ROUND(SUM(L14:L32),2) -> 0 | M33: =ROUND(SUM(M14:M32),2) -> 0 | N33: =ROUND(SUM(N14:N32),2) -> 0 | O33: =ROUND(SUM(O14:O32),2) -> 0 | P33: =ROUND(SUM(P14:P32),2) -> 0
A37: Sastādīja:
B38: (paraksts un tā atšifrējums, datums)
A41: Tāme sastādīta | C41: 2026.gada 22.jūlijs
A42: Pārbaudīja:
B43: (paraksts un tā atšifrējums, datums)
A44: Sertifikāta Nr.
