Workbook
Name a: '[1]1'!#REF!
Name a: '[1]1'!#REF!
Name a: '[1]1'!#REF!
Name Forma: '[1]1'!#REF!
Name Forma: '[1]1'!#REF!
Name Forma: '[1]1'!#REF!
Name Forma_2_Nr3: '[1]1'!#REF!
Name Forma_2_Nr3: '[1]1'!#REF!
Name Forma_2_Nr3: '[1]1'!#REF!
Name P: #REF!
Name P: #REF!
Name P: #REF!
Name pp: '[1]1'!#REF!
Name pp: '[1]1'!#REF!
Name pp: '[1]1'!#REF!
Name ppp: '[1]1'!#REF!
Name ppp: '[1]1'!#REF!
Name ppp: '[1]1'!#REF!
Name s: '[1]1'!#REF!
Name s: '[1]1'!#REF!
Name s: '[1]1'!#REF!

Sheet Lokālā tāme nr.1
A2: LOKĀLĀ TĀME NR.1
A3: Bitumena tvertnes demontāžas un sanācijas darbi Dzelzceļa ielā 13A
A5: Objekta nosaukums: Bitumena tvertnes demontāžas un sanācijas darbi Dzelzceļa ielā 13A (kadastra apz. 32010010079), Aizkrauklē, Aizkraukles novadā
A6: Būves nosaukums: Bitumena tvertne
A7: Objekta adrese: Dzelzceļa ielā 13A (kadastra apz. 32010010079), Aizkrauklē, Aizkraukles novadā
A8: Pasūtījuma Nr.: 28-11/25
A10: Tāme sastādīta 2025. gada tirgus cenās, pamatojoties uz apsekojuma un izpētes darbu rezultātiem. Tāmes izmaksas | I10: =O31 -> 0 | J10: eiro
D12: Tāme sastādīta 2026. gada XX. jūnijā
A14: Nr.p.k. | B14: Būvdarbu nosaukums | C14: Mērvienība | D14: Daudzums | E14: Vienības izmaksas | K14: Kopā uz visu apjomu
E15: Laika norma (c/h) | F15: Darba samaksas likme (euro/h) | G15: Darba alga | H15: Būvizstrādājumi | I15: Mehānismi | J15: kopā | K15: Darbietilpība (c/h) | L15: Darba alga | M15: Būvizstrādājumi | N15: Mehānismi | O15: Summa
A16: 1. | B16: Sagatavošanās darbi
A17: 1.1. | B17: Sanējamā un demontējamā materiāla fizikāli-ķīmiskās un kvalitātes pārbaudes dabā (pēc nepieciešamības) | C17: kpl. | D17: 1 | G17: =ROUND(F17*E17,2) -> 0 | J17: =ROUND(SUM(G17:I17),2) -> 0 | K17: =ROUND(D17*E17,2) -> 0 | L17: =ROUND(D17*G17,2) -> 0 | M17: =ROUND(H17*D17,2) -> 0 | N17: =ROUND(I17*D17,2) -> 0 | O17: =ROUND(SUM(L17:N17),2) -> 0
A18: 1.2. | B18: Būvdarbu zonas norobežošana, tehnikas mobilizācija, sanitārās zonas un absorbentu novietošanas zonas ierīkošana, būvatļaujas saņemšana | C18: kpl. | D18: 1 | G18: =ROUND(F18*E18,2) -> 0 | J18: =ROUND(SUM(G18:I18),2) -> 0 | K18: =ROUND(D18*E18,2) -> 0 | L18: =ROUND(D18*G18,2) -> 0 | M18: =ROUND(H18*D18,2) -> 0 | N18: =ROUND(I18*D18,2) -> 0 | O18: =ROUND(SUM(L18:N18),2) -> 0
A19: 1.3. | B19: Apauguma novākšana un utilizācija | C19: kpl. | D19: 1 | G19: =ROUND(F19*E19,2) -> 0 | J19: =ROUND(SUM(G19:I19),2) -> 0 | K19: =ROUND(D19*E19,2) -> 0 | L19: =ROUND(D19*G19,2) -> 0 | M19: =ROUND(H19*D19,2) -> 0 | N19: =ROUND(I19*D19,2) -> 0 | O19: =ROUND(SUM(L19:N19),2) -> 0
A20: 2. | B20: Bituma tvertnes demontāža un bīstamo atkritumu savākšana un utilizācija
A21: 2.1. | B21: Bitumena tvertnē esošā piesārņojuma savākšana, transportēšana un utilizēšana | C21: m3 | D21: 331.3 | G21: =ROUND(F21*E21,2) -> 0 | J21: =ROUND(SUM(G21:I21),2) -> 0 | K21: =ROUND(D21*E21,2) -> 0 | L21: =ROUND(D21*G21,2) -> 0 | M21: =ROUND(H21*D21,2) -> 0 | N21: =ROUND(I21*D21,2) -> 0 | O21: =ROUND(SUM(L21:N21),2) -> 0
A22: 2.2. | B22: Bituma tvertnes konstrukciju tīrīšana un saistīto bīstamo atkritumu utilizācija | C22: kpl. | D22: 1 | G22: =ROUND(F22*E22,2) -> 0 | J22: =ROUND(SUM(G22:I22),2) -> 0 | K22: =ROUND(D22*E22,2) -> 0 | L22: =ROUND(D22*G22,2) -> 0 | M22: =ROUND(H22*D22,2) -> 0 | N22: =ROUND(I22*D22,2) -> 0 | O22: =ROUND(SUM(L22:N22),2) -> 0
A23: 2.3. | B23: Bituma tvertnes konstrukciju demontāža un utilizācija | C23: m3 | D23: 87.3 | G23: =ROUND(F23*E23,2) -> 0 | J23: =ROUND(SUM(G23:I23),2) -> 0 | K23: =ROUND(D23*E23,2) -> 0 | L23: =ROUND(D23*G23,2) -> 0 | M23: =ROUND(H23*D23,2) -> 0 | N23: =ROUND(I23*D23,2) -> 0 | O23: =ROUND(SUM(L23:N23),2) -> 0
A24: 2.4. | B24: Piesārņotās grunts ārpus bituma tvertnes konstrukcijas savākšana, transportēšana un utilizācija** | C24: m3 | D24: 1 | G24: =ROUND(F24*E24,2) -> 0 | J24: =ROUND(SUM(G24:I24),2) -> 0 | K24: =ROUND(D24*E24,2) -> 0 | L24: =ROUND(D24*G24,2) -> 0 | M24: =ROUND(H24*D24,2) -> 0 | N24: =ROUND(I24*D24,2) -> 0 | O24: =ROUND(SUM(L24:N24),2) -> 0
A25: 2.5. | B25: Grunts kvalitātes pārbaudes pēc sanācijas - grunts paraugu ņemšana un analīžu veikšana | C25: gb. | D25: 25 | G25: =ROUND(F25*E25,2) -> 0 | J25: =ROUND(SUM(G25:I25),2) -> 0 | K25: =ROUND(D25*E25,2) -> 0 | L25: =ROUND(D25*G25,2) -> 0 | M25: =ROUND(H25*D25,2) -> 0 | N25: =ROUND(I25*D25,2) -> 0 | O25: =ROUND(SUM(L25:N25),2) -> 0
A26: 3. | B26: Labiekārtošanas darbi
A27: 3.1. | B27: Bitumena tvertnes aizbēršana ar tīru grunti, kompaktēšana, līdzināšana | C27: m3 | D27: 331.3 | G27: =ROUND(F27*E27,2) -> 0 | J27: =ROUND(SUM(G27:I27),2) -> 0 | K27: =ROUND(D27*E27,2) -> 0 | L27: =ROUND(D27*G27,2) -> 0 | M27: =ROUND(H27*D27,2) -> 0 | N27: =ROUND(I27*D27,2) -> 0 | O27: =ROUND(SUM(L27:N27),2) -> 0
A28: 3.2. | B28: Melnzemes slāņa ieklāšana un zālāja sēšana | C28: kpl. | D28: 1 | G28: =ROUND(F28*E28,2) -> 0 | J28: =ROUND(SUM(G28:I28),2) -> 0 | K28: =ROUND(D28*E28,2) -> 0 | L28: =ROUND(D28*G28,2) -> 0 | M28: =ROUND(H28*D28,2) -> 0 | N28: =ROUND(I28*D28,2) -> 0 | O28: =ROUND(SUM(L28:N28),2) -> 0
A29: 4. | B29: Atskaites sagatavošana
A30: 4.1. | B30: Sanācijas darbu atskaites sagatavošana un demontāžas darbu nodošana ekspluatācijā | C30: kpl. | D30: 1 | G30: =ROUND(F30*E30,2) -> 0 | J30: =ROUND(SUM(G30:I30),2) -> 0 | K30: =ROUND(D30*E30,2) -> 0 | L30: =ROUND(D30*G30,2) -> 0 | M30: =ROUND(H30*D30,2) -> 0 | N30: =ROUND(I30*D30,2) -> 0 | O30: =ROUND(SUM(L30:N30),2) -> 0
A31: Tiešās izmaksas kopā, t. sk. darba devēja sociālais nodoklis (%) | K31: =SUM(K16:K30) -> 0 | L31: =SUM(L16:L30) -> 0 | M31: =SUM(M16:M30) -> 0 | N31: =SUM(N16:N30) -> 0 | O31: =SUM(O16:O30) -> 0
B33: Sastādīja: X. Xxx ___________________________________
B34: Tāme sastādīta XX.06.2026.
B35: Pārbaudīja: X.Xxx ___________________________________
B36: Sertifikāta nr. X-XXXXX

Sheet Kopsavilkuma aprēķins
A1: Objekta nosaukums: Bitumena tvertnes demontāžas un sanācijas darbi Dzelzceļa ielā 13A (kadastra apz. 32010010079), Aizkrauklē, Aizkraukles novadā
A2: Būves nosaukums: Bitumena tvertne
A3: Objekta adrese: Dzelzceļa ielā 13A (kadastra apz. 32010010079), Aizkrauklē, Aizkraukles novadā
A4: Pasūtījuma Nr.: 28-11/25
A6: Kopsavilkuma aprēķins Nr. 1
A7: Par demontāžas un bīstamo atkritumu savākšanas darbiem
B9: Par kopējo summu (euro) | C9: =D20 -> 0
B10: Kopējā darbietilpība (c/h) | C10: =H15 -> 0
A12: Nr. p. k. | B12: Kods, Tāmes Nr. | C12: Būvdarbu veids vei konstruktīvā elementa nosaukums | D12: Tāmes izmaksas | E12: Tai skaitā | H12: Darbietilpība c/h
E13: darba alga | F13: būvizstrādājumi | G13: mehānismi
A14: 1 | B14: 2 | C14: 3 | D14: 4 | E14: 5 | F14: 6 | G14: 7 | H14: 8
A15: 1 | B15: Lokālā tāme Nr.1 | C15: Bitumena tvertnes demontāžas un sanācijas darbi Dzelzceļa ielā 13A | D15: =ROUND(E15+F15+G15,2) -> 0 | E15: ='Lokālā tāme nr.1'!L31 -> 0 | F15: ='Lokālā tāme nr.1'!M31 -> 0 | G15: ='Lokālā tāme nr.1'!N31 -> 0 | H15: ='Lokālā tāme nr.1'!K31 -> 0
C16: Kopā | D16: =SUM(D15:D15) -> 0
C17: Virsizdevumi (X%) | D17: =ROUND(D16*0,2) -> 0
C18: t.sk. darba aizsardzība
C19: Peļņa (X%) | D19: =ROUND(D16*0,2) -> 0
C20: Pavisam kopā | D20: =D19+D17+D16 -> 0
B23: Sastādīja: X. Xxx ___________________________________
B24: Tāme sastādīta XX.06.2026.
B25: Pārbaudīja: X.Xxx ___________________________________
B27: Sertifikāta nr. X-XXXXX

Sheet Būvniecības koptāme
B1: APSTIPRINU:
C3: (pasūtītāja paraksts un tā atšifrējums)
C4: ____. gada __. ________
B6: Būvniecības koptāme
A8: Objekta nosaukums: Bitumena tvertnes demontāžas un sanācijas darbi Dzelzceļa ielā 13A (kadastra apz. 32010010079), Aizkrauklē, Aizkraukles novadā
A9: Būves nosaukums: Bitumena tvertne
A10: Objekta adrese: Dzelzceļa ielā 13A (kadastra apz. 32010010079), Aizkrauklē, Aizkraukles novadā
A11: Pasūtījuma Nr.: 28-11/25
A14: Nr.p.k. | B14: Objekta nosaukums | C14: Objekta izmaksas (euro)
A15: 1. | B15: ='Kopsavilkuma aprēķins'!C15 -> Bitumena tvertnes demontāžas un sanācijas darbi Dzelzceļa ielā 13A | C15: ='Kopsavilkuma aprēķins'!D20 -> 0
B16: KOPĀ | C16: =C15 -> 0
A18: PVN % pvn likuma 142.panta kārtībā
A20: Sastādīja: X. Xxx
A21: Sertifikāta nr. X-XXXXX
