Workbook
Name A: '[1]2'!$A$1
Name kompl.: #REF!
Name koptameties: #REF!
Name P: #REF!

Sheet Koptāme
B2: APSTIPRINU
C3: Pasūtītāja paraksts un
C5: tā atšifrējums Z.v.
C6: Z.v.
B7: ______.gada | C7: ___. _________
A8: Pasūtītājs: Rīgas valstpilsētas pašvaldības Īpašuma departaments
A9: Būvuzņēmējs:
A11: Koptāme
A13: Iekštelpu atjaunošanas darbi Rīgas 1.pamatskolas-attīstības centra ēkā Ģertrūdes ielā 18, Rīgā
A14: Būves nosaukums
A15: Iekštelpu atjaunošanas darbi Rīgas 1.pamatskolas-attīstības centra ēkā Ģertrūdes ielā 18, Rīgā
A16: Objekta nosaukums un adrese
C19: RDĪD 2026/65
A20: Tāme sastādīta:
A22: Nr.p.k. | B22: Objekta nosaukums | C22: Objekta izmaksas (EUR)
A23: 1 | B23: Iekštelpu atjaunošanas darbi Rīgas 1.pamatskolas-attīstības centra ēkā Ģertrūdes ielā 18, Rīgā
B24: Kopā
A25: PVN (21%)
A26: Pavisam būvniecības izmaksas
A29: Sastādīja:

Sheet Kopsavilkums
A1: Pasūtītājs: Rīgas valstpilsētas pašvaldības Īpašuma departaments
A2: Būvuzņēmējs:
A3: Kopsavilkums
A4: Iekštelpu atjaunošanas darbi Rīgas 1.pamatskolas-attīstības centra ēkā Ģertrūdes ielā 18, Rīgā
A6: OBJEKTA NOSAUKUMS: | C6: Iekštelpu atjaunošanas darbi Rīgas 1.pamatskolas-attīstības centra ēkā Ģertrūdes ielā 18, Rīgā
A7: BŪVES NOSAUKUMS: | C7: Rīgas 1.pamatskolas-attīstības centra ēka
A8: BŪVES ADRESE: | C8: Ģertrūdes ielā 18, Rīgā
A9: PASŪTĪJUMA NR.: | C9: RDĪD 2026/65
E11: Par kopējo summu, EUR: | H11: =D26 -> 0
F12: Kopējā darbietilpība, c/h: | H12: =H22 -> 0
A14: Nr. p.k. | B14: Kods, tāmes Nr. | C14: Darba veids vai konstruktīva elementa nosaukums | D14: Tāmes izmaksas, EUR | E14: Tai skaitā: | H14: Darbietilpība (c/h)
E15: darba alga, EUR | F15: būvizstrādājumi, EUR | G15: mehānismi, EUR
A16: 1 | B16: 1.1 | C16: Vispārceltnieciskie darbi
A17: 2 | B17: 1.2 | C17: Elektroinstalācijas tīkli (EL)
A18: 3 | B18: 1.3 | C18: Apkure (AVK-A)
A19: 4 | B19: 1.4 | C19: Ūdensapgāde (UK)
A20: 5 | B20: 1.5 | C20: Datu tīkli
A21: 6 | B21: 1.6 | C21: Iebūvējamais aprīkojums
A22: Kopā
A23: Virsizdevumi %
A24: t.sk. darba aizsardzība %
A25: Pelņa %
A26: Pavisam kopā
A29: Sastādīja:
A35: Pārbaudīja:

Sheet Vispārceltnieciskie darbi
A1: Pasūtītājs: Rīgas valstpilsētas pašvaldības Īpašuma departaments
A2: Būvuzņēmējs:
A3: Lokālā tāme Nr.1-1
A4: Vispārceltnieciskie darbi
A6: OBJEKTA NOSAUKUMS: | C6: Iekštelpu atjaunošanas darbi Rīgas 1.pamatskolas-attīstības centra ēkā Ģertrūdes ielā 18, Rīgā
A7: BŪVES NOSAUKUMS: | C7: Rīgas 1.pamatskolas-attīstības centra ēka
A8: BŪVES ADRESE: | C8: Ģertrūdes ielā 18, Rīgā
A9: PASŪTĪJUMA NR.: | C9: RDĪD 2026/65
N11: Tāmes izmaksas, EUR: | P11: =P314 -> 0
N12: =Koptāme!A20 -> Tāme sastādīta:
A13: Tāme sastādīta 2026.gada tirgus cenās
A14: Nr. p. k. | B14: Kods | C14: Darba nosaukums | D14: Mērvienība | E14: Daudzums | F14: Vienības izmaksas | L14: Kopā uz visu apjomu
F15: laika norma (c/h) | G15: darba samaksas likme (EUR/h) | H15: darba alga (EUR) | I15: būvizstrādājumi (EUR) | J15: mehānismi (EUR) | K15: kopā (EUR) | L15: darbietilpība (C/h) | M15: darba alga (EUR) | N15: =I15 -> būvizstrādājumi (EUR) | O15: mehānismi (EUR) | P15: summa (EUR)
A16: 1 | B16: 2 | C16: 3 | D16: 4 | E16: 5 | F16: 6 | G16: 7 | H16: 8 | I16: 9 | J16: 10 | K16: 11 | L16: 12 | M16: 13 | N16: 14 | O16: 15 | P16: 16
C17: Būvlaukuma sagatavošanas un uzturēšanas darbi
A18: 1 | C18: Moduļu konteiners būvdarbu vadīšanai, piegāde, montāža un aizvešana | D18: gb | E18: 1
A19: 2 | C19: Moduļu konteinera noma | D19: mēn | E19: 3
A20: 3 | C20: Moduļu konteiners sadzīves un noliktavas vajadzībām, piegāde, montāža un aizvešana | D20: gb | E20: 1
A21: 4 | C21: Sadzīves moduļu konteinera noma | D21: mēn | E21: 3
A22: 5 | C22: Pārvietojamā biotualete, piegāde, montāža un aizvešana | D22: gb | E22: 1
A23: 6 | C23: WC noma un uzkopšana | D23: mēn | E23: 3
A24: 7 | C24: Būvniecības teritorijas 1.5m žoga uzstādīšana/ demontāža | D24: t.m. | E24: 72
A25: 8 | C25: Metāliskā žoga īre h=1,5m ; | D25: t.m. | E25: 72
A26: 9 | C26: Informācija par objektu - plakāts | D26: gb | E26: 1
A27: 10 | C27: Darba zonas norobežošana | D27: kompl. | E27: 1
C28: Cokola stāvs
A29: 11 | C29: Demontāžas darbi
A30: 12 | C30: Durvju saudzīga demontāža, paredzot to restaurāciju un montāžu atpakaļ, saglabājot tērauda aizsargpaneli | D30: kompl. | E30: 4
A31: 13 | C31: Telpu aprīkojuma demontāža, mēbeļu iznešana | D31: kompl. | E31: 1
A32: 14 | C32: Logu un palodžu nosegšana ar plēvi | D32: kompl. | E32: 1
A33: 15 | C33: Grīdas esošā seguma ar grīdlīstēm demontāža (Grīdlīstes gaitenī paredzēts demontēt, restaurēt un montēt atpakaļ) | D33: m2 | E33: 26.3
A34: 16 | C34: Attīrīt griestus no dažādu veidu apdarēm | D34: m2 | E34: 41.3
A35: 17 | C35: Attīrīt sienas no dažādu veidu apdarēm (tapetes, eļļas krāsas, virsmu matēt), tai skaitā demontēt bojāto apmetumu līdz ķieģeļu mūrim. | D35: m2 | E35: 150
A36: 18 | C36: Būvgružu savākšana konteinerā, nogādāšana konteinerā un aizvešana | D36: m3 | E36: 8
A37: 19 | C37: Sienas
A38: 20 | C38: Esošo sienu līmeņošana ar ģipša apmetumu, iestrādājot zemapmetuma sietu un zemapmetuma stūrus | D38: m2 | E38: 150
A39: 21 | C39: Betonkontakt | D39: kg | E39: =E38*0.44 -> 66
A40: 22 | C40: ģipša apmetums | D40: kg | E40: =E38*13.2 -> 1980
A41: 23 | C41: Zemapmetuma siets | D41: m2 | E41: =E38*1.1 -> 165
A42: 24 | C42: Apmetuma stūra profils | D42: gb | E42: =E38*0.17 -> 25.5
A43: 25 | C43: Sienu špaktelēšana, slīpēšana saskaņā ar Q4 kvalitātes pakāpi | D43: m2 | E43: =E38 -> 150
A44: 26 | C44: Grunts | D44: kg | E44: =E43*0.2 -> 30
A45: 27 | C45: Nobeiguma špaktele | D45: kg | E45: =E43*4.5 -> 675
A46: 28 | C46: Smilšpapīrs, papildu piederumi | D46: m2 | E46: =E43*0.07 -> 10.5
A47: 29 | C47: Sienu gruntēšana, sienu krāsošana dažādos krāsu toņos, krāsa ūdens emulsija | D47: m2 | E47: =E43 -> 150
A48: 30 | C48: Grunts | D48: l | E48: =E47*0.2 -> 30
A49: 31 | C49: Tonēta krāsa (1.klase, ISO 11998, 200 cikli 1-5 mikroni, >10 000 cikli) (paredzēt vismaz 5 dažādus toņus) | D49: kg | E49: =E47*0.33 -> 49.5
A50: 32 | C50: Silikons CS25 | D50: gb | E50: 12
A51: 33 | C51: Jaunu koka sienu aizsargelementu izgatavošana un montāža (izmērus un dizainu skatīt pārejos stāvos, pielāgoties resaurējamajām paneļiem) | D51: t.m | E51: 50
A52: 34 | C52: Griesti
A53: 35 | C53: Griestu sagatavošana piekargriestu izbūvei | D53: m2 | E53: 41.3
A54: 36 | C54: Piekaramo griestu montāža | D54: m2 | E54: =E53 -> 41.3
A55: 37 | C55: Akustisko griestu + piekaramo griestu konstrukcija (Skaņu absorbējošas, augsta blīvuma stikla šķiedras plāksnes (biezums 15-20 mm) un saderīga karkasa sistēma. Plāksnēm jābūt ar baltu, krāsotu auduma virsmu, krāsotām malām un A klases skaņas absorbcijas rādītāju. Komplektā ar nesošajām iedziļināta karkasa konstrukcijām, stiprinājuma elementiem un perimetra profiliem). | D55: m2 | E55: =E54*1.1 -> 45.43
A56: 38 | C56: Griestu gruntēšana, špaktelēšana, slīpēšana | D56: m2 | E56: 15
A57: 39 | C57: Grunts Knauf Tiefengrund | D57: l | E57: =E56/6.67 -> 2.25
A58: 40 | C58: Nobeiguma špaktele | D58: kg | E58: =E56/0.68 -> 22.06
A59: 41 | C59: Smilšpapīrs slīpmašīnai D225 | D59: m2 | E59: =E56/9 -> 1.67
A60: 42 | C60: Griestu gruntēšana, krāsošana | D60: m2 | E60: =E56 -> 15
A61: 43 | C61: Grunts Knauf Tiefengrund | D61: kg | E61: =E60/4.8 -> 3.13
A62: 44 | C62: Balta griestu krāsa | D62: kg | E62: =E60/4 -> 3.75
A63: 45 | C63: Grīdas
A64: 46 | C64: Cementa bāzes grīdas izlīdzinošā sastāva iestrāde | D64: m2 | E64: 26.3
A65: 47 | C65: Grunts pirms izlīdzinošā sastāva | D65: l | E65: =E64*0.2 -> 5.26
A66: 48 | C66: Cementa bāzes grīdas izlīdzinošā sastāvs | D66: kg | E66: =E64*8.25 -> 216.98
A67: 49 | C67: Grīdas špaktelēšana ar cementa bāzes špakteli | D67: m2 | E67: 26.3
A68: 50 | C68: Grunts pirms špaktelēšanas | D68: l | E68: =E67*0.2 -> 5.26
A69: 51 | C69: Cementa bāzes špaktele | D69: kg | E69: 90
A70: 52 | C70: Linoleja ieklāšana ar šuvju kausēšanu | D70: m2 | E70: 26.3
A71: 53 | C71: homogēnais linolejs ar šuvju diegu, nodilumizturība EN 685 34/43.klase, biezums NE 428 2.0 mm,m ar PUR pārklājumu, ar pretslīdes aizsardzību R10 | D71: m2 | E71: =E70*1.1 -> 28.93
A72: 54 | C72: grunts | D72: l | E72: =E70*0.4 -> 10.52
A73: 55 | C73: linoleja līme | D73: kg | E73: =E70*0.9 -> 23.67
A74: 56 | C74: šuvju diegs | D74: m | E74: =E70*1.45 -> 38.14
A75: 57 | C75: Demontēto grīdlīstu restaurācija un montāža atpakaļ | D75: m | E75: 24
A76: 58 | C76: Deformācijas šuvju ierīkošana (t.s. grīdas salaidumu izveide ar esošajiem segumiem) | D76: kpl. | E76: 1
A77: 59 | C77: Koka grīdlīstes (izmērus un dizainu skatīt gaiteņos, pielāgoties resaurējamajām grīdlīstēm) | D77: t/m | E77: 22
A78: 60 | C78: Dažādi darbi
A79: 61 | C79: Demontēto koka aizsargelementu restaurācija un montāža atpakaļ | D79: kompl | E79: 1
A80: 62 | C80: Demontēto koka durvju restaurācija, saglabājot izpildījumu ar tērauda aizsargpaneli durvju apakšā. Durvīm paredzēt jaunu nerūsējošā tērauda furnitūru, U veida rokturis matēts, paslēpta stiprinājumu sistēma, ar atsperes funkciju, nodrošinot roktura atgriešanos sākuma pozīcijā. | D80: gab | E80: 4
A81: 63 | C81: Ailes apdare pēc durvju montāžas | D81: aile | E81: 5
A82: 64 | C82: Durvju atdures montāža | D82: gb | E82: 5
A83: 65 | C83: Objekta galīgā tīrīšana, ieskaitot logus | D83: m2 | E83: =E33 -> 26.3
A84: 66 | C84: Palodžu restaurācija | D84: gb | E84: 2
C85: 1. stāvs
A86: 67 | C86: Demontāžas darbi
A87: 68 | C87: Durvju saudzīga demontāža paredzot to restaurāciju un montāžu atpakaļ saglabājot tērauda aizsargpaneli. | D87: kompl. | E87: 10
A88: 69 | C88: Telpu aprīkojuma demontāža, mēbeļu iznešana | D88: kompl. | E88: 1
A89: 70 | C89: Logu un palodžu nosegšana ar plēvi | D89: kompl. | E89: 1
A90: 71 | C90: Attīrīt griestus no dažādu veidu apdarēm | D90: m2 | E90: =21.5+17.3 -> 38.8
A91: 72 | C91: Attīrīt sienas no dažādu veidu apdarēm (tapetes, eļļas krāsas, virsmu matēt), tai skaitā demontēt bojāto apmetumu līdz ķieģeļu mūrim. (Koka sienu aizsargelementus paredzēts demontēt, restaurēt un montēt atpakaļ) | D91: m2 | E91: 156
A92: 73 | C92: Demontēt grīdlīstes (Grīdlīstes gaitenī paredzēts demontēt, restaurēt un montēt atpakaļ) | D92: m2 | E92: 26.3
A93: 74 | C93: Būvgružu savākšana konteinerā, nogādāšana konteinerā un aizvešana | D93: m3 | E93: 10
A94: 75 | C94: Sienas
A95: 76 | C95: Esošo sienu līmeņošana ar ģipša apmetumu, iestrādājot zemapmetuma sietu un zemapmetuma stūrus | D95: m2 | E95: =E91 -> 156
A96: 77 | C96: Betonkontakt | D96: kg | E96: =E95*0.44 -> 68.64
A97: 78 | C97: ģipša apmetums | D97: kg | E97: =E95*13.2 -> 2059.2
A98: 79 | C98: Zemapmetuma siets | D98: m2 | E98: =E95*1.1 -> 171.6
A99: 80 | C99: Apmetuma stūra profils | D99: gb | E99: =E95*0.17 -> 26.52
A100: 81 | C100: Sienu špaktelēšana, slīpēšana saskaņā ar Q4 kvalitātes pakāpi | D100: m2 | E100: =E95 -> 156
A101: 82 | C101: Grunts | D101: kg | E101: =E100*0.2 -> 31.2
A102: 83 | C102: Nobeiguma špaktele | D102: kg | E102: =E100*4.5 -> 702
...

Sheet EL
A1: Pasūtītājs: Rīgas valstpilsētas pašvaldības Īpašuma departaments
A2: Būvuzņēmējs:
A3: Lokālā tāme Nr.1-2
A4: Elektroinstalācijas tīkli (EL)
A6: OBJEKTA NOSAUKUMS: | C6: =Kopsavilkums!C6 -> Iekštelpu atjaunošanas darbi Rīgas 1.pamatskolas-attīstības centra ēkā Ģertrūdes ielā 18, Rīgā
A7: BŪVES NOSAUKUMS: | C7: =Kopsavilkums!C7 -> Rīgas 1.pamatskolas-attīstības centra ēka
A8: BŪVES ADRESE: | C8: =Kopsavilkums!C8 -> Ģertrūdes ielā 18, Rīgā
A9: PASŪTĪJUMA NR.: | C9: =Kopsavilkums!C9 -> RDĪD 2026/65
N11: Tāmes izmaksas, EUR: | P11: =P194 -> 0
N12: =Koptāme!A20 -> Tāme sastādīta:
A13: Tāme sastādīta 2026.gada tirgus cenās
A14: Nr. p. k. | B14: Kods | C14: Darba nosaukums | D14: Mērvienība | E14: Daudzums | F14: Vienības izmaksas | L14: Kopā uz visu apjomu
F15: laika norma (c/h) | G15: darba samaksas likme (EUR/h) | H15: darba alga (EUR) | I15: būvizstrādājumi (EUR) | J15: mehānismi (EUR) | K15: kopā (EUR) | L15: darbietilpība (C/h) | M15: darba alga (EUR) | N15: =I15 -> būvizstrādājumi (EUR) | O15: mehānismi (EUR) | P15: summa (EUR)
A16: 1 | B16: 2 | C16: 3 | D16: 4 | E16: 5 | F16: 6 | G16: 7 | H16: 8 | I16: 9 | J16: 10 | K16: 11 | L16: 12 | M16: 13 | N16: 14 | O16: 15 | P16: 16
C17: Cokola stāvs
A18: 1 | C18: SADALES PANELIS
A19: 2 | C19: Sadales panelis SS-1, durvis ar atslēgu. | D19: kompl. | E19: 1
A20: 3 | C20: Potenciālu izlīdzināšanas kopne | D20: gab. | E20: 1
A21: 4 | C21: Palīgmateriāli. Saskaņā ar montāžas darbu raksturojumu un apjomu | D21: kompl. | E21: 1
A22: 5 | C22: ELEKTROKABEĻI
A23: 6 | C23: Kabelis ar vara dzīslām 3x2.5mm² | D23: m | E23: =E24/3 -> 110
A24: 7 | C24: Kabelis ar vara dzīslām 3x1.5mm² | D24: m | E24: =E31*30 -> 330
A25: 8 | C25: Kabelis ar vara dzīslu zemēšanai 1x6mm² | D25: m | E25: 60
A26: 9 | C26: PVC gofrēta caurule, Ø50mm | D26: m | E26: 30
A27: 10 | C27: PVC gofrēta caurule, Ø20mm | D27: m | E27: 200
A28: 11 | C28: Atvērumu urbšana, aizdare | D28: kompl. | E28: 1
A29: 12 | C29: Palīgmateriāli. Saskaņā ar montāžas darbu raksturojumu un apjomu | D29: kompl. | E29: 1
A30: 13 | C30: GAISMAS ĶERMEŅI
A31: 14 | C31: Iebūvēts LED panelis 600x600 W36 W 3000 K | D31: gab. | E31: 11
A32: 15 | C32: Avārijas modulis LED 30W, 2h=9W, 220V, (LED paneļiem 24-48DC) | D32: gab. | E32: 3
A33: 16 | C33: Avārijas gaismeklis 1W, 3h, IP65, 276x110x60mm | D33: gab. | E33: 3
A34: 17 | C34: Palīgmateriāli. Saskaņā ar montāžas darbu raksturojumu un apjomu | D34: kompl. | E34: 1
A35: 18 | C35: EXIT gaismeklis LED | D35: gab. | E35: 3
A36: 19 | C36: UGUNSDROŠĪBAS PASĀKUMI
A37: 20 | C37: Ugunsdroša java | D37: kg | E37: 20
A38: 21 | C38: Ugunsdrošais pārklājums - ugunsdrošā tepe | D38: kg | E38: 10
A39: 22 | C39: Ugunsdrošās putas | D39: gb | E39: 2
A40: 23 | C40: Izpilddokumentācijas sagatavošana | D40: kompl. | E40: 1
A41: 24 | C41: Palīgmateriāli. Saskaņā ar montāžas darbu raksturojumu un apjomu | D41: kompl. | E41: 1
A42: 25 | C42: Dažādi darbi
A43: 26 | C43: Automātiskās ugunsdzēsības trauksmes signalizācijas iekārtu demontāža, papildināšana, atpakaļmontāža, kabeļu iekalšana zemapmetumā, to papildināšana, nomaiņa, ja nepieciešams. | D43: kompl. | E43: 1
A44: 27 | C44: Esošās audio zvanu sistēmas demontāža un montāža- pārbaude, pielāgošana pēc remontdarbiem. | D44: kompl. | E44: 1
A45: 28 | C45: Esošo, paliekošo elektrības kabeļ, rozešu, pārbaude, iestrāde sienās | D45: kompl. | E45: 1
A46: 29 | C46: Rozešu un slēdžu tehniskā pārbaude, nomaiņa vajadzības gadījumā | D46: kompl. | E46: 1
A47: 30 | C47: DEMONTĀŽAS DARBI
A48: 31 | C48: Sadalnes demontāža | D48: kompl. | E48: 1
A49: 32 | C49: Kabeļu demontāža | D49: kompl. | E49: 1
A50: 33 | C50: Gaismekļu demontāža | D50: kompl. | E50: 1
C51: 1. stāvs
A52: 34 | C52: SADALES PANELIS
A53: 35 | C53: Sadales panelis SS-1, durvis ar atslēgu. | D53: kompl. | E53: 1
A54: 36 | C54: Potenciālu izlīdzināšanas kopne | D54: gab. | E54: 1
A55: 37 | C55: Palīgmateriāli. Saskaņā ar montāžas darbu raksturojumu un apjomu | D55: kompl. | E55: 1
A56: 38 | C56: ELEKTROKABEĻI
A57: 39 | C57: Kabelis ar vara dzīslām 3x2.5mm² | D57: m | E57: =E58/3 -> 90
A58: 40 | C58: Kabelis ar vara dzīslām 3x1.5mm² | D58: m | E58: =9*30 -> 270
A59: 41 | C59: Kabelis ar vara dzīslu zemēšanai 1x6mm² | D59: m | E59: 60
A60: 42 | C60: PVC gofrēta caurule, Ø50mm | D60: m | E60: 30
A61: 43 | C61: PVC gofrēta caurule, Ø20mm | D61: m | E61: 600
A62: 44 | C62: Atvērumu urbšana, aizdare | D62: kompl. | E62: 1
A63: 45 | C63: Palīgmateriāli. Saskaņā ar montāžas darbu raksturojumu un apjomu | D63: kompl. | E63: 1
A64: 46 | C64: GAISMAS ĶERMEŅI
A65: 47 | C65: Lineārs LED gaismeklis piekarināms, gara šaura korpusa forma, alumījs | D65: gab. | E65: 10
A66: 48 | C66: Avārijas modulis LED 30W, 2h=9W, 220V, (LED paneļiem 24-48DC) | D66: gab. | E66: 3
A67: 49 | C67: Avārijas gaismeklis 1W, 3h, IP65, 276x110x60mm | D67: gab. | E67: 3
A68: 50 | C68: Palīgmateriāli. Saskaņā ar montāžas darbu raksturojumu un apjomu | D68: kompl. | E68: 1
A69: 51 | C69: EXIT gaismeklis LED | D69: gab. | E69: 3
A70: 52 | C70: UGUNSDROŠĪBAS PASĀKUMI
A71: 53 | C71: Ugunsdroša java | D71: kg | E71: 20
A72: 54 | C72: Ugunsdrošais pārklājums - ugunsdrošā tepe | D72: kg | E72: 10
A73: 55 | C73: Ugunsdrošās putas | D73: gb | E73: 2
A74: 56 | C74: Izpilddokumentācijas sagatavošana | D74: kompl. | E74: 1
A75: 57 | C75: Palīgmateriāli. Saskaņā ar montāžas darbu raksturojumu un apjomu | D75: kompl. | E75: 1
A76: 58 | C76: Dažādi darbi
A77: 59 | C77: Automātiskās ugunsdzēsības trauksmes signalizācijas iekārtu demontāža, papildināšana, atpakaļmontāža, kabeļu iekalšana zemapmetumā, to papildināšana, nomaiņa, ja nepieciešams. | D77: kompl. | E77: 1
A78: 60 | C78: Esošās audio zvanu sistēmas demontāža un montāža- pārbaude, pielāgošana pēc remontdarbiem. | D78: kompl. | E78: 1
A79: 61 | C79: Esošo, paliekošo elektrības kabeļ, rozešu, pārbaude, iestrāde sienās | D79: kompl. | E79: 1
A80: 62 | C80: Rozešu un slēdžu tehniskā pārbaude, nomaiņa vajadzības gadījumā | D80: kompl. | E80: 1
A81: 63 | C81: DEMONTĀŽAS DARBI
A82: 64 | C82: Sadalnes demontāža | D82: kompl. | E82: 1
A83: 65 | C83: Kabeļu demontāža | D83: kompl. | E83: 1
A84: 66 | C84: Gaismekļu demontāža | D84: kompl. | E84: 1
C85: 2. stāvs
A86: 67 | C86: SADALES PANELIS
A87: 68 | C87: Sadales panelis SS-1, durvis ar atslēgu. | D87: kompl. | E87: 1
A88: 69 | C88: Potenciālu izlīdzināšanas kopne | D88: gab. | E88: 1
A89: 70 | C89: Palīgmateriāli. Saskaņā ar montāžas darbu raksturojumu un apjomu | D89: kompl. | E89: 1
A90: 71 | C90: ELEKTROKABEĻI
A91: 72 | C91: Kabelis ar vara dzīslām 3x2.5mm² | D91: m | E91: =E92/3 -> 366.67
A92: 73 | C92: Kabelis ar vara dzīslām 3x1.5mm² | D92: m | E92: 1100
A93: 74 | C93: Kabelis ar vara dzīslu zemēšanai 1x6mm² | D93: m | E93: 60
A94: 75 | C94: PVC gofrēta caurule, Ø50mm | D94: m | E94: 30
A95: 76 | C95: PVC gofrēta caurule, Ø20mm | D95: m | E95: 600
A96: 77 | C96: Atvērumu urbšana, aizdare | D96: kompl. | E96: 1
A97: 78 | C97: Palīgmateriāli. Saskaņā ar montāžas darbu raksturojumu un apjomu | D97: kompl. | E97: 1
A98: 79 | C98: GAISMAS ĶERMEŅI
A99: 80 | C99: Lineārs LED gaismeklis piekarināms, gara šaura korpusa forma, alumījs | D99: gab. | E99: 12
A100: 81 | C100: Iebūvēts LED panelis 600x600 W36 W 3000 K | D100: gab. | E100: 23
A101: 82 | C101: Avārijas modulis LED 30W, 2h=9W, 220V, (LED paneļiem 24-48DC) | D101: gab. | E101: 6
A102: 83 | C102: Avārijas gaismeklis 1W, 3h, IP65, 276x110x60mm | D102: gab. | E102: 12
...

Sheet AVK-A
A1: Pasūtītājs: Rīgas valstpilsētas pašvaldības Īpašuma departaments
A2: Būvuzņēmējs:
A3: Lokālā tāme Nr.1-3
A4: Apkure (AVK-A)
A6: OBJEKTA NOSAUKUMS: | C6: =Kopsavilkums!C6 -> Iekštelpu atjaunošanas darbi Rīgas 1.pamatskolas-attīstības centra ēkā Ģertrūdes ielā 18, Rīgā
A7: BŪVES NOSAUKUMS: | C7: =Kopsavilkums!C7 -> Rīgas 1.pamatskolas-attīstības centra ēka
A8: BŪVES ADRESE: | C8: =Kopsavilkums!C8 -> Ģertrūdes ielā 18, Rīgā
A9: PASŪTĪJUMA NR.: | C9: =Kopsavilkums!C9 -> RDĪD 2026/65
N11: Tāmes izmaksas, EUR: | P11: =P45 -> 0
N12: =Koptāme!A20 -> Tāme sastādīta:
A13: Tāme sastādīta 2025.gada tirgus cenās
A14: Nr. p. k. | B14: Kods | C14: Darba nosaukums | D14: Mērvienība | E14: Daudzums | F14: Vienības izmaksas | L14: Kopā uz visu apjomu
F15: laika norma (c/h) | G15: darba samaksas likme (EUR/h) | H15: darba alga (EUR) | I15: būvizstrādājumi (EUR) | J15: mehānismi (EUR) | K15: kopā (EUR) | L15: darbietilpība (C/h) | M15: darba alga (EUR) | N15: =I15 -> būvizstrādājumi (EUR) | O15: mehānismi (EUR) | P15: summa (EUR)
A16: 1 | B16: 2 | C16: 3 | D16: 4 | E16: 5 | F16: 6 | G16: 7 | H16: 8 | I16: 9 | J16: 10 | K16: 11 | L16: 12 | M16: 13 | N16: 14 | O16: 15 | P16: 16
C17: 1. stāvs
A18: 1 | B18: 17-00000 | C18: Radiators 22x500x1000 komplektā ar sienas stiprinājumiem | D18: gab | E18: 1
A19: 2 | B19: 17-00000 | C19: Divcauruļsistēmu termostatiskais vārsts, taisns, niķelēts, DN15, 1/2" | D19: gab | E19: 1
A20: 3 | B20: 17-00000 | C20: Тermoregulators ar iebūvētu sensoru ar trieciendrošu korpusu, ar aizsardzību pret zādzību un temperatūras ierobežošanu AR tipa vārstiem vārstiem | D20: gab | E20: 1
A21: 4 | B21: 17-00000 | C21: Radiatora noslēgvārsts, aksiālais, niķelēts, DN15, 1/2", min.pas.10 (Kvs-2,20) | D21: gab | E21: 1
A22: 5 | B22: 17-00000 | C22: Carbon tēr.caurule cinkota EN 10305-3 horizontālie piecvienojumi, apsaiste ar armatūru | D22: k-ts | E22: 1
A23: 6 | B23: 17-00000 | C23: Carbon cauruļvadu veiddaļas | D23: kompl | E23: 1
C24: 2. stāvs
A25: 7 | B25: 17-00000 | C25: Radiators 22x500x1000 komplektā ar sienas stiprinājumiem | D25: gab | E25: 1
A26: 8 | B26: 17-00000 | C26: Divcauruļsistēmu termostatiskais vārsts, taisns, niķelēts, DN15, 1/2" | D26: gab | E26: 1
A27: 9 | B27: 17-00000 | C27: Тermoregulators ar iebūvētu sensoru ar trieciendrošu korpusu, ar aizsardzību pret zādzību un temperatūras ierobežošanu AR tipa vārstiem vārstiem | D27: gab | E27: 1
A28: 10 | B28: 17-00000 | C28: Radiatora noslēgvārsts, aksiālais, niķelēts, DN15, 1/2", min.pas.10 (Kvs-2,20) | D28: gab | E28: 1
A29: 11 | B29: 17-00000 | C29: Carbon tēr.caurule cinkota EN 10305-3 horizontālie piecvienojumi, apsaiste ar armatūru | D29: k-ts | E29: 1
A30: 12 | B30: 17-00000 | C30: Carbon cauruļvadu veiddaļas | D30: kompl | E30: 1
C31: 3. stāvs
A32: 13 | B32: 17-00000 | C32: Radiators 22x500x1000 komplektā ar sienas stiprinājumiem | D32: gab | E32: 1
A33: 14 | B33: 17-00000 | C33: Divcauruļsistēmu termostatiskais vārsts, taisns, niķelēts, DN15, 1/2" | D33: gab | E33: 1
A34: 15 | B34: 17-00000 | C34: Тermoregulators ar iebūvētu sensoru ar trieciendrošu korpusu, ar aizsardzību pret zādzību un temperatūras ierobežošanu AR tipa vārstiem vārstiem | D34: gab | E34: 1
A35: 16 | B35: 17-00000 | C35: Radiatora noslēgvārsts, aksiālais, niķelēts, DN15, 1/2", min.pas.10 (Kvs-2,20) | D35: gab | E35: 1
A36: 17 | B36: 17-00000 | C36: Carbon tēr.caurule cinkota EN 10305-3 horizontālie piecvienojumi, apsaiste ar armatūru | D36: k-ts | E36: 1
A37: 18 | B37: 17-00000 | C37: Carbon cauruļvadu veiddaļas | D37: kompl | E37: 1
C38: 4. stāvs
A39: 19 | B39: 17-00000 | C39: Radiators 22x500x1000 komplektā ar sienas stiprinājumiem | D39: gab | E39: 1
A40: 20 | B40: 17-00000 | C40: Divcauruļsistēmu termostatiskais vārsts, taisns, niķelēts, DN15, 1/2" | D40: gab | E40: 1
A41: 21 | B41: 17-00000 | C41: Тermoregulators ar iebūvētu sensoru ar trieciendrošu korpusu, ar aizsardzību pret zādzību un temperatūras ierobežošanu AR tipa vārstiem vārstiem | D41: gab | E41: 1
A42: 22 | B42: 17-00000 | C42: Radiatora noslēgvārsts, aksiālais, niķelēts, DN15, 1/2", min.pas.10 (Kvs-2,20) | D42: gab | E42: 1
A43: 23 | B43: 17-00000 | C43: Carbon tēr.caurule cinkota EN 10305-3 horizontālie piecvienojumi, apsaiste ar armatūru | D43: k-ts | E43: 1
A44: 24 | B44: 17-00000 | C44: Carbon cauruļvadu veiddaļas | D44: kompl | E44: 1
A45: Tiešās izmaksas kopā, t. sk. darba devēja sociālais nodoklis (23,59%)
A47: Sastādīja: | J47: Pārbaudīja:

Sheet UK
A1: Pasūtītājs: Rīgas valstpilsētas pašvaldības Īpašuma departaments
A2: Būvuzņēmējs:
A3: Lokālā tāme Nr.1-4
A4: UK
A6: OBJEKTA NOSAUKUMS: | C6: =Kopsavilkums!C6 -> Iekštelpu atjaunošanas darbi Rīgas 1.pamatskolas-attīstības centra ēkā Ģertrūdes ielā 18, Rīgā
A7: BŪVES NOSAUKUMS: | C7: =Kopsavilkums!C7 -> Rīgas 1.pamatskolas-attīstības centra ēka
A8: BŪVES ADRESE: | C8: =Kopsavilkums!C8 -> Ģertrūdes ielā 18, Rīgā
A9: PASŪTĪJUMA NR.: | C9: =Kopsavilkums!C9 -> RDĪD 2026/65
N11: Tāmes izmaksas, EUR: | P11: =P60 -> 0
N12: =Koptāme!A20 -> Tāme sastādīta:
A13: Tāme sastādīta 2025.gada tirgus cenās
A14: Nr. p. k. | B14: Kods | C14: Darba nosaukums | D14: Mērvienība | E14: Daudzums | F14: Vienības izmaksas | L14: Kopā uz visu apjomu
F15: laika norma (c/h) | G15: darba samaksas likme (EUR/h) | H15: darba alga (EUR) | I15: būvizstrādājumi (EUR) | J15: mehānismi (EUR) | K15: kopā (EUR) | L15: darbietilpība (C/h) | M15: darba alga (EUR) | N15: =I15 -> būvizstrādājumi (EUR) | O15: mehānismi (EUR) | P15: summa (EUR)
A16: 1 | B16: 2 | C16: 3 | D16: 4 | E16: 5 | F16: 6 | G16: 7 | H16: 8 | I16: 9 | J16: 10 | K16: 11 | L16: 12 | M16: 13 | N16: 14 | O16: 15 | P16: 16
A17: 1 | C17: Jaunu ŪK pieslēgvietu ierīkošana jaunajām iekārtām | D17: kompl | E17: 1
A18: 2 | C18: Izlietne (550x375x175 mm) stiprināma pie sienas, aprīkota ar vienu atveri jaucējkrānam un integrētu pārplūdi. Taisnstūrveida forma ar taisnām, skaidri definētām ārējām malām, viegli noapaļotiem stūriem un ergonomiski veidotu iekšējo bļodu ar slīpām plaknēm ūdens noteces virzienā. - Hromēts izlietnes sifons ar taisnu horizontālo posmu un vertikālu izvada cauruli. Izgatavots no metāla ar hromētu pārklājumu. – Vienas sviras maisītājs, paredzēts uzstādīšanai uz izlietnes virsmas. Nodrošina stabilu ūdens plūsmu un precīzu temperatūras regulēšanu. Aprīkots ar keramisko kasetni, aeratoru un elastīgajiem pievadiem. Ar iespēju pieslēgt bidetta (rokas) dušu. | D18: kompl | E18: 1
A19: 3 | C19: Tualetes pods (360×650x785 mm) ar kompaktu, monolītu siluetu, gludām, viegli noapaļotām malām un slēgtu pamatni bez nosacīta "plaukta". Brīvstāvošs, balts. Komplektēts ar noskalošanas kasti ar taisnstūrveida formu un augšpusē izvietotu mehānisku noskalošanas pogu. - Tualetes poda sēdeklis ar vāku, balts, ergonomiskas formas. | D19: gb | E19: 1
A20: 4 | C20: Traps Ø50 (142 × 142 mm), režģa ietvars no nerūsējošā tērauda, stiprināms ar skrūvēm, pulēta virsma, noslodzes kategorija K3 – līdz 300 kg. | D20: gb | E20: 2
A21: 5 | C21: Sienas maisītāja un rokas dušas (bidetta) komplekts. Aprīkojums paredzēts montāžai pie sienas, ar vienu vadības sviru karstā un aukstā ūdens regulēšanai. Iebūvēta keramiska kasete plūsmas un temperatūras kontrolei. Komplektā ietilpst rokas duša, elastīga spirālveida šļūtene (garums 1,2–1,3 m) un sienas turētājs. Virsma — hromēta. Maisītāja korpusa forma — cilindriska ar horizontālu priekšdaļu; rokas duša — kompakta, apaļas formas ar perforētu izplūdi. | D21: kompl | E21: 1
A22: 6 | C22: Sienas spogulis (400 × 1700 mm), paredzēts stiprināšanai pie sienas, ar gludu un viegli kopjamu atstarojošu virsmu. Spoguļa augšējai malai jābūt vienā līmenī ar durvju aplodu. | D22: gb | E22: 1
A23: 7 | C23: Bezrāmju tualetes kabīne (1400-1600x800mm) 13 mm bieza HPL paneļa, paredzēta stiprināšanai pie sienas un grīdas. Sienas plāksnes augstums 2000 mm, kājas augstums 100 mm. Durvis 600x1800mm - Durvju komplektācijā ietilpst 304. klases nerūsējošā tērauda rokturis ar aizbīdni un indikatoru “brīvs/aizņemts”, avārijas atvēršana ar monētas iecirtumu un aizmugurē iestrādāts maināms gumijas buferis. | D23: kompl | E23: 1
A24: 8 | C24: Iekārtas cilvēkiem ar kustību ierobežojumiem: - Izlietne (600×550×150 mm) stiprināma pie sienas. Izlietnes vidusdaļa ir ieliekta uz iekšpusi, aprīkota ar vienu atveri jaucējkrānam un integrētu pārplūdi. Zem izlietnes nodrošināma brīva vieta vismaz 0,7 m no grīdas līmeņa, izlietnes augšmalas augstums 0,80–0,85 m no grīdas līmeņa. - Hromēts izlietnes sifons ar novirzītu izvada posmu, izgatavots no metāla ar hromētu pārklājumu. – Vienas sviras maisītājs, paredzēts uzstādīšanai uz izlietnes virsmas. Nodrošina stabilu ūdens plūsmu un precīzu temperatūras regulēšanu. Aprīkots ar keramisko kasetni, aeratoru un elastīgajiem pievadiem. Izlietnes jaucējkrāna izteka ir vismaz 0,20–0,25 m gara, atvēršanas un aizvēršanas rokturim jābūt 0,15–0,20 m garam, viegli satveramam un atveramam cilvēkiem ar fiziskiem traucējumiem. Ar iespēju pieslēgt bidē (rokas) dušu. - Sienas spogulis (400×1200 mm), paredzēts stiprināšanai pie sienas, ar gludu atstarojošu virsmu, viegli kopjams Spoguļa apakšējai malai jāatrodas 0.9 m virs grīdas līmeņa. | D24: kompl | E24: 1
A25: 9 | C25: Platforma izlietnei, piemērota visām izlietnēm, kas uzstādītas ar skrūvēm < 22 kg. Augstums maināms (315 mm amplitūdā). Iepakojuma izmēri: 552 × 120 × 895 mm. Svars: 13,55 kg. | D25: gb | E25: 1
A26: 10 | C26: Noliecams spogulis ar regulēšanas sviru, 600 x 450 x 5 mm. Viegli regulējams 0 - 22 grādu diapazonā. | D26: gb | E26: 1
A27: 11 | C27: Cilvēkiem ar kustību ierobežojumiem: - Tualetes pods (360×660×855 mm) ar kompaktu, slēgtu pamatni bez nosacīta "plaukta". Komplektēts ar divu tilpumu skalošanas kasti ar augšpusē izvietotu mehānisku pogu. Pods viegli ovāls. Priekšdaļa ir noapaļota, aizmugure – vertikāla un taisna, ar viengabalainu pamatni līdz grīdai. Sēdeklis ir plakans, ar viegli noapaļotiem stūriem, kopējais siluets – taisnleņķu un mīkstu līkņu kombinācija. Brīvstāvošs, balts. Klozetpoda augšējās malas augstums (bez vāka) ir 0,45–0,47 metri. - Tualetes poda vāks, balts, ergonomiskas formas. - Paceļami roku balsti (divi gab.), paredzēti montāžai pie sienas. Izgatavoti no nerūsējoša tērauda, ar pret­slīdes un viegli kopjamu virsmu. Nodrošina divus atbalsta augstumus - 0,60 m un 0,90 m virs grīdas. Izvirzījums no sienas: ne mazāk kā 0,60 m. Komplektā montāžas plāksne un stiprinājumi, kā arī vertikālās pozīcijas fiksācijas elements. Maksimālā slodze: līdz 150 kg.: 1 gab. – ar drošu skalojamo mehānismu. 1 gab. – ar integrētu tualetes papīra turētāju. | D27: kompl | E27: 1
A28: 12 | C28: Divas palīdzības pogas (0,15 un 0,9 m augstumā no grīdas līmeņa), savienotas ar auklu un gaismas indikatoru. Sistēma nodrošina automātisku signālu pārraidi uz kontroles un signalizācijas ierīci (pulti), kas atrodas pie dežuranta. | D28: kompl | E28: 1
... A34: 18 | C34: Ūdens jaucējkrāns Kopējais krāna augstums: 335–370 mm, snīpja augstums: 250–300 mm, snīpja izliece (sasniedzamība): 197–250 mm, minimālais ūdens spiediens darbībai: 1,5 bar. | D34: gb | E34: 2
A35: 19 | C35: Ūdensapgādes sistēma
A36: 20 | C36: PVC cauruļu PN20 d 16 montāža | D36: m | E36: 45
A37: 21 | C37: PVC cauruļu PN20 d 20 montāža | D37: m | E37: 47
A38: 22 | C38: Caurules stiprinājumi | D38: kompl. | E38: 1
A39: 23 | C39: Caurules veidgabali | D39: kompl. | E39: 1
A40: 24 | C40: Dekoratīvo ventiļu d 15 montāža | D40: gb | E40: 5
A41: 25 | C41: Siltumizolācijas 18x13 uzstādīšana (K-Flex) | D41: m | E41: 45
A42: 26 | C42: Siltumizolācijas 22x13 uzstādīšana (K-Flex) | D42: m | E42: 47
A43: 27 | C43: Materiāli siltumizolācijas montāžai | D43: kompl. | E43: 1
A44: 28 | C44: Pieslēgums esošiem tīkliem | D44: kompl. | E44: 6
A45: 29 | C45: Sistēmas nolaišana, uzpildīšana | D45: sist. | E45: 1
A46: 30 | C46: Hidrauliskā pārbaude | D46: kompl. | E46: 2.3
A47: 31 | C47: Palīgmateriāli | D47: kompl. | E47: 1
A48: 32 | C48: Izpilddokumentācijas izstrāde | D48: kompl. | E48: 1
A49: 33 | C49: Kanalizācija
A50: 34 | C50: Kanalizācijas caurule DN110 izbūve gruntī | D50: m. | E50: 80
A51: 35 | C51: Kanalizācijas caurule DN110 | D51: m. | E51: 220
A52: 36 | C52: Kanalizācijas caurule DN50 | D52: m. | E52: 315
A53: 37 | C53: Kanalizācijas veidgabali DN 50-110 | D53: kompl. | E53: 1
A54: 38 | C54: Stiprinājumi DN32-110 | D54: kompl. | E54: 1
A55: 39 | C55: Pieslēgšanās pie esošās kanalizācijas | D55: kompl. | E55: 1
A56: 40 | C56: Palīgmateriāli | D56: kompl. | E56: 1
A57: 41 | C57: Esošās sistēmas demontāža | D57: kompl. | E57: 1
A58: 42 | C58: Tehnisko atvērumu veidošana | D58: kompl | E58: 1
A59: 43 | C59: Tehnisko atvērumu aizdare | D59: kompl | E59: 1
A60: Tiešās izmaksas kopā, t. sk. darba devēja sociālais nodoklis (23,59%)
A62: Sastādīja: | J62: Pārbaudīja:

Sheet Datu tīkli
A1: Pasūtītājs: Rīgas valstpilsētas pašvaldības Īpašuma departaments
A2: Būvuzņēmējs:
A3: LOKĀLA TĀME Nr.1-5
A4: Datu tīkli
A6: OBJEKTA NOSAUKUMS: | C6: Iekštelpu atjaunošanas darbi Rīgas 1.pamatskolas-attīstības centra ēkā Ģertrūdes ielā 18, Rīgā
A7: BŪVES NOSAUKUMS: | C7: Rīgas 1.pamatskolas-attīstības centra ēka
A8: BŪVES ADRESE: | C8: Ģertrūdes ielā 18, Rīgā
A9: PASŪTĪJUMA NR.: | C9: RDĪD 2026/65
N12: Tāmes izmaksas, EUR | P12: =P33 -> 0
A14: Nr. p. k. | B14: Pamatojums | C14: Darba nosaukums | D14: Mērvienība | E14: Daudzums | F14: Vienības izmaksas | L14: Kopā uz visu apjomu
F15: laika norma (c/h) | G15: darba samaksas likme EUR | H15: darba alga EUR | I15: būvizstrādajumi EUR | J15: mehānismi EUR | K15: kopā EUR | L15: darbietilpība (C/h) | M15: darba alga EUR | N15: būvizstrādajumi EUR | O15: mehānismi EUR | P15: summa EUR
A16: 1 | B16: 2 | C16: 3 | D16: 4 | E16: 5 | F16: 6 | G16: 7 | H16: 8 | I16: 9 | J16: 10 | K16: 11 | L16: 12 | M16: 13 | N16: 14 | O16: 15 | P16: 16
C17: LAN ierīkošana
A18: 1 | C18: Kabelis Cat6 4x2x0,5 UTP, LSZH (strukturētais kabeļu tīkls) t.sk. montāža | D18: m | E18: 3200
A19: 2 | B19: līg.c. | C19: RJ45 tīkla pieslēgvietas ierīkošana (stacionārās iekārtas pieslēgums) | D19: gab. | E19: 45
A20: 3 | B20: līg.c. | C20: 1xRJ45 tīkla pieslēgvietas ierīkošana Wi-Fi AP atbilstoši tīkla izbūves noteikumiem | D20: gab. | E20: 7
A21: 4 | B21: līg.c. | C21: Aktīvās aparatūras montāža, pieslēgšana | D21: kompl. | E21: 2
A22: 5 | B22: līg.c. | C22: Bezvadu iekārtas (Wi-Fi AP) piekļuves punkta uzstādīšana | D22: gb | E22: 17
A23: 6 | B23: līg.c. | C23: Bezvadu piekļuves punkts cAP ax PoE cAPGi-5HaxD2HaxD | D23: gb | E23: 7
A24: 7 | B24: līg.c. | C24: SFP RJ45 Module 1000M-SFP-M (1000M-SFP-M-CI) | D24: gb | E24: 2
A25: 8 | B25: līg.c. | C25: Komutācijas panelis 19” ar 24 6 kategorijas RJ45 UTP ligzdām | D25: gb | E25: 3
A26: 9 | B26: līg.c. | C26: Kabeļu kārtotājs 19” 1U, metāla, ar metāla cilpām | D26: gb | E26: 4
A27: 10 | B27: līg.c. | C27: Elektrobarošanas pieslēgpanelis 8 rozešu, 19”, ar slēdzi | D27: kpl. | E27: 1
A28: 11 | B28: līg.c. | C28: Komutācijas kabelis kat.6 UTP RJ45-RJ45, 0,5m, iekausēts | D28: gb | E28: 54
A29: 12 | B29: līg.c. | C29: Komutācijas kabelis kat.6 UTP RJ45-RJ45, 3,0m, iekausēts | D29: gb | E29: 45
A30: 13 | B30: līg.c. | C30: 24 portu komutators 10/100/1000 1U | D30: gb | E30: 2
... A32: 15 | B32: līg.c. | C32: Sienas štrobēšanas darbi kabeļiem | D32: m. | E32: 200
A33: Tiešās izmaksas kopā, t. sk. darba devēja sociālais nodoklis (23,59%)
A35: Sastādīja: | J35: Pārbaudīja:

Sheet Aprīkojums
A1: Pasūtītājs: Rīgas valstpilsētas pašvaldības Īpašuma departaments
A2: Būvuzņēmējs:
A3: LOKĀLA TĀME Nr.1-6
A4: Iebūvējamais aprīkojums
A6: OBJEKTA NOSAUKUMS: | C6: Iekštelpu atjaunošanas darbi Rīgas 1.pamatskolas-attīstības centra ēkā Ģertrūdes ielā 18, Rīgā
A7: BŪVES NOSAUKUMS: | C7: Rīgas 1.pamatskolas-attīstības centra ēka
A8: BŪVES ADRESE: | C8: Ģertrūdes ielā 18, Rīgā
A9: PASŪTĪJUMA NR.: | C9: RDĪD 2026/65
N12: Tāmes izmaksas, EUR | P12: =P34 -> 0
A14: Nr. p. k. | B14: Pamatojums | C14: Darba nosaukums | D14: Mērvienība | E14: Daudzums | F14: Vienības izmaksas | L14: Kopā uz visu apjomu
F15: laika norma (c/h) | G15: darba samaksas likme EUR | H15: darba alga EUR | I15: būvizstrādajumi EUR | J15: mehānismi EUR | K15: kopā EUR | L15: darbietilpība (C/h) | M15: darba alga EUR | N15: būvizstrādajumi EUR | O15: mehānismi EUR | P15: summa EUR
A16: 1 | B16: 2 | C16: 3 | D16: 4 | E16: 5 | F16: 6 | G16: 7 | H16: 8 | I16: 9 | J16: 10 | K16: 11 | L16: 12 | M16: 13 | N16: 14 | O16: 15 | P16: 16
C17: Aprīkojums
A18: 1 | C18: Sienas stiprināms dušas un pārtinamais salokāms galds (1057×1910 mm) , paredzēts personu ar funkcionāliem traucējumiem aprūpei horizontālā stāvoklī. Iekārtai jānodrošina stabila un droša platforma pārvietošanai, mazgāšanai un higiēnas procedūru veikšanai. Nepieciešams, lai galds būtu aprīkots ar ūdens savākšanas renes sistēmu ar integrētu noteci un elastīgu savienojumu pieslēgšanai grīdas vai sienas kanalizācijas izvadiem. Virsmai jābūt viegli tīrāmai un dezinficējamai. Jānodrošina regulējams galvas balsts ar iespēju to novietot jebkurā gultas galā. | D18: gb | E18: 1
A19: 2 | C19: Iebūvēts virtuves apakšējais skapis ar 4 izvelkamām atvilktnēm, izmēri – 600x600x800 mm (platums x dziļums x augstums), * paredzēts intensīvai ekspluatācijai publiskās ēdināšanas telpās. Konstrukcija un materiāli Skapja korpuss un fasādes izgatavotas no vismaz 18 mm biezas laminētas kokskaidu plātnes (LKSP) ar paaugstinātu mitrumizturību un mehānisko noturību. Redzamās malas apstrādātas ar ABS malu lenti (vismaz 2 mm). Skapis aprīkots ar regulējamām balstkājām un noņemamu cokolu komunikāciju piekļuvei un stabilai konstrukcijas novietošanai. Atvilktņu sistēma Skapis aprīkots ar četrām pilnas izvilkšanas atvilktnēm uz metāla teleskopiskajām vadotnēm. Atvilktņu mehānismi aprīkoti ar klusas aizvēršanas sistēmu (soft-close). Atvilktņu sāni izgatavoti no pulverkrāsota tērauda ar paaugstinātu nestspēju. | D19: gb | E19: 4
A20: 3 | C20: Iebūvēts virtuves skapis zem izlietnes ar veramām durvīm, izmēri – 600x600x800 mm (platums x dziļums x augstums), * paredzēts intensīvai ekspluatācijai publiskās telpās. Skapis paredzēts izlietnes un ūdensapgādes komunikāciju izvietošanai. Konstrukcija un materiāli Skapja korpuss un fasāde izgatavoti no vismaz 18 mm biezas laminētas kokskaidu plātnes (LKSP) ar paaugstinātu mitrumizturību un mehānisko noturību. Redzamās malas apstrādātas ar ABS malu lenti (vismaz 2 mm). Skapis aprīkots ar regulējamām balstkājām un noņemamu cokolu komunikāciju piekļuvei un stabilas konstrukcijas nodrošināšanai. Durvju sistēma Skapis aprīkots ar vienām veramām durvīm uz metāla regulējamām eņģēm. Eņģes aprīkotas ar klusas aizvēršanas sistēmu (soft-close). Iekšējais aprīkojums Skapja iekšējā telpa paredzēta izlietnes sifona, ūdensapgādes un kanalizācijas pieslēgumu izvietošanai. Konstrukcija nodrošina brīvu piekļuvi komunikāciju apkopei un remontam. | D20: gb | E20: 2
A21: 4 | C21: Iebūvēts virtuves apakšējais skapis ar vienām veramām durvīm un diviem iekšējiem plauktiem, izmēri – 600x600x800 mm (platums x dziļums x augstums), * paredzēts intensīvai ekspluatācijai publiskās telpās. Konstrukcija un materiāli Skapja korpuss, plaukti un fasāde izgatavoti no vismaz 18 mm biezas laminētas kokskaidu plātnes (LKSP) ar paaugstinātu mitrumizturību un mehānisko noturību. Redzamās malas apstrādātas ar ABS malu lenti (vismaz 2 mm). Skapis aprīkots ar regulējamām balstkājām un noņemamu cokolu komunikāciju piekļuvei un stabilas konstrukcijas nodrošināšanai. Durvju sistēma Skapis aprīkots ar vienām veramām durvīm uz metāla regulējamām eņģēm. Eņģes aprīkotas ar klusas aizvēršanas sistēmu (soft-close). Iekšējais aprīkojums Skapis aprīkots ar diviem regulējamiem plauktiem dažādu virtuves piederumu un inventāra uzglabāšanai. | D21: gb | E21: 3
A22: 5 | C22: Iebūvēts augstais virtuves skapis ar vietu iebūvējamai cepeškrāsnij, augšējiem plauktiem, vienām veramām durvīm un divām izvelkamām atvilktnēm, izmēri – 600x600x2400 mm (platums x dziļums x augstums), * paredzēts intensīvai ekspluatācijai publiskās ēdināšanas telpās. Konstrukcija un materiāli Skapja korpuss, plaukti, fasādes un atvilktņu elementi izgatavoti no vismaz 18 mm biezas laminētas kokskaidu plātnes (LKSP) ar paaugstinātu mitrumizturību un mehānisko noturību. Redzamās malas apstrādātas ar ABS malu lenti (vismaz 2 mm). Skapis aprīkots ar regulējamām balstkājām un noņemamu cokolu stabilas konstrukcijas nodrošināšanai. Durvju un atvilktņu sistēma Skapis aprīkots ar vienām veramām durvīm uz metāla regulējamām eņģēm un divām pilnas izvilkšanas atvilktnēm uz metāla teleskopiskajām vadotnēm. Eņģes un atvilktņu mehānismi aprīkoti ar klusas aizvēršanas sistēmu (soft-close). Iekšējais aprīkojums Skapja konstrukcijā paredzēta niša iebūvējamās cepeškrāsns uzstādīšanai ar nepieciešamo ventilācijas un komunikāciju pieslēgumu vietu. Augšējā daļā paredzēti plaukti virtuves inventāra un saimniecības piederumu uzglabāšanai. | D22: gb | E22: 1
A23: 6 | C23: Iebūvēts augstais virtuves skapis ar divām veramām durvīm un iekšējiem plauktiem, izmēri – 600x600x2400 mm (platums x dziļums x augstums), * paredzēts intensīvai ekspluatācijai publiskās telpās. Konstrukcija un materiāli Skapja korpuss, plaukti un fasādes izgatavotas no vismaz 18 mm biezas laminētas kokskaidu plātnes (LKSP) ar paaugstinātu mitrumizturību un mehānisko noturību. Redzamās malas apstrādātas ar ABS malu lenti (vismaz 2 mm). Skapis aprīkots ar regulējamām balstkājām un noņemamu cokolu stabilas konstrukcijas nodrošināšanai. Durvju sistēma Skapis aprīkots ar divām veramām durvīm uz metāla regulējamām eņģēm. Eņģes aprīkotas ar klusas aizvēršanas sistēmu (soft-close), nodrošinot vienmērīgu un drošu ekspluatāciju. Iekšējais aprīkojums Skapis aprīkots ar vairākiem regulējamiem plauktiem (vismaz 5 augstuma pozīcijas), kas paredzēti pārtikas produktu, virtuves inventāra, trauku un saimniecības piederumu uzglabāšanai. | D23: gb | E23: 1
A24: 7 | C24: Iebūvēts augstais virtuves skapis ar vietu iebūvējamam ledusskapim ar saldētavu un augšējo uzglabāšanas nodalījumu, izmēri – 600x600x2400 mm (platums x dziļums x augstums), * paredzēts intensīvai ekspluatācijai publiskās telpās. Konstrukcija un materiāli Skapja korpuss, plaukti un fasādes izgatavotas no vismaz 18 mm biezas laminētas kokskaidu plātnes (LKSP) ar paaugstinātu mitrumizturību un mehānisko noturību. Redzamās malas apstrādātas ar ABS malu lenti (vismaz 2 mm). Skapis aprīkots ar regulējamām balstkājām un noņemamu cokolu stabilas konstrukcijas nodrošināšanai. Durvju sistēma Skapis aprīkots ar trim fasādēm uz metāla regulējamām eņģēm. Eņģes aprīkotas ar klusas aizvēršanas sistēmu (soft-close). Iekšējais aprīkojums Skapja konstrukcijā paredzēta niša iebūvējamā ledusskapja ar saldētavu uzstādīšanai, nodrošinot nepieciešamo ventilāciju un piekļuvi elektroapgādes pieslēgumam. Augšējā daļā paredzēts atsevišķs uzglabāšanas nodalījums ar plauktu virtuves inventāra un saimniecības piederumu uzglabāšanai. Ventilācija Skapja konstrukcijā paredzētas ventilācijas atveres un ventilācijas režģis apakšējā daļā, lai nodrošinātu iebūvētās dzesēšanas iekārtas pareizu ekspluatāciju un gaisa cirkulāciju. | D24: gb | E24: 1
A25: 8 | C25: Iebūvēts virtuves augšējais skapis virs iebūvējamā ledusskapja, ar vienām veramām durvīm un vienu iekšējo plauktu, izmēri – 600x600x600 mm (platums x dziļums x augstums), * paredzēts intensīvai ekspluatācijai publiskās telpās. Konstrukcija un materiāli Skapja korpuss, plaukts un fasāde izgatavoti no vismaz 18 mm biezas laminētas kokskaidu plātnes (LKSP) ar paaugstinātu mitrumizturību un mehānisko noturību. Redzamās malas apstrādātas ar ABS malu lenti (vismaz 2 mm). Durvju sistēma Skapis aprīkots ar vienām veramām durvīm uz metāla regulējamām eņģēm. Eņģes aprīkotas ar klusas aizvēršanas sistēmu (soft-close). Iekšējais aprīkojums Skapis aprīkots ar vienu regulējamu plauktu, kas paredzēts pārtikas produktu, virtuves inventāra un saimniecības piederumu uzglabāšanai. Konstrukcija paredzēta uzstādīšanai virs iebūvējamā ledusskapja vai saldētavas skapja. Zem sienas skapīšiem iebūvēta LED apgaismojuma lenta ar sensora slēdzi. | D25: gb | E25: 12
A26: 9 | C26: Iebūvēts virtuves sienas skapis ar vienām veramām durvīm un vienu iekšējo plauktu, izmēri – 400x600x500 mm (platums x dziļums x augstums), * paredzēts intensīvai ekspluatācijai publiskās ēdināšanas telpās. Konstrukcija un materiāli Skapja korpuss, plaukts un fasāde izgatavoti no vismaz 18 mm biezas laminētas kokskaidu plātnes (LKSP) ar paaugstinātu mitrumizturību un mehānisko noturību. Redzamās malas apstrādātas ar ABS malu lenti (vismaz 2 mm). Skapis paredzēts stiprināšanai pie sienas ar regulējamu montāžas sistēmu, nodrošinot drošu un stabilu konstrukcijas nostiprināšanu. Durvju sistēma Skapis aprīkots ar vienām veramām durvīm uz metāla regulējamām eņģēm. Eņģes aprīkotas ar klusas aizvēršanas sistēmu (soft-close), nodrošinot vienmērīgu un drošu ekspluatāciju. | D26: gb | E26: 1
A27: 10 | C27: Iebūvēts virtuves sienas skapis ar vienām veramām durvīm un vienu iekšējo plauktu, izmēri – 600x600x500 mm (platums x dziļums x augstums), * paredzēts intensīvai ekspluatācijai publiskās telpās. Konstrukcija un materiāli Skapja korpuss, plaukts un fasāde izgatavoti no vismaz 18 mm biezas laminētas kokskaidu plātnes (LKSP) ar paaugstinātu mitrumizturību un mehānisko noturību. Redzamās malas apstrādātas ar ABS malu lenti (vismaz 2 mm). Skapis paredzēts stiprināšanai pie sienas ar regulējamu montāžas sistēmu, nodrošinot drošu un stabilu konstrukcijas nostiprināšanu. Durvju sistēma Skapis aprīkots ar vienām veramām durvīm uz metāla regulējamām eņģēm. Eņģes aprīkotas ar klusas aizvēršanas sistēmu (soft-close), nodrošinot vienmērīgu un drošu ekspluatāciju. Zem sienas skapīšiem iebūvēta LED apgaismojuma lenta ar sensora slēdzi. | D27: gb | E27: 14
A28: 11 | C28: Iebūvēts augstais virtuves skapis ar vienām veramām durvīm un iekšējiem plauktiem, izmēri – 400x600x2000 mm (platums x dziļums x augstums), * paredzēts intensīvai ekspluatācijai publiskās ēdināšanas telpās. Konstrukcija un materiāli Skapja korpuss, plaukti un fasāde izgatavoti no vismaz 18 mm biezas laminētas kokskaidu plātnes (LKSP) ar paaugstinātu mitrumizturību un mehānisko noturību. Redzamās malas apstrādātas ar ABS malu lenti (vismaz 2 mm). Skapis aprīkots ar regulējamām balstkājām un noņemamu cokolu stabilas konstrukcijas nodrošināšanai. Durvju sistēma Skapis aprīkots ar vienām veramām durvīm uz metāla regulējamām eņģēm. Eņģes aprīkotas ar klusas aizvēršanas sistēmu (soft-close), nodrošinot vienmērīgu un drošu ekspluatāciju. Iekšējais aprīkojums Skapis aprīkots ar sešiem regulējamiem plauktiem (vismaz 5 augstuma pozīcijas), kas paredzēti pārtikas produktu, virtuves inventāra, trauku un saimniecības piederumu uzglabāšanai. | D28: gb | E28: 1
A29: 12 | C29: Iebūvēts augstais virtuves skapis ar vienām veramām durvīm un iekšējiem plauktiem, izmēri – 600x600x2000 mm (platums x dziļums x augstums) * paredzēts intensīvai ekspluatācijai publiskās telpās. Konstrukcija un materiāli Skapja korpuss, plaukti un fasāde izgatavoti no vismaz 18 mm biezas laminētas kokskaidu plātnes (LKSP) ar paaugstinātu mitrumizturību un mehānisko noturību. Redzamās malas apstrādātas ar ABS malu lenti (vismaz 2 mm). Skapis aprīkots ar regulējamām balstkājām un noņemamu cokolu stabilas konstrukcijas nodrošināšanai. Durvju sistēma Skapis aprīkots ar vienām veramām durvīm uz metāla regulējamām eņģēm. Eņģes aprīkotas ar klusas aizvēršanas sistēmu (soft-close), nodrošinot vienmērīgu un drošu ekspluatāciju. Iekšējais aprīkojums Skapis aprīkots ar sešiem regulējamiem plauktiem (vismaz 5 augstuma pozīcijas), kas paredzēti pārtikas produktu, virtuves inventāra, trauku un saimniecības piederumu uzglabāšanai. | D29: gb | E29: 1
... A31: 14 | C31: Darba virsmā iestrādāta viena 80 cm indukcijas plīts ar integrētu tvaika nosūcēju: četras gatavošanas zonas ar iespēju apvienot zonas lieliem traukiem, ātras uzsildes režīms, intuitīva pieskārienu vadība, temperatūras kontroles sensors. Tvaika nosūcējs ar jaudu līdz 600+ m³/h, maksimālais trokšņa līmenis ~69 dB. Iekļautas drošības funkcijas: bērnu drošības slēdzis, atlikušā siltuma indikācija, automātiska izslēgšanās. Izmēri: aptuveni 816×527 mm; uzstādīšanas niša: ~750×490–500 mm; kopējā jauda: ~7,4 kW. | D31: gb | E31: 1
A32: 15 | B32: līg.c. | C32: Virtuves salas tipa darba virsmas konstrukcija ar integrētu indukcijas plīts virsmu un iebūvētu tvaika nosūcēju, paredzēta intensīvai ekspluatācijai publiskās ēdināšanas telpās. * Salas konstrukcija izgatavojama kā brīvi stāvošs virtuves mēbeļu elements ar apakšējiem skapīšiem, integrētu ventilācijas sistēmu un uzglabāšanas nodalījumiem. Konstrukcija paredzēta plīts virsmas, ventilācijas komunikāciju un elektroapgādes pieslēgumu integrācijai, nodrošinot ergonomisku un funkcionālu darba zonu. Konstrukcija un materiāli Salas korpusi, plaukti, starpsienas un fasādes izgatavotas no vismaz 18 mm biezas mitrumizturīgas laminētas kokskaidu plātnes (LKSP), sertificētas atbilstoši EN 312, ar paaugstinātu mehānisko noturību. Redzamās malas apstrādātas ar ABS malu lenti (vismaz 2 mm), nodrošinot aizsardzību pret mitruma iedarbību un mehāniskiem bojājumiem. Konstrukcija balstīta uz regulējamām cokola kājām, nodrošinot precīzu horizontālo līmeņošanu un stabilu slodžu pārnesi uz grīdu. Priekšpusē paredzēts dekoratīvais cokols vienota vizuālā risinājuma nodrošināšanai. Darba virsma Darba virsma izgatavota no kompozītmateriāla ar viendabīgu struktūru, paredzēta intensīvai ekspluatācijai virtuves darba zonā. Virsma ir mitrumizturīga, mehāniski izturīga un noturīga pret sadzīves tīrīšanas līdzekļu iedarbību. Darba virsmā integrēta indukcijas plīts virsma ar iebūvētu tvaika nosūcēju. Izgriezumi tehnoloģiskajām iekārtām izpildāmi ar precīzu ģeometriju un hermētiskiem savienojumiem. Ventilācijas sistēma Salas apakšējā daļā paredzēta integrēta ventilācijas komunikāciju zona tvaika nosūcēja sistēmas pieslēgumiem. Ventilācijas kanāli integrējami mēbeļu konstrukcijā, nodrošinot piekļuvi apkopei bez konstrukcijas bojājumiem. Ventilācijas komunikāciju vizuālai nosegšanai paredzēti iebūvēti skapīši un tehnoloģiskie paneļi, saglabājot vienotu virtuves mēbeļu dizainu un funkcionalitāti. Iekšējais aprīkojums Apakšējie skapīši aprīkoti ar atvilktņu sistēmām un uzglabāšanas nodalījumiem virtuves inventāra un saimniecības piederumu uzglabāšanai. Atvilktņu mehānismi aprīkoti ar pilnas izvilkšanas vadotnēm un klusās aizvēršanās (soft-close) funkciju. | D32: gb | E32: 1
A33: 16 | B33: līg.c. | C33: Iebūvēta lete ar integrētu skolotāja galdu. * 1. Skolotāja darba galds. Galda virsma izgatavota no 25 mm bieza LKSP ar 2mm biezu, līmētu ABS maliņu pa perimetru. Galda virsma balstīta uz metāla kvadrātcaurules profila 40 x 40 mm kāju rāmja. Četras kājas metinātas tāda paša profila rāmī zem galda virsmas. Metinājuma vietas gludas, slīpētas, bez atvērumiem. Kāju galos pekas ar augstuma regulāciju +/- 20 mm. Kāju rāmis pulverkrāsots, rāmja krāsu saskaņot ar pasūtītāju pirms izgatavošanas. Viena galda garākā un viena īsākā malas aprīkotas ar nosegpaneļiem virsmu platumā/garumā, 250 mm augstumā no grīdas. 2. Darba virsma: 1800 × 600 × 38 mm, augstums 900–910 mm, izgatavota no mitrumizturīgas LKSP, piemērota virtuvēm. | D33: gb | E33: 1
A34: Tiešās izmaksas kopā, t. sk. darba devēja sociālais nodoklis (23,59%)
C36: *Rokturi
C37: Visu durvju un atvilktņu rokturi vienādi, funkcionāli – skavas tipa, profila Ø 8-12 mm, ar noapaļotiem stūriem, kas nodrošina drošu lietošanu. Stiprināti ar skrūvēm. Garums 130-150 mm. Materiāls: metāls, matēts.
A39: Sastādīja: | J39: Pārbaudīja:
