Workbook

Sheet Skaidrojošais apraksts
A2: Skaidrojošais apraksts
A3: =KT!A13 -> Objekta nosaukums: Tramvaju galapunkta ēkas izbūve Tapešu iela 50A, Rīga
A4: =KT!A15 -> Objekta adrese: Tapešu iela 50A, Rīga
A5: Vispārīgi
A6: 1 | B6: Tāmju izmaksu aprēķins ir sastādāms pamatojoties uz SIA ""Vides projektu studija" izstrādāto būvprojektu, norādēm, skicēm, materiālu un darbu specifikācijām tās saturā. Tāmju aprakstos ietvertais darbu apraksts atspoguļo min būvdarbu tehnoloģiju, konstrukciju raksturlielumus un markas. Tāmes aprēķins ir sastādāms saskaņā ar LBN 501-17 "Būvizmaksu noteikšanas kārtība" un iesniedzams elektroniskās tabulas Excel formātā ar aktīvām formulām. Darba devēja sociālais nodoklis 23,59 % ir iekļauts vienības cenās.
A7: 2 | B7: Konstrukciju un materiālu kopsavilkuma būvdarbu apjomus skatīt kopā ar būvdarbu apjomu sarakstu, būvprojekta dokumentāciju un grafisko daļu.
A8: 3 | B8: Izstrādājot piedāvājumu, Būvdarbu veicējam rūpīgi jāpārskata būvprojekts un apjomos jāiekļauj arī neuzrādītie darbi un materiāli (jārēķinās, ka materiālu apjomi doti nesablīvētā veidā), lai kvalitatīvi veiktu būvniecību atbilstoši konkrētā Būvdarbu veicēja pielietotajai tehnoloģijai, un bez kuriem nebūtu iespējama būvdarbu tehnoloģiski pareiza un spēkā esošajiem normatīviem atbilstoša veikšana pilnā apjomā. Darbu izmaksās jāiekļauj visi ar darba izpildi nepieciešamie izdevumi: tehniskajās specifikācijās prasību izpildei nepieciešamie izdevumi, izdevumi normatīvajos aktos un būvdarbu līgumā norādīto būvtāfeļu un informatīvo plakātu izgatavošanai, uzstādīšanai un demontāžai, izdevumi, ierīkojot pagaidu stiprinājumus (rievsienas) būvdarbu laikā atbilstoši nepieciešamībai, izdevumi visu skarto un bojāto segumu atjaunošanai pēc būvdarbu pabeigšanas.
A9: 4 | B9: Materiālu komplektāciju veikt atbilstoši izstrādātājām būvprojektam, ražotāju un LR normatīvo aktu nosacījumiem, jāņemj vērā, ka materiālu daudzums ir dots (ja dots), neievertējot atgriezumus un stiegrojuma pārlaidumus.
A10: 5 | B10: Tāmē uzrādītos materiālus iespējams aizvietot ar ekvivalentiem (līdzvērtīgiem), Latvijā sertificētiem attiecīgās nozares materiāliem, tos norādot tāmes sadaļā "Ekvivalents".
A11: 6 | B11: Būvdarbu veicējam jāparedz un jāiekļauj cenās visi ar darba izpildi saistītie izdevumi, to skaitā: uzmērīšana un nospraušana; visi, ar minēto darbu sarakstu saistīti sagatavošanas darbi, nobeiguma, teritorijas sakārtošanas darbi un darbi, kas tāmē nav minēti, kā atsevišķi darbi, bet ir nepieciešami, lai darbu kvalitāte atbilstu līguma, LVS, LR likumu un normatīvu prasībām; mobilizācija un demobilizācija; palīgteritoriju iegūšana un uzturēšana; saskaņojumu un atļauju iegūšana; sanitāro un drošības normu ievērošana; satiksmes organizēšana; nepieciešamās dokumentācijas un atļauju noformēšana; darba izpildes u.c. nepieciešamo projektu izstrāde (mērījumi, aprēķini, rasējumi, apraksti, plāni, grafiki u.tml.); kvalitātes nodrošināšana un kontrole (paraugu ņemšana, testēšana, uzmērījumi, dokumentēšana, kvalitātes procedūras, preventīvās darbības u.tml.); būvmateriālu un būvizstrādājumu sagatavošana, uzglabāšana, piegādēm un iestrādei; iekārtas un ar tām saistītajiem izdevumiem; pagaidu (papildu darbiem, lai izpildītu pamatdarbu) darbi; darbaspēks; vispārējās saistības, atbildības un risku nodrošinājums; organizācija un administrēšana; tiesību aktos noteikto nodokļu un nodevu nomaksa, izņemot pievienotās vērtības nodokli; izpilddokumentācijas sagatavošana 1 eksempārā, t.i.izpildīto darbu mērījumi, diagrammas, akti, segto darbu akti, deklarācijas, materiālu sertifikāti, detalizētas izpildshēmas ar augstuma atzīmēm un piesaistēm, tehniskā dokumentācija); jebkuru citu būvprojektā, Tehniskajās specifikācijās minēto darbu pozīciju, kas nav atsevišķi norādītas citviet, izmaksas; jāvērtē visi nepieciešamie darbi, materiāli, būvmašīnas un transports, bez kā nevarētu būt iespējama darba daudzumu sarakstā minēto darbu tehnoloģiski pareiza, Pasūtītāja prasībām atbilstoša izpilde pilnā apjomā.
A12: 7 | B12: Visas atsauces uz iekārtu, materiālu un izstrādājumu ražotājiem, kuri norādīti tāmē, liecina tikai par šo izstrādājumu un iekārtu kvalitātes un apkalpošanas līmeni. Norādīto iekārtu un materiālu nomaiņa ir iespējama ar citām ekvivalentām vai labākām.
A13: 8 | B13: Nepieciešamības gadījumā, zemes darbu izmaksās jāparedz tranšeju sienu nostiprināšana kā arī virsūdens un gruntsūdens atsūknēšana.
A14: 9 | B14: Segumu atjaunošana veicama, saskaņā ar Rīgas domes saistošiem noteikumiem Nr. RD-23-217-sn "Par Rīgas valstspilsētas pašvaldības īpašumā esošo ceļu pārvaldību".
A15: 10 | B15: Tāmes pozīcijās, ja nav atsevišķi uzrādīts, jāparedz arī materiālu iebūves un montāžas izmaksas.
A16: 11 | B16: Pirms un pēc veicamo darbu pabeigšanas veikt fotofiksāciju un uzrādīt Pasūtītāja pilnvarotajiem pārstāvjiem.
A17: 12 | B17: Būvlaukuma ierīkošanas un uzturēšanas izmaksas visam būvniecības periodam, būvgružu savākšanas un utilizēšanas izmaksas, ja tās nav iekļautas kādā tāmes pozīcijā ir iekļaujamas attiecīgā darba pozīcijā.
A18: Būvdarbu izpildes un visu apstākļu (tai skaitā apgrūtinošo) raksturojums vai atbilstoša atsauce uz tehniskajām specifikācijām
A19: 13 | B19: Būvdarbu izpildei nav paredzami īpaši apstākļi, izņemot nepieciešamību nodrošināt objekta nepārtrauktu darbību būvdarbu laikā, teritorijas uzturēšanu (pēc Būvlaukuma nodošanas akta parakstīšanas, kas tiks fiksēkts ar konstatācijas aktu). Būvlaukuma uzturēšanas izmaksas jāiekļauj pozīciju cenās.
A20: 14 | B20: Ja atsevišķus darbu posmus būs nepieciešams veikt ārpus darba laika vai nakts laikā, tas iepriekš jāsaskaņo ar Pasūtītāju.
A21: 15 | B21: Veicot būvdarbus nedrīkst ietekmēt un traucēt sabiedriskā transporta kustību un autobusu parka ekspluatāciju. Ja būvdarbi nav izpildāmi bez ierobežojumiem sabiedriskā transporta kustībai, ierobežojumi, pirms to veikšanas, saskaņojami ar Pasūtītāju.
A22: 16 | B22: Būvdarbi veicami un būvizstrādājumi pielietojami saskaņā ar ražotāju tehnoloģijām, tehnisko specifikāciju.
A23: 17 | B23: Tāmē dotās atsauces uz konkrētu ražotāju izstrādājumiem ir, kā kvalitātes standarts. Būvdarbu veicējs un pasūtītājs būvniecības laikā drīkst izmantot citus izstrādājumus, kuru tehniskie un kvalitātes rādītāji ir ekvivalenti vai augstāki nekā projektā norādītajiem.
A24: 18 | B24: Esošus kabeļus, t.i. spēka kabeļus, vājstrāvas kabeļus, 20kV kabeļus nosegt darbu zonā (t.i. kabeļu aizsardzības izveidošana pret meh. bojāšanu ievietojot aisargcaurulēs) un atpakaļ ievietot kanālos un bedrē.
A25: 19 | B25: Palīgmateriālu, palīgierīču, stirpinājumu un citu palīglietu, kā arī izpilddokumentācijas izstrādes izmaksas jāiekļauj attiecīgo darbu izmaksās vai virsizdevumos
A26: Būvdarbu organizācijas īss apraksts
A27: 20 | B27: Būvdarbu izpilde ir paredzēta kārtās : 1) būvobjekta izbūvēšana 2) pagaidu pieturu, celiņu, pieslēgumu un ēku demontāža, vietas pēc pagaidu konstrukcijām sakārtošana un zalāja atjaunošana. Prognozējamais būvdarbiem nepieciešamais laiks: būvdarbu veikšanai - 6 (seši) mēneši, dokumentācijas noformēšanai un nodošanai ekspluatācijā - 1 (viens) mēnesis.
A28: 21 | B28: Būvdarbu laikā nodrošināt gājēju un transporta līdzekļu drošu pārvietošanos gar būvdarbu zonu.
A29: 22 | B29: Būvdarbu darbietilpību atspoguļot lokālajā tāmē.
A30: 23 | B30: Visu pozīciju vienības cenās ievērtēt gan darbu, gan būvizstrādājumu apjomu izmaksas un rezervi ietverot materiālu piegādi, izkraušanu, pacelšanu objektā un tml.
A31: 24 | B31: Būvgružu savākšanas un utilizācijas izmaksas, kā arī materiālu pārvietošanas (pacelšana uz konkrēto stāvu, vai sastaņiem) iekļaujamas katra attiecīgā darba mehānismu izmaksās (piemēram, demontāžas darbi, konteinera izvešana, sienas siltināšana), ja tāmē nav paredzētas attiecīgas pozīcijas. Būvgružu savākšanas un utilizācijas izmaksas iekļaujamas katra attiecīgā darba mehānismu izmaksās (piemēram konteinera noma un izvešana), kā arī materiālu pārvietošana, piegāde. Visus elektroinstalācijas vadus ievietot gofrā, aizsargcaurules.
A32: 25 | B32: Būvdarbu veicējam jāparedz un jānodrošina, ka būvdarbu laikā netiks slēgta tramvaju galapunkta darbība, līdz ar to, jānodrošina nepārtraukta tramvaju galapunkta un ekspluatācija bez pārtraukumiem, kas ilgst visu objekta būvdarbu laiku, kamēr būvobjekts netiks nodots ekspluatācijā. Būvdarbu veicējam jāsagatavot un jāsaskaņot ar Pasūtītāju un attiecīgo pašvaldību pagaidu pieturu, celiņu un pagaidu tramvaja vadītāju ēkas (tai skaitā tualetes) izvietojumu. Pamatojoties uz Pasūtītāja iesniegto skici, sagatavot divus pagaidu ēkas pārvietošanas variantus (skatīt pievienoto shēmu). Lēmums par izvēlēto variantu tiks pieņemts atbilstoši būvvaldes saskaņotajam risinājumam, kā arī izstrādāt DVP saskaņā ar Pasūtītāja iesniegto informāciju un skici un pamatojoties uz shēmu jānodrošina: 1) tramvaju personāla un pasažieru drošu pārvietošanu uz pieturām un atpakaļ; 2) pagaidu iekāpšanas un izkāpšanas vietas organizēšanu un uzturēšanu, t.i. pagaidu platformu ierīkošana- cietu 35 metru garu pagaidu platformu ar cieto segumu un piekļuvi pasažieriem, pagaidu stabu ar ceļazīmēm izvietošanu (tramvaja pietures un vairākas norādes uz pagaidu pieturu); 3) tramvaja vadītāju pagaidu izmitināšanas (kopā ar tualeti) ierīkošanu un uzturēšanu, t.i. esošu pagaidu ēku pārnešanu uz pagaidu pamatiem un pagaidu pieslēgumu organizēšanu, 4) pēc būvobjekta nodošanas jānodrošina: ▪ pagaidu pieturas pilnība demontāžu, ▪ pagaidu ēkas atslēgšanu, pārvietošana un norādītā vietā izkraušana Ganību dambī 32, Rīga un nodošanu Pasūtītajam, ▪ vietas sakārtošana, zaļajā atjaunošanu, t.i. apzaļumošana ar augu zemi NN-3, zāliena sējiens (sēklu maisījums industriālām platībām) ar sijātu melnzemes bērumu, h=15cm.
A33: 26 | B33: Būvdarbu veicējam nav jāveic nojumes un logotipa iegāde un piegāde. Nojumi un logotipu iegādi un piegādi nodrošina Pasūtītājs un izsniedz būvdarbu veicējam.
A34: Izpilddokumentācija
A35: 27 | B35: Ja kādiem tāmē norādītiem darbiem nav paredzēti sagatavošanas darbi, būvlaukuma iekārtošana, pagaidu būvju uzstādīšana/izbūve, būvzonas nosegšana/izbūve vai grīdas nosegšana, satiksmes organizēšana (Būvtāfele, Zīme "Bīstama zona", Ceļazīme būvdarba laikā, pārvietojami strādnieku vagoniņš, būvžogs / norobežojums ar vārtiem, prožektori, atkritumu konteiners, BIO tualete, atļauju saņemšana un noslēgšana u.tml.), izpilddokumentācijas sagatavošana, tad visas papildu izmaksas ir iekļaujamas virsizdevumos. Izpilddokumentācija - montāžas un segto darbu akti, būvizstrādājumu deklarācijas, būvizstrādājumu tehniskā informācija/dokumentācija, būvizstrādājumu apstiprināšanas formas, sistēmu pārbaudes un pieņemšanas akti, būvdarbu izpildshēmas (dwg un pdf formātā), apstiprināti atzinumi saskaņā ar MK noteikumu Nr.238 6. un 7.pielikumu, iekārtu ekspluatācijas dokumentācija, izmaksas par apmācību objekta iekārtu lietošanā, būvizstrādājumu un iekārtu testēšanu, iestatījumu uzstādīšana, salāgošana u.c. dokumentācija atbilstoši normatīvo aktu prasībām.
A36: 28 | B36: Virsizdevumos iekļaujamas arī visas izmaksas, kas attiecas uz dokumentācijas sagatavošanu, iesniegšanu un atļauju/saskaņojumu/atzinumu saņemšanu darbu procesa uzsākšanai, nodrošināšanai un nodošanai ekspluatācijā, t.sk.: - atzīmes par būvdarbu uzsākšanas nosacījumu izpildi saņemšana; - rakšanas atļauju saņemšana; - izpilduzmērījumu plānu sagatavošana un reģistrēšana; - ēkas vai telpu grupas kadastrālās uzmērīšanas pasūtīšana (apmaksu veic Pasūtītājs, pamatojoties uz iesniegto VZD rēķinu); - atzinumu par ēkas vai tās daļas gatavību ekspluatācijai saņemšana; - ēkas energoefektivitātes pagaidu sertifikāta sagatavošana (ja nepieciešams nodošanai ekspluatācijā); - objekta nodošana ekspluatācijā; - zemēšanas kontūra pretestības mērīšana; - sistēmu palaišanas un regulēšanas darbi, testēšana, lietošanas instrukcijas, Pasūtītāja darbinieku apmacība; - citi dokumenti un darbības, ka nepieciešamas sekmīgai procesu un būvdarbu noslēgšanai.

Sheet KT
C4: APSTIPRINU
C6: (pasūtītāja paraksts un tā atšifrējums)
C7: Z.V.
C8: _____.gada____.____________
B11: Būvniecības koptāme
A13: Objekta nosaukums: Tramvaju galapunkta ēkas izbūve Tapešu iela 50A, Rīga
A14: Būves nosaukums: Jaunbūve
A15: Objekta adrese: Tapešu iela 50A, Rīga
A16: Pasūtītājs: RP SIA "Rīgas satiksme"
A17: Izpildītājs:
B19: Tāme sastādīta
A21: Nr.p.k. | B21: Objekta nosaukums | C21: Objekta izmaksas (euro)
A22: 1 | B22: Tramvaju galapunkta ēka | C22: ='KPS '!E34 -> 0
B23: Kopā: | C23: =C22 -> 0
B25: PVN(21%): | C25: =ROUND(C23*0.21,2) -> 0
A27: Kopā ar PVN 21%: | C27: =C23+C25 -> 0
B31: (paraksts, tā atšifrējums, datums)
A33: * Skaidrojošais apraksts, t.i. visparīgas piezīmes, piezīmes par būvdarbu izpildes raksturojumu, par būvdarbu organizācijas aprakstu, par izpilddokumentāciju ir būvniecības tāmju neatņemama sastāvdaļa.

Sheet KPS 
C2: Kopsavilkuma aprēķins
C3: Tramvaju galapunkta ēka
A4: =KT!A13 -> Objekta nosaukums: Tramvaju galapunkta ēkas izbūve Tapešu iela 50A, Rīga
A5: =KT!A14 -> Būves nosaukums: Jaunbūve
A6: =KT!A15 -> Objekta adrese: Tapešu iela 50A, Rīga
A7: =KT!A16 -> Pasūtītājs: RP SIA "Rīgas satiksme"
A8: =KT!A17 -> Izpildītājs: | C8: =KT!B17 -> 0
C9: Par kopējo summu, EUR | D9: =E34 -> 0 | H9: Tāme sastādīta | I9: =KT!C19 -> 0
C10: Kopējā darbietilpība, c/st. | D10: =I30 -> 0
A11: Nr.p.k. | B11: Kods, tāmes Nr. | C11: Būvdarbu veids vai konstruktīvā elementa nosaukums | E11: Tāmes izmaksas | F11: tai skaitā | I11: Darbietilpība (c/h)
F12: darba alga | G12: būvizstrādājumi | H12: mehānismi
A13: 1 | B13: 0 | C13: ='0 sagat'!C2 -> Sagatavošanas darbi | E13: ='0 sagat'!P22 -> 0 | F13: ='0 sagat'!M22 -> 0 | G13: ='0 sagat'!N22 -> 0 | H13: ='0 sagat'!O22 -> 0 | I13: ='0 sagat'!L22 -> 0
A14: 2 | B14: 1 | C14: ='1 ELT_Augst Tīkls teritorijā'!A2 -> Pagaidu ārējā elektroapgāde, ja objekta elektroapgāde teik nodrošināta no AS “ Augstsprieguma tīkls” teritorijas | E14: ='1 ELT_Augst Tīkls teritorijā'!P25 -> 0 | F14: ='1 ELT_Augst Tīkls teritorijā'!M25 -> 0 | G14: ='1 ELT_Augst Tīkls teritorijā'!N25 -> 0 | H14: ='1 ELT_Augst Tīkls teritorijā'!O25 -> 0 | I14: ='1 ELT_Augst Tīkls teritorijā'!L25 -> 0
A15: 3 | B15: 2 | C15: ='2 ELT_no ST sadalnes'!A2 -> Pagaidu ārējā elektroapgāde, ja Objekta elektroapgāde tiek nodrošināta no AS “Sadales tīkls” uzskaites sadalnes | E15: ='2 ELT_no ST sadalnes'!P20 -> 0 | F15: ='2 ELT_no ST sadalnes'!M20 -> 0 | G15: ='2 ELT_no ST sadalnes'!N20 -> 0 | H15: ='2 ELT_no ST sadalnes'!O20 -> 0 | I15: ='2 ELT_no ST sadalnes'!L20 -> 0
A16: 4 | B16: 3 | C16: ='3 zem, dem'!C2 -> Sagatavošanas, zemes un demontāžas darbi | E16: ='3 zem, dem'!P26 -> 0 | F16: ='3 zem, dem'!M26 -> 0 | G16: ='3 zem, dem'!N26 -> 0 | H16: ='3 zem, dem'!O26 -> 0 | I16: ='3 zem, dem'!L26 -> 0
A17: 5 | B17: 4 | C17: ='4 Pamati'!C2 -> Pamatu izbūve | E17: ='4 Pamati'!P29 -> 0 | F17: ='4 Pamati'!M29 -> 0 | G17: ='4 Pamati'!N29 -> 0 | H17: ='4 Pamati'!O29 -> 0 | I17: ='4 Pamati'!L29 -> 0
A18: 6 | B18: 5 | C18: ='5 konst'!C2 -> Koka konstrukcijas | E18: ='5 konst'!P35 -> 0 | F18: ='5 konst'!M35 -> 0 | G18: ='5 konst'!N35 -> 0 | H18: ='5 konst'!O35 -> 0 | I18: ='5 konst'!L35 -> 0
A19: 7 | B19: 6 | C19: ='6 Jumts'!C2 -> Jumta izbūves darbi | E19: ='6 Jumts'!P28 -> 0 | F19: ='6 Jumts'!M28 -> 0 | G19: ='6 Jumts'!N28 -> 0 | H19: ='6 Jumts'!O28 -> 0 | I19: ='6 Jumts'!L28 -> 0
A20: 8 | B20: 7 | C20: ='7 Iekš apd'!C2 -> Iekšējās apdares darbi | E20: ='7 Iekš apd'!P38 -> 0 | F20: ='7 Iekš apd'!M38 -> 0 | G20: ='7 Iekš apd'!N38 -> 0 | H20: ='7 Iekš apd'!O38 -> 0 | I20: ='7 Iekš apd'!L38 -> 0
A21: 9 | B21: 8 | C21: ='8 Durvis un vārti'!C2 -> Durvis un vārti | E21: ='8 Durvis un vārti'!P23 -> 0 | F21: ='8 Durvis un vārti'!M23 -> 0 | G21: ='8 Durvis un vārti'!N23 -> 0 | H21: ='8 Durvis un vārti'!O23 -> 0 | I21: ='8 Durvis un vārti'!L23 -> 0
A22: 10 | B22: 9 | C22: ='9 Fasāde'!C2 -> Fasādes apdare | E22: ='9 Fasāde'!P27 -> 0 | F22: ='9 Fasāde'!M27 -> 0 | G22: ='9 Fasāde'!N27 -> 0 | H22: ='9 Fasāde'!O27 -> 0 | I22: ='9 Fasāde'!L27 -> 0
A23: 11 | B23: 10 | C23: ='10 Elekt iekš'!C2 -> Elektroapgāde (iekšējā) | E23: ='10 Elekt iekš'!P65 -> 0 | F23: ='10 Elekt iekš'!M65 -> 0 | G23: ='10 Elekt iekš'!N65 -> 0 | H23: ='10 Elekt iekš'!O65 -> 0 | I23: ='10 Elekt iekš'!L65 -> 0
A24: 12 | B24: 11 | C24: ='[1]9'!C2 -> Elektronisko sakaru sistēmas | E24: ='11 Elktr sak sist'!P77 -> 0 | F24: ='11 Elktr sak sist'!M77 -> 0 | G24: ='11 Elktr sak sist'!N77 -> 0 | H24: ='11 Elktr sak sist'!O77 -> 0 | I24: ='11 Elktr sak sist'!L77 -> 0
A25: 13 | B25: 12 | C25: ='12 ŪK iekš'!C2 -> Ūdensapgāde un kanalizācija, iekšējā (UK sadaļa) | E25: ='12 ŪK iekš'!P40 -> 0 | F25: ='12 ŪK iekš'!M40 -> 0 | G25: ='12 ŪK iekš'!N40 -> 0 | H25: ='12 ŪK iekš'!O40 -> 0 | I25: ='12 ŪK iekš'!L40 -> 0
A26: 14 | B26: 13 | C26: ='13 Apk vent kond'!C2 -> Apkures ventilācijas un kondicionēšanas sistēmas | E26: ='13 Apk vent kond'!P60 -> 0 | F26: ='13 Apk vent kond'!M60 -> 0 | G26: ='13 Apk vent kond'!N60 -> 0 | H26: ='13 Apk vent kond'!O60 -> 0 | I26: ='13 Apk vent kond'!L60 -> 0
A27: 15 | B27: 14 | C27: ='14 ārējā UKT'!C2 -> Ūdensapgāde un kanalizācija, ārējā (UKT sadaļa) | E27: ='14 ārējā UKT'!P38 -> 0 | F27: ='14 ārējā UKT'!M38 -> 0 | G27: ='14 ārējā UKT'!N38 -> 0 | H27: ='14 ārējā UKT'!O38 -> 0 | I27: ='14 ārējā UKT'!L38 -> 0
A28: 16 | B28: 15 | C28: =' 15 Ārējie ELT '!C2 -> Ārējie elektroapgādes tīkli (ELT) | E28: =' 15 Ārējie ELT '!P82 -> 0 | F28: =' 15 Ārējie ELT '!M82 -> 0 | G28: =' 15 Ārējie ELT '!N82 -> 0 | H28: =' 15 Ārējie ELT '!O82 -> 0 | I28: =' 15 Ārējie ELT '!L82 -> 0
A29: 17 | B29: 16 | C29: ='16 Labiek'!C2 -> Labiekārtošanas darbi | E29: ='16 Labiek'!P40 -> 0 | F29: ='16 Labiek'!M40 -> 0 | G29: ='16 Labiek'!N40 -> 0 | H29: ='16 Labiek'!O40 -> 0 | I29: ='16 Labiek'!L40 -> 0
C30: Tiešās izmaksas kopā: | E30: =SUM(E13:E29) -> 0 | F30: =SUM(F13:F29) -> 0 | G30: =SUM(G13:G29) -> 0 | H30: =SUM(H13:H29) -> 0 | I30: =SUM(I13:I29) -> 0
C31: Virsizdevumi | E31: =ROUND(E30*D31,2) -> 0
C32: t.sk. darba aizsardzība: | E32: =ROUND(E31*D32,2) -> 0
C33: Peļņa | E33: =ROUND(E30*D33,2) -> 0
B34: Pavisam kopā | E34: =E30+E31+E33 -> 0
A37: Skaidrojošais apraksts, t.i. visparīgas piezīmes, piezīmes par būvdarbu izpildes raksturojumu, par būvdarbu organizācijas aprakstu, par izpilddokumentāciju ir būvniecības tāmju neatņemama sastāvdaļa.
A40: Sastādīja:_______________________(_____________________)
B41: paraksts, paraksta atšifrējums
A43: Pārbaudīja:_______________________(_____________________)___.___.______(Sertifikāta Nr.________)
B44: paraksts, paraksta atšifrējums, datums

Sheet 0 sagat
C1: Lokālā tāme Nr.0
C2: Sagatavošanas darbi
C3: (būvdarbu veids vai konstruktīvā elementa nosaukums)
A5: =KT!A13 -> Objekta nosaukums: Tramvaju galapunkta ēkas izbūve Tapešu iela 50A, Rīga
A6: =KT!A14 -> Būves nosaukums: Jaunbūve
A7: =KT!A15 -> Objekta adrese: Tapešu iela 50A, Rīga | N7: Tāmes izmaksas, Euro: | O7: =P22 -> 0
A8: =KT!A16 -> Pasūtītājs: RP SIA "Rīgas satiksme" | N8: Tāme sastādīta | O8: ='KPS '!I9 -> 0
A9: =KT!A17 -> Izpildītājs: | C9: ='KPS '!C8 -> 0
A11: Tāme sastādīta 2026.gada tirgus cenās pamatojoties uz būvdarbu apjomiem.
A12: Nr. /p.k. | B12: Kods | C12: Būvdarbu nosaukums | D12: Mērvienība | E12: Daudzums | F12: Vienības izmaksas | L12: Kopā uz visu apjomu
F13: laika norma (c/h) | G13: darba samaksas likme* (euro/h) | H13: darba alga | I13: būvizstrādājumi | J13: mehānismi | K13: kopā | L13: darbietilpība (c/h) | M13: darba alga | N13: būvizstrādājumi | O13: mehānismi | P13: summa
A15: 1 | B15: =A15+1 -> 2 | C15: =B15+1 -> 3 | D15: =C15+1 -> 4 | E15: =D15+1 -> 5 | F15: =E15+1 -> 6 | G15: =F15+1 -> 7 | H15: =G15+1 -> 8 | I15: =H15+1 -> 9 | ... P15: =O15+1 -> 16
C16: SAGATAVOŠANAS DARBI
A17: 1 | B17: l.c. | C17: Sagatavot un saskaņot ar Pasūtītāju un attiecīgo pašvaldību pagaidu pieturu, celiņu un pagaidu tramvaja vadītāju ēkas (tai skaitā tualetes) izvietojumu. Pamatojoties uz Pasūtītāja iesniegto skici, sagatavot divus pagaidu ēkas pārvietošanas variantus (skatīt pievienoto shēmu). Lēmums par izvēlēto variantu tiks pieņemts atbilstoši būvvaldes saskaņotajam risinājumam, kā arī izstrādāt DVP saskaņā ar Pasūtītāja iesniegto informāciju un skici. | D17: objekts | E17: 1 | H17: =ROUND(F17*G17,2) -> 0 | K17: =ROUND(SUM(H17:J17),2) -> 0 | L17: =ROUND(F17*E17,2) -> 0 | M17: =ROUND(H17*E17,2) -> 0 | N17: =ROUND(I17*E17,2) -> 0 | O17: =ROUND(J17*E17,2) -> 0 | P17: =ROUND(SUM(M17:O17),2) -> 0
A18: 2 | B18: l.c. | C18: Tramvaju personāla droša pārvietošanas celiņu uz pagaidu tramvaja vadītāju ēkas organizēšana, ieskatot visus nepieciešamos materiālus un mehānismus (saskaņā ar Pasūtītāja iesniegto informāciju un skici) un uzturēšanu visu būvniecības laiku: ▪ celiņam jābūt 1.30m platumā no cieta seguma, piem. no šķembas vai frēzēta asfalta, ▪ pēc būvobjekta nodošanas pagaidu pieturas pilnība demontāža ▪ vietas sakārtošana, zaļajā atjaunošanu, t.i. apzaļumošana ar augu zemi NN-3, zāliena sējiens (sēklu maisījums industriālām platībām) ar sijātu melnzemes bērumu, h=15cm. | D18: m2 | E18: 30 | H18: =ROUND(F18*G18,2) -> 0 | K18: =ROUND(SUM(H18:J18),2) -> 0 | L18: =ROUND(F18*E18,2) -> 0 | M18: =ROUND(H18*E18,2) -> 0 | N18: =ROUND(I18*E18,2) -> 0 | O18: =ROUND(J18*E18,2) -> 0 | P18: =ROUND(SUM(M18:O18),2) -> 0
A19: 3 | B19: l.c. | C19: Tramvaju pasažieru uz pieturas un atpakaļ droša pārvietošanas celiņa gar sliedēm līdz asfaltētām trotuāram organizēšana, ieskatot visus nepieciešamos materiālus un mehānismus (saskaņā ar Pasūtītāja iesniegto informāciju un skici) un uzturēšanu visu būvniecības laiku: ▪ celiņam jābūt 1.30m platumā no cieta seguma, piem. no šķembas vai frēzēta asfalta, ▪ pēc būvobjekta nodošanas pagaidu pieturas pilnība demontāža, ▪ vietas sakārtošana, zaļajā atjaunošanu, t.i. apzaļumošana ar augu zemi NN-3, zāliena sējiens (sēklu maisījums industriālām platībām) ar sijātu melnzemes bērumu, h=15cm. | D19: m2 | E19: 180 | H19: =ROUND(F19*G19,2) -> 0 | K19: =ROUND(SUM(H19:J19),2) -> 0 | L19: =ROUND(F19*E19,2) -> 0 | M19: =ROUND(H19*E19,2) -> 0 | N19: =ROUND(I19*E19,2) -> 0 | O19: =ROUND(J19*E19,2) -> 0 | P19: =ROUND(SUM(M19:O19),2) -> 0
A20: 4 | B20: l.c. | C20: Pagaidu iekāpšanas un izkāpšanas vietu organizēšana, ieskatot visus nepieciešamos materiālus un mehānismus (saskaņā ar Pasūtītāja iesniegto informāciju un skici) un uzturēšanu visu būvniecības laiku: ▪ tramvaja pagaidu platformu ierīkošana - cieta 35 metru garu pagaidu platformu, 1.5m platumā ar cieto segumu piem. no šķembas vai frēzēta asfaltu un piekļuvi pasažieriem, ▪ Uz darbu veikšanas laiku aizklāt esošo pieturvietas zīmi, ▪ Izvietot informāciju par pieturvietas pārcelšanu (virziens, attālums), ▪ pagaidu stabu ar pagaidu tramvaja pieturvietas zīmi kopā ar sarakstiem, ▪ esošo miskasti pārvietot uz pagaidu pieturvietas, ▪ esošo soliņu pārvietot uz pagaidu pieturvietas, ▪ pēc būvobjekta nodošanas pagaidu pieturas ar visu aprīkojumu pilnība demontāža, utilizācija ▪ vietas sakārtošana, zaļajā atjaunošanu, t.i. apzaļumošana ar augu zemi NN-3zāliena sējiens (sēklu maisījums industriālām platībām) ar sijātu melnzemes bērumu, h=15cm. | D20: m2 | E20: 55 | H20: =ROUND(F20*G20,2) -> 0 | K20: =ROUND(SUM(H20:J20),2) -> 0 | L20: =ROUND(F20*E20,2) -> 0 | M20: =ROUND(H20*E20,2) -> 0 | N20: =ROUND(I20*E20,2) -> 0 | O20: =ROUND(J20*E20,2) -> 0 | P20: =ROUND(SUM(M20:O20),2) -> 0
A21: 5 | B21: l.c. | C21: Tramvaja vadītāju esošas pagaidu izmitināšanas ēkas, ieskaitot tualetes kabinas pārvietošana, ieskatot visus nepieciešamos materiālus, pieslēgums un mehānismus, t.i. ▪ esošu pagaidu ēku pārnešana uz pagaidu pamatiem, ▪ pieslēgumu pirms pārvietošanas tīklu atslēgšana un pagarināšana, ▪ pēc būvobjekta nodošanas, pagaidu ēkas atslēgšana no pieslēgumiem, vadu izolēšana vai demontāža, ▪ ēkas iekraušana, pārvietošana un norādītā vietā izkraušana Ganību dambī 32, Rīga un nodošanu Pasūtītajam (saskaņojot laiku ar Pasūtītāju), ▪ vietas sakārtošana, zaļajā atjaunošanu, t.i. apzaļumošana ar augu zemi NN-3, zāliena sējiens (sēklu maisījums industriālām platībām) ar sijātu melnzemes bērumu, h=15cm. | D21: gab | E21: 1 | H21: =ROUND(F21*G21,2) -> 0 | K21: =ROUND(SUM(H21:J21),2) -> 0 | L21: =ROUND(F21*E21,2) -> 0 | M21: =ROUND(H21*E21,2) -> 0 | N21: =ROUND(I21*E21,2) -> 0 | O21: =ROUND(J21*E21,2) -> 0 | P21: =ROUND(SUM(M21:O21),2) -> 0
K22: Tiešas izmaksas kopā, t. sk. darba devēja sociālais nodoklis (23,59%): | L22: =SUM(L17:L21) -> 0 | M22: =SUM(M17:M21) -> 0 | N22: =SUM(N17:N21) -> 0 | O22: =SUM(O17:O21) -> 0 | P22: =SUM(P17:P21) -> 0
A24: 1. Būvdarbu veicējam jāievērtē un jāiekļauj darbu apjomu sarakstā minēto darbu veikšanai nepieciešamie materiāli, papildus darbi un mehānismi, kas nav minēti šajā sarakstā, bet bez kuriem nebūtu iespējama būvdarbu tehnoloģiski pareiza un spēkā esošiem normatīviem atbilstoša veikšana pilnā apmērā.
A25: 2. Darbu apjomu sarakstu skatīt kopā ar būvprojektu, rasējumiem un specifikācijām. Gadījumā, ja darbu apjomi nesakrīt ar rasējumiem vai specifikācijām, pirms darbiem apjomus un būvdarbus precizēt kopā ar Pasūtītāju un/vai Pasūtītāja pārstāvi un pirms būvdarbu uzsākšanas rakstiski saskaņot ar Pasūtītāju būvdarbu veikšanas apjomu. Pasūtītājs ir tiesīgs noteikt tādu būvniecības apjomu (daudzumu), kāds nepieciešams būvprojekta īstenošanai un tā darbības nodrošināšanai, kā arī samazināt vai palielināt Līguma Pielikumos norādītos apjomus tāmēs.
A26: 3. Demontāžas darbu izmaksās jāiekļauj visa veida būvgružu izstrādes, izvešanas, izgāztuves izmaksas, kā arī jānodrošina pretputekļu pasākumi, norobežošana u.c.saistītās izmaksas.
A27: 4. Visi saistītie darbi ar iekārtu montāžu, demontāžu, nosegplēvēm, celšanas mehānismiem un citiem mehānismiem jāiekļauj attiecīgo darbu izmaksās vai virsizdevumos.
A28: 5. Visi palīgmateriāli, stiprinājumi, savienojumi u.c.palīgkonstrukcijas, kā arī izpildshēmas un sistēmas pārbaudes jāiekļauj vienības izmaksās pie saistošajiem būvizstrādājumiem.
A29: 6. Materiālu komplektāciju veikt atbilstoši izstrādātājam būvprojektam, ražotāju un LR normatīvo aktu nosacījumiem, ņemt vērā, ka materiālu daudzums ir dots, neievērtējot atgriezumus un pārlaidumus. Darbu veidiem, kuriem uzrādīta tilpuma mērvienība, tilpums ir materiāliem blīvā veidā. Būvdarbu veicējam jāievērtē Darbu apjomu tabulas vienības izmaksās minēto darbu veikšanai visi nepieciešamie materiāli un to daudzumi un papildus darbi, kas nav minēti šajā sarakstā, bet bez kuriem nebūtu iespējama būvdarbu tehnoloģiski pareiza un spēkā esošajiem normatīviem atbilstoša veikšana pilnā apjomā.
A30: 7. Tāmēs ietvertos konkrēto ražotāju materiālus un izstrādājumus var aizvietot ar ekvivalentu, citu ražotāju materiāliem un izstrādājumiem, aizpildot tabulu PIEDĀVĀTIE EKVIVALENTI.
A31: 8. Skaidrojošais apraksts, t.i. visparīgas piezīmes, piezīmes par būvdarbu izpildes raksturojumu, par būvdarbu organizācijas aprakstu, par izpilddokumentāciju ir būvniecības tāmju neatņemama sastāvdaļa.
A32: 9. Objektā nodrošināt būvniecības, sadzīves un bīstamo atkritumu dalīta savākšana, izvietojumu saskaņot ar Pasūtītāju. Būvgruži objektā tiek apsaimniekoti saskaņā ar “Atkritumu apsaimniekošanas likumu”. Būvdarbu veicējam ir pienākums nodot informāciju par uzņēmumu/iem un līgumu/iem, kuriem, darbu izpildes laikā, plānots nodot apsaimniekošanai sadzīves, bīstamos un būvniecības atkritumus. Kā arī periodiski iesniegt Pasūtītājam atkritumu pārvadājuma reģistrācijas kartes-pavadzīmes. Izvedot būvgružus, nepieciešamības gadījumā tiek paredzēta pašizgāzēju un vai citas tehnikas tīrīšana, lai nepieļautu izbraucamo ielu piegružošanu (tīrīšanu nodrošina ar ūdeni no pārvietojamiem traukiem).
A35: Sastādīja: | I35: Pārbaudīja: | N35: (Sertifikāta Nr.________)
A36: paraksts, paraksta atšifrējums, datums | I36: paraksts, paraksta atšifrējums, datums

Sheet 1 ELT_Augst Tīkls teritorijā
C1: Lokālā tāme Nr.1
A2: Pagaidu ārējā elektroapgāde, ja objekta elektroapgāde teik nodrošināta no AS “ Augstsprieguma tīkls” teritorijas
C3: (būvdarbu veids vai konstruktīvā elementa nosaukums)
A5: ='0 sagat'!A5 -> Objekta nosaukums: Tramvaju galapunkta ēkas izbūve Tapešu iela 50A, Rīga
A6: ='0 sagat'!A6 -> Būves nosaukums: Jaunbūve
A7: ='0 sagat'!A7 -> Objekta adrese: Tapešu iela 50A, Rīga | N7: Tāmes izmaksas, Euro: | O7: =P25 -> 0
A8: ='0 sagat'!A8 -> Pasūtītājs: RP SIA "Rīgas satiksme" | N8: Tāme sastādīta | O8: ='0 sagat'!O8 -> 0
A9: ='0 sagat'!A9 -> Izpildītājs: | C9: ='0 sagat'!C9 -> 0
A11: Tāme sastādīta 2026.gada tirgus cenās pamatojoties uz būvdarbu apjomiem.
A12: Nr. p.k. | B12: Kods | C12: Būvdarbu nosaukums | D12: Mērvienība | E12: Daudzums | F12: Vienības izmaksas | L12: Kopā uz visu apjomu
F13: laika norma (c/h) | G13: darba samaksas likme* (euro/h) | H13: darba alga | I13: būvizstrādājumi | J13: mehānismi | K13: kopā | L13: darbietilpība (c/h) | M13: darba alga | N13: būvizstrādājumi | O13: mehānismi | P13: summa
A15: 1 | B15: =A15+1 -> 2 | C15: =B15+1 -> 3 | D15: =C15+1 -> 4 | E15: =D15+1 -> 5 | F15: =E15+1 -> 6 | G15: =F15+1 -> 7 | H15: =G15+1 -> 8 | I15: =H15+1 -> 9 | ... P15: =O15+1 -> 16
C16: Ārējā elektroapgāde (*)
A17: 1 | B17: l.c. | C17: Tranšejas rakšana un aizbēršana viena līdz divu kabeļu (caurules) gūldīšanai 0.7m dziļumā | D17: m | E17: 2 | H17: =ROUND(F17*G17,2) -> 0 | K17: =ROUND(SUM(H17:J17),2) -> 0 | L17: =ROUND(F17*E17,2) -> 0 | M17: =ROUND(H17*E17,2) -> 0 | N17: =ROUND(I17*E17,2) -> 0 | O17: =ROUND(J17*E17,2) -> 0 | P17: =ROUND(SUM(M17:O17),2) -> 0
A18: 2 | B18: l.c. | C18: ZS pēcuzskaites kabeļa (AL-1-4x35mm², L=5m) ievēršana caurulē (450N, d=50 - tiek iekļauta ST daļas būvmateriālu apjomos) | D18: m | E18: 4 | H18: =ROUND(F18*G18,2) -> 0 | K18: =ROUND(SUM(H18:J18),2) -> 0 | L18: =ROUND(F18*E18,2) -> 0 | M18: =ROUND(H18*E18,2) -> 0 | N18: =ROUND(I18*E18,2) -> 0 | O18: =ROUND(J18*E18,2) -> 0 | P18: =ROUND(SUM(M18:O18),2) -> 0
A19: 3 | B19: l.c. | C19: Kabeļa gala apdares (1kV, 4 dz. kabe 4x16 lim līdz 35 mm2) montāža/stiprināšana/fāzēšana, pārbaude ar megommetru/datu plāksnītes (birkas) aizpildīšana un piestiprināšana. | D19: kpl. | E19: 2 | H19: =ROUND(F19*G19,2) -> 0 | K19: =ROUND(SUM(H19:J19),2) -> 0 | L19: =ROUND(F19*E19,2) -> 0 | M19: =ROUND(H19*E19,2) -> 0 | N19: =ROUND(I19*E19,2) -> 0 | O19: =ROUND(J19*E19,2) -> 0 | P19: =ROUND(SUM(M19:O19),2) -> 0
A20: 4 | B20: l.c. | C20: Vertikālā zemētāja (cinkots zemējuma elektrods d=20mm, l=1.5m), zemējuma vada (1x4mm2, L=2.5m), apaļdzelza (RD-10, PVC apvalkā, L=3m) montāža, t.sk. zemējuma izbūve un pievienošana sadalnei/iekārtai, izpildot visus savienojumus un pretrkorozijas krāsojumu, metāla konstrukciju zemēšanu | D20: kpl. | E20: 1 | H20: =ROUND(F20*G20,2) -> 0 | K20: =ROUND(SUM(H20:J20),2) -> 0 | L20: =ROUND(F20*E20,2) -> 0 | M20: =ROUND(H20*E20,2) -> 0 | N20: =ROUND(I20*E20,2) -> 0 | O20: =ROUND(J20*E20,2) -> 0 | P20: =ROUND(SUM(M20:O20),2) -> 0
A21: 5 | B21: l.c. | C21: Automātsslēdža 3C16A montāža uz DIN sliedes (pagaidu SS sadalnē) | D21: gab | E21: 1 | H21: =ROUND(F21*G21,2) -> 0 | K21: =ROUND(SUM(H21:J21),2) -> 0 | L21: =ROUND(F21*E21,2) -> 0 | M21: =ROUND(H21*E21,2) -> 0 | N21: =ROUND(I21*E21,2) -> 0 | O21: =ROUND(J21*E21,2) -> 0 | P21: =ROUND(SUM(M21:O21),2) -> 0
A22: 6 | B22: l.c. | C22: Pagaidu sadalnes SS pie ST US (sadalnes jumts ar izvadu uz augšu, IP43, v/a, ievadslēdzis 40A, pieslēgspailes vadam ar škērsgriezumu no 16 mm2 līdz 35 mm2, ar spaili zemējuma pieslēgšanai) montāža un uzstādīšana. Darbos ietilpst:: sadalnes uzstādīšana uzstādīt uz pamatnes, ieskaitot visus papildus darbus, stiprināšanu, slēdzenes montāžu, vadu un kabeļu fāzēšanu, marķēšanu, pievienošanu, operatīvie apzīmējumi. | D22: gab | E22: 1 | H22: =ROUND(F22*G22,2) -> 0 | K22: =ROUND(SUM(H22:J22),2) -> 0 | L22: =ROUND(F22*E22,2) -> 0 | M22: =ROUND(H22*E22,2) -> 0 | N22: =ROUND(I22*E22,2) -> 0 | O22: =ROUND(J22*E22,2) -> 0 | P22: =ROUND(SUM(M22:O22),2) -> 0
A23: 7 | B23: l.c. | C23: ZS esošā virszemes pievada demontāža Darbos ietilpst: kabeļa pievienojuma (visas fāzes+0) atvienošana abos galos | D23: gab | E23: 1 | H23: =ROUND(F23*G23,2) -> 0 | K23: =ROUND(SUM(H23:J23),2) -> 0 | L23: =ROUND(F23*E23,2) -> 0 | M23: =ROUND(H23*E23,2) -> 0 | N23: =ROUND(I23*E23,2) -> 0 | O23: =ROUND(J23*E23,2) -> 0 | P23: =ROUND(SUM(M23:O23),2) -> 0
A24: 8 | B24: l.c. | C24: Esošā ZS kabeļa montāža, virszemes Darbos ietilpst: kabeļa stiprināšana pie esošā balsta, kabeļa viena pievienojuma (visas fāzes+0) pievienošana sadalnei, kabeļa pagarinājums (ja nepeciešams), pagaidu balsta uzstādīšana (ja nepieciešams), datu plāksnītes (birkas) piestiprināšana/atjaunošana, pārbaudes. | D24: kompl. | E24: 1 | H24: =ROUND(F24*G24,2) -> 0 | K24: =ROUND(SUM(H24:J24),2) -> 0 | L24: =ROUND(F24*E24,2) -> 0 | M24: =ROUND(H24*E24,2) -> 0 | N24: =ROUND(I24*E24,2) -> 0 | O24: =ROUND(J24*E24,2) -> 0 | P24: =ROUND(SUM(M24:O24),2) -> 0
A25: Tiešas izmaksas kopā, t. sk. darba devēja sociālais nodoklis (23.59%): | L25: =SUM(L17:L24) -> 0 | M25: =SUM(M17:M24) -> 0 | N25: =SUM(N17:N24) -> 0 | O25: =SUM(O17:O24) -> 0 | P25: =SUM(P17:P24) -> 0
A27: Piezīmes:
A28: (*) darbi tiks veikti pie nosacījuma, ja Objekta elektroapgāde uz būvdarbu uzsākšanas laiku tiek nodrošināta no AS “Sadales tīkls” kabeļu sadalnes 545504 (atrodas AS “ Augstsprieguma tīkls” teritorijā).
A29: 1. Būvdarbu veicējam jāievērtē darbu apjomu sarakstā minēto darbu veikšanai nepieciešamie materiāli un papildus darbi, kas nav minēti šajā sarakstā, bet bez kuriem nebūtu iespējama būvdarbu tehnoloģiski pareiza un spēkā esošiem normatīviem atbilstoša veikšana pilnā apmērā.
A30: 2. Darbu apjomu sarakstu skatīt kopā ar būvprojektu, rasējumiem un specifikācijām. Gadījumā, ja darbu apjomi nesakrīt ar rasējumiem vai specifikācijām, pirms darbiem apjomus un būvdarbus precizēt kopā ar Pasūtītāju un/vai Pasūtītāja pārstāvi un pirms būvdarbu uzsākšanas rakstiski saskaņot ar Pasūtītāju būvdarbu veikšanas apjomu. Pasūtītājs ir tiesīgs noteikt tādu būvniecības apjomu (daudzumu), kāds nepieciešams būvprojekta īstenošanai un tā darbības nodrošināšanai, kā arī samazināt vai palielināt Līguma Pielikumos norādītos apjomus tāmēs.
A31: 3. Kabeļu un cauruļu apjoms norādīts orientējoši. Precīzu apjomu noteikt būvniecības laikā, pēc reālo kabeļu trasu un 'izbūves apstākļu noteikšanas. Palīgmateriālus un papildmateriālus ievērtēt, balstoties uz pieredzi līdzīgu objektu realizācijā.
A32: 4. Visi palīgmateriāli, stiprinājumi, savienojumi u.c.palīgkonstrukcijas, sistēmas marķēšana, tīrīšanas lūkas, gaisa vadu šķērsojumi ar sienām un pārsegumiem, akustiskie un ugunsdrošie blīvējimi, kā arī izpildshēmas un sistēmas pārbaudes jāiekļauj vienības izmaksās pie saistošajiem būvizstrādājumiem.
A33: 5. Materiālu komplektāciju veikt atbilstoši izstrādātājam būvprojektam, ražotāju un LR normatīvo aktu nosacījumiem, ņemt vērā, ka materiālu daudzums ir dots, neievertējot atgriezumus un pārlaidumus.
A34: 6. Visi saistītie darbi ar sastatņu, iekārtu montāžu, demontāžu, nosegplēvēm, celšanas mehānismiem un citiem mehānismiem jāiekļauj attiecīgo darbu izmaksās vai virsizdevumos.
A35: 7. Tāmēs ietvertos konkrēto ražotāju materiālus un izstrādājumus var aizvietot ar ekvivalentu, citu ražotāju materiāliem un izstrādājumiem, aizpildot tabulu PIEDĀVĀTIE EKVIVALENTI.
A36: 8. Skaidrojošais apraksts, t.i. visparīgas piezīmes, piezīmes par būvdarbu izpildes raksturojumu, par būvdarbu organizācijas aprakstu, par izpilddokumentāciju ir būvniecības tāmju neatņemama sastāvdaļa.
A38: Sastādīja: | J38: Pārbaudīja: | O38: (Sertifikāta Nr.________)
A39: paraksts, paraksta atšifrējums, datums | J39: paraksts, paraksta atšifrējums, datums

Sheet 2 ELT_no ST sadalnes
C1: Lokālā tāme Nr.2
A2: Pagaidu ārējā elektroapgāde, ja Objekta elektroapgāde tiek nodrošināta no AS “Sadales tīkls” uzskaites sadalnes
C3: (būvdarbu veids vai konstruktīvā elementa nosaukums)
A5: ='1 ELT_Augst Tīkls teritorijā'!A5 -> Objekta nosaukums: Tramvaju galapunkta ēkas izbūve Tapešu iela 50A, Rīga
A6: ='1 ELT_Augst Tīkls teritorijā'!A6 -> Būves nosaukums: Jaunbūve
A7: ='1 ELT_Augst Tīkls teritorijā'!A7 -> Objekta adrese: Tapešu iela 50A, Rīga
A8: ='1 ELT_Augst Tīkls teritorijā'!A8 -> Pasūtītājs: RP SIA "Rīgas satiksme" | N8: Tāmes izmaksas, Euro: | O8: =P20 -> 0
A9: ='1 ELT_Augst Tīkls teritorijā'!A9 -> Izpildītājs: | C9: ='1 ELT_Augst Tīkls teritorijā'!C9 -> 0 | N9: Tāme sastādīta | O9: ='1 ELT_Augst Tīkls teritorijā'!O8 -> 0
A11: Tāme sastādīta 2026.gada tirgus cenās pamatojoties uz būvdarbu apjomiem.
A12: Nr. p.k. | B12: Kods* | C12: Būvdarbu nosaukums | D12: Mērvienība | E12: Daudzums | F12: Vienības izmaksas | L12: Kopā uz visu apjomu
F13: laika norma (c/h) | G13: darba samaksas likme* (euro/h) | H13: darba alga | I13: būvizstrādājumi | J13: mehānismi | K13: kopā | L13: darbietilpība (c/h) | M13: darba alga | N13: būvizstrādājumi | O13: mehānismi | P13: summa
A15: 1 | B15: =A15+1 -> 2 | C15: =B15+1 -> 3 | D15: =C15+1 -> 4 | E15: =D15+1 -> 5 | F15: =E15+1 -> 6 | G15: =F15+1 -> 7 | H15: =G15+1 -> 8 | I15: =H15+1 -> 9 | ... P15: =O15+1 -> 16
C16: Ārējā elektroapgāde (**)
A17: 1 | B17: l.c. | C17: Kabeļa gala apdares (1kV, 4 dz. kabe 4x16 lim līdz 35 mm2) montāža/stiprināšana/fāzēšana, pārbaude ar megommetru/datu plāksnītes (birkas) aizpildīšana un piestiprināšana. | D17: kpl. | E17: 1 | H17: =ROUND(F17*G17,2) -> 0 | K17: =ROUND(SUM(H17:J17),2) -> 0 | L17: =ROUND(F17*E17,2) -> 0 | M17: =ROUND(H17*E17,2) -> 0 | N17: =ROUND(I17*E17,2) -> 0 | O17: =ROUND(J17*E17,2) -> 0 | P17: =ROUND(SUM(M17:O17),2) -> 0
A18: 2 | B18: l.c. | C18: ZS esošā virszemes pievada demontāža Darbos ietilpst: kabeļa pievienojuma (visas fāzes+0) atvienošana | D18: gab | E18: 1 | H18: =ROUND(F18*G18,2) -> 0 | K18: =ROUND(SUM(H18:J18),2) -> 0 | L18: =ROUND(F18*E18,2) -> 0 | M18: =ROUND(H18*E18,2) -> 0 | N18: =ROUND(I18*E18,2) -> 0 | O18: =ROUND(J18*E18,2) -> 0 | P18: =ROUND(SUM(M18:O18),2) -> 0
A19: 3 | B19: l.c. | C19: Esošā ZS kabeļa montāža, virszemes Darbos ietilpst: kabeļa viena pievienojuma (visas fāzes+0) pievienošana sadalnei, kabeļa pagarinājums (ja nepeciešams), pagaidu balsta uzstādīšana (ja nepeciešams) datu plāksnītes (birkas) piestiprināšana/atjaunošana, pārbaudes. | D19: kompl. | E19: 1 | H19: =ROUND(F19*G19,2) -> 0 | K19: =ROUND(SUM(H19:J19),2) -> 0 | L19: =ROUND(F19*E19,2) -> 0 | M19: =ROUND(H19*E19,2) -> 0 | N19: =ROUND(I19*E19,2) -> 0 | O19: =ROUND(J19*E19,2) -> 0 | P19: =ROUND(SUM(M19:O19),2) -> 0
A20: Tiešas izmaksas kopā, t. sk. darba devēja sociālais nodoklis (23.59%): | L20: =SUM(L17:L19) -> 0 | M20: =SUM(M17:M19) -> 0 | N20: =SUM(N17:N19) -> 0 | O20: =SUM(O17:O19) -> 0 | P20: =SUM(P17:P19) -> 0
A23: Piezīmes:
A24: (**) darbi tiks veikti pie nosacījuma, ja Objekta elektroapgāde uz būvdarbu uzsākšanas laiku tiek nodrošināta no AS “Sadales tīkls” uzskaites sadalnes U1-1/63(16A) (sk. ELT.T.-1).
A25: 1. Būvdarbu veicējam jāievērtē darbu apjomu sarakstā minēto darbu veikšanai nepieciešamie materiāli un papildus darbi, kas nav minēti šajā sarakstā, bet bez kuriem nebūtu iespējama būvdarbu tehnoloģiski pareiza un spēkā esošiem normatīviem atbilstoša veikšana pilnā apmērā.
A26: 2. Darbu apjomu sarakstu skatīt kopā ar būvprojektu, rasējumiem un specifikācijām. Gadījumā, ja darbu apjomi nesakrīt ar rasējumiem vai specifikācijām, pirms darbiem apjomus un būvdarbus precizēt kopā ar Pasūtītāju un/vai Pasūtītāja pārstāvi un pirms būvdarbu uzsākšanas rakstiski saskaņot ar Pasūtītāju būvdarbu veikšanas apjomu. Pasūtītājs ir tiesīgs noteikt tādu būvniecības apjomu (daudzumu), kāds nepieciešams būvprojekta īstenošanai un tā darbības nodrošināšanai, kā arī samazināt vai palielināt Līguma Pielikumos norādītos apjomus tāmēs.
A27: 3. Kabeļu un cauruļu apjoms norādīts orientējoši. Precīzu apjomu noteikt būvniecības laikā, pēc reālo kabeļu trasu un 'izbūves apstākļu noteikšanas. Palīgmateriālus un papildmateriālus ievērtēt, balstoties uz pieredzi līdzīgu objektu realizācijā.
A28: 4. Visi palīgmateriāli, stiprinājumi, savienojumi u.c.palīgkonstrukcijas, sistēmas marķēšana, tīrīšanas lūkas, gaisa vadu šķērsojumi ar sienām un pārsegumiem, akustiskie un ugunsdrošie blīvējimi, kā arī izpildshēmas un sistēmas pārbaudes jāiekļauj vienības izmaksās pie saistošajiem būvizstrādājumiem.
A29: 5. Materiālu komplektāciju veikt atbilstoši izstrādātājam būvprojektam, ražotāju un LR normatīvo aktu nosacījumiem, ņemt vērā, ka materiālu daudzums ir dots, neievertējot atgriezumus un pārlaidumus.
A30: 6. Visi saistītie darbi ar sastatņu, iekārtu montāžu, demontāžu, nosegplēvēm, celšanas mehānismiem un citiem mehānismiem jāiekļauj attiecīgo darbu izmaksās vai virsizdevumos.
A31: 7. Tāmēs ietvertos konkrēto ražotāju materiālus un izstrādājumus var aizvietot ar ekvivalentu, citu ražotāju materiāliem un izstrādājumiem, aizpildot tabulu PIEDĀVĀTIE EKVIVALENTI.
A32: 8. Skaidrojošais apraksts, t.i. visparīgas piezīmes, piezīmes par būvdarbu izpildes raksturojumu, par būvdarbu organizācijas aprakstu, par izpilddokumentāciju ir būvniecības tāmju neatņemama sastāvdaļa.
A34: Sastādīja: | J34: Pārbaudīja: | O34: (Sertifikāta Nr.________)
A35: paraksts, paraksta atšifrējums, datums | J35: paraksts, paraksta atšifrējums, datums

Sheet 3 zem, dem
C1: Lokālā tāme Nr.3
C2: Sagatavošanas, zemes un demontāžas darbi
C3: (būvdarbu veids vai konstruktīvā elementa nosaukums)
A5: =KT!A13 -> Objekta nosaukums: Tramvaju galapunkta ēkas izbūve Tapešu iela 50A, Rīga
A6: =KT!A14 -> Būves nosaukums: Jaunbūve
A7: =KT!A15 -> Objekta adrese: Tapešu iela 50A, Rīga | N7: Tāmes izmaksas, Euro: | O7: =P26 -> 0
A8: =KT!A16 -> Pasūtītājs: RP SIA "Rīgas satiksme" | N8: Tāme sastādīta | O8: ='KPS '!I9 -> 0
A9: =KT!A17 -> Izpildītājs: | C9: ='KPS '!C8 -> 0
A11: Tāme sastādīta 2026.gada tirgus cenās pamatojoties uz būvdarbu apjomiem.
A12: Nr. /p.k. | B12: Kods | C12: Būvdarbu nosaukums | D12: Mērvienība | E12: Daudzums | F12: Vienības izmaksas | L12: Kopā uz visu apjomu
F13: laika norma (c/h) | G13: darba samaksas likme* (euro/h) | H13: darba alga | I13: būvizstrādājumi | J13: mehānismi | K13: kopā | L13: darbietilpība (c/h) | M13: darba alga | N13: būvizstrādājumi | O13: mehānismi | P13: summa
A15: 1 | B15: =A15+1 -> 2 | C15: =B15+1 -> 3 | D15: =C15+1 -> 4 | E15: =D15+1 -> 5 | F15: =E15+1 -> 6 | G15: =F15+1 -> 7 | H15: =G15+1 -> 8 | I15: =H15+1 -> 9 | ... P15: =O15+1 -> 16
C16: SAGATAVOŠANAS DARBI
C17: DEMONTĀŽAS DARBI | H17: =ROUND(F17*G17,2) -> 0 | K17: =ROUND(SUM(H17:J17),2) -> 0 | L17: =ROUND(F17*E17,2) -> 0 | M17: =ROUND(H17*E17,2) -> 0 | N17: =ROUND(I17*E17,2) -> 0 | O17: =ROUND(J17*E17,2) -> 0 | P17: =ROUND(SUM(M17:O17),2) -> 0
A18: 1 | B18: l.c. | C18: Izcērtami koki, krūmi un celmi, tajā skaitā būvgružu savākšana un utilizācija. | D18: gb | E18: 9 | H18: =ROUND(F18*G18,2) -> 0 | K18: =ROUND(SUM(H18:J18),2) -> 0 | L18: =ROUND(F18*E18,2) -> 0 | M18: =ROUND(H18*E18,2) -> 0 | N18: =ROUND(I18*E18,2) -> 0 | O18: =ROUND(J18*E18,2) -> 0 | P18: =ROUND(SUM(M18:O18),2) -> 0
A19: 2 | B19: l.c. | C19: Pieturzīmes pārnešana par 1m, ieskatot visus nepieciešamos materiālus un mehānismus | D19: gb | E19: 1 | H19: =ROUND(F19*G19,2) -> 0 | K19: =ROUND(SUM(H19:J19),2) -> 0 | L19: =ROUND(F19*E19,2) -> 0 | M19: =ROUND(H19*E19,2) -> 0 | N19: =ROUND(I19*E19,2) -> 0 | O19: =ROUND(J19*E19,2) -> 0 | P19: =ROUND(SUM(M19:O19),2) -> 0
A20: 3 | B20: l.c. | C20: Nojumes, ieskaitot pamatnes demontāža, tajā skaitā būvgružu savākšana un utilizācija. | D20: kpl | E20: 1 | H20: =ROUND(F20*G20,2) -> 0 | K20: =ROUND(SUM(H20:J20),2) -> 0 | L20: =ROUND(F20*E20,2) -> 0 | M20: =ROUND(H20*E20,2) -> 0 | N20: =ROUND(I20*E20,2) -> 0 | O20: =ROUND(J20*E20,2) -> 0 | P20: =ROUND(SUM(M20:O20),2) -> 0
A21: 4 | B21: l.c. | C21: Esoša laukakmeņu bruģa seguma saudzīga demontāža ar saglabāšanu un turpmāku izmantošanu bruģēšanā | D21: m2 | E21: 2 | H21: =ROUND(F21*G21,2) -> 0 | K21: =ROUND(SUM(H21:J21),2) -> 0 | L21: =ROUND(F21*E21,2) -> 0 | M21: =ROUND(H21*E21,2) -> 0 | N21: =ROUND(I21*E21,2) -> 0 | O21: =ROUND(J21*E21,2) -> 0 | P21: =ROUND(SUM(M21:O21),2) -> 0
A22: 5 | B22: l.c. | C22: Esoša asfalta seguma demontāža, ieskaitot betona apmales, savākšana un utilizācija | D22: m2 | E22: 73 | H22: =ROUND(F22*G22,2) -> 0 | K22: =ROUND(SUM(H22:J22),2) -> 0 | L22: =ROUND(F22*E22,2) -> 0 | M22: =ROUND(H22*E22,2) -> 0 | N22: =ROUND(I22*E22,2) -> 0 | O22: =ROUND(J22*E22,2) -> 0 | P22: =ROUND(SUM(M22:O22),2) -> 0
A23: 6 | B23: l.c. | C23: Bruģa gājēju celiņa, ieskaitot betona apmales, pie pagaidu ēkas demontāža, savākšana un utilizācija | D23: m2 | E23: 8.7 | H23: =ROUND(F23*G23,2) -> 0 | K23: =ROUND(SUM(H23:J23),2) -> 0 | L23: =ROUND(F23*E23,2) -> 0 | M23: =ROUND(H23*E23,2) -> 0 | N23: =ROUND(I23*E23,2) -> 0 | O23: =ROUND(J23*E23,2) -> 0 | P23: =ROUND(SUM(M23:O23),2) -> 0
C24: ZEMES DARBI | H24: =ROUND(F24*G24,2) -> 0 | K24: =ROUND(SUM(H24:J24),2) -> 0 | L24: =ROUND(F24*E24,2) -> 0 | M24: =ROUND(H24*E24,2) -> 0 | N24: =ROUND(I24*E24,2) -> 0 | O24: =ROUND(J24*E24,2) -> 0 | P24: =ROUND(SUM(M24:O24),2) -> 0
A25: 7 | B25: l.c. | C25: Grunts izstrāde būvbedrē, iekļaujot grunts utilizēšanu | D25: m3 | E25: =(4.6+2)*(8.55+2)*0.65 -> 45.26 | H25: =ROUND(F25*G25,2) -> 0 | K25: =ROUND(SUM(H25:J25),2) -> 0 | L25: =ROUND(F25*E25,2) -> 0 | M25: =ROUND(H25*E25,2) -> 0 | N25: =ROUND(I25*E25,2) -> 0 | O25: =ROUND(J25*E25,2) -> 0 | P25: =ROUND(SUM(M25:O25),2) -> 0
K26: Tiešas izmaksas kopā, t. sk. darba devēja sociālais nodoklis (23,59%): | L26: =SUM(L17:L25) -> 0 | M26: =SUM(M17:M25) -> 0 | N26: =SUM(N17:N25) -> 0 | O26: =SUM(O17:O25) -> 0 | P26: =SUM(P17:P25) -> 0
A28: 1. Būvdarbu veicējam jāievērtē un jāiekļauj darbu apjomu sarakstā minēto darbu veikšanai nepieciešamie materiāli, papildus darbi un mehānismi, kas nav minēti šajā sarakstā, bet bez kuriem nebūtu iespējama būvdarbu tehnoloģiski pareiza un spēkā esošiem normatīviem atbilstoša veikšana pilnā apmērā.
A29: 2. Darbu apjomu sarakstu skatīt kopā ar būvprojektu, rasējumiem un specifikācijām. Gadījumā, ja darbu apjomi nesakrīt ar rasējumiem vai specifikācijām, pirms darbiem apjomus un būvdarbus precizēt kopā ar Pasūtītāju un/vai Pasūtītāja pārstāvi un pirms būvdarbu uzsākšanas rakstiski saskaņot ar Pasūtītāju būvdarbu veikšanas apjomu. Pasūtītājs ir tiesīgs noteikt tādu būvniecības apjomu (daudzumu), kāds nepieciešams būvprojekta īstenošanai un tā darbības nodrošināšanai, kā arī samazināt vai palielināt Līguma Pielikumos norādītos apjomus tāmēs.
A30: 3. Demontāžas darbu izmaksās jāiekļauj visa veida būvgružu izstrādes, izvešanas, izgāztuves izmaksas, kā arī jānodrošina pretputekļu pasākumi, norobežošana u.c.saistītās izmaksas.
A31: 4. Visi saistītie darbi ar iekārtu montāžu, demontāžu, nosegplēvēm, celšanas mehānismiem un citiem mehānismiem jāiekļauj attiecīgo darbu izmaksās vai virsizdevumos.
A32: 5. Visi palīgmateriāli, stiprinājumi, savienojumi u.c.palīgkonstrukcijas, kā arī izpildshēmas un sistēmas pārbaudes jāiekļauj vienības izmaksās pie saistošajiem būvizstrādājumiem.
A33: 6. Materiālu komplektāciju veikt atbilstoši izstrādātājam būvprojektam, ražotāju un LR normatīvo aktu nosacījumiem, ņemt vērā, ka materiālu daudzums ir dots, neievērtējot atgriezumus un pārlaidumus. Darbu veidiem, kuriem uzrādīta tilpuma mērvienība, tilpums ir materiāliem blīvā veidā. Būvdarbu veicējam jāievērtē Darbu apjomu tabulas vienības izmaksās minēto darbu veikšanai visi nepieciešamie materiāli un to daudzumi un papildus darbi, kas nav minēti šajā sarakstā, bet bez kuriem nebūtu iespējama būvdarbu tehnoloģiski pareiza un spēkā esošajiem normatīviem atbilstoša veikšana pilnā apjomā.
A34: 7. Tāmēs ietvertos konkrēto ražotāju materiālus un izstrādājumus var aizvietot ar ekvivalentu, citu ražotāju materiāliem un izstrādājumiem, aizpildot tabulu PIEDĀVĀTIE EKVIVALENTI.
A35: 8. Skaidrojošais apraksts, t.i. visparīgas piezīmes, piezīmes par būvdarbu izpildes raksturojumu, par būvdarbu organizācijas aprakstu, par izpilddokumentāciju ir būvniecības tāmju neatņemama sastāvdaļa.
A36: 9. Objektā nodrošināt būvniecības, sadzīves un bīstamo atkritumu dalīta savākšana, izvietojumu saskaņot ar Pasūtītāju. Būvgruži objektā tiek apsaimniekoti saskaņā ar “Atkritumu apsaimniekošanas likumu”. Būvdarbu veicējam ir pienākums nodot informāciju par uzņēmumu/iem un līgumu/iem, kuriem, darbu izpildes laikā, plānots nodot apsaimniekošanai sadzīves, bīstamos un būvniecības atkritumus. Kā arī periodiski iesniegt Pasūtītājam atkritumu pārvadājuma reģistrācijas kartes-pavadzīmes. Izvedot būvgružus, nepieciešamības gadījumā tiek paredzēta pašizgāzēju un vai citas tehnikas tīrīšana, lai nepieļautu izbraucamo ielu piegružošanu (tīrīšanu nodrošina ar ūdeni no pārvietojamiem traukiem).
A39: Sastādīja: | I39: Pārbaudīja: | N39: (Sertifikāta Nr.________)
A40: paraksts, paraksta atšifrējums, datums | I40: paraksts, paraksta atšifrējums, datums

Sheet 4 Pamati
C1: Lokālā tāme Nr.4
C2: Pamatu izbūve
C3: (būvdarbu veids vai konstruktīvā elementa nosaukums)
A5: ='3 zem, dem'!A5 -> Objekta nosaukums: Tramvaju galapunkta ēkas izbūve Tapešu iela 50A, Rīga
A6: ='3 zem, dem'!A6 -> Būves nosaukums: Jaunbūve
A7: ='3 zem, dem'!A7 -> Objekta adrese: Tapešu iela 50A, Rīga | N7: Tāmes izmaksas, Euro: | O7: =P29 -> 0
A8: ='3 zem, dem'!A8 -> Pasūtītājs: RP SIA "Rīgas satiksme" | N8: Tāme sastādīta | O8: ='KPS '!I9 -> 0
A9: ='3 zem, dem'!A9 -> Izpildītājs: | C9: ='3 zem, dem'!C9 -> 0
A11: Tāme sastādīta 2026.gada tirgus cenās pamatojoties uz būvdarbu apjomiem.
A12: Nr.p.k. | B12: Kods | C12: Būvdarbu nosaukums | D12: Mērvienība | E12: Daudzums | F12: Vienības izmaksas | L12: Kopā uz visu apjomu
F13: laika norma (c/h) | G13: darba samaksas likme* (euro/h) | H13: darba alga | I13: būvizstrādājumi | J13: mehānismi | K13: kopā | L13: darbietilpība (c/h) | M13: darba alga | N13: būvizstrādājumi | O13: mehānismi | P13: summa
A15: 1 | B15: =A15+1 -> 2 | C15: =B15+1 -> 3 | D15: =C15+1 -> 4 | E15: =D15+1 -> 5 | F15: =E15+1 -> 6 | G15: =F15+1 -> 7 | H15: =G15+1 -> 8 | I15: =H15+1 -> 9 | ... P15: =O15+1 -> 16
C16: Pamatu plātnes izbūve
A17: 1 | B17: l.c. | C17: Būvasu nospraušana dabā | D17: kpl | E17: 1 | H17: =ROUND(F17*G17,2) -> 0 | K17: =ROUND(SUM(H17:J17),2) -> 0 | L17: =ROUND(F17*E17,2) -> 0 | M17: =ROUND(H17*E17,2) -> 0 | N17: =ROUND(I17*E17,2) -> 0 | O17: =ROUND(J17*E17,2) -> 0 | P17: =ROUND(SUM(M17:O17),2) -> 0
A18: 2 | B18: l.c. | C18: Pamatnes ierīkošana no vidēji rupjas smilts (h=200mm) un tās blietēšana | D18: m3 | E18: 22.4 | H18: =ROUND(F18*G18,2) -> 0 | K18: =ROUND(SUM(H18:J18),2) -> 0 | L18: =ROUND(F18*E18,2) -> 0 | M18: =ROUND(H18*E18,2) -> 0 | N18: =ROUND(I18*E18,2) -> 0 | O18: =ROUND(J18*E18,2) -> 0 | P18: =ROUND(SUM(M18:O18),2) -> 0
A19: 3 | B19: l.c. | C19: Pamatnes ierīkošana no šķembām fr.20/40 un tās blietēšana | D19: m3 | E19: 5.1 | H19: =ROUND(F19*G19,2) -> 0 | K19: =ROUND(SUM(H19:J19),2) -> 0 | L19: =ROUND(F19*E19,2) -> 0 | M19: =ROUND(H19*E19,2) -> 0 | N19: =ROUND(I19*E19,2) -> 0 | O19: =ROUND(J19*E19,2) -> 0 | P19: =ROUND(SUM(M19:O19),2) -> 0
A20: 4 | B20: l.c. | C20: Vertikālās siltumizolācijas - ekstrudēta putupolistirola lokšņu Finnfoam FL300 vai ekvivalenta ieklāšana, b=100mm (vai ekvivalents) | D20: m3 | E20: 7 | H20: =ROUND(F20*G20,2) -> 0 | K20: =ROUND(SUM(H20:J20),2) -> 0 | L20: =ROUND(F20*E20,2) -> 0 | M20: =ROUND(H20*E20,2) -> 0 | N20: =ROUND(I20*E20,2) -> 0 | O20: =ROUND(J20*E20,2) -> 0 | P20: =ROUND(SUM(M20:O20),2) -> 0
A21: 5 | B21: l.c. | C21: Horizontālās siltumizolācijas - ekstrudēta putupolistirola lokšņu Finnfoam LB300 vai ekvivalenta ieklāšana, b=100mm (vai ekvivalents) | D21: m3 | E21: 1.45 | H21: =ROUND(F21*G21,2) -> 0 | K21: =ROUND(SUM(H21:J21),2) -> 0 | L21: =ROUND(F21*E21,2) -> 0 | M21: =ROUND(H21*E21,2) -> 0 | N21: =ROUND(I21*E21,2) -> 0 | O21: =ROUND(J21*E21,2) -> 0 | P21: =ROUND(SUM(M21:O21),2) -> 0
A22: 6 | B22: l.c. | C22: Siltumizolācijas - ekstrudēta putupolistirola lokšņu Finnfoam FI300 vai ekvivalenta ieklāšana, b=50mm pa ēkas perimetru (vai ekvivalents) | D22: m3 | E22: 0.8 | H22: =ROUND(F22*G22,2) -> 0 | K22: =ROUND(SUM(H22:J22),2) -> 0 | L22: =ROUND(F22*E22,2) -> 0 | M22: =ROUND(H22*E22,2) -> 0 | N22: =ROUND(I22*E22,2) -> 0 | O22: =ROUND(J22*E22,2) -> 0 | P22: =ROUND(SUM(M22:O22),2) -> 0
A23: 7 | B23: l.c. | C23: Polietilēna plēves 200ukm ieklāšana, ieskatot visus nepieciešamos materiālus un mehānismus | D23: m2 | E23: 37.4 | H23: =ROUND(F23*G23,2) -> 0 | K23: =ROUND(SUM(H23:J23),2) -> 0 | L23: =ROUND(F23*E23,2) -> 0 | M23: =ROUND(H23*E23,2) -> 0 | N23: =ROUND(I23*E23,2) -> 0 | O23: =ROUND(J23*E23,2) -> 0 | P23: =ROUND(SUM(M23:O23),2) -> 0
A24: 8 | B24: l.c. | C24: Stiegrojuma sieta B500B Ø16 montāža, ieskatot visus nepieciešamos materiālus un mehānismus | D24: kg | E24: 248.3 | H24: =ROUND(F24*G24,2) -> 0 | K24: =ROUND(SUM(H24:J24),2) -> 0 | L24: =ROUND(F24*E24,2) -> 0 | M24: =ROUND(H24*E24,2) -> 0 | N24: =ROUND(I24*E24,2) -> 0 | O24: =ROUND(J24*E24,2) -> 0 | P24: =ROUND(SUM(M24:O24),2) -> 0
A25: 9 | B25: l.c. | C25: Stiegrojuma sieta B500B Ø10 montāža, ieskatot visus nepieciešamos materiālus un mehānismus | D25: kg | E25: 392.6 | H25: =ROUND(F25*G25,2) -> 0 | K25: =ROUND(SUM(H25:J25),2) -> 0 | L25: =ROUND(F25*E25,2) -> 0 | M25: =ROUND(H25*E25,2) -> 0 | N25: =ROUND(I25*E25,2) -> 0 | O25: =ROUND(J25*E25,2) -> 0 | P25: =ROUND(SUM(M25:O25),2) -> 0
A26: 10 | B26: l.c. | C26: Pamatu plātnes betonēšana ar betonu C25/30 XC1, XF1, W6, ieskaitot betona izgatavošanu, piegādi līdz objektam, sūknēšanu, vibrēšanu, veidņu, to montāžu un demontāžu, ieskatot visus nepieciešamos materiālus un mehānismus. Atbiruma koeficientu paredzēt vienības cenās | D26: m3 | E26: 8.5 | H26: =ROUND(F26*G26,2) -> 0 | K26: =ROUND(SUM(H26:J26),2) -> 0 | L26: =ROUND(F26*E26,2) -> 0 | M26: =ROUND(H26*E26,2) -> 0 | N26: =ROUND(I26*E26,2) -> 0 | O26: =ROUND(J26*E26,2) -> 0 | P26: =ROUND(SUM(M26:O26),2) -> 0
A27: 11 | B27: l.c. | C27: Hidroizolācijas ierīkošana (ruberoīds), ieskatot visus nepieciešamos materiālus un mehānismus | D27: m2 | E27: 6.5 | H27: =ROUND(F27*G27,2) -> 0 | K27: =ROUND(SUM(H27:J27),2) -> 0 | L27: =ROUND(F27*E27,2) -> 0 | M27: =ROUND(H27*E27,2) -> 0 | N27: =ROUND(I27*E27,2) -> 0 | O27: =ROUND(J27*E27,2) -> 0 | P27: =ROUND(SUM(M27:O27),2) -> 0
A28: 12 | B28: l.c. | C28: Enkura M16 montāža, ieskatot visus nepieciešamos materiālus un mehānismus | D28: gb | E28: 30 | H28: =ROUND(F28*G28,2) -> 0 | K28: =ROUND(SUM(H28:J28),2) -> 0 | L28: =ROUND(F28*E28,2) -> 0 | M28: =ROUND(H28*E28,2) -> 0 | N28: =ROUND(I28*E28,2) -> 0 | O28: =ROUND(J28*E28,2) -> 0 | P28: =ROUND(SUM(M28:O28),2) -> 0
K29: Tiešas izmaksas kopā, t. sk. darba devēja sociālais nodoklis (23,59%): | L29: =SUM(L17:L28) -> 0 | M29: =SUM(M17:M28) -> 0 | N29: =SUM(N17:N28) -> 0 | O29: =SUM(O17:O28) -> 0 | P29: =SUM(P17:P28) -> 0
A32: 1. Būvdarbu veicējam jāievērtē darbu apjomu sarakstā minēto darbu veikšanai nepieciešamie materiāli un papildus darbi, kas nav minēti šajā sarakstā, bet bez kuriem nebūtu iespējama būvdarbu tehnoloģiski pareiza un spēkā esošiem normatīviem atbilstoša veikšana pilnā apmērā.
A33: 2. Darbu apjomu sarakstu skatīt kopā ar būvprojektu, rasējumiem un specifikācijām. Gadījumā, ja darbu apjomi nesakrīt ar rasējumiem vai specifikācijām, pirms darbiem apjomus un būvdarbus precizēt kopā ar Pasūtītāju un/vai Pasūtītāja pārstāvi un pirms būvdarbu uzsākšanas rakstiski saskaņot ar Pasūtītāju būvdarbu veikšanas apjomu. Pasūtītājs ir tiesīgs noteikt tādu būvniecības apjomu (daudzumu), kāds nepieciešams būvprojekta īstenošanai un tā darbības nodrošināšanai, kā arī samazināt vai palielināt Līguma Pielikumos norādītos apjomus tāmēs.
A34: 3. Visi palīgmateriāli, stiprinājumi, savienojumi u.c.palīgkonstrukcijas, sistēmas marķēšana, tīrīšanas lūkas, gaisa vadu šķērsojumi ar sienām un pārsegumiem, akustiskie un ugunsdrošie blīvējimi, kā arī izpildshēmas un sistēmas pārbaudes jāiekļauj vienības izmaksās pie saistošajiem būvizstrādājumiem.
A35: 4. Materiālu komplektāciju veikt atbilstoši izstrādātājam būvprojektam, ražotāju un LR normatīvo aktu nosacījumiem, ņemt vērā, ka materiālu daudzums ir dots, neievertējot atgriezumus un pārlaidumus.
A36: 5. Visi saistītie darbi ar iekārtu montāžu, demontāžu, nosegplēvēm, celšanas mehānismiem un citiem mehānismiem jāiekļauj attiecīgo darbu izmaksās vai virsizdevumos.
A37: 6. Tāmēs ietvertos konkrēto ražotāju materiālus un izstrādājumus var aizvietot ar ekvivalentu, citu ražotāju materiāliem un izstrādājumiem, aizpildot tabulu PIEDĀVĀTIE EKVIVALENTI.
A38: 7. Skaidrojošais apraksts, t.i. visparīgas piezīmes, piezīmes par būvdarbu izpildes raksturojumu, par būvdarbu organizācijas aprakstu, par izpilddokumentāciju ir būvniecības tāmju neatņemama sastāvdaļa.
A40: Sastādīja: | I40: Pārbaudīja: | N40: (Sertifikāta Nr.________)
A41: paraksts, paraksta atšifrējums, datums | I41: paraksts, paraksta atšifrējums, datums

Sheet 5 konst
C1: Lokālā tāme Nr.5
C2: Koka konstrukcijas
C3: (būvdarbu veids vai konstruktīvā elementa nosaukums)
A5: ='4 Pamati'!A5 -> Objekta nosaukums: Tramvaju galapunkta ēkas izbūve Tapešu iela 50A, Rīga
A6: ='4 Pamati'!A6 -> Būves nosaukums: Jaunbūve
A7: ='4 Pamati'!A7 -> Objekta adrese: Tapešu iela 50A, Rīga
A8: ='4 Pamati'!A8 -> Pasūtītājs: RP SIA "Rīgas satiksme" | N8: Tāmes izmaksas, Euro: | O8: =P35 -> 0
A9: ='4 Pamati'!A9 -> Izpildītājs: | C9: ='4 Pamati'!C9 -> 0 | N9: Tāme sastādīta | O9: ='4 Pamati'!O8 -> 0
A11: Tāme sastādīta 2026.gada tirgus cenās pamatojoties uz būvdarbu apjomiem.
A12: Nr.p.k. | B12: Kods | C12: Būvdarbu nosaukums | D12: Mērvienība | E12: Daudzums | F12: Vienības izmaksas | L12: Kopā uz visu apjomu
F13: laika norma (c/h) | G13: darba samaksas likme* (euro/h) | H13: darba alga | I13: būvizstrādājumi | J13: mehānismi | K13: kopā | L13: darbietilpība (c/h) | M13: darba alga | N13: būvizstrādājumi | O13: mehānismi | P13: summa
A15: 1 | B15: =A15+1 -> 2 | C15: =B15+1 -> 3 | D15: =C15+1 -> 4 | E15: =D15+1 -> 5 | F15: =E15+1 -> 6 | G15: =F15+1 -> 7 | H15: =G15+1 -> 8 | I15: =H15+1 -> 9 | ... P15: =O15+1 -> 16
C16: Koka karkasa konstrukcijas izbūve
A17: 1 | B17: l.c. | C17: ST-1 Statnis 200x50, L=2790mm, C24 klase, EN338, impregnēts, antiseptizēts un apstrādāts ar antipirēnu, montāža, ieskaitot visus nepieciešamos stiprinājumus, savienojumus, palīgmateriālus un mehānismus | D17: m3 | E17: 0.59 | H17: =ROUND(F17*G17,2) -> 0 | K17: =ROUND(SUM(H17:J17),2) -> 0 | L17: =ROUND(F17*E17,2) -> 0 | M17: =ROUND(H17*E17,2) -> 0 | N17: =ROUND(I17*E17,2) -> 0 | O17: =ROUND(J17*E17,2) -> 0 | P17: =ROUND(SUM(M17:O17),2) -> 0
A18: 2 | B18: l.c. | C18: ST-2 Statnis 200x50, L=2705mm, C24 klase, EN338, impregnēts, antiseptizēts un apstrādāts ar antipirēnu, montāža, ieskaitot visus nepieciešamos stiprinājumus, savienojumus, palīgmateriālus un mehānismus | D18: m3 | E18: 0.54 | H18: =ROUND(F18*G18,2) -> 0 | K18: =ROUND(SUM(H18:J18),2) -> 0 | L18: =ROUND(F18*E18,2) -> 0 | M18: =ROUND(H18*E18,2) -> 0 | N18: =ROUND(I18*E18,2) -> 0 | O18: =ROUND(J18*E18,2) -> 0 | P18: =ROUND(SUM(M18:O18),2) -> 0
A19: 3 | B19: l.c. | C19: ST-3 Statnis 200x50, L=3460mm, C24 klase, EN338, impregnēts, antiseptizēts un apstrādāts ar antipirēnu, montāža, ieskaitot visus nepieciešamos stiprinājumus, savienojumus, palīgmateriālus un mehānismus | D19: m3 | E19: 0.76 | H19: =ROUND(F19*G19,2) -> 0 | K19: =ROUND(SUM(H19:J19),2) -> 0 | L19: =ROUND(F19*E19,2) -> 0 | M19: =ROUND(H19*E19,2) -> 0 | N19: =ROUND(I19*E19,2) -> 0 | O19: =ROUND(J19*E19,2) -> 0 | P19: =ROUND(SUM(M19:O19),2) -> 0
A20: 4 | B20: l.c. | C20: ST-4 Statnis 200x50, L=510mm, C24 klase, EN338, impregnēts, antiseptizēts un apstrādāts ar antipirēnu, montāža, ieskaitot visus nepieciešamos stiprinājumus, savienojumus, palīgmateriālus un mehānismus | D20: m3 | E20: 0.06 | H20: =ROUND(F20*G20,2) -> 0 | K20: =ROUND(SUM(H20:J20),2) -> 0 | L20: =ROUND(F20*E20,2) -> 0 | M20: =ROUND(H20*E20,2) -> 0 | N20: =ROUND(I20*E20,2) -> 0 | O20: =ROUND(J20*E20,2) -> 0 | P20: =ROUND(SUM(M20:O20),2) -> 0
A21: 5 | B21: l.c. | C21: ST-5 Statnis 200x50, L=630mm, C24 klase, EN338, impregnēts, antiseptizēts un apstrādāts ar antipirēnu, montāža, ieskaitot visus nepieciešamos stiprinājumus, savienojumus, palīgmateriālus un mehānismus | D21: m3 | E21: 0.03 | H21: =ROUND(F21*G21,2) -> 0 | K21: =ROUND(SUM(H21:J21),2) -> 0 | L21: =ROUND(F21*E21,2) -> 0 | M21: =ROUND(H21*E21,2) -> 0 | N21: =ROUND(I21*E21,2) -> 0 | O21: =ROUND(J21*E21,2) -> 0 | P21: =ROUND(SUM(M21:O21),2) -> 0
A22: 6 | B22: l.c. | C22: ST-6 Statnis 150x50, L=2795mm, C24 klase, EN338, impregnēts, antiseptizēts un apstrādāts ar antipirēnu, montāža, ieskaitot visus nepieciešamos stiprinājumus, savienojumus, palīgmateriālus un mehānismus | D22: m3 | E22: 0.99 | H22: =ROUND(F22*G22,2) -> 0 | K22: =ROUND(SUM(H22:J22),2) -> 0 | L22: =ROUND(F22*E22,2) -> 0 | M22: =ROUND(H22*E22,2) -> 0 | N22: =ROUND(I22*E22,2) -> 0 | O22: =ROUND(J22*E22,2) -> 0 | P22: =ROUND(SUM(M22:O22),2) -> 0
A23: 7 | B23: l.c. | C23: ST-7 Statnis 200x50, L=545mm, C24 klase, EN338, impregnēts, antiseptizēts un apstrādāts ar antipirēnu, montāža, ieskaitot visus nepieciešamos stiprinājumus, savienojumus, palīgmateriālus un mehānismus | D23: m3 | E23: 0.01 | H23: =ROUND(F23*G23,2) -> 0 | K23: =ROUND(SUM(H23:J23),2) -> 0 | L23: =ROUND(F23*E23,2) -> 0 | M23: =ROUND(H23*E23,2) -> 0 | N23: =ROUND(I23*E23,2) -> 0 | O23: =ROUND(J23*E23,2) -> 0 | P23: =ROUND(SUM(M23:O23),2) -> 0
A24: 8 | B24: l.c. | C24: ST-8 Statnis 150x50, L=645mm, C24 klase, EN338, impregnēts, antiseptizēts un apstrādāts ar antipirēnu, montāža, ieskaitot visus nepieciešamos stiprinājumus, savienojumus, palīgmateriālus un mehānismus | D24: m3 | E24: 0.02 | H24: =ROUND(F24*G24,2) -> 0 | K24: =ROUND(SUM(H24:J24),2) -> 0 | L24: =ROUND(F24*E24,2) -> 0 | M24: =ROUND(H24*E24,2) -> 0 | N24: =ROUND(I24*E24,2) -> 0 | O24: =ROUND(J24*E24,2) -> 0 | P24: =ROUND(SUM(M24:O24),2) -> 0
A25: 9 | B25: l.c. | C25: P-1 Pārsedze 200x150, L=1350mm, C24 klase, EN338, impregnēts, antiseptizēts un apstrādāts ar antipirēnu, montāža, ieskaitot visus nepieciešamos stiprinājumus, savienojumus, palīgmateriālus un mehānismus | D25: m3 | E25: 0.04 | H25: =ROUND(F25*G25,2) -> 0 | K25: =ROUND(SUM(H25:J25),2) -> 0 | L25: =ROUND(F25*E25,2) -> 0 | M25: =ROUND(H25*E25,2) -> 0 | N25: =ROUND(I25*E25,2) -> 0 | O25: =ROUND(J25*E25,2) -> 0 | P25: =ROUND(SUM(M25:O25),2) -> 0
A26: 10 | B26: l.c. | C26: P-2 Pārsedze 2x 200x50, L=600mm, C24 klase, EN338, impregnēts, antiseptizēts un apstrādāts ar antipirēnu, ieskaitot visus nepieciešamos stiprinājumus, savienojumus, palīgmateriālus un mehānismus | D26: m3 | E26: 0.07 | H26: =ROUND(F26*G26,2) -> 0 | K26: =ROUND(SUM(H26:J26),2) -> 0 | L26: =ROUND(F26*E26,2) -> 0 | M26: =ROUND(H26*E26,2) -> 0 | N26: =ROUND(I26*E26,2) -> 0 | O26: =ROUND(J26*E26,2) -> 0 | P26: =ROUND(SUM(M26:O26),2) -> 0
A27: 11 | B27: l.c. | C27: P-3 Pārsedze 2x 150x50, L=1000mm, C24 klase, EN338, impregnēts, antiseptizēts un apstrādāts ar antipirēnu, ieskaitot visus nepieciešamos stiprinājumus, savienojumus, palīgmateriālus un mehānismus | D27: m3 | E27: 0.02 | H27: =ROUND(F27*G27,2) -> 0 | K27: =ROUND(SUM(H27:J27),2) -> 0 | L27: =ROUND(F27*E27,2) -> 0 | M27: =ROUND(H27*E27,2) -> 0 | N27: =ROUND(I27*E27,2) -> 0 | O27: =ROUND(J27*E27,2) -> 0 | P27: =ROUND(SUM(M27:O27),2) -> 0
A28: 12 | B28: l.c. | C28: P-4 Pārsedze 1x 150x50, L=800mm, C24 klase, EN338, impregnēts, antiseptizēts un apstrādāts ar antipirēnu, montāža, ieskaitot visus nepieciešamos stiprinājumus, savienojumus, palīgmateriālus un mehānismus | D28: m3 | E28: 0.02 | H28: =ROUND(F28*G28,2) -> 0 | K28: =ROUND(SUM(H28:J28),2) -> 0 | L28: =ROUND(F28*E28,2) -> 0 | M28: =ROUND(H28*E28,2) -> 0 | N28: =ROUND(I28*E28,2) -> 0 | O28: =ROUND(J28*E28,2) -> 0 | P28: =ROUND(SUM(M28:O28),2) -> 0
... A34: 18 | B34: l.c. | C34: Šķautnis 200x50, L=8000mm, C24 klase, EN338, impregnēts, antiseptizēts un apstrādāts ar antipirēnu, montāža, ieskaitot visus nepieciešamos stiprinājumus, savienojumus, palīgmateriālus un mehānismus | D34: m3 | E34: 0.16 | H34: =ROUND(F34*G34,2) -> 0 | K34: =ROUND(SUM(H34:J34),2) -> 0 | L34: =ROUND(F34*E34,2) -> 0 | M34: =ROUND(H34*E34,2) -> 0 | N34: =ROUND(I34*E34,2) -> 0 | O34: =ROUND(J34*E34,2) -> 0 | P34: =ROUND(SUM(M34:O34),2) -> 0
K35: Tiešas izmaksas kopā, t. sk. darba devēja sociālais nodoklis (23,59%): | L35: =SUM(L17:L34) -> 0 | M35: =SUM(M17:M34) -> 0 | N35: =SUM(N17:N34) -> 0 | O35: =SUM(O17:O34) -> 0 | P35: =SUM(P17:P34) -> 0
A37: 1. Būvdarbu veicējam jāievērtē darbu apjomu sarakstā minēto darbu veikšanai nepieciešamie materiāli un papildus darbi, kas nav minēti šajā sarakstā, bet bez kuriem nebūtu iespējama būvdarbu tehnoloģiski pareiza un spēkā esošiem normatīviem atbilstoša veikšana pilnā apmērā.
A38: 2. Darbu apjomu sarakstu skatīt kopā ar būvprojektu, rasējumiem un specifikācijām. Gadījumā, ja darbu apjomi nesakrīt ar rasējumiem vai specifikācijām, pirms darbiem apjomus un būvdarbus precizēt kopā ar Pasūtītāju un/vai Pasūtītāja pārstāvi un pirms būvdarbu uzsākšanas rakstiski saskaņot ar Pasūtītāju būvdarbu veikšanas apjomu. Pasūtītājs ir tiesīgs noteikt tādu būvniecības apjomu (daudzumu), kāds nepieciešams būvprojekta īstenošanai un tā darbības nodrošināšanai, kā arī samazināt vai palielināt Līguma Pielikumos norādītos apjomus tāmēs.
A39: 3. Visi palīgmateriāli, stiprinājumi, savienojumi u.c.palīgkonstrukcijas, sistēmas marķēšana, tīrīšanas lūkas, gaisa vadu šķērsojumi ar sienām un pārsegumiem, akustiskie un ugunsdrošie blīvējimi, kā arī izpildshēmas un sistēmas pārbaudes jāiekļauj vienības izmaksās pie saistošajiem būvizstrādājumiem.
A40: 4. Materiālu komplektāciju veikt atbilstoši izstrādātājam būvprojektam, ražotāju un LR normatīvo aktu nosacījumiem, ņemt vērā, ka materiālu daudzums ir dots, neievertējot atgriezumus un pārlaidumus.
A41: 5. Visi saistītie darbi ar sastatņu, iekārtu montāžu, demontāžu, nosegplēvēm, celšanas mehānismiem un citiem mehānismiem jāiekļauj attiecīgo darbu izmaksās vai virsizdevumos.
A42: 6. Tāmēs ietvertos konkrēto ražotāju materiālus un izstrādājumus var aizvietot ar ekvivalentu, citu ražotāju materiāliem un izstrādājumiem, aizpildot tabulu PIEDĀVĀTIE EKVIVALENTI.
A43: 7. Skaidrojošais apraksts, t.i. visparīgas piezīmes, piezīmes par būvdarbu izpildes raksturojumu, par būvdarbu organizācijas aprakstu, par izpilddokumentāciju ir būvniecības tāmju neatņemama sastāvdaļa.
A45: Sastādīja: | I45: Pārbaudīja: | N45: (Sertifikāta Nr.________)
A46: paraksts, paraksta atšifrējums, datums | I46: paraksts, paraksta atšifrējums, datums

Sheet 6 Jumts
C1: Lokālā tāme Nr.6
C2: Jumta izbūves darbi
C3: (būvdarbu veids vai konstruktīvā elementa nosaukums)
A5: ='5 konst'!A5 -> Objekta nosaukums: Tramvaju galapunkta ēkas izbūve Tapešu iela 50A, Rīga
A6: ='5 konst'!A6 -> Būves nosaukums: Jaunbūve
A7: ='5 konst'!A7 -> Objekta adrese: Tapešu iela 50A, Rīga
A8: ='5 konst'!A8 -> Pasūtītājs: RP SIA "Rīgas satiksme" | N8: Tāmes izmaksas, Euro: | O8: =P29 -> 0
A9: ='5 konst'!A9 -> Izpildītājs: | C9: ='5 konst'!C9 -> 0 | N9: Tāme sastādīta | O9: ='4 Pamati'!O8 -> 0
A11: Tāme sastādīta 2026.gada tirgus cenās pamatojoties uz būvdarbu apjomiem.
A12: Nr.p.k. | B12: Kods | C12: Būvdarbu nosaukums | D12: Mērvienība | E12: Daudzums | F12: Vienības izmaksas | L12: Kopā uz visu apjomu
F13: laika norma (c/h) | G13: darba samaksas likme* (euro/h) | H13: darba alga | I13: būvizstrādājumi | J13: mehānismi | K13: kopā | L13: darbietilpība (c/h) | M13: darba alga | N13: būvizstrādājumi | O13: mehānismi | P13: summa
A15: 1 | B15: =A15+1 -> 2 | C15: =B15+1 -> 3 | D15: =C15+1 -> 4 | E15: =D15+1 -> 5 | F15: =E15+1 -> 6 | G15: =F15+1 -> 7 | H15: =G15+1 -> 8 | I15: =H15+1 -> 9 | ... P15: =O15+1 -> 16
C16: Jumts J-1
A17: 1 | B17: l.c. | C17: Siltumizolācijas PAROC 200mm montāža starp spārēm, ieskaitot visus nepieciešamos palīgmateriālus un mehānismus (vai ekvivalents) | D17: m2 | E17: 45 | H17: =ROUND(F17*G17,2) -> 0 | K17: =ROUND(SUM(H17:J17),2) -> 0 | L17: =ROUND(F17*E17,2) -> 0 | M17: =ROUND(H17*E17,2) -> 0 | N17: =ROUND(I17*E17,2) -> 0 | O17: =ROUND(J17*E17,2) -> 0 | P17: =ROUND(SUM(M17:O17),2) -> 0
A18: 2 | B18: l.c. | C18: Latojuma 50x50mm montāža, ieskaitot visus nepieciešamos palīgmateriālus un mehānismus | D18: m2 | E18: 45 | H18: =ROUND(F18*G18,2) -> 0 | K18: =ROUND(SUM(H18:J18),2) -> 0 | L18: =ROUND(F18*E18,2) -> 0 | M18: =ROUND(H18*E18,2) -> 0 | N18: =ROUND(I18*E18,2) -> 0 | O18: =ROUND(J18*E18,2) -> 0 | P18: =ROUND(SUM(M18:O18),2) -> 0
A19: 3 | B19: l.c. | C19: Difūzijas memebrānas Ventia Bronze, 130 g/m2 ieklāšana (vai ekvivalents), ieskaitot visus nepieciešamos palīgmateriālus un mehānismus. Apjomos nav iekļauta rezerve, iekļaujama vienības cenās. | D19: m2 | E19: =E18 -> 45 | H19: =ROUND(F19*G19,2) -> 0 | K19: =ROUND(SUM(H19:J19),2) -> 0 | L19: =ROUND(F19*E19,2) -> 0 | M19: =ROUND(H19*E19,2) -> 0 | N19: =ROUND(I19*E19,2) -> 0 | O19: =ROUND(J19*E19,2) -> 0 | P19: =ROUND(SUM(M19:O19),2) -> 0
A20: 4 | B20: l.c. | C20: Šķērslatojuma 50mm montāža s=500mm, ieskaitot visus nepieciešamos palīgmateriālus un mehānismus | D20: m2 | E20: =E19 -> 45 | H20: =ROUND(F20*G20,2) -> 0 | K20: =ROUND(SUM(H20:J20),2) -> 0 | L20: =ROUND(F20*E20,2) -> 0 | M20: =ROUND(H20*E20,2) -> 0 | N20: =ROUND(I20*E20,2) -> 0 | O20: =ROUND(J20*E20,2) -> 0 | P20: =ROUND(SUM(M20:O20),2) -> 0
A21: 5 | B21: l.c. | C21: Dēļu klāja 25x120mm montāža (ar atstarpi 30mm) | D21: m2 | E21: =E20 -> 45 | H21: =ROUND(F21*G21,2) -> 0 | K21: =ROUND(SUM(H21:J21),2) -> 0 | L21: =ROUND(F21*E21,2) -> 0 | M21: =ROUND(H21*E21,2) -> 0 | N21: =ROUND(I21*E21,2) -> 0 | O21: =ROUND(J21*E21,2) -> 0 | P21: =ROUND(SUM(M21:O21),2) -> 0
A22: 6 | B22: l.c. | C22: Apakšklāja trokšņu slāpēšanai Ventia Metal, sd=0,02m, 400g/m2 montāža, (vai ekvivalents) | D22: m2 | E22: =E21 -> 45 | H22: =ROUND(F22*G22,2) -> 0 | K22: =ROUND(SUM(H22:J22),2) -> 0 | L22: =ROUND(F22*E22,2) -> 0 | M22: =ROUND(H22*E22,2) -> 0 | N22: =ROUND(I22*E22,2) -> 0 | O22: =ROUND(J22*E22,2) -> 0 | P22: =ROUND(SUM(M22:O22),2) -> 0
A23: 7 | B23: l.c. | C23: Cinkota skārda valcprofila jumta seguma ierīkošana, 0,5mm, ieskaitot visus nepieciešamos palīgmateriālus un pārlaidumus, RAL 7015 (RR23) | D23: m2 | E23: =E22 -> 45 | H23: =ROUND(F23*G23,2) -> 0 | K23: =ROUND(SUM(H23:J23),2) -> 0 | L23: =ROUND(F23*E23,2) -> 0 | M23: =ROUND(H23*E23,2) -> 0 | N23: =ROUND(I23*E23,2) -> 0 | O23: =ROUND(J23*E23,2) -> 0 | P23: =ROUND(SUM(M23:O23),2) -> 0
A24: 8 | B24: l.c. | C24: Citi darbi un materiāli, kas nepieciešami jumta izbūves darbiem, pieslēgumi u.c. | D24: kpl | E24: 1 | H24: =ROUND(F24*G24,2) -> 0 | K24: =ROUND(SUM(H24:J24),2) -> 0 | L24: =ROUND(F24*E24,2) -> 0 | M24: =ROUND(H24*E24,2) -> 0 | N24: =ROUND(I24*E24,2) -> 0 | O24: =ROUND(J24*E24,2) -> 0 | P24: =ROUND(SUM(M24:O24),2) -> 0
C25: Citi darbi | H25: =ROUND(F25*G25,2) -> 0 | K25: =ROUND(SUM(H25:J25),2) -> 0 | L25: =ROUND(F25*E25,2) -> 0 | M25: =ROUND(H25*E25,2) -> 0 | N25: =ROUND(I25*E25,2) -> 0 | O25: =ROUND(J25*E25,2) -> 0 | P25: =ROUND(SUM(M25:O25),2) -> 0
A26: 9 | B26: l.c. | C26: Vējkastes karkasa izbūve un apdare ar krāsotiem apdares dēļiem 25x120mm, pilna spunde, NCS S 7005-R80B kokmateriāls impregnēts, antiseptizēts un apstrādāts ar antipirēnu, RAL | D26: m2 | E26: =1.3*8.55 -> 11.12 | H26: =ROUND(F26*G26,2) -> 0 | K26: =ROUND(SUM(H26:J26),2) -> 0 | L26: =ROUND(F26*E26,2) -> 0 | M26: =ROUND(H26*E26,2) -> 0 | N26: =ROUND(I26*E26,2) -> 0 | O26: =ROUND(J26*E26,2) -> 0 | P26: =ROUND(SUM(M26:O26),2) -> 0
A27: 10 | B27: l.c. | C27: Lietusūdens apaļu notekreņu montāža, d=120mm, RAL 9007, ieskaitot visus nepieciešamos materiālus un mehānismus | D27: t.m | E27: 7.6 | H27: =ROUND(F27*G27,2) -> 0 | K27: =ROUND(SUM(H27:J27),2) -> 0 | L27: =ROUND(F27*E27,2) -> 0 | M27: =ROUND(H27*E27,2) -> 0 | N27: =ROUND(I27*E27,2) -> 0 | O27: =ROUND(J27*E27,2) -> 0 | P27: =ROUND(SUM(M27:O27),2) -> 0
A28: 11 | B28: l.c. | C28: Lietusūdens apaļu notekcaurules montāža, d=80mm, RAL 9007, ieskaitot visus nepieciešamos materiālus un mehānismus | D28: t.m | E28: 3.2 | H28: =ROUND(F28*G28,2) -> 0 | K28: =ROUND(SUM(H28:J28),2) -> 0 | L28: =ROUND(F28*E28,2) -> 0 | M28: =ROUND(H28*E28,2) -> 0 | N28: =ROUND(I28*E28,2) -> 0 | O28: =ROUND(J28*E28,2) -> 0 | P28: =ROUND(SUM(M28:O28),2) -> 0
K29: Tiešas izmaksas kopā, t. sk. darba devēja sociālais nodoklis (23,59%): | L29: =SUM(L17:L28) -> 0 | M29: =SUM(M17:M28) -> 0 | N29: =SUM(N17:N28) -> 0 | O29: =SUM(O17:O28) -> 0 | P29: =SUM(P17:P28) -> 0
A31: 1. Būvdarbu veicējam jāievērtē darbu apjomu sarakstā minēto darbu veikšanai nepieciešamie materiāli un papildus darbi, kas nav minēti šajā sarakstā, bet bez kuriem nebūtu iespējama būvdarbu tehnoloģiski pareiza un spēkā esošiem normatīviem atbilstoša veikšana pilnā apmērā.
A32: 2. Darbu apjomu sarakstu skatīt kopā ar būvprojektu, rasējumiem un specifikācijām. Gadījumā, ja darbu apjomi nesakrīt ar rasējumiem vai specifikācijām, pirms darbiem apjomus un būvdarbus precizēt kopā ar Pasūtītāju un/vai Pasūtītāja pārstāvi un pirms būvdarbu uzsākšanas rakstiski saskaņot ar Pasūtītāju būvdarbu veikšanas apjomu. Pasūtītājs ir tiesīgs noteikt tādu būvniecības apjomu (daudzumu), kāds nepieciešams būvprojekta īstenošanai un tā darbības nodrošināšanai, kā arī samazināt vai palielināt Līguma Pielikumos norādītos apjomus tāmēs.
A33: 3. Visi palīgmateriāli, stiprinājumi, savienojumi u.c.palīgkonstrukcijas, sistēmas marķēšana, tīrīšanas lūkas, gaisa vadu šķērsojumi ar sienām un pārsegumiem, akustiskie un ugunsdrošie blīvējimi, kā arī izpildshēmas un sistēmas pārbaudes jāiekļauj vienības izmaksās pie saistošajiem būvizstrādājumiem.
A34: 4. Materiālu komplektāciju veikt atbilstoši izstrādātājam būvprojektam, ražotāju un LR normatīvo aktu nosacījumiem, ņemt vērā, ka materiālu daudzums ir dots, neievertējot atgriezumus un pārlaidumus.
A35: 5. Visi saistītie darbi ar sastatņu, iekārtu montāžu, demontāžu, nosegplēvēm, celšanas mehānismiem un citiem mehānismiem jāiekļauj attiecīgo darbu izmaksās vai virsizdevumosisi saistītie darbi ar sastatņu, iekārtu montāžu, demontāžu, nosegplēvēm, celšanas mehānismiem un citiem mehānismiem jāiekļauj attiecīgo darbu izmaksās vai virsizdevumos.
A36: 6. Tāmēs ietvertos konkrēto ražotāju materiālus un izstrādājumus var aizvietot ar ekvivalentu, citu ražotāju materiāliem un izstrādājumiem, aizpildot tabulu PIEDĀVĀTIE EKVIVALENTI.
A37: 7. Skaidrojošais apraksts, t.i. visparīgas piezīmes, piezīmes par būvdarbu izpildes raksturojumu, par būvdarbu organizācijas aprakstu, par izpilddokumentāciju ir būvniecības tāmju neatņemama sastāvdaļa.
A39: Sastādīja: | I39: Pārbaudīja: | N39: (Sertifikāta Nr.________)
A40: paraksts, paraksta atšifrējums, datums | I40: paraksts, paraksta atšifrējums, datums

Sheet 7 Iekš apd
C1: Lokālā tāme Nr.7
C2: Iekšējās apdares darbi
C3: (būvdarbu veids vai konstruktīvā elementa nosaukums)
A5: ='6 Jumts'!A5 -> Objekta nosaukums: Tramvaju galapunkta ēkas izbūve Tapešu iela 50A, Rīga
A6: ='6 Jumts'!A6 -> Būves nosaukums: Jaunbūve
A7: ='6 Jumts'!A7 -> Objekta adrese: Tapešu iela 50A, Rīga
A8: ='6 Jumts'!A8 -> Pasūtītājs: RP SIA "Rīgas satiksme" | N8: Tāmes izmaksas, Euro: | O8: =P39 -> 0
A9: ='6 Jumts'!A9 -> Izpildītājs: | C9: ='6 Jumts'!C9 -> 0 | N9: Tāme sastādīta | O9: ='6 Jumts'!O9 -> 0
A11: Tāme sastādīta 2026.gada tirgus cenās pamatojoties uz būvdarbu apjomiem.
A12: Nr.p.k. | B12: Kods | C12: Būvdarbu nosaukums | D12: Mērvienība | E12: Daudzums | F12: Vienības izmaksas | L12: Kopā uz visu apjomu
F13: laika norma (c/h) | G13: darba samaksas likme* (euro/h) | H13: darba alga | I13: būvizstrādājumi | J13: mehānismi | K13: kopā | L13: darbietilpība (c/h) | M13: darba alga | N13: būvizstrādājumi | O13: mehānismi | P13: summa
A15: 1 | B15: =A15+1 -> 2 | C15: =B15+1 -> 3 | D15: =C15+1 -> 4 | E15: =D15+1 -> 5 | F15: =E15+1 -> 6 | G15: =F15+1 -> 7 | H15: =G15+1 -> 8 | I15: =H15+1 -> 9 | ... P15: =O15+1 -> 16
C16: Sienas
C17: S-1
A18: 1 | B18: l.c. | C18: Tvaika izolācijas Paroc XMV 020 bas montāža (vai ekvivalents) | D18: m2 | E18: 84.7 | H18: =ROUND(F18*G18,2) -> 0 | K18: =ROUND(SUM(H18:J18),2) -> 0 | L18: =ROUND(F18*E18,2) -> 0 | M18: =ROUND(H18*E18,2) -> 0 | N18: =ROUND(I18*E18,2) -> 0 | O18: =ROUND(J18*E18,2) -> 0 | P18: =ROUND(SUM(M18:O18),2) -> 0
A19: 2 | B19: l.c. | C19: Koka statnis 50x50mm montāža, , impregnēts, antiseptizēts un apstrādāts ar antipirēnu | D19: m2 | E19: 84.7 | H19: =ROUND(F19*G19,2) -> 0 | K19: =ROUND(SUM(H19:J19),2) -> 0 | L19: =ROUND(F19*E19,2) -> 0 | M19: =ROUND(H19*E19,2) -> 0 | N19: =ROUND(I19*E19,2) -> 0 | O19: =ROUND(J19*E19,2) -> 0 | P19: =ROUND(SUM(M19:O19),2) -> 0
A20: 3 | B20: l.c. | C20: Siltumizolācijas Paroc eXtra 50mm montāža (vai ekvivalents) | D20: m2 | E20: 84.7 | H20: =ROUND(F20*G20,2) -> 0 | K20: =ROUND(SUM(H20:J20),2) -> 0 | L20: =ROUND(F20*E20,2) -> 0 | M20: =ROUND(H20*E20,2) -> 0 | N20: =ROUND(I20*E20,2) -> 0 | O20: =ROUND(J20*E20,2) -> 0 | P20: =ROUND(SUM(M20:O20),2) -> 0
A21: 4 | B21: l.c. | C21: Ģipškartona plātnes Knauf GKB montāža, ģipškartons 2.kārtās, ieskaitot visus nepieciešamos materiālus un mehānismus (vai ekvivalents) | D21: m2 | E21: 84.7 | H21: =ROUND(F21*G21,2) -> 0 | K21: =ROUND(SUM(H21:J21),2) -> 0 | L21: =ROUND(F21*E21,2) -> 0 | M21: =ROUND(H21*E21,2) -> 0 | N21: =ROUND(I21*E21,2) -> 0 | O21: =ROUND(J21*E21,2) -> 0 | P21: =ROUND(SUM(M21:O21),2) -> 0
A22: 5 | B22: l.c. | C22: Sienas gruntēšana, špaktelēšana, slīpēšana un krāsošana 2x (krāsu tonis NCS S0502-Y ) | D22: m2 | E22: 84.7 | H22: =ROUND(F22*G22,2) -> 0 | K22: =ROUND(SUM(H22:J22),2) -> 0 | L22: =ROUND(F22*E22,2) -> 0 | M22: =ROUND(H22*E22,2) -> 0 | N22: =ROUND(I22*E22,2) -> 0 | O22: =ROUND(J22*E22,2) -> 0 | P22: =ROUND(SUM(M22:O22),2) -> 0
C23: S-2 | H23: =ROUND(F23*G23,2) -> 0 | K23: =ROUND(SUM(H23:J23),2) -> 0 | L23: =ROUND(F23*E23,2) -> 0 | M23: =ROUND(H23*E23,2) -> 0 | N23: =ROUND(I23*E23,2) -> 0 | O23: =ROUND(J23*E23,2) -> 0 | P23: =ROUND(SUM(M23:O23),2) -> 0
A24: 6 | B24: l.c. | C24: Ģipškartona starpsienas montāža, metāla profilu konstrukcija, ģipškartons 2.kārtās, skaņas izolācija Paroc eXtra 100mm, ieskaitot visus nepieciešamos materiālus un mehānismus, (vai ekvivalents) | D24: m2 | E24: 36.2 | H24: =ROUND(F24*G24,2) -> 0 | K24: =ROUND(SUM(H24:J24),2) -> 0 | L24: =ROUND(F24*E24,2) -> 0 | M24: =ROUND(H24*E24,2) -> 0 | N24: =ROUND(I24*E24,2) -> 0 | O24: =ROUND(J24*E24,2) -> 0 | P24: =ROUND(SUM(M24:O24),2) -> 0
A25: 7 | B25: l.c. | C25: Sienas gruntēšana, špaktelēšana, slīpēšana un krāsošana 2x | D25: m2 | E25: =E24*2 -> 72.4 | H25: =ROUND(F25*G25,2) -> 0 | K25: =ROUND(SUM(H25:J25),2) -> 0 | L25: =ROUND(F25*E25,2) -> 0 | M25: =ROUND(H25*E25,2) -> 0 | N25: =ROUND(I25*E25,2) -> 0 | O25: =ROUND(J25*E25,2) -> 0 | P25: =ROUND(SUM(M25:O25),2) -> 0
A26: 8 | B26: l.c. | C26: Hidroziolācijas uzklāšana uz sienas pie izlietnes | D26: m2 | E26: 2.5 | H26: =ROUND(F26*G26,2) -> 0 | K26: =ROUND(SUM(H26:J26),2) -> 0 | L26: =ROUND(F26*E26,2) -> 0 | M26: =ROUND(H26*E26,2) -> 0 | N26: =ROUND(I26*E26,2) -> 0 | O26: =ROUND(J26*E26,2) -> 0 | P26: =ROUND(SUM(M26:O26),2) -> 0
A27: 9 | B27: l.c. | C27: Sienu stūra (0.825x 1.19m) flīzēšana pie izlietnes, keramikas granīta flīzes Architeq Crema 59,8x119,8 (vai ekvivalents), ieskaitot aizdari ar tonēto šuvju šuvotāju | D27: m2 | E27: 2.5 | H27: =ROUND(F27*G27,2) -> 0 | K27: =ROUND(SUM(H27:J27),2) -> 0 | L27: =ROUND(F27*E27,2) -> 0 | M27: =ROUND(H27*E27,2) -> 0 | N27: =ROUND(I27*E27,2) -> 0 | O27: =ROUND(J27*E27,2) -> 0 | P27: =ROUND(SUM(M27:O27),2) -> 0
C28: Griesti | H28: =ROUND(F28*G28,2) -> 0 | K28: =ROUND(SUM(H28:J28),2) -> 0 | L28: =ROUND(F28*E28,2) -> 0 | M28: =ROUND(H28*E28,2) -> 0 | N28: =ROUND(I28*E28,2) -> 0 | O28: =ROUND(J28*E28,2) -> 0 | P28: =ROUND(SUM(M28:O28),2) -> 0
A29: 10 | B29: l.c. | C29: Tvaika izolācijas Paroc XMV 020 bas montāža, ieskaitot visus nepieciešamos materiālus un mehānismus (vai ekvivalents) | D29: m2 | E29: 28 | H29: =ROUND(F29*G29,2) -> 0 | K29: =ROUND(SUM(H29:J29),2) -> 0 | L29: =ROUND(F29*E29,2) -> 0 | M29: =ROUND(H29*E29,2) -> 0 | N29: =ROUND(I29*E29,2) -> 0 | O29: =ROUND(J29*E29,2) -> 0 | P29: =ROUND(SUM(M29:O29),2) -> 0
A30: 11 | B30: l.c. | C30: Koka latojuma montāža 50x50mm, impregnēts, antiseptizēts un apstrādāts ar antipirēnu, , ieskaitot visus nepieciešamos materiālus un mehānismus | D30: m2 | E30: =E29 -> 28 | H30: =ROUND(F30*G30,2) -> 0 | K30: =ROUND(SUM(H30:J30),2) -> 0 | L30: =ROUND(F30*E30,2) -> 0 | M30: =ROUND(H30*E30,2) -> 0 | N30: =ROUND(I30*E30,2) -> 0 | O30: =ROUND(J30*E30,2) -> 0 | P30: =ROUND(SUM(M30:O30),2) -> 0
A31: 12 | B31: l.c. | C31: Griestu apšušana ar ģipškartona plāksnēm Knauf GKB 2.kārtās, ieskaitot visus nepieciešamos materiālus un mehānismus (vai ekvivalents) | D31: m2 | E31: =E30 -> 28 | H31: =ROUND(F31*G31,2) -> 0 | K31: =ROUND(SUM(H31:J31),2) -> 0 | L31: =ROUND(F31*E31,2) -> 0 | M31: =ROUND(H31*E31,2) -> 0 | N31: =ROUND(I31*E31,2) -> 0 | O31: =ROUND(J31*E31,2) -> 0 | P31: =ROUND(SUM(M31:O31),2) -> 0
A32: 13 | B32: l.c. | C32: Griestu gruntēšana, špaktelēšana, slīpēšana un krāsošana 2x | D32: m2 | E32: =E31 -> 28 | H32: =ROUND(F32*G32,2) -> 0 | K32: =ROUND(SUM(H32:J32),2) -> 0 | L32: =ROUND(F32*E32,2) -> 0 | M32: =ROUND(H32*E32,2) -> 0 | N32: =ROUND(I32*E32,2) -> 0 | O32: =ROUND(J32*E32,2) -> 0 | P32: =ROUND(SUM(M32:O32),2) -> 0
C33: Grīda Gr1 | H33: =ROUND(F33*G33,2) -> 0 | K33: =ROUND(SUM(H33:J33),2) -> 0 | L33: =ROUND(F33*E33,2) -> 0 | M33: =ROUND(H33*E33,2) -> 0 | N33: =ROUND(I33*E33,2) -> 0 | O33: =ROUND(J33*E33,2) -> 0 | P33: =ROUND(SUM(M33:O33),2) -> 0
A34: 14 | B34: l.c. | C34: Grīdas seguma linoleja Gerflor Taralay Millenium Cosmic 5721 Fortuna b=2mm ieklāšana (līmēšana), virsmas gruntēšana, ieskaitot visus nepieciešamos palīgmateriālus un mehānismus (vai ekvivalents) | D34: m2 | E34: 28 | H34: =ROUND(F34*G34,2) -> 0 | K34: =ROUND(SUM(H34:J34),2) -> 0 | L34: =ROUND(F34*E34,2) -> 0 | M34: =ROUND(H34*E34,2) -> 0 | N34: =ROUND(I34*E34,2) -> 0 | O34: =ROUND(J34*E34,2) -> 0 | P34: =ROUND(SUM(M34:O34),2) -> 0
A35: 15 | B35: l.c. | C35: Estich betona grīdas slāņa izbūve, b=55mm, (vai ekvivalents) | D35: m2 | E35: =E34 -> 28 | H35: =ROUND(F35*G35,2) -> 0 | K35: =ROUND(SUM(H35:J35),2) -> 0 | L35: =ROUND(F35*E35,2) -> 0 | M35: =ROUND(H35*E35,2) -> 0 | N35: =ROUND(I35*E35,2) -> 0 | O35: =ROUND(J35*E35,2) -> 0 | P35: =ROUND(SUM(M35:O35),2) -> 0
A36: 16 | B36: l.c. | C36: Hidroziolācijas uzklāšana 2 kārtām mitrajās telpās, uzklājot 100mm uz sienām | D36: m2 | E36: =1.9+1.8 -> 3.7 | H36: =ROUND(F36*G36,2) -> 0 | K36: =ROUND(SUM(H36:J36),2) -> 0 | L36: =ROUND(F36*E36,2) -> 0 | M36: =ROUND(H36*E36,2) -> 0 | N36: =ROUND(I36*E36,2) -> 0 | O36: =ROUND(J36*E36,2) -> 0 | P36: =ROUND(SUM(M36:O36),2) -> 0
C37: Terases grīda | H37: =ROUND(F37*G37,2) -> 0 | K37: =ROUND(SUM(H37:J37),2) -> 0 | L37: =ROUND(F37*E37,2) -> 0 | M37: =ROUND(H37*E37,2) -> 0 | N37: =ROUND(I37*E37,2) -> 0 | O37: =ROUND(J37*E37,2) -> 0 | P37: =ROUND(SUM(M37:O37),2) -> 0
A38: 17 | B38: l.c. | C38: Koka ieseguma terases izbūve, ieskaitot lapegles terases un terases malu dēļus, smalki rievotus 28x120mm, regulējama terases atbalsta pēdas, solis 600x500mm, brusas 40x80mm, solis 600x500mm, visus nepieciešamos stiprinājumus, savienojumu elementus, palīgmateriālus un mehānismus. Terases dēļi tonējami pelēki un apstrādājami ar dabīgu augu eļļu. | D38: m2 | E38: 11.1 | H38: =ROUND(F38*G38,2) -> 0 | K38: =ROUND(SUM(H38:J38),2) -> 0 | L38: =ROUND(F38*E38,2) -> 0 | M38: =ROUND(H38*E38,2) -> 0 | N38: =ROUND(I38*E38,2) -> 0 | O38: =ROUND(J38*E38,2) -> 0 | P38: =ROUND(SUM(M38:O38),2) -> 0
K39: Tiešas izmaksas kopā, t. sk. darba devēja sociālais nodoklis (23,59%): | L39: =SUM(L18:L38) -> 0 | M39: =SUM(M18:M38) -> 0 | N39: =SUM(N18:N38) -> 0 | O39: =SUM(O18:O38) -> 0 | P39: =SUM(P18:P38) -> 0
A41: 1. Būvdarbu veicējam jāievērtē darbu apjomu sarakstā minēto darbu veikšanai nepieciešamie materiāli un papildus darbi, kas nav minēti šajā sarakstā, bet bez kuriem nebūtu iespējama būvdarbu tehnoloģiski pareiza un spēkā esošiem normatīviem atbilstoša veikšana pilnā apmērā.
A42: 2. Darbu apjomu sarakstu skatīt kopā ar būvprojektu, rasējumiem un specifikācijām. Gadījumā, ja darbu apjomi nesakrīt ar rasējumiem vai specifikācijām, pirms darbiem apjomus un būvdarbus precizēt kopā ar Pasūtītāju un/vai Pasūtītāja pārstāvi un pirms būvdarbu uzsākšanas rakstiski saskaņot ar Pasūtītāju būvdarbu veikšanas apjomu. Pasūtītājs ir tiesīgs noteikt tādu būvniecības apjomu (daudzumu), kāds nepieciešams būvprojekta īstenošanai un tā darbības nodrošināšanai, kā arī samazināt vai palielināt Līguma Pielikumos norādītos apjomus tāmēs.
A43: 3. Visi palīgmateriāli, stiprinājumi, savienojumi u.c.palīgkonstrukcijas, sistēmas marķēšana, tīrīšanas lūkas, gaisa vadu šķērsojumi ar sienām un pārsegumiem, akustiskie un ugunsdrošie blīvējimi, kā arī izpildshēmas un sistēmas pārbaudes jāiekļauj vienības izmaksās pie saistošajiem būvizstrādājumiem.
A44: 4. Materiālu komplektāciju veikt atbilstoši izstrādātājam būvprojektam, ražotāju un LR normatīvo aktu nosacījumiem, ņemt vērā, ka materiālu daudzums ir dots, neievertējot atgriezumus un pārlaidumus.
A45: 5. Visi saistītie darbi ar sastatņu, iekārtu montāžu, demontāžu, nosegplēvēm, celšanas mehānismiem un citiem mehānismiem jāiekļauj attiecīgo darbu izmaksās vai virsizdevumos.
A46: 6. Tāmēs ietvertos konkrēto ražotāju materiālus un izstrādājumus var aizvietot ar ekvivalentu, citu ražotāju materiāliem un izstrādājumiem, aizpildot tabulu PIEDĀVĀTIE EKVIVALENTI.
A47: 7. Skaidrojošais apraksts, t.i. visparīgas piezīmes, piezīmes par būvdarbu izpildes raksturojumu, par būvdarbu organizācijas aprakstu, par izpilddokumentāciju ir būvniecības tāmju neatņemama sastāvdaļa.
A49: Sastādīja: | I49: Pārbaudīja: | N49: (Sertifikāta Nr.________)
A50: paraksts, paraksta atšifrējums, datums | I50: paraksts, paraksta atšifrējums, datums

Sheet 8 Durvis un vārti
C1: Lokālā tāme Nr.8
C2: Durvis un vārti
C3: (būvdarbu veids vai konstruktīvā elementa nosaukums)
A5: ='7 Iekš apd'!A5 -> Objekta nosaukums: Tramvaju galapunkta ēkas izbūve Tapešu iela 50A, Rīga
A6: ='7 Iekš apd'!A6 -> Būves nosaukums: Jaunbūve
A7: ='7 Iekš apd'!A7 -> Objekta adrese: Tapešu iela 50A, Rīga
A8: ='7 Iekš apd'!A8 -> Pasūtītājs: RP SIA "Rīgas satiksme" | N8: Tāmes izmaksas, Euro: | O8: =P23 -> 0
A9: ='7 Iekš apd'!A9 -> Izpildītājs: | C9: ='7 Iekš apd'!C9 -> 0 | N9: Tāme sastādīta | O9: ='7 Iekš apd'!O9 -> 0
A11: Tāme sastādīta 2026.gada tirgus cenās pamatojoties uz būvdarbu apjomiem.
A12: Nr.p.k. | B12: Kods | C12: Būvdarbu nosaukums | D12: Mērvienība | E12: Daudzums | F12: Vienības izmaksas | L12: Kopā uz visu apjomu
F13: laika norma (c/h) | G13: darba samaksas likme* (euro/h) | H13: darba alga | I13: būvizstrādājumi | J13: mehānismi | K13: kopā | L13: darbietilpība (c/h) | M13: darba alga | N13: būvizstrādājumi | O13: mehānismi | P13: summa
A15: 1 | B15: =A15+1 -> 2 | C15: =B15+1 -> 3 | D15: =C15+1 -> 4 | E15: =D15+1 -> 5 | F15: =E15+1 -> 6 | G15: =F15+1 -> 7 | H15: =G15+1 -> 8 | I15: =H15+1 -> 9 | ... P15: =O15+1 -> 16
C16: LOGI
A17: =A16+1 -> 1 | B17: l.c. | C17: L1 PVC konstrukcijas divkameru stikla paketes logs 1450x600. Montāžas izmaksās iekļaut visu logu komplektāciju, tehnoloģiski pareizu iestrādi, t.sk. iestrādāt GreenteQ lenta Vario 3, ārējas/ iekšējas lentes greenteQ (vai ekvivalenti), kā arī, ieskaitot visus nepieciešamos montāžas, savienošanas palīgmateriālus, stiprinājumus un mehānismus. ▪ Furnitūra FSB vai ekvivalenta. ▪ Loga vērtne atverama, atgāžama, ziemas ventilācija. ▪ Stikla paketes biezums līdz 67 mm, ▪ Trīs stiklu pakete ar selektīvo pārklājumu "K" un argona gāzi, Ug ≤ 0,5 W/m²K ▪ Loga bloka konstrukcijas kopējais siltumcaurlaidības koeficients: U ≤ 1.1W/m²xK. ▪ Skaņas gaisā izolācijas indekss R'w vismaz 31dB. ▪ Logs komplektā ar iekšējo (laminēta kokskaidu palodze, tonis - RAL 9016) un ārējo (alumīnijs 0,7mm, piem, Vestis, tonis - RAL 7015) palodzi. ▪ Logu rāmja tonis fasādes pusē - RAL 7015 (pelēks), no telpas iekšpuses - RAL 9016 (balts) | D17: gb | E17: 6 | H17: =ROUND(F17*G17,2) -> 0 | K17: =ROUND(SUM(H17:J17),2) -> 0 | L17: =ROUND(F17*E17,2) -> 0 | M17: =ROUND(H17*E17,2) -> 0 | N17: =ROUND(I17*E17,2) -> 0 | O17: =ROUND(J17*E17,2) -> 0 | P17: =ROUND(SUM(M17:O17),2) -> 0
C18: DURVIS | H18: =ROUND(F18*G18,2) -> 0 | K18: =ROUND(SUM(H18:J18),2) -> 0 | L18: =ROUND(F18*E18,2) -> 0 | M18: =ROUND(H18*E18,2) -> 0 | N18: =ROUND(I18*E18,2) -> 0 | O18: =ROUND(J18*E18,2) -> 0 | P18: =ROUND(SUM(M18:O18),2) -> 0
A19: 2 | B19: l.c. | C19: D-1 Metāla konstrukcijas ārdurvis 1150x2100mm. Montāžas izmaksās iekļaut pilnīgu durvju komplektāciju, tehnoloģiski pareizu iestrādi, t.sk. iestrādāt greenteQ durvju zem sliekšņa izolācijas profilu greenteQ substructure insulation profile door threshold", GreenteQ lenta Vario 3, ārējas/ iekšējas lentes greenteQ (vai ekvivalenti), kā arī, ieskaitot visus nepieciešamos montāžas,savienošanas palīgmateriālus, stiprinājumus un mehānismus. ▪ K vēršanas virziens, DIN 107. ▪ Komplektā ar FSB vai ekvivalentu furnitūru (rokturiem, slēdzenēm, cilindriem u.c.). ▪ Blīvgumija iestrādāta vērtnē. Durvis aprīkotas ar pašaizvēršanās mehānismu. ▪ Eņģes regulējamas - 3gab. ▪ Durvju bloka konstrukcijas kopējais siltumcaurlaidības koeficients: U ≤ 1.1W/m²xK. ▪ Durvju rāmja tonis - RAL 7015. ▪ Atvēršana uz āru vai uz iekšu, komplektā vērtne, kārba, stūra kārbu pildīta ar akmensvati; ▪ Slieksnis no nerūsējošā tērauda; ▪ Slēdzene - cilindriskā, cilindrs - ar atslēgu (atslēgas komplektā) | D19: gb | E19: 1 | H19: =ROUND(F19*G19,2) -> 0 | K19: =ROUND(SUM(H19:J19),2) -> 0 | L19: =ROUND(F19*E19,2) -> 0 | M19: =ROUND(H19*E19,2) -> 0 | N19: =ROUND(I19*E19,2) -> 0 | O19: =ROUND(J19*E19,2) -> 0 | P19: =ROUND(SUM(M19:O19),2) -> 0
A20: 3 | B20: l.c. | C20: D-2 Metāla konstrukcijas iekšdurvis 1000x2100mm. Montāžas izmaksās iekļaut pilnīgu durvju komplektāciju, tehnoloģiski pareizu iestrādi, t.sk. iestrādāt greenteQ durvju zem sliekšņa izolācijas profilu greenteQ substructure insulation profile door threshold", GreenteQ lenta Vario 3, ārējas/ iekšējas lentes greenteQ (vai ekvivalenti), kā arī, ieskaitot visus nepieciešamos montāžas,savienošanas palīgmateriālus, stiprinājumus un mehānismus. ▪ L vēršanas virziens, DIN 107. ▪ Komplektā ar - FSB vai ekvivalentu furnitūru (rokturiem, slēdzenēm, cilindriem u.c.). ▪ Blīvgumija iestrādāta vērtnē. Eņģes regulējamas - 3gab. ▪ Durvju rāmja tonis - RAL 7015 ▪ Atvēršana uz āru vai uz iekšu, komplektā vērtne, kārba, stūra kārbu pildīta ar akmensvati; ▪ Slieksnis no nerūsējošā tērauda; ▪ Slēdzene - cilindriskā, cilindrs - ar atslēgu (atslēgas komplektā) Wc slēdzene; pretplāksne; ▪ Pretkorozijas aizsardzība metāldurvīm, t.i. gruntētā un pārklātā ar pulverkrāsas poliesteru (220 μm), UV stabila krāsa | D20: gb | E20: 1 | H20: =ROUND(F20*G20,2) -> 0 | K20: =ROUND(SUM(H20:J20),2) -> 0 | L20: =ROUND(F20*E20,2) -> 0 | M20: =ROUND(H20*E20,2) -> 0 | N20: =ROUND(I20*E20,2) -> 0 | O20: =ROUND(J20*E20,2) -> 0 | P20: =ROUND(SUM(M20:O20),2) -> 0
A21: =A20+1 -> 4 | B21: l.c. | C21: D-3 Koka konstrukcijas iekšdurvis 800x2100mmm. Montāžas izmaksās iekļaut pilnīgu durvju komplektāciju, tehnoloģiski pareizu iestrādi, t.sk. iestrādāt greenteQ durvju zem sliekšņa izolācijas profilu greenteQ substructure insulation profile door threshold", GreenteQ lenta Vario 3, ārējas/ iekšējas lentes greenteQ (vai ekvivalenti), kā arī, ieskaitot visus nepieciešamos montāžas,savienošanas palīgmateriālus, stiprinājumus un mehānismus. ▪ K vēršanas virziens, DIN 107. ▪ Komplektā ar 3 FSB vai ekvivalentu furnitūru (rokturiem, slēdzenēm, cilindriem u.c.). ▪ Blīvgumija iestrādāta vērtnē. Eņģes regulējamas - 3gab. ▪ Durvju tonis - RAL 7015 ▪ Atvēršana uz āru vai uz iekšu, komplektā vērtne, kārba, stūra kārbu pildīta ar akmensvati; ▪ Slieksnis no nerūsējošā tērauda; ▪ Slēdzene - cilindriskā, cilindrs - ar atslēgu (atslēgas komplektā) | D21: gb | E21: 1 | H21: =ROUND(F21*G21,2) -> 0 | K21: =ROUND(SUM(H21:J21),2) -> 0 | L21: =ROUND(F21*E21,2) -> 0 | M21: =ROUND(H21*E21,2) -> 0 | N21: =ROUND(I21*E21,2) -> 0 | O21: =ROUND(J21*E21,2) -> 0 | P21: =ROUND(SUM(M21:O21),2) -> 0
A22: 5 | B22: l.c. | C22: Metāla aizsargkastes no sieta izgatavošana un montāža, ▪ siets metāla L veida profila rāmī, ▪ platumā 1,80m, h=2,1m, ▪ divviru durvis slēdzamas, ieskaitot enģes, ▪ pasīvās vērtnes fiksators (kas notur nekustīgo (pasīvo) vērtni aizvērtā stāvoklī), ▪ aktīvai vertnei viegli nospiežama fiksatora mēlīte, ▪ slēdzeni, atslēgu komplektu, rokturus, ▪ krāsots RAL 7015 (RR23), visus nepeciešamos materiālus un mehānismus | D22: gb | E22: 1 | H22: =ROUND(F22*G22,2) -> 0 | K22: =ROUND(SUM(H22:J22),2) -> 0 | L22: =ROUND(F22*E22,2) -> 0 | M22: =ROUND(H22*E22,2) -> 0 | N22: =ROUND(I22*E22,2) -> 0 | O22: =ROUND(J22*E22,2) -> 0 | P22: =ROUND(SUM(M22:O22),2) -> 0
K23: Tiešas izmaksas kopā, t. sk. darba devēja sociālais nodoklis (23,59%): | L23: =SUM(L17:L22) -> 0 | M23: =SUM(M17:M22) -> 0 | N23: =SUM(N17:N22) -> 0 | O23: =SUM(O17:O22) -> 0 | P23: =SUM(P17:P22) -> 0
A25: 1. Būvdarbu veicējam jāievērtē darbu apjomu sarakstā minēto darbu veikšanai nepieciešamie materiāli un papildus darbi, kas nav minēti šajā sarakstā, bet bez kuriem nebūtu iespējama būvdarbu tehnoloģiski pareiza un spēkā esošiem normatīviem atbilstoša veikšana pilnā apmērā.
A26: 2. Darbu apjomu sarakstu skatīt kopā ar būvprojektu, rasējumiem un specifikācijām. Gadījumā, ja darbu apjomi nesakrīt ar rasējumiem vai specifikācijām, pirms darbiem apjomus un būvdarbus precizēt kopā ar Pasūtītāju un/vai Pasūtītāja pārstāvi un pirms būvdarbu uzsākšanas rakstiski saskaņot ar Pasūtītāju būvdarbu veikšanas apjomu. Pasūtītājs ir tiesīgs noteikt tādu būvniecības apjomu (daudzumu), kāds nepieciešams būvprojekta īstenošanai un tā darbības nodrošināšanai, kā arī samazināt vai palielināt Līguma Pielikumos norādītos apjomus tāmēs.
A27: 3. Visi palīgmateriāli, stiprinājumi, savienojumi u.c.palīgkonstrukcijas, sistēmas marķēšana, tīrīšanas lūkas, gaisa vadu šķērsojumi ar sienām un pārsegumiem, akustiskie un ugunsdrošie blīvējimi, kā arī izpildshēmas un sistēmas pārbaudes jāiekļauj vienības izmaksās pie saistošajiem būvizstrādājumiem.
A28: 4. Materiālu komplektāciju veikt atbilstoši izstrādātājam būvprojektam, ražotāju un LR normatīvo aktu nosacījumiem, ņemt vērā, ka materiālu daudzums ir dots, neievertējot atgriezumus un pārlaidumus.
A29: 5. Visi saistītie darbi ar sastatņu, iekārtu montāžu, demontāžu, nosegplēvēm, celšanas mehānismiem un citiem mehānismiem jāiekļauj attiecīgo darbu izmaksās vai virsizdevumos.
A30: 6. Tāmēs ietvertos konkrēto ražotāju materiālus un izstrādājumus var aizvietot ar ekvivalentu, citu ražotāju materiāliem un izstrādājumiem, aizpildot tabulu PIEDĀVĀTIE EKVIVALENTI.
A31: 7. Skaidrojošais apraksts, t.i. visparīgas piezīmes, piezīmes par būvdarbu izpildes raksturojumu, par būvdarbu organizācijas aprakstu, par izpilddokumentāciju ir būvniecības tāmju neatņemama sastāvdaļa.
A32: 8. Montējot, logu un durvju bloki ir jālīmeņo. Vertikālās un horizontālās novirzes nedrīkst pārsniegt 1,5 mm uz 1 m. PVC logu un durvju nostiprināšana ailēs jāveic ar atzītām dībeļu sistēmām. Izmantot hermētiķus, līmes, montāžas putas vai celtniecības naglas kā logu stiprināšanas elementus nav pieļaujams. Attālumi starp stiprinājumiem nedrīkst pārsniegt: 700 mm baltajiem un 600 mm citas krāsas profiliem. Maksimālas stiprinājumu izvietošanas attālums no iekšējiem stūriem, arī statnēm un rīģeļiem - 150 mm.
A33: 9. Darbu gaitas apraksts: ▪ Aiļu pārmērīšana, logu un palodžu nepieciešamo izmēru precizēšana. ▪ Logu un durvju bloku izgatavošana. ▪ Izgatavoto logu un durvju bloku transportēšana uz objektu. ▪ Logu un durvju bloku montāža. ▪ Logu un durvju furnitūras regulēšana, ieeļļošana. ▪ Spraugu starp logu un durvju bloku un aili aizpildīšana. ▪ Iekšējo un ārējo palodžu montāža. ▪ Darba vietas sakārtošana un būvgružu transportēšana uz utilizācijas vietām.
A34: 10. Visiem logiem un durvīm precizēt izmērus dabā pirms izstrādājumu pasūtīšanas.
A36: Sastādīja: | I36: Pārbaudīja: | N36: (Sertifikāta Nr.________)
A37: paraksts, paraksta atšifrējums, datums | I37: paraksts, paraksta atšifrējums, datums

Sheet 9 Fasāde
C1: Lokālā tāme Nr.9
C2: Fasādes apdare
C3: (būvdarbu veids vai konstruktīvā elementa nosaukums)
A5: ='8 Durvis un vārti'!A5 -> Objekta nosaukums: Tramvaju galapunkta ēkas izbūve Tapešu iela 50A, Rīga
A6: ='8 Durvis un vārti'!A6 -> Būves nosaukums: Jaunbūve
A7: ='8 Durvis un vārti'!A7 -> Objekta adrese: Tapešu iela 50A, Rīga
A8: ='8 Durvis un vārti'!A8 -> Pasūtītājs: RP SIA "Rīgas satiksme" | N8: Tāmes izmaksas, Euro: | O8: =P27 -> 0
A9: ='8 Durvis un vārti'!A9 -> Izpildītājs: | C9: ='8 Durvis un vārti'!C9 -> 0 | N9: Tāme sastādīta | O9: ='7 Iekš apd'!O9 -> 0
A11: Tāme sastādīta 2026.gada tirgus cenās pamatojoties uz būvdarbu apjomiem.
A12: Nr.p.k. | B12: Kods | C12: Būvdarbu nosaukums | D12: Mērvienība | E12: Daudzums | F12: Vienības izmaksas | L12: Kopā uz visu apjomu
F13: laika norma (c/h) | G13: darba samaksas likme* (euro/h) | H13: darba alga | I13: būvizstrādājumi | J13: mehānismi | K13: kopā | L13: darbietilpība (c/h) | M13: darba alga | N13: būvizstrādājumi | O13: mehānismi | P13: summa
A15: 1 | B15: =A15+1 -> 2 | C15: =B15+1 -> 3 | D15: =C15+1 -> 4 | E15: =D15+1 -> 5 | F15: =E15+1 -> 6 | G15: =F15+1 -> 7 | H15: =G15+1 -> 8 | I15: =H15+1 -> 9 | ... P15: =O15+1 -> 16
C16: FASĀDE SA-1
A17: 1 | B17: l.c. | C17: Siltumizolācijas Paroc eXtra 200mm montāža (vai ekvivalents) | D17: m2 | E17: 84.7 | H17: =ROUND(F17*G17,2) -> 0 | K17: =ROUND(SUM(H17:J17),2) -> 0 | L17: =ROUND(F17*E17,2) -> 0 | M17: =ROUND(H17*E17,2) -> 0 | N17: =ROUND(I17*E17,2) -> 0 | O17: =ROUND(J17*E17,2) -> 0 | P17: =ROUND(SUM(M17:O17),2) -> 0
A18: 2 | B18: l.c. | C18: Siltumizolācijas Paroc WAS 25t 30mm montāža (vai ekvivalents) | D18: m2 | E18: =E17 -> 84.7 | H18: =ROUND(F18*G18,2) -> 0 | K18: =ROUND(SUM(H18:J18),2) -> 0 | L18: =ROUND(F18*E18,2) -> 0 | M18: =ROUND(H18*E18,2) -> 0 | N18: =ROUND(I18*E18,2) -> 0 | O18: =ROUND(J18*E18,2) -> 0 | P18: =ROUND(SUM(M18:O18),2) -> 0
A19: 3 | B19: l.c. | C19: Koka latojums, min 30mm, impregnēts, antiseptizēts un apstrādāts ar antipirēnu | D19: m2 | E19: =E18 -> 84.7 | H19: =ROUND(F19*G19,2) -> 0 | K19: =ROUND(SUM(H19:J19),2) -> 0 | L19: =ROUND(F19*E19,2) -> 0 | M19: =ROUND(H19*E19,2) -> 0 | N19: =ROUND(I19*E19,2) -> 0 | O19: =ROUND(J19*E19,2) -> 0 | P19: =ROUND(SUM(M19:O19),2) -> 0
A20: 4 | B20: l.c. | C20: Krāsotu apdares dēļu 25x120mm, pilna spunde, montāža, tonis -NCS S 7005-R80B, ieskaitot visus nepieciešamos materiālus un mehānismus | D20: m2 | E20: =E19 -> 84.7 | H20: =ROUND(F20*G20,2) -> 0 | K20: =ROUND(SUM(H20:J20),2) -> 0 | L20: =ROUND(F20*E20,2) -> 0 | M20: =ROUND(H20*E20,2) -> 0 | N20: =ROUND(I20*E20,2) -> 0 | O20: =ROUND(J20*E20,2) -> 0 | P20: =ROUND(SUM(M20:O20),2) -> 0
C21: COKOLS | H21: =ROUND(F21*G21,2) -> 0 | K21: =ROUND(SUM(H21:J21),2) -> 0 | L21: =ROUND(F21*E21,2) -> 0 | M21: =ROUND(H21*E21,2) -> 0 | N21: =ROUND(I21*E21,2) -> 0 | O21: =ROUND(J21*E21,2) -> 0 | P21: =ROUND(SUM(M21:O21),2) -> 0
A22: 5 | B22: l.c. | C22: Cokola armēšanas slāņa iestrāde, ar stiklašķiedra sietu 160g/m2 SSA 1363 -160 | D22: m2 | E22: =(4.6*2+8.55*2)*0.45 -> 11.84 | H22: =ROUND(F22*G22,2) -> 0 | K22: =ROUND(SUM(H22:J22),2) -> 0 | L22: =ROUND(F22*E22,2) -> 0 | M22: =ROUND(H22*E22,2) -> 0 | N22: =ROUND(I22*E22,2) -> 0 | O22: =ROUND(J22*E22,2) -> 0 | P22: =ROUND(SUM(M22:O22),2) -> 0
A23: 6 | B23: l.c. | C23: Deratīvā apmetuma iestrāde, gluds | D23: m2 | E23: =E22 -> 11.84 | H23: =ROUND(F23*G23,2) -> 0 | K23: =ROUND(SUM(H23:J23),2) -> 0 | L23: =ROUND(F23*E23,2) -> 0 | M23: =ROUND(H23*E23,2) -> 0 | N23: =ROUND(I23*E23,2) -> 0 | O23: =ROUND(J23*E23,2) -> 0 | P23: =ROUND(SUM(M23:O23),2) -> 0
A24: 7 | B24: l.c. | C24: Cokola krāsošana, tonis - RAL 7015 (RR23) | D24: m2 | E24: =E23 -> 11.84 | H24: =ROUND(F24*G24,2) -> 0 | K24: =ROUND(SUM(H24:J24),2) -> 0 | L24: =ROUND(F24*E24,2) -> 0 | M24: =ROUND(H24*E24,2) -> 0 | N24: =ROUND(I24*E24,2) -> 0 | O24: =ROUND(J24*E24,2) -> 0 | P24: =ROUND(SUM(M24:O24),2) -> 0
C25: CITI DRABI (***) | H25: =ROUND(F25*G25,2) -> 0 | K25: =ROUND(SUM(H25:J25),2) -> 0 | L25: =ROUND(F25*E25,2) -> 0 | M25: =ROUND(H25*E25,2) -> 0 | N25: =ROUND(I25*E25,2) -> 0 | O25: =ROUND(J25*E25,2) -> 0 | P25: =ROUND(SUM(M25:O25),2) -> 0
A26: 8 *** | B26: l.c. | C26: Logotipa montāža fasādē. Izcenojumā iekļaujami tikai montāžas materiāli (bez logotipa). Logotipa iegādi nodrošina Pasūtītājs, to nododot Būvdarbu veicējam. | D26: kpl | E26: 1 | H26: =ROUND(F26*G26,2) -> 0 | K26: =ROUND(SUM(H26:J26),2) -> 0 | L26: =ROUND(F26*E26,2) -> 0 | M26: =ROUND(H26*E26,2) -> 0 | N26: =ROUND(I26*E26,2) -> 0 | O26: =ROUND(J26*E26,2) -> 0 | P26: =ROUND(SUM(M26:O26),2) -> 0
K27: Tiešas izmaksas kopā, t. sk. darba devēja sociālais nodoklis (23,59%): | L27: =SUM(L17:L26) -> 0 | M27: =SUM(M17:M26) -> 0 | N27: =SUM(N17:N26) -> 0 | O27: =SUM(O17:O26) -> 0 | P27: =SUM(P17:P26) -> 0
A30: (***) Izcenojumā jāiekļauj tikai montāžas materiāli. Pasūtītājs logotipa iegādi organizēs patstāvīgi un to nodrošinās Būvdarbu veicējam.
A31: 1. Būvdarbu veicējam jāievērtē darbu apjomu sarakstā minēto darbu veikšanai nepieciešamie materiāli un papildus darbi, kas nav minēti šajā sarakstā, bet bez kuriem nebūtu iespējama būvdarbu tehnoloģiski pareiza un spēkā esošiem normatīviem atbilstoša veikšana pilnā apmērā.
A32: 2. Darbu apjomu sarakstu skatīt kopā ar būvprojektu, rasējumiem un specifikācijām. Gadījumā, ja darbu apjomi nesakrīt ar rasējumiem vai specifikācijām, pirms darbiem apjomus un būvdarbus precizēt kopā ar Pasūtītāju un/vai Pasūtītāja pārstāvi un pirms būvdarbu uzsākšanas rakstiski saskaņot ar Pasūtītāju būvdarbu veikšanas apjomu. Pasūtītājs ir tiesīgs noteikt tādu būvniecības apjomu (daudzumu), kāds nepieciešams būvprojekta īstenošanai un tā darbības nodrošināšanai, kā arī samazināt vai palielināt Līguma Pielikumos norādītos apjomus tāmēs.
A33: 3. Visi palīgmateriāli, stiprinājumi, savienojumi u.c.palīgkonstrukcijas, sistēmas marķēšana, tīrīšanas lūkas, gaisa vadu šķērsojumi ar sienām un pārsegumiem, akustiskie un ugunsdrošie blīvējimi, kā arī izpildshēmas un sistēmas pārbaudes jāiekļauj vienības izmaksās pie saistošajiem būvizstrādājumiem.
A34: 4. Materiālu komplektāciju veikt atbilstoši izstrādātājam būvprojektam, ražotāju un LR normatīvo aktu nosacījumiem, ņemt vērā, ka materiālu daudzums ir dots, neievertējot atgriezumus un pārlaidumus.
A35: 5. Visi saistītie darbi ar sastatņu, iekārtu montāžu, demontāžu, nosegplēvēm, celšanas mehānismiem un citiem mehānismiem jāiekļauj attiecīgo darbu izmaksās vai virsizdevumos.
A36: 6. Tāmēs ietvertos konkrēto ražotāju materiālus un izstrādājumus var aizvietot ar ekvivalentu, citu ražotāju materiāliem un izstrādājumiem, aizpildot tabulu PIEDĀVĀTIE EKVIVALENTI.
A37: 7. Skaidrojošais apraksts, t.i. visparīgas piezīmes, piezīmes par būvdarbu izpildes raksturojumu, par būvdarbu organizācijas aprakstu, par izpilddokumentāciju ir būvniecības tāmju neatņemama sastāvdaļa.
A39: Sastādīja: | I39: Pārbaudīja: | N39: (Sertifikāta Nr.________)
A40: paraksts, paraksta atšifrējums, datums | I40: paraksts, paraksta atšifrējums, datums

Sheet 10 Elekt iekš
C1: Lokālā tāme Nr.10
C2: Elektroapgāde (iekšējā)
C3: (būvdarbu veids vai konstruktīvā elementa nosaukums)
A5: ='9 Fasāde'!A5 -> Objekta nosaukums: Tramvaju galapunkta ēkas izbūve Tapešu iela 50A, Rīga
A6: ='9 Fasāde'!A6 -> Būves nosaukums: Jaunbūve
A7: ='9 Fasāde'!A7 -> Objekta adrese: Tapešu iela 50A, Rīga
A8: ='9 Fasāde'!A8 -> Pasūtītājs: RP SIA "Rīgas satiksme" | N8: Tāmes izmaksas, Euro: | O8: =P65 -> 0
A9: ='9 Fasāde'!A9 -> Izpildītājs: | C9: ='9 Fasāde'!C9 -> 0 | N9: Tāme sastādīta | O9: ='9 Fasāde'!O9 -> 0
A11: Tāme sastādīta 2026.gada tirgus cenās pamatojoties uz būvdarbu apjomiem.
A12: Nr.p.k. | B12: Kods | C12: Būvdarbu nosaukums | D12: Mērvienība | E12: Daudzums | F12: Vienības izmaksas | L12: Kopā uz visu apjomu
F13: laika norma (c/h) | G13: darba samaksas likme* (euro/h) | H13: darba alga | I13: būvizstrādājumi | J13: mehānismi | K13: kopā | L13: darbietilpība (c/h) | M13: darba alga | N13: būvizstrādājumi | O13: mehānismi | P13: summa
A15: 1 | B15: =A15+1 -> 2 | C15: =B15+1 -> 3 | D15: =C15+1 -> 4 | E15: =D15+1 -> 5 | F15: =E15+1 -> 6 | G15: =F15+1 -> 7 | H15: =G15+1 -> 8 | I15: =H15+1 -> 9 | ... P15: =O15+1 -> 16
C16: 1. Sadalnes
A17: 1 | B17: l.c. | C17: Elektroapgādes sadalne SS-1, v/a, IP41, SE, ieskaitot papildus aprīkojumu, t.i. Automātslēdži C16A, C10A, foto un laika releji, sliedes, spailes un citi montāžas palīgmateriāli saskaņā ar shēmu (sk. lapu EL-2) | D17: kpl | E17: 1 | H17: =ROUND(F17*G17,2) -> 0 | K17: =ROUND(SUM(H17:J17),2) -> 0 | L17: =ROUND(F17*E17,2) -> 0 | M17: =ROUND(H17*E17,2) -> 0 | N17: =ROUND(I17*E17,2) -> 0 | O17: =ROUND(J17*E17,2) -> 0 | P17: =ROUND(SUM(M17:O17),2) -> 0
A18: 2 | B18: l.c. | C18: Galvenā potenciālu izlīdzināšanas kopne, OBO Bettermann 5015650 (vai ekvivalents) | D18: kpl | E18: 1 | H18: =ROUND(F18*G18,2) -> 0 | K18: =ROUND(SUM(H18:J18),2) -> 0 | L18: =ROUND(F18*E18,2) -> 0 | M18: =ROUND(H18*E18,2) -> 0 | N18: =ROUND(I18*E18,2) -> 0 | O18: =ROUND(J18*E18,2) -> 0 | P18: =ROUND(SUM(M18:O18),2) -> 0
A19: 3 | B19: l.c. | C19: Pārējie montāžas izstrādājumi | D19: kpl | E19: 1 | H19: =ROUND(F19*G19,2) -> 0 | K19: =ROUND(SUM(H19:J19),2) -> 0 | L19: =ROUND(F19*E19,2) -> 0 | M19: =ROUND(H19*E19,2) -> 0 | N19: =ROUND(I19*E19,2) -> 0 | O19: =ROUND(J19*E19,2) -> 0 | P19: =ROUND(SUM(M19:O19),2) -> 0
C20: 2. Kontaktligzdas un slēdži | H20: =ROUND(F20*G20,2) -> 0 | K20: =ROUND(SUM(H20:J20),2) -> 0 | L20: =ROUND(F20*E20,2) -> 0 | M20: =ROUND(H20*E20,2) -> 0 | N20: =ROUND(I20*E20,2) -> 0 | O20: =ROUND(J20*E20,2) -> 0 | P20: =ROUND(SUM(M20:O20),2) -> 0
C21: Slēdži: | H21: =ROUND(F21*G21,2) -> 0 | K21: =ROUND(SUM(H21:J21),2) -> 0 | L21: =ROUND(F21*E21,2) -> 0 | M21: =ROUND(H21*E21,2) -> 0 | N21: =ROUND(I21*E21,2) -> 0 | O21: =ROUND(J21*E21,2) -> 0 | P21: =ROUND(SUM(M21:O21),2) -> 0
A22: 4 | B22: l.c. | C22: Slēdzis + mehānisms +rāmis, balts,1P, 10A, z/a, IP44, SE SEDNA DESIGN (vai ekvivalents) | D22: gab | E22: 4 | H22: =ROUND(F22*G22,2) -> 0 | K22: =ROUND(SUM(H22:J22),2) -> 0 | L22: =ROUND(F22*E22,2) -> 0 | M22: =ROUND(H22*E22,2) -> 0 | N22: =ROUND(I22*E22,2) -> 0 | O22: =ROUND(J22*E22,2) -> 0 | P22: =ROUND(SUM(M22:O22),2) -> 0
C23: Sensori: | H23: =ROUND(F23*G23,2) -> 0 | K23: =ROUND(SUM(H23:J23),2) -> 0 | L23: =ROUND(F23*E23,2) -> 0 | M23: =ROUND(H23*E23,2) -> 0 | N23: =ROUND(I23*E23,2) -> 0 | O23: =ROUND(J23*E23,2) -> 0 | P23: =ROUND(SUM(M23:O23),2) -> 0
A24: 5 | B24: l.c. | C24: Griestu klātbūtnes sensors, 10A, v/a, IP54, 4x4m, Zublin Swiss Garde (vai ekvivalents) | D24: gab | E24: 1 | H24: =ROUND(F24*G24,2) -> 0 | K24: =ROUND(SUM(H24:J24),2) -> 0 | L24: =ROUND(F24*E24,2) -> 0 | M24: =ROUND(H24*E24,2) -> 0 | N24: =ROUND(I24*E24,2) -> 0 | O24: =ROUND(J24*E24,2) -> 0 | P24: =ROUND(SUM(M24:O24),2) -> 0
A25: 6 | B25: l.c. | C25: Fotosensors, IP54, SE | D25: gab | E25: 1 | H25: =ROUND(F25*G25,2) -> 0 | K25: =ROUND(SUM(H25:J25),2) -> 0 | L25: =ROUND(F25*E25,2) -> 0 | M25: =ROUND(H25*E25,2) -> 0 | N25: =ROUND(I25*E25,2) -> 0 | O25: =ROUND(J25*E25,2) -> 0 | P25: =ROUND(SUM(M25:O25),2) -> 0
C26: Kontaktligzdas: | H26: =ROUND(F26*G26,2) -> 0 | K26: =ROUND(SUM(H26:J26),2) -> 0 | L26: =ROUND(F26*E26,2) -> 0 | M26: =ROUND(H26*E26,2) -> 0 | N26: =ROUND(I26*E26,2) -> 0 | O26: =ROUND(J26*E26,2) -> 0 | P26: =ROUND(SUM(M26:O26),2) -> 0
A27: 7 | B27: l.c. | C27: Kontakligzda + mehānisms +rāmis, balts, 16A, 230V, z/a, IP20, SE SEDNA DESIGN (vai ekvivalents) | D27: gab | E27: 2 | H27: =ROUND(F27*G27,2) -> 0 | K27: =ROUND(SUM(H27:J27),2) -> 0 | L27: =ROUND(F27*E27,2) -> 0 | M27: =ROUND(H27*E27,2) -> 0 | N27: =ROUND(I27*E27,2) -> 0 | O27: =ROUND(J27*E27,2) -> 0 | P27: =ROUND(SUM(M27:O27),2) -> 0
A28: 8 | B28: l.c. | C28: Kontakligzda + mehānisms +rāmis, balts,16A, 230V, z/a, IP44, SE SEDNA DESIGN (vai ekvivalents) | D28: gab | E28: 13 | H28: =ROUND(F28*G28,2) -> 0 | K28: =ROUND(SUM(H28:J28),2) -> 0 | L28: =ROUND(F28*E28,2) -> 0 | M28: =ROUND(H28*E28,2) -> 0 | N28: =ROUND(I28*E28,2) -> 0 | O28: =ROUND(J28*E28,2) -> 0 | P28: =ROUND(SUM(M28:O28),2) -> 0
A29: 9 | B29: l.c. | C29: Montāžas kārba slēdziem un kontaktligzdām, IP20, KOPOS | D29: gab | E29: =E27 -> 2 | H29: =ROUND(F29*G29,2) -> 0 | K29: =ROUND(SUM(H29:J29),2) -> 0 | L29: =ROUND(F29*E29,2) -> 0 | M29: =ROUND(H29*E29,2) -> 0 | N29: =ROUND(I29*E29,2) -> 0 | O29: =ROUND(J29*E29,2) -> 0 | P29: =ROUND(SUM(M29:O29),2) -> 0
A30: 10 | B30: l.c. | C30: Montāžas kārba slēdziem un kontaktligzdām, IP44, KOPOS | D30: gab | E30: 17 | H30: =ROUND(F30*G30,2) -> 0 | K30: =ROUND(SUM(H30:J30),2) -> 0 | L30: =ROUND(F30*E30,2) -> 0 | M30: =ROUND(H30*E30,2) -> 0 | N30: =ROUND(I30*E30,2) -> 0 | O30: =ROUND(J30*E30,2) -> 0 | P30: =ROUND(SUM(M30:O30),2) -> 0
A31: 11 | B31: l.c. | C31: Nozarkārba, IP20 | D31: gab | E31: 5 | H31: =ROUND(F31*G31,2) -> 0 | K31: =ROUND(SUM(H31:J31),2) -> 0 | L31: =ROUND(F31*E31,2) -> 0 | M31: =ROUND(H31*E31,2) -> 0 | N31: =ROUND(I31*E31,2) -> 0 | O31: =ROUND(J31*E31,2) -> 0 | P31: =ROUND(SUM(M31:O31),2) -> 0
A32: 12 | B32: l.c. | C32: Kontaktligzdu un slēdžu marķēšanas materiāli, Dymo D1 6mm x 7m (vai ekvivalents) | D32: kpl | E32: 1 | H32: =ROUND(F32*G32,2) -> 0 | K32: =ROUND(SUM(H32:J32),2) -> 0 | L32: =ROUND(F32*E32,2) -> 0 | M32: =ROUND(H32*E32,2) -> 0 | N32: =ROUND(I32*E32,2) -> 0 | O32: =ROUND(J32*E32,2) -> 0 | P32: =ROUND(SUM(M32:O32),2) -> 0
C33: 3. Apgaismojums | H33: =ROUND(F33*G33,2) -> 0 | K33: =ROUND(SUM(H33:J33),2) -> 0 | L33: =ROUND(F33*E33,2) -> 0 | M33: =ROUND(H33*E33,2) -> 0 | N33: =ROUND(I33*E33,2) -> 0 | O33: =ROUND(J33*E33,2) -> 0 | P33: =ROUND(SUM(M33:O33),2) -> 0
C34: Darba apgaismojums: | H34: =ROUND(F34*G34,2) -> 0 | K34: =ROUND(SUM(H34:J34),2) -> 0 | L34: =ROUND(F34*E34,2) -> 0 | M34: =ROUND(H34*E34,2) -> 0 | N34: =ROUND(I34*E34,2) -> 0 | O34: =ROUND(J34*E34,2) -> 0 | P34: =ROUND(SUM(M34:O34),2) -> 0
A35: 13 | B35: l.c. | C35: Griestu gaismeklis ar LED spuldzēm uz 26W, 3465lm, IP44, HF, 3000K, Glamox i60-1200 LED 3600 HF 830 OP (gaismeklis Nr.1), ieskaitot visus nepieciešamos materiālus un mehānismus (vai ekvivalents) | D35: gab | E35: 4 | H35: =ROUND(F35*G35,2) -> 0 | K35: =ROUND(SUM(H35:J35),2) -> 0 | L35: =ROUND(F35*E35,2) -> 0 | M35: =ROUND(H35*E35,2) -> 0 | N35: =ROUND(I35*E35,2) -> 0 | O35: =ROUND(J35*E35,2) -> 0 | P35: =ROUND(SUM(M35:O35),2) -> 0
A36: 14 | B36: l.c. | C36: Griestu gaismeklis ar LED spuldzēm uz 26W, 3465lm, IP44, HF, 3000K, avārijas, ar akumulatoru uz 1 stundu, Glamox i60-1200 LED 3600 HF E1/ST 830 OP (gaismeklis Nr.1A), ieskaitot visus nepieciešamos materiālus un mehānismus (vai ekvivalents) | D36: gab | E36: 1 | H36: =ROUND(F36*G36,2) -> 0 | K36: =ROUND(SUM(H36:J36),2) -> 0 | L36: =ROUND(F36*E36,2) -> 0 | M36: =ROUND(H36*E36,2) -> 0 | N36: =ROUND(I36*E36,2) -> 0 | O36: =ROUND(J36*E36,2) -> 0 | P36: =ROUND(SUM(M36:O36),2) -> 0
A37: 15 | B37: l.c. | C37: Griestu gaismeklis ar LED spuldzēm uz 23W, 2793lm, IP44, HF, 3000K, Glamox i60-600 LED 2900 HF 830 OP (gaismeklis Nr.2), ieskaitot visus nepieciešamos materiālus un mehānismus (vai ekvivalents) | D37: gab | E37: 3 | H37: =ROUND(F37*G37,2) -> 0 | K37: =ROUND(SUM(H37:J37),2) -> 0 | L37: =ROUND(F37*E37,2) -> 0 | M37: =ROUND(H37*E37,2) -> 0 | N37: =ROUND(I37*E37,2) -> 0 | O37: =ROUND(J37*E37,2) -> 0 | P37: =ROUND(SUM(M37:O37),2) -> 0
A38: 16 | B38: l.c. | C38: Fasādes gaismeklis ar LED spuldzēm uz 7W, 1038lm, IP65, IK10, HF, Glamox O21-W BL 1100 HF 830 WBA (gaismeklis Nr.3), ieskaitot visus nepieciešamos materiālus un mehānismus (vai ekvivalents) | D38: gab | E38: 7 | H38: =ROUND(F38*G38,2) -> 0 | K38: =ROUND(SUM(H38:J38),2) -> 0 | L38: =ROUND(F38*E38,2) -> 0 | M38: =ROUND(H38*E38,2) -> 0 | N38: =ROUND(I38*E38,2) -> 0 | O38: =ROUND(J38*E38,2) -> 0 | P38: =ROUND(SUM(M38:O38),2) -> 0
C39: 4. Kabeļi un caurules | H39: =ROUND(F39*G39,2) -> 0 | K39: =ROUND(SUM(H39:J39),2) -> 0 | L39: =ROUND(F39*E39,2) -> 0 | M39: =ROUND(H39*E39,2) -> 0 | N39: =ROUND(I39*E39,2) -> 0 | O39: =ROUND(J39*E39,2) -> 0 | P39: =ROUND(SUM(M39:O39),2) -> 0
C40: Spēka kabeļi ar vara dzīslām: | H40: =ROUND(F40*G40,2) -> 0 | K40: =ROUND(SUM(H40:J40),2) -> 0 | L40: =ROUND(F40*E40,2) -> 0 | M40: =ROUND(H40*E40,2) -> 0 | N40: =ROUND(I40*E40,2) -> 0 | O40: =ROUND(J40*E40,2) -> 0 | P40: =ROUND(SUM(M40:O40),2) -> 0
A41: 17 | B41: l.c. | C41: 3x1.5mm, NYM-J | D41: m | E41: 60 | H41: =ROUND(F41*G41,2) -> 0 | K41: =ROUND(SUM(H41:J41),2) -> 0 | L41: =ROUND(F41*E41,2) -> 0 | M41: =ROUND(H41*E41,2) -> 0 | N41: =ROUND(I41*E41,2) -> 0 | O41: =ROUND(J41*E41,2) -> 0 | P41: =ROUND(SUM(M41:O41),2) -> 0
A42: 18 | B42: l.c. | C42: 3x2.5mm, NYM-J | D42: m | E42: 100 | H42: =ROUND(F42*G42,2) -> 0 | K42: =ROUND(SUM(H42:J42),2) -> 0 | L42: =ROUND(F42*E42,2) -> 0 | M42: =ROUND(H42*E42,2) -> 0 | N42: =ROUND(I42*E42,2) -> 0 | O42: =ROUND(J42*E42,2) -> 0 | P42: =ROUND(SUM(M42:O42),2) -> 0
A43: 19 | B43: l.c. | C43: 5x2.5mm, NYM-J | D43: m | E43: 15 | H43: =ROUND(F43*G43,2) -> 0 | K43: =ROUND(SUM(H43:J43),2) -> 0 | L43: =ROUND(F43*E43,2) -> 0 | M43: =ROUND(H43*E43,2) -> 0 | N43: =ROUND(I43*E43,2) -> 0 | O43: =ROUND(J43*E43,2) -> 0 | P43: =ROUND(SUM(M43:O43),2) -> 0
A44: 20 | B44: l.c. | C44: 3x1.5mm, NYY-J | D44: m | E44: 80 | H44: =ROUND(F44*G44,2) -> 0 | K44: =ROUND(SUM(H44:J44),2) -> 0 | L44: =ROUND(F44*E44,2) -> 0 | M44: =ROUND(H44*E44,2) -> 0 | N44: =ROUND(I44*E44,2) -> 0 | O44: =ROUND(J44*E44,2) -> 0 | P44: =ROUND(SUM(M44:O44),2) -> 0
A45: 21 | B45: l.c. | C45: aizsargcaurules | H45: =ROUND(F45*G45,2) -> 0 | K45: =ROUND(SUM(H45:J45),2) -> 0 | L45: =ROUND(F45*E45,2) -> 0 | M45: =ROUND(H45*E45,2) -> 0 | N45: =ROUND(I45*E45,2) -> 0 | O45: =ROUND(J45*E45,2) -> 0 | P45: =ROUND(SUM(M45:O45),2) -> 0
C46: Zemējuma kabeļi ar vara dzīslu: | H46: =ROUND(F46*G46,2) -> 0 | K46: =ROUND(SUM(H46:J46),2) -> 0 | L46: =ROUND(F46*E46,2) -> 0 | M46: =ROUND(H46*E46,2) -> 0 | N46: =ROUND(I46*E46,2) -> 0 | O46: =ROUND(J46*E46,2) -> 0 | P46: =ROUND(SUM(M46:O46),2) -> 0
A47: 22 | B47: l.c. | C47: 1x6mm, HO7V-K | D47: m | E47: 50 | H47: =ROUND(F47*G47,2) -> 0 | K47: =ROUND(SUM(H47:J47),2) -> 0 | L47: =ROUND(F47*E47,2) -> 0 | M47: =ROUND(H47*E47,2) -> 0 | N47: =ROUND(I47*E47,2) -> 0 | O47: =ROUND(J47*E47,2) -> 0 | P47: =ROUND(SUM(M47:O47),2) -> 0
A48: 23 | B48: l.c. | C48: 1x16mm, HO7V-K | D48: m | E48: 5 | H48: =ROUND(F48*G48,2) -> 0 | K48: =ROUND(SUM(H48:J48),2) -> 0 | L48: =ROUND(F48*E48,2) -> 0 | M48: =ROUND(H48*E48,2) -> 0 | N48: =ROUND(I48*E48,2) -> 0 | O48: =ROUND(J48*E48,2) -> 0 | P48: =ROUND(SUM(M48:O48),2) -> 0
C49: Caurules, to daudzumu precizēt montāžas laikā: | H49: =ROUND(F49*G49,2) -> 0 | K49: =ROUND(SUM(H49:J49),2) -> 0 | L49: =ROUND(F49*E49,2) -> 0 | M49: =ROUND(H49*E49,2) -> 0 | N49: =ROUND(I49*E49,2) -> 0 | O49: =ROUND(J49*E49,2) -> 0 | P49: =ROUND(SUM(M49:O49),2) -> 0
A50: 24 | B50: l.c. | C50: ∅16mm, 320N, PVC, KOPOS, komplektā ar stiprinājumiem (vai ekvivalents) | D50: m | E50: 130 | H50: =ROUND(F50*G50,2) -> 0 | K50: =ROUND(SUM(H50:J50),2) -> 0 | L50: =ROUND(F50*E50,2) -> 0 | M50: =ROUND(H50*E50,2) -> 0 | N50: =ROUND(I50*E50,2) -> 0 | O50: =ROUND(J50*E50,2) -> 0 | P50: =ROUND(SUM(M50:O50),2) -> 0
A51: 25 | B51: l.c. | C51: ∅20mm, 320N, PVC, KOPOS, komplektā ar stiprinājumiem (vai ekvivalents) | D51: m | E51: 70 | H51: =ROUND(F51*G51,2) -> 0 | K51: =ROUND(SUM(H51:J51),2) -> 0 | L51: =ROUND(F51*E51,2) -> 0 | M51: =ROUND(H51*E51,2) -> 0 | N51: =ROUND(I51*E51,2) -> 0 | O51: =ROUND(J51*E51,2) -> 0 | P51: =ROUND(SUM(M51:O51),2) -> 0
A52: 26 | B52: l.c. | C52: ∅25mm, 320N, PVC, KOPOS, komplektā ar stiprinājumiem (vai ekvivalents) | D52: m | E52: 10 | H52: =ROUND(F52*G52,2) -> 0 | K52: =ROUND(SUM(H52:J52),2) -> 0 | L52: =ROUND(F52*E52,2) -> 0 | M52: =ROUND(H52*E52,2) -> 0 | N52: =ROUND(I52*E52,2) -> 0 | O52: =ROUND(J52*E52,2) -> 0 | P52: =ROUND(SUM(M52:O52),2) -> 0
A53: 27 | B53: l.c. | C53: Pagriezieni un uzmavas, KOPOS (vai ekvivalents) | D53: gab | E53: =0.5*SUM(E50:E52) -> 105 | H53: =ROUND(F53*G53,2) -> 0 | K53: =ROUND(SUM(H53:J53),2) -> 0 | L53: =ROUND(F53*E53,2) -> 0 | M53: =ROUND(H53*E53,2) -> 0 | N53: =ROUND(I53*E53,2) -> 0 | O53: =ROUND(J53*E53,2) -> 0 | P53: =ROUND(SUM(M53:O53),2) -> 0
A54: 28 | B54: l.c. | C54: Caurumu un atvērumu urbšana ēkā. Precizēt montāžas laikā | D54: kpl | E54: 1 | H54: =ROUND(F54*G54,2) -> 0 | K54: =ROUND(SUM(H54:J54),2) -> 0 | L54: =ROUND(F54*E54,2) -> 0 | M54: =ROUND(H54*E54,2) -> 0 | N54: =ROUND(I54*E54,2) -> 0 | O54: =ROUND(J54*E54,2) -> 0 | P54: =ROUND(SUM(M54:O54),2) -> 0
A55: 29 | B55: l.c. | C55: Kabeļu marķēšanas materiāli (100 gab.), PARTEX (vai ekvivalents) | D55: kpl | E55: 1 | H55: =ROUND(F55*G55,2) -> 0 | K55: =ROUND(SUM(H55:J55),2) -> 0 | L55: =ROUND(F55*E55,2) -> 0 | M55: =ROUND(H55*E55,2) -> 0 | N55: =ROUND(I55*E55,2) -> 0 | O55: =ROUND(J55*E55,2) -> 0 | P55: =ROUND(SUM(M55:O55),2) -> 0
A56: 30 | B56: l.c. | C56: Pārējie montāžas izstrādājumi, t.sk. nozarkārbas, ugunsdrošā aizpildījuma mastika Hilti (vai ekvivalents) | D56: kpl | E56: 1 | H56: =ROUND(F56*G56,2) -> 0 | K56: =ROUND(SUM(H56:J56),2) -> 0 | L56: =ROUND(F56*E56,2) -> 0 | M56: =ROUND(H56*E56,2) -> 0 | N56: =ROUND(I56*E56,2) -> 0 | O56: =ROUND(J56*E56,2) -> 0 | P56: =ROUND(SUM(M56:O56),2) -> 0
C57: 5. Zibensaizsardzība | H57: =ROUND(F57*G57,2) -> 0 | K57: =ROUND(SUM(H57:J57),2) -> 0 | L57: =ROUND(F57*E57,2) -> 0 | M57: =ROUND(H57*E57,2) -> 0 | N57: =ROUND(I57*E57,2) -> 0 | O57: =ROUND(J57*E57,2) -> 0 | P57: =ROUND(SUM(M57:O57),2) -> 0
A58: 31 | B58: l.c. | C58: Alumīnija stieple, d=8mm, RD 8-ALU, OBO Bettermann 5021286 (vai ekvivalents) | D58: m | E58: 30 | H58: =ROUND(F58*G58,2) -> 0 | K58: =ROUND(SUM(H58:J58),2) -> 0 | L58: =ROUND(F58*E58,2) -> 0 | M58: =ROUND(H58*E58,2) -> 0 | N58: =ROUND(I58*E58,2) -> 0 | O58: =ROUND(J58*E58,2) -> 0 | P58: =ROUND(SUM(M58:O58),2) -> 0
A59: 32 | B59: l.c. | C59: Cinkota tērauda stieple RD 10-FT, OBO Bettermann 5021103 (vai ekvivalents) | D59: m | E59: 5 | H59: =ROUND(F59*G59,2) -> 0 | K59: =ROUND(SUM(H59:J59),2) -> 0 | L59: =ROUND(F59*E59,2) -> 0 | M59: =ROUND(H59*E59,2) -> 0 | N59: =ROUND(I59*E59,2) -> 0 | O59: =ROUND(J59*E59,2) -> 0 | P59: =ROUND(SUM(M59:O59),2) -> 0
A60: 33 | B60: l.c. | C60: Alumīnija stieples stiprinājuma elements pie jumta. Daudzumu un tipu precizēt būvniecības laikā | D60: gab | E60: 30 | H60: =ROUND(F60*G60,2) -> 0 | K60: =ROUND(SUM(H60:J60),2) -> 0 | L60: =ROUND(F60*E60,2) -> 0 | M60: =ROUND(H60*E60,2) -> 0 | N60: =ROUND(I60*E60,2) -> 0 | O60: =ROUND(J60*E60,2) -> 0 | P60: =ROUND(SUM(M60:O60),2) -> 0
A61: 34 | B61: l.c. | C61: Izolētas alumīnija stieples stiprinājuma elements pie sienas. Daudzumu un tipu precizēt būvniecības laikā | D61: gab | E61: 10 | H61: =ROUND(F61*G61,2) -> 0 | K61: =ROUND(SUM(H61:J61),2) -> 0 | L61: =ROUND(F61*E61,2) -> 0 | M61: =ROUND(H61*E61,2) -> 0 | N61: =ROUND(I61*E61,2) -> 0 | O61: =ROUND(J61*E61,2) -> 0 | P61: =ROUND(SUM(M61:O61),2) -> 0
A62: 35 | B62: l.c. | C62: Mērījumklemme ar Z/A kārbu, OBO Bettermann (vai ekvivalents) | D62: kpl | E62: 2 | H62: =ROUND(F62*G62,2) -> 0 | K62: =ROUND(SUM(H62:J62),2) -> 0 | L62: =ROUND(F62*E62,2) -> 0 | M62: =ROUND(H62*E62,2) -> 0 | N62: =ROUND(I62*E62,2) -> 0 | O62: =ROUND(J62*E62,2) -> 0 | P62: =ROUND(SUM(M62:O62),2) -> 0
A63: 36 | B63: l.c. | C63: Alumīnijas stieples krustveida savienotājs 249 8-10 ALU, OBO Bettermann 5311519 (vai ekvivalents) | D63: gab | E63: 2 | H63: =ROUND(F63*G63,2) -> 0 | K63: =ROUND(SUM(H63:J63),2) -> 0 | L63: =ROUND(F63*E63,2) -> 0 | M63: =ROUND(H63*E63,2) -> 0 | N63: =ROUND(I63*E63,2) -> 0 | O63: =ROUND(J63*E63,2) -> 0 | P63: =ROUND(SUM(M63:O63),2) -> 0
A64: 37 | B64: l.c. | C64: Metālkonstrukcijas un citi materiāli | D64: kg | E64: 5 | H64: =ROUND(F64*G64,2) -> 0 | K64: =ROUND(SUM(H64:J64),2) -> 0 | L64: =ROUND(F64*E64,2) -> 0 | M64: =ROUND(H64*E64,2) -> 0 | N64: =ROUND(I64*E64,2) -> 0 | O64: =ROUND(J64*E64,2) -> 0 | P64: =ROUND(SUM(M64:O64),2) -> 0
K65: Tiešas izmaksas kopā, t. sk. darba devēja sociālais nodoklis (23,59%): | L65: =SUM(L17:L64) -> 0 | M65: =SUM(M17:M64) -> 0 | N65: =SUM(N17:N64) -> 0 | O65: =SUM(O17:O64) -> 0 | P65: =SUM(P17:P64) -> 0
A67: Piezīmes:
A68: 1. Būvdarbu veicējam jāievērtē darbu apjomu sarakstā minēto darbu veikšanai nepieciešamie materiāli un papildus darbi, kas nav minēti šajā sarakstā, bet bez kuriem nebūtu iespējama būvdarbu tehnoloģiski pareiza un spēkā esošiem normatīviem atbilstoša veikšana pilnā apmērā.
A69: 2. Darbu apjomu sarakstu skatīt kopā ar būvprojektu, rasējumiem un specifikācijām. Gadījumā, ja darbu apjomi nesakrīt ar rasējumiem vai specifikācijām, pirms darbiem apjomus un būvdarbus precizēt kopā ar Pasūtītāju un/vai Pasūtītāja pārstāvi un pirms būvdarbu uzsākšanas rakstiski saskaņot ar Pasūtītāju būvdarbu veikšanas apjomu. Pasūtītājs ir tiesīgs noteikt tādu būvniecības apjomu (daudzumu), kāds nepieciešams būvprojekta īstenošanai un tā darbības nodrošināšanai, kā arī samazināt vai palielināt Līguma Pielikumos norādītos apjomus tāmēs.
A70: 3. Kabeļu un cauruļu apjoms norādīts orientējoši. Precīzu apjomu noteikt būvniecības laikā, pēc reālo kabeļu trasu un izbūves apstākļu noteikšanas. Palīgmateriālus un papildmateriālus ievērtēt, balstoties uz pieredzi līdzīgu objektu realizācijā. Materiālu sarakstu skatīt kopā ar citām projekta lapām. Materiālu sarakstam ir informatīvs raksturs.
A71: 4. Gaismekļu markas, tipus un to skaitu precizēt saskaņā ar dizaina projektu un Pasūtītāju.
A72: 5. Gaismekļus komplektēt ar LED spuldzēm.
A73: 6. Slēdžus un kontaktligzdas komplektēt ar montāžas ramjiem. Rāmju tipus un skaitu izvēlas Būvdarbu veicējs.
A74: 7. Visām kontaktligzdām jābūt ar aizsargzemējuma kontaktiem.
A75: 8. Sadalnes komplektāciju detalizēt pirms būvdarbu uzsākšanas
A76: 9. Visi palīgmateriāli, stiprinājumi, savienojumi u.c.palīgkonstrukcijas, sistēmas marķēšana, tīrīšanas lūkas, gaisa vadu šķērsojumi ar sienām un pārsegumiem, akustiskie un ugunsdrošie blīvējimi, kā arī izpildshēmas un sistēmas pārbaudes jāiekļauj vienības izmaksās pie saistošajiem būvizstrādājumiem.
A77: 10. Materiālu komplektāciju veikt atbilstoši izstrādātājam būvprojektam, ražotāju un LR normatīvo aktu nosacījumiem, ņemt vērā, ka materiālu daudzums ir dots, neievertējot atgriezumus un pārlaidumus.
A78: 11. Visi saistītie darbi ar sastatņu, iekārtu montāžu, demontāžu, nosegplēvēm, celšanas mehānismiem un citiem mehānismiem jāiekļauj attiecīgo darbu izmaksās vai virsizdevumos.
... A80: 13. 'Skaidrojošais apraksts, t.i. visparīgas piezīmes, piezīmes par būvdarbu izpildes raksturojumu, par būvdarbu organizācijas aprakstu, par izpilddokumentāciju ir būvniecības tāmju neatņemama sastāvdaļa.
A82: Sastādīja: | J82: Pārbaudīja: | O82: (Sertifikāta Nr.________)
A83: paraksts, paraksta atšifrējums, datums | J83: paraksts, paraksta atšifrējums, datums

Sheet 11 Elktr sak sist
C1: Lokālā tāme Nr.11
C2: Elektronisko sakaru sistēmas
C3: (būvdarbu veids vai konstruktīvā elementa nosaukums)
A5: ='10 Elekt iekš'!A5 -> Objekta nosaukums: Tramvaju galapunkta ēkas izbūve Tapešu iela 50A, Rīga
A6: ='10 Elekt iekš'!A6 -> Būves nosaukums: Jaunbūve
A7: ='10 Elekt iekš'!A7 -> Objekta adrese: Tapešu iela 50A, Rīga
A8: ='10 Elekt iekš'!A8 -> Pasūtītājs: RP SIA "Rīgas satiksme" | N8: Tāmes izmaksas, Euro: | O8: =P77 -> 0
A9: ='10 Elekt iekš'!A9 -> Izpildītājs: | C9: ='10 Elekt iekš'!C9 -> 0 | N9: Tāme sastādīta | O9: ='10 Elekt iekš'!O9 -> 0
A11: Tāme sastādīta 2026.gada tirgus cenās pamatojoties uz būvdarbu apjomiem.
A12: Nr.p.k. | B12: Kods | C12: Būvdarbu nosaukums | D12: Mērvienība | E12: Daudzums | F12: Vienības izmaksas | L12: Kopā uz visu apjomu
F13: laika norma (c/h) | G13: darba samaksas likme* (euro/h) | H13: darba alga | I13: būvizstrādājumi | J13: mehānismi | K13: kopā | L13: darbietilpība (c/h) | M13: darba alga | N13: būvizstrādājumi | O13: mehānismi | P13: summa
A15: 1 | B15: =A15+1 -> 2 | C15: =B15+1 -> 3 | D15: =C15+1 -> 4 | E15: =D15+1 -> 5 | F15: =E15+1 -> 6 | G15: =F15+1 -> 7 | H15: =G15+1 -> 8 | I15: =H15+1 -> 9 | ... P15: =O15+1 -> 16
C16: 1. Komutācijas skapju komplektācija
C17: Pasīvās iekārtas:
A18: 1 | B18: l.c. | C18: Sienas komutācijas skapis 19", 12U, ar stiprinājuma elementiem montāžai uz sienas (W600xD390xL635), Excel WB12.390SG-BK (vai ekvivalents) | D18: kpl | E18: 1 | H18: =ROUND(F18*G18,2) -> 0 | K18: =ROUND(SUM(H18:J18),2) -> 0 | L18: =ROUND(F18*E18,2) -> 0 | M18: =ROUND(H18*E18,2) -> 0 | N18: =ROUND(I18*E18,2) -> 0 | O18: =ROUND(J18*E18,2) -> 0 | P18: =ROUND(SUM(M18:O18),2) -> 0
A19: 2 | B19: l.c. | C19: Ventilatoru bloks ar termostatu sienas komutācijas skapim, Excel 540-302-BK (vai ekvivalents) | D19: kpl | E19: =SUM(E18:E18) -> 1 | H19: =ROUND(F19*G19,2) -> 0 | K19: =ROUND(SUM(H19:J19),2) -> 0 | L19: =ROUND(F19*E19,2) -> 0 | M19: =ROUND(H19*E19,2) -> 0 | N19: =ROUND(I19*E19,2) -> 0 | O19: =ROUND(J19*E19,2) -> 0 | P19: =ROUND(SUM(M19:O19),2) -> 0
A20: 3 | B20: l.c. | C20: Zemējuma komplekts skapim, Excel (vai ekvivalents) | D20: kpl | E20: =SUM(E18:E18) -> 1 | H20: =ROUND(F20*G20,2) -> 0 | K20: =ROUND(SUM(H20:J20),2) -> 0 | L20: =ROUND(F20*E20,2) -> 0 | M20: =ROUND(H20*E20,2) -> 0 | N20: =ROUND(I20*E20,2) -> 0 | O20: =ROUND(J20*E20,2) -> 0 | P20: =ROUND(SUM(M20:O20),2) -> 0
A21: 4 | B21: l.c. | C21: Barošanas kabeļu Female ligzda pieslēgumam pie UPS bloka, 1f, 3 kontakti (vai ekvivalents) | D21: kpl | E21: =E20 -> 1 | H21: =ROUND(F21*G21,2) -> 0 | K21: =ROUND(SUM(H21:J21),2) -> 0 | L21: =ROUND(F21*E21,2) -> 0 | M21: =ROUND(H21*E21,2) -> 0 | N21: =ROUND(I21*E21,2) -> 0 | O21: =ROUND(J21*E21,2) -> 0 | P21: =ROUND(SUM(M21:O21),2) -> 0
A22: 5 | B22: l.c. | C22: Skrūves - uzgriežņi M6 (50 gab.), Excel M6CNU (vai ekvivalents) | D22: kpl | E22: 2 | H22: =ROUND(F22*G22,2) -> 0 | K22: =ROUND(SUM(H22:J22),2) -> 0 | L22: =ROUND(F22*E22,2) -> 0 | M22: =ROUND(H22*E22,2) -> 0 | N22: =ROUND(I22*E22,2) -> 0 | O22: =ROUND(J22*E22,2) -> 0 | P22: =ROUND(SUM(M22:O22),2) -> 0
A23: 6 | B23: l.c. | C23: Kabeļu horizontālais organizetājs, 19", 1U, Excel 100-582 (vai ekvivalents) | D23: gab | E23: 1 | H23: =ROUND(F23*G23,2) -> 0 | K23: =ROUND(SUM(H23:J23),2) -> 0 | L23: =ROUND(F23*E23,2) -> 0 | M23: =ROUND(H23*E23,2) -> 0 | N23: =ROUND(I23*E23,2) -> 0 | O23: =ROUND(J23*E23,2) -> 0 | P23: =ROUND(SUM(M23:O23),2) -> 0
A24: 7 | B24: l.c. | C24: Rozešu bloks, schuko x6, ar slēdzi, 230V, 19" 1U, Excel 555-072 (vai ekvivalents) | D24: gab | E24: 1 | H24: =ROUND(F24*G24,2) -> 0 | K24: =ROUND(SUM(H24:J24),2) -> 0 | L24: =ROUND(F24*E24,2) -> 0 | M24: =ROUND(H24*E24,2) -> 0 | N24: =ROUND(I24*E24,2) -> 0 | O24: =ROUND(J24*E24,2) -> 0 | P24: =ROUND(SUM(M24:O24),2) -> 0
A25: 8 | B25: l.c. | C25: Rozešu pārveidotājs no schuko uz C13 (vai ekvivalents) | D25: gab | E25: 4 | H25: =ROUND(F25*G25,2) -> 0 | K25: =ROUND(SUM(H25:J25),2) -> 0 | L25: =ROUND(F25*E25,2) -> 0 | M25: =ROUND(H25*E25,2) -> 0 | N25: =ROUND(I25*E25,2) -> 0 | O25: =ROUND(J25*E25,2) -> 0 | P25: =ROUND(SUM(M25:O25),2) -> 0
A26: 9 | B26: l.c. | C26: Optiskais patch panelis uz 24 portiem, 1U, ar dupleksām LC ligzdām, SM, Excel 200-476 (vai ekvivalents) | D26: gab | E26: 1 | H26: =ROUND(F26*G26,2) -> 0 | K26: =ROUND(SUM(H26:J26),2) -> 0 | L26: =ROUND(F26*E26,2) -> 0 | M26: =ROUND(H26*E26,2) -> 0 | N26: =ROUND(I26*E26,2) -> 0 | O26: =ROUND(J26*E26,2) -> 0 | P26: =ROUND(SUM(M26:O26),2) -> 0
A27: 10 | B27: l.c. | C27: UTP patch panelis uz 24 portiem, 1U, ar UTP Cat.6 RJ45 ligzdām, Excel 100-304 (vai ekvivalents) | D27: gab | E27: 1 | H27: =ROUND(F27*G27,2) -> 0 | K27: =ROUND(SUM(H27:J27),2) -> 0 | L27: =ROUND(F27*E27,2) -> 0 | M27: =ROUND(H27*E27,2) -> 0 | N27: =ROUND(I27*E27,2) -> 0 | O27: =ROUND(J27*E27,2) -> 0 | P27: =ROUND(SUM(M27:O27),2) -> 0
A28: 11 | B28: l.c. | C28: Iekārtu plaukts, 1U, 190mm dziļums, 10kg slodze, Excel 542-020-BK (vai ekvivalents) | D28: kpl | E28: 1 | H28: =ROUND(F28*G28,2) -> 0 | K28: =ROUND(SUM(H28:J28),2) -> 0 | L28: =ROUND(F28*E28,2) -> 0 | M28: =ROUND(H28*E28,2) -> 0 | N28: =ROUND(I28*E28,2) -> 0 | O28: =ROUND(J28*E28,2) -> 0 | P28: =ROUND(SUM(M28:O28),2) -> 0
A29: 12 | B29: l.c. | C29: Pārējie montāžas izstrādājumi | D29: kpl | E29: 1 | H29: =ROUND(F29*G29,2) -> 0 | K29: =ROUND(SUM(H29:J29),2) -> 0 | L29: =ROUND(F29*E29,2) -> 0 | M29: =ROUND(H29*E29,2) -> 0 | N29: =ROUND(I29*E29,2) -> 0 | O29: =ROUND(J29*E29,2) -> 0 | P29: =ROUND(SUM(M29:O29),2) -> 0
C30: Aktīvās iekārtas*: | H30: =ROUND(F30*G30,2) -> 0 | K30: =ROUND(SUM(H30:J30),2) -> 0 | L30: =ROUND(F30*E30,2) -> 0 | M30: =ROUND(H30*E30,2) -> 0 | N30: =ROUND(I30*E30,2) -> 0 | O30: =ROUND(J30*E30,2) -> 0 | P30: =ROUND(SUM(M30:O30),2) -> 0
A31: 13 | B31: l.c. | C31: Komutators ar 12 PoE 1G RJ45 portiem, ar 2 1G RJ45 portiem, ar 2 1G SFP portiem, ar 1 USB portu, 139W, QoS, IEEE 802.1X, 1U, ar licenci HPE Aruba 6000 12G Class4 PoE 2SFP 139W Switch (R8N89A) (vai ekvivalents) | D31: kpl | E31: 1 | H31: =ROUND(F31*G31,2) -> 0 | K31: =ROUND(SUM(H31:J31),2) -> 0 | L31: =ROUND(F31*E31,2) -> 0 | M31: =ROUND(H31*E31,2) -> 0 | N31: =ROUND(I31*E31,2) -> 0 | O31: =ROUND(J31*E31,2) -> 0 | P31: =ROUND(SUM(M31:O31),2) -> 0
A32: 14 | B32: l.c. | C32: LTE USB modems priekš komutatora, HPE Aruba USB LTE (R8F34A) (vai ekvivalents) | D32: gab | E32: 1 | H32: =ROUND(F32*G32,2) -> 0 | K32: =ROUND(SUM(H32:J32),2) -> 0 | L32: =ROUND(F32*E32,2) -> 0 | M32: =ROUND(H32*E32,2) -> 0 | N32: =ROUND(I32*E32,2) -> 0 | O32: =ROUND(J32*E32,2) -> 0 | P32: =ROUND(SUM(M32:O32),2) -> 0
A33: 15 | B33: l.c. | C33: IP videonovērošanas ieraksta iekārta (NVR) ar 8 kameru atbalstu, vieta priekš 1 HDD līdz 6TB, ierakstīšanas ātrums 80Mbit/s, 1x1G, 8x100M PoE, H265 protokola atbalsts, ar licenci video ierakstīšanai, Hanwha QRN-830S (vai ekvivalents) | D33: kpl | E33: 1 | H33: =ROUND(F33*G33,2) -> 0 | K33: =ROUND(SUM(H33:J33),2) -> 0 | L33: =ROUND(F33*E33,2) -> 0 | M33: =ROUND(H33*E33,2) -> 0 | N33: =ROUND(I33*E33,2) -> 0 | O33: =ROUND(J33*E33,2) -> 0 | P33: =ROUND(SUM(M33:O33),2) -> 0
A34: 16 | B34: l.c. | C34: Cietais disks priekš NVR, 6TB, WD Purple (vai ekvivalents) | D34: gab | E34: 1 | H34: =ROUND(F34*G34,2) -> 0 | K34: =ROUND(SUM(H34:J34),2) -> 0 | L34: =ROUND(F34*E34,2) -> 0 | M34: =ROUND(H34*E34,2) -> 0 | N34: =ROUND(I34*E34,2) -> 0 | O34: =ROUND(J34*E34,2) -> 0 | P34: =ROUND(SUM(M34:O34),2) -> 0
A35: 17 | B35: l.c. | C35: Nepārtrauktās barošanas bloks (UPS) (230V, 50Hz, 500VA, 0.4kW, 6 min.), 3xC13 ligzdas, D220mm, APC BX500MI (vai ekvivalents) | D35: kpl | E35: 1 | H35: =ROUND(F35*G35,2) -> 0 | K35: =ROUND(SUM(H35:J35),2) -> 0 | L35: =ROUND(F35*E35,2) -> 0 | M35: =ROUND(H35*E35,2) -> 0 | N35: =ROUND(I35*E35,2) -> 0 | O35: =ROUND(J35*E35,2) -> 0 | P35: =ROUND(SUM(M35:O35),2) -> 0
A36: 18 | B36: l.c. | C36: Pārējie montāžas izstrādājumi | D36: kpl | E36: 1 | H36: =ROUND(F36*G36,2) -> 0 | K36: =ROUND(SUM(H36:J36),2) -> 0 | L36: =ROUND(F36*E36,2) -> 0 | M36: =ROUND(H36*E36,2) -> 0 | N36: =ROUND(I36*E36,2) -> 0 | O36: =ROUND(J36*E36,2) -> 0 | P36: =ROUND(SUM(M36:O36),2) -> 0
C37: 2. Videonovērošanas sistēmas iekārtas | H37: =ROUND(F37*G37,2) -> 0 | K37: =ROUND(SUM(H37:J37),2) -> 0 | L37: =ROUND(F37*E37,2) -> 0 | M37: =ROUND(H37*E37,2) -> 0 | N37: =ROUND(I37*E37,2) -> 0 | O37: =ROUND(J37*E37,2) -> 0 | P37: =ROUND(SUM(M37:O37),2) -> 0
A38: 19 | B38: l.c. | C38: Bezvadu piekļuves punkts ar PoE atbalstu, bluetooth, 802.11ac MU-MIMO, 867Mbps, HPE Aruba AP-303 (vai ekvivalents) | D38: gab | E38: 1 | H38: =ROUND(F38*G38,2) -> 0 | K38: =ROUND(SUM(H38:J38),2) -> 0 | L38: =ROUND(F38*E38,2) -> 0 | M38: =ROUND(H38*E38,2) -> 0 | N38: =ROUND(I38*E38,2) -> 0 | O38: =ROUND(J38*E38,2) -> 0 | P38: =ROUND(SUM(M38:O38),2) -> 0
A39: 20 | B39: l.c. | C39: Dome IP videonovērošanas kamera, 105grādi, iebūvēts IR apgaismojums uz 20m, IP66 un IK10 aizsardzība, 7.5W PoE barošana, 5MP izškirtspēja, H265 protokola atbalsts, vieta microSD kartei līdz 128GB, video kustības noteikšana un aktīvās trauksmes signāli, Hanwha Vision QND-8010R (vai ekvivalents) | D39: gab | E39: 1 | H39: =ROUND(F39*G39,2) -> 0 | K39: =ROUND(SUM(H39:J39),2) -> 0 | L39: =ROUND(F39*E39,2) -> 0 | M39: =ROUND(H39*E39,2) -> 0 | N39: =ROUND(I39*E39,2) -> 0 | O39: =ROUND(J39*E39,2) -> 0 | P39: =ROUND(SUM(M39:O39),2) -> 0
A40: 21 | B40: l.c. | C40: Bullet IP videonovērošanas kamera, 101grādi, iebūvēts IR apgaismojums uz 30m, IP66 un IK10 aizsardzība, 9.5W PoE barošana, 5MP izškirtspēja, H265 protokola atbalsts, vieta microSD kartei līdz 128GB, video kustības noteikšana un aktīvās trauksmes signāli, Hanwha Vision QNO-8080R (vai ekvivalents) | D40: gab | E40: 4 | H40: =ROUND(F40*G40,2) -> 0 | K40: =ROUND(SUM(H40:J40),2) -> 0 | L40: =ROUND(F40*E40,2) -> 0 | M40: =ROUND(H40*E40,2) -> 0 | N40: =ROUND(I40*E40,2) -> 0 | O40: =ROUND(J40*E40,2) -> 0 | P40: =ROUND(SUM(M40:O40),2) -> 0
A41: 22 | B41: l.c. | C41: MicroSD atmiņas karte, WD Purple 128GB (vai ekvivalents) | D41: gab | E41: 5 | H41: =ROUND(F41*G41,2) -> 0 | K41: =ROUND(SUM(H41:J41),2) -> 0 | L41: =ROUND(F41*E41,2) -> 0 | M41: =ROUND(H41*E41,2) -> 0 | N41: =ROUND(I41*E41,2) -> 0 | O41: =ROUND(J41*E41,2) -> 0 | P41: =ROUND(SUM(M41:O41),2) -> 0
A42: 23 | B42: l.c. | C42: Tīkla un PoE pārsprieguma aizsardība UTP cat.6 kabeļiem, OBO Bettermann ND-CAT6/E-F (vai ekvivalents) | D42: gab | E42: 4 | H42: =ROUND(F42*G42,2) -> 0 | K42: =ROUND(SUM(H42:J42),2) -> 0 | L42: =ROUND(F42*E42,2) -> 0 | M42: =ROUND(H42*E42,2) -> 0 | N42: =ROUND(I42*E42,2) -> 0 | O42: =ROUND(J42*E42,2) -> 0 | P42: =ROUND(SUM(M42:O42),2) -> 0
A43: 24 | B43: l.c. | C43: Pārējie montāžas izstrādājumi | D43: kpl | E43: 1 | H43: =ROUND(F43*G43,2) -> 0 | K43: =ROUND(SUM(H43:J43),2) -> 0 | L43: =ROUND(F43*E43,2) -> 0 | M43: =ROUND(H43*E43,2) -> 0 | N43: =ROUND(I43*E43,2) -> 0 | O43: =ROUND(J43*E43,2) -> 0 | P43: =ROUND(SUM(M43:O43),2) -> 0
C44: 3. Apsardzes signalizācijas sistēmas iekartas | H44: =ROUND(F44*G44,2) -> 0 | K44: =ROUND(SUM(H44:J44),2) -> 0 | L44: =ROUND(F44*E44,2) -> 0 | M44: =ROUND(H44*E44,2) -> 0 | N44: =ROUND(I44*E44,2) -> 0 | O44: =ROUND(J44*E44,2) -> 0 | P44: =ROUND(SUM(M44:O44),2) -> 0
C45: Inner Range Integriti | H45: =ROUND(F45*G45,2) -> 0 | K45: =ROUND(SUM(H45:J45),2) -> 0 | L45: =ROUND(F45*E45,2) -> 0 | M45: =ROUND(H45*E45,2) -> 0 | N45: =ROUND(I45*E45,2) -> 0 | O45: =ROUND(J45*E45,2) -> 0 | P45: =ROUND(SUM(M45:O45),2) -> 0
A46: 25 | B46: l.c. | C46: Apsardzes panelis ISC uz 16 zonām, ar paplašināšanas iespējam līdz 32 zonām UniBus vai 3000 zonām LAN, ar barošanas bloku uz 3A un kārbu ar vietu priekš 1x18Ah akumulatoram un 6 UniBus moduļiem, Inner Range Integriti 996001EUPS (vai ekvivalents) | D46: kpl | E46: 1 | H46: =ROUND(F46*G46,2) -> 0 | K46: =ROUND(SUM(H46:J46),2) -> 0 | L46: =ROUND(F46*E46,2) -> 0 | M46: =ROUND(H46*E46,2) -> 0 | N46: =ROUND(I46*E46,2) -> 0 | O46: =ROUND(J46*E46,2) -> 0 | P46: =ROUND(SUM(M46:O46),2) -> 0
A47: 26 | B47: l.c. | C47: Piekļuves kontroles durvju paplašinātājs uz 2 durvīm un 2 nolasītajiem 996012PCB&K (vai ekvivalents) | D47: gab | E47: 1 | H47: =ROUND(F47*G47,2) -> 0 | K47: =ROUND(SUM(H47:J47),2) -> 0 | L47: =ROUND(F47*E47,2) -> 0 | M47: =ROUND(H47*E47,2) -> 0 | N47: =ROUND(I47*E47,2) -> 0 | O47: =ROUND(J47*E47,2) -> 0 | P47: =ROUND(SUM(M47:O47),2) -> 0
A48: 27 | B48: l.c. | C48: LAN modulis 995093 (vai ekvivalents) | D48: gab | E48: 1 | H48: =ROUND(F48*G48,2) -> 0 | K48: =ROUND(SUM(H48:J48),2) -> 0 | L48: =ROUND(F48*E48,2) -> 0 | M48: =ROUND(H48*E48,2) -> 0 | N48: =ROUND(I48*E48,2) -> 0 | O48: =ROUND(J48*E48,2) -> 0 | P48: =ROUND(SUM(M48:O48),2) -> 0
A49: 28 | B49: l.c. | C49: Akumulators 18Ah/12VDC | D49: gab | E49: 1 | H49: =ROUND(F49*G49,2) -> 0 | K49: =ROUND(SUM(H49:J49),2) -> 0 | L49: =ROUND(F49*E49,2) -> 0 | M49: =ROUND(H49*E49,2) -> 0 | N49: =ROUND(I49*E49,2) -> 0 | O49: =ROUND(J49*E49,2) -> 0 | P49: =ROUND(SUM(M49:O49),2) -> 0
A50: 29 | B50: l.c. | C50: Programmnodrošinājuma licence Business, ar atbalstu uz 32 videokameram, 16 durvīm un 5 darba vietam INTG-996901B (vai ekvivalents) | D50: gab | E50: 1 | H50: =ROUND(F50*G50,2) -> 0 | K50: =ROUND(SUM(H50:J50),2) -> 0 | L50: =ROUND(F50*E50,2) -> 0 | M50: =ROUND(H50*E50,2) -> 0 | N50: =ROUND(I50*E50,2) -> 0 | O50: =ROUND(J50*E50,2) -> 0 | P50: =ROUND(SUM(M50:O50),2) -> 0
A51: 30 | B51: l.c. | C51: Vadības klaviatūra ar LCD displeju, PrismaX 996400 (vai ekvivalents) | D51: gab | E51: 1 | H51: =ROUND(F51*G51,2) -> 0 | K51: =ROUND(SUM(H51:J51),2) -> 0 | L51: =ROUND(F51*E51,2) -> 0 | M51: =ROUND(H51*E51,2) -> 0 | N51: =ROUND(I51*E51,2) -> 0 | O51: =ROUND(J51*E51,2) -> 0 | P51: =ROUND(SUM(M51:O51),2) -> 0
C52: Teletek | H52: =ROUND(F52*G52,2) -> 0 | K52: =ROUND(SUM(H52:J52),2) -> 0 | L52: =ROUND(F52*E52,2) -> 0 | M52: =ROUND(H52*E52,2) -> 0 | N52: =ROUND(I52*E52,2) -> 0 | O52: =ROUND(J52*E52,2) -> 0 | P52: =ROUND(SUM(M52:O52),2) -> 0
A53: 31 | B53: l.c. | C53: Sienu kustības (PIR) detektors, IP20, 90°, 15m, v/a, TeletekTITAN AG (vai ekvivalents) | D53: gab | E53: 1 | H53: =ROUND(F53*G53,2) -> 0 | K53: =ROUND(SUM(H53:J53),2) -> 0 | L53: =ROUND(F53*E53,2) -> 0 | M53: =ROUND(H53*E53,2) -> 0 | N53: =ROUND(I53*E53,2) -> 0 | O53: =ROUND(J53*E53,2) -> 0 | P53: =ROUND(SUM(M53:O53),2) -> 0
A54: 32 | B54: l.c. | C54: Sienu kombinētais kustības (PIR) un stīkla plīšanas (GBD) detektors, IP20, 90°, 15m, v/a, Teletek TITAN GB (vai ekvivalents) | D54: gab | E54: 2 | H54: =ROUND(F54*G54,2) -> 0 | K54: =ROUND(SUM(H54:J54),2) -> 0 | L54: =ROUND(F54*E54,2) -> 0 | M54: =ROUND(H54*E54,2) -> 0 | N54: =ROUND(I54*E54,2) -> 0 | O54: =ROUND(J54*E54,2) -> 0 | P54: =ROUND(SUM(M54:O54),2) -> 0
A55: 33 | B55: l.c. | C55: Kronšteins detektories Teletek Bracket (vai ekvivalents) | D55: gab | E55: =SUM(E53:E54) -> 3 | H55: =ROUND(F55*G55,2) -> 0 | K55: =ROUND(SUM(H55:J55),2) -> 0 | L55: =ROUND(F55*E55,2) -> 0 | M55: =ROUND(H55*E55,2) -> 0 | N55: =ROUND(I55*E55,2) -> 0 | O55: =ROUND(J55*E55,2) -> 0 | P55: =ROUND(SUM(M55:O55),2) -> 0
A56: 34 | B56: l.c. | C56: Iekšēja trauksmes sirēna, IP65 Teletek SR 105 (vai ekvivalents) | D56: gab | E56: 1 | H56: =ROUND(F56*G56,2) -> 0 | K56: =ROUND(SUM(H56:J56),2) -> 0 | L56: =ROUND(F56*E56,2) -> 0 | M56: =ROUND(H56*E56,2) -> 0 | N56: =ROUND(I56*E56,2) -> 0 | O56: =ROUND(J56*E56,2) -> 0 | P56: =ROUND(SUM(M56:O56),2) -> 0
C57: Pārējas iekārtas | H57: =ROUND(F57*G57,2) -> 0 | K57: =ROUND(SUM(H57:J57),2) -> 0 | L57: =ROUND(F57*E57,2) -> 0 | M57: =ROUND(H57*E57,2) -> 0 | N57: =ROUND(I57*E57,2) -> 0 | O57: =ROUND(J57*E57,2) -> 0 | P57: =ROUND(SUM(M57:O57),2) -> 0
A58: 35 | B58: l.c. | C58: Magnētiskais kontakts SD (tipu precizēt) | D58: gab | E58: 1 | H58: =ROUND(F58*G58,2) -> 0 | K58: =ROUND(SUM(H58:J58),2) -> 0 | L58: =ROUND(F58*E58,2) -> 0 | M58: =ROUND(H58*E58,2) -> 0 | N58: =ROUND(I58*E58,2) -> 0 | O58: =ROUND(J58*E58,2) -> 0 | P58: =ROUND(SUM(M58:O58),2) -> 0
A59: 36 | B59: l.c. | C59: Ārēja trauksmes sirēna, IP65, Premier Elite Odyssey 4 Texecom (vai ekvivalents) | D59: gab | E59: 1 | H59: =ROUND(F59*G59,2) -> 0 | K59: =ROUND(SUM(H59:J59),2) -> 0 | L59: =ROUND(F59*E59,2) -> 0 | M59: =ROUND(H59*E59,2) -> 0 | N59: =ROUND(I59*E59,2) -> 0 | O59: =ROUND(J59*E59,2) -> 0 | P59: =ROUND(SUM(M59:O59),2) -> 0
C60: 4. Piekļuves kontroles sistēmas iekartas | H60: =ROUND(F60*G60,2) -> 0 | K60: =ROUND(SUM(H60:J60),2) -> 0 | L60: =ROUND(F60*E60,2) -> 0 | M60: =ROUND(H60*E60,2) -> 0 | N60: =ROUND(I60*E60,2) -> 0 | O60: =ROUND(J60*E60,2) -> 0 | P60: =ROUND(SUM(M60:O60),2) -> 0
A61: 37 | B61: l.c. | C61: Wiegand karšu nolasītājs, IP65 , Rosslare AYJR-12B (vai ekvivalents) | D61: gab | E61: 1 | H61: =ROUND(F61*G61,2) -> 0 | K61: =ROUND(SUM(H61:J61),2) -> 0 | L61: =ROUND(F61*E61,2) -> 0 | M61: =ROUND(H61*E61,2) -> 0 | N61: =ROUND(I61*E61,2) -> 0 | O61: =ROUND(J61*E61,2) -> 0 | P61: =ROUND(SUM(M61:O61),2) -> 0
A62: 38 | B62: l.c. | C62: Izejas poga ar kārbu, PW-2 (vai ekvivalents) | D62: gab | E62: 1 | H62: =ROUND(F62*G62,2) -> 0 | K62: =ROUND(SUM(H62:J62),2) -> 0 | L62: =ROUND(F62*E62,2) -> 0 | M62: =ROUND(H62*E62,2) -> 0 | N62: =ROUND(I62*E62,2) -> 0 | O62: =ROUND(J62*E62,2) -> 0 | P62: =ROUND(SUM(M62:O62),2) -> 0
A63: 39 | B63: l.c. | C63: Durvju sprūds (elektromagnetiska atslēga), DN 12V (13.1.00.B) | D63: gab | E63: 1 | H63: =ROUND(F63*G63,2) -> 0 | K63: =ROUND(SUM(H63:J63),2) -> 0 | L63: =ROUND(F63*E63,2) -> 0 | M63: =ROUND(H63*E63,2) -> 0 | N63: =ROUND(I63*E63,2) -> 0 | O63: =ROUND(J63*E63,2) -> 0 | P63: =ROUND(SUM(M63:O63),2) -> 0
A64: 40 | B64: l.c. | C64: EM kartiņas, Wiegand (vai ekvivalents) | D64: kpl | E64: 1 | H64: =ROUND(F64*G64,2) -> 0 | K64: =ROUND(SUM(H64:J64),2) -> 0 | L64: =ROUND(F64*E64,2) -> 0 | M64: =ROUND(H64*E64,2) -> 0 | N64: =ROUND(I64*E64,2) -> 0 | O64: =ROUND(J64*E64,2) -> 0 | P64: =ROUND(SUM(M64:O64),2) -> 0
A65: 41 | B65: l.c. | C65: Konvencionālais kombinētais dūmu/siltuma detektors ar pamatni, 4-dzīslu pieslēgums, 12VDC, NB-338-4H | D65: gab | E65: 5 | H65: =ROUND(F65*G65,2) -> 0 | K65: =ROUND(SUM(H65:J65),2) -> 0 | L65: =ROUND(F65*E65,2) -> 0 | M65: =ROUND(H65*E65,2) -> 0 | N65: =ROUND(I65*E65,2) -> 0 | O65: =ROUND(J65*E65,2) -> 0 | P65: =ROUND(SUM(M65:O65),2) -> 0
A66: 42 | B66: l.c. | C66: Pārējie montāžas izstrādājumi | D66: kpl | E66: 1 | H66: =ROUND(F66*G66,2) -> 0 | K66: =ROUND(SUM(H66:J66),2) -> 0 | L66: =ROUND(F66*E66,2) -> 0 | M66: =ROUND(H66*E66,2) -> 0 | N66: =ROUND(I66*E66,2) -> 0 | O66: =ROUND(J66*E66,2) -> 0 | P66: =ROUND(SUM(M66:O66),2) -> 0
C67: 5. Kabeļu un kontaktligzdu tīkls | H67: =ROUND(F67*G67,2) -> 0 | K67: =ROUND(SUM(H67:J67),2) -> 0 | L67: =ROUND(F67*E67,2) -> 0 | M67: =ROUND(H67*E67,2) -> 0 | N67: =ROUND(I67*E67,2) -> 0 | O67: =ROUND(J67*E67,2) -> 0 | P67: =ROUND(SUM(M67:O67),2) -> 0
C68: Kabeļi: | H68: =ROUND(F68*G68,2) -> 0 | K68: =ROUND(SUM(H68:J68),2) -> 0 | L68: =ROUND(F68*E68,2) -> 0 | M68: =ROUND(H68*E68,2) -> 0 | N68: =ROUND(I68*E68,2) -> 0 | O68: =ROUND(J68*E68,2) -> 0 | P68: =ROUND(SUM(M68:O68),2) -> 0
A69: 43 | B69: l.c. | C69: Spraudnis RJ45 kabelim, UTP Cat.6, ieskaitot visus nepieciešamos materiālus un mehānismus | D69: gab | E69: 20 | H69: =ROUND(F69*G69,2) -> 0 | K69: =ROUND(SUM(H69:J69),2) -> 0 | L69: =ROUND(F69*E69,2) -> 0 | M69: =ROUND(H69*E69,2) -> 0 | N69: =ROUND(I69*E69,2) -> 0 | O69: =ROUND(J69*E69,2) -> 0 | P69: =ROUND(SUM(M69:O69),2) -> 0
A70: 44 | B70: l.c. | C70: Patch kabelis RJ45-RJ45 UTP Cat.6 1m, EXCEL, ieskaitot visus nepieciešamos materiālus un mehānismus (vai ekvivalents) | D70: gab | E70: 12 | H70: =ROUND(F70*G70,2) -> 0 | K70: =ROUND(SUM(H70:J70),2) -> 0 | L70: =ROUND(F70*E70,2) -> 0 | M70: =ROUND(H70*E70,2) -> 0 | N70: =ROUND(I70*E70,2) -> 0 | O70: =ROUND(J70*E70,2) -> 0 | P70: =ROUND(SUM(M70:O70),2) -> 0
A71: 45 | B71: l.c. | C71: Kabelis UTP 4x2x0.5 Cat.6a, EXCEL, ieskaitot visus nepieciešamos materiālus un mehānismus (vai ekvivalents) | D71: m | E71: 120 | H71: =ROUND(F71*G71,2) -> 0 | K71: =ROUND(SUM(H71:J71),2) -> 0 | L71: =ROUND(F71*E71,2) -> 0 | M71: =ROUND(H71*E71,2) -> 0 | N71: =ROUND(I71*E71,2) -> 0 | O71: =ROUND(J71*E71,2) -> 0 | P71: =ROUND(SUM(M71:O71),2) -> 0
A72: 46 | B72: l.c. | C72: Signalizācijas kabelis 6x0.22, CQR, ieskaitot visus nepieciešamos materiālus un mehānismus | D72: m | E72: 120 | H72: =ROUND(F72*G72,2) -> 0 | K72: =ROUND(SUM(H72:J72),2) -> 0 | L72: =ROUND(F72*E72,2) -> 0 | M72: =ROUND(H72*E72,2) -> 0 | N72: =ROUND(I72*E72,2) -> 0 | O72: =ROUND(J72*E72,2) -> 0 | P72: =ROUND(SUM(M72:O72),2) -> 0
A73: 47 | B73: l.c. | C73: Spēka kabelis NYM 3x2.5, ieskaitot visus nepieciešamos materiālus un mehānismus | D73: m | E73: 20 | H73: =ROUND(F73*G73,2) -> 0 | K73: =ROUND(SUM(H73:J73),2) -> 0 | L73: =ROUND(F73*E73,2) -> 0 | M73: =ROUND(H73*E73,2) -> 0 | N73: =ROUND(I73*E73,2) -> 0 | O73: =ROUND(J73*E73,2) -> 0 | P73: =ROUND(SUM(M73:O73),2) -> 0
A74: 48 | B74: l.c. | C74: Instalācijas caurule ∅16mm, PVC, EVOTEL, komplektā ar stiprinājumiem (vai ekvivalents) | D74: m | E74: 100 | H74: =ROUND(F74*G74,2) -> 0 | K74: =ROUND(SUM(H74:J74),2) -> 0 | L74: =ROUND(F74*E74,2) -> 0 | M74: =ROUND(H74*E74,2) -> 0 | N74: =ROUND(I74*E74,2) -> 0 | O74: =ROUND(J74*E74,2) -> 0 | P74: =ROUND(SUM(M74:O74),2) -> 0
A75: 49 | B75: l.c. | C75: Kabeļu caurumu ugunsdrošais aizpildījums Hilti (vai ekvivalents) | D75: kpl | E75: 1 | H75: =ROUND(F75*G75,2) -> 0 | K75: =ROUND(SUM(H75:J75),2) -> 0 | L75: =ROUND(F75*E75,2) -> 0 | M75: =ROUND(H75*E75,2) -> 0 | N75: =ROUND(I75*E75,2) -> 0 | O75: =ROUND(J75*E75,2) -> 0 | P75: =ROUND(SUM(M75:O75),2) -> 0
A76: 50 | B76: l.c. | C76: Kabeļu marķēšanas materiāli | D76: kpl | E76: 1 | H76: =ROUND(F76*G76,2) -> 0 | K76: =ROUND(SUM(H76:J76),2) -> 0 | L76: =ROUND(F76*E76,2) -> 0 | M76: =ROUND(H76*E76,2) -> 0 | N76: =ROUND(I76*E76,2) -> 0 | O76: =ROUND(J76*E76,2) -> 0 | P76: =ROUND(SUM(M76:O76),2) -> 0
K77: Tiešas izmaksas kopā, t. sk. darba devēja sociālais nodoklis (23,59%): | L77: =SUM(L18:L76) -> 0 | M77: =SUM(M18:M76) -> 0 | N77: =SUM(N18:N76) -> 0 | O77: =SUM(O18:O76) -> 0 | P77: =SUM(P18:P76) -> 0
A80: Piezīmes:
A81: 1. Būvdarbu veicējam jāievērtē darbu apjomu sarakstā minēto darbu veikšanai nepieciešamie materiāli un papildus darbi, kas nav minēti šajā sarakstā, bet bez kuriem nebūtu iespējama būvdarbu tehnoloģiski pareiza un spēkā esošiem normatīviem atbilstoša veikšana pilnā apmērā.
A82: 2. Darbu apjomu sarakstu skatīt kopā ar būvprojektu, rasējumiem un specifikācijām. Gadījumā, ja darbu apjomi nesakrīt ar rasējumiem vai specifikācijām, pirms darbiem apjomus un būvdarbus precizēt kopā ar Pasūtītāju un/vai Pasūtītāja pārstāvi un pirms būvdarbu uzsākšanas rakstiski saskaņot ar Pasūtītāju būvdarbu veikšanas apjomu. Pasūtītājs ir tiesīgs noteikt tādu būvniecības apjomu (daudzumu), kāds nepieciešams būvprojekta īstenošanai un tā darbības nodrošināšanai, kā arī samazināt vai palielināt Līguma Pielikumos norādītos apjomus tāmēs.
A83: 3. Kabeļu un cauruļu apjoms norādīts orientējoši. Precīzu apjomu noteikt būvniecības laikā, pēc reālo kabeļu trasu un izbūves apstākļu noteikšanas. Palīgmateriālus un papildmateriālus ievērtēt, balstoties uz pieredzi līdzīgu objektu realizācijā. Materiālu sarakstu skatīt kopā ar citām projekta lapām. Materiālu sarakstam ir informatīvs raksturs.
A84: 4. Visām kontaktligzdām jābūt ar aizsargzemējuma kontaktiem.
A85: 5. Visi palīgmateriāli, stiprinājumi, savienojumi u.c.palīgkonstrukcijas, sistēmas marķēšana, tīrīšanas lūkas, gaisa vadu šķērsojumi ar sienām un pārsegumiem, akustiskie un ugunsdrošie blīvējimi, kā arī izpildshēmas un sistēmas pārbaudes jāiekļauj vienības izmaksās pie saistošajiem būvizstrādājumiem.
A86: 6. Materiālu komplektāciju veikt atbilstoši izstrādātājam būvprojektam, ražotāju un LR normatīvo aktu nosacījumiem, ņemt vērā, ka materiālu daudzums ir dots, neievertējot atgriezumus un pārlaidumus.
A87: 7. Visi saistītie darbi ar sastatņu, iekārtu montāžu, demontāžu, nosegplēvēm, celšanas mehānismiem un citiem mehānismiem jāiekļauj attiecīgo darbu izmaksās vai virsizdevumos.
A88: 8. Tāmēs ietvertos konkrēto ražotāju materiālus un izstrādājumus var aizvietot ar ekvivalentu, citu ražotāju materiāliem un izstrādājumiem, aizpildot tabulu PIEDĀVĀTIE EKVIVALENTI.
A89: 9. Skaidrojošais apraksts, t.i. visparīgas piezīmes, piezīmes par būvdarbu izpildes raksturojumu, par būvdarbu organizācijas aprakstu, par izpilddokumentāciju ir būvniecības tāmju neatņemama sastāvdaļa.
A91: Sastādīja: | J91: Pārbaudīja: | O91: (Sertifikāta Nr.________)
A92: paraksts, paraksta atšifrējums, datums | J92: paraksts, paraksta atšifrējums, datums

Sheet 12 ŪK iekš
C1: Lokālā tāme Nr.12
C2: Ūdensapgāde un kanalizācija, iekšējā (UK sadaļa)
C3: (būvdarbu veids vai konstruktīvā elementa nosaukums)
A5: ='11 Elktr sak sist'!A5 -> Objekta nosaukums: Tramvaju galapunkta ēkas izbūve Tapešu iela 50A, Rīga
A6: ='11 Elktr sak sist'!A6 -> Būves nosaukums: Jaunbūve
A7: ='11 Elktr sak sist'!A7 -> Objekta adrese: Tapešu iela 50A, Rīga
A8: ='11 Elktr sak sist'!A8 -> Pasūtītājs: RP SIA "Rīgas satiksme" | N8: Tāmes izmaksas, Euro: | O8: =P40 -> 0
A9: ='11 Elktr sak sist'!A9 -> Izpildītājs: | C9: ='11 Elktr sak sist'!C9 -> 0 | N9: Tāme sastādīta | O9: ='11 Elktr sak sist'!O9 -> 0
A11: Tāme sastādīta 2026.gada tirgus cenās pamatojoties uz būvdarbu apjomiem.
A12: Nr.p.k. | B12: Kods | C12: Būvdarbu nosaukums | D12: Mērvienība | E12: Daudzums | F12: Vienības izmaksas | L12: Kopā uz visu apjomu
F13: laika norma (c/h) | G13: darba samaksas likme* (euro/h) | H13: darba alga | I13: būvizstrādājumi | J13: mehānismi | K13: kopā | L13: darbietilpība (c/h) | M13: darba alga | N13: būvizstrādājumi | O13: mehānismi | P13: summa
A15: 1 | B15: =A15+1 -> 2 | C15: =B15+1 -> 3 | D15: =C15+1 -> 4 | E15: =D15+1 -> 5 | F15: =E15+1 -> 6 | G15: =F15+1 -> 7 | H15: =G15+1 -> 8 | I15: =H15+1 -> 9 | ... P15: =O15+1 -> 16
C16: Iekšejie tīkli. Ūdensvads Ū1, S3
A17: 1 | B17: l.c. | C17: Cauruļvada DN25 izbūve no PE OD32 PN10 ūdensvada caurulēm ( montāžas darbi, t.sk. Veidgabalu) tranšejā H=1.5-2.0m. , Upanor (vai ekvivalents) | D17: m | E17: 3 | H17: =ROUND(F17*G17,2) -> 0 | K17: =ROUND(SUM(H17:J17),2) -> 0 | L17: =ROUND(F17*E17,2) -> 0 | M17: =ROUND(H17*E17,2) -> 0 | N17: =ROUND(I17*E17,2) -> 0 | O17: =ROUND(J17*E17,2) -> 0 | P17: =ROUND(SUM(M17:O17),2) -> 0
A18: 2 | B18: l.c. | C18: Daudzslāņu caurules 20x2.25 (DN15), MLCP, Upanor (vai ekvivalents) | D18: m | E18: 16 | H18: =ROUND(F18*G18,2) -> 0 | K18: =ROUND(SUM(H18:J18),2) -> 0 | L18: =ROUND(F18*E18,2) -> 0 | M18: =ROUND(H18*E18,2) -> 0 | N18: =ROUND(I18*E18,2) -> 0 | O18: =ROUND(J18*E18,2) -> 0 | P18: =ROUND(SUM(M18:O18),2) -> 0
A19: 3 | B19: l.c. | C19: Pretkondensāta izolācija ar biezumu 9 mm, 20x2.25(DN15),“K-flex ST” (vai ekvivalents) | D19: m | E19: 8 | H19: =ROUND(F19*G19,2) -> 0 | K19: =ROUND(SUM(H19:J19),2) -> 0 | L19: =ROUND(F19*E19,2) -> 0 | M19: =ROUND(H19*E19,2) -> 0 | N19: =ROUND(I19*E19,2) -> 0 | O19: =ROUND(J19*E19,2) -> 0 | P19: =ROUND(SUM(M19:O19),2) -> 0
A20: 4 | B20: l.c. | C20: Siltumizolācija izolācija ar biezumu 13 mm, 20x2.25(DN15), “K-flex ST” (vai ekvivalents) | D20: m | E20: 8 | H20: =ROUND(F20*G20,2) -> 0 | K20: =ROUND(SUM(H20:J20),2) -> 0 | L20: =ROUND(F20*E20,2) -> 0 | M20: =ROUND(H20*E20,2) -> 0 | N20: =ROUND(I20*E20,2) -> 0 | O20: =ROUND(J20*E20,2) -> 0 | P20: =ROUND(SUM(M20:O20),2) -> 0
A21: 5 | B21: l.c. | C21: Lodveida ventilis DN15 | D21: gab | E21: 2 | H21: =ROUND(F21*G21,2) -> 0 | K21: =ROUND(SUM(H21:J21),2) -> 0 | L21: =ROUND(F21*E21,2) -> 0 | M21: =ROUND(H21*E21,2) -> 0 | N21: =ROUND(I21*E21,2) -> 0 | O21: =ROUND(J21*E21,2) -> 0 | P21: =ROUND(SUM(M21:O21),2) -> 0
A22: 6 | B22: l.c. | C22: Stūra ventilis aukstajam ūdenim | D22: gab | E22: 3 | H22: =ROUND(F22*G22,2) -> 0 | K22: =ROUND(SUM(H22:J22),2) -> 0 | L22: =ROUND(F22*E22,2) -> 0 | M22: =ROUND(H22*E22,2) -> 0 | N22: =ROUND(I22*E22,2) -> 0 | O22: =ROUND(J22*E22,2) -> 0 | P22: =ROUND(SUM(M22:O22),2) -> 0
A23: 7 | B23: l.c. | C23: Laistīšanas krāns (neaizsalstošie ) ārējais komplektā: krāns, šlūtene | D23: kpl | E23: 1 | H23: =ROUND(F23*G23,2) -> 0 | K23: =ROUND(SUM(H23:J23),2) -> 0 | L23: =ROUND(F23*E23,2) -> 0 | M23: =ROUND(H23*E23,2) -> 0 | N23: =ROUND(I23*E23,2) -> 0 | O23: =ROUND(J23*E23,2) -> 0 | P23: =ROUND(SUM(M23:O23),2) -> 0
A24: 8 | B24: l.c. | C24: Ūdens uzskaites mezgls (vai ekvivalents): - Savienojuma uzmava PE_metāl- OD32_DN25, PN16 ( 2gab) - Stiprinājums ( 2 gab) - LIkums 90° MET DN25 PN16 ( 1 gab) - Pāreja MET D25/DN15 ( 1 gab ) - Lodveida ventilis DN15 PN16 ar garo rokturi ( 2 gab) - Dubultnipelis MET DN15 ( 4 gab ) - Plūsmas (gružu) filtru DN15 PN16 ar nodrošinātu iespēju uzlikt plombu ( 1 gab) - Daudzplūsmu ūdens mērītājs DN15 (vert.), PN16 ar savienojumiem, ar impulsa izeju ( 1 gab) - Vienvirziena atspervārsts ar vītni DN20 PN16 ( 1 gab) | D24: kpl | E24: 1 | H24: =ROUND(F24*G24,2) -> 0 | K24: =ROUND(SUM(H24:J24),2) -> 0 | L24: =ROUND(F24*E24,2) -> 0 | M24: =ROUND(H24*E24,2) -> 0 | N24: =ROUND(I24*E24,2) -> 0 | O24: =ROUND(J24*E24,2) -> 0 | P24: =ROUND(SUM(M24:O24),2) -> 0
A25: 9 | B25: l.c. | C25: Ievada hermetizācija | D25: gab | E25: 1 | H25: =ROUND(F25*G25,2) -> 0 | K25: =ROUND(SUM(H25:J25),2) -> 0 | L25: =ROUND(F25*E25,2) -> 0 | M25: =ROUND(H25*E25,2) -> 0 | N25: =ROUND(I25*E25,2) -> 0 | O25: =ROUND(J25*E25,2) -> 0 | P25: =ROUND(SUM(M25:O25),2) -> 0
A26: 10 | B26: l.c. | C26: Hidrauliskā pārbaude | D26: m | E26: 19 | H26: =ROUND(F26*G26,2) -> 0 | K26: =ROUND(SUM(H26:J26),2) -> 0 | L26: =ROUND(F26*E26,2) -> 0 | M26: =ROUND(H26*E26,2) -> 0 | N26: =ROUND(I26*E26,2) -> 0 | O26: =ROUND(J26*E26,2) -> 0 | P26: =ROUND(SUM(M26:O26),2) -> 0
A27: 11 | B27: l.c. | C27: Skalošana un dezinfekcija | D27: m | E27: 19 | H27: =ROUND(F27*G27,2) -> 0 | K27: =ROUND(SUM(H27:J27),2) -> 0 | L27: =ROUND(F27*E27,2) -> 0 | M27: =ROUND(H27*E27,2) -> 0 | N27: =ROUND(I27*E27,2) -> 0 | O27: =ROUND(J27*E27,2) -> 0 | P27: =ROUND(SUM(M27:O27),2) -> 0
C28: Iekšejie tīkli. Santehniska iekarta | H28: =ROUND(F28*G28,2) -> 0 | K28: =ROUND(SUM(H28:J28),2) -> 0 | L28: =ROUND(F28*E28,2) -> 0 | M28: =ROUND(H28*E28,2) -> 0 | N28: =ROUND(I28*E28,2) -> 0 | O28: =ROUND(J28*E28,2) -> 0 | P28: =ROUND(SUM(M28:O28),2) -> 0
A29: 12 | B29: l.c. | C29: Klozetpods ar skalošanas kasti, brīvi stāvošais, ieskaitot Soft Close vāku | D29: kpl | E29: 1 | H29: =ROUND(F29*G29,2) -> 0 | K29: =ROUND(SUM(H29:J29),2) -> 0 | L29: =ROUND(F29*E29,2) -> 0 | M29: =ROUND(H29*E29,2) -> 0 | N29: =ROUND(I29*E29,2) -> 0 | O29: =ROUND(J29*E29,2) -> 0 | P29: =ROUND(SUM(M29:O29),2) -> 0
A30: 13 | B30: l.c. | C30: Roku mazgātne ≈50cm ar sifonu un jaucējkrānu | D30: kpl | E30: 1 | H30: =ROUND(F30*G30,2) -> 0 | K30: =ROUND(SUM(H30:J30),2) -> 0 | L30: =ROUND(F30*E30,2) -> 0 | M30: =ROUND(H30*E30,2) -> 0 | N30: =ROUND(I30*E30,2) -> 0 | O30: =ROUND(J30*E30,2) -> 0 | P30: =ROUND(SUM(M30:O30),2) -> 0
A31: 14 | B31: l.c. | C31: Traps HL310NPr | D31: kpl | E31: 1 | H31: =ROUND(F31*G31,2) -> 0 | K31: =ROUND(SUM(H31:J31),2) -> 0 | L31: =ROUND(F31*E31,2) -> 0 | M31: =ROUND(H31*E31,2) -> 0 | N31: =ROUND(I31*E31,2) -> 0 | O31: =ROUND(J31*E31,2) -> 0 | P31: =ROUND(SUM(M31:O31),2) -> 0
C32: Iekšejie tīkli. Sadzīves kanalizācija. K1 | H32: =ROUND(F32*G32,2) -> 0 | K32: =ROUND(SUM(H32:J32),2) -> 0 | L32: =ROUND(F32*E32,2) -> 0 | M32: =ROUND(H32*E32,2) -> 0 | N32: =ROUND(I32*E32,2) -> 0 | O32: =ROUND(J32*E32,2) -> 0 | P32: =ROUND(SUM(M32:O32),2) -> 0
A33: 15 | B33: l.c. | C33: Plastmasas kanalizācijas caurules DN50 PP “ASTO”, Wavin (vai ekvivalents) | D33: m | E33: 1 | H33: =ROUND(F33*G33,2) -> 0 | K33: =ROUND(SUM(H33:J33),2) -> 0 | L33: =ROUND(F33*E33,2) -> 0 | M33: =ROUND(H33*E33,2) -> 0 | N33: =ROUND(I33*E33,2) -> 0 | O33: =ROUND(J33*E33,2) -> 0 | P33: =ROUND(SUM(M33:O33),2) -> 0
A34: 16 | B34: l.c. | C34: Plastmasas kanalizācijas caurules DN110 PP “ASTO”, Wavin (vai ekvivalents) | D34: m | E34: 12 | H34: =ROUND(F34*G34,2) -> 0 | K34: =ROUND(SUM(H34:J34),2) -> 0 | L34: =ROUND(F34*E34,2) -> 0 | M34: =ROUND(H34*E34,2) -> 0 | N34: =ROUND(I34*E34,2) -> 0 | O34: =ROUND(J34*E34,2) -> 0 | P34: =ROUND(SUM(M34:O34),2) -> 0
A35: 17 | B35: l.c. | C35: Plastmasas kanalizācijas caurules DN160 PP, SN8, Uponor (vai ekvivalents) | D35: m | E35: 4 | H35: =ROUND(F35*G35,2) -> 0 | K35: =ROUND(SUM(H35:J35),2) -> 0 | L35: =ROUND(F35*E35,2) -> 0 | M35: =ROUND(H35*E35,2) -> 0 | N35: =ROUND(I35*E35,2) -> 0 | O35: =ROUND(J35*E35,2) -> 0 | P35: =ROUND(SUM(M35:O35),2) -> 0
A36: 18 | B36: l.c. | C36: Skaņas izolācija, Tubolit TL-100/5-AR (vai ekvivalents) | D36: m | E36: 3 | H36: =ROUND(F36*G36,2) -> 0 | K36: =ROUND(SUM(H36:J36),2) -> 0 | L36: =ROUND(F36*E36,2) -> 0 | M36: =ROUND(H36*E36,2) -> 0 | N36: =ROUND(I36*E36,2) -> 0 | O36: =ROUND(J36*E36,2) -> 0 | P36: =ROUND(SUM(M36:O36),2) -> 0
A37: 19 | B37: l.c. | C37: Revīzija ar vāku DN110 | D37: gab | E37: 1 | H37: =ROUND(F37*G37,2) -> 0 | K37: =ROUND(SUM(H37:J37),2) -> 0 | L37: =ROUND(F37*E37,2) -> 0 | M37: =ROUND(H37*E37,2) -> 0 | N37: =ROUND(I37*E37,2) -> 0 | O37: =ROUND(J37*E37,2) -> 0 | P37: =ROUND(SUM(M37:O37),2) -> 0
A38: 20 | B38: l.c. | C38: Vēdināšanas izvads | D38: gab | E38: 1 | H38: =ROUND(F38*G38,2) -> 0 | K38: =ROUND(SUM(H38:J38),2) -> 0 | L38: =ROUND(F38*E38,2) -> 0 | M38: =ROUND(H38*E38,2) -> 0 | N38: =ROUND(I38*E38,2) -> 0 | O38: =ROUND(J38*E38,2) -> 0 | P38: =ROUND(SUM(M38:O38),2) -> 0
A39: 21 | B39: l.c. | C39: Revīzijas lūka 300x300 | D39: gab | E39: 1 | H39: =ROUND(F39*G39,2) -> 0 | K39: =ROUND(SUM(H39:J39),2) -> 0 | L39: =ROUND(F39*E39,2) -> 0 | M39: =ROUND(H39*E39,2) -> 0 | N39: =ROUND(I39*E39,2) -> 0 | O39: =ROUND(J39*E39,2) -> 0 | P39: =ROUND(SUM(M39:O39),2) -> 0
K40: Tiešas izmaksas kopā, t. sk. darba devēja sociālais nodoklis (23,59%): | L40: =SUM(L16:L39) -> 0 | M40: =SUM(M16:M39) -> 0 | N40: =SUM(N16:N39) -> 0 | O40: =SUM(O16:O39) -> 0 | P40: =SUM(P16:P39) -> 0
A42: Piezīmes:
A43: 1. Būvdarbu veicējam jāievērtē darbu apjomu sarakstā minēto darbu veikšanai nepieciešamie materiāli un papildus darbi, kas nav minēti šajā sarakstā, bet bez kuriem nebūtu iespējama būvdarbu tehnoloģiski pareiza un spēkā esošiem normatīviem atbilstoša veikšana pilnā apmērā.
A44: 2. Darbu apjomu sarakstu skatīt kopā ar būvprojektu, rasējumiem un specifikācijām. Gadījumā, ja darbu apjomi nesakrīt ar rasējumiem vai specifikācijām, pirms darbiem apjomus un būvdarbus precizēt kopā ar Pasūtītāju un/vai Pasūtītāja pārstāvi un pirms būvdarbu uzsākšanas rakstiski saskaņot ar Pasūtītāju būvdarbu veikšanas apjomu. Pasūtītājs ir tiesīgs noteikt tādu būvniecības apjomu (daudzumu), kāds nepieciešams būvprojekta īstenošanai un tā darbības nodrošināšanai, kā arī samazināt vai palielināt Līguma Pielikumos norādītos apjomus tāmēs.
A45: 3. Cauruļu apjoms norādīts orientējoši. Precīzu apjomu noteikt būvniecības laikā, pēc reālo kabeļu trasu un izbūves apstākļu noteikšanas. Palīgmateriālus un papildmateriālus ievērtēt, balstoties uz pieredzi līdzīgu objektu realizācijā. Materiālu sarakstu skatīt kopā ar citām projekta lapām. Materiālu sarakstam ir informatīvs raksturs.
A46: 4. Visi palīgmateriāli, stiprinājumi, savienojumi u.c.palīgkonstrukcijas, sistēmas marķēšana, tīrīšanas lūkas, gaisa vadu šķērsojumi ar sienām un pārsegumiem, akustiskie un ugunsdrošie blīvējimi, kā arī izpildshēmas un sistēmas pārbaudes jāiekļauj vienības izmaksās pie saistošajiem būvizstrādājumiem.
A47: 5. Materiālu komplektāciju veikt atbilstoši izstrādātājam būvprojektam, ražotāju un LR normatīvo aktu nosacījumiem, ņemt vērā, ka materiālu daudzums ir dots, neievertējot atgriezumus un pārlaidumus.
A48: 6. Visi saistītie darbi ar sastatņu, iekārtu montāžu, demontāžu, nosegplēvēm, celšanas mehānismiem un citiem mehānismiem jāiekļauj attiecīgo darbu izmaksās vai virsizdevumos.
A49: 7. Tāmēs ietvertos konkrēto ražotāju materiālus un izstrādājumus var aizvietot ar ekvivalentu, citu ražotāju materiāliem un izstrādājumiem, aizpildot tabulu PIEDĀVĀTIE EKVIVALENTI.
A50: 8. Skaidrojošais apraksts, t.i. visparīgas piezīmes, piezīmes par būvdarbu izpildes raksturojumu, par būvdarbu organizācijas aprakstu, par izpilddokumentāciju ir būvniecības tāmju neatņemama sastāvdaļa.
A52: Sastādīja: | J52: Pārbaudīja: | O52: (Sertifikāta Nr.________)
A53: paraksts, paraksta atšifrējums, datums | J53: paraksts, paraksta atšifrējums, datums

Sheet 13 Apk vent kond
C1: Lokālā tāme Nr.13
C2: Apkures ventilācijas un kondicionēšanas sistēmas
C3: (būvdarbu veids vai konstruktīvā elementa nosaukums)
A5: ='12 ŪK iekš'!A5 -> Objekta nosaukums: Tramvaju galapunkta ēkas izbūve Tapešu iela 50A, Rīga
A6: ='12 ŪK iekš'!A6 -> Būves nosaukums: Jaunbūve
A7: ='12 ŪK iekš'!A7 -> Objekta adrese: Tapešu iela 50A, Rīga | N7: Tāmes izmaksas, Euro: | O7: =P60 -> 0
A8: ='12 ŪK iekš'!A8 -> Pasūtītājs: RP SIA "Rīgas satiksme" | N8: Tāme sastādīta | O8: ='12 ŪK iekš'!O9 -> 0
A9: ='12 ŪK iekš'!A9 -> Izpildītājs: | C9: ='12 ŪK iekš'!C9 -> 0
A11: Tāme sastādīta 2026.gada tirgus cenās pamatojoties uz būvdarbu apjomiem.
A12: Nr.p.k. | B12: Kods | C12: Būvdarbu nosaukums | D12: Mērvienība | E12: Daudzums | F12: Vienības izmaksas | L12: Kopā uz visu apjomu
F13: laika norma (c/h) | G13: darba samaksas likme* (euro/h) | H13: darba alga | I13: būvizstrādājumi | J13: mehānismi | K13: kopā | L13: darbietilpība (c/h) | M13: darba alga | N13: būvizstrādājumi | O13: mehānismi | P13: summa
A15: 1 | B15: =A15+1 -> 2 | C15: =B15+1 -> 3 | D15: =C15+1 -> 4 | E15: =D15+1 -> 5 | F15: =E15+1 -> 6 | G15: =F15+1 -> 7 | H15: =G15+1 -> 8 | I15: =H15+1 -> 9 | ... P15: =O15+1 -> 16
C16: Siltās grīdas
A17: =A16+1 -> 1 | B17: l.c. | C17: Uponor Comfort PLUS caurule 16x2,0 (vai ekvivalents) | D17: m | E17: 260 | H17: =ROUND(F17*G17,2) -> 0 | K17: =ROUND(SUM(H17:J17),2) -> 0 | L17: =ROUND(F17*E17,2) -> 0 | M17: =ROUND(H17*E17,2) -> 0 | N17: =ROUND(I17*E17,2) -> 0 | O17: =ROUND(J17*E17,2) -> 0 | P17: =ROUND(SUM(M17:O17),2) -> 0
A18: =A17+1 -> 2 | B18: l.c. | C18: Kolektors uz 7 cilpām komplektā ar piedziņām, stiprinājumiem, vadības bloku, elektroinstalaciju u.c.komplektējošām detaļām | D18: gab | E18: 1 | H18: =ROUND(F18*G18,2) -> 0 | K18: =ROUND(SUM(H18:J18),2) -> 0 | L18: =ROUND(F18*E18,2) -> 0 | M18: =ROUND(H18*E18,2) -> 0 | N18: =ROUND(I18*E18,2) -> 0 | O18: =ROUND(J18*E18,2) -> 0 | P18: =ROUND(SUM(M18:O18),2) -> 0
A19: =A18+1 -> 3 | B19: l.c. | C19: Sadalītāja skapis 7 cilpām, sienā montējams | D19: gab | E19: 1 | H19: =ROUND(F19*G19,2) -> 0 | K19: =ROUND(SUM(H19:J19),2) -> 0 | L19: =ROUND(F19*E19,2) -> 0 | M19: =ROUND(H19*E19,2) -> 0 | N19: =ROUND(I19*E19,2) -> 0 | O19: =ROUND(J19*E19,2) -> 0 | P19: =ROUND(SUM(M19:O19),2) -> 0
A20: =A19+1 -> 4 | B20: l.c. | C20: Telpas termostats sportazālei | E20: 6 | H20: =ROUND(F20*G20,2) -> 0 | K20: =ROUND(SUM(H20:J20),2) -> 0 | L20: =ROUND(F20*E20,2) -> 0 | M20: =ROUND(H20*E20,2) -> 0 | N20: =ROUND(I20*E20,2) -> 0 | O20: =ROUND(J20*E20,2) -> 0 | P20: =ROUND(SUM(M20:O20),2) -> 0
A21: =A20+1 -> 5 | B21: l.c. | C21: MLCP cauruļvadi (Multi Layer Composite Pipe) DN25 32x3 (vai ekvivalents) | D21: m | E21: 3 | H21: =ROUND(F21*G21,2) -> 0 | K21: =ROUND(SUM(H21:J21),2) -> 0 | L21: =ROUND(F21*E21,2) -> 0 | M21: =ROUND(H21*E21,2) -> 0 | N21: =ROUND(I21*E21,2) -> 0 | O21: =ROUND(J21*E21,2) -> 0 | P21: =ROUND(SUM(M21:O21),2) -> 0
A22: =A21+1 -> 6 | B22: l.c. | C22: Cauruļvadu stiprinājumi | D22: kpl | E22: 1 | H22: =ROUND(F22*G22,2) -> 0 | K22: =ROUND(SUM(H22:J22),2) -> 0 | L22: =ROUND(F22*E22,2) -> 0 | M22: =ROUND(H22*E22,2) -> 0 | N22: =ROUND(I22*E22,2) -> 0 | O22: =ROUND(J22*E22,2) -> 0 | P22: =ROUND(SUM(M22:O22),2) -> 0
A23: =A22+1 -> 7 | B23: l.c. | C23: Montāžas komplekts | D23: kpl | E23: 1 | H23: =ROUND(F23*G23,2) -> 0 | K23: =ROUND(SUM(H23:J23),2) -> 0 | L23: =ROUND(F23*E23,2) -> 0 | M23: =ROUND(H23*E23,2) -> 0 | N23: =ROUND(I23*E23,2) -> 0 | O23: =ROUND(J23*E23,2) -> 0 | P23: =ROUND(SUM(M23:O23),2) -> 0
A24: =A23+1 -> 8 | B24: l.c. | C24: Elektroinstalācija | D24: kpl | E24: 1 | H24: =ROUND(F24*G24,2) -> 0 | K24: =ROUND(SUM(H24:J24),2) -> 0 | L24: =ROUND(F24*E24,2) -> 0 | M24: =ROUND(H24*E24,2) -> 0 | N24: =ROUND(I24*E24,2) -> 0 | O24: =ROUND(J24*E24,2) -> 0 | P24: =ROUND(SUM(M24:O24),2) -> 0
C25: Ventilācijas sistēma P1N1 | H25: =ROUND(F25*G25,2) -> 0 | K25: =ROUND(SUM(H25:J25),2) -> 0 | L25: =ROUND(F25*E25,2) -> 0 | M25: =ROUND(H25*E25,2) -> 0 | N25: =ROUND(I25*E25,2) -> 0 | O25: =ROUND(J25*E25,2) -> 0 | P25: =ROUND(SUM(M25:O25),2) -> 0
A26: 9 | B26: l.c. | C26: Gaisa apstrādes agregāts, pieplūde – 150m3/h; 250Pa(extern.); nosūce – 100m3/h; 250Pa(extern.), ar rotācijas siltummaini, ar el. sildīšanas bateriju filtriem аr automātiku Modbus RTU, "Komfovent" Domekt R 200 (vai ekvivalents) | D26: kpl | E26: 1 | H26: =ROUND(F26*G26,2) -> 0 | K26: =ROUND(SUM(H26:J26),2) -> 0 | L26: =ROUND(F26*E26,2) -> 0 | M26: =ROUND(H26*E26,2) -> 0 | N26: =ROUND(I26*E26,2) -> 0 | O26: =ROUND(J26*E26,2) -> 0 | P26: =ROUND(SUM(M26:O26),2) -> 0
A27: 10 | B27: l.c. | C27: Ārējā reste fasāde, “Flaktwoods” 200-200-125 (vai ekvivalents) | D27: gab | E27: 2 | H27: =ROUND(F27*G27,2) -> 0 | K27: =ROUND(SUM(H27:J27),2) -> 0 | L27: =ROUND(F27*E27,2) -> 0 | M27: =ROUND(H27*E27,2) -> 0 | N27: =ROUND(I27*E27,2) -> 0 | O27: =ROUND(J27*E27,2) -> 0 | P27: =ROUND(SUM(M27:O27),2) -> 0
A28: 11 | B28: l.c. | C28: Trokšņa slāpētājs L=1200mm Ø125 | D28: gab | E28: 2 | H28: =ROUND(F28*G28,2) -> 0 | K28: =ROUND(SUM(H28:J28),2) -> 0 | L28: =ROUND(F28*E28,2) -> 0 | M28: =ROUND(H28*E28,2) -> 0 | N28: =ROUND(I28*E28,2) -> 0 | O28: =ROUND(J28*E28,2) -> 0 | P28: =ROUND(SUM(M28:O28),2) -> 0
A29: 12 | B29: l.c. | C29: Droseļvārsts Ø125 IRIS-100 (vai ekvivalents) | D29: gab | E29: 7 | H29: =ROUND(F29*G29,2) -> 0 | K29: =ROUND(SUM(H29:J29),2) -> 0 | L29: =ROUND(F29*E29,2) -> 0 | M29: =ROUND(H29*E29,2) -> 0 | N29: =ROUND(I29*E29,2) -> 0 | O29: =ROUND(J29*E29,2) -> 0 | P29: =ROUND(SUM(M29:O29),2) -> 0
A30: 13 | B30: l.c. | C30: Pieplūdes difuzors PD1-100, “Systemair” Orion-Opus 160+Luna 100-160 (vai ekvivalents) | D30: gab | E30: 4 | H30: =ROUND(F30*G30,2) -> 0 | K30: =ROUND(SUM(H30:J30),2) -> 0 | L30: =ROUND(F30*E30,2) -> 0 | M30: =ROUND(H30*E30,2) -> 0 | N30: =ROUND(I30*E30,2) -> 0 | O30: =ROUND(J30*E30,2) -> 0 | P30: =ROUND(SUM(M30:O30),2) -> 0
A31: 14 | B31: l.c. | C31: Nosūces difuzors ND1-100, “Systemair” RHKH-125-4+ATTS-100-125-1 (vai ekvivalents) | D31: gab | E31: 2 | H31: =ROUND(F31*G31,2) -> 0 | K31: =ROUND(SUM(H31:J31),2) -> 0 | L31: =ROUND(F31*E31,2) -> 0 | M31: =ROUND(H31*E31,2) -> 0 | N31: =ROUND(I31*E31,2) -> 0 | O31: =ROUND(J31*E31,2) -> 0 | P31: =ROUND(SUM(M31:O31),2) -> 0
A32: 15 | B32: l.c. | C32: Nosūces difuzors ND2-100, “Systemair” KSO-100 (vai ekvivalents) | D32: gab | E32: 1 | H32: =ROUND(F32*G32,2) -> 0 | K32: =ROUND(SUM(H32:J32),2) -> 0 | L32: =ROUND(F32*E32,2) -> 0 | M32: =ROUND(H32*E32,2) -> 0 | N32: =ROUND(I32*E32,2) -> 0 | O32: =ROUND(J32*E32,2) -> 0 | P32: =ROUND(SUM(M32:O32),2) -> 0
A33: 16 | B33: l.c. | C33: Cinkota skārda gaisa vads Ø100 | D33: m | E33: 25 | H33: =ROUND(F33*G33,2) -> 0 | K33: =ROUND(SUM(H33:J33),2) -> 0 | L33: =ROUND(F33*E33,2) -> 0 | M33: =ROUND(H33*E33,2) -> 0 | N33: =ROUND(I33*E33,2) -> 0 | O33: =ROUND(J33*E33,2) -> 0 | P33: =ROUND(SUM(M33:O33),2) -> 0
A34: 17 | B34: l.c. | C34: Cinkota skārda gaisa vads Ø125 | D34: m | E34: 5 | H34: =ROUND(F34*G34,2) -> 0 | K34: =ROUND(SUM(H34:J34),2) -> 0 | L34: =ROUND(F34*E34,2) -> 0 | M34: =ROUND(H34*E34,2) -> 0 | N34: =ROUND(I34*E34,2) -> 0 | O34: =ROUND(J34*E34,2) -> 0 | P34: =ROUND(SUM(M34:O34),2) -> 0
A35: 18 | B35: l.c. | C35: Stiprināšanas un montāžas komplekts | D35: kpl | E35: 1 | H35: =ROUND(F35*G35,2) -> 0 | K35: =ROUND(SUM(H35:J35),2) -> 0 | L35: =ROUND(F35*E35,2) -> 0 | M35: =ROUND(H35*E35,2) -> 0 | N35: =ROUND(I35*E35,2) -> 0 | O35: =ROUND(J35*E35,2) -> 0 | P35: =ROUND(SUM(M35:O35),2) -> 0
A36: 19 | B36: l.c. | C36: Gaisa vada siltumizolācija ar folija pārklājumu, b=50mm , "Paroc" (vai ekvivalents) | D36: m2 | E36: 3 | H36: =ROUND(F36*G36,2) -> 0 | K36: =ROUND(SUM(H36:J36),2) -> 0 | L36: =ROUND(F36*E36,2) -> 0 | M36: =ROUND(H36*E36,2) -> 0 | N36: =ROUND(I36*E36,2) -> 0 | O36: =ROUND(J36*E36,2) -> 0 | P36: =ROUND(SUM(M36:O36),2) -> 0
A37: 20 | B37: l.c. | C37: Gaisa vada siltumizolācija ar folija pārklājumu, b=100mm , "Paroc" (vai ekvivalents) | D37: m2 | E37: 2 | H37: =ROUND(F37*G37,2) -> 0 | K37: =ROUND(SUM(H37:J37),2) -> 0 | L37: =ROUND(F37*E37,2) -> 0 | M37: =ROUND(H37*E37,2) -> 0 | N37: =ROUND(I37*E37,2) -> 0 | O37: =ROUND(J37*E37,2) -> 0 | P37: =ROUND(SUM(M37:O37),2) -> 0
... A41: 24 | B41: l.c. | C41: Montāžas komplekts | D41: kpl | E41: 1 | H41: =ROUND(F41*G41,2) -> 0 | K41: =ROUND(SUM(H41:J41),2) -> 0 | L41: =ROUND(F41*E41,2) -> 0 | M41: =ROUND(H41*E41,2) -> 0 | N41: =ROUND(I41*E41,2) -> 0 | O41: =ROUND(J41*E41,2) -> 0 | P41: =ROUND(SUM(M41:O41),2) -> 0
C42: Ventilācijas sistēma P1N2 | H42: =ROUND(F42*G42,2) -> 0 | K42: =ROUND(SUM(H42:J42),2) -> 0 | L42: =ROUND(F42*E42,2) -> 0 | M42: =ROUND(H42*E42,2) -> 0 | N42: =ROUND(I42*E42,2) -> 0 | O42: =ROUND(J42*E42,2) -> 0 | P42: =ROUND(SUM(M42:O42),2) -> 0
A43: 25 | B43: l.c. | C43: Ventilators kanālu, nosūces – 100m3/h , "S&P" SILENT DUAL 200 (vai ekvivalents) | D43: gab | E43: 1 | H43: =ROUND(F43*G43,2) -> 0 | K43: =ROUND(SUM(H43:J43),2) -> 0 | L43: =ROUND(F43*E43,2) -> 0 | M43: =ROUND(H43*E43,2) -> 0 | N43: =ROUND(I43*E43,2) -> 0 | O43: =ROUND(J43*E43,2) -> 0 | P43: =ROUND(SUM(M43:O43),2) -> 0
A44: 26 | B44: l.c. | C44: Ārējā reste , «Flakt Group» RISJV-200x200-125 (vai ekvivalents) | D44: gab | E44: 1 | H44: =ROUND(F44*G44,2) -> 0 | K44: =ROUND(SUM(H44:J44),2) -> 0 | L44: =ROUND(F44*E44,2) -> 0 | M44: =ROUND(H44*E44,2) -> 0 | N44: =ROUND(I44*E44,2) -> 0 | O44: =ROUND(J44*E44,2) -> 0 | P44: =ROUND(SUM(M44:O44),2) -> 0
A45: 27 | B45: l.c. | C45: Cinkota skārda gaisa vads ∅125 | D45: m | E45: 1 | H45: =ROUND(F45*G45,2) -> 0 | K45: =ROUND(SUM(H45:J45),2) -> 0 | L45: =ROUND(F45*E45,2) -> 0 | M45: =ROUND(H45*E45,2) -> 0 | N45: =ROUND(I45*E45,2) -> 0 | O45: =ROUND(J45*E45,2) -> 0 | P45: =ROUND(SUM(M45:O45),2) -> 0
A46: 28 | B46: l.c. | C46: Gaisa vada siltumizolācija ar folija pārklājumu, b=50mm , "Paroc" (vai ekvivalents) | D46: m2 | E46: 0.5 | H46: =ROUND(F46*G46,2) -> 0 | K46: =ROUND(SUM(H46:J46),2) -> 0 | L46: =ROUND(F46*E46,2) -> 0 | M46: =ROUND(H46*E46,2) -> 0 | N46: =ROUND(I46*E46,2) -> 0 | O46: =ROUND(J46*E46,2) -> 0 | P46: =ROUND(SUM(M46:O46),2) -> 0
A47: 29 | B47: l.c. | C47: Gaisa vadu stiprinājumi | D47: kpl | E47: 1 | H47: =ROUND(F47*G47,2) -> 0 | K47: =ROUND(SUM(H47:J47),2) -> 0 | L47: =ROUND(F47*E47,2) -> 0 | M47: =ROUND(H47*E47,2) -> 0 | N47: =ROUND(I47*E47,2) -> 0 | O47: =ROUND(J47*E47,2) -> 0 | P47: =ROUND(SUM(M47:O47),2) -> 0
A48: 30 | B48: l.c. | C48: Gaisa vadu veidgabali | D48: kpl | E48: 1 | H48: =ROUND(F48*G48,2) -> 0 | K48: =ROUND(SUM(H48:J48),2) -> 0 | L48: =ROUND(F48*E48,2) -> 0 | M48: =ROUND(H48*E48,2) -> 0 | N48: =ROUND(I48*E48,2) -> 0 | O48: =ROUND(J48*E48,2) -> 0 | P48: =ROUND(SUM(M48:O48),2) -> 0
A49: 31 | B49: l.c. | C49: Montāžas komplekts | D49: kpl | E49: 1 | H49: =ROUND(F49*G49,2) -> 0 | K49: =ROUND(SUM(H49:J49),2) -> 0 | L49: =ROUND(F49*E49,2) -> 0 | M49: =ROUND(H49*E49,2) -> 0 | N49: =ROUND(I49*E49,2) -> 0 | O49: =ROUND(J49*E49,2) -> 0 | P49: =ROUND(SUM(M49:O49),2) -> 0
C50: SM | H50: =ROUND(F50*G50,2) -> 0 | K50: =ROUND(SUM(H50:J50),2) -> 0 | L50: =ROUND(F50*E50,2) -> 0 | M50: =ROUND(H50*E50,2) -> 0 | N50: =ROUND(I50*E50,2) -> 0 | O50: =ROUND(J50*E50,2) -> 0 | P50: =ROUND(SUM(M50:O50),2) -> 0
A51: 32 | B51: l.c. | C51: Āra monobloka gaisa-ūdens siltumsūknis HPA-O 3 CS Plus (vai ekvivalents) Siltuma ražošana pie A7/W35: 2,73 kW. Siltuma ražošana pie A-7/W35: 3,20 kW. Toru-Jüri , «Stiebel Eltron» Veiktspējas koeficients (COP) pie A7/W35: 4,7. Energoefektivitātes klase pie W35: A++. Skaņas jaudas līmenis: 52 dB(A). | D51: kpl | E51: 1 | H51: =ROUND(F51*G51,2) -> 0 | K51: =ROUND(SUM(H51:J51),2) -> 0 | L51: =ROUND(F51*E51,2) -> 0 | M51: =ROUND(H51*E51,2) -> 0 | N51: =ROUND(I51*E51,2) -> 0 | O51: =ROUND(J51*E51,2) -> 0 | P51: =ROUND(SUM(M51:O51),2) -> 0
A52: =A51+1 -> 33 | B52: l.c. | C52: Hidrauliskais modulis apkures sistēmas pieslēgšanai ar integrētu karstā ūdens boileri ar 180 litru KŪ tvertni, «Stiebel Eltron» HSBB 180 S Plus (vai ekvivalents) | D52: kpl | E52: 1 | H52: =ROUND(F52*G52,2) -> 0 | K52: =ROUND(SUM(H52:J52),2) -> 0 | L52: =ROUND(F52*E52,2) -> 0 | M52: =ROUND(H52*E52,2) -> 0 | N52: =ROUND(I52*E52,2) -> 0 | O52: =ROUND(J52*E52,2) -> 0 | P52: =ROUND(SUM(M52:O52),2) -> 0
A53: =A52+1 -> 34 | B53: l.c. | C53: ISG Web siltumsūkņa tiešsaistes apkalpošanas stacija, «Stiebel Eltron» (vai ekvivalents) | D53: kpl | E53: 1 | H53: =ROUND(F53*G53,2) -> 0 | K53: =ROUND(SUM(H53:J53),2) -> 0 | L53: =ROUND(F53*E53,2) -> 0 | M53: =ROUND(H53*E53,2) -> 0 | N53: =ROUND(I53*E53,2) -> 0 | O53: =ROUND(J53*E53,2) -> 0 | P53: =ROUND(SUM(M53:O53),2) -> 0
A54: =A53+1 -> 35 | B54: l.c. | C54: FET telpas termostats ar mitruma sensoru dzesēšanai, «Stiebel Eltron» (vai ekvivalents) | D54: kpl | E54: 1 | H54: =ROUND(F54*G54,2) -> 0 | K54: =ROUND(SUM(H54:J54),2) -> 0 | L54: =ROUND(F54*E54,2) -> 0 | M54: =ROUND(H54*E54,2) -> 0 | N54: =ROUND(I54*E54,2) -> 0 | O54: =ROUND(J54*E54,2) -> 0 | P54: =ROUND(SUM(M54:O54),2) -> 0
A55: =A54+1 -> 36 | B55: l.c. | C55: Lodveida vārsts LV-25 | D55: gab | E55: 4 | H55: =ROUND(F55*G55,2) -> 0 | K55: =ROUND(SUM(H55:J55),2) -> 0 | L55: =ROUND(F55*E55,2) -> 0 | M55: =ROUND(H55*E55,2) -> 0 | N55: =ROUND(I55*E55,2) -> 0 | O55: =ROUND(J55*E55,2) -> 0 | P55: =ROUND(SUM(M55:O55),2) -> 0
A56: =A55+1 -> 37 | B56: l.c. | C56: Cauruļvadu veidgabali | D56: kpl | E56: 1 | H56: =ROUND(F56*G56,2) -> 0 | K56: =ROUND(SUM(H56:J56),2) -> 0 | L56: =ROUND(F56*E56,2) -> 0 | M56: =ROUND(H56*E56,2) -> 0 | N56: =ROUND(I56*E56,2) -> 0 | O56: =ROUND(J56*E56,2) -> 0 | P56: =ROUND(SUM(M56:O56),2) -> 0
A57: =A56+1 -> 38 | B57: l.c. | C57: Stiprināšanas un montāžas komplekts | D57: kpl | E57: 1 | H57: =ROUND(F57*G57,2) -> 0 | K57: =ROUND(SUM(H57:J57),2) -> 0 | L57: =ROUND(F57*E57,2) -> 0 | M57: =ROUND(H57*E57,2) -> 0 | N57: =ROUND(I57*E57,2) -> 0 | O57: =ROUND(J57*E57,2) -> 0 | P57: =ROUND(SUM(M57:O57),2) -> 0
A58: =A57+1 -> 39 | B58: l.c. | C58: Cauruļvadu montāža | D58: kpl | E58: 1 | H58: =ROUND(F58*G58,2) -> 0 | K58: =ROUND(SUM(H58:J58),2) -> 0 | L58: =ROUND(F58*E58,2) -> 0 | M58: =ROUND(H58*E58,2) -> 0 | N58: =ROUND(I58*E58,2) -> 0 | O58: =ROUND(J58*E58,2) -> 0 | P58: =ROUND(SUM(M58:O58),2) -> 0
A59: =A58+1 -> 40 | B59: l.c. | C59: Atvēruma projektējamās ēkas norobežojošajā konstrukcijā izveidošana un aizmūrēšana | D59: kpl | E59: 1 | H59: =ROUND(F59*G59,2) -> 0 | K59: =ROUND(SUM(H59:J59),2) -> 0 | L59: =ROUND(F59*E59,2) -> 0 | M59: =ROUND(H59*E59,2) -> 0 | N59: =ROUND(I59*E59,2) -> 0 | O59: =ROUND(J59*E59,2) -> 0 | P59: =ROUND(SUM(M59:O59),2) -> 0
K60: Tiešas izmaksas kopā, t. sk. darba devēja sociālais nodoklis (23,59%): | L60: =SUM(L17:L59) -> 0 | M60: =SUM(M17:M59) -> 0 | N60: =SUM(N17:N59) -> 0 | O60: =SUM(O17:O59) -> 0 | P60: =SUM(P17:P59) -> 0
A63: Piezīmes:
A64: 1. Būvdarbu veicējam jāievērtē darbu apjomu sarakstā minēto darbu veikšanai nepieciešamie materiāli un papildus darbi, kas nav minēti šajā sarakstā, bet bez kuriem nebūtu iespējama būvdarbu tehnoloģiski pareiza un spēkā esošiem normatīviem atbilstoša veikšana pilnā apmērā.
A65: 2. Darbu apjomu sarakstu skatīt kopā ar būvprojektu, rasējumiem un specifikācijām. Gadījumā, ja darbu apjomi nesakrīt ar rasējumiem vai specifikācijām, pirms darbiem apjomus un būvdarbus precizēt kopā ar Pasūtītāju un/vai Pasūtītāja pārstāvi un pirms būvdarbu uzsākšanas rakstiski saskaņot ar Pasūtītāju būvdarbu veikšanas apjomu. Pasūtītājs ir tiesīgs noteikt tādu būvniecības apjomu (daudzumu), kāds nepieciešams būvprojekta īstenošanai un tā darbības nodrošināšanai, kā arī samazināt vai palielināt Līguma Pielikumos norādītos apjomus tāmēs.
A66: 3. Cauruļu apjoms norādīts orientējoši. Precīzu apjomu noteikt būvniecības laikā, pēc reālo kabeļu trasu un izbūves apstākļu noteikšanas. Palīgmateriālus un papildmateriālus ievērtēt, balstoties uz pieredzi līdzīgu objektu realizācijā. Materiālu sarakstu skatīt kopā ar citām projekta lapām. Materiālu sarakstam ir informatīvs raksturs.
A67: 4. Visi palīgmateriāli, stiprinājumi, savienojumi u.c.palīgkonstrukcijas, sistēmas marķēšana, tīrīšanas lūkas, gaisa vadu šķērsojumi ar sienām un pārsegumiem, akustiskie un ugunsdrošie blīvējimi, kā arī izpildshēmas un sistēmas pārbaudes jāiekļauj vienības izmaksās pie saistošajiem būvizstrādājumiem.
A68: 5. Materiālu komplektāciju veikt atbilstoši izstrādātājam būvprojektam, ražotāju un LR normatīvo aktu nosacījumiem, ņemt vērā, ka materiālu daudzums ir dots, neievertējot atgriezumus un pārlaidumus.
A69: 6. Visi saistītie darbi ar sastatņu, iekārtu montāžu, demontāžu, nosegplēvēm, celšanas mehānismiem un citiem mehānismiem jāiekļauj attiecīgo darbu izmaksās vai virsizdevumos.
A70: 7. Tāmēs ietvertos konkrēto ražotāju materiālus un izstrādājumus var aizvietot ar ekvivalentu, citu ražotāju materiāliem un izstrādājumiem, aizpildot tabulu PIEDĀVĀTIE EKVIVALENTI.
A71: 8. Skaidrojošais apraksts, t.i. visparīgas piezīmes, piezīmes par būvdarbu izpildes raksturojumu, par būvdarbu organizācijas aprakstu, par izpilddokumentāciju ir būvniecības tāmju neatņemama sastāvdaļa.
A73: Sastādīja: | J73: Pārbaudīja: | O73: (Sertifikāta Nr.________)
A74: paraksts, paraksta atšifrējums, datums | J74: paraksts, paraksta atšifrējums, datums

Sheet 14 ārējā UKT
C1: Lokālā tāme Nr.14
C2: Ūdensapgāde un kanalizācija, ārējā (UKT sadaļa)
C3: (būvdarbu veids vai konstruktīvā elementa nosaukums)
A5: ='13 Apk vent kond'!A5 -> Objekta nosaukums: Tramvaju galapunkta ēkas izbūve Tapešu iela 50A, Rīga
A6: ='13 Apk vent kond'!A6 -> Būves nosaukums: Jaunbūve
A7: ='13 Apk vent kond'!A7 -> Objekta adrese: Tapešu iela 50A, Rīga | N7: Tāmes izmaksas, Euro: | O7: =P38 -> 0
A8: ='13 Apk vent kond'!A8 -> Pasūtītājs: RP SIA "Rīgas satiksme" | N8: Tāme sastādīta | O8: ='12 ŪK iekš'!O9 -> 0
A9: ='13 Apk vent kond'!A9 -> Izpildītājs: | C9: ='13 Apk vent kond'!C9 -> 0
A11: Tāme sastādīta 2026.gada tirgus cenās pamatojoties uz būvdarbu apjomiem.
A12: Nr.p.k. | B12: Kods | C12: Būvdarbu nosaukums | D12: Mērvienība | E12: Daudzums | F12: Vienības izmaksas | L12: Kopā uz visu apjomu
F13: laika norma (c/h) | G13: darba samaksas likme* (euro/h) | H13: darba alga | I13: būvizstrādājumi | J13: mehānismi | K13: kopā | L13: darbietilpība (c/h) | M13: darba alga | N13: būvizstrādājumi | O13: mehānismi | P13: summa
A15: 1 | B15: =A15+1 -> 2 | C15: =B15+1 -> 3 | D15: =C15+1 -> 4 | E15: =D15+1 -> 5 | F15: =E15+1 -> 6 | G15: =F15+1 -> 7 | H15: =G15+1 -> 8 | I15: =H15+1 -> 9 | ... P15: =O15+1 -> 16
C16: Ārējie tīkli Ū1 ūdensvads
A17: 1 | B17: l.c. | C17: Ūdensvada caurules PEHD SDR11,OD32x3.0, OD32mm ar iestrādātu signāl-stiepli caurules identifikācijai ( montāžas darbi, t.sk. Veidgabalu) tranšejā H=1.8-2.0m, Upanor (vai ekvivalents) | D17: m | E17: 32 | H17: =ROUND(F17*G17,2) -> 0 | K17: =ROUND(SUM(H17:J17),2) -> 0 | L17: =ROUND(F17*E17,2) -> 0 | M17: =ROUND(H17*E17,2) -> 0 | N17: =ROUND(I17*E17,2) -> 0 | O17: =ROUND(J17*E17,2) -> 0 | P17: =ROUND(SUM(M17:O17),2) -> 0
A18: 2 | B18: l.c. | C18: Pazemes tipa ķeta ekspluatācijas aizbīdnis DN 25 mm ar teleskopisko kāta pagarinātāju un kapi ar SIA "Rīgas ūdens" simboliku komplektā ar betona balstu zem aizbīdņa | D18: gab | E18: 1 | H18: =ROUND(F18*G18,2) -> 0 | K18: =ROUND(SUM(H18:J18),2) -> 0 | L18: =ROUND(F18*E18,2) -> 0 | M18: =ROUND(H18*E18,2) -> 0 | N18: =ROUND(I18*E18,2) -> 0 | O18: =ROUND(J18*E18,2) -> 0 | P18: =ROUND(SUM(M18:O18),2) -> 0
A19: 3 | B19: l.c. | C19: Universālā seglu uzmava PE caurulem OD300/ 1" (DN25) PN10 ar iekšējo vītni | D19: gab | E19: 1 | H19: =ROUND(F19*G19,2) -> 0 | K19: =ROUND(SUM(H19:J19),2) -> 0 | L19: =ROUND(F19*E19,2) -> 0 | M19: =ROUND(H19*E19,2) -> 0 | N19: =ROUND(I19*E19,2) -> 0 | O19: =ROUND(J19*E19,2) -> 0 | P19: =ROUND(SUM(M19:O19),2) -> 0
A20: 4 | B20: l.c. | C20: PE rūpnieciski ražota, siltināta aka bez dibena d500 H=1.2 m ar siltinātu vāku ( D400 slodzes klases vāku ), ar skaitītājas stiprinājuma konsoli un līkums DN15 90 grādi – 2gab; -trejgabals DN15/15 – 1 gab; pāreja DN25/15-2gab; lodveida ventilis DN25 – 2 gab; savienojušas uzmavas PE-tērauda caurulēm 32x1” - 2 gab; izlaides krāns DN15 – 1 gab; vienvirziena vārsts DN15 – 1 gab Piezīmēs-ROTON PM500 (vai ekvivalents) | D20: kpl | E20: 1 | H20: =ROUND(F20*G20,2) -> 0 | K20: =ROUND(SUM(H20:J20),2) -> 0 | L20: =ROUND(F20*E20,2) -> 0 | M20: =ROUND(H20*E20,2) -> 0 | N20: =ROUND(I20*E20,2) -> 0 | O20: =ROUND(J20*E20,2) -> 0 | P20: =ROUND(SUM(M20:O20),2) -> 0
A21: 5 | B21: l.c. | C21: Ūdens mērītājs DN15. Skaitītāju uzstāda SIA „Rīgas ūdens” | D21: kpl | E21: 1 | H21: =ROUND(F21*G21,2) -> 0 | K21: =ROUND(SUM(H21:J21),2) -> 0 | L21: =ROUND(F21*E21,2) -> 0 | M21: =ROUND(H21*E21,2) -> 0 | N21: =ROUND(I21*E21,2) -> 0 | O21: =ROUND(J21*E21,2) -> 0 | P21: =ROUND(SUM(M21:O21),2) -> 0
A22: 6 | B22: l.c. | C22: Brīdinājuma lenta | D22: m | E22: 14 | H22: =ROUND(F22*G22,2) -> 0 | K22: =ROUND(SUM(H22:J22),2) -> 0 | L22: =ROUND(F22*E22,2) -> 0 | M22: =ROUND(H22*E22,2) -> 0 | N22: =ROUND(I22*E22,2) -> 0 | O22: =ROUND(J22*E22,2) -> 0 | P22: =ROUND(SUM(M22:O22),2) -> 0
A23: 7 | B23: l.c. | C23: Ūdensvada dezinfekcijas un hidrauliskā pārbaudes darbi | D23: m | E23: 32 | H23: =ROUND(F23*G23,2) -> 0 | K23: =ROUND(SUM(H23:J23),2) -> 0 | L23: =ROUND(F23*E23,2) -> 0 | M23: =ROUND(H23*E23,2) -> 0 | N23: =ROUND(I23*E23,2) -> 0 | O23: =ROUND(J23*E23,2) -> 0 | P23: =ROUND(SUM(M23:O23),2) -> 0
C24: Grunts darbi | H24: =ROUND(F24*G24,2) -> 0 | K24: =ROUND(SUM(H24:J24),2) -> 0 | L24: =ROUND(F24*E24,2) -> 0 | M24: =ROUND(H24*E24,2) -> 0 | N24: =ROUND(I24*E24,2) -> 0 | O24: =ROUND(J24*E24,2) -> 0 | P24: =ROUND(SUM(M24:O24),2) -> 0
A25: 8 | B25: l.c. | C25: Tranšejas rakšana projektēta cauruļu motažai | D25: m3 | E25: 111 | H25: =ROUND(F25*G25,2) -> 0 | K25: =ROUND(SUM(H25:J25),2) -> 0 | L25: =ROUND(F25*E25,2) -> 0 | M25: =ROUND(H25*E25,2) -> 0 | N25: =ROUND(I25*E25,2) -> 0 | O25: =ROUND(J25*E25,2) -> 0 | P25: =ROUND(SUM(M25:O25),2) -> 0
A26: 9 | B26: l.c. | C26: Smilts pamatnes ierīkošana zem cauruļvadiem H=0.15m | D26: m3 | E26: 5 | H26: =ROUND(F26*G26,2) -> 0 | K26: =ROUND(SUM(H26:J26),2) -> 0 | L26: =ROUND(F26*E26,2) -> 0 | M26: =ROUND(H26*E26,2) -> 0 | N26: =ROUND(I26*E26,2) -> 0 | O26: =ROUND(J26*E26,2) -> 0 | P26: =ROUND(SUM(M26:O26),2) -> 0
C27: Ārējie tīkli K1 kanalizācija | H27: =ROUND(F27*G27,2) -> 0 | K27: =ROUND(SUM(H27:J27),2) -> 0 | L27: =ROUND(F27*E27,2) -> 0 | M27: =ROUND(H27*E27,2) -> 0 | N27: =ROUND(I27*E27,2) -> 0 | O27: =ROUND(J27*E27,2) -> 0 | P27: =ROUND(SUM(M27:O27),2) -> 0
A28: 10 | B28: l.c. | C28: PP daudzslāņu gludsienu pašteces kanalizācijas caurule OD160 ar berzes metinātu uzmavu un slēdzošu blīvgredzenu, ieguldīšanas klase SN8 (T8), iebūves dzīļums līdz 2.0 m, Evopipes (vai ekvivalents) | D28: m | E28: 18 | H28: =ROUND(F28*G28,2) -> 0 | K28: =ROUND(SUM(H28:J28),2) -> 0 | L28: =ROUND(F28*E28,2) -> 0 | M28: =ROUND(H28*E28,2) -> 0 | N28: =ROUND(I28*E28,2) -> 0 | O28: =ROUND(J28*E28,2) -> 0 | P28: =ROUND(SUM(M28:O28),2) -> 0
A29: 11 | B29: l.c. | C29: Esošā kanalizācijas aka rekonstrukcijas materiāli: a) Vāks zaļajā zonā komplektā ar nepieciešamajiem palīgmateriāliem; b) regulējamie gredzeni; c) kāpšļi, ievērojot LVS EN 13101 prasības | D29: kpl | E29: 1 | H29: =ROUND(F29*G29,2) -> 0 | K29: =ROUND(SUM(H29:J29),2) -> 0 | L29: =ROUND(F29*E29,2) -> 0 | M29: =ROUND(H29*E29,2) -> 0 | N29: =ROUND(I29*E29,2) -> 0 | O29: =ROUND(J29*E29,2) -> 0 | P29: =ROUND(SUM(M29:O29),2) -> 0
A30: 12 | B30: l.c. | C30: Plastmasas skatakas DN600 mm; H līdz 2.0m ar gofrēto akas korpusu, pamatni, blīvslēgu, teleskopisko cauruli, atbilstoša diametra, augstuma un leņķa pievienojumiem, vāks zaļajā zonā, slodzes klase B125, komplektā ar nepieciešamajiem palīgmateriāliem, apbetonējumu. Iebūves dziļums līdz 2.0 m. | D30: kpl | E30: 1 | H30: =ROUND(F30*G30,2) -> 0 | K30: =ROUND(SUM(H30:J30),2) -> 0 | L30: =ROUND(F30*E30,2) -> 0 | M30: =ROUND(H30*E30,2) -> 0 | N30: =ROUND(I30*E30,2) -> 0 | O30: =ROUND(J30*E30,2) -> 0 | P30: =ROUND(SUM(M30:O30),2) -> 0
A31: 13 | B31: l.c. | C31: Brīdinājuma lenta | D31: m | E31: 9 | H31: =ROUND(F31*G31,2) -> 0 | K31: =ROUND(SUM(H31:J31),2) -> 0 | L31: =ROUND(F31*E31,2) -> 0 | M31: =ROUND(H31*E31,2) -> 0 | N31: =ROUND(I31*E31,2) -> 0 | O31: =ROUND(J31*E31,2) -> 0 | P31: =ROUND(SUM(M31:O31),2) -> 0
A32: 14 | B32: l.c. | C32: Aizsargčaula OD160 mm dzelzsbetona akai | D32: gab | E32: 1 | H32: =ROUND(F32*G32,2) -> 0 | K32: =ROUND(SUM(H32:J32),2) -> 0 | L32: =ROUND(F32*E32,2) -> 0 | M32: =ROUND(H32*E32,2) -> 0 | N32: =ROUND(I32*E32,2) -> 0 | O32: =ROUND(J32*E32,2) -> 0 | P32: =ROUND(SUM(M32:O32),2) -> 0
A33: 15 | B33: l.c. | C33: Pieslēgums pie esošas kanalizācijai | D33: vieta | E33: 1 | H33: =ROUND(F33*G33,2) -> 0 | K33: =ROUND(SUM(H33:J33),2) -> 0 | L33: =ROUND(F33*E33,2) -> 0 | M33: =ROUND(H33*E33,2) -> 0 | N33: =ROUND(I33*E33,2) -> 0 | O33: =ROUND(J33*E33,2) -> 0 | P33: =ROUND(SUM(M33:O33),2) -> 0
A34: 16 | B34: l.c. | C34: Skalošana un TV diagnostika ar videokameru. | D34: m | E34: 18 | H34: =ROUND(F34*G34,2) -> 0 | K34: =ROUND(SUM(H34:J34),2) -> 0 | L34: =ROUND(F34*E34,2) -> 0 | M34: =ROUND(H34*E34,2) -> 0 | N34: =ROUND(I34*E34,2) -> 0 | O34: =ROUND(J34*E34,2) -> 0 | P34: =ROUND(SUM(M34:O34),2) -> 0
C35: Grunts darbi | H35: =ROUND(F35*G35,2) -> 0 | K35: =ROUND(SUM(H35:J35),2) -> 0 | L35: =ROUND(F35*E35,2) -> 0 | M35: =ROUND(H35*E35,2) -> 0 | N35: =ROUND(I35*E35,2) -> 0 | O35: =ROUND(J35*E35,2) -> 0 | P35: =ROUND(SUM(M35:O35),2) -> 0
A36: 17 | B36: l.c. | C36: Tranšejas rakšana projektēta cauruļu motažai | D36: m3 | E36: 37 | H36: =ROUND(F36*G36,2) -> 0 | K36: =ROUND(SUM(H36:J36),2) -> 0 | L36: =ROUND(F36*E36,2) -> 0 | M36: =ROUND(H36*E36,2) -> 0 | N36: =ROUND(I36*E36,2) -> 0 | O36: =ROUND(J36*E36,2) -> 0 | P36: =ROUND(SUM(M36:O36),2) -> 0
A37: 18 | B37: l.c. | C37: Smilts pamatnes ierīkošana zem cauruļvadiem H=0.15m | D37: m3 | E37: 3 | H37: =ROUND(F37*G37,2) -> 0 | K37: =ROUND(SUM(H37:J37),2) -> 0 | L37: =ROUND(F37*E37,2) -> 0 | M37: =ROUND(H37*E37,2) -> 0 | N37: =ROUND(I37*E37,2) -> 0 | O37: =ROUND(J37*E37,2) -> 0 | P37: =ROUND(SUM(M37:O37),2) -> 0
K38: Tiešas izmaksas kopā, t. sk. darba devēja sociālais nodoklis (23,59%): | L38: =SUM(L17:L37) -> 0 | M38: =SUM(M17:M37) -> 0 | N38: =SUM(N17:N37) -> 0 | O38: =SUM(O17:O37) -> 0 | P38: =SUM(P17:P37) -> 0
A41: Piezīmes:
A42: 1. Būvdarbu veicējam jāievērtē darbu apjomu sarakstā minēto darbu veikšanai nepieciešamie materiāli un papildus darbi, kas nav minēti šajā sarakstā, bet bez kuriem nebūtu iespējama būvdarbu tehnoloģiski pareiza un spēkā esošiem normatīviem atbilstoša veikšana pilnā apmērā.
A43: 2. Darbu apjomu sarakstu skatīt kopā ar būvprojektu, rasējumiem un specifikācijām. Gadījumā, ja darbu apjomi nesakrīt ar rasējumiem vai specifikācijām, pirms darbiem apjomus un būvdarbus precizēt kopā ar Pasūtītāju un/vai Pasūtītāja pārstāvi un pirms būvdarbu uzsākšanas rakstiski saskaņot ar Pasūtītāju būvdarbu veikšanas apjomu. Pasūtītājs ir tiesīgs noteikt tādu būvniecības apjomu (daudzumu), kāds nepieciešams būvprojekta īstenošanai un tā darbības nodrošināšanai, kā arī samazināt vai palielināt Līguma Pielikumos norādītos apjomus tāmēs.
A44: 3. Cauruļu apjoms norādīts orientējoši. Precīzu apjomu noteikt būvniecības laikā, pēc reālo kabeļu trasu un izbūves apstākļu noteikšanas. Palīgmateriālus un papildmateriālus ievērtēt, balstoties uz pieredzi līdzīgu objektu realizācijā. Materiālu sarakstu skatīt kopā ar citām projekta lapām. Materiālu sarakstam ir informatīvs raksturs.
A45: 4. Visi palīgmateriāli, stiprinājumi, savienojumi u.c.palīgkonstrukcijas, sistēmas marķēšana, tīrīšanas lūkas, gaisa vadu šķērsojumi ar sienām un pārsegumiem, akustiskie un ugunsdrošie blīvējimi, kā arī izpildshēmas un sistēmas pārbaudes jāiekļauj vienības izmaksās pie saistošajiem būvizstrādājumiem.
A46: 5. Materiālu komplektāciju veikt atbilstoši izstrādātājam būvprojektam, ražotāju un LR normatīvo aktu nosacījumiem, ņemt vērā, ka materiālu daudzums ir dots, neievertējot atgriezumus un pārlaidumus.
A47: 6. Visi saistītie darbi ar sastatņu, iekārtu montāžu, demontāžu, nosegplēvēm, celšanas mehānismiem un citiem mehānismiem jāiekļauj attiecīgo darbu izmaksās vai virsizdevumos.
A48: 7. Tāmēs ietvertos konkrēto ražotāju materiālus un izstrādājumus var aizvietot ar ekvivalentu, citu ražotāju materiāliem un izstrādājumiem, aizpildot tabulu PIEDĀVĀTIE EKVIVALENTI.
A49: 8. Skaidrojošais apraksts, t.i. visparīgas piezīmes, piezīmes par būvdarbu izpildes raksturojumu, par būvdarbu organizācijas aprakstu, par izpilddokumentāciju ir būvniecības tāmju neatņemama sastāvdaļa.
A51: Sastādīja: | J51: Pārbaudīja: | O51: (Sertifikāta Nr.________)
A52: paraksts, paraksta atšifrējums, datums | J52: paraksts, paraksta atšifrējums, datums

Sheet  15 Ārējie ELT 
C1: Lokālā tāme Nr.15
C2: Ārējie elektroapgādes tīkli (ELT)
C3: (būvdarbu veids vai konstruktīvā elementa nosaukums)
A4: ='14 ārējā UKT'!A5 -> Objekta nosaukums: Tramvaju galapunkta ēkas izbūve Tapešu iela 50A, Rīga
A5: ='14 ārējā UKT'!A6 -> Būves nosaukums: Jaunbūve
A6: ='14 ārējā UKT'!A7 -> Objekta adrese: Tapešu iela 50A, Rīga
A7: ='14 ārējā UKT'!A8 -> Pasūtītājs: RP SIA "Rīgas satiksme" | M7: Tāmes izmaksas, Euro: | N7: =P82 -> 0
A8: ='14 ārējā UKT'!A9 -> Izpildītājs: | C8: ='14 ārējā UKT'!C9 -> 0 | M8: Tāme sastādīta | N8: ='14 ārējā UKT'!O8 -> 0
A10: Tāme sastādīta 2026.gada tirgus cenās pamatojoties uz būvdarbu apjomiem.
A11: Nr.p.k. | B11: Kods | C11: Būvdarbu nosaukums | D11: Mērvienība | E11: Daudzums | F11: Vienības izmaksas | L11: Kopā uz visu apjomu
F12: laika norma (c/h) | G12: darba samaksas likme* (euro/h) | H12: darba alga | I12: būvizstrādājumi | J12: mehānismi | K12: kopā | L12: darbietilpība (c/h) | M12: darba alga | N12: būvizstrādājumi | O12: mehānismi | P12: summa
A14: 1 | B14: =A14+1 -> 2 | C14: =B14+1 -> 3 | D14: =C14+1 -> 4 | E14: =D14+1 -> 5 | F14: =E14+1 -> 6 | G14: =F14+1 -> 7 | H14: =G14+1 -> 8 | I14: =H14+1 -> 9 | ... P14: =O14+1 -> 16
C15: Lietotāja elektroapgādes tīkli
C16: Darbu izmaksas
A17: 1 | B17: l.c. | C17: Tranšejas rakšana un aizbēršana kabeļu (caurules) gūldīšanai | D17: m | E17: 72 | H17: =ROUND(F17*G17,2) -> 0 | K17: =ROUND(SUM(H17:J17),2) -> 0 | L17: =ROUND(F17*E17,2) -> 0 | M17: =ROUND(H17*E17,2) -> 0 | N17: =ROUND(I17*E17,2) -> 0 | O17: =ROUND(J17*E17,2) -> 0 | P17: =ROUND(SUM(M17:O17),2) -> 0
A18: 2 | B18: l.c. | C18: Kabeļu aizsargcaurules d=līdz 160 mm ieguldīšana gatavā tranšejā | D18: m | E18: 72 | H18: =ROUND(F18*G18,2) -> 0 | K18: =ROUND(SUM(H18:J18),2) -> 0 | L18: =ROUND(F18*E18,2) -> 0 | M18: =ROUND(H18*E18,2) -> 0 | N18: =ROUND(I18*E18,2) -> 0 | O18: =ROUND(J18*E18,2) -> 0 | P18: =ROUND(SUM(M18:O18),2) -> 0
A19: 2 | B19: l.c. | C19: ZS kabeļa līdz 16 mm2 ievēršana caurulē | D19: m | E19: 72 | H19: =ROUND(F19*G19,2) -> 0 | K19: =ROUND(SUM(H19:J19),2) -> 0 | L19: =ROUND(F19*E19,2) -> 0 | M19: =ROUND(H19*E19,2) -> 0 | N19: =ROUND(I19*E19,2) -> 0 | O19: =ROUND(J19*E19,2) -> 0 | P19: =ROUND(SUM(M19:O19),2) -> 0
A20: 3 | B20: l.c. | C20: ZS plastmasas izolācijas kabeļa līdz 35 mm2 gala apdares montāža | D20: gab | E20: 4 | H20: =ROUND(F20*G20,2) -> 0 | K20: =ROUND(SUM(H20:J20),2) -> 0 | L20: =ROUND(F20*E20,2) -> 0 | M20: =ROUND(H20*E20,2) -> 0 | N20: =ROUND(I20*E20,2) -> 0 | O20: =ROUND(J20*E20,2) -> 0 | P20: =ROUND(SUM(M20:O20),2) -> 0
A21: 3 | B21: l.c. | C21: Mikropāļu pamata montāža | D21: gb | E21: 3 | H21: =ROUND(F21*G21,2) -> 0 | K21: =ROUND(SUM(H21:J21),2) -> 0 | L21: =ROUND(F21*E21,2) -> 0 | M21: =ROUND(H21*E21,2) -> 0 | N21: =ROUND(I21*E21,2) -> 0 | O21: =ROUND(J21*E21,2) -> 0 | P21: =ROUND(SUM(M21:O21),2) -> 0
A22: 4 | B22: l.c. | C22: Staba C11/13.0 montāža | D22: gb | E22: 2 | H22: =ROUND(F22*G22,2) -> 0 | K22: =ROUND(SUM(H22:J22),2) -> 0 | L22: =ROUND(F22*E22,2) -> 0 | M22: =ROUND(H22*E22,2) -> 0 | N22: =ROUND(I22*E22,2) -> 0 | O22: =ROUND(J22*E22,2) -> 0 | P22: =ROUND(SUM(M22:O22),2) -> 0
A23: 4 | B23: l.c. | C23: Staba C11/20.0 montāža | D23: gb | E23: 1 | H23: =ROUND(F23*G23,2) -> 0 | K23: =ROUND(SUM(H23:J23),2) -> 0 | L23: =ROUND(F23*E23,2) -> 0 | M23: =ROUND(H23*E23,2) -> 0 | N23: =ROUND(I23*E23,2) -> 0 | O23: =ROUND(J23*E23,2) -> 0 | P23: =ROUND(SUM(M23:O23),2) -> 0
A24: 5 | B24: l.c. | C24: Piekarkabeļa demontāža | D24: m | E24: 8 | H24: =ROUND(F24*G24,2) -> 0 | K24: =ROUND(SUM(H24:J24),2) -> 0 | L24: =ROUND(F24*E24,2) -> 0 | M24: =ROUND(H24*E24,2) -> 0 | N24: =ROUND(I24*E24,2) -> 0 | O24: =ROUND(J24*E24,2) -> 0 | P24: =ROUND(SUM(M24:O24),2) -> 0
A25: 5 | B25: l.c. | C25: Staba demontāža | D25: gb | E25: 3 | H25: =ROUND(F25*G25,2) -> 0 | K25: =ROUND(SUM(H25:J25),2) -> 0 | L25: =ROUND(F25*E25,2) -> 0 | M25: =ROUND(H25*E25,2) -> 0 | N25: =ROUND(I25*E25,2) -> 0 | O25: =ROUND(J25*E25,2) -> 0 | P25: =ROUND(SUM(M25:O25),2) -> 0
A26: 6 | B26: l.c. | C26: Staba pamata demotāža | D26: gb | E26: 3 | H26: =ROUND(F26*G26,2) -> 0 | K26: =ROUND(SUM(H26:J26),2) -> 0 | L26: =ROUND(F26*E26,2) -> 0 | M26: =ROUND(H26*E26,2) -> 0 | N26: =ROUND(I26*E26,2) -> 0 | O26: =ROUND(J26*E26,2) -> 0 | P26: =ROUND(SUM(M26:O26),2) -> 0
A27: 6 | B27: l.c. | C27: Troses demontāža | D27: m | E27: 143 | H27: =ROUND(F27*G27,2) -> 0 | K27: =ROUND(SUM(H27:J27),2) -> 0 | L27: =ROUND(F27*E27,2) -> 0 | M27: =ROUND(H27*E27,2) -> 0 | N27: =ROUND(I27*E27,2) -> 0 | O27: =ROUND(J27*E27,2) -> 0 | P27: =ROUND(SUM(M27:O27),2) -> 0
A28: 7 | B28: l.c. | C28: Kontaktvada demontāža | D28: m | E28: 43 | H28: =ROUND(F28*G28,2) -> 0 | K28: =ROUND(SUM(H28:J28),2) -> 0 | L28: =ROUND(F28*E28,2) -> 0 | M28: =ROUND(H28*E28,2) -> 0 | N28: =ROUND(I28*E28,2) -> 0 | O28: =ROUND(J28*E28,2) -> 0 | P28: =ROUND(SUM(M28:O28),2) -> 0
C29: Materiālu izmaksas | H29: =ROUND(F29*G29,2) -> 0 | K29: =ROUND(SUM(H29:J29),2) -> 0 | L29: =ROUND(F29*E29,2) -> 0 | M29: =ROUND(H29*E29,2) -> 0 | N29: =ROUND(I29*E29,2) -> 0 | O29: =ROUND(J29*E29,2) -> 0 | P29: =ROUND(SUM(M29:O29),2) -> 0
A30: 15 | B30: l.c. | C30: Z/spr. daudzdzīslu kabelis ar Al dzīslām Al-1-4x16 mm2 | D30: m | E30: 42 | H30: =ROUND(F30*G30,2) -> 0 | K30: =ROUND(SUM(H30:J30),2) -> 0 | L30: =ROUND(F30*E30,2) -> 0 | M30: =ROUND(H30*E30,2) -> 0 | N30: =ROUND(I30*E30,2) -> 0 | O30: =ROUND(J30*E30,2) -> 0 | P30: =ROUND(SUM(M30:O30),2) -> 0
A31: 16 | B31: l.c. | C31: Z/spr. daudzdzīslu kabelis ar Cu dzīslām NYY-J-3x4 mm2 | D31: m | E31: 30 | H31: =ROUND(F31*G31,2) -> 0 | K31: =ROUND(SUM(H31:J31),2) -> 0 | L31: =ROUND(F31*E31,2) -> 0 | M31: =ROUND(H31*E31,2) -> 0 | N31: =ROUND(I31*E31,2) -> 0 | O31: =ROUND(J31*E31,2) -> 0 | P31: =ROUND(SUM(M31:O31),2) -> 0
A32: 17 | B32: l.c. | C32: Kabeļa aizsargcaurule Ø50 (450N) | D32: m | E32: 30 | H32: =ROUND(F32*G32,2) -> 0 | K32: =ROUND(SUM(H32:J32),2) -> 0 | L32: =ROUND(F32*E32,2) -> 0 | M32: =ROUND(H32*E32,2) -> 0 | N32: =ROUND(I32*E32,2) -> 0 | O32: =ROUND(J32*E32,2) -> 0 | P32: =ROUND(SUM(M32:O32),2) -> 0
A33: 18 | B33: l.c. | C33: Kabeļa aizsargcaurule Ø110 (750N) | D33: m | E33: 42 | H33: =ROUND(F33*G33,2) -> 0 | K33: =ROUND(SUM(H33:J33),2) -> 0 | L33: =ROUND(F33*E33,2) -> 0 | M33: =ROUND(H33*E33,2) -> 0 | N33: =ROUND(I33*E33,2) -> 0 | O33: =ROUND(J33*E33,2) -> 0 | P33: =ROUND(SUM(M33:O33),2) -> 0
A34: 19 | B34: l.c. | C34: Kabeļa gala apdare | D34: kpl | E34: 4 | H34: =ROUND(F34*G34,2) -> 0 | K34: =ROUND(SUM(H34:J34),2) -> 0 | L34: =ROUND(F34*E34,2) -> 0 | M34: =ROUND(H34*E34,2) -> 0 | N34: =ROUND(I34*E34,2) -> 0 | O34: =ROUND(J34*E34,2) -> 0 | P34: =ROUND(SUM(M34:O34),2) -> 0
A35: 20 | B35: l.c. | C35: Kontakttīkla balsts 13.0 kN (RAL 7039) | D35: gb | E35: 2 | H35: =ROUND(F35*G35,2) -> 0 | K35: =ROUND(SUM(H35:J35),2) -> 0 | L35: =ROUND(F35*E35,2) -> 0 | M35: =ROUND(H35*E35,2) -> 0 | N35: =ROUND(I35*E35,2) -> 0 | O35: =ROUND(J35*E35,2) -> 0 | P35: =ROUND(SUM(M35:O35),2) -> 0
A36: 21 | B36: l.c. | C36: Kontakttīkla balsts 20.0 kN (RAL 7039) | D36: gb | E36: 1 | H36: =ROUND(F36*G36,2) -> 0 | K36: =ROUND(SUM(H36:J36),2) -> 0 | L36: =ROUND(F36*E36,2) -> 0 | M36: =ROUND(H36*E36,2) -> 0 | N36: =ROUND(I36*E36,2) -> 0 | O36: =ROUND(J36*E36,2) -> 0 | P36: =ROUND(SUM(M36:O36),2) -> 0
A37: 22 | B37: l.c. | C37: Mikropāļa pamats (pamata specifikāciju skatīt rasējuma lapā ELT.T-P1) | D37: kpl | E37: 3 | H37: =ROUND(F37*G37,2) -> 0 | K37: =ROUND(SUM(H37:J37),2) -> 0 | L37: =ROUND(F37*E37,2) -> 0 | M37: =ROUND(H37*E37,2) -> 0 | N37: =ROUND(I37*E37,2) -> 0 | O37: =ROUND(J37*E37,2) -> 0 | P37: =ROUND(SUM(M37:O37),2) -> 0
A38: 23 | B38: l.c. | C38: Signāllenta kabeļlīnijai, platums 125 mm | D38: m | E38: 72 | H38: =ROUND(F38*G38,2) -> 0 | K38: =ROUND(SUM(H38:J38),2) -> 0 | L38: =ROUND(F38*E38,2) -> 0 | M38: =ROUND(H38*E38,2) -> 0 | N38: =ROUND(I38*E38,2) -> 0 | O38: =ROUND(J38*E38,2) -> 0 | P38: =ROUND(SUM(M38:O38),2) -> 0
C39: Lietotāja apgaismojuma tīkli | H39: =ROUND(F39*G39,2) -> 0 | K39: =ROUND(SUM(H39:J39),2) -> 0 | L39: =ROUND(F39*E39,2) -> 0 | M39: =ROUND(H39*E39,2) -> 0 | N39: =ROUND(I39*E39,2) -> 0 | O39: =ROUND(J39*E39,2) -> 0 | P39: =ROUND(SUM(M39:O39),2) -> 0
C40: Darbu izmaksas | H40: =ROUND(F40*G40,2) -> 0 | K40: =ROUND(SUM(H40:J40),2) -> 0 | L40: =ROUND(F40*E40,2) -> 0 | M40: =ROUND(H40*E40,2) -> 0 | N40: =ROUND(I40*E40,2) -> 0 | O40: =ROUND(J40*E40,2) -> 0 | P40: =ROUND(SUM(M40:O40),2) -> 0
A41: 26 | B41: l.c. | C41: Tranšejas rakšana un aizbēršana kabeļu (caurules) gūldīšanai | D41: m | E41: 64 | H41: =ROUND(F41*G41,2) -> 0 | K41: =ROUND(SUM(H41:J41),2) -> 0 | L41: =ROUND(F41*E41,2) -> 0 | M41: =ROUND(H41*E41,2) -> 0 | N41: =ROUND(I41*E41,2) -> 0 | O41: =ROUND(J41*E41,2) -> 0 | P41: =ROUND(SUM(M41:O41),2) -> 0
A42: 27 | B42: l.c. | C42: Kabeļu aizsargcaurules d=līdz 160 mm ieguldīšana gatavā tranšejā | D42: m | E42: 64 | H42: =ROUND(F42*G42,2) -> 0 | K42: =ROUND(SUM(H42:J42),2) -> 0 | L42: =ROUND(F42*E42,2) -> 0 | M42: =ROUND(H42*E42,2) -> 0 | N42: =ROUND(I42*E42,2) -> 0 | O42: =ROUND(J42*E42,2) -> 0 | P42: =ROUND(SUM(M42:O42),2) -> 0
A43: 28 | B43: l.c. | C43: ZS kabeļa līdz 16 mm2 ievēršana caurulē | D43: m | E43: 84 | H43: =ROUND(F43*G43,2) -> 0 | K43: =ROUND(SUM(H43:J43),2) -> 0 | L43: =ROUND(F43*E43,2) -> 0 | M43: =ROUND(H43*E43,2) -> 0 | N43: =ROUND(I43*E43,2) -> 0 | O43: =ROUND(J43*E43,2) -> 0 | P43: =ROUND(SUM(M43:O43),2) -> 0
A44: 29 | B44: l.c. | C44: ZS kabeļa 3x1.5 mm2 montāža balstā | D44: m | E44: 47 | H44: =ROUND(F44*G44,2) -> 0 | K44: =ROUND(SUM(H44:J44),2) -> 0 | L44: =ROUND(F44*E44,2) -> 0 | M44: =ROUND(H44*E44,2) -> 0 | N44: =ROUND(I44*E44,2) -> 0 | O44: =ROUND(J44*E44,2) -> 0 | P44: =ROUND(SUM(M44:O44),2) -> 0
A45: 30 | B45: l.c. | C45: ZS plastmasas izolācijas kabeļa līdz 35 mm2 gala apdares montāža | D45: gab | E45: 8 | H45: =ROUND(F45*G45,2) -> 0 | K45: =ROUND(SUM(H45:J45),2) -> 0 | L45: =ROUND(F45*E45,2) -> 0 | M45: =ROUND(H45*E45,2) -> 0 | N45: =ROUND(I45*E45,2) -> 0 | O45: =ROUND(J45*E45,2) -> 0 | P45: =ROUND(SUM(M45:O45),2) -> 0
A46: 31 | B46: l.c. | C46: Gaismekļu montāža TKT balstos pieslēgšana, ieregulēšana, izpildot visus nepieciešamos blakusdarbus | D46: kpl | E46: 3 | H46: =ROUND(F46*G46,2) -> 0 | K46: =ROUND(SUM(H46:J46),2) -> 0 | L46: =ROUND(F46*E46,2) -> 0 | M46: =ROUND(H46*E46,2) -> 0 | N46: =ROUND(I46*E46,2) -> 0 | O46: =ROUND(J46*E46,2) -> 0 | P46: =ROUND(SUM(M46:O46),2) -> 0
A47: 32 | B47: l.c. | C47: Apgaismojuma balsta ar vienu g.ķ. montāža, pieslēgšana, ieregulēšana, izpildot visus nepieciešamos blakusdarbus | D47: kpl | E47: 2 | H47: =ROUND(F47*G47,2) -> 0 | K47: =ROUND(SUM(H47:J47),2) -> 0 | L47: =ROUND(F47*E47,2) -> 0 | M47: =ROUND(H47*E47,2) -> 0 | N47: =ROUND(I47*E47,2) -> 0 | O47: =ROUND(J47*E47,2) -> 0 | P47: =ROUND(SUM(M47:O47),2) -> 0
A48: 33 | B48: l.c. | C48: Balstu numerācija | D48: balsts | E48: 4 | H48: =ROUND(F48*G48,2) -> 0 | K48: =ROUND(SUM(H48:J48),2) -> 0 | L48: =ROUND(F48*E48,2) -> 0 | M48: =ROUND(H48*E48,2) -> 0 | N48: =ROUND(I48*E48,2) -> 0 | O48: =ROUND(J48*E48,2) -> 0 | P48: =ROUND(SUM(M48:O48),2) -> 0
A49: 34 | B49: l.c. | C49: Balsta zemējuma montāžā | D49: gab | E49: 4 | H49: =ROUND(F49*G49,2) -> 0 | K49: =ROUND(SUM(H49:J49),2) -> 0 | L49: =ROUND(F49*E49,2) -> 0 | M49: =ROUND(H49*E49,2) -> 0 | N49: =ROUND(I49*E49,2) -> 0 | O49: =ROUND(J49*E49,2) -> 0 | P49: =ROUND(SUM(M49:O49),2) -> 0
A50: 35 | B50: l.c. | C50: Zemējuma pretestības mērīšana | D50: gab | E50: 4 | H50: =ROUND(F50*G50,2) -> 0 | K50: =ROUND(SUM(H50:J50),2) -> 0 | L50: =ROUND(F50*E50,2) -> 0 | M50: =ROUND(H50*E50,2) -> 0 | N50: =ROUND(I50*E50,2) -> 0 | O50: =ROUND(J50*E50,2) -> 0 | P50: =ROUND(SUM(M50:O50),2) -> 0
A51: 36 | B51: l.c. | C51: Apgaismojuma balsta demontāža ar pamatni | D51: kpl | E51: 1 | H51: =ROUND(F51*G51,2) -> 0 | K51: =ROUND(SUM(H51:J51),2) -> 0 | L51: =ROUND(F51*E51,2) -> 0 | M51: =ROUND(H51*E51,2) -> 0 | N51: =ROUND(I51*E51,2) -> 0 | O51: =ROUND(J51*E51,2) -> 0 | P51: =ROUND(SUM(M51:O51),2) -> 0
C52: Materiālu izmaksas | H52: =ROUND(F52*G52,2) -> 0 | K52: =ROUND(SUM(H52:J52),2) -> 0 | L52: =ROUND(F52*E52,2) -> 0 | M52: =ROUND(H52*E52,2) -> 0 | N52: =ROUND(I52*E52,2) -> 0 | O52: =ROUND(J52*E52,2) -> 0 | P52: =ROUND(SUM(M52:O52),2) -> 0
A53: 38 | B53: l.c. | C53: Z/spr. daudzdzīslu kabelis ar Cu dzīslām NYY-J-4x10 mm2 | D53: m | E53: 84 | H53: =ROUND(F53*G53,2) -> 0 | K53: =ROUND(SUM(H53:J53),2) -> 0 | L53: =ROUND(F53*E53,2) -> 0 | M53: =ROUND(H53*E53,2) -> 0 | N53: =ROUND(I53*E53,2) -> 0 | O53: =ROUND(J53*E53,2) -> 0 | P53: =ROUND(SUM(M53:O53),2) -> 0
A54: 39 | B54: l.c. | C54: Kabeļa aizsargcaurule Ø75 (750N) | D54: m | E54: 64 | H54: =ROUND(F54*G54,2) -> 0 | K54: =ROUND(SUM(H54:J54),2) -> 0 | L54: =ROUND(F54*E54,2) -> 0 | M54: =ROUND(H54*E54,2) -> 0 | N54: =ROUND(I54*E54,2) -> 0 | O54: =ROUND(J54*E54,2) -> 0 | P54: =ROUND(SUM(M54:O54),2) -> 0
A55: 40 | B55: l.c. | C55: Niteko ICONA-XS-30W-3070-A2, 26W, 1xLED, 3000K, 3954lm ielas gaismeklis, CRI≥80, (optika saskaņā ar aprēķiniem pielikumā) , Zhaga BOOK 18 pieslēgums, ar DALI-2 protokolu, 10kV pārsprieguma aizsardzības bloku (vai ekvivalents) | D55: kpl | E55: 5 | H55: =ROUND(F55*G55,2) -> 0 | K55: =ROUND(SUM(H55:J55),2) -> 0 | L55: =ROUND(F55*E55,2) -> 0 | M55: =ROUND(H55*E55,2) -> 0 | N55: =ROUND(I55*E55,2) -> 0 | O55: =ROUND(J55*E55,2) -> 0 | P55: =ROUND(SUM(M55:O55),2) -> 0
A56: 41 | B56: l.c. | C56: Apgaismojuma konsole gaismekļiem L-veida 1,0/0.5/5 (TKT balsta) | D56: kpl | E56: 1 | H56: =ROUND(F56*G56,2) -> 0 | K56: =ROUND(SUM(H56:J56),2) -> 0 | L56: =ROUND(F56*E56,2) -> 0 | M56: =ROUND(H56*E56,2) -> 0 | N56: =ROUND(I56*E56,2) -> 0 | O56: =ROUND(J56*E56,2) -> 0 | P56: =ROUND(SUM(M56:O56),2) -> 0
