Workbook

Sheet Skaidrojošais apraksts
A2: Skaidrojošais apraksts
A3: =KT!A13 -> Objekta nosaukums: Tramvaju galapunkta ēkas izbūve Tapešu iela 50A, Rīga
A4: =KT!A15 -> Objekta adrese: Tapešu iela 50A, Rīga
A5: Vispārīgi
A6: 1 | B6: Tāmju izmaksu aprēķins ir sastādāms pamatojoties uz SIA ""Vides projektu studija" izstrādāto būvprojektu, norādēm, skicēm, materiālu un darbu specifikācijām tās saturā. Tāmju aprakstos ietvertais darbu apraksts atspoguļo min būvdarbu tehnoloģiju, konstrukciju raksturlielumus un markas. Tāmes aprēķins ir sastādāms saskaņā ar LBN 501-17 "Būvizmaksu noteikšanas kārtība" un iesniedzams elektroniskās tabulas Excel formātā ar aktīvām formulām. Darba devēja sociālais nodoklis 23,59 % ir iekļauts vienības cenās.
A7: 2 | B7: Konstrukciju un materiālu kopsavilkuma būvdarbu apjomus skatīt kopā ar būvdarbu apjomu sarakstu, būvprojekta dokumentāciju un grafisko daļu.
A8: 3 | B8: Izstrādājot piedāvājumu, Būvdarbu veicējam rūpīgi jāpārskata būvprojekts un apjomos jāiekļauj arī neuzrādītie darbi un materiāli (jārēķinās, ka materiālu apjomi doti nesablīvētā veidā), lai kvalitatīvi veiktu būvniecību atbilstoši konkrētā Būvdarbu veicēja pielietotajai tehnoloģijai, un bez kuriem nebūtu iespējama būvdarbu tehnoloģiski pareiza un spēkā esošajiem normatīviem atbilstoša veikšana pilnā apjomā. Darbu izmaksās jāiekļauj visi ar darba izpildi nepieciešamie izdevumi: tehniskajās specifikācijās prasību izpildei nepieciešamie izdevumi, izdevumi normatīvajos aktos un būvdarbu līgumā norādīto būvtāfeļu un informatīvo plakātu izgatavošanai, uzstādīšanai un demontāžai, izdevumi, ierīkojot pagaidu stiprinājumus (rievsienas) būvdarbu laikā atbilstoši nepieciešamībai, izdevumi visu skarto un bojāto segumu atjaunošanai pēc būvdarbu pabeigšanas.
A9: 4 | B9: Materiālu komplektāciju veikt atbilstoši izstrādātājām būvprojektam, ražotāju un LR normatīvo aktu nosacījumiem, jāņemj vērā, ka materiālu daudzums ir dots (ja dots), neievertējot atgriezumus un stiegrojuma pārlaidumus.
A10: 5 | B10: Tāmē uzrādītos materiālus iespējams aizvietot ar ekvivalentiem (līdzvērtīgiem), Latvijā sertificētiem attiecīgās nozares materiāliem, tos norādot tāmes sadaļā "Ekvivalents".
A11: 6 | B11: Būvdarbu veicējam jāparedz un jāiekļauj cenās visi ar darba izpildi saistītie izdevumi, to skaitā: uzmērīšana un nospraušana; visi, ar minēto darbu sarakstu saistīti sagatavošanas darbi, nobeiguma, teritorijas sakārtošanas darbi un darbi, kas tāmē nav minēti, kā atsevišķi darbi, bet ir nepieciešami, lai darbu kvalitāte atbilstu līguma, LVS, LR likumu un normatīvu prasībām; mobilizācija un demobilizācija; palīgteritoriju iegūšana un uzturēšana; saskaņojumu un atļauju iegūšana; sanitāro un drošības normu ievērošana; satiksmes organizēšana; nepieciešamās dokumentācijas un atļauju noformēšana; darba izpildes u.c. nepieciešamo projektu izstrāde (mērījumi, aprēķini, rasējumi, apraksti, plāni, grafiki u.tml.); kvalitātes nodrošināšana un kontrole (paraugu ņemšana, testēšana, uzmērījumi, dokumentēšana, kvalitātes procedūras, preventīvās darbības u.tml.); būvmateriālu un būvizstrādājumu sagatavošana, uzglabāšana, piegādēm un iestrādei; iekārtas un ar tām saistītajiem izdevumiem; pagaidu (papildu darbiem, lai izpildītu pamatdarbu) darbi; darbaspēks; vispārējās saistības, atbildības un risku nodrošinājums; organizācija un administrēšana; tiesību aktos noteikto nodokļu un nodevu nomaksa, izņemot pievienotās vērtības nodokli; izpilddokumentācijas sagatavošana 1 eksempārā, t.i.izpildīto darbu mērījumi, diagrammas, akti, segto darbu akti, deklarācijas, materiālu sertifikāti, detalizētas izpildshēmas ar augstuma atzīmēm un piesaistēm, tehniskā dokumentācija); jebkuru citu būvprojektā, Tehniskajās specifikācijās minēto darbu pozīciju, kas nav atsevišķi norādītas citviet, izmaksas; jāvērtē visi nepieciešamie darbi, materiāli, būvmašīnas un transports, bez kā nevarētu būt iespējama darba daudzumu sarakstā minēto darbu tehnoloģiski pareiza, Pasūtītāja prasībām atbilstoša izpilde pilnā apjomā.
A12: 7 | B12: Visas atsauces uz iekārtu, materiālu un izstrādājumu ražotājiem, kuri norādīti tāmē, liecina tikai par šo izstrādājumu un iekārtu kvalitātes un apkalpošanas līmeni. Norādīto iekārtu un materiālu nomaiņa ir iespējama ar citām ekvivalentām vai labākām.
A13: 8 | B13: Nepieciešamības gadījumā, zemes darbu izmaksās jāparedz tranšeju sienu nostiprināšana kā arī virsūdens un gruntsūdens atsūknēšana.
A14: 9 | B14: Segumu atjaunošana veicama, saskaņā ar Rīgas domes saistošiem noteikumiem Nr. RD-23-217-sn "Par Rīgas valstspilsētas pašvaldības īpašumā esošo ceļu pārvaldību".
A15: 10 | B15: Tāmes pozīcijās, ja nav atsevišķi uzrādīts, jāparedz arī materiālu iebūves un montāžas izmaksas.
A16: 11 | B16: Pirms un pēc veicamo darbu pabeigšanas veikt fotofiksāciju un uzrādīt Pasūtītāja pilnvarotajiem pārstāvjiem.
A17: 12 | B17: Būvlaukuma ierīkošanas un uzturēšanas izmaksas visam būvniecības periodam, būvgružu savākšanas un utilizēšanas izmaksas, ja tās nav iekļautas kādā tāmes pozīcijā ir iekļaujamas attiecīgā darba pozīcijā.
A18: Būvdarbu izpildes un visu apstākļu (tai skaitā apgrūtinošo) raksturojums vai atbilstoša atsauce uz tehniskajām specifikācijām
A19: 13 | B19: Būvdarbu izpildei nav paredzami īpaši apstākļi, izņemot nepieciešamību nodrošināt objekta nepārtrauktu darbību būvdarbu laikā, teritorijas uzturēšanu (pēc Būvlaukuma nodošanas akta parakstīšanas, kas tiks fiksēkts ar konstatācijas aktu). Būvlaukuma uzturēšanas izmaksas jāiekļauj pozīciju cenās.
A20: 14 | B20: Ja atsevišķus darbu posmus būs nepieciešams veikt ārpus darba laika vai nakts laikā, tas iepriekš jāsaskaņo ar Pasūtītāju.
A21: 15 | B21: Veicot būvdarbus nedrīkst ietekmēt un traucēt sabiedriskā transporta kustību un autobusu parka ekspluatāciju. Ja būvdarbi nav izpildāmi bez ierobežojumiem sabiedriskā transporta kustībai, ierobežojumi, pirms to veikšanas, saskaņojami ar Pasūtītāju.
A22: 16 | B22: Būvdarbi veicami un būvizstrādājumi pielietojami saskaņā ar ražotāju tehnoloģijām, tehnisko specifikāciju.
A23: 17 | B23: Tāmē dotās atsauces uz konkrētu ražotāju izstrādājumiem ir, kā kvalitātes standarts. Būvdarbu veicējs un pasūtītājs būvniecības laikā drīkst izmantot citus izstrādājumus, kuru tehniskie un kvalitātes rādītāji ir ekvivalenti vai augstāki nekā projektā norādītajiem.
A24: 18 | B24: Esošus kabeļus, t.i. spēka kabeļus, vājstrāvas kabeļus, 20kV kabeļus nosegt darbu zonā (t.i. kabeļu aizsardzības izveidošana pret meh. bojāšanu ievietojot aisargcaurulēs) un atpakaļ ievietot kanālos un bedrē.
A25: 19 | B25: Palīgmateriālu, palīgierīču, stirpinājumu un citu palīglietu, kā arī izpilddokumentācijas izstrādes izmaksas jāiekļauj attiecīgo darbu izmaksās vai virsizdevumos
A26: Būvdarbu organizācijas īss apraksts
A27: 20 | B27: Būvdarbu izpilde ir paredzēta kārtās : 1) būvobjekta izbūvēšana 2) pagaidu pieturu, celiņu, pieslēgumu un ēku demontāža, vietas pēc pagaidu konstrukcijām sakārtošana un zalāja atjaunošana. Prognozējamais būvdarbiem nepieciešamais laiks: būvdarbu veikšanai - 6 (seši) mēneši, dokumentācijas noformēšanai un nodošanai ekspluatācijā - 1 (viens) mēnesis.
A28: 21 | B28: Būvdarbu laikā nodrošināt gājēju un transporta līdzekļu drošu pārvietošanos gar būvdarbu zonu.
A29: 22 | B29: Būvdarbu darbietilpību atspoguļot lokālajā tāmē.
A30: 23 | B30: Visu pozīciju vienības cenās ievērtēt gan darbu, gan būvizstrādājumu apjomu izmaksas un rezervi ietverot materiālu piegādi, izkraušanu, pacelšanu objektā un tml.
A31: 24 | B31: Būvgružu savākšanas un utilizācijas izmaksas, kā arī materiālu pārvietošanas (pacelšana uz konkrēto stāvu, vai sastaņiem) iekļaujamas katra attiecīgā darba mehānismu izmaksās (piemēram, demontāžas darbi, konteinera izvešana, sienas siltināšana), ja tāmē nav paredzētas attiecīgas pozīcijas. Būvgružu savākšanas un utilizācijas izmaksas iekļaujamas katra attiecīgā darba mehānismu izmaksās (piemēram konteinera noma un izvešana), kā arī materiālu pārvietošana, piegāde. Visus elektroinstalācijas vadus ievietot gofrā, aizsargcaurules.
A32: 25 | B32: Būvdarbu veicējam jāparedz un jānodrošina, ka būvdarbu laikā netiks slēgta tramvaju galapunkta darbība, līdz ar to, jānodrošina nepārtraukta tramvaju galapunkta un ekspluatācija bez pārtraukumiem, kas ilgst visu objekta būvdarbu laiku, kamēr būvobjekts netiks nodots ekspluatācijā. Būvdarbu veicējam jāsagatavot un jāsaskaņot ar Pasūtītāju un attiecīgo pašvaldību pagaidu pieturu, celiņu un pagaidu tramvaja vadītāju ēkas (tai skaitā tualetes) izvietojumu. Pamatojoties uz Pasūtītāja iesniegto skici, sagatavot divus pagaidu ēkas pārvietošanas variantus (skatīt pievienoto shēmu). Lēmums par izvēlēto variantu tiks pieņemts atbilstoši būvvaldes saskaņotajam risinājumam, kā arī izstrādāt DVP saskaņā ar Pasūtītāja iesniegto informāciju un skici un pamatojoties uz shēmu jānodrošina: 1) tramvaju personāla un pasažieru drošu pārvietošanu uz pieturām un atpakaļ; 2) pagaidu iekāpšanas un izkāpšanas vietas organizēšanu un uzturēšanu, t.i. pagaidu platformu ierīkošana- cietu 35 metru garu pagaidu platformu ar cieto segumu un piekļuvi pasažieriem, pagaidu stabu ar ceļazīmēm izvietošanu (tramvaja pietures un vairākas norādes uz pagaidu pieturu); 3) tramvaja vadītāju pagaidu izmitināšanas (kopā ar tualeti) ierīkošanu un uzturēšanu, t.i. esošu pagaidu ēku pārnešanu uz pagaidu pamatiem un pagaidu pieslēgumu organizēšanu, 4) pēc būvobjekta nodošanas jānodrošina: ▪ pagaidu pieturas pilnība demontāžu, ▪ pagaidu ēkas atslēgšanu, pārvietošana un norādītā vietā izkraušana Ganību dambī 32, Rīga un nodošanu Pasūtītajam, ▪ vietas sakārtošana, zaļajā atjaunošanu, t.i. apzaļumošana ar augu zemi NN-3, zāliena sējiens (sēklu maisījums industriālām platībām) ar sijātu melnzemes bērumu, h=15cm.
A33: 26 | B33: Būvdarbu veicējam nav jāveic nojumes un logotipa iegāde un piegāde. Nojumi un logotipu iegādi un piegādi nodrošina Pasūtītājs un izsniedz būvdarbu veicējam.
A34: Izpilddokumentācija
A35: 27 | B35: Ja kādiem tāmē norādītiem darbiem nav paredzēti sagatavošanas darbi, būvlaukuma iekārtošana, pagaidu būvju uzstādīšana/izbūve, būvzonas nosegšana/izbūve vai grīdas nosegšana, satiksmes organizēšana (Būvtāfele, Zīme "Bīstama zona", Ceļazīme būvdarba laikā, pārvietojami strādnieku vagoniņš, būvžogs / norobežojums ar vārtiem, prožektori, atkritumu konteiners, BIO tualete, atļauju saņemšana un noslēgšana u.tml.), izpilddokumentācijas sagatavošana, tad visas papildu izmaksas ir iekļaujamas virsizdevumos. Izpilddokumentācija - montāžas un segto darbu akti, būvizstrādājumu deklarācijas, būvizstrādājumu tehniskā informācija/dokumentācija, būvizstrādājumu apstiprināšanas formas, sistēmu pārbaudes un pieņemšanas akti, būvdarbu izpildshēmas (dwg un pdf formātā), apstiprināti atzinumi saskaņā ar MK noteikumu Nr.238 6. un 7.pielikumu, iekārtu ekspluatācijas dokumentācija, izmaksas par apmācību objekta iekārtu lietošanā, būvizstrādājumu un iekārtu testēšanu, iestatījumu uzstādīšana, salāgošana u.c. dokumentācija atbilstoši normatīvo aktu prasībām.
A36: 28 | B36: Virsizdevumos iekļaujamas arī visas izmaksas, kas attiecas uz dokumentācijas sagatavošanu, iesniegšanu un atļauju/saskaņojumu/atzinumu saņemšanu darbu procesa uzsākšanai, nodrošināšanai un nodošanai ekspluatācijā, t.sk.: - atzīmes par būvdarbu uzsākšanas nosacījumu izpildi saņemšana; - rakšanas atļauju saņemšana; - izpilduzmērījumu plānu sagatavošana un reģistrēšana; - ēkas vai telpu grupas kadastrālās uzmērīšanas pasūtīšana (apmaksu veic Pasūtītājs, pamatojoties uz iesniegto VZD rēķinu); - atzinumu par ēkas vai tās daļas gatavību ekspluatācijai saņemšana; - ēkas energoefektivitātes pagaidu sertifikāta sagatavošana (ja nepieciešams nodošanai ekspluatācijā); - objekta nodošana ekspluatācijā; - zemēšanas kontūra pretestības mērīšana; - sistēmu palaišanas un regulēšanas darbi, testēšana, lietošanas instrukcijas, Pasūtītāja darbinieku apmacība; - citi dokumenti un darbības, ka nepieciešamas sekmīgai procesu un būvdarbu noslēgšanai.

Sheet KT
C4: APSTIPRINU
C6: (pasūtītāja paraksts un tā atšifrējums)
C7: Z.V.
C8: _____.gada____.____________
B11: Būvniecības koptāme
A13: Objekta nosaukums: Tramvaju galapunkta ēkas izbūve Tapešu iela 50A, Rīga
A14: Būves nosaukums: Jaunbūve
A15: Objekta adrese: Tapešu iela 50A, Rīga
A16: Pasūtītājs: RP SIA "Rīgas satiksme"
A17: Izpildītājs:
B19: Tāme sastādīta
A21: Nr.p.k. | B21: Objekta nosaukums | C21: Objekta izmaksas (euro)
A22: 1 | B22: Tramvaju galapunkta ēka | C22: ='KPS '!E34 -> 0
B23: Kopā: | C23: =C22 -> 0
B25: PVN(21%): | C25: =ROUND(C23*0.21,2) -> 0
A27: Kopā ar PVN 21%: | C27: =C23+C25 -> 0
B31: (paraksts, tā atšifrējums, datums)
A33: * Skaidrojošais apraksts, t.i. visparīgas piezīmes, piezīmes par būvdarbu izpildes raksturojumu, par būvdarbu organizācijas aprakstu, par izpilddokumentāciju ir būvniecības tāmju neatņemama sastāvdaļa.

Sheet KPS 
C2: Kopsavilkuma aprēķins
C3: Tramvaju galapunkta ēka
A4: =KT!A13 -> Objekta nosaukums: Tramvaju galapunkta ēkas izbūve Tapešu iela 50A, Rīga
A5: =KT!A14 -> Būves nosaukums: Jaunbūve
A6: =KT!A15 -> Objekta adrese: Tapešu iela 50A, Rīga
A7: =KT!A16 -> Pasūtītājs: RP SIA "Rīgas satiksme"
A8: =KT!A17 -> Izpildītājs: | C8: =KT!B17 -> 0
C9: Par kopējo summu, EUR | D9: =E34 -> 0 | H9: Tāme sastādīta | I9: =KT!C19 -> 0
C10: Kopējā darbietilpība, c/st. | D10: =I30 -> 0
A11: Nr.p.k. | B11: Kods, tāmes Nr. | C11: Būvdarbu veids vai konstruktīvā elementa nosaukums | E11: Tāmes izmaksas | F11: tai skaitā | I11: Darbietilpība (c/h)
F12: darba alga | G12: būvizstrādājumi | H12: mehānismi
A13: 1 | B13: 0 | C13: ='0 sagat'!C2 -> Sagatavošanas darbi | E13: ='0 sagat'!P22 -> 0 | F13: ='0 sagat'!M22 -> 0 | G13: ='0 sagat'!N22 -> 0 | H13: ='0 sagat'!O22 -> 0 | I13: ='0 sagat'!L22 -> 0
A14: 2 | B14: 1 | C14: ='1 ELT_Augst Tīkls teritorijā'!A2 -> Pagaidu ārējā elektroapgāde, ja objekta elektroapgāde teik nodrošināta no AS “ Augstsprieguma tīkls” teritorijas | E14: ='1 ELT_Augst Tīkls teritorijā'!P25 -> 0 | F14: ='1 ELT_Augst Tīkls teritorijā'!M25 -> 0 | G14: ='1 ELT_Augst Tīkls teritorijā'!N25 -> 0 | H14: ='1 ELT_Augst Tīkls teritorijā'!O25 -> 0 | I14: ='1 ELT_Augst Tīkls teritorijā'!L25 -> 0
A15: 3 | B15: 2 | C15: ='2 ELT_no ST sadalnes'!A2 -> Pagaidu ārējā elektroapgāde, ja Objekta elektroapgāde tiek nodrošināta no AS “Sadales tīkls” uzskaites sadalnes | E15: ='2 ELT_no ST sadalnes'!P20 -> 0 | F15: ='2 ELT_no ST sadalnes'!M20 -> 0 | G15: ='2 ELT_no ST sadalnes'!N20 -> 0 | H15: ='2 ELT_no ST sadalnes'!O20 -> 0 | I15: ='2 ELT_no ST sadalnes'!L20 -> 0
A16: 4 | B16: 3 | C16: ='3 zem, dem'!C2 -> Sagatavošanas, zemes un demontāžas darbi | E16: ='3 zem, dem'!P26 -> 0 | F16: ='3 zem, dem'!M26 -> 0 | G16: ='3 zem, dem'!N26 -> 0 | H16: ='3 zem, dem'!O26 -> 0 | I16: ='3 zem, dem'!L26 -> 0
A17: 5 | B17: 4 | C17: ='4 Pamati'!C2 -> Pamatu izbūve | E17: ='4 Pamati'!P29 -> 0 | F17: ='4 Pamati'!M29 -> 0 | G17: ='4 Pamati'!N29 -> 0 | H17: ='4 Pamati'!O29 -> 0 | I17: ='4 Pamati'!L29 -> 0
A18: 6 | B18: 5 | C18: ='5 konst'!C2 -> Koka konstrukcijas | E18: ='5 konst'!P35 -> 0 | F18: ='5 konst'!M35 -> 0 | G18: ='5 konst'!N35 -> 0 | H18: ='5 konst'!O35 -> 0 | I18: ='5 konst'!L35 -> 0
A19: 7 | B19: 6 | C19: ='6 Jumts'!C2 -> Jumta izbūves darbi | E19: ='6 Jumts'!P28 -> 0 | F19: ='6 Jumts'!M28 -> 0 | G19: ='6 Jumts'!N28 -> 0 | H19: ='6 Jumts'!O28 -> 0 | I19: ='6 Jumts'!L28 -> 0
A20: 8 | B20: 7 | C20: ='7 Iekš apd'!C2 -> Iekšējās apdares darbi | E20: ='7 Iekš apd'!P38 -> 0 | F20: ='7 Iekš apd'!M38 -> 0 | G20: ='7 Iekš apd'!N38 -> 0 | H20: ='7 Iekš apd'!O38 -> 0 | I20: ='7 Iekš apd'!L38 -> 0
A21: 9 | B21: 8 | C21: ='8 Durvis un vārti'!C2 -> Durvis un vārti | E21: ='8 Durvis un vārti'!P23 -> 0 | F21: ='8 Durvis un vārti'!M23 -> 0 | G21: ='8 Durvis un vārti'!N23 -> 0 | H21: ='8 Durvis un vārti'!O23 -> 0 | I21: ='8 Durvis un vārti'!L23 -> 0
A22: 10 | B22: 9 | C22: ='9 Fasāde'!C2 -> Fasādes apdare | E22: ='9 Fasāde'!P27 -> 0 | F22: ='9 Fasāde'!M27 -> 0 | G22: ='9 Fasāde'!N27 -> 0 | H22: ='9 Fasāde'!O27 -> 0 | I22: ='9 Fasāde'!L27 -> 0
A23: 11 | B23: 10 | C23: ='10 Elekt iekš'!C2 -> Elektroapgāde (iekšējā) | E23: ='10 Elekt iekš'!P65 -> 0 | F23: ='10 Elekt iekš'!M65 -> 0 | G23: ='10 Elekt iekš'!N65 -> 0 | H23: ='10 Elekt iekš'!O65 -> 0 | I23: ='10 Elekt iekš'!L65 -> 0
A24: 12 | B24: 11 | C24: ='[1]9'!C2 -> Elektronisko sakaru sistēmas | E24: ='11 Elktr sak sist'!P77 -> 0 | F24: ='11 Elktr sak sist'!M77 -> 0 | G24: ='11 Elktr sak sist'!N77 -> 0 | H24: ='11 Elktr sak sist'!O77 -> 0 | I24: ='11 Elktr sak sist'!L77 -> 0
A25: 13 | B25: 12 | C25: ='12 ŪK iekš'!C2 -> Ūdensapgāde un kanalizācija, iekšējā (UK sadaļa) | E25: ='12 ŪK iekš'!P40 -> 0 | F25: ='12 ŪK iekš'!M40 -> 0 | G25: ='12 ŪK iekš'!N40 -> 0 | H25: ='12 ŪK iekš'!O40 -> 0 | I25: ='12 ŪK iekš'!L40 -> 0
A26: 14 | B26: 13 | C26: ='13 Apk vent kond'!C2 -> Apkures ventilācijas un kondicionēšanas sistēmas | E26: ='13 Apk vent kond'!P60 -> 0 | F26: ='13 Apk vent kond'!M60 -> 0 | G26: ='13 Apk vent kond'!N60 -> 0 | H26: ='13 Apk vent kond'!O60 -> 0 | I26: ='13 Apk vent kond'!L60 -> 0
A27: 15 | B27: 14 | C27: ='14 ārējā UKT'!C2 -> Ūdensapgāde un kanalizācija, ārējā (UKT sadaļa) | E27: ='14 ārējā UKT'!P38 -> 0 | F27: ='14 ārējā UKT'!M38 -> 0 | G27: ='14 ārējā UKT'!N38 -> 0 | H27: ='14 ārējā UKT'!O38 -> 0 | I27: ='14 ārējā UKT'!L38 -> 0
A28: 16 | B28: 15 | C28: =' 15 Ārējie ELT '!C2 -> Ārējie elektroapgādes tīkli (ELT) | E28: =' 15 Ārējie ELT '!P82 -> 0 | F28: =' 15 Ārējie ELT '!M82 -> 0 | G28: =' 15 Ārējie ELT '!N82 -> 0 | H28: =' 15 Ārējie ELT '!O82 -> 0 | I28: =' 15 Ārējie ELT '!L82 -> 0
A29: 17 | B29: 16 | C29: ='16 Labiek'!C2 -> Labiekārtošanas darbi | E29: ='16 Labiek'!P40 -> 0 | F29: ='16 Labiek'!M40 -> 0 | G29: ='16 Labiek'!N40 -> 0 | H29: ='16 Labiek'!O40 -> 0 | I29: ='16 Labiek'!L40 -> 0
C30: Tiešās izmaksas kopā: | E30: =SUM(E13:E29) -> 0 | F30: =SUM(F13:F29) -> 0 | G30: =SUM(G13:G29) -> 0 | H30: =SUM(H13:H29) -> 0 | I30: =SUM(I13:I29) -> 0
C31: Virsizdevumi | E31: =ROUND(E30*D31,2) -> 0
C32: t.sk. darba aizsardzība: | E32: =ROUND(E31*D32,2) -> 0
C33: Peļņa | E33: =ROUND(E30*D33,2) -> 0
B34: Pavisam kopā | E34: =E30+E31+E33 -> 0
A37: Skaidrojošais apraksts, t.i. visparīgas piezīmes, piezīmes par būvdarbu izpildes raksturojumu, par būvdarbu organizācijas aprakstu, par izpilddokumentāciju ir būvniecības tāmju neatņemama sastāvdaļa.
A40: Sastādīja:_______________________(_____________________)
B41: paraksts, paraksta atšifrējums
A43: Pārbaudīja:_______________________(_____________________)___.___.______(Sertifikāta Nr.________)
B44: paraksts, paraksta atšifrējums, datums

Sheet 0 sagat
C1: Lokālā tāme Nr.0
C2: Sagatavošanas darbi
C3: (būvdarbu veids vai konstruktīvā elementa nosaukums)
A5: =KT!A13 -> Objekta nosaukums: Tramvaju galapunkta ēkas izbūve Tapešu iela 50A, Rīga
A6: =KT!A14 -> Būves nosaukums: Jaunbūve
A7: =KT!A15 -> Objekta adrese: Tapešu iela 50A, Rīga | N7: Tāmes izmaksas, Euro: | O7: =P22 -> 0
A8: =KT!A16 -> Pasūtītājs: RP SIA "Rīgas satiksme" | N8: Tāme sastādīta | O8: ='KPS '!I9 -> 0
A9: =KT!A17 -> Izpildītājs: | C9: ='KPS '!C8 -> 0
A11: Tāme sastādīta 2026.gada tirgus cenās pamatojoties uz būvdarbu apjomiem.
A12: Nr. /p.k. | B12: Kods | C12: Būvdarbu nosaukums | D12: Mērvienība | E12: Daudzums | F12: Vienības izmaksas | L12: Kopā uz visu apjomu
F13: laika norma (c/h) | G13: darba samaksas likme* (euro/h) | H13: darba alga | I13: būvizstrādājumi | J13: mehānismi | K13: kopā | L13: darbietilpība (c/h) | M13: darba alga | N13: būvizstrādājumi | O13: mehānismi | P13: summa
A15: 1 | B15: =A15+1 -> 2 | C15: =B15+1 -> 3 | D15: =C15+1 -> 4 | E15: =D15+1 -> 5 | F15: =E15+1 -> 6 | G15: =F15+1 -> 7 | H15: =G15+1 -> 8 | I15: =H15+1 -> 9 | ... P15: =O15+1 -> 16
C16: SAGATAVOŠANAS DARBI
A17: 1 | B17: l.c. | C17: Sagatavot un saskaņot ar Pasūtītāju un attiecīgo pašvaldību pagaidu pieturu, celiņu un pagaidu tramvaja vadītāju ēkas (tai skaitā tualetes) izvietojumu. Pamatojoties uz Pasūtītāja iesniegto skici, sagatavot divus pagaidu ēkas pārvietošanas variantus (skatīt pievienoto shēmu). Lēmums par izvēlēto variantu tiks pieņemts atbilstoši būvvaldes saskaņotajam risinājumam, kā arī izstrādāt DVP saskaņā ar Pasūtītāja iesniegto informāciju un skici. | D17: objekts | E17: 1 | H17: =ROUND(F17*G17,2) -> 0 | K17: =ROUND(SUM(H17:J17),2) -> 0 | L17: =ROUND(F17*E17,2) -> 0 | M17: =ROUND(H17*E17,2) -> 0 | N17: =ROUND(I17*E17,2) -> 0 | O17: =ROUND(J17*E17,2) -> 0 | P17: =ROUND(SUM(M17:O17),2) -> 0
A18: 2 | B18: l.c. | C18: Tramvaju personāla droša pārvietošanas celiņu uz pagaidu tramvaja vadītāju ēkas organizēšana, ieskatot visus nepieciešamos materiālus un mehānismus (saskaņā ar Pasūtītāja iesniegto informāciju un skici) un uzturēšanu visu būvniecības laiku: ▪ celiņam jābūt 1.30m platumā no cieta seguma, piem. no šķembas vai frēzēta asfalta, ▪ pēc būvobjekta nodošanas pagaidu pieturas pilnība demontāža ▪ vietas sakārtošana, zaļajā atjaunošanu, t.i. apzaļumošana ar augu zemi NN-3, zāliena sējiens (sēklu maisījums industriālām platībām) ar sijātu melnzemes bērumu, h=15cm. | D18: m2 | E18: 30 | H18: =ROUND(F18*G18,2) -> 0 | K18: =ROUND(SUM(H18:J18),2) -> 0 | L18: =ROUND(F18*E18,2) -> 0 | M18: =ROUND(H18*E18,2) -> 0 | N18: =ROUND(I18*E18,2) -> 0 | O18: =ROUND(J18*E18,2) -> 0 | P18: =ROUND(SUM(M18:O18),2) -> 0
A19: 3 | B19: l.c. | C19: Tramvaju pasažieru uz pieturas un atpakaļ droša pārvietošanas celiņa gar sliedēm līdz asfaltētām trotuāram organizēšana, ieskatot visus nepieciešamos materiālus un mehānismus (saskaņā ar Pasūtītāja iesniegto informāciju un skici) un uzturēšanu visu būvniecības laiku: ▪ celiņam jābūt 1.30m platumā no cieta seguma, piem. no šķembas vai frēzēta asfalta, ▪ pēc būvobjekta nodošanas pagaidu pieturas pilnība demontāža, ▪ vietas sakārtošana, zaļajā atjaunošanu, t.i. apzaļumošana ar augu zemi NN-3, zāliena sējiens (sēklu maisījums industriālām platībām) ar sijātu melnzemes bērumu, h=15cm. | D19: m2 | E19: 180 | H19: =ROUND(F19*G19,2) -> 0 | K19: =ROUND(SUM(H19:J19),2) -> 0 | L19: =ROUND(F19*E19,2) -> 0 | M19: =ROUND(H19*E19,2) -> 0 | N19: =ROUND(I19*E19,2) -> 0 | O19: =ROUND(J19*E19,2) -> 0 | P19: =ROUND(SUM(M19:O19),2) -> 0
A20: 4 | B20: l.c. | C20: Pagaidu iekāpšanas un izkāpšanas vietu organizēšana, ieskatot visus nepieciešamos materiālus un mehānismus (saskaņā ar Pasūtītāja iesniegto informāciju un skici) un uzturēšanu visu būvniecības laiku: ▪ tramvaja pagaidu platformu ierīkošana - cieta 35 metru garu pagaidu platformu, 1.5m platumā ar cieto segumu piem. no šķembas vai frēzēta asfaltu un piekļuvi pasažieriem, ▪ Uz darbu veikšanas laiku aizklāt esošo pieturvietas zīmi, ▪ Izvietot informāciju par pieturvietas pārcelšanu (virziens, attālums), ▪ pagaidu stabu ar pagaidu tramvaja pieturvietas zīmi kopā ar sarakstiem, ▪ esošo miskasti pārvietot uz pagaidu pieturvietas, ▪ esošo soliņu pārvietot uz pagaidu pieturvietas, ▪ pēc būvobjekta nodošanas pagaidu pieturas ar visu aprīkojumu pilnība demontāža, utilizācija ▪ vietas sakārtošana, zaļajā atjaunošanu, t.i. apzaļumošana ar augu zemi NN-3zāliena sējiens (sēklu maisījums industriālām platībām) ar sijātu melnzemes bērumu, h=15cm. | D20: m2 | E20: 55 | H20: =ROUND(F20*G20,2) -> 0 | K20: =ROUND(SUM(H20:J20),2) -> 0 | L20: =ROUND(F20*E20,2) -> 0 | M20: =ROUND(H20*E20,2) -> 0 | N20: =ROUND(I20*E20,2) -> 0 | O20: =ROUND(J20*E20,2) -> 0 | P20: =ROUND(SUM(M20:O20),2) -> 0
A21: 5 | B21: l.c. | C21: Tramvaja vadītāju esošas pagaidu izmitināšanas ēkas, ieskaitot tualetes kabinas pārvietošana, ieskatot visus nepieciešamos materiālus, pieslēgums un mehānismus, t.i. ▪ esošu pagaidu ēku pārnešana uz pagaidu pamatiem, ▪ pieslēgumu pirms pārvietošanas tīklu atslēgšana un pagarināšana, ▪ pēc būvobjekta nodošanas, pagaidu ēkas atslēgšana no pieslēgumiem, vadu izolēšana vai demontāža, ▪ ēkas iekraušana, pārvietošana un norādītā vietā izkraušana Ganību dambī 32, Rīga un nodošanu Pasūtītajam (saskaņojot laiku ar Pasūtītāju), ▪ vietas sakārtošana, zaļajā atjaunošanu, t.i. apzaļumošana ar augu zemi NN-3, zāliena sējiens (sēklu maisījums industriālām platībām) ar sijātu melnzemes bērumu, h=15cm. | D21: gab | E21: 1 | H21: =ROUND(F21*G21,2) -> 0 | K21: =ROUND(SUM(H21:J21),2) -> 0 | L21: =ROUND(F21*E21,2) -> 0 | M21: =ROUND(H21*E21,2) -> 0 | N21: =ROUND(I21*E21,2) -> 0 | O21: =ROUND(J21*E21,2) -> 0 | P21: =ROUND(SUM(M21:O21),2) -> 0
K22: Tiešas izmaksas kopā, t. sk. darba devēja sociālais nodoklis (23,59%): | L22: =SUM(L17:L21) -> 0 | M22: =SUM(M17:M21) -> 0 | N22: =SUM(N17:N21) -> 0 | O22: =SUM(O17:O21) -> 0 | P22: =SUM(P17:P21) -> 0
A24: 1. Būvdarbu veicējam jāievērtē un jāiekļauj darbu apjomu sarakstā minēto darbu veikšanai nepieciešamie materiāli, papildus darbi un mehānismi, kas nav minēti šajā sarakstā, bet bez kuriem nebūtu iespējama būvdarbu tehnoloģiski pareiza un spēkā esošiem normatīviem atbilstoša veikšana pilnā apmērā.
A25: 2. Darbu apjomu sarakstu skatīt kopā ar būvprojektu, rasējumiem un specifikācijām. Gadījumā, ja darbu apjomi nesakrīt ar rasējumiem vai specifikācijām, pirms darbiem apjomus un būvdarbus precizēt kopā ar Pasūtītāju un/vai Pasūtītāja pārstāvi un pirms būvdarbu uzsākšanas rakstiski saskaņot ar Pasūtītāju būvdarbu veikšanas apjomu. Pasūtītājs ir tiesīgs noteikt tādu būvniecības apjomu (daudzumu), kāds nepieciešams būvprojekta īstenošanai un tā darbības nodrošināšanai, kā arī samazināt vai palielināt Līguma Pielikumos norādītos apjomus tāmēs.
A26: 3. Demontāžas darbu izmaksās jāiekļauj visa veida būvgružu izstrādes, izvešanas, izgāztuves izmaksas, kā arī jānodrošina pretputekļu pasākumi, norobežošana u.c.saistītās izmaksas.
A27: 4. Visi saistītie darbi ar iekārtu montāžu, demontāžu, nosegplēvēm, celšanas mehānismiem un citiem mehānismiem jāiekļauj attiecīgo darbu izmaksās vai virsizdevumos.
A28: 5. Visi palīgmateriāli, stiprinājumi, savienojumi u.c.palīgkonstrukcijas, kā arī izpildshēmas un sistēmas pārbaudes jāiekļauj vienības izmaksās pie saistošajiem būvizstrādājumiem.
A29: 6. Materiālu komplektāciju veikt atbilstoši izstrādātājam būvprojektam, ražotāju un LR normatīvo aktu nosacījumiem, ņemt vērā, ka materiālu daudzums ir dots, neievērtējot atgriezumus un pārlaidumus. Darbu veidiem, kuriem uzrādīta tilpuma mērvienība, tilpums ir materiāliem blīvā veidā. Būvdarbu veicējam jāievērtē Darbu apjomu tabulas vienības izmaksās minēto darbu veikšanai visi nepieciešamie materiāli un to daudzumi un papildus darbi, kas nav minēti šajā sarakstā, bet bez kuriem nebūtu iespējama būvdarbu tehnoloģiski pareiza un spēkā esošajiem normatīviem atbilstoša veikšana pilnā apjomā.
A30: 7. Tāmēs ietvertos konkrēto ražotāju materiālus un izstrādājumus var aizvietot ar ekvivalentu, citu ražotāju materiāliem un izstrādājumiem, aizpildot tabulu PIEDĀVĀTIE EKVIVALENTI.
A31: 8. Skaidrojošais apraksts, t.i. visparīgas piezīmes, piezīmes par būvdarbu izpildes raksturojumu, par būvdarbu organizācijas aprakstu, par izpilddokumentāciju ir būvniecības tāmju neatņemama sastāvdaļa.
A32: 9. Objektā nodrošināt būvniecības, sadzīves un bīstamo atkritumu dalīta savākšana, izvietojumu saskaņot ar Pasūtītāju. Būvgruži objektā tiek apsaimniekoti saskaņā ar “Atkritumu apsaimniekošanas likumu”. Būvdarbu veicējam ir pienākums nodot informāciju par uzņēmumu/iem un līgumu/iem, kuriem, darbu izpildes laikā, plānots nodot apsaimniekošanai sadzīves, bīstamos un būvniecības atkritumus. Kā arī periodiski iesniegt Pasūtītājam atkritumu pārvadājuma reģistrācijas kartes-pavadzīmes. Izvedot būvgružus, nepieciešamības gadījumā tiek paredzēta pašizgāzēju un vai citas tehnikas tīrīšana, lai nepieļautu izbraucamo ielu piegružošanu (tīrīšanu nodrošina ar ūdeni no pārvietojamiem traukiem).
A35: Sastādīja: | I35: Pārbaudīja: | N35: (Sertifikāta Nr.________)
A36: paraksts, paraksta atšifrējums, datums | I36: paraksts, paraksta atšifrējums, datums

Sheet 1 ELT_Augst Tīkls teritorijā
C1: Lokālā tāme Nr.1
A2: Pagaidu ārējā elektroapgāde, ja objekta elektroapgāde teik nodrošināta no AS “ Augstsprieguma tīkls” teritorijas
C3: (būvdarbu veids vai konstruktīvā elementa nosaukums)
A5: ='0 sagat'!A5 -> Objekta nosaukums: Tramvaju galapunkta ēkas izbūve Tapešu iela 50A, Rīga
A6: ='0 sagat'!A6 -> Būves nosaukums: Jaunbūve
A7: ='0 sagat'!A7 -> Objekta adrese: Tapešu iela 50A, Rīga | N7: Tāmes izmaksas, Euro: | O7: =P25 -> 0
A8: ='0 sagat'!A8 -> Pasūtītājs: RP SIA "Rīgas satiksme" | N8: Tāme sastādīta | O8: ='0 sagat'!O8 -> 0
A9: ='0 sagat'!A9 -> Izpildītājs: | C9: ='0 sagat'!C9 -> 0
A11: Tāme sastādīta 2026.gada tirgus cenās pamatojoties uz būvdarbu apjomiem.
A12: Nr. p.k. | B12: Kods | C12: Būvdarbu nosaukums | D12: Mērvienība | E12: Daudzums | F12: Vienības izmaksas | L12: Kopā uz visu apjomu
F13: laika norma (c/h) | G13: darba samaksas likme* (euro/h) | H13: darba alga | I13: būvizstrādājumi | J13: mehānismi | K13: kopā | L13: darbietilpība (c/h) | M13: darba alga | N13: būvizstrādājumi | O13: mehānismi | P13: summa
A15: 1 | B15: =A15+1 -> 2 | C15: =B15+1 -> 3 | D15: =C15+1 -> 4 | E15: =D15+1 -> 5 | F15: =E15+1 -> 6 | G15: =F15+1 -> 7 | H15: =G15+1 -> 8 | I15: =H15+1 -> 9 | ... P15: =O15+1 -> 16
C16: Ārējā elektroapgāde (*)
A17: 1 | B17: l.c. | C17: Tranšejas rakšana un aizbēršana viena līdz divu kabeļu (caurules) gūldīšanai 0.7m dziļumā | D17: m | E17: 2 | H17: =ROUND(F17*G17,2) -> 0 | K17: =ROUND(SUM(H17:J17),2) -> 0 | L17: =ROUND(F17*E17,2) -> 0 | M17: =ROUND(H17*E17,2) -> 0 | N17: =ROUND(I17*E17,2) -> 0 | O17: =ROUND(J17*E17,2) -> 0 | P17: =ROUND(SUM(M17:O17),2) -> 0
A18: 2 | B18: l.c. | C18: ZS pēcuzskaites kabeļa (AL-1-4x35mm², L=5m) ievēršana caurulē (450N, d=50 - tiek iekļauta ST daļas būvmateriālu apjomos) | D18: m | E18: 4 | H18: =ROUND(F18*G18,2) -> 0 | K18: =ROUND(SUM(H18:J18),2) -> 0 | L18: =ROUND(F18*E18,2) -> 0 | M18: =ROUND(H18*E18,2) -> 0 | N18: =ROUND(I18*E18,2) -> 0 | O18: =ROUND(J18*E18,2) -> 0 | P18: =ROUND(SUM(M18:O18),2) -> 0
A19: 3 | B19: l.c. | C19: Kabeļa gala apdares (1kV, 4 dz. kabe 4x16 lim līdz 35 mm2) montāža/stiprināšana/fāzēšana, pārbaude ar megommetru/datu plāksnītes (birkas) aizpildīšana un piestiprināšana. | D19: kpl. | E19: 2 | H19: =ROUND(F19*G19,2) -> 0 | K19: =ROUND(SUM(H19:J19),2) -> 0 | L19: =ROUND(F19*E19,2) -> 0 | M19: =ROUND(H19*E19,2) -> 0 | N19: =ROUND(I19*E19,2) -> 0 | O19: =ROUND(J19*E19,2) -> 0 | P19: =ROUND(SUM(M19:O19),2) -> 0
A20: 4 | B20: l.c. | C20: Vertikālā zemētāja (cinkots zemējuma elektrods d=20mm, l=1.5m), zemējuma vada (1x4mm2, L=2.5m), apaļdzelza (RD-10, PVC apvalkā, L=3m) montāža, t.sk. zemējuma izbūve un pievienošana sadalnei/iekārtai, izpildot visus savienojumus un pretrkorozijas krāsojumu, metāla konstrukciju zemēšanu | D20: kpl. | E20: 1 | H20: =ROUND(F20*G20,2) -> 0 | K20: =ROUND(SUM(H20:J20),2) -> 0 | L20: =ROUND(F20*E20,2) -> 0 | M20: =ROUND(H20*E20,2) -> 0 | N20: =ROUND(I20*E20,2) -> 0 | O20: =ROUND(J20*E20,2) -> 0 | P20: =ROUND(SUM(M20:O20),2) -> 0
A21: 5 | B21: l.c. | C21: Automātsslēdža 3C16A montāža uz DIN sliedes (pagaidu SS sadalnē) | D21: gab | E21: 1 | H21: =ROUND(F21*G21,2) -> 0 | K21: =ROUND(SUM(H21:J21),2) -> 0 | L21: =ROUND(F21*E21,2) -> 0 | M21: =ROUND(H21*E21,2) -> 0 | N21: =ROUND(I21*E21,2) -> 0 | O21: =ROUND(J21*E21,2) -> 0 | P21: =ROUND(SUM(M21:O21),2) -> 0
A22: 6 | B22: l.c. | C22: Pagaidu sadalnes SS pie ST US (sadalnes jumts ar izvadu uz augšu, IP43, v/a, ievadslēdzis 40A, pieslēgspailes vadam ar škērsgriezumu no 16 mm2 līdz 35 mm2, ar spaili zemējuma pieslēgšanai) montāža un uzstādīšana. Darbos ietilpst:: sadalnes uzstādīšana uzstādīt uz pamatnes, ieskaitot visus papildus darbus, stiprināšanu, slēdzenes montāžu, vadu un kabeļu fāzēšanu, marķēšanu, pievienošanu, operatīvie apzīmējumi. | D22: gab | E22: 1 | H22: =ROUND(F22*G22,2) -> 0 | K22: =ROUND(SUM(H22:J22),2) -> 0 | L22: =ROUND(F22*E22,2) -> 0 | M22: =ROUND(H22*E22,2) -> 0 | N22: =ROUND(I22*E22,2) -> 0 | O22: =ROUND(J22*E22,2) -> 0 | P22: =ROUND(SUM(M22:O22),2) -> 0
A23: 7 | B23: l.c. | C23: ZS esošā virszemes pievada demontāža Darbos ietilpst: kabeļa pievienojuma (visas fāzes+0) atvienošana abos galos | D23: gab | E23: 1 | H23: =ROUND(F23*G23,2) -> 0 | K23: =ROUND(SUM(H23:J23),2) -> 0 | L23: =ROUND(F23*E23,2) -> 0 | M23: =ROUND(H23*E23,2) -> 0 | N23: =ROUND(I23*E23,2) -> 0 | O23: =ROUND(J23*E23,2) -> 0 | P23: =ROUND(SUM(M23:O23),2) -> 0
A24: 8 | B24: l.c. | C24: Esošā ZS kabeļa montāža, virszemes Darbos ietilpst: kabeļa stiprināšana pie esošā balsta, kabeļa viena pievienojuma (visas fāzes+0) pievienošana sadalnei, kabeļa pagarinājums (ja nepeciešams), pagaidu balsta uzstādīšana (ja nepieciešams), datu plāksnītes (birkas) piestiprināšana/atjaunošana, pārbaudes. | D24: kompl. | E24: 1 | H24: =ROUND(F24*G24,2) -> 0 | K24: =ROUND(SUM(H24:J24),2) -> 0 | L24: =ROUND(F24*E24,2) -> 0 | M24: =ROUND(H24*E24,2) -> 0 | N24: =ROUND(I24*E24,2) -> 0 | O24: =ROUND(J24*E24,2) -> 0 | P24: =ROUND(SUM(M24:O24),2) -> 0
A25: Tiešas izmaksas kopā, t. sk. darba devēja sociālais nodoklis (23.59%): | L25: =SUM(L17:L24) -> 0 | M25: =SUM(M17:M24) -> 0 | N25: =SUM(N17:N24) -> 0 | O25: =SUM(O17:O24) -> 0 | P25: =SUM(P17:P24) -> 0
A27: Piezīmes:
A28: (*) darbi tiks veikti pie nosacījuma, ja Objekta elektroapgāde uz būvdarbu uzsākšanas laiku tiek nodrošināta no AS “Sadales tīkls” kabeļu sadalnes 545504 (atrodas AS “ Augstsprieguma tīkls” teritorijā).
A29: 1. Būvdarbu veicējam jāievērtē darbu apjomu sarakstā minēto darbu veikšanai nepieciešamie materiāli un papildus darbi, kas nav minēti šajā sarakstā, bet bez kuriem nebūtu iespējama būvdarbu tehnoloģiski pareiza un spēkā esošiem normatīviem atbilstoša veikšana pilnā apmērā.
A30: 2. Darbu apjomu sarakstu skatīt kopā ar būvprojektu, rasējumiem un specifikācijām. Gadījumā, ja darbu apjomi nesakrīt ar rasējumiem vai specifikācijām, pirms darbiem apjomus un būvdarbus precizēt kopā ar Pasūtītāju un/vai Pasūtītāja pārstāvi un pirms būvdarbu uzsākšanas rakstiski saskaņot ar Pasūtītāju būvdarbu veikšanas apjomu. Pasūtītājs ir tiesīgs noteikt tādu būvniecības apjomu (daudzumu), kāds nepieciešams būvprojekta īstenošanai un tā darbības nodrošināšanai, kā arī samazināt vai palielināt Līguma Pielikumos norādītos apjomus tāmēs.
A31: 3. Kabeļu un cauruļu apjoms norādīts orientējoši. Precīzu apjomu noteikt būvniecības laikā, pēc reālo kabeļu trasu un 'izbūves apstākļu noteikšanas. Palīgmateriālus un papildmateriālus ievērtēt, balstoties uz pieredzi līdzīgu objektu realizācijā.
A32: 4. Visi palīgmateriāli, stiprinājumi, savienojumi u.c.palīgkonstrukcijas, sistēmas marķēšana, tīrīšanas lūkas, gaisa vadu šķērsojumi ar sienām un pārsegumiem, akustiskie un ugunsdrošie blīvējimi, kā arī izpildshēmas un sistēmas pārbaudes jāiekļauj vienības izmaksās pie saistošajiem būvizstrādājumiem.
A33: 5. Materiālu komplektāciju veikt atbilstoši izstrādātājam būvprojektam, ražotāju un LR normatīvo aktu nosacījumiem, ņemt vērā, ka materiālu daudzums ir dots, neievertējot atgriezumus un pārlaidumus.
A34: 6. Visi saistītie darbi ar sastatņu, iekārtu montāžu, demontāžu, nosegplēvēm, celšanas mehānismiem un citiem mehānismiem jāiekļauj attiecīgo darbu izmaksās vai virsizdevumos.
A35: 7. Tāmēs ietvertos konkrēto ražotāju materiālus un izstrādājumus var aizvietot ar ekvivalentu, citu ražotāju materiāliem un izstrādājumiem, aizpildot tabulu PIEDĀVĀTIE EKVIVALENTI.
A36: 8. Skaidrojošais apraksts, t.i. visparīgas piezīmes, piezīmes par būvdarbu izpildes raksturojumu, par būvdarbu organizācijas aprakstu, par izpilddokumentāciju ir būvniecības tāmju neatņemama sastāvdaļa.
A38: Sastādīja: | J38: Pārbaudīja: | O38: (Sertifikāta Nr.________)
A39: paraksts, paraksta atšifrējums, datums | J39: paraksts, paraksta atšifrējums, datums

Sheet 2 ELT_no ST sadalnes
C1: Lokālā tāme Nr.2
A2: Pagaidu ārējā elektroapgāde, ja Objekta elektroapgāde tiek nodrošināta no AS “Sadales tīkls” uzskaites sadalnes
C3: (būvdarbu veids vai konstruktīvā elementa nosaukums)
A5: ='1 ELT_Augst Tīkls teritorijā'!A5 -> Objekta nosaukums: Tramvaju galapunkta ēkas izbūve Tapešu iela 50A, Rīga
A6: ='1 ELT_Augst Tīkls teritorijā'!A6 -> Būves nosaukums: Jaunbūve
A7: ='1 ELT_Augst Tīkls teritorijā'!A7 -> Objekta adrese: Tapešu iela 50A, Rīga
A8: ='1 ELT_Augst Tīkls teritorijā'!A8 -> Pasūtītājs: RP SIA "Rīgas satiksme" | N8: Tāmes izmaksas, Euro: | O8: =P20 -> 0
A9: ='1 ELT_Augst Tīkls teritorijā'!A9 -> Izpildītājs: | C9: ='1 ELT_Augst Tīkls teritorijā'!C9 -> 0 | N9: Tāme sastādīta | O9: ='1 ELT_Augst Tīkls teritorijā'!O8 -> 0
A11: Tāme sastādīta 2026.gada tirgus cenās pamatojoties uz būvdarbu apjomiem.
A12: Nr. p.k. | B12: Kods* | C12: Būvdarbu nosaukums | D12: Mērvienība | E12: Daudzums | F12: Vienības izmaksas | L12: Kopā uz visu apjomu
F13: laika norma (c/h) | G13: darba samaksas likme* (euro/h) | H13: darba alga | I13: būvizstrādājumi | J13: mehānismi | K13: kopā | L13: darbietilpība (c/h) | M13: darba alga | N13: būvizstrādājumi | O13: mehānismi | P13: summa
A15: 1 | B15: =A15+1 -> 2 | C15: =B15+1 -> 3 | D15: =C15+1 -> 4 | E15: =D15+1 -> 5 | F15: =E15+1 -> 6 | G15: =F15+1 -> 7 | H15: =G15+1 -> 8 | I15: =H15+1 -> 9 | ... P15: =O15+1 -> 16
C16: Ārējā elektroapgāde (**)
A17: 1 | B17: l.c. | C17: Kabeļa gala apdares (1kV, 4 dz. kabe 4x16 lim līdz 35 mm2) montāža/stiprināšana/fāzēšana, pārbaude ar megommetru/datu plāksnītes (birkas) aizpildīšana un piestiprināšana. | D17: kpl. | E17: 1 | H17: =ROUND(F17*G17,2) -> 0 | K17: =ROUND(SUM(H17:J17),2) -> 0 | L17: =ROUND(F17*E17,2) -> 0 | M17: =ROUND(H17*E17,2) -> 0 | N17: =ROUND(I17*E17,2) -> 0 | O17: =ROUND(J17*E17,2) -> 0 | P17: =ROUND(SUM(M17:O17),2) -> 0
A18: 2 | B18: l.c. | C18: ZS esošā virszemes pievada demontāža Darbos ietilpst: kabeļa pievienojuma (visas fāzes+0) atvienošana | D18: gab | E18: 1 | H18: =ROUND(F18*G18,2) -> 0 | K18: =ROUND(SUM(H18:J18),2) -> 0 | L18: =ROUND(F18*E18,2) -> 0 | M18: =ROUND(H18*E18,2) -> 0 | N18: =ROUND(I18*E18,2) -> 0 | O18: =ROUND(J18*E18,2) -> 0 | P18: =ROUND(SUM(M18:O18),2) -> 0
A19: 3 | B19: l.c. | C19: Esošā ZS kabeļa montāža, virszemes Darbos ietilpst: kabeļa viena pievienojuma (visas fāzes+0) pievienošana sadalnei, kabeļa pagarinājums (ja nepeciešams), pagaidu balsta uzstādīšana (ja nepeciešams) datu plāksnītes (birkas) piestiprināšana/atjaunošana, pārbaudes. | D19: kompl. | E19: 1 | H19: =ROUND(F19*G19,2) -> 0 | K19: =ROUND(SUM(H19:J19),2) -> 0 | L19: =ROUND(F19*E19,2) -> 0 | M19: =ROUND(H19*E19,2) -> 0 | N19: =ROUND(I19*E19,2) -> 0 | O19: =ROUND(J19*E19,2) -> 0 | P19: =ROUND(SUM(M19:O19),2) -> 0
A20: Tiešas izmaksas kopā, t. sk. darba devēja sociālais nodoklis (23.59%): | L20: =SUM(L17:L19) -> 0 | M20: =SUM(M17:M19) -> 0 | N20: =SUM(N17:N19) -> 0 | O20: =SUM(O17:O19) -> 0 | P20: =SUM(P17:P19) -> 0
A23: Piezīmes:
A24: (**) darbi tiks veikti pie nosacījuma, ja Objekta elektroapgāde uz būvdarbu uzsākšanas laiku tiek nodrošināta no AS “Sadales tīkls” uzskaites sadalnes U1-1/63(16A) (sk. ELT.T.-1).
A25: 1. Būvdarbu veicējam jāievērtē darbu apjomu sarakstā minēto darbu veikšanai nepieciešamie materiāli un papildus darbi, kas nav minēti šajā sarakstā, bet bez kuriem nebūtu iespējama būvdarbu tehnoloģiski pareiza un spēkā esošiem normatīviem atbilstoša veikšana pilnā apmērā.
A26: 2. Darbu apjomu sarakstu skatīt kopā ar būvprojektu, rasējumiem un specifikācijām. Gadījumā, ja darbu apjomi nesakrīt ar rasējumiem vai specifikācijām, pirms darbiem apjomus un būvdarbus precizēt kopā ar Pasūtītāju un/vai Pasūtītāja pārstāvi un pirms būvdarbu uzsākšanas rakstiski saskaņot ar Pasūtītāju būvdarbu veikšanas apjomu. Pasūtītājs ir tiesīgs noteikt tādu būvniecības apjomu (daudzumu), kāds nepieciešams būvprojekta īstenošanai un tā darbības nodrošināšanai, kā arī samazināt vai palielināt Līguma Pielikumos norādītos apjomus tāmēs.
A27: 3. Kabeļu un cauruļu apjoms norādīts orientējoši. Precīzu apjomu noteikt būvniecības laikā, pēc reālo kabeļu trasu un 'izbūves apstākļu noteikšanas. Palīgmateriālus un papildmateriālus ievērtēt, balstoties uz pieredzi līdzīgu objektu realizācijā.
A28: 4. Visi palīgmateriāli, stiprinājumi, savienojumi u.c.palīgkonstrukcijas, sistēmas marķēšana, tīrīšanas lūkas, gaisa vadu šķērsojumi ar sienām un pārsegumiem, akustiskie un ugunsdrošie blīvējimi, kā arī izpildshēmas un sistēmas pārbaudes jāiekļauj vienības izmaksās pie saistošajiem būvizstrādājumiem.
A29: 5. Materiālu komplektāciju veikt atbilstoši izstrādātājam būvprojektam, ražotāju un LR normatīvo aktu nosacījumiem, ņemt vērā, ka materiālu daudzums ir dots, neievertējot atgriezumus un pārlaidumus.
A30: 6. Visi saistītie darbi ar sastatņu, iekārtu montāžu, demontāžu, nosegplēvēm, celšanas mehānismiem un citiem mehānismiem jāiekļauj attiecīgo darbu izmaksās vai virsizdevumos.
A31: 7. Tāmēs ietvertos konkrēto ražotāju materiālus un izstrādājumus var aizvietot ar ekvivalentu, citu ražotāju materiāliem un izstrādājumiem, aizpildot tabulu PIEDĀVĀTIE EKVIVALENTI.
A32: 8. Skaidrojošais apraksts, t.i. visparīgas piezīmes, piezīmes par būvdarbu izpildes raksturojumu, par būvdarbu organizācijas aprakstu, par izpilddokumentāciju ir būvniecības tāmju neatņemama sastāvdaļa.
A34: Sastādīja: | J34: Pārbaudīja: | O34: (Sertifikāta Nr.________)
A35: paraksts, paraksta atšifrējums, datums | J35: paraksts, paraksta atšifrējums, datums

Sheet 3 zem, dem
C1: Lokālā tāme Nr.3
C2: Sagatavošanas, zemes un demontāžas darbi
C3: (būvdarbu veids vai konstruktīvā elementa nosaukums)
A5: =KT!A13 -> Objekta nosaukums: Tramvaju galapunkta ēkas izbūve Tapešu iela 50A, Rīga
A6: =KT!A14 -> Būves nosaukums: Jaunbūve
A7: =KT!A15 -> Objekta adrese: Tapešu iela 50A, Rīga | N7: Tāmes izmaksas, Euro: | O7: =P26 -> 0
A8: =KT!A16 -> Pasūtītājs: RP SIA "Rīgas satiksme" | N8: Tāme sastādīta | O8: ='KPS '!I9 -> 0
A9: =KT!A17 -> Izpildītājs: | C9: ='KPS '!C8 -> 0
A11: Tāme sastādīta 2026.gada tirgus cenās pamatojoties uz būvdarbu apjomiem.
A12: Nr. /p.k. | B12: Kods | C12: Būvdarbu nosaukums | D12: Mērvienība | E12: Daudzums | F12: Vienības izmaksas | L12: Kopā uz visu apjomu
F13: laika norma (c/h) | G13: darba samaksas likme* (euro/h) | H13: darba alga | I13: būvizstrādājumi | J13: mehānismi | K13: kopā | L13: darbietilpība (c/h) | M13: darba alga | N13: būvizstrādājumi | O13: mehānismi | P13: summa
A15: 1 | B15: =A15+1 -> 2 | C15: =B15+1 -> 3 | D15: =C15+1 -> 4 | E15: =D15+1 -> 5 | F15: =E15+1 -> 6 | G15: =F15+1 -> 7 | H15: =G15+1 -> 8 | I15: =H15+1 -> 9 | ... P15: =O15+1 -> 16
C16: SAGATAVOŠANAS DARBI
C17: DEMONTĀŽAS DARBI | H17: =ROUND(F17*G17,2) -> 0 | K17: =ROUND(SUM(H17:J17),2) -> 0 | L17: =ROUND(F17*E17,2) -> 0 | M17: =ROUND(H17*E17,2) -> 0 | N17: =ROUND(I17*E17,2) -> 0 | O17: =ROUND(J17*E17,2) -> 0 | P17: =ROUND(SUM(M17:O17),2) -> 0
A18: 1 | B18: l.c. | C18: Izcērtami koki, krūmi un celmi, tajā skaitā būvgružu savākšana un utilizācija. | D18: gb | E18: 9 | H18: =ROUND(F18*G18,2) -> 0 | K18: =ROUND(SUM(H18:J18),2) -> 0 | L18: =ROUND(F18*E18,2) -> 0 | M18: =ROUND(H18*E18,2) -> 0 | N18: =ROUND(I18*E18,2) -> 0 | O18: =ROUND(J18*E18,2) -> 0 | P18: =ROUND(SUM(M18:O18),2) -> 0
A19: 2 | B19: l.c. | C19: Pieturzīmes pārnešana par 1m, ieskatot visus nepieciešamos materiālus un mehānismus | D19: gb | E19: 1 | H19: =ROUND(F19*G19,2) -> 0 | K19: =ROUND(SUM(H19:J19),2) -> 0 | L19: =ROUND(F19*E19,2) -> 0 | M19: =ROUND(H19*E19,2) -> 0 | N19: =ROUND(I19*E19,2) -> 0 | O19: =ROUND(J19*E19,2) -> 0 | P19: =ROUND(SUM(M19:O19),2) -> 0
A20: 3 | B20: l.c. | C20: Nojumes, ieskaitot pamatnes demontāža, tajā skaitā būvgružu savākšana un utilizācija. | D20: kpl | E20: 1 | H20: =ROUND(F20*G20,2) -> 0 | K20: =ROUND(SUM(H20:J20),2) -> 0 | L20: =ROUND(F20*E20,2) -> 0 | M20: =ROUND(H20*E20,2) -> 0 | N20: =ROUND(I20*E20,2) -> 0 | O20: =ROUND(J20*E20,2) -> 0 | P20: =ROUND(SUM(M20:O20),2) -> 0
A21: 4 | B21: l.c. | C21: Esoša laukakmeņu bruģa seguma saudzīga demontāža ar saglabāšanu un turpmāku izmantošanu bruģēšanā | D21: m2 | E21: 2 | H21: =ROUND(F21*G21,2) -> 0 | K21: =ROUND(SUM(H21:J21),2) -> 0 | L21: =ROUND(F21*E21,2) -> 0 | M21: =ROUND(H21*E21,2) -> 0 | N21: =ROUND(I21*E21,2) -> 0 | O21: =ROUND(J21*E21,2) -> 0 | P21: =ROUND(SUM(M21:O21),2) -> 0
A22: 5 | B22: l.c. | C22: Esoša asfalta seguma demontāža, ieskaitot betona apmales, savākšana un utilizācija | D22: m2 | E22: 73 | H22: =ROUND(F22*G22,2) -> 0 | K22: =ROUND(SUM(H22:J22),2) -> 0 | L22: =ROUND(F22*E22,2) -> 0 | M22: =ROUND(H22*E22,2) -> 0 | N22: =ROUND(I22*E22,2) -> 0 | O22: =ROUND(J22*E22,2) -> 0 | P22: =ROUND(SUM(M22:O22),2) -> 0
A23: 6 | B23: l.c. | C23: Bruģa gājēju celiņa, ieskaitot betona apmales, pie pagaidu ēkas demontāža, savākšana un utilizācija | D23: m2 | E23: 8.7 | H23: =ROUND(F23*G23,2) -> 0 | K23: =ROUND(SUM(H23:J23),2) -> 0 | L23: =ROUND(F23*E23,2) -> 0 | M23: =ROUND(H23*E23,2) -> 0 | N23: =ROUND(I23*E23,2) -> 0 | O23: =ROUND(J23*E23,2) -> 0 | P23: =ROUND(SUM(M23:O23),2) -> 0
C24: ZEMES DARBI | H24: =ROUND(F24*G24,2) -> 0 | K24: =ROUND(SUM(H24:J24),2) -> 0 | L24: =ROUND(F24*E24,2) -> 0 | M24: =ROUND(H24*E24,2) -> 0 | N24: =ROUND(I24*E24,2) -> 0 | O24: =ROUND(J24*E24,2) -> 0 | P24: =ROUND(SUM(M24:O24),2) -> 0
A25: 7 | B25: l.c. | C25: Grunts izstrāde būvbedrē, iekļaujot grunts utilizēšanu | D25: m3 | E25: =(4.6+2)*(8.55+2)*0.65 -> 45.26 | H25: =ROUND(F25*G25,2) -> 0 | K25: =ROUND(SUM(H25:J25),2) -> 0 | L25: =ROUND(F25*E25,2) -> 0 | M25: =ROUND(H25*E25,2) -> 0 | N25: =ROUND(I25*E25,2) -> 0 | O25: =ROUND(J25*E25,2) -> 0 | P25: =ROUND(SUM(M25:O25),2) -> 0
K26: Tiešas izmaksas kopā, t. sk. darba devēja sociālais nodoklis (23,59%): | L26: =SUM(L17:L25) -> 0 | M26: =SUM(M17:M25) -> 0 | N26: =SUM(N17:N25) -> 0 | O26: =SUM(O17:O25) -> 0 | P26: =SUM(P17:P25) -> 0
A28: 1. Būvdarbu veicējam jāievērtē un jāiekļauj darbu apjomu sarakstā minēto darbu veikšanai nepieciešamie materiāli, papildus darbi un mehānismi, kas nav minēti šajā sarakstā, bet bez kuriem nebūtu iespējama būvdarbu tehnoloģiski pareiza un spēkā esošiem normatīviem atbilstoša veikšana pilnā apmērā.
A29: 2. Darbu apjomu sarakstu skatīt kopā ar būvprojektu, rasējumiem un specifikācijām. Gadījumā, ja darbu apjomi nesakrīt ar rasējumiem vai specifikācijām, pirms darbiem apjomus un būvdarbus precizēt kopā ar Pasūtītāju un/vai Pasūtītāja pārstāvi un pirms būvdarbu uzsākšanas rakstiski saskaņot ar Pasūtītāju būvdarbu veikšanas apjomu. Pasūtītājs ir tiesīgs noteikt tādu būvniecības apjomu (daudzumu), kāds nepieciešams būvprojekta īstenošanai un tā darbības nodrošināšanai, kā arī samazināt vai palielināt Līguma Pielikumos norādītos apjomus tāmēs.
A30: 3. Demontāžas darbu izmaksās jāiekļauj visa veida būvgružu izstrādes, izvešanas, izgāztuves izmaksas, kā arī jānodrošina pretputekļu pasākumi, norobežošana u.c.saistītās izmaksas.
A31: 4. Visi saistītie darbi ar iekārtu montāžu, demontāžu, nosegplēvēm, celšanas mehānismiem un citiem mehānismiem jāiekļauj attiecīgo darbu izmaksās vai virsizdevumos.
A32: 5. Visi palīgmateriāli, stiprinājumi, savienojumi u.c.palīgkonstrukcijas, kā arī izpildshēmas un sistēmas pārbaudes jāiekļauj vienības izmaksās pie saistošajiem būvizstrādājumiem.
A33: 6. Materiālu komplektāciju veikt atbilstoši izstrādātājam būvprojektam, ražotāju un LR normatīvo aktu nosacījumiem, ņemt vērā, ka materiālu daudzums ir dots, neievērtējot atgriezumus un pārlaidumus. Darbu veidiem, kuriem uzrādīta tilpuma mērvienība, tilpums ir materiāliem blīvā veidā. Būvdarbu veicējam jāievērtē Darbu apjomu tabulas vienības izmaksās minēto darbu veikšanai visi nepieciešamie materiāli un to daudzumi un papildus darbi, kas nav minēti šajā sarakstā, bet bez kuriem nebūtu iespējama būvdarbu tehnoloģiski pareiza un spēkā esošajiem normatīviem atbilstoša veikšana pilnā apjomā.
A34: 7. Tāmēs ietvertos konkrēto ražotāju materiālus un izstrādājumus var aizvietot ar ekvivalentu, citu ražotāju materiāliem un izstrādājumiem, aizpildot tabulu PIEDĀVĀTIE EKVIVALENTI.
A35: 8. Skaidrojošais apraksts, t.i. visparīgas piezīmes, piezīmes par būvdarbu izpildes raksturojumu, par būvdarbu organizācijas aprakstu, par izpilddokumentāciju ir būvniecības tāmju neatņemama sastāvdaļa.
A36: 9. Objektā nodrošināt būvniecības, sadzīves un bīstamo atkritumu dalīta savākšana, izvietojumu saskaņot ar Pasūtītāju. Būvgruži objektā tiek apsaimniekoti saskaņā ar “Atkritumu apsaimniekošanas likumu”. Būvdarbu veicējam ir pienākums nodot informāciju par uzņēmumu/iem un līgumu/iem, kuriem, darbu izpildes laikā, plānots nodot apsaimniekošanai sadzīves, bīstamos un būvniecības atkritumus. Kā arī periodiski iesniegt Pasūtītājam atkritumu pārvadājuma reģistrācijas kartes-pavadzīmes. Izvedot būvgružus, nepieciešamības gadījumā tiek paredzēta pašizgāzēju un vai citas tehnikas tīrīšana, lai nepieļautu izbraucamo ielu piegružošanu (tīrīšanu nodrošina ar ūdeni no pārvietojamiem traukiem).
A39: Sastādīja: | I39: Pārbaudīja: | N39: (Sertifikāta Nr.________)
A40: paraksts, paraksta atšifrējums, datums | I40: paraksts, paraksta atšifrējums, datums

Sheet 4 Pamati
C1: Lokālā tāme Nr.4
C2: Pamatu izbūve
C3: (būvdarbu veids vai konstruktīvā elementa nosaukums)
A5: ='3 zem, dem'!A5 -> Objekta nosaukums: Tramvaju galapunkta ēkas izbūve Tapešu iela 50A, Rīga
A6: ='3 zem, dem'!A6 -> Būves nosaukums: Jaunbūve
A7: ='3 zem, dem'!A7 -> Objekta adrese: Tapešu iela 50A, Rīga | N7: Tāmes izmaksas, Euro: | O7: =P29 -> 0
A8: ='3 zem, dem'!A8 -> Pasūtītājs: RP SIA "Rīgas satiksme" | N8: Tāme sastādīta | O8: ='KPS '!I9 -> 0
A9: ='3 zem, dem'!A9 -> Izpildītājs: | C9: ='3 zem, dem'!C9 -> 0
A11: Tāme sastādīta 2026.gada tirgus cenās pamatojoties uz būvdarbu apjomiem.
A12: Nr.p.k. | B12: Kods | C12: Būvdarbu nosaukums | D12: Mērvienība | E12: Daudzums | F12: Vienības izmaksas | L12: Kopā uz visu apjomu
F13: laika norma (c/h) | G13: darba samaksas likme* (euro/h) | H13: darba alga | I13: būvizstrādājumi | J13: mehānismi | K13: kopā | L13: darbietilpība (c/h) | M13: darba alga | N13: būvizstrādājumi | O13: mehānismi | P13: summa
A15: 1 | B15: =A15+1 -> 2 | C15: =B15+1 -> 3 | D15: =C15+1 -> 4 | E15: =D15+1 -> 5 | F15: =E15+1 -> 6 | G15: =F15+1 -> 7 | H15: =G15+1 -> 8 | I15: =H15+1 -> 9 | ... P15: =O15+1 -> 16
C16: Pamatu plātnes izbūve
A17: 1 | B17: l.c. | C17: Būvasu nospraušana dabā | D17: kpl | E17: 1 | H17: =ROUND(F17*G17,2) -> 0 | K17: =ROUND(SUM(H17:J17),2) -> 0 | L17: =ROUND(F17*E17,2) -> 0 | M17: =ROUND(H17*E17,2) -> 0 | N17: =ROUND(I17*E17,2) -> 0 | O17: =ROUND(J17*E17,2) -> 0 | P17: =ROUND(SUM(M17:O17),2) -> 0
A18: 2 | B18: l.c. | C18: Pamatnes ierīkošana no vidēji rupjas smilts (h=200mm) un tās blietēšana | D18: m3 | E18: 22.4 | H18: =ROUND(F18*G18,2) -> 0 | K18: =ROUND(SUM(H18:J18),2) -> 0 | L18: =ROUND(F18*E18,2) -> 0 | M18: =ROUND(H18*E18,2) -> 0 | N18: =ROUND(I18*E18,2) -> 0 | O18: =ROUND(J18*E18,2) -> 0 | P18: =ROUND(SUM(M18:O18),2) -> 0
A19: 3 | B19: l.c. | C19: Pamatnes ierīkošana no šķembām fr.20/40 un tās blietēšana | D19: m3 | E19: 5.1 | H19: =ROUND(F19*G19,2) -> 0 | K19: =ROUND(SUM(H19:J19),2) -> 0 | L19: =ROUND(F19*E19,2) -> 0 | M19: =ROUND(H19*E19,2) -> 0 | N19: =ROUND(I19*E19,2) -> 0 | O19: =ROUND(J19*E19,2) -> 0 | P19: =ROUND(SUM(M19:O19),2) -> 0
A20: 4 | B20: l.c. | C20: Vertikālās siltumizolācijas - ekstrudēta putupolistirola lokšņu Finnfoam FL300 vai ekvivalenta ieklāšana, b=100mm (vai ekvivalents) | D20: m3 | E20: 7 | H20: =ROUND(F20*G20,2) -> 0 | K20: =ROUND(SUM(H20:J20),2) -> 0 | L20: =ROUND(F20*E20,2) -> 0 | M20: =ROUND(H20*E20,2) -> 0 | N20: =ROUND(I20*E20,2) -> 0 | O20: =ROUND(J20*E20,2) -> 0 | P20: =ROUND(SUM(M20:O20),2) -> 0
A21: 5 | B21: l.c. | C21: Horizontālās siltumizolācijas - ekstrudēta putupolistirola lokšņu Finnfoam LB300 vai ekvivalenta ieklāšana, b=100mm (vai ekvivalents) | D21: m3 | E21: 1.45 | H21: =ROUND(F21*G21,2) -> 0 | K21: =ROUND(SUM(H21:J21),2) -> 0 | L21: =ROUND(F21*E21,2) -> 0 | M21: =ROUND(H21*E21,2) -> 0 | N21: =ROUND(I21*E21,2) -> 0 | O21: =ROUND(J21*E21,2) -> 0 | P21: =ROUND(SUM(M21:O21),2) -> 0
A22: 6 | B22: l.c. | C22: Siltumizolācijas - ekstrudēta putupolistirola lokšņu Finnfoam FI300 vai ekvivalenta ieklāšana, b=50mm pa ēkas perimetru (vai ekvivalents) | D22: m3 | E22: 0.8 | H22: =ROUND(F22*G22,2) -> 0 | K22: =ROUND(SUM(H22:J22),2) -> 0 | L22: =ROUND(F22*E22,2) -> 0 | M22: =ROUND(H22*E22,2) -> 0 | N22: =ROUND(I22*E22,2) -> 0 | O22: =ROUND(J22*E22,2) -> 0 | P22: =ROUND(SUM(M22:O22),2) -> 0
A23: 7 | B23: l.c. | C23: Polietilēna plēves 200ukm ieklāšana, ieskatot visus nepieciešamos materiālus un mehānismus | D23: m2 | E23: 37.4 | H23: =ROUND(F23*G23,2) -> 0 | K23: =ROUND(SUM(H23:J23),2) -> 0 | L23: =ROUND(F23*E23,2) -> 0 | M23: =ROUND(H23*E23,2) -> 0 | N23: =ROUND(I23*E23,2) -> 0 | O23: =ROUND(J23*E23,2) -> 0 | P23: =ROUND(SUM(M23:O23),2) -> 0
A24: 8 | B24: l.c. | C24: Stiegrojuma sieta B500B Ø16 montāža, ieskatot visus nepieciešamos materiālus un mehānismus | D24: kg | E24: 248.3 | H24: =ROUND(F24*G24,2) -> 0 | K24: =ROUND(SUM(H24:J24),2) -> 0 | L24: =ROUND(F24*E24,2) -> 0 | M24: =ROUND(H24*E24,2) -> 0 | N24: =ROUND(I24*E24,2) -> 0 | O24: =ROUND(J24*E24,2) -> 0 | P24: =ROUND(SUM(M24:O24),2) -> 0
A25: 9 | B25: l.c. | C25: Stiegrojuma sieta B500B Ø10 montāža, ieskatot visus nepieciešamos materiālus un mehānismus | D25: kg | E25: 392.6 | H25: =ROUND(F25*G25,2) -> 0 | K25: =ROUND(SUM(H25:J25),2) -> 0 | L25: =ROUND(F25*E25,2) -> 0 | M25: =ROUND(H25*E25,2) -> 0 | N25: =ROUND(I25*E25,2) -> 0 | O25: =ROUND(J25*E25,2) -> 0 | P25: =ROUND(SUM(M25:O25),2) -> 0
A26: 10 | B26: l.c. | C26: Pamatu plātnes betonēšana ar betonu C25/30 XC1, XF1, W6, ieskaitot betona izgatavošanu, piegādi līdz objektam, sūknēšanu, vibrēšanu, veidņu, to montāžu un demontāžu, ieskatot visus nepieciešamos materiālus un mehānismus. Atbiruma koeficientu paredzēt vienības cenās | D26: m3 | E26: 8.5 | H26: =ROUND(F26*G26,2) -> 0 | K26: =ROUND(SUM(H26:J26),2) -> 0 | L26: =ROUND(F26*E26,2) -> 0 | M26: =ROUND(H26*E26,2) -> 0 | N26: =ROUND(I26*E26,2) -> 0 | O26: =ROUND(J26*E26,2) -> 0 | P26: =ROUND(SUM(M26:O26),2) -> 0
A27: 11 | B27: l.c. | C27: Hidroizolācijas ierīkošana (ruberoīds), ieskatot visus nepieciešamos materiālus un mehānismus | D27: m2 | E27: 6.5 | H27: =ROUND(F27*G27,2) -> 0 | K27: =ROUND(SUM(H27:J27),2) -> 0 | L27: =ROUND(F27*E27,2) -> 0 | M27: =ROUND(H27*E27,2) -> 0 | N27: =ROUND(I27*E27,2) -> 0 | O27: =ROUND(J27*E27,2) -> 0 | P27: =ROUND(SUM(M27:O27),2) -> 0
A28: 12 | B28: l.c. | C28: Enkura M16 montāža, ieskatot visus nepieciešamos materiālus un mehānismus | D28: gb | E28: 30 | H28: =ROUND(F28*G28,2) -> 0 | K28: =ROUND(SUM(H28:J28),2) -> 0 | L28: =ROUND(F28*E28,2) -> 0 | M28: =ROUND(H28*E28,2) -> 0 | N28: =ROUND(I28*E28,2) -> 0 | O28: =ROUND(J28*E28,2) -> 0 | P28: =ROUND(SUM(M28:O28),2) -> 0
K29: Tiešas izmaksas kopā, t. sk. darba devēja sociālais nodoklis (23,59%): | L29: =SUM(L17:L28) -> 0 | M29: =SUM(M17:M28) -> 0 | N29: =SUM(N17:N28) -> 0 | O29: =SUM(O17:O28) -> 0 | P29: =SUM(P17:P28) -> 0
A32: 1. Būvdarbu veicējam jāievērtē darbu apjomu sarakstā minēto darbu veikšanai nepieciešamie materiāli un papildus darbi, kas nav minēti šajā sarakstā, bet bez kuriem nebūtu iespējama būvdarbu tehnoloģiski pareiza un spēkā esošiem normatīviem atbilstoša veikšana pilnā apmērā.
A33: 2. Darbu apjomu sarakstu skatīt kopā ar būvprojektu, rasējumiem un specifikācijām. Gadījumā, ja darbu apjomi nesakrīt ar rasējumiem vai specifikācijām, pirms darbiem apjomus un būvdarbus precizēt kopā ar Pasūtītāju un/vai Pasūtītāja pārstāvi un pirms būvdarbu uzsākšanas rakstiski saskaņot ar Pasūtītāju būvdarbu veikšanas apjomu. Pasūtītājs ir tiesīgs noteikt tādu būvniecības apjomu (daudzumu), kāds nepieciešams būvprojekta īstenošanai un tā darbības nodrošināšanai, kā arī samazināt vai palielināt Līguma Pielikumos norādītos apjomus tāmēs.
A34: 3. Visi palīgmateriāli, stiprinājumi, savienojumi u.c.palīgkonstrukcijas, sistēmas marķēšana, tīrīšanas lūkas, gaisa vadu šķērsojumi ar sienām un pārsegumiem, akustiskie un ugunsdrošie blīvējimi, kā arī izpildshēmas un sistēmas pārbaudes jāiekļauj vienības izmaksās pie saistošajiem būvizstrādājumiem.
A35: 4. Materiālu komplektāciju veikt atbilstoši izstrādātājam būvprojektam, ražotāju un LR normatīvo aktu nosacījumiem, ņemt vērā, ka materiālu daudzums ir dots, neievertējot atgriezumus un pārlaidumus.
A36: 5. Visi saistītie darbi ar iekārtu montāžu, demontāžu, nosegplēvēm, celšanas mehānismiem un citiem mehānismiem jāiekļauj attiecīgo darbu izmaksās vai virsizdevumos.
A37: 6. Tāmēs ietvertos konkrēto ražotāju materiālus un izstrādājumus var aizvietot ar ekvivalentu, citu ražotāju materiāliem un izstrādājumiem, aizpildot tabulu PIEDĀVĀTIE EKVIVALENTI.
A38: 7. Skaidrojošais apraksts, t.i. visparīgas piezīmes, piezīmes par būvdarbu izpildes raksturojumu, par būvdarbu organizācijas aprakstu, par izpilddokumentāciju ir būvniecības tāmju neatņemama sastāvdaļa.
A40: Sastādīja: | I40: Pārbaudīja: | N40: (Sertifikāta Nr.________)
A41: paraksts, paraksta atšifrējums, datums | I41: paraksts, paraksta atšifrējums, datums

Sheet 5 konst
C1: Lokālā tāme Nr.5
C2: Koka konstrukcijas
C3: (būvdarbu veids vai konstruktīvā elementa nosaukums)
A5: ='4 Pamati'!A5 -> Objekta nosaukums: Tramvaju galapunkta ēkas izbūve Tapešu iela 50A, Rīga
A6: ='4 Pamati'!A6 -> Būves nosaukums: Jaunbūve
A7: ='4 Pamati'!A7 -> Objekta adrese: Tapešu iela 50A, Rīga
A8: ='4 Pamati'!A8 -> Pasūtītājs: RP SIA "Rīgas satiksme" | N8: Tāmes izmaksas, Euro: | O8: =P35 -> 0
A9: ='4 Pamati'!A9 -> Izpildītājs: | C9: ='4 Pamati'!C9 -> 0 | N9: Tāme sastādīta | O9: ='4 Pamati'!O8 -> 0
A11: Tāme sastādīta 2026.gada tirgus cenās pamatojoties uz būvdarbu apjomiem.
A12: Nr.p.k. | B12: Kods | C12: Būvdarbu nosaukums | D12: Mērvienība | E12: Daudzums | F12: Vienības izmaksas | L12: Kopā uz visu apjomu
F13: laika norma (c/h) | G13: darba samaksas likme* (euro/h) | H13: darba alga | I13: būvizstrādājumi | J13: mehānismi | K13: kopā | L13: darbietilpība (c/h) | M13: darba alga | N13: būvizstrādājumi | O13: mehānismi | P13: summa
A15: 1 | B15: =A15+1 -> 2 | C15: =B15+1 -> 3 | D15: =C15+1 -> 4 | E15: =D15+1 -> 5 | F15: =E15+1 -> 6 | G15: =F15+1 -> 7 | H15: =G15+1 -> 8 | I15: =H15+1 -> 9 | ... P15: =O15+1 -> 16
C16: Koka karkasa konstrukcijas izbūve
A17: 1 | B17: l.c. | C17: ST-1 Statnis 200x50, L=2790mm, C24 klase, EN338, impregnēts, antiseptizēts un apstrādāts ar antipirēnu, montāža, ieskaitot visus nepieciešamos stiprinājumus, savienojumus, palīgmateriālus un mehānismus | D17: m3 | E17: 0.59 | H17: =ROUND(F17*G17,2) -> 0 | K17: =ROUND(SUM(H17:J17),2) -> 0 | L17: =ROUND(F17*E17,2) -> 0 | M17: =ROUND(H17*E17,2) -> 0 | N17: =ROUND(I17*E17,2) -> 0 | O17: =ROUND(J17*E17,2) -> 0 | P17: =ROUND(SUM(M17:O17),2) -> 0
A18: 2 | B18: l.c. | C18: ST-2 Statnis 200x50, L=2705mm, C24 klase, EN338, impregnēts, antiseptizēts un apstrādāts ar antipirēnu, montāža, ieskaitot visus nepieciešamos stiprinājumus, savienojumus, palīgmateriālus un mehānismus | D18: m3 | E18: 0.54 | H18: =ROUND(F18*G18,2) -> 0 | K18: =ROUND(SUM(H18:J18),2) -> 0 | L18: =ROUND(F18*E18,2) -> 0 | M18: =ROUND(H18*E18,2) -> 0 | N18: =ROUND(I18*E18,2) -> 0 | O18: =ROUND(J18*E18,2) -> 0 | P18: =ROUND(SUM(M18:O18),2) -> 0
A19: 3 | B19: l.c. | C19: ST-3 Statnis 200x50, L=3460mm, C24 klase, EN338, impregnēts, antiseptizēts un apstrādāts ar antipirēnu, montāža, ieskaitot visus nepieciešamos stiprinājumus, savienojumus, palīgmateriālus un mehānismus | D19: m3 | E19: 0.76 | H19: =ROUND(F19*G19,2) -> 0 | K19: =ROUND(SUM(H19:J19),2) -> 0 | L19: =ROUND(F19*E19,2) -> 0 | M19: =ROUND(H19*E19,2) -> 0 | N19: =ROUND(I19*E19,2) -> 0 | O19: =ROUND(J19*E19,2) -> 0 | P19: =ROUND(SUM(M19:O19),2) -> 0
A20: 4 | B20: l.c. | C20: ST-4 Statnis 200x50, L=510mm, C24 klase, EN338, impregnēts, antiseptizēts un apstrādāts ar antipirēnu, montāža, ieskaitot visus nepieciešamos stiprinājumus, savienojumus, palīgmateriālus un mehānismus | D20: m3 | E20: 0.06 | H20: =ROUND(F20*G20,2) -> 0 | K20: =ROUND(SUM(H20:J20),2) -> 0 | L20: =ROUND(F20*E20,2) -> 0 | M20: =ROUND(H20*E20,2) -> 0 | N20: =ROUND(I20*E20,2) -> 0 | O20: =ROUND(J20*E20,2) -> 0 | P20: =ROUND(SUM(M20:O20),2) -> 0
A21: 5 | B21: l.c. | C21: ST-5 Statnis 200x50, L=630mm, C24 klase, EN338, impregnēts, antiseptizēts un apstrādāts ar antipirēnu, montāža, ieskaitot visus nepieciešamos stiprinājumus, savienojumus, palīgmateriālus un mehānismus | D21: m3 | E21: 0.03 | H21: =ROUND(F21*G21,2) -> 0 | K21: =ROUND(SUM(H21:J21),2) -> 0 | L21: =ROUND(F21*E21,2) -> 0 | M21: =ROUND(H21*E21,2) -> 0 | N21: =ROUND(I21*E21,2) -> 0 | O21: =ROUND(J21*E21,2) -> 0 | P21: =ROUND(SUM(M21:O21),2) -> 0
