Workbook
Name Excel_BuiltIn_Print_Area: 'Lokālā tāme'!$A$1:$O$51

Sheet Kopsavilkums
A1: KOPSAVILKUMA APRĒĶINS
A2: Atklātas ūdens ņemšanas vietas izbūve ugunsdzēsības vajadzībām pie Garozas pamatskolas Salgales pagastā, Jelgavas novadā
A4: Objekta nosaukums: | C4: Atklātas ūdens ņemšanas vietas izbūve ugunsdzēsības vajadzībām pie Garozas pamatskolas Salgales pagastā, Jelgavas novadā
A5: Būves nosaukums: | C5: Ūdens ņemšanas vietas izbūve
A6: Objekta adrese: | C6: Garozas pamatskolas Salgales pagastā, Jelgavas novadā
A7: Iepirkuma Nr.:
C9: Par kopējo summu, Eur | D9: =D21 -> 0
C10: Kopējā darbietilpība, c/st | D10: =H17 -> 0
A12: Nr.p.k. | B12: Kods, tāmes Nr. | C12: Darba veids vai konstruktīvā elementa nosaukums | D12: Tāmes izmaksas, Euro | E12: tai skaitā | H12: Darbietilpība c/h
E13: darba alga, Euro | F13: būvizstrādājumi, Euro | G13: mehānismi, Euro
A16: 1 | B16: Nr. 1 | C16: Būvniecības darbi | D16: ='Lokālā tāme'!O50 -> 0 | E16: ='Lokālā tāme'!L50 -> 0 | F16: ='Lokālā tāme'!M50 -> 0 | G16: ='Lokālā tāme'!N50 -> 0 | H16: ='Lokālā tāme'!K50 -> 0
C17: KOPĀ: | D17: =SUM(D16:D16) -> 0 | E17: =SUM(E16:E16) -> 0 | F17: =SUM(F16:F16) -> 0 | G17: =SUM(G16:G16) -> 0 | H17: =SUM(H16:H16) -> 0
B18: 0 | C18: Virsizdevumi:
C19: t.sk. darba aizsardzībai
B20: 0 | C20: Peļņa :
C21: Pavisam kopā: | D21: =D17+D18+D20 -> 0
A24: Sastādija:
B25: (paraksts un tā atšifrējums, datums)

Sheet Koptāme
C1: APSTIPRINU
C3: (pasūtītāja paraksts un tā atšifrējums)
C4: Z.v.
C5: 2022.gada ___.____________
A7: BŪVNIECĪBAS KOPTĀME
A9: Objekta nosaukums: | C9: =Kopsavilkums!C4 -> Atklātas ūdens ņemšanas vietas izbūve ugunsdzēsības vajadzībām pie Garozas pamatskolas Salgales pagastā, Jelgavas novadā
A10: Būves nosaukums: | C10: =Kopsavilkums!C5 -> Ūdens ņemšanas vietas izbūve
A11: Objekta adrese: | C11: =Kopsavilkums!C6 -> Garozas pamatskolas Salgales pagastā, Jelgavas novadā
A12: Iepirkuma Nr.:
A15: N.p.k. | B15: Objekta nosaukums | C15: Objekta izmaksas (Euro)
A19: 1 | B19: =C9 -> Atklātas ūdens ņemšanas vietas izbūve ugunsdzēsības vajadzībām pie Garozas pamatskolas Salgales pagastā, Jelgavas novadā | C19: =Kopsavilkums!D21 -> 0
B21: Kopā: | C21: =C19 -> 0
B22: PVN 21%: | C22: =ROUND(C19*0.21,2) -> 0
B23: Kopā ar PVN: | C23: =C22+C21 -> 0
A26: Sastādija:
B27: (paraksts un tā atšifrējums, datums)

Sheet Lokālā tāme
A1: LOKĀLĀ TĀME Nr. 1
A2: =Kopsavilkums!A2 -> Atklātas ūdens ņemšanas vietas izbūve ugunsdzēsības vajadzībām pie Garozas pamatskolas Salgales pagastā, Jelgavas novadā
A4: Objekta nosaukums: | C4: =Koptāme!C9 -> Atklātas ūdens ņemšanas vietas izbūve ugunsdzēsības vajadzībām pie Garozas pamatskolas Salgales pagastā, Jelgavas novadā
A5: Būves nosaukums: | J5: =Koptāme!C10 -> Ūdens ņemšanas vietas izbūve
A6: Objekta adrese: | C6: =Koptāme!C11 -> Garozas pamatskolas Salgales pagastā, Jelgavas novadā
A7: Iepirkuma Nr.:
A9: Nr.p.k. | B9: Būvdarbu nosaukums | C9: Mērvienība | D9: Daudzums | E9: Vienības izmaksas | K9: Kopējā uz visu apjomu
E10: laika norma (c/h) | F10: darba samaksas likme (euro/h) | G10: darba alga | H10: būvizstrādājumi | I10: mehānismi | J10: kopā | K10: darbietilpība (c/h) | L10: darba alga | M10: būvizstrādājumi | N10: mehānismi | O10: summa
A11: 1 | B11: 2 | C11: 3 | D11: 4 | E11: 5 | F11: 6 | G11: 7 | H11: 8 | I11: 9 | J11: 10 | K11: 11 | L11: 12 | M11: 13 | N11: 14 | O11: 15
A12: 1. | B12: Būvju trases, asu un kontūru nospraušana dabā | C12: objekts | D12: 1
A13: 2 | B13: Būvju nojaukšana | C13: - | D13: -
A14: 2.1. | B14: Pastāvošo aku un cauruļvada demontēšana | C14: m3 | D14: 5
A15: 3 | B15: Būvlaukuma sagatavošana piebraucamā ceļa un laukuma izbūve | C15: - | D15: -
A16: 3.1. | B16: Koka un, tā celma novākšana, Ø15cm | C16: gab. | D16: 1
A17: 4. | B17: Ugunsdzēsības ūdens ņemšanas aku AKA-1 un AKA-2 un guļcauruļu izbūve | C17: - | D17: -
A18: 4.1. | B18: Ugunsdzēsības aku un guļcauruļu būvbedru rakšana ar vienkausa ekskavatoru. | C18: m3 | D18: 31
A19: 4.2. | B19: Padziļinājuma rakšana ūdensnotekas gultnē guļcauruļu ieplūdes daļā, 1.3m x 4.0 m | C19: m3 | D19: 5
A20: 4.3. | B20: Būvbedru piestrāde ar roku darbu. | C20: m3 | D20: 2
A21: 4.4. | B21: Aku pamatņu izbūve no blietētas grants, 10cm. | C21: m3 | D21: 0.5
A22: 4.5. | B22: Aku iebūve dzelszbetona Ø1200/1000mm, h=4,75m , ar nosēddaļu 50cm un ar čuguna vāku. | C22: gab. | D22: 2
A23: 4.6. | B23: Guļcauruļu smilts pamatņu iebūve 10cm slānī. | C23: gab. | D23: 2
A24: 4.7. | B24: Guļcauruļu Ø450/400mm, L=8.6m, SN8 iebūve uz projektētajām atzīmēm. | C24: gab. | D24: 2
A25: 4.8. | B25: Akas būvbedres un guļcauruļu tranšejas aizbēršana ar izrakto minerālgrunti, pa kārtām blīvējot. | C25: m3 | D25: 25
A26: 4.9. | B26: No būvbedres palikušās izraktās grunts transportēšana uz pasūtītāja norādīto vietu. | C26: m3 | D26: 11
A27: 4.10. | B27: Akmens šķembu fr. 75 - 150mm, b=30cm bēruma izveide 96m2 platībā | C27: m3 | D27: 29
A28: 4.11. | B28: Drošības barjeras uzstādīšana | C28: m | D28: 12
A29: 4.12 | B29: Darba vietas drošības zīmes Nr. 1318 "Ūdens ņemšanas vieta" uzstādīšana | C29: gab. | D29: 2
A30: 5 | B30: Piebraucamā ceļa un piebraukšanas laukuma izbūve | C30: - | D30: -
A31: 5.1. | B31: Piebraucamā ceļa trases un piebraukšanas laukuma nospraušana | C31: m | D31: 66.70
A32: 5.2. | B32: Padziļinājuma rakšana piebraucamā ceļa izbūvei | C32: m3 | D32: 115
A33: 5.3. | B33: Padziļinājuma rakšana piebraukšanas laukuma izbūvei | C33: m3 | D33: 87
A34: 5.4. | B34: Ģeotekstila TeleVev 70/70 ieklāšana piebraucamā ceļa izbūves platībā | C34: m2 | D34: 336
A35: 5.5. | B35: Ģeotekstila TeleVev 70/70 ieklāšana piebraukšanas laukuma izbūves platībā | C35: m2 | D35: 144
A36: 5.6. | B36: Salizturīga slāņa, smilts (fr. 0.25-1.0mm) 30cm ieklāšana piebraucamā ceļa izbūves platībā | C36: m2 | D36: 336
A37: 5.7. | B37: Salizturīga slāņa, smilts (fr. 0.25-1.0mm) 30cm ieklāšana piebraukšanas laukuma izbūves platībā | C37: m2 | D37: 144
A38: 5.8. | B38: Ģeorežģa Fortex geoGrid 30/30 ieklāšana piebraucamā ceļa izbūves platībā | C38: m2 | D38: 336
A39: 5.9. | B39: Ģeotrežģa Fortex geoGrid 30/30 ieklāšana piebraukšanas laukuma izbūves platībā | C39: m2 | D39: 144
A40: 5.10. | B40: Minerālmateriāla maisījums (fr.0/56s) N-IV klase, h=15cm ieklāšana piebraucamā ceļa izbūves platībā | C40: m2 | D40: 336
A41: 5.11. | B41: Minerālmateriāla maisījums (fr.0/56s) N-IV klase, h=15cm ieklāšana piebraukšanas laukuma izbūves platībā | C41: m2 | D41: 144
A42: 5.12. | B42: Minerālmateriāla maisījums (fr.0/32s) N-III klase, h=15cm ieklāšana piebraucamā ceļa izbūves platībā | C42: m2 | D42: 336
A43: 5.13 | B43: Minerālmateriāla maisījums (fr.0/32s) N-III klase, h=15cm ieklāšana piebraukšanas laukuma izbūves platībā | C43: m2 | D43: 144
A44: 5.14. | B44: Kabeļa iebūve aizsargcaurulē (šķērsojuma vietās ar projektēto piebraucamo ceļu) | C44: m | D44: 15
A45: 5.15. | B45: Ceļa zīmes Nr. 326 uzstādīšana | C45: gab. | D45: 1
A46: 5.16. | B46: Ceļa zīmes Nr. 808 uzstādīšana | C46: gab. | D46: 1
A47: 6 | B47: Citi darbi | C47: - | D47: - | E47: - | F47: - | G47: - | H47: - | I47: - | J47: - | K47: - | L47: - | M47: - | N47: - | O47: -
A48: 6.1. | B48: Izbūvētā objekta izpildmērījums | C48: objekts | D48: 1
A49: 6.2. | B49: Izpilddokumentācijas sagatavošana | C49: kpl. | D49: 1
A50: Sociālais nodoklis 23.59% | K50: =SUM(K12:K49) -> 0 | L50: =SUM(L12:L49) -> 0 | M50: =SUM(M12:M49) -> 0 | N50: =SUM(N12:N49) -> 0 | O50: =SUM(O12:O49) -> 0
A52: Sastādija:
B53: (paraksts un tā atšifrējums, datums)
