Workbook

Sheet KS
A1: Kopsavilkuma aprēķini pa darbu veidiem vai konstruktīvajiem elementiem
A2: 5.2.1.1/1/25/I/013 "Objektu pielāgošana un aprīkošana civilās aizsardzības mērķiem Rēzeknes novadā"
A3: (būvdarbu veids vai konstruktīvā elementa nosaukums)
A4: Objekta nosaukums | C4: Telpu remontdarbi patvertnes funkcionālo prasību pielāgošanai Radopolē, Jaunatnes ielā 2
A5: Objekta adrese | C5: Jaunatnes iela 2, Radopole, Viļānu pag., Rēzekens nov., LV-4650
A6: Pasūtītājs | C6: Rēzeknes novada pašvaldība
A8: Par kopējo summu (EUR) | C8: =E18 -> 0
A9: Kopējā darbietilpība, (c/h.) | C9: =I14 -> 0
A11: N.p.k. | B11: Kods, tāmes Nr. | C11: Būvdarbu veids vai konstruktīvā elementa nosaukums | E11: Tāmes izmaksas | F11: Tai skaitā | I11: Darbietilpība (c/h)
F12: darba alga | G12: būvizstrādājumi | H12: mehānismi
A13: 1 | B13: LT1 | C13: ='Jaunatnes iela, Radopole'!C5 -> Telpu remontdarbi patvertnes funkcionālo prasību pielāgošanai Radopolē, Jaunatnes ielā 2 | E13: ='Jaunatnes iela, Radopole'!P74 -> 0 | F13: ='Jaunatnes iela, Radopole'!M74 -> 0 | G13: ='Jaunatnes iela, Radopole'!N74 -> 0 | H13: ='Jaunatnes iela, Radopole'!O74 -> 0 | I13: ='Jaunatnes iela, Radopole'!L74 -> 0
A14: Kopā | E14: =SUM(E13:E13) -> 0 | F14: =SUM(F13:F13) -> 0 | G14: =SUM(G13:G13) -> 0 | H14: =SUM(H13:H13) -> 0 | I14: =SUM(I13:I13) -> 0
A15: Virsizdevumi | D15: 0 | E15: =ROUND((E14*D15),2) -> 0
A16: T.sk. darba aizsardzība | D16: 0 | E16: =ROUND((E15*D16),2) -> 0
A17: Peļņa | D17: 0 | E17: =ROUND((E14*D17),2) -> 0
A18: Pavisam kopā | E18: =E17+E15+E14 -> 0

Sheet Jaunatnes iela, Radopole
A1: Lokālā tāme Nr.1
A2: Atjaunošanas darbi
A3: (Darba veids vai konstruktīvā elementa nosaukums)
A5: Objekta nosaukums | C5: Telpu remontdarbi patvertnes funkcionālo prasību pielāgošanai Radopolē, Jaunatnes ielā 2
A6: Būves nosaukums | C6: Pirmsskolas izglītības iestāde "Bitīte"
A7: Pasūtītājs | C7: Rēzeknes novada pašvaldība
A10: Tāme sastādīta | K10: Tāmes izmaksas | M10: =P74 -> 0
A11: Nr.p.k. | B11: Kods | D11: Mērv. | E11: Daudz. | F11: Vienības izmaksas | L11: Kopā uz visu apjomu | P11: Summa (EUR)
F12: Laika norma (c/h) | G12: Darba samaksas likme (EUR/h) | H12: Darba alga (EUR) | I12: Būvizstrādājumi (EUR) | J12: Mehānismi (EUR) | K12: KOPĀ (EUR) | L12: Darbietilpība (C/h) | M12: Darba alga (EUR) | N12: Būvizstrādājumi (EUR) | O12: Mehānismi (EUR)
A14: 1 | B14: 2 | C14: 3 | D14: 4 | E14: 5 | F14: 6 | G14: 7 | H14: 8 | I14: 9 | J14: 10 | K14: 11 | L14: 12 | M14: 13 | N14: 14 | O14: 15 | P14: 16
A15: 1. | C15: Jaunatnes iela, Radopole | K15: =ROUND(SUM(J15+I15+H15),2) -> 0 | L15: =ROUND((F15*E15),2) -> 0 | M15: =ROUND((H15*E15),2) -> 0 | N15: =ROUND((I15*E15),2) -> 0 | O15: =ROUND((J15*E15),2) -> 0 | P15: =ROUND(SUM(O15+N15+M15),2) -> 0
A16: 1.1. | C16: Sagatavošanas darbi | H16: =ROUND(F16*G16,2) -> 0 | K16: =ROUND(SUM(J16+I16+H16),2) -> 0 | L16: =ROUND((F16*E16),2) -> 0 | M16: =ROUND((H16*E16),2) -> 0 | N16: =ROUND((I16*E16),2) -> 0 | O16: =ROUND((J16*E16),2) -> 0 | P16: =ROUND(SUM(O16+N16+M16),2) -> 0
A17: 1.1.1. | C17: Veco elektro un vājstrāvas tīklu demontāža, t.sk. gaismekļi, slēdži, ligzdas, detektori, kārba u.c. el.tīklu elementi | D17: obj. | E17: 1 | H17: =ROUND(F17*G17,2) -> 0 | K17: =ROUND(SUM(J17+I17+H17),2) -> 0 | L17: =ROUND((F17*E17),2) -> 0 | M17: =ROUND((H17*E17),2) -> 0 | N17: =ROUND((I17*E17),2) -> 0 | O17: =ROUND((J17*E17),2) -> 0 | P17: =ROUND(SUM(O17+N17+M17),2) -> 0
A18: 1.1.2. | C18: Pagrabstāva daļas attīrīšana no smilts kārtas, iznešana ārā (roku darbs), izvešana uz atbertni (augstums 1-1.5m) | D18: m2 | E18: 180 | H18: =ROUND(F18*G18,2) -> 0 | K18: =ROUND(SUM(J18+I18+H18),2) -> 0 | L18: =ROUND((F18*E18),2) -> 0 | M18: =ROUND((H18*E18),2) -> 0 | N18: =ROUND((I18*E18),2) -> 0 | O18: =ROUND((J18*E18),2) -> 0 | P18: =ROUND(SUM(O18+N18+M18),2) -> 0
A19: 1.1.3. | C19: Vecās kanalizācijas, ūdensvada tīklu demontāža, t.sk. podi, izlietnes u.c. uk tīklu elementi | D19: obj. | E19: 1 | H19: =ROUND(F19*G19,2) -> 0 | K19: =ROUND(SUM(J19+I19+H19),2) -> 0 | L19: =ROUND((F19*E19),2) -> 0 | M19: =ROUND((H19*E19),2) -> 0 | N19: =ROUND((I19*E19),2) -> 0 | O19: =ROUND((J19*E19),2) -> 0 | P19: =ROUND(SUM(O19+N19+M19),2) -> 0
A20: 1.1.4. | C20: Vecās ventilācijas sistēmas tīklu demontāža, stiprinājumi, ventšahtas u.c. ventilācijas tīklu elementi | D20: obj. | E20: 1 | H20: =ROUND(F20*G20,2) -> 0 | K20: =ROUND(SUM(J20+I20+H20),2) -> 0 | L20: =ROUND((F20*E20),2) -> 0 | M20: =ROUND((H20*E20),2) -> 0 | N20: =ROUND((I20*E20),2) -> 0 | O20: =ROUND((J20*E20),2) -> 0 | P20: =ROUND(SUM(O20+N20+M20),2) -> 0
A21: 1.1.5. | C21: Ventilācijas kanālu tīrīšana, restes nomaiņa | D21: gab. | E21: 6 | H21: =ROUND(F21*G21,2) -> 0 | K21: =ROUND(SUM(J21+I21+H21),2) -> 0 | L21: =ROUND((F21*E21),2) -> 0 | M21: =ROUND((H21*E21),2) -> 0 | N21: =ROUND((I21*E21),2) -> 0 | O21: =ROUND((J21*E21),2) -> 0 | P21: =ROUND(SUM(O21+N21+M21),2) -> 0
A22: 1.1.6. | C22: Pagrabstāva betona grīdas tīrīšana, gruntēšana remonts lokālajās vietās | D22: m2 | E22: 377.4 | H22: =ROUND(F22*G22,2) -> 0 | K22: =ROUND(SUM(J22+I22+H22),2) -> 0 | L22: =ROUND((F22*E22),2) -> 0 | M22: =ROUND((H22*E22),2) -> 0 | N22: =ROUND((I22*E22),2) -> 0 | O22: =ROUND((J22*E22),2) -> 0 | P22: =ROUND(SUM(O22+N22+M22),2) -> 0
A23: 1.1.7. | C23: Durvju, durvju kārbas demontāža | D23: gab. | E23: 5 | H23: =ROUND(F23*G23,2) -> 0 | K23: =ROUND(SUM(J23+I23+H23),2) -> 0 | L23: =ROUND((F23*E23),2) -> 0 | M23: =ROUND((H23*E23),2) -> 0 | N23: =ROUND((I23*E23),2) -> 0 | O23: =ROUND((J23*E23),2) -> 0 | P23: =ROUND(SUM(O23+N23+M23),2) -> 0
A24: 1.1.8. | C24: Pagrabstāva sienu tīrīšana, gruntēšana, remonts lokālajās vietās | D24: m2 | E24: 200 | H24: =ROUND(F24*G24,2) -> 0 | K24: =ROUND(SUM(J24+I24+H24),2) -> 0 | L24: =ROUND((F24*E24),2) -> 0 | M24: =ROUND((H24*E24),2) -> 0 | N24: =ROUND((I24*E24),2) -> 0 | O24: =ROUND((J24*E24),2) -> 0 | P24: =ROUND(SUM(O24+N24+M24),2) -> 0
A25: 1.1.9. | C25: Pagrabstāva griestu tīrīšana | D25: m2 | E25: 377.4 | H25: =ROUND(F25*G25,2) -> 0 | K25: =ROUND(SUM(J25+I25+H25),2) -> 0 | L25: =ROUND((F25*E25),2) -> 0 | M25: =ROUND((H25*E25),2) -> 0 | N25: =ROUND((I25*E25),2) -> 0 | O25: =ROUND((J25*E25),2) -> 0 | P25: =ROUND(SUM(O25+N25+M25),2) -> 0
A26: 1.1.10. | C26: Būvgružu utilizācija | D26: obj. | E26: 1 | H26: =ROUND(F26*G26,2) -> 0 | K26: =ROUND(SUM(J26+I26+H26),2) -> 0 | L26: =ROUND((F26*E26),2) -> 0 | M26: =ROUND((H26*E26),2) -> 0 | N26: =ROUND((I26*E26),2) -> 0 | O26: =ROUND((J26*E26),2) -> 0 | P26: =ROUND(SUM(O26+N26+M26),2) -> 0
A28: 1.2. | C28: Sienu, grīdas, griestu apdare sanmezglos | H28: =ROUND(F28*G28,2) -> 0 | K28: =ROUND(SUM(J28+I28+H28),2) -> 0 | L28: =ROUND((F28*E28),2) -> 0 | M28: =ROUND((H28*E28),2) -> 0 | N28: =ROUND((I28*E28),2) -> 0 | O28: =ROUND((J28*E28),2) -> 0 | P28: =ROUND(SUM(O28+N28+M28),2) -> 0
A29: 1.2.1. | C29: Sienu gruntēšana un apmetuma iestrāde | D29: m2 | E29: 85 | H29: =ROUND(F29*G29,2) -> 0 | K29: =ROUND(SUM(J29+I29+H29),2) -> 0 | L29: =ROUND((F29*E29),2) -> 0 | M29: =ROUND((H29*E29),2) -> 0 | N29: =ROUND((I29*E29),2) -> 0 | O29: =ROUND((J29*E29),2) -> 0 | P29: =ROUND(SUM(O29+N29+M29),2) -> 0
A30: 1.2.2. | C30: Betona grīdas tīrīšana, gruntēsana, līdzināšana un pretslīdes pārklājuma izbūve, nodrošinot pretslīdes klasi R10 | D30: m2 | E30: 30 | H30: =ROUND(F30*G30,2) -> 0 | K30: =ROUND(SUM(J30+I30+H30),2) -> 0 | L30: =ROUND((F30*E30),2) -> 0 | M30: =ROUND((H30*E30),2) -> 0 | N30: =ROUND((I30*E30),2) -> 0 | O30: =ROUND((J30*E30),2) -> 0 | P30: =ROUND(SUM(O30+N30+M30),2) -> 0
A31: 1.2.3. | C31: Griestu tīrīšāna, gruntēšana, krāsošana | D31: m2 | E31: 30 | H31: =ROUND(F31*G31,2) -> 0 | K31: =ROUND(SUM(J31+I31+H31),2) -> 0 | L31: =ROUND((F31*E31),2) -> 0 | M31: =ROUND((H31*E31),2) -> 0 | N31: =ROUND((I31*E31),2) -> 0 | O31: =ROUND((J31*E31),2) -> 0 | P31: =ROUND(SUM(O31+N31+M31),2) -> 0
A32: 1.2.4. | C32: Starpsienas ir izgatavotas no skaidu plāksnes (kokskaidu plātne) ar kopējo nominālo biezumu 24 mm izmantošanai mitros apstākļos. (h=2m) Konstrukcijā tiek izmantota LTT anodēta alumīnija profilu sistēma. Komplektācijā ietilpst sienas, durvis, furnitūra, stiprinājumi un karkass. Krāsa - ABET 475 – Gaiši pelēks, izmērus precizēt būvdarbu laikā, materiālu un toni saskaņot ar pasūtītāju | D32: m | E32: 15.6 | H32: =F32*G32 -> 0 | K32: =SUM(H32:J32) -> 0 | L32: =ROUND(E32*F32,2) -> 0 | M32: =ROUND(E32*H32,2) -> 0 | N32: =ROUND(E32*I32,2) -> 0 | O32: =ROUND(E32*J32,2) -> 0 | P32: =SUM(M32:O32) -> 0
A33: 1.2.5. | C33: Visi evakuācijas ceļi, tai skaitā pakāpieni, laukumu perimetri, margas, rokturi un durvju ailes (apmales), jāizceļ ar kontrastējošu krāsu attiecībā pret apkārtējo virsmu. Kontrastējošajam marķējumam jābūt nepārtrauktam un labi saskatāmam normālā un samazinātā apgaismojumā, nodrošinot evakuācijas ceļa un izeju vieglu identificēšanu. Evakuācijas izeju durvis un to ailes jāmarķē analogi VUGD rekomendētajiem piemēriem, izmantojot spilgtu kontrastējošu krāsu (piemēram, dzeltenu, zaļi luminiscējošu vai citu līdzvērtīgu risinājumu). | D33: obj. | E33: 1 | H33: =F33*G33 -> 0 | K33: =SUM(H33:J33) -> 0 | L33: =ROUND(E33*F33,2) -> 0 | M33: =ROUND(E33*H33,2) -> 0 | N33: =ROUND(E33*I33,2) -> 0 | O33: =ROUND(E33*J33,2) -> 0 | P33: =SUM(M33:O33) -> 0
A34: 1.2.6. | C34: Durvju vērtnes ir kontrastējošā krāsā, toni saskaņojot ar pasūtītāju | D34: gab. | E34: 5 | H34: =ROUND(F34*G34,2) -> 0 | K34: =ROUND(SUM(J34+I34+H34),2) -> 0 | L34: =ROUND((F34*E34),2) -> 0 | M34: =ROUND((H34*E34),2) -> 0 | N34: =ROUND((I34*E34),2) -> 0 | O34: =ROUND((J34*E34),2) -> 0 | P34: =ROUND(SUM(O34+N34+M34),2) -> 0
A35: 1.3. | C35: Elektroapgāde, apgaismojums, IT tīkls | H35: =ROUND(F35*G35,2) -> 0 | K35: =ROUND(SUM(J35+I35+H35),2) -> 0 | L35: =ROUND((F35*E35),2) -> 0 | M35: =ROUND((H35*E35),2) -> 0 | N35: =ROUND((I35*E35),2) -> 0 | O35: =ROUND((J35*E35),2) -> 0 | P35: =ROUND(SUM(O35+N35+M35),2) -> 0
A36: 1.3.1. | C36: PVC kabeļu gofras stiprināšana (betona pārsegums un sienas), kabeļa ar vara dzīslam uzstādīšana, NYM-J 3x1,5, ieskaitot stiprinājumus | D36: m | E36: 400 | H36: =ROUND(F36*G36,2) -> 0 | K36: =ROUND(SUM(J36+I36+H36),2) -> 0 | L36: =ROUND((F36*E36),2) -> 0 | M36: =ROUND((H36*E36),2) -> 0 | N36: =ROUND((I36*E36),2) -> 0 | O36: =ROUND((J36*E36),2) -> 0 | P36: =ROUND(SUM(O36+N36+M36),2) -> 0
A37: 1.3.2. | C37: PVC kabeļu gofras stiprināšana (betona sienas), kabeļa ar vara dzīslam uzstādīšana, NYM-J 3x2,5, ieskaitot stiprinājumus | D37: m | E37: 600 | H37: =ROUND(F37*G37,2) -> 0 | K37: =ROUND(SUM(J37+I37+H37),2) -> 0 | L37: =ROUND((F37*E37),2) -> 0 | M37: =ROUND((H37*E37),2) -> 0 | N37: =ROUND((I37*E37),2) -> 0 | O37: =ROUND((J37*E37),2) -> 0 | P37: =ROUND(SUM(O37+N37+M37),2) -> 0
A38: 1.3.3. | C38: Virsapmetuma montāžas kārba ar kontaktligzda zemapmetuma 1v., 230V; 16A; L+N+PE IP-20 | D38: gb | E38: 30 | H38: =ROUND(F38*G38,2) -> 0 | K38: =ROUND(SUM(J38+I38+H38),2) -> 0 | L38: =ROUND((F38*E38),2) -> 0 | M38: =ROUND((H38*E38),2) -> 0 | N38: =ROUND((I38*E38),2) -> 0 | O38: =ROUND((J38*E38),2) -> 0 | P38: =ROUND(SUM(O38+N38+M38),2) -> 0
A39: 1.3.4. | C39: SADALNE VIRSAPMETUMA PLEXO IP65 IK09 PE/N 2x12M | D39: gab. | E39: 1 | H39: =ROUND(F39*G39,2) -> 0 | K39: =ROUND(SUM(J39+I39+H39),2) -> 0 | L39: =ROUND((F39*E39),2) -> 0 | M39: =ROUND((H39*E39),2) -> 0 | N39: =ROUND((I39*E39),2) -> 0 | O39: =ROUND((J39*E39),2) -> 0 | P39: =ROUND(SUM(O39+N39+M39),2) -> 0
A40: 1.3.5. | C40: Automatiskais slēdzis, 10A, 230V, "C" ABB | D40: gab. | E40: 5 | H40: =ROUND(F40*G40,2) -> 0 | K40: =ROUND(SUM(J40+I40+H40),2) -> 0 | L40: =ROUND((F40*E40),2) -> 0 | M40: =ROUND((H40*E40),2) -> 0 | N40: =ROUND((I40*E40),2) -> 0 | O40: =ROUND((J40*E40),2) -> 0 | P40: =ROUND(SUM(O40+N40+M40),2) -> 0
A41: 1.3.6. | C41: Automatiskais slēdzis, 16A, 230V, "C" ABB | D41: gab. | E41: 5 | H41: =ROUND(F41*G41,2) -> 0 | K41: =ROUND(SUM(J41+I41+H41),2) -> 0 | L41: =ROUND((F41*E41),2) -> 0 | M41: =ROUND((H41*E41),2) -> 0 | N41: =ROUND((I41*E41),2) -> 0 | O41: =ROUND((J41*E41),2) -> 0 | P41: =ROUND(SUM(O41+N41+M41),2) -> 0
A42: 1.3.7. | C42: Slodzes slēdzis 3P 40A 400V | D42: gab. | E42: 1 | H42: =ROUND(F42*G42,2) -> 0 | K42: =ROUND(SUM(J42+I42+H42),2) -> 0 | L42: =ROUND((F42*E42),2) -> 0 | M42: =ROUND((H42*E42),2) -> 0 | N42: =ROUND((I42*E42),2) -> 0 | O42: =ROUND((J42*E42),2) -> 0 | P42: =ROUND(SUM(O42+N42+M42),2) -> 0
A43: 1.3.8. | C43: Palīgmateriāli el.sistēmas izbūvei t.sk, stiprinājumi, nozarkārbas, savienojumi u.c. elementi | D43: obj. | E43: 1 | H43: =ROUND(F43*G43,2) -> 0 | K43: =ROUND(SUM(J43+I43+H43),2) -> 0 | L43: =ROUND((F43*E43),2) -> 0 | M43: =ROUND((H43*E43),2) -> 0 | N43: =ROUND((I43*E43),2) -> 0 | O43: =ROUND((J43*E43),2) -> 0 | P43: =ROUND(SUM(O43+N43+M43),2) -> 0
A44: 1.3.9. | C44: Gaismeklis LED,virsapmetuma, lineārs, 1200mm, 4600lm, 35W, CRI 80, 4000K, 100.000h, IP65 Feilo Sylvania 0046370 START Waterproof Slim 1200 IP65 4600lm 840 | D44: gab. | E44: 15 | H44: =ROUND(G44*F44,2) -> 0 | K44: =ROUND(J44+I44+H44,2) -> 0 | L44: =ROUND(F44*E44,2) -> 0 | M44: =ROUND(H44*E44,2) -> 0 | N44: =ROUND(I44*E44,2) -> 0 | O44: =ROUND(J44*E44,2) -> 0 | P44: =ROUND(O44+N44+M44,2) -> 0
A45: 1.3.10. | C45: LED, virsapmetuma, griestu, DIONE LED PLUS 2550 LM 840 IP65 OPAL WHITE 22W) | D45: gab. | E45: 7 | H45: =ROUND(G45*F45,2) -> 0 | K45: =ROUND(J45+I45+H45,2) -> 0 | L45: =ROUND(F45*E45,2) -> 0 | M45: =ROUND(H45*E45,2) -> 0 | N45: =ROUND(I45*E45,2) -> 0 | O45: =ROUND(J45*E45,2) -> 0 | P45: =ROUND(O45+N45+M45,2) -> 0
...
