Workbook

Sheet KS
A1: Kopsavilkuma aprēķini pa darbu veidiem vai konstruktīvajiem elementiem
A2: 5.2.1.1/1/25/I/013 "Objektu pielāgošana un aprīkošana civilās aizsardzības mērķiem Rēzeknes novadā"
A3: (būvdarbu veids vai konstruktīvā elementa nosaukums)
A4: Objekta nosaukums | C4: Telpu remontdarbi patvertnes funkcionālo prasību pielāgošanai Maltā, Parka ielā 20
A5: Objekta adrese | C5: Parka iela 20, Malta, Maltas pag., Rēzeknes nov., LV-4630
A6: Pasūtītājs | C6: Rēzeknes novada pašvaldība
A8: Par kopējo summu (EUR) | C8: =E18 -> 0
A9: Kopējā darbietilpība, (c/h.) | C9: =I14 -> 0
A11: N.p.k. | B11: Kods, tāmes Nr. | C11: Būvdarbu veids vai konstruktīvā elementa nosaukums | E11: Tāmes izmaksas | F11: Tai skaitā | I11: Darbietilpība (c/h)
F12: darba alga | G12: būvizstrādājumi | H12: mehānismi
A13: 3 | B13: LT3 | C13: Telpu remontdarbi patvertnes funkcionālo prasību pielāgošanai Maltā, Parka ielā 20 | E13: ='Parka iela 20 , Malta'!P52 -> 0 | F13: ='Parka iela 20 , Malta'!M52 -> 0 | G13: ='Parka iela 20 , Malta'!N52 -> 0 | H13: ='Parka iela 20 , Malta'!O52 -> 0 | I13: ='Parka iela 20 , Malta'!L52 -> 0
A14: Kopā | E14: =SUM(E13:E13) -> 0 | F14: =SUM(F13:F13) -> 0 | G14: =SUM(G13:G13) -> 0 | H14: =SUM(H13:H13) -> 0 | I14: =SUM(I13:I13) -> 0
A15: Virsizdevumi | D15: 0 | E15: =ROUND((E14*D15),2) -> 0
A16: T.sk. darba aizsardzība | D16: 0 | E16: =ROUND((E15*D16),2) -> 0
A17: Peļņa | D17: 0 | E17: =ROUND((E14*D17),2) -> 0
A18: Pavisam kopā | E18: =E17+E15+E14 -> 0

Sheet Parka iela 20 , Malta
A1: Lokālā tāme Nr.3
A2: Atjaunošanas darbi
A3: (Darba veids vai konstruktīvā elementa nosaukums)
A5: Objekta nosaukums | C5: Telpu remontdarbi patvertnes funkcionālo prasību pielāgošanai Maltā, Parka ielā 20
A6: Būves nosaukums | C6: Maltas bērnu un jauniešu centrs
A7: Pasūtītājs | C7: Rēzeknes novada pašvaldība
A10: Tāme sastādīta | K10: Tāmes izmaksas | M10: =P52 -> 0
A11: Nr.p.k. | B11: Kods | D11: Mērv. | E11: Daudz. | F11: Vienības izmaksas | L11: Kopā uz visu apjomu | P11: Summa (EUR)
F12: Laika norma (c/h) | G12: Darba samaksas likme (EUR/h) | H12: Darba alga (EUR) | I12: Būvizstrādājumi (EUR) | J12: Mehānismi (EUR) | K12: KOPĀ (EUR) | L12: Darbietilpība (C/h) | M12: Darba alga (EUR) | N12: Būvizstrādājumi (EUR) | O12: Mehānismi (EUR)
A14: 1 | B14: 2 | C14: 3 | D14: 4 | E14: 5 | F14: 6 | G14: 7 | H14: 8 | I14: 9 | J14: 10 | K14: 11 | L14: 12 | M14: 13 | N14: 14 | O14: 15 | P14: 16
A15: 1. | C15: Parka iela 20, Malta | K15: =ROUND(SUM(J15+I15+H15),2) -> 0 | L15: =ROUND((F15*E15),2) -> 0 | M15: =ROUND((H15*E15),2) -> 0 | N15: =ROUND((I15*E15),2) -> 0 | O15: =ROUND((J15*E15),2) -> 0 | P15: =ROUND(SUM(O15+N15+M15),2) -> 0
A16: 1.1. | C16: Sagatavošanas darbi | H16: =ROUND(F16*G16,2) -> 0 | K16: =ROUND(SUM(J16+I16+H16),2) -> 0 | L16: =ROUND((F16*E16),2) -> 0 | M16: =ROUND((H16*E16),2) -> 0 | N16: =ROUND((I16*E16),2) -> 0 | O16: =ROUND((J16*E16),2) -> 0 | P16: =ROUND(SUM(O16+N16+M16),2) -> 0
A17: 1.1.1. | C17: Pagrabstāva betona grīdas tīrīšana, gruntēšana remonts lokālajās vietās un pretslīdes pārklājuma izbūve, nodrošinot pretslīdes klasi R10 | D17: m2 | E17: 78 | H17: =ROUND(F17*G17,2) -> 0 | K17: =ROUND(SUM(J17+I17+H17),2) -> 0 | L17: =ROUND((F17*E17),2) -> 0 | M17: =ROUND((H17*E17),2) -> 0 | N17: =ROUND((I17*E17),2) -> 0 | O17: =ROUND((J17*E17),2) -> 0 | P17: =ROUND(SUM(O17+N17+M17),2) -> 0
A18: 1.1.2. | C18: Pagrabstāva sienu tīrīšana, gruntēšana, remonts lokālajās vietās | D18: m2 | E18: 120 | H18: =ROUND(F18*G18,2) -> 0 | K18: =ROUND(SUM(J18+I18+H18),2) -> 0 | L18: =ROUND((F18*E18),2) -> 0 | M18: =ROUND((H18*E18),2) -> 0 | N18: =ROUND((I18*E18),2) -> 0 | O18: =ROUND((J18*E18),2) -> 0 | P18: =ROUND(SUM(O18+N18+M18),2) -> 0
A19: 1.1.3. | C19: Pagrabstāva griestu tīrīšana | D19: m2 | E19: 78 | H19: =ROUND(F19*G19,2) -> 0 | K19: =ROUND(SUM(J19+I19+H19),2) -> 0 | L19: =ROUND((F19*E19),2) -> 0 | M19: =ROUND((H19*E19),2) -> 0 | N19: =ROUND((I19*E19),2) -> 0 | O19: =ROUND((J19*E19),2) -> 0 | P19: =ROUND(SUM(O19+N19+M19),2) -> 0
A20: 1.1.4. | C20: Būvgružu utilizācija | D20: obj. | E20: 1 | H20: =ROUND(F20*G20,2) -> 0 | K20: =ROUND(SUM(J20+I20+H20),2) -> 0 | L20: =ROUND((F20*E20),2) -> 0 | M20: =ROUND((H20*E20),2) -> 0 | N20: =ROUND((I20*E20),2) -> 0 | O20: =ROUND((J20*E20),2) -> 0 | P20: =ROUND(SUM(O20+N20+M20),2) -> 0
A21: 1.1.5. | C21: Starpsienas ir izgatavotas no skaidu plāksnes (kokskaidu plātne) ar kopējo nominālo biezumu 24 mm izmantošanai mitros apstākļos. (h=2m) Konstrukcijā tiek izmantota LTT anodēta alumīnija profilu sistēma. Komplektācijā ietilpst sienas, durvis, furnitūra, stiprinājumi un karkass. Krāsa - ABET 475 – Gaiši pelēks, izmērus precizēt būvdarbu laikā, materiālu un toni saskaņot ar pasūtītāju | D21: m | E21: 6.4 | H21: =F21*G21 -> 0 | K21: =SUM(H21:J21) -> 0 | L21: =ROUND(E21*F21,2) -> 0 | M21: =ROUND(E21*H21,2) -> 0 | N21: =ROUND(E21*I21,2) -> 0 | O21: =ROUND(E21*J21,2) -> 0 | P21: =SUM(M21:O21) -> 0
A22: 1.1.6. | C22: Visi evakuācijas ceļi, tai skaitā pakāpieni, laukumu perimetri, margas, rokturi un durvju ailes (apmales), jāizceļ ar kontrastējošu krāsu attiecībā pret apkārtējo virsmu. Kontrastējošajam marķējumam jābūt nepārtrauktam un labi saskatāmam normālā un samazinātā apgaismojumā, nodrošinot evakuācijas ceļa un izeju vieglu identificēšanu. Evakuācijas izeju durvis un to ailes jāmarķē analogi VUGD rekomendētajiem piemēriem, izmantojot spilgtu kontrastējošu krāsu (piemēram, dzeltenu, zaļi luminiscējošu vai citu līdzvērtīgu risinājumu). | D22: obj. | E22: 1 | H22: =F22*G22 -> 0 | K22: =SUM(H22:J22) -> 0 | L22: =ROUND(E22*F22,2) -> 0 | M22: =ROUND(E22*H22,2) -> 0 | N22: =ROUND(E22*I22,2) -> 0 | O22: =ROUND(E22*J22,2) -> 0 | P22: =SUM(M22:O22) -> 0
A23: 1.1.7. | C23: Durvju vērtnes ir kontrastējošā krāsā, toni saskaņojot ar pasūtītāju | D23: gab. | E23: 2 | H23: =ROUND(F23*G23,2) -> 0 | K23: =ROUND(SUM(J23+I23+H23),2) -> 0 | L23: =ROUND((F23*E23),2) -> 0 | M23: =ROUND((H23*E23),2) -> 0 | N23: =ROUND((I23*E23),2) -> 0 | O23: =ROUND((J23*E23),2) -> 0 | P23: =ROUND(SUM(O23+N23+M23),2) -> 0
A24: 1.2. | C24: Elektroapgāde, apgaismojums, IT tīkls | H24: =ROUND(F24*G24,2) -> 0 | K24: =ROUND(SUM(J24+I24+H24),2) -> 0 | L24: =ROUND((F24*E24),2) -> 0 | M24: =ROUND((H24*E24),2) -> 0 | N24: =ROUND((I24*E24),2) -> 0 | O24: =ROUND((J24*E24),2) -> 0 | P24: =ROUND(SUM(O24+N24+M24),2) -> 0
A25: 1.2.1. | C25: PVC kabeļu gofras stiprināšana (betona sienas), kabeļa ar vara dzīslam uzstādīšana, NYM-J 3x2,5, ieskaitot stiprinājumus, papildus rozešu ierīkošanai | D25: m | E25: 60 | H25: =ROUND(F25*G25,2) -> 0 | K25: =ROUND(SUM(J25+I25+H25),2) -> 0 | L25: =ROUND((F25*E25),2) -> 0 | M25: =ROUND((H25*E25),2) -> 0 | N25: =ROUND((I25*E25),2) -> 0 | O25: =ROUND((J25*E25),2) -> 0 | P25: =ROUND(SUM(O25+N25+M25),2) -> 0
A26: 1.2.2. | C26: Virsapmetuma montāžas kārba ar kontaktligzda zemapmetuma 1v., 230V; 16A; L+N+PE IP-20 | D26: gb | E26: 10 | H26: =ROUND(F26*G26,2) -> 0 | K26: =ROUND(SUM(J26+I26+H26),2) -> 0 | L26: =ROUND((F26*E26),2) -> 0 | M26: =ROUND((H26*E26),2) -> 0 | N26: =ROUND((I26*E26),2) -> 0 | O26: =ROUND((J26*E26),2) -> 0 | P26: =ROUND(SUM(O26+N26+M26),2) -> 0
A27: 1.2.3. | C27: Automatiskais slēdzis, 16A, 230V, "C" ABB | D27: gab. | E27: 2 | H27: =ROUND(F27*G27,2) -> 0 | K27: =ROUND(SUM(J27+I27+H27),2) -> 0 | L27: =ROUND((F27*E27),2) -> 0 | M27: =ROUND((H27*E27),2) -> 0 | N27: =ROUND((I27*E27),2) -> 0 | O27: =ROUND((J27*E27),2) -> 0 | P27: =ROUND(SUM(O27+N27+M27),2) -> 0
A28: 1.2.4. | C28: Palīgmateriāli el.sistēmas izbūvei t.sk, stiprinājumi, nozarkārbas, savienojumi u.c. elementi | D28: obj. | E28: 1 | H28: =ROUND(F28*G28,2) -> 0 | K28: =ROUND(SUM(J28+I28+H28),2) -> 0 | L28: =ROUND((F28*E28),2) -> 0 | M28: =ROUND((H28*E28),2) -> 0 | N28: =ROUND((I28*E28),2) -> 0 | O28: =ROUND((J28*E28),2) -> 0 | P28: =ROUND(SUM(O28+N28+M28),2) -> 0
A29: 1.2.5. | C29: Benzīna ģeneratora KS 10000E-1/3 230V / 400V 8000 W (vai ekvivalents) uzstādīšana, ar iespēju pieslēgt tīklam, dūmgāzu novadīšana ārā | D29: gab. | E29: 1 | H29: =ROUND(F29*G29,2) -> 0 | K29: =ROUND(SUM(J29+I29+H29),2) -> 0 | L29: =ROUND((F29*E29),2) -> 0 | M29: =ROUND((H29*E29),2) -> 0 | N29: =ROUND((I29*E29),2) -> 0 | O29: =ROUND((J29*E29),2) -> 0 | P29: =ROUND(SUM(O29+N29+M29),2) -> 0
A30: 1.2.6. | C30: QLOCOM WLAN pastiprinātājs 1200M Repeater Dual Band Booster ar WPS, Wi-Fi signāla pastiprināšanai. | D30: gb | E30: 2 | H30: =ROUND(F30*G30,2) -> 0 | K30: =ROUND(SUM(J30+I30+H30),2) -> 0 | L30: =ROUND((F30*E30),2) -> 0 | M30: =ROUND((H30*E30),2) -> 0 | N30: =ROUND((I30*E30),2) -> 0 | O30: =ROUND((J30*E30),2) -> 0 | P30: =ROUND(SUM(O30+N30+M30),2) -> 0
A32: 1.3. | C32: UK montāžas darbi | H32: =ROUND(F32*G32,2) -> 0 | K32: =ROUND(SUM(J32+I32+H32),2) -> 0 | L32: =ROUND((F32*E32),2) -> 0 | M32: =ROUND((H32*E32),2) -> 0 | N32: =ROUND((I32*E32),2) -> 0 | O32: =ROUND((J32*E32),2) -> 0 | P32: =ROUND(SUM(O32+N32+M32),2) -> 0
A33: 1.3.1. | C33: Ūdensvada montāža PPR-AL-PEX De20 un De16 ar līkumiem, noslēgkrāniem- dzeramā ūens izlietes pieslēgumam | D33: m | E33: 30 | H33: =ROUND(F33*G33,2) -> 0 | K33: =ROUND(SUM(J33+I33+H33),2) -> 0 | L33: =ROUND((F33*E33),2) -> 0 | M33: =ROUND((H33*E33),2) -> 0 | N33: =ROUND((I33*E33),2) -> 0 | O33: =ROUND((J33*E33),2) -> 0 | P33: =ROUND(SUM(O33+N33+M33),2) -> 0
A34: 1.3.2. | C34: Portātīva izlietne Universal, Ūdens tvertnes tilpums: 17 litri, mehāniskais sūknis, ūdens tvertnes izmēri 50 x 17,5 x 33 cm; Ziepju tvertnes tilpums: 3 litri; Piegāde, uzstādīšana | D34: kpl. | E34: 2 | H34: =ROUND(F34*G34,2) -> 0 | K34: =ROUND(SUM(J34+I34+H34),2) -> 0 | L34: =ROUND((F34*E34),2) -> 0 | M34: =ROUND((H34*E34),2) -> 0 | N34: =ROUND((I34*E34),2) -> 0 | O34: =ROUND((J34*E34),2) -> 0 | P34: =ROUND(SUM(O34+N34+M34),2) -> 0
A35: 1.3.3. | C35: Sausā tualete P-506, piegāde,uzstādīšana | D35: kpl. | E35: 1 | H35: =ROUND(F35*G35,2) -> 0 | K35: =ROUND(SUM(J35+I35+H35),2) -> 0 | L35: =ROUND((F35*E35),2) -> 0 | M35: =ROUND((H35*E35),2) -> 0 | N35: =ROUND((I35*E35),2) -> 0 | O35: =ROUND((J35*E35),2) -> 0 | P35: =ROUND(SUM(O35+N35+M35),2) -> 0
A36: 1.3.4. | C36: Sausā tualete invalīdu aprīkojumā, piegāde,uzstādīšana | D36: kpl. | E36: 1 | H36: =ROUND(F36*G36,2) -> 0 | K36: =ROUND(SUM(J36+I36+H36),2) -> 0 | L36: =ROUND((F36*E36),2) -> 0 | M36: =ROUND((H36*E36),2) -> 0 | N36: =ROUND((I36*E36),2) -> 0 | O36: =ROUND((J36*E36),2) -> 0 | P36: =ROUND(SUM(O36+N36+M36),2) -> 0
A37: 1.3.5. | C37: Paceļams roku balsts un stacionārais roku balsts tualetes podam, tērauds, balts epoksīda pārklājums, max. slodze 120 kg | D37: kpl. | E37: 1 | H37: =ROUND(F37*G37,2) -> 0 | K37: =ROUND(J37+I37+H37,2) -> 0 | L37: =ROUND(E37*F37,2) -> 0 | M37: =ROUND(E37*H37,2) -> 0 | N37: =ROUND(E37*I37,2) -> 0 | O37: =ROUND(E37*J37,2) -> 0 | P37: =ROUND(M37+N37+O37,2) -> 0
A39: 1.4. | C39: Durvju, plauktu montāžas darbi | H39: =ROUND(F39*G39,2) -> 0 | K39: =ROUND(SUM(J39+I39+H39),2) -> 0 | L39: =ROUND((F39*E39),2) -> 0 | M39: =ROUND((H39*E39),2) -> 0 | N39: =ROUND((I39*E39),2) -> 0 | O39: =ROUND((J39*E39),2) -> 0 | P39: =ROUND(SUM(O39+N39+M39),2) -> 0
A40: 1.4.1. | C40: Ugunsdrošu metāla durvju EI30 montāža ar furnitūru 0,9x2,0 m. Slēdzamas durvis. Durvju aizvēršanas mehānisms. EL30 durvju tonis - NCS S0502-Y20R, durvju aplodu tonējums - NCS S8505-B50G Vēršanās virzienu precizēt būvdarbu gaitā. | D40: gab. | E40: 1 | H40: =ROUND((G40*F40),2) -> 0 | K40: =ROUND(SUM(H40+I40+J40),2) -> 0 | L40: =ROUND((E40*F40),2) -> 0 | M40: =ROUND((E40*H40),2) -> 0 | N40: =ROUND((E40*I40),2) -> 0 | O40: =ROUND((E40*J40),2) -> 0 | P40: =ROUND(SUM(M40+N40+O40),2) -> 0
A41: 1.4.2. | C41: Metāls plaukts, montāža pie sienas (h=2000mm x b=3000mm), ūdens rezerves glabāšanas vieta | D41: gab. | E41: 1 | H41: =ROUND((G41*F41),2) -> 0 | K41: =ROUND(SUM(H41+I41+J41),2) -> 0 | L41: =ROUND((E41*F41),2) -> 0 | M41: =ROUND((E41*H41),2) -> 0 | N41: =ROUND((E41*I41),2) -> 0 | O41: =ROUND((E41*J41),2) -> 0 | P41: =ROUND(SUM(M41+N41+O41),2) -> 0
A42: 1.4.3. | C42: Metāla plaukts apšūts ar 12mm mitrumizturīgo saplāksni, ieskaitot furnitūru durvīm un durvis, montāža pie sienas (h=2000mm x b=1500mm), atkritumu tvertnes un maisu glabāšanas vieta | D42: gab. | E42: 1 | H42: =ROUND((G42*F42),2) -> 0 | K42: =ROUND(SUM(H42+I42+J42),2) -> 0 | L42: =ROUND((E42*F42),2) -> 0 | M42: =ROUND((E42*H42),2) -> 0 | N42: =ROUND((E42*I42),2) -> 0 | O42: =ROUND((E42*J42),2) -> 0 | P42: =ROUND(SUM(M42+N42+O42),2) -> 0
A44: 1.5. | C44: AVK-A darbi | H44: =ROUND(F44*G44,2) -> 0 | K44: =ROUND(SUM(J44+I44+H44),2) -> 0 | L44: =ROUND((F44*E44),2) -> 0 | M44: =ROUND((H44*E44),2) -> 0 | N44: =ROUND((I44*E44),2) -> 0 | O44: =ROUND((J44*E44),2) -> 0 | P44: =ROUND(SUM(O44+N44+M44),2) -> 0
A45: 1.5.1. | C45: Radiatoru pievadu montāža, pieslegšana pie apkures stāvvada. Cauruļvada montāža PPR AUL PEX DN32. Sienu šķērsošana un atvērumu aizdare. Noslegkrānu montāža | D45: m | E45: 40 | H45: =ROUND((G45*F45),2) -> 0 | K45: =ROUND(SUM(H45+I45+J45),2) -> 0 | L45: =ROUND((E45*F45),2) -> 0 | M45: =ROUND((E45*H45),2) -> 0 | N45: =ROUND((E45*I45),2) -> 0 | O45: =ROUND((E45*J45),2) -> 0 | P45: =ROUND(SUM(M45+N45+O45),2) -> 0
A46: 1.5.2. | C46: Tērauda radiators PURMO Compact ar cauruļvadu sānu pievienojumu, komplektā ar atgaisotāju, termogalvu, korķi un stiprinājuma kronšteiniem 1231W, C 22-500-1200 | D46: gab. | E46: 4 | H46: =ROUND((G46*F46),2) -> 0 | K46: =ROUND(SUM(H46+I46+J46),2) -> 0 | L46: =ROUND((E46*F46),2) -> 0 | M46: =ROUND((E46*H46),2) -> 0 | N46: =ROUND((E46*I46),2) -> 0 | O46: =ROUND((E46*J46),2) -> 0 | P46: =ROUND(SUM(M46+N46+O46),2) -> 0
A48: 1.7. | C48: UATS pasākumi un citi darbi | H48: =ROUND(F48*G48,2) -> 0 | K48: =ROUND(SUM(J48+I48+H48),2) -> 0 | L48: =ROUND((F48*E48),2) -> 0 | M48: =ROUND((H48*E48),2) -> 0 | N48: =ROUND((I48*E48),2) -> 0 | O48: =ROUND((J48*E48),2) -> 0 | P48: =ROUND(SUM(O48+N48+M48),2) -> 0
A49: 1.7.1. | C49: Dūmu detektoru montāža (akumulatora) | D49: gab. | E49: 6 | H49: =ROUND(F49*G49,2) -> 0 | K49: =ROUND(SUM(H49+I49+J49),2) -> 0 | L49: =ROUND((E49*F49),2) -> 0 | M49: =ROUND((E49*H49),2) -> 0 | N49: =ROUND((E49*I49),2) -> 0 | O49: =ROUND((E49*J49),2) -> 0 | P49: =ROUND(SUM(M49+N49+O49),2) -> 0
A50: 1.7.2. | C50: Informatīvās zīmes (ieeja patvertnē, ugunsdzēšamie aparāti, aptieciņa, WC u.c.c.), dublējot braila rakstā, jānovieto 1,0 - 1,5 m augstumā no grīdas, un burtu izmērs informācijai, kas atrodas uz durvīm, ir vismaz 5 cm. | D50: gb | E50: 10 | H50: =ROUND(F50*G50,2) -> 0 | K50: =ROUND(J50+I50+H50,2) -> 0 | L50: =ROUND(E50*F50,2) -> 0 | M50: =ROUND(E50*H50,2) -> 0 | N50: =ROUND(E50*I50,2) -> 0 | O50: =ROUND(E50*J50,2) -> 0 | P50: =ROUND(M50+N50+O50,2) -> 0
A51: 1.7.3. | C51: Evakuācijas kāpņu telpās margas krāsot kontrastējošā krāsā, lai ir redzams pie laba un vaja apgaismojuma, margu gali sākumā un beigās jāpagarina 30 cm pāri un gali ir noapaļoti uz leju | D51: m | E51: 0.6 | H51: =ROUND(F51*G51,2) -> 0 | K51: =ROUND(J51+I51+H51,2) -> 0 | L51: =ROUND(E51*F51,2) -> 0 | M51: =ROUND(E51*H51,2) -> 0 | N51: =ROUND(E51*I51,2) -> 0 | O51: =ROUND(E51*J51,2) -> 0 | P51: =ROUND(M51+N51+O51,2) -> 0
A52: Tiešās izmaksas kopā, t. sk. darba devēja sociālais nodoklis (23,59%): | L52: =SUM(L15:L51) -> 0 | M52: =SUM(M15:M51) -> 0 | N52: =SUM(N15:N51) -> 0 | O52: =SUM(O15:O51) -> 0 | P52: =SUM(P15:P51) -> 0
C56: Piezīme: Dažās pozīcijās konkrēti materiālu ražotāju vai produktu nosaukumi tiek norādīti tikai ar mērķi - pietiekami precīzi un skaidri noteikt pasūtītāja prasības, tādēļ pretendents ir tiesīgs piedāvāt šiem konkrētajiem produktiem līdzvērtīgus citu ražotāju produktus, kuri kvalitātes, izpildījuma, ekspluatācijas īpašību, savietojamības un funkcionalitātes ziņā ir līdzvērtīgi. Tādējādi, visas pozīcijas, kur norādīts konkrēts zīmols, preces modelis vai ražotājs, tiek papildinātas ar piebildi “vai ekvivalents”. Vispārīga norāde par iespēju piedāvāt ekvivalentus paredzēta Tehniskās specifikācijas 3.3.punktā.
