Workbook

Sheet KS
A1: Kopsavilkuma aprēķini pa darbu veidiem vai konstruktīvajiem elementiem
A2: 5.2.1.1/1/25/I/013 "Objektu pielāgošana un aprīkošana civilās aizsardzības mērķiem Rēzeknes novadā"
A3: (būvdarbu veids vai konstruktīvā elementa nosaukums)
A4: Objekta nosaukums | C4: Telpu remontdarbi patvertnes funkcionālo prasību pielāgošanai Pleikšņos, Pazemē
A5: Objekta adrese | C5: Pazeme, Pleikšņi, Ozolaines pag., Rēzeknes nov., LV-4601
A6: Pasūtītājs | C6: Rēzeknes novada pašvaldība
A8: Par kopējo summu (EUR) | C8: =E18 -> 0
A9: Kopējā darbietilpība, (c/h.) | C9: =I14 -> 0
A11: N.p.k. | B11: Kods, tāmes Nr. | C11: Būvdarbu veids vai konstruktīvā elementa nosaukums | E11: Tāmes izmaksas | F11: Tai skaitā | I11: Darbietilpība (c/h)
F12: darba alga | G12: būvizstrādājumi | H12: mehānismi
A13: 2 | B13: LT2 | C13: ='BUNKURS, Pleikšņi'!C5 -> Telpu remontdarbi patvertnes funkcionālo prasību pielāgošanai Pleikšņos, Pazemē | E13: ='BUNKURS, Pleikšņi'!P74 -> 0 | F13: ='BUNKURS, Pleikšņi'!M74 -> 0 | G13: ='BUNKURS, Pleikšņi'!N74 -> 0 | H13: ='BUNKURS, Pleikšņi'!O74 -> 0 | I13: ='BUNKURS, Pleikšņi'!L74 -> 0
A14: Kopā | E14: =SUM(E13:E13) -> 0 | F14: =SUM(F13:F13) -> 0 | G14: =SUM(G13:G13) -> 0 | H14: =SUM(H13:H13) -> 0 | I14: =SUM(I13:I13) -> 0
A15: Virsizdevumi | D15: 0 | E15: =ROUND((E14*D15),2) -> 0
A16: T.sk. darba aizsardzība | D16: 0 | E16: =ROUND((E15*D16),2) -> 0
A17: Peļņa | D17: 0 | E17: =ROUND((E14*D17),2) -> 0
A18: Pavisam kopā | E18: =E17+E15+E14 -> 0

Sheet BUNKURS, Pleikšņi
A1: Lokālā tāme Nr.2
A2: Atjaunošanas darbi
A3: (Darba veids vai konstruktīvā elementa nosaukums)
A5: Objekta nosaukums | C5: Telpu remontdarbi patvertnes funkcionālo prasību pielāgošanai Pleikšņos, Pazemē
A6: Būves nosaukums | C6: Bunkurs
A7: Pasūtītājs | C7: Rēzeknes novada pašvaldība
A10: Tāme sastādīta | K10: Tāmes izmaksas | M10: =P74 -> 0
A11: Nr.p.k. | B11: Kods | D11: Mērv. | E11: Daudz. | F11: Vienības izmaksas | L11: Kopā uz visu apjomu | P11: Summa (EUR)
F12: Laika norma (c/h) | G12: Darba samaksas likme (EUR/h) | H12: Darba alga (EUR) | I12: Būvizstrādājumi (EUR) | J12: Mehānismi (EUR) | K12: KOPĀ (EUR) | L12: Darbietilpība (C/h) | M12: Darba alga (EUR) | N12: Būvizstrādājumi (EUR) | O12: Mehānismi (EUR)
A14: 1 | B14: 2 | C14: 3 | D14: 4 | E14: 5 | F14: 6 | G14: 7 | H14: 8 | I14: 9 | J14: 10 | K14: 11 | L14: 12 | M14: 13 | N14: 14 | O14: 15 | P14: 16
A15: 1. | C15: Bunkurs, Pleikšņi | K15: =ROUND(SUM(J15+I15+H15),2) -> 0 | L15: =ROUND((F15*E15),2) -> 0 | M15: =ROUND((H15*E15),2) -> 0 | N15: =ROUND((I15*E15),2) -> 0 | O15: =ROUND((J15*E15),2) -> 0 | P15: =ROUND(SUM(O15+N15+M15),2) -> 0
A16: 1.1. | C16: Sagatavošanas darbi | H16: =ROUND(F16*G16,2) -> 0 | K16: =ROUND(SUM(J16+I16+H16),2) -> 0 | L16: =ROUND((F16*E16),2) -> 0 | M16: =ROUND((H16*E16),2) -> 0 | N16: =ROUND((I16*E16),2) -> 0 | O16: =ROUND((J16*E16),2) -> 0 | P16: =ROUND(SUM(O16+N16+M16),2) -> 0
A17: 1.1.1. | C17: Veco elektro un vājstrāvas tīklu demontāža, t.sk. gaismekļi, slēdži, ligzdas, detektori, kārba u.c. el.tīklu elementi | D17: obj. | E17: 1 | H17: =ROUND(F17*G17,2) -> 0 | K17: =ROUND(SUM(J17+I17+H17),2) -> 0 | L17: =ROUND((F17*E17),2) -> 0 | M17: =ROUND((H17*E17),2) -> 0 | N17: =ROUND((I17*E17),2) -> 0 | O17: =ROUND((J17*E17),2) -> 0 | P17: =ROUND(SUM(O17+N17+M17),2) -> 0
A18: 1.1.2. | C18: Patvertnes daļas attīrīšana no smilts kārtas (izejas zonā), iznešana ārā (roku darbs), izvešana uz atbertni (augstums 1-1.5m) | D18: m2 | E18: 40 | H18: =ROUND(F18*G18,2) -> 0 | K18: =ROUND(SUM(J18+I18+H18),2) -> 0 | L18: =ROUND((F18*E18),2) -> 0 | M18: =ROUND((H18*E18),2) -> 0 | N18: =ROUND((I18*E18),2) -> 0 | O18: =ROUND((J18*E18),2) -> 0 | P18: =ROUND(SUM(O18+N18+M18),2) -> 0
A19: 1.1.6. | C19: Pagrabstāva betona grīdas tīrīšana, gruntēšana remonts lokālajās vietās | D19: m2 | E19: 147 | H19: =ROUND(F19*G19,2) -> 0 | K19: =ROUND(SUM(J19+I19+H19),2) -> 0 | L19: =ROUND((F19*E19),2) -> 0 | M19: =ROUND((H19*E19),2) -> 0 | N19: =ROUND((I19*E19),2) -> 0 | O19: =ROUND((J19*E19),2) -> 0 | P19: =ROUND(SUM(O19+N19+M19),2) -> 0
A20: 1.1.7. | C20: Durvju, durvju kārbas demontāža | D20: gab. | E20: 3 | H20: =ROUND(F20*G20,2) -> 0 | K20: =ROUND(SUM(J20+I20+H20),2) -> 0 | L20: =ROUND((F20*E20),2) -> 0 | M20: =ROUND((H20*E20),2) -> 0 | N20: =ROUND((I20*E20),2) -> 0 | O20: =ROUND((J20*E20),2) -> 0 | P20: =ROUND(SUM(O20+N20+M20),2) -> 0
A21: 1.1.8. | C21: Pagrabstāva sienu tīrīšana, gruntēšana, remonts lokālajās vietās | D21: m2 | E21: 200 | H21: =ROUND(F21*G21,2) -> 0 | K21: =ROUND(SUM(J21+I21+H21),2) -> 0 | L21: =ROUND((F21*E21),2) -> 0 | M21: =ROUND((H21*E21),2) -> 0 | N21: =ROUND((I21*E21),2) -> 0 | O21: =ROUND((J21*E21),2) -> 0 | P21: =ROUND(SUM(O21+N21+M21),2) -> 0
A22: 1.1.9. | C22: Pagrabstāva griestu tīrīšana | D22: m2 | E22: 147 | H22: =ROUND(F22*G22,2) -> 0 | K22: =ROUND(SUM(J22+I22+H22),2) -> 0 | L22: =ROUND((F22*E22),2) -> 0 | M22: =ROUND((H22*E22),2) -> 0 | N22: =ROUND((I22*E22),2) -> 0 | O22: =ROUND((J22*E22),2) -> 0 | P22: =ROUND(SUM(O22+N22+M22),2) -> 0
A23: 1.1.10. | C23: Būvgružu utilizācija | D23: obj. | E23: 1 | H23: =ROUND(F23*G23,2) -> 0 | K23: =ROUND(SUM(J23+I23+H23),2) -> 0 | L23: =ROUND((F23*E23),2) -> 0 | M23: =ROUND((H23*E23),2) -> 0 | N23: =ROUND((I23*E23),2) -> 0 | O23: =ROUND((J23*E23),2) -> 0 | P23: =ROUND(SUM(O23+N23+M23),2) -> 0
A25: 1.2. | C25: Sienu, grīdas, griestu apdare sanmezglos, kāpņu telpā | H25: =ROUND(F25*G25,2) -> 0 | K25: =ROUND(SUM(J25+I25+H25),2) -> 0 | L25: =ROUND((F25*E25),2) -> 0 | M25: =ROUND((H25*E25),2) -> 0 | N25: =ROUND((I25*E25),2) -> 0 | O25: =ROUND((J25*E25),2) -> 0 | P25: =ROUND(SUM(O25+N25+M25),2) -> 0
A26: 1.2.1. | C26: Sienu gruntēšana un apmetuma iestrāde (sanmezglos) | D26: m2 | E26: 15 | H26: =ROUND(F26*G26,2) -> 0 | K26: =ROUND(SUM(J26+I26+H26),2) -> 0 | L26: =ROUND((F26*E26),2) -> 0 | M26: =ROUND((H26*E26),2) -> 0 | N26: =ROUND((I26*E26),2) -> 0 | O26: =ROUND((J26*E26),2) -> 0 | P26: =ROUND(SUM(O26+N26+M26),2) -> 0
A27: 1.2.2. | C27: Betona grīdas tīrīšana, gruntēsana, līdzināšana un pretslīdes pārklājuma izbūve, nodrošinot pretslīdes klasi R10 (sanmezglos) | D27: m2 | E27: 4.1 | H27: =ROUND(F27*G27,2) -> 0 | K27: =ROUND(SUM(J27+I27+H27),2) -> 0 | L27: =ROUND((F27*E27),2) -> 0 | M27: =ROUND((H27*E27),2) -> 0 | N27: =ROUND((I27*E27),2) -> 0 | O27: =ROUND((J27*E27),2) -> 0 | P27: =ROUND(SUM(O27+N27+M27),2) -> 0
A28: 1.2.3. | C28: Griestu tīrīšāna, gruntēšana, krāsošana (sanmezglos) | D28: m2 | E28: 4.1 | H28: =ROUND(F28*G28,2) -> 0 | K28: =ROUND(SUM(J28+I28+H28),2) -> 0 | L28: =ROUND((F28*E28),2) -> 0 | M28: =ROUND((H28*E28),2) -> 0 | N28: =ROUND((I28*E28),2) -> 0 | O28: =ROUND((J28*E28),2) -> 0 | P28: =ROUND(SUM(O28+N28+M28),2) -> 0
A29: 1.2.4. | C29: Pakāpienu tīrīšana, gruntēšana, remonts, (kāpņu telpā) | D29: gab. | E29: 40 | H29: =ROUND(F29*G29,2) -> 0 | K29: =ROUND(SUM(J29+I29+H29),2) -> 0 | L29: =ROUND((F29*E29),2) -> 0 | M29: =ROUND((H29*E29),2) -> 0 | N29: =ROUND((I29*E29),2) -> 0 | O29: =ROUND((J29*E29),2) -> 0 | P29: =ROUND(SUM(O29+N29+M29),2) -> 0
A30: 1.2.5. | C30: Sienu gruntēšana un apmetuma iestrāde (kāpņu telpā) | D30: m2 | E30: 60 | H30: =ROUND(F30*G30,2) -> 0 | K30: =ROUND(SUM(J30+I30+H30),2) -> 0 | L30: =ROUND((F30*E30),2) -> 0 | M30: =ROUND((H30*E30),2) -> 0 | N30: =ROUND((I30*E30),2) -> 0 | O30: =ROUND((J30*E30),2) -> 0 | P30: =ROUND(SUM(O30+N30+M30),2) -> 0
A31: 1.2.6. | C31: Betona grīdas tīrīšana, gruntēsana, līdzināšana un pretslīdes pārklājuma izbūve, nodrošinot pretslīdes klasi R10 (kāpņu telpā) | D31: m2 | E31: 15 | H31: =ROUND(F31*G31,2) -> 0 | K31: =ROUND(SUM(J31+I31+H31),2) -> 0 | L31: =ROUND((F31*E31),2) -> 0 | M31: =ROUND((H31*E31),2) -> 0 | N31: =ROUND((I31*E31),2) -> 0 | O31: =ROUND((J31*E31),2) -> 0 | P31: =ROUND(SUM(O31+N31+M31),2) -> 0
A32: 1.2.7. | C32: Griestu tīrīšāna, gruntēšana, krāsošana (kāpņu telpā) | D32: m2 | E32: 28 | H32: =ROUND(F32*G32,2) -> 0 | K32: =ROUND(SUM(J32+I32+H32),2) -> 0 | L32: =ROUND((F32*E32),2) -> 0 | M32: =ROUND((H32*E32),2) -> 0 | N32: =ROUND((I32*E32),2) -> 0 | O32: =ROUND((J32*E32),2) -> 0 | P32: =ROUND(SUM(O32+N32+M32),2) -> 0
A33: 1.2.8. | C33: Visi evakuācijas ceļi, tai skaitā pakāpieni, laukumu perimetri, margas, rokturi un durvju ailes (apmales), jāizceļ ar kontrastējošu krāsu attiecībā pret apkārtējo virsmu. Kontrastējošajam marķējumam jābūt nepārtrauktam un labi saskatāmam normālā un samazinātā apgaismojumā, nodrošinot evakuācijas ceļa un izeju vieglu identificēšanu. Evakuācijas izeju durvis un to ailes jāmarķē analogi VUGD rekomendētajiem piemēriem, izmantojot spilgtu kontrastējošu krāsu (piemēram, dzeltenu, zaļi luminiscējošu vai citu līdzvērtīgu risinājumu). | D33: obj. | E33: 1 | H33: =F33*G33 -> 0 | K33: =SUM(H33:J33) -> 0 | L33: =ROUND(E33*F33,2) -> 0 | M33: =ROUND(E33*H33,2) -> 0 | N33: =ROUND(E33*I33,2) -> 0 | O33: =ROUND(E33*J33,2) -> 0 | P33: =SUM(M33:O33) -> 0
A34: 1.2.9. | C34: Durvju vērtnes ir kontrastējošā krāsā, toni saskaņojot ar pasūtītāju | D34: gab. | E34: 3 | H34: =ROUND(F34*G34,2) -> 0 | K34: =ROUND(SUM(J34+I34+H34),2) -> 0 | L34: =ROUND((F34*E34),2) -> 0 | M34: =ROUND((H34*E34),2) -> 0 | N34: =ROUND((I34*E34),2) -> 0 | O34: =ROUND((J34*E34),2) -> 0 | P34: =ROUND(SUM(O34+N34+M34),2) -> 0
A35: 1.2.10. | C35: Starpsienas ir izgatavotas no skaidu plāksnes (kokskaidu plātne) ar kopējo nominālo biezumu 24 mm izmantošanai mitros apstākļos. (h=2m) Konstrukcijā tiek izmantota LTT anodēta alumīnija profilu sistēma. Komplektācijā ietilpst sienas, durvis, furnitūra, stiprinājumi un karkass. Krāsa - ABET 475 – Gaiši pelēks, izmērus precizēt būvdarbu laikā, materiālu un toni saskaņot ar pasūtītāju | D35: m | E35: 16 | H35: =F35*G35 -> 0 | K35: =SUM(H35:J35) -> 0 | L35: =ROUND(E35*F35,2) -> 0 | M35: =ROUND(E35*H35,2) -> 0 | N35: =ROUND(E35*I35,2) -> 0 | O35: =ROUND(E35*J35,2) -> 0 | P35: =SUM(M35:O35) -> 0
A36: 1.3. | C36: Elektroapgāde, apgaismojums, IT tīkls | H36: =ROUND(F36*G36,2) -> 0 | K36: =ROUND(SUM(J36+I36+H36),2) -> 0 | L36: =ROUND((F36*E36),2) -> 0 | M36: =ROUND((H36*E36),2) -> 0 | N36: =ROUND((I36*E36),2) -> 0 | O36: =ROUND((J36*E36),2) -> 0 | P36: =ROUND(SUM(O36+N36+M36),2) -> 0
A37: 1.3.1. | C37: PVC kabeļu gofras stiprināšana (betona pārsegums un sienas), kabeļa ar vara dzīslam uzstādīšana, NYM-J 3x1,5, ieskaitot stiprinājumus | D37: m | E37: 150 | H37: =ROUND(F37*G37,2) -> 0 | K37: =ROUND(SUM(J37+I37+H37),2) -> 0 | L37: =ROUND((F37*E37),2) -> 0 | M37: =ROUND((H37*E37),2) -> 0 | N37: =ROUND((I37*E37),2) -> 0 | O37: =ROUND((J37*E37),2) -> 0 | P37: =ROUND(SUM(O37+N37+M37),2) -> 0
A38: 1.3.2. | C38: PVC kabeļu gofras stiprināšana (betona sienas), kabeļa ar vara dzīslam uzstādīšana, NYM-J 3x2,5, ieskaitot stiprinājumus | D38: m | E38: 300 | H38: =ROUND(F38*G38,2) -> 0 | K38: =ROUND(SUM(J38+I38+H38),2) -> 0 | L38: =ROUND((F38*E38),2) -> 0 | M38: =ROUND((H38*E38),2) -> 0 | N38: =ROUND((I38*E38),2) -> 0 | O38: =ROUND((J38*E38),2) -> 0 | P38: =ROUND(SUM(O38+N38+M38),2) -> 0
A39: 1.3.3. | C39: Virsapmetuma montāžas kārba ar kontaktligzda zemapmetuma 1v., 230V; 16A; L+N+PE IP-20 | D39: gb | E39: 15 | H39: =ROUND(F39*G39,2) -> 0 | K39: =ROUND(SUM(J39+I39+H39),2) -> 0 | L39: =ROUND((F39*E39),2) -> 0 | M39: =ROUND((H39*E39),2) -> 0 | N39: =ROUND((I39*E39),2) -> 0 | O39: =ROUND((J39*E39),2) -> 0 | P39: =ROUND(SUM(O39+N39+M39),2) -> 0
A40: 1.3.4. | C40: SADALNE VIRSAPMETUMA PLEXO IP65 IK09 PE/N 2x12M | D40: gab. | E40: 1 | H40: =ROUND(F40*G40,2) -> 0 | K40: =ROUND(SUM(J40+I40+H40),2) -> 0 | L40: =ROUND((F40*E40),2) -> 0 | M40: =ROUND((H40*E40),2) -> 0 | N40: =ROUND((I40*E40),2) -> 0 | O40: =ROUND((J40*E40),2) -> 0 | P40: =ROUND(SUM(O40+N40+M40),2) -> 0
A41: 1.3.5. | C41: Automatiskais slēdzis, 10A, 230V, "C" ABB | D41: gab. | E41: 3 | H41: =ROUND(F41*G41,2) -> 0 | K41: =ROUND(SUM(J41+I41+H41),2) -> 0 | L41: =ROUND((F41*E41),2) -> 0 | M41: =ROUND((H41*E41),2) -> 0 | N41: =ROUND((I41*E41),2) -> 0 | O41: =ROUND((J41*E41),2) -> 0 | P41: =ROUND(SUM(O41+N41+M41),2) -> 0
A42: 1.3.6. | C42: Automatiskais slēdzis, 16A, 230V, "C" ABB | D42: gab. | E42: 3 | H42: =ROUND(F42*G42,2) -> 0 | K42: =ROUND(SUM(J42+I42+H42),2) -> 0 | L42: =ROUND((F42*E42),2) -> 0 | M42: =ROUND((H42*E42),2) -> 0 | N42: =ROUND((I42*E42),2) -> 0 | O42: =ROUND((J42*E42),2) -> 0 | P42: =ROUND(SUM(O42+N42+M42),2) -> 0
A43: 1.3.7. | C43: Slodzes slēdzis 3P 40A 400V | D43: gab. | E43: 1 | H43: =ROUND(F43*G43,2) -> 0 | K43: =ROUND(SUM(J43+I43+H43),2) -> 0 | L43: =ROUND((F43*E43),2) -> 0 | M43: =ROUND((H43*E43),2) -> 0 | N43: =ROUND((I43*E43),2) -> 0 | O43: =ROUND((J43*E43),2) -> 0 | P43: =ROUND(SUM(O43+N43+M43),2) -> 0
A44: 1.3.8. | C44: Palīgmateriāli el.sistēmas izbūvei t.sk, stiprinājumi, nozarkārbas, savienojumi u.c. elementi | D44: obj. | E44: 1 | H44: =ROUND(F44*G44,2) -> 0 | K44: =ROUND(SUM(J44+I44+H44),2) -> 0 | L44: =ROUND((F44*E44),2) -> 0 | M44: =ROUND((H44*E44),2) -> 0 | N44: =ROUND((I44*E44),2) -> 0 | O44: =ROUND((J44*E44),2) -> 0 | P44: =ROUND(SUM(O44+N44+M44),2) -> 0
A45: 1.3.9. | C45: Gaismeklis LED,virsapmetuma, lineārs, 1200mm, 4600lm, 35W, CRI 80, 4000K, 100.000h, IP65 Feilo Sylvania 0046370 START Waterproof Slim 1200 IP65 4600lm 840 | D45: gab. | E45: 6 | H45: =ROUND(G45*F45,2) -> 0 | K45: =ROUND(J45+I45+H45,2) -> 0 | L45: =ROUND(F45*E45,2) -> 0 | M45: =ROUND(H45*E45,2) -> 0 | N45: =ROUND(I45*E45,2) -> 0 | O45: =ROUND(J45*E45,2) -> 0 | P45: =ROUND(O45+N45+M45,2) -> 0
A46: 1.3.10. | C46: LED, virsapmetuma, griestu, DIONE LED PLUS 2550 LM 840 IP65 OPAL WHITE 22W) | D46: gab. | E46: 11 | H46: =ROUND(G46*F46,2) -> 0 | K46: =ROUND(J46+I46+H46,2) -> 0 | L46: =ROUND(F46*E46,2) -> 0 | M46: =ROUND(H46*E46,2) -> 0 | N46: =ROUND(I46*E46,2) -> 0 | O46: =ROUND(J46*E46,2) -> 0 | P46: =ROUND(O46+N46+M46,2) -> 0
A47: 1.3.11. | C47: Benzīna ģeneratora KS 10000E-1/3 230V / 400V 8000 W (vai ekvivalents) uzstādīšana, ar pieslēgšanu sadalnei, dūmgāzu novadīšana ārā | D47: gab. | E47: 1 | H47: =ROUND(G47*F47,2) -> 0 | K47: =ROUND(J47+I47+H47,2) -> 0 | L47: =ROUND(F47*E47,2) -> 0 | M47: =ROUND(H47*E47,2) -> 0 | N47: =ROUND(I47*E47,2) -> 0 | O47: =ROUND(J47*E47,2) -> 0 | P47: =ROUND(O47+N47+M47,2) -> 0
A48: 1.3.12. | C48: QLOCOM WLAN pastiprinātājs 1200M Repeater Dual Band Booster ar WPS, Wi-Fi signāla pastiprināšanai. | D48: gab. | E48: 2 | H48: =ROUND(F48*G48,2) -> 0 | K48: =ROUND(SUM(J48+I48+H48),2) -> 0 | L48: =ROUND((F48*E48),2) -> 0 | M48: =ROUND((H48*E48),2) -> 0 | N48: =ROUND((I48*E48),2) -> 0 | O48: =ROUND((J48*E48),2) -> 0 | P48: =ROUND(SUM(O48+N48+M48),2) -> 0
A49: 1.3.13. | C49: Tenda AX300 Wi-Fi 6 Portable Hotspot mobilais WiFi rūteris ar LCD displeju, 2100mAh akumulatoru, ar SIM pieslēgšanu piegāde, uzstādīšana | D49: gab. | E49: 1 | H49: =ROUND(F49*G49,2) -> 0 | K49: =ROUND(SUM(J49+I49+H49),2) -> 0 | L49: =ROUND((F49*E49),2) -> 0 | M49: =ROUND((H49*E49),2) -> 0 | N49: =ROUND((I49*E49),2) -> 0 | O49: =ROUND((J49*E49),2) -> 0 | P49: =ROUND(SUM(O49+N49+M49),2) -> 0
A51: 1.4. | C51: UK montāžas darbi | H51: =ROUND(F51*G51,2) -> 0 | K51: =ROUND(SUM(J51+I51+H51),2) -> 0 | L51: =ROUND((F51*E51),2) -> 0 | M51: =ROUND((H51*E51),2) -> 0 | N51: =ROUND((I51*E51),2) -> 0 | O51: =ROUND((J51*E51),2) -> 0 | P51: =ROUND(SUM(O51+N51+M51),2) -> 0
A52: 1.4.1. | C52: Portātīva izlietne Universal, Ūdens tvertnes tilpums: 17 litri, mehāniskais sūknis, ūdens tvertnes izmēri 50 x 17,5 x 33 cm; Ziepju tvertnes tilpums: 3 litri; Piegāde, uzstādīšana | D52: kpl. | E52: 2 | H52: =ROUND(F52*G52,2) -> 0 | K52: =ROUND(SUM(J52+I52+H52),2) -> 0 | L52: =ROUND((F52*E52),2) -> 0 | M52: =ROUND((H52*E52),2) -> 0 | N52: =ROUND((I52*E52),2) -> 0 | O52: =ROUND((J52*E52),2) -> 0 | P52: =ROUND(SUM(O52+N52+M52),2) -> 0
A53: 1.4.2. | C53: Sausā tualete P-506, piegāde,uzstādīšana | D53: kpl. | E53: 2 | H53: =ROUND(F53*G53,2) -> 0 | K53: =ROUND(SUM(J53+I53+H53),2) -> 0 | L53: =ROUND((F53*E53),2) -> 0 | M53: =ROUND((H53*E53),2) -> 0 | N53: =ROUND((I53*E53),2) -> 0 | O53: =ROUND((J53*E53),2) -> 0 | P53: =ROUND(SUM(O53+N53+M53),2) -> 0
A54: 1.4.3. | C54: Sausā tualete invalīdu aprīkojumā, piegāde,uzstādīšana | D54: kpl. | E54: 2 | H54: =ROUND(F54*G54,2) -> 0 | K54: =ROUND(SUM(J54+I54+H54),2) -> 0 | L54: =ROUND((F54*E54),2) -> 0 | M54: =ROUND((H54*E54),2) -> 0 | N54: =ROUND((I54*E54),2) -> 0 | O54: =ROUND((J54*E54),2) -> 0 | P54: =ROUND(SUM(O54+N54+M54),2) -> 0
A55: 1.4.4. | C55: Paceļams roku balsts un stacionārais roku balsts tualetes podam, tērauds, balts epoksīda pārklājums, max. slodze 120 kg | D55: kpl. | E55: 2 | H55: =ROUND(F55*G55,2) -> 0 | K55: =ROUND(J55+I55+H55,2) -> 0 | L55: =ROUND(E55*F55,2) -> 0 | M55: =ROUND(E55*H55,2) -> 0 | N55: =ROUND(E55*I55,2) -> 0 | O55: =ROUND(E55*J55,2) -> 0 | P55: =ROUND(M55+N55+O55,2) -> 0
A57: 1.5. | C57: Durvju, plauktu montāžas darbi | H57: =ROUND(F57*G57,2) -> 0 | K57: =ROUND(SUM(J57+I57+H57),2) -> 0 | L57: =ROUND((F57*E57),2) -> 0 | M57: =ROUND((H57*E57),2) -> 0 | N57: =ROUND((I57*E57),2) -> 0 | O57: =ROUND((J57*E57),2) -> 0 | P57: =ROUND(SUM(O57+N57+M57),2) -> 0
A58: 1.5.1. | C58: Ugunsdrošu metāla durvju EI30 montāža ar furnitūru 1,2x2,1 m. Slēdzamas durvis. Durvju aizvēršanas mehānisms. EL30 durvju tonis - NCS S0502-Y20R, durvju aplodu tonējums - NCS S8505-B50G Vēršanās virzienu precizēt būvdarbu gaitā. | D58: gab. | E58: 2 | H58: =ROUND((G58*F58),2) -> 0 | K58: =ROUND(SUM(H58+I58+J58),2) -> 0 | L58: =ROUND((E58*F58),2) -> 0 | M58: =ROUND((E58*H58),2) -> 0 | N58: =ROUND((E58*I58),2) -> 0 | O58: =ROUND((E58*J58),2) -> 0 | P58: =ROUND(SUM(M58+N58+O58),2) -> 0
A59: 1.5.2. | C59: Finerētas iekšdurvis 0,8x2,0mfurnitūra, aplodas. Vēršanās virzienu precizēt būvdarbu gaitā. Izmērs precizējams pirms pasūtījuma. Papildus uzstādāmas durvju atdures Hafele Durvju Atdure Pie Sienas 40mm, Balta. | D59: gab. | E59: 4 | H59: =ROUND((G59*F59),2) -> 0 | K59: =ROUND(SUM(H59+I59+J59),2) -> 0 | L59: =ROUND((E59*F59),2) -> 0 | M59: =ROUND((E59*H59),2) -> 0 | N59: =ROUND((E59*I59),2) -> 0 | O59: =ROUND((E59*J59),2) -> 0 | P59: =ROUND(SUM(M59+N59+O59),2) -> 0
A60: 1.5.3. | C60: Metāls plaukts, montāža pie sienas (h=2000mm x b=3000mm), ūdens rezerves glabāšanas vieta | D60: gab. | E60: 2 | H60: =ROUND((G60*F60),2) -> 0 | K60: =ROUND(SUM(H60+I60+J60),2) -> 0 | L60: =ROUND((E60*F60),2) -> 0 | M60: =ROUND((E60*H60),2) -> 0 | N60: =ROUND((E60*I60),2) -> 0 | O60: =ROUND((E60*J60),2) -> 0 | P60: =ROUND(SUM(M60+N60+O60),2) -> 0
A61: 1.5.4. | C61: Metāla plaukts apšūts ar 12mm mitrumizturīgo saplāksni, ieskaitot furnitūru durvīm un durvis, montāža pie sienas (h=2000mm x b=1500mm), atkritumu tvertnes un maisu glabāšanas vieta | D61: gab. | E61: 1 | H61: =ROUND((G61*F61),2) -> 0 | K61: =ROUND(SUM(H61+I61+J61),2) -> 0 | L61: =ROUND((E61*F61),2) -> 0 | M61: =ROUND((E61*H61),2) -> 0 | N61: =ROUND((E61*I61),2) -> 0 | O61: =ROUND((E61*J61),2) -> 0 | P61: =ROUND(SUM(M61+N61+O61),2) -> 0
A63: 1.6. | C63: AVK-A un AVK-V darbi | H63: =ROUND(F63*G63,2) -> 0 | K63: =ROUND(SUM(J63+I63+H63),2) -> 0 | L63: =ROUND((F63*E63),2) -> 0 | M63: =ROUND((H63*E63),2) -> 0 | N63: =ROUND((I63*E63),2) -> 0 | O63: =ROUND((J63*E63),2) -> 0 | P63: =ROUND(SUM(O63+N63+M63),2) -> 0
A64: 1.6.1. | C64: Elektriskais Radiators (Konvektors) Ensto BETA15-BT-EP 1500W Balts, piegāde, montāža uz sienas | D64: gab. | E64: 4 | H64: =ROUND((G64*F64),2) -> 0 | K64: =ROUND(SUM(H64+I64+J64),2) -> 0 | L64: =ROUND((E64*F64),2) -> 0 | M64: =ROUND((E64*H64),2) -> 0 | N64: =ROUND((E64*I64),2) -> 0 | O64: =ROUND((E64*J64),2) -> 0 | P64: =ROUND(SUM(M64+N64+O64),2) -> 0
A65: 1.6.2. | C65: Eletriskās ventilācijas sisēmas izbūve telpās (pieplūde), 5 telpas, ieskaitot visus pievadus, veidgabalus, restes, stiprinājumus, sienu šķērsošanu u.c.c | D65: m | E65: 40 | H65: =ROUND((G65*F65),2) -> 0 | K65: =ROUND(SUM(H65+I65+J65),2) -> 0 | L65: =ROUND((E65*F65),2) -> 0 | M65: =ROUND((E65*H65),2) -> 0 | N65: =ROUND((E65*I65),2) -> 0 | O65: =ROUND((E65*J65),2) -> 0 | P65: =ROUND(SUM(M65+N65+O65),2) -> 0
A66: 1.6.3. | C66: Eletriskās ventilācijas sisēmas izbūve telpās (nosūce), 5 telpas, ieskaitot visus pievadus, veidgabalus, restes, stiprinājumus, sienu šķērsošanu u.c.c | D66: m | E66: 40 | H66: =ROUND((G66*F66),2) -> 0 | K66: =ROUND(SUM(H66+I66+J66),2) -> 0 | L66: =ROUND((E66*F66),2) -> 0 | M66: =ROUND((E66*H66),2) -> 0 | N66: =ROUND((E66*I66),2) -> 0 | O66: =ROUND((E66*J66),2) -> 0 | P66: =ROUND(SUM(M66+N66+O66),2) -> 0
A68: 1.7. | C68: UATS pasākumi un citi darbi | H68: =ROUND(F68*G68,2) -> 0 | K68: =ROUND(SUM(J68+I68+H68),2) -> 0 | L68: =ROUND((F68*E68),2) -> 0 | M68: =ROUND((H68*E68),2) -> 0 | N68: =ROUND((I68*E68),2) -> 0 | O68: =ROUND((J68*E68),2) -> 0 | P68: =ROUND(SUM(O68+N68+M68),2) -> 0
A69: 1.7.1. | C69: Dūmu detektoru montāža (akumulatora) | D69: gab. | E69: 10 | H69: =ROUND((G69*F69),2) -> 0 | K69: =ROUND(SUM(H69+I69+J69),2) -> 0 | L69: =ROUND((E69*F69),2) -> 0 | M69: =ROUND((E69*H69),2) -> 0 | N69: =ROUND((E69*I69),2) -> 0 | O69: =ROUND((E69*J69),2) -> 0 | P69: =ROUND(SUM(M69+N69+O69),2) -> 0
A70: 1.7.2. | C70: Informatīvās zīmes (ieeja patvertnē, ugunsdzēšamie aparāti, aptieciņa, WC u.c.c.), dublējot braila rakstā, jānovieto 1,0 - 1,5 m augstumā no grīdas, un burtu izmērs informācijai, kas atrodas uz durvīm, ir vismaz 5 cm. | D70: gb | E70: 20 | H70: =ROUND(F70*G70,2) -> 0 | K70: =ROUND(J70+I70+H70,2) -> 0 | L70: =ROUND(E70*F70,2) -> 0 | M70: =ROUND(E70*H70,2) -> 0 | N70: =ROUND(E70*I70,2) -> 0 | O70: =ROUND(E70*J70,2) -> 0 | P70: =ROUND(M70+N70+O70,2) -> 0
A71: 1.7.3. | C71: Esošo ieejas kāpņu pakāpienu labošana nodrošinot vienādu pakāpienu augstumu un piebetonēšanu lokālās vietās | D71: obj. | E71: 1 | H71: =ROUND(F71*G71,2) -> 0 | K71: =ROUND(J71+I71+H71,2) -> 0 | L71: =ROUND(E71*F71,2) -> 0 | M71: =ROUND(E71*H71,2) -> 0 | N71: =ROUND(E71*I71,2) -> 0 | O71: =ROUND(E71*J71,2) -> 0 | P71: =ROUND(M71+N71+O71,2) -> 0
A72: 1.7.4. | C72: Evakuācijas kāpņu telpās paredzēt krāsota metāla margas 1,1m augstumā kontrastējošā krāsā, lai ir redzams pie laba un vaja apgaismojuma, margu gali sākumā un beigās sniedzas 30 cm pāri un gali ir noapaļoti uz leju | D72: m | E72: 10 | H72: =ROUND(F72*G72,2) -> 0 | K72: =ROUND(J72+I72+H72,2) -> 0 | L72: =ROUND(E72*F72,2) -> 0 | M72: =ROUND(E72*H72,2) -> 0 | N72: =ROUND(E72*I72,2) -> 0 | O72: =ROUND(E72*J72,2) -> 0 | P72: =ROUND(M72+N72+O72,2) -> 0
A74: Tiešās izmaksas kopā, t. sk. darba devēja sociālais nodoklis (23,59%): | L74: =SUM(L15:L73) -> 0 | M74: =SUM(M15:M73) -> 0 | N74: =SUM(N15:N73) -> 0 | O74: =SUM(O15:O73) -> 0 | P74: =SUM(P15:P73) -> 0
