Workbook

Sheet KS
A1: Kopsavilkuma aprēķini pa darbu veidiem vai konstruktīvajiem elementiem
A2: 5.2.1.1/1/25/I/013 "Objektu pielāgošana un aprīkošana civilās aizsardzības mērķiem Rēzeknes novadā"
A3: (būvdarbu veids vai konstruktīvā elementa nosaukums)
A4: Objekta nosaukums | C4: Telpu remontdarbi patvertnes funkcionālo prasību pielāgošanai Maltā, Brīvības ielā 6
A5: Objekta adrese | C5: Brīvības iela 6, Malta, Maltas pag., Rēzekens nov., LV-4630
A6: Pasūtītājs | C6: Rēzeknes novada pašvaldība
A8: Par kopējo summu (EUR) | C8: =E18 -> 0
A9: Kopējā darbietilpība, (c/h.) | C9: =I14 -> 0
A11: N.p.k. | B11: Kods, tāmes Nr. | C11: Būvdarbu veids vai konstruktīvā elementa nosaukums | E11: Tāmes izmaksas | F11: Tai skaitā | I11: Darbietilpība (c/h)
F12: darba alga | G12: būvizstrādājumi | H12: mehānismi
A13: 4 | B13: LT4 | C13: ='Brīvības iela 6, Malta'!C5 -> Telpu remontdarbi patvertnes funkcionālo prasību pielāgošanai Maltā, Brīvības ielā 6 | E13: ='Brīvības iela 6, Malta'!P73 -> 0 | F13: ='Brīvības iela 6, Malta'!M73 -> 0 | G13: ='Brīvības iela 6, Malta'!N73 -> 0 | H13: ='Brīvības iela 6, Malta'!O73 -> 0 | I13: ='Brīvības iela 6, Malta'!L73 -> 0
A14: Kopā | E14: =SUM(E13:E13) -> 0 | F14: =SUM(F13:F13) -> 0 | G14: =SUM(G13:G13) -> 0 | H14: =SUM(H13:H13) -> 0 | I14: =SUM(I13:I13) -> 0
A15: Virsizdevumi | D15: 0 | E15: =ROUND((E14*D15),2) -> 0
A16: T.sk. darba aizsardzība | D16: 0 | E16: =ROUND((E15*D16),2) -> 0
A17: Peļņa | D17: 0 | E17: =ROUND((E14*D17),2) -> 0
A18: Pavisam kopā | E18: =E17+E15+E14 -> 0

Sheet Brīvības iela 6, Malta
A1: Lokālā tāme Nr.4
A2: Atjaunošanas darbi
A3: (Darba veids vai konstruktīvā elementa nosaukums)
A5: Objekta nosaukums | C5: Telpu remontdarbi patvertnes funkcionālo prasību pielāgošanai Maltā, Brīvības ielā 6
A6: Būves nosaukums | C6: Maltas apvienības pārvalde
A7: Pasūtītājs | C7: Rēzeknes novada pašvaldība
A10: Tāme sastādīta | K10: Tāmes izmaksas | M10: =P73 -> 0
A11: Nr.p.k. | B11: Kods | D11: Mērv. | E11: Daudz. | F11: Vienības izmaksas | L11: Kopā uz visu apjomu | P11: Summa (EUR)
F12: Laika norma (c/h) | G12: Darba samaksas likme (EUR/h) | H12: Darba alga (EUR) | I12: Būvizstrādājumi (EUR) | J12: Mehānismi (EUR) | K12: KOPĀ (EUR) | L12: Darbietilpība (C/h) | M12: Darba alga (EUR) | N12: Būvizstrādājumi (EUR) | O12: Mehānismi (EUR)
A14: 1 | B14: 2 | C14: 3 | D14: 4 | E14: 5 | F14: 6 | G14: 7 | H14: 8 | I14: 9 | J14: 10 | K14: 11 | L14: 12 | M14: 13 | N14: 14 | O14: 15 | P14: 16
A15: 1. | C15: Brīvības iela 6, Malta | K15: =ROUND(SUM(J15+I15+H15),2) -> 0 | L15: =ROUND((F15*E15),2) -> 0 | M15: =ROUND((H15*E15),2) -> 0 | N15: =ROUND((I15*E15),2) -> 0 | O15: =ROUND((J15*E15),2) -> 0 | P15: =ROUND(SUM(O15+N15+M15),2) -> 0
A16: 1.1. | C16: Sagatavošanas darbi | H16: =ROUND(F16*G16,2) -> 0 | K16: =ROUND(SUM(J16+I16+H16),2) -> 0 | L16: =ROUND((F16*E16),2) -> 0 | M16: =ROUND((H16*E16),2) -> 0 | N16: =ROUND((I16*E16),2) -> 0 | O16: =ROUND((J16*E16),2) -> 0 | P16: =ROUND(SUM(O16+N16+M16),2) -> 0
A17: 1.1.1. | C17: Veco elektro un vājstrāvas tīklu demontāža, t.sk. gaismekļi, slēdži, ligzdas, detektori, kārba u.c. el.tīklu elementi | D17: obj. | E17: 1 | H17: =ROUND(F17*G17,2) -> 0 | K17: =ROUND(SUM(J17+I17+H17),2) -> 0 | L17: =ROUND((F17*E17),2) -> 0 | M17: =ROUND((H17*E17),2) -> 0 | N17: =ROUND((I17*E17),2) -> 0 | O17: =ROUND((J17*E17),2) -> 0 | P17: =ROUND(SUM(O17+N17+M17),2) -> 0
A18: 1.1.2. | C18: Vecās kanalizācijas, ūdensvada tīklu demontāža, t.sk. podi, izlietnes u.c. uk tīklu elementi | D18: obj. | E18: 1 | H18: =ROUND(F18*G18,2) -> 0 | K18: =ROUND(SUM(J18+I18+H18),2) -> 0 | L18: =ROUND((F18*E18),2) -> 0 | M18: =ROUND((H18*E18),2) -> 0 | N18: =ROUND((I18*E18),2) -> 0 | O18: =ROUND((J18*E18),2) -> 0 | P18: =ROUND(SUM(O18+N18+M18),2) -> 0
A19: 1.1.3. | C19: Vecās ventilācijas sistēmas tīklu demontāža, stiprinājumi, ventšahtas u.c. ventilācijas tīklu elementi | D19: obj. | E19: 1 | H19: =ROUND(F19*G19,2) -> 0 | K19: =ROUND(SUM(J19+I19+H19),2) -> 0 | L19: =ROUND((F19*E19),2) -> 0 | M19: =ROUND((H19*E19),2) -> 0 | N19: =ROUND((I19*E19),2) -> 0 | O19: =ROUND((J19*E19),2) -> 0 | P19: =ROUND(SUM(O19+N19+M19),2) -> 0
A20: 1.1.4. | C20: Ventilācijas kanālu tīrīšana, restes nomaiņa | D20: gab. | E20: 2 | H20: =ROUND(F20*G20,2) -> 0 | K20: =ROUND(SUM(J20+I20+H20),2) -> 0 | L20: =ROUND((F20*E20),2) -> 0 | M20: =ROUND((H20*E20),2) -> 0 | N20: =ROUND((I20*E20),2) -> 0 | O20: =ROUND((J20*E20),2) -> 0 | P20: =ROUND(SUM(O20+N20+M20),2) -> 0
A21: 1.1.5. | C21: Pagrabstāva betona grīdas tīrīšana, gruntēšana remonts lokālajās vietās | D21: m2 | E21: 60.4 | H21: =ROUND(F21*G21,2) -> 0 | K21: =ROUND(SUM(J21+I21+H21),2) -> 0 | L21: =ROUND((F21*E21),2) -> 0 | M21: =ROUND((H21*E21),2) -> 0 | N21: =ROUND((I21*E21),2) -> 0 | O21: =ROUND((J21*E21),2) -> 0 | P21: =ROUND(SUM(O21+N21+M21),2) -> 0
A22: 1.1.6. | C22: Durvju, durvju kārbas demontāža | D22: gab. | E22: 4 | H22: =ROUND(F22*G22,2) -> 0 | K22: =ROUND(SUM(J22+I22+H22),2) -> 0 | L22: =ROUND((F22*E22),2) -> 0 | M22: =ROUND((H22*E22),2) -> 0 | N22: =ROUND((I22*E22),2) -> 0 | O22: =ROUND((J22*E22),2) -> 0 | P22: =ROUND(SUM(O22+N22+M22),2) -> 0
A23: 1.1.7. | C23: Pagrabstāva sienu tīrīšana, gruntēšana, remonts lokālajās vietās | D23: m2 | E23: 150 | H23: =ROUND(F23*G23,2) -> 0 | K23: =ROUND(SUM(J23+I23+H23),2) -> 0 | L23: =ROUND((F23*E23),2) -> 0 | M23: =ROUND((H23*E23),2) -> 0 | N23: =ROUND((I23*E23),2) -> 0 | O23: =ROUND((J23*E23),2) -> 0 | P23: =ROUND(SUM(O23+N23+M23),2) -> 0
A24: 1.1.8. | C24: Pagrabstāva griestu tīrīšana | D24: m2 | E24: 60.4 | H24: =ROUND(F24*G24,2) -> 0 | K24: =ROUND(SUM(J24+I24+H24),2) -> 0 | L24: =ROUND((F24*E24),2) -> 0 | M24: =ROUND((H24*E24),2) -> 0 | N24: =ROUND((I24*E24),2) -> 0 | O24: =ROUND((J24*E24),2) -> 0 | P24: =ROUND(SUM(O24+N24+M24),2) -> 0
A25: 1.1.9. | C25: Būvgružu utilizācija | D25: obj. | E25: 1 | H25: =ROUND(F25*G25,2) -> 0 | K25: =ROUND(SUM(J25+I25+H25),2) -> 0 | L25: =ROUND((F25*E25),2) -> 0 | M25: =ROUND((H25*E25),2) -> 0 | N25: =ROUND((I25*E25),2) -> 0 | O25: =ROUND((J25*E25),2) -> 0 | P25: =ROUND(SUM(O25+N25+M25),2) -> 0
A27: 1.2. | C27: Sienu, grīdas, griestu apdare sanmezglā | H27: =ROUND(F27*G27,2) -> 0 | K27: =ROUND(SUM(J27+I27+H27),2) -> 0 | L27: =ROUND((F27*E27),2) -> 0 | M27: =ROUND((H27*E27),2) -> 0 | N27: =ROUND((I27*E27),2) -> 0 | O27: =ROUND((J27*E27),2) -> 0 | P27: =ROUND(SUM(O27+N27+M27),2) -> 0
A28: 1.2.1. | C28: Sienu gruntēšana un apmetuma iestrāde | D28: m2 | E28: 30 | H28: =ROUND(F28*G28,2) -> 0 | K28: =ROUND(SUM(J28+I28+H28),2) -> 0 | L28: =ROUND((F28*E28),2) -> 0 | M28: =ROUND((H28*E28),2) -> 0 | N28: =ROUND((I28*E28),2) -> 0 | O28: =ROUND((J28*E28),2) -> 0 | P28: =ROUND(SUM(O28+N28+M28),2) -> 0
A29: 1.2.2. | C29: Betona grīdas tīrīšana, gruntēsana, līdzināšana un pretslīdes pārklājuma izbūve, nodrošinot pretslīdes klasi R10 | D29: m2 | E29: 5.6 | H29: =ROUND(F29*G29,2) -> 0 | K29: =ROUND(SUM(J29+I29+H29),2) -> 0 | L29: =ROUND((F29*E29),2) -> 0 | M29: =ROUND((H29*E29),2) -> 0 | N29: =ROUND((I29*E29),2) -> 0 | O29: =ROUND((J29*E29),2) -> 0 | P29: =ROUND(SUM(O29+N29+M29),2) -> 0
A30: 1.2.3. | C30: Griestu tīrīšāna, gruntēšana, krāsošana | D30: m2 | E30: 5.6 | H30: =ROUND(F30*G30,2) -> 0 | K30: =ROUND(SUM(J30+I30+H30),2) -> 0 | L30: =ROUND((F30*E30),2) -> 0 | M30: =ROUND((H30*E30),2) -> 0 | N30: =ROUND((I30*E30),2) -> 0 | O30: =ROUND((J30*E30),2) -> 0 | P30: =ROUND(SUM(O30+N30+M30),2) -> 0
A31: 1.2.4. | C31: Pakāpienu tīrīšana, gruntēšana, remonts, (kāpņu telpā) | D31: gab. | E31: 20 | H31: =ROUND(F31*G31,2) -> 0 | K31: =ROUND(SUM(J31+I31+H31),2) -> 0 | L31: =ROUND((F31*E31),2) -> 0 | M31: =ROUND((H31*E31),2) -> 0 | N31: =ROUND((I31*E31),2) -> 0 | O31: =ROUND((J31*E31),2) -> 0 | P31: =ROUND(SUM(O31+N31+M31),2) -> 0
A32: 1.2.5. | C32: Sienu gruntēšana un apmetuma iestrāde (kāpņu telpā) | D32: m2 | E32: 45 | H32: =ROUND(F32*G32,2) -> 0 | K32: =ROUND(SUM(J32+I32+H32),2) -> 0 | L32: =ROUND((F32*E32),2) -> 0 | M32: =ROUND((H32*E32),2) -> 0 | N32: =ROUND((I32*E32),2) -> 0 | O32: =ROUND((J32*E32),2) -> 0 | P32: =ROUND(SUM(O32+N32+M32),2) -> 0
A33: 1.2.6. | C33: Betona grīdas tīrīšana, gruntēsana, līdzināšana un pretslīdes pārklājuma izbūve, nodrošinot pretslīdes klasi R10 (kāpņu telpā) | D33: m2 | E33: 3 | H33: =ROUND(F33*G33,2) -> 0 | K33: =ROUND(SUM(J33+I33+H33),2) -> 0 | L33: =ROUND((F33*E33),2) -> 0 | M33: =ROUND((H33*E33),2) -> 0 | N33: =ROUND((I33*E33),2) -> 0 | O33: =ROUND((J33*E33),2) -> 0 | P33: =ROUND(SUM(O33+N33+M33),2) -> 0
A34: 1.2.7. | C34: Griestu tīrīšāna, gruntēšana, krāsošana (kāpņu telpā) | D34: m2 | E34: 5.6 | H34: =ROUND(F34*G34,2) -> 0 | K34: =ROUND(SUM(J34+I34+H34),2) -> 0 | L34: =ROUND((F34*E34),2) -> 0 | M34: =ROUND((H34*E34),2) -> 0 | N34: =ROUND((I34*E34),2) -> 0 | O34: =ROUND((J34*E34),2) -> 0 | P34: =ROUND(SUM(O34+N34+M34),2) -> 0
A35: 1.2.8. | C35: Starpsienas ir izgatavotas no skaidu plāksnes (kokskaidu plātne) ar kopējo nominālo biezumu 24 mm izmantošanai mitros apstākļos. (h=2m) Konstrukcijā tiek izmantota LTT anodēta alumīnija profilu sistēma. Komplektācijā ietilpst sienas, durvis, furnitūra, stiprinājumi un karkass. Krāsa - ABET 475 – Gaiši pelēks, izmērus precizēt būvdarbu laikā, materiālu un toni saskaņot ar pasūtītāju | D35: m | E35: 6.4 | H35: =F35*G35 -> 0 | K35: =SUM(H35:J35) -> 0 | L35: =ROUND(E35*F35,2) -> 0 | M35: =ROUND(E35*H35,2) -> 0 | N35: =ROUND(E35*I35,2) -> 0 | O35: =ROUND(E35*J35,2) -> 0 | P35: =SUM(M35:O35) -> 0
C36: Visi evakuācijas ceļi, tai skaitā pakāpieni, laukumu perimetri, margas, rokturi un durvju ailes (apmales), jāizceļ ar kontrastējošu krāsu attiecībā pret apkārtējo virsmu. Kontrastējošajam marķējumam jābūt nepārtrauktam, neslīdīgam un labi saskatāmam normālā un samazinātā apgaismojumā, nodrošinot evakuācijas ceļa un izeju vieglu identificēšanu. Evakuācijas izeju durvis un to ailes jāmarķē analogi VUGD rekomendētajiem piemēriem, izmantojot spilgtu kontrastējošu krāsu (piemēram, dzeltenu, zaļi luminiscējošu vai citu līdzvērtīgu risinājumu). | D36: obj. | E36: 1 | H36: =F36*G36 -> 0 | K36: =SUM(H36:J36) -> 0 | L36: =ROUND(E36*F36,2) -> 0 | M36: =ROUND(E36*H36,2) -> 0 | N36: =ROUND(E36*I36,2) -> 0 | O36: =ROUND(E36*J36,2) -> 0 | P36: =SUM(M36:O36) -> 0
C37: Durvju vērtnes ir kontrastējošā krāsā, toni saskaņojot ar pasūtītāju | D37: gab. | E37: 4 | H37: =ROUND(F37*G37,2) -> 0 | K37: =ROUND(SUM(J37+I37+H37),2) -> 0 | L37: =ROUND((F37*E37),2) -> 0 | M37: =ROUND((H37*E37),2) -> 0 | N37: =ROUND((I37*E37),2) -> 0 | O37: =ROUND((J37*E37),2) -> 0 | P37: =ROUND(SUM(O37+N37+M37),2) -> 0
A38: 1.3. | C38: Elektroapgāde, apgaismojums, IT tīkls | H38: =ROUND(F38*G38,2) -> 0 | K38: =ROUND(SUM(J38+I38+H38),2) -> 0 | L38: =ROUND((F38*E38),2) -> 0 | M38: =ROUND((H38*E38),2) -> 0 | N38: =ROUND((I38*E38),2) -> 0 | O38: =ROUND((J38*E38),2) -> 0 | P38: =ROUND(SUM(O38+N38+M38),2) -> 0
A39: 1.3.1. | C39: PVC kabeļu gofras stiprināšana (betona pārsegums un sienas), kabeļa ar vara dzīslam uzstādīšana, NYM-J 3x1,5, ieskaitot stiprinājumus | D39: m | E39: 150 | H39: =ROUND(F39*G39,2) -> 0 | K39: =ROUND(SUM(J39+I39+H39),2) -> 0 | L39: =ROUND((F39*E39),2) -> 0 | M39: =ROUND((H39*E39),2) -> 0 | N39: =ROUND((I39*E39),2) -> 0 | O39: =ROUND((J39*E39),2) -> 0 | P39: =ROUND(SUM(O39+N39+M39),2) -> 0
A40: 1.3.2. | C40: PVC kabeļu gofras stiprināšana (betona sienas), kabeļa ar vara dzīslam uzstādīšana, NYM-J 3x2,5, ieskaitot stiprinājumus | D40: m | E40: 125 | H40: =ROUND(F40*G40,2) -> 0 | K40: =ROUND(SUM(J40+I40+H40),2) -> 0 | L40: =ROUND((F40*E40),2) -> 0 | M40: =ROUND((H40*E40),2) -> 0 | N40: =ROUND((I40*E40),2) -> 0 | O40: =ROUND((J40*E40),2) -> 0 | P40: =ROUND(SUM(O40+N40+M40),2) -> 0
A41: 1.3.3. | C41: Virsapmetuma montāžas kārba ar kontaktligzda zemapmetuma 1v., 230V; 16A; L+N+PE IP-20 | D41: gb | E41: 10 | H41: =ROUND(F41*G41,2) -> 0 | K41: =ROUND(SUM(J41+I41+H41),2) -> 0 | L41: =ROUND((F41*E41),2) -> 0 | M41: =ROUND((H41*E41),2) -> 0 | N41: =ROUND((I41*E41),2) -> 0 | O41: =ROUND((J41*E41),2) -> 0 | P41: =ROUND(SUM(O41+N41+M41),2) -> 0
A42: 1.3.4. | C42: SADALNE VIRSAPMETUMA PLEXO IP65 IK09 PE/N 2x12M | D42: gab. | E42: 1 | H42: =ROUND(F42*G42,2) -> 0 | K42: =ROUND(SUM(J42+I42+H42),2) -> 0 | L42: =ROUND((F42*E42),2) -> 0 | M42: =ROUND((H42*E42),2) -> 0 | N42: =ROUND((I42*E42),2) -> 0 | O42: =ROUND((J42*E42),2) -> 0 | P42: =ROUND(SUM(O42+N42+M42),2) -> 0
A43: 1.3.5. | C43: Automatiskais slēdzis, 10A, 230V, "C" ABB | D43: gab. | E43: 2 | H43: =ROUND(F43*G43,2) -> 0 | K43: =ROUND(SUM(J43+I43+H43),2) -> 0 | L43: =ROUND((F43*E43),2) -> 0 | M43: =ROUND((H43*E43),2) -> 0 | N43: =ROUND((I43*E43),2) -> 0 | O43: =ROUND((J43*E43),2) -> 0 | P43: =ROUND(SUM(O43+N43+M43),2) -> 0
A44: 1.3.6. | C44: Automatiskais slēdzis, 16A, 230V, "C" ABB | D44: gab. | E44: 2 | H44: =ROUND(F44*G44,2) -> 0 | K44: =ROUND(SUM(J44+I44+H44),2) -> 0 | L44: =ROUND((F44*E44),2) -> 0 | M44: =ROUND((H44*E44),2) -> 0 | N44: =ROUND((I44*E44),2) -> 0 | O44: =ROUND((J44*E44),2) -> 0 | P44: =ROUND(SUM(O44+N44+M44),2) -> 0
A45: 1.3.7. | C45: Slodzes slēdzis 3P 40A 400V | D45: gab. | E45: 1 | H45: =ROUND(F45*G45,2) -> 0 | K45: =ROUND(SUM(J45+I45+H45),2) -> 0 | L45: =ROUND((F45*E45),2) -> 0 | M45: =ROUND((H45*E45),2) -> 0 | N45: =ROUND((I45*E45),2) -> 0 | O45: =ROUND((J45*E45),2) -> 0 | P45: =ROUND(SUM(O45+N45+M45),2) -> 0
A46: 1.3.8. | C46: Palīgmateriāli el.sistēmas izbūvei t.sk, stiprinājumi, nozarkārbas, savienojumi u.c. elementi | D46: obj. | E46: 1 | H46: =ROUND(F46*G46,2) -> 0 | K46: =ROUND(SUM(J46+I46+H46),2) -> 0 | L46: =ROUND((F46*E46),2) -> 0 | M46: =ROUND((H46*E46),2) -> 0 | N46: =ROUND((I46*E46),2) -> 0 | O46: =ROUND((J46*E46),2) -> 0 | P46: =ROUND(SUM(O46+N46+M46),2) -> 0
A47: 1.3.9. | C47: Gaismeklis LED,virsapmetuma, lineārs, 1200mm, 4600lm, 35W, CRI 80, 4000K, 100.000h, IP65 Feilo Sylvania 0046370 START Waterproof Slim 1200 IP65 4600lm 840 | D47: gab. | E47: 8 | H47: =ROUND(G47*F47,2) -> 0 | K47: =ROUND(J47+I47+H47,2) -> 0 | L47: =ROUND(F47*E47,2) -> 0 | M47: =ROUND(H47*E47,2) -> 0 | N47: =ROUND(I47*E47,2) -> 0 | O47: =ROUND(J47*E47,2) -> 0 | P47: =ROUND(O47+N47+M47,2) -> 0
A48: 1.3.10. | C48: LED, virsapmetuma, griestu, DIONE LED PLUS 2550 LM 840 IP65 OPAL WHITE 22W) | D48: gab. | E48: 4 | H48: =ROUND(G48*F48,2) -> 0 | K48: =ROUND(J48+I48+H48,2) -> 0 | L48: =ROUND(F48*E48,2) -> 0 | M48: =ROUND(H48*E48,2) -> 0 | N48: =ROUND(I48*E48,2) -> 0 | O48: =ROUND(J48*E48,2) -> 0 | P48: =ROUND(O48+N48+M48,2) -> 0
A49: 1.3.11. | C49: Benzīna ģeneratora KS 10000E-1/3 230V / 400V 8000 W (vai ekvivalents) uzstādīšana, ar iespēju pieslēgt tīklam, dūmgāzu novadīšana ārā | D49: gab. | E49: 1 | H49: =ROUND(G49*F49,2) -> 0 | K49: =ROUND(J49+I49+H49,2) -> 0 | L49: =ROUND(F49*E49,2) -> 0 | M49: =ROUND(H49*E49,2) -> 0 | N49: =ROUND(I49*E49,2) -> 0 | O49: =ROUND(J49*E49,2) -> 0 | P49: =ROUND(O49+N49+M49,2) -> 0
A50: 1.3.12. | C50: QLOCOM WLAN pastiprinātājs 1200M Repeater Dual Band Booster ar WPS, Wi-Fi signāla pastiprināšanai. | D50: gb | E50: 2 | H50: =ROUND(F50*G50,2) -> 0 | K50: =ROUND(SUM(J50+I50+H50),2) -> 0 | L50: =ROUND((F50*E50),2) -> 0 | M50: =ROUND((H50*E50),2) -> 0 | N50: =ROUND((I50*E50),2) -> 0 | O50: =ROUND((J50*E50),2) -> 0 | P50: =ROUND(SUM(O50+N50+M50),2) -> 0
A52: 1.4. | C52: UK montāžas darbi | H52: =ROUND(F52*G52,2) -> 0 | K52: =ROUND(SUM(J52+I52+H52),2) -> 0 | L52: =ROUND((F52*E52),2) -> 0 | M52: =ROUND((H52*E52),2) -> 0 | N52: =ROUND((I52*E52),2) -> 0 | O52: =ROUND((J52*E52),2) -> 0 | P52: =ROUND(SUM(O52+N52+M52),2) -> 0
A53: 1.4.1. | C53: Ūdensvada montāža PPR-AL-PEX De20 un De16 ar līkumiem, noslēgkrāniem- boilera, klozetpodu, 2 izlietes pieslēgumam. | D53: m | E53: 20 | H53: =ROUND(F53*G53,2) -> 0 | K53: =ROUND(SUM(J53+I53+H53),2) -> 0 | L53: =ROUND((F53*E53),2) -> 0 | M53: =ROUND((H53*E53),2) -> 0 | N53: =ROUND((I53*E53),2) -> 0 | O53: =ROUND((J53*E53),2) -> 0 | P53: =ROUND(SUM(O53+N53+M53),2) -> 0
A54: 1.4.2. | C54: PVC De 50-100 kanailzācijas caurules montāža ar līkumiem, pārejām un stiprinājumiem montāža. Klozetpoda, 2 izlietnes pieslēguma veidošanai. | D54: m | E54: 20 | H54: =ROUND(F54*G54,2) -> 0 | K54: =ROUND(SUM(J54+I54+H54),2) -> 0 | L54: =ROUND((F54*E54),2) -> 0 | M54: =ROUND((H54*E54),2) -> 0 | N54: =ROUND((I54*E54),2) -> 0 | O54: =ROUND((J54*E54),2) -> 0 | P54: =ROUND(SUM(O54+N54+M54),2) -> 0
A55: 1.4.3. | C55: Klozetpoda montāža invalīdu aprīkojumā ar skalojamo kasti un vāku. Ūdensvada pieslēgums cieto metāla cauruli, noslēgrāns. Klozetpoda kanalizācijas pieslēguma veidgabali, pāreja, pieslēguma caurule. | D55: kpl. | E55: 2 | H55: =ROUND(F55*G55,2) -> 0 | K55: =ROUND(SUM(J55+I55+H55),2) -> 0 | L55: =ROUND((F55*E55),2) -> 0 | M55: =ROUND((H55*E55),2) -> 0 | N55: =ROUND((I55*E55),2) -> 0 | O55: =ROUND((J55*E55),2) -> 0 | P55: =ROUND(SUM(O55+N55+M55),2) -> 0
A56: 1.4.4. | C56: Vannas istabas izlietne Ideal Standard I.Life, keramika, 60 cm x 48 cm x 15 cm vai ekvivalents, montāža. Izlietnes kanalizācijas pieslēguma veidgabali sifons.Ūdensvada pieslēgums cieto metāla cauruli, noslēgrāns (karstam un augstam ūdenim), ieskaitot jaucekrānu | D56: kpl. | E56: 1 | H56: =ROUND(F56*G56,2) -> 0 | K56: =ROUND(SUM(J56+I56+H56),2) -> 0 | L56: =ROUND((F56*E56),2) -> 0 | M56: =ROUND((H56*E56),2) -> 0 | N56: =ROUND((I56*E56),2) -> 0 | O56: =ROUND((J56*E56),2) -> 0 | P56: =ROUND(SUM(O56+N56+M56),2) -> 0
A57: 1.4.5. | C57: Paceļams roku balsts un stacionārais roku balsts tualetes podam, tērauds, balts epoksīda pārklājums, max. slodze 120 kg | D57: kpl. | E57: 2 | H57: =ROUND(F57*G57,2) -> 0 | K57: =ROUND(J57+I57+H57,2) -> 0 | L57: =ROUND(E57*F57,2) -> 0 | M57: =ROUND(E57*H57,2) -> 0 | N57: =ROUND(E57*I57,2) -> 0 | O57: =ROUND(E57*J57,2) -> 0 | P57: =ROUND(M57+N57+O57,2) -> 0
A59: 1.5. | C59: Durvju, plauktu montāžas darbi | H59: =ROUND(F59*G59,2) -> 0 | K59: =ROUND(SUM(J59+I59+H59),2) -> 0 | L59: =ROUND((F59*E59),2) -> 0 | M59: =ROUND((H59*E59),2) -> 0 | N59: =ROUND((I59*E59),2) -> 0 | O59: =ROUND((J59*E59),2) -> 0 | P59: =ROUND(SUM(O59+N59+M59),2) -> 0
A60: 1.5.1. | C60: Ugunsdrošu metāla durvju EI30 montāža ar furnitūru 0,95x2,1 m. Slēdzamas durvis. Durvju aizvēršanas mehānisms. EL30 durvju tonis - NCS S0502-Y20R, durvju aplodu tonējums - NCS S8505-B50G Vēršanās virzienu precizēt būvdarbu gaitā. | D60: gab. | E60: 1 | H60: =ROUND((G60*F60),2) -> 0 | K60: =ROUND(SUM(H60+I60+J60),2) -> 0 | L60: =ROUND((E60*F60),2) -> 0 | M60: =ROUND((E60*H60),2) -> 0 | N60: =ROUND((E60*I60),2) -> 0 | O60: =ROUND((E60*J60),2) -> 0 | P60: =ROUND(SUM(M60+N60+O60),2) -> 0
A61: 1.5.2. | C61: Finerētas iekšdurvis 0,8x2,0mfurnitūra, aplodas. Vēršanās virzienu precizēt būvdarbu gaitā. Izmērs precizējams pirms pasūtījuma. Papildus uzstādāmas durvju atdures Hafele Durvju Atdure Pie Sienas 40mm, Balta. | D61: gab. | E61: 2 | H61: =ROUND((G61*F61),2) -> 0 | K61: =ROUND(SUM(H61+I61+J61),2) -> 0 | L61: =ROUND((E61*F61),2) -> 0 | M61: =ROUND((E61*H61),2) -> 0 | N61: =ROUND((E61*I61),2) -> 0 | O61: =ROUND((E61*J61),2) -> 0 | P61: =ROUND(SUM(M61+N61+O61),2) -> 0
A62: 1.5.3. | C62: Metāls plaukts, montāža pie sienas (h=2000mm x b=3000mm), ūdens rezerves glabāšanas vieta | D62: gab. | E62: 1 | H62: =ROUND((G62*F62),2) -> 0 | K62: =ROUND(SUM(H62+I62+J62),2) -> 0 | L62: =ROUND((E62*F62),2) -> 0 | M62: =ROUND((E62*H62),2) -> 0 | N62: =ROUND((E62*I62),2) -> 0 | O62: =ROUND((E62*J62),2) -> 0 | P62: =ROUND(SUM(M62+N62+O62),2) -> 0
A63: 1.5.4. | C63: Metāla plaukts apšūts ar 12mm mitrumizturīgo saplāksni, ieskaitot furnitūru durvīm un durvis, montāža pie sienas (h=2000mm x b=1500mm), atkritumu tvertnes un maisu glabāšanas vieta | D63: gab. | E63: 1 | H63: =ROUND((G63*F63),2) -> 0 | K63: =ROUND(SUM(H63+I63+J63),2) -> 0 | L63: =ROUND((E63*F63),2) -> 0 | M63: =ROUND((E63*H63),2) -> 0 | N63: =ROUND((E63*I63),2) -> 0 | O63: =ROUND((E63*J63),2) -> 0 | P63: =ROUND(SUM(M63+N63+O63),2) -> 0
A65: 1.6. | C65: AVK-A darbi | H65: =ROUND(F65*G65,2) -> 0 | K65: =ROUND(SUM(J65+I65+H65),2) -> 0 | L65: =ROUND((F65*E65),2) -> 0 | M65: =ROUND((H65*E65),2) -> 0 | N65: =ROUND((I65*E65),2) -> 0 | O65: =ROUND((J65*E65),2) -> 0 | P65: =ROUND(SUM(O65+N65+M65),2) -> 0
A66: 1.6.1. | C66: Radiatoru pievadu montāža, pieslegšana pie apkures stāvvada. Cauruļvada montāža PPR AUL PEX DN32. Sienu šķērsošana un atvērumu aizdare. Noslegkrānu montāža | D66: m | E66: 100 | H66: =ROUND((G66*F66),2) -> 0 | K66: =ROUND(SUM(H66+I66+J66),2) -> 0 | L66: =ROUND((E66*F66),2) -> 0 | M66: =ROUND((E66*H66),2) -> 0 | N66: =ROUND((E66*I66),2) -> 0 | O66: =ROUND((E66*J66),2) -> 0 | P66: =ROUND(SUM(M66+N66+O66),2) -> 0
A67: 1.6.2. | C67: Tērauda radiators PURMO Compact ar cauruļvadu sānu pievienojumu, komplektā ar atgaisotāju, termogalvu, korķi un stiprinājuma kronšteiniem 1231W, C 22-500-1200 | D67: gab. | E67: 5 | H67: =ROUND((G67*F67),2) -> 0 | K67: =ROUND(SUM(H67+I67+J67),2) -> 0 | L67: =ROUND((E67*F67),2) -> 0 | M67: =ROUND((E67*H67),2) -> 0 | N67: =ROUND((E67*I67),2) -> 0 | O67: =ROUND((E67*J67),2) -> 0 | P67: =ROUND(SUM(M67+N67+O67),2) -> 0
A69: 1.7. | C69: UATS pasākumi un citi darbi | H69: =ROUND(F69*G69,2) -> 0 | K69: =ROUND(SUM(J69+I69+H69),2) -> 0 | L69: =ROUND((F69*E69),2) -> 0 | M69: =ROUND((H69*E69),2) -> 0 | N69: =ROUND((I69*E69),2) -> 0 | O69: =ROUND((J69*E69),2) -> 0 | P69: =ROUND(SUM(O69+N69+M69),2) -> 0
A70: 1.7.1. | C70: Dūmu detektoru montāža (akumulatora) | D70: gab. | E70: 8 | H70: =ROUND(F70*G70,2) -> 0 | K70: =ROUND(SUM(H70+I70+J70),2) -> 0 | L70: =ROUND((E70*F70),2) -> 0 | M70: =ROUND((E70*H70),2) -> 0 | N70: =ROUND((E70*I70),2) -> 0 | O70: =ROUND((E70*J70),2) -> 0 | P70: =ROUND(SUM(M70+N70+O70),2) -> 0
A71: 1.7.2. | C71: Informatīvās zīmes (ieeja patvertnē, ugunsdzēšamie aparāti, aptieciņa, WC u.c.c.), dublējot braila rakstā, jānovieto 1,0 - 1,5 m augstumā no grīdas, un burtu izmērs informācijai, kas atrodas uz durvīm, ir vismaz 5 cm. | D71: gb | E71: 15 | H71: =ROUND(F71*G71,2) -> 0 | K71: =ROUND(J71+I71+H71,2) -> 0 | L71: =ROUND(E71*F71,2) -> 0 | M71: =ROUND(E71*H71,2) -> 0 | N71: =ROUND(E71*I71,2) -> 0 | O71: =ROUND(E71*J71,2) -> 0 | P71: =ROUND(M71+N71+O71,2) -> 0
A72: 1.7.3. | C72: Evakuācijas kāpņu telpās margas krāsot kontrastējošā krāsā, lai ir redzams pie laba un vaja apgaismojuma, margu gali sākumā un beigās jāpagarina 30 cm pāri un gali ir noapaļoti uz leju | D72: m | E72: 6 | H72: =ROUND(F72*G72,2) -> 0 | K72: =ROUND(J72+I72+H72,2) -> 0 | L72: =ROUND(E72*F72,2) -> 0 | M72: =ROUND(E72*H72,2) -> 0 | N72: =ROUND(E72*I72,2) -> 0 | O72: =ROUND(E72*J72,2) -> 0 | P72: =ROUND(M72+N72+O72,2) -> 0
A73: Tiešās izmaksas kopā, t. sk. darba devēja sociālais nodoklis (23,59%): | L73: =SUM(L15:L72) -> 0 | M73: =SUM(M15:M72) -> 0 | N73: =SUM(N15:N72) -> 0 | O73: =SUM(O15:O72) -> 0 | P73: =SUM(P15:P72) -> 0
