Workbook

Sheet KS
A1: Kopsavilkuma aprēķini pa darbu veidiem vai konstruktīvajiem elementiem
A2: 5.2.1.1/1/25/I/013 "Objektu pielāgošana un aprīkošana civilās aizsardzības mērķiem Rēzeknes novadā"
A3: (būvdarbu veids vai konstruktīvā elementa nosaukums)
A4: Objekta nosaukums | C4: Telpu remontdarbi patvertnes funkcionālo prasību pielāgošanai Maltā, Brīvības ielā 6
A5: Objekta adrese | C5: Brīvības iela 6, Malta, Maltas pag., Rēzekens nov., LV-4630
A6: Pasūtītājs | C6: Rēzeknes novada pašvaldība
A8: Par kopējo summu (EUR) | C8: =E18 -> 0
A9: Kopējā darbietilpība, (c/h.) | C9: =I14 -> 0
A11: N.p.k. | B11: Kods, tāmes Nr. | C11: Būvdarbu veids vai konstruktīvā elementa nosaukums | E11: Tāmes izmaksas | F11: Tai skaitā | I11: Darbietilpība (c/h)
F12: darba alga | G12: būvizstrādājumi | H12: mehānismi
A13: 4 | B13: LT4 | C13: ='Brīvības iela 6, Malta'!C5 -> Telpu remontdarbi patvertnes funkcionālo prasību pielāgošanai Maltā, Brīvības ielā 6 | E13: ='Brīvības iela 6, Malta'!P73 -> 0 | F13: ='Brīvības iela 6, Malta'!M73 -> 0 | G13: ='Brīvības iela 6, Malta'!N73 -> 0 | H13: ='Brīvības iela 6, Malta'!O73 -> 0 | I13: ='Brīvības iela 6, Malta'!L73 -> 0
A14: Kopā | E14: =SUM(E13:E13) -> 0 | F14: =SUM(F13:F13) -> 0 | G14: =SUM(G13:G13) -> 0 | H14: =SUM(H13:H13) -> 0 | I14: =SUM(I13:I13) -> 0
A15: Virsizdevumi | D15: 0 | E15: =ROUND((E14*D15),2) -> 0
A16: T.sk. darba aizsardzība | D16: 0 | E16: =ROUND((E15*D16),2) -> 0
A17: Peļņa | D17: 0 | E17: =ROUND((E14*D17),2) -> 0
A18: Pavisam kopā | E18: =E17+E15+E14 -> 0

Sheet Brīvības iela 6, Malta
A1: Lokālā tāme Nr.4
A2: Atjaunošanas darbi
A3: (Darba veids vai konstruktīvā elementa nosaukums)
A5: Objekta nosaukums | C5: Telpu remontdarbi patvertnes funkcionālo prasību pielāgošanai Maltā, Brīvības ielā 6
A6: Būves nosaukums | C6: Maltas apvienības pārvalde
A7: Pasūtītājs | C7: Rēzeknes novada pašvaldība
A10: Tāme sastādīta | K10: Tāmes izmaksas | M10: =P73 -> 0
A11: Nr.p.k. | B11: Kods | D11: Mērv. | E11: Daudz. | F11: Vienības izmaksas | L11: Kopā uz visu apjomu | P11: Summa (EUR)
F12: Laika norma (c/h) | G12: Darba samaksas likme (EUR/h) | H12: Darba alga (EUR) | I12: Būvizstrādājumi (EUR) | J12: Mehānismi (EUR) | K12: KOPĀ (EUR) | L12: Darbietilpība (C/h) | M12: Darba alga (EUR) | N12: Būvizstrādājumi (EUR) | O12: Mehānismi (EUR)
A14: 1 | B14: 2 | C14: 3 | D14: 4 | E14: 5 | F14: 6 | G14: 7 | H14: 8 | I14: 9 | J14: 10 | K14: 11 | L14: 12 | M14: 13 | N14: 14 | O14: 15 | P14: 16
A15: 1. | C15: Brīvības iela 6, Malta | K15: =ROUND(SUM(J15+I15+H15),2) -> 0 | L15: =ROUND((F15*E15),2) -> 0 | M15: =ROUND((H15*E15),2) -> 0 | N15: =ROUND((I15*E15),2) -> 0 | O15: =ROUND((J15*E15),2) -> 0 | P15: =ROUND(SUM(O15+N15+M15),2) -> 0
A16: 1.1. | C16: Sagatavošanas darbi | H16: =ROUND(F16*G16,2) -> 0 | K16: =ROUND(SUM(J16+I16+H16),2) -> 0 | L16: =ROUND((F16*E16),2) -> 0 | M16: =ROUND((H16*E16),2) -> 0 | N16: =ROUND((I16*E16),2) -> 0 | O16: =ROUND((J16*E16),2) -> 0 | P16: =ROUND(SUM(O16+N16+M16),2) -> 0
A17: 1.1.1. | C17: Veco elektro un vājstrāvas tīklu demontāža, t.sk. gaismekļi, slēdži, ligzdas, detektori, kārba u.c. el.tīklu elementi | D17: obj. | E17: 1 | H17: =ROUND(F17*G17,2) -> 0 | K17: =ROUND(SUM(J17+I17+H17),2) -> 0 | L17: =ROUND((F17*E17),2) -> 0 | M17: =ROUND((H17*E17),2) -> 0 | N17: =ROUND((I17*E17),2) -> 0 | O17: =ROUND((J17*E17),2) -> 0 | P17: =ROUND(SUM(O17+N17+M17),2) -> 0
A18: 1.1.2. | C18: Vecās kanalizācijas, ūdensvada tīklu demontāža, t.sk. podi, izlietnes u.c. uk tīklu elementi | D18: obj. | E18: 1 | H18: =ROUND(F18*G18,2) -> 0 | K18: =ROUND(SUM(J18+I18+H18),2) -> 0 | L18: =ROUND((F18*E18),2) -> 0 | M18: =ROUND((H18*E18),2) -> 0 | N18: =ROUND((I18*E18),2) -> 0 | O18: =ROUND((J18*E18),2) -> 0 | P18: =ROUND(SUM(O18+N18+M18),2) -> 0
A19: 1.1.3. | C19: Vecās ventilācijas sistēmas tīklu demontāža, stiprinājumi, ventšahtas u.c. ventilācijas tīklu elementi | D19: obj. | E19: 1 | H19: =ROUND(F19*G19,2) -> 0 | K19: =ROUND(SUM(J19+I19+H19),2) -> 0 | L19: =ROUND((F19*E19),2) -> 0 | M19: =ROUND((H19*E19),2) -> 0 | N19: =ROUND((I19*E19),2) -> 0 | O19: =ROUND((J19*E19),2) -> 0 | P19: =ROUND(SUM(O19+N19+M19),2) -> 0
A20: 1.1.4. | C20: Ventilācijas kanālu tīrīšana, restes nomaiņa | D20: gab. | E20: 2 | H20: =ROUND(F20*G20,2) -> 0 | K20: =ROUND(SUM(J20+I20+H20),2) -> 0 | L20: =ROUND((F20*E20),2) -> 0 | M20: =ROUND((H20*E20),2) -> 0 | N20: =ROUND((I20*E20),2) -> 0 | O20: =ROUND((J20*E20),2) -> 0 | P20: =ROUND(SUM(O20+N20+M20),2) -> 0
A21: 1.1.5. | C21: Pagrabstāva betona grīdas tīrīšana, gruntēšana remonts lokālajās vietās | D21: m2 | E21: 60.4 | H21: =ROUND(F21*G21,2) -> 0 | K21: =ROUND(SUM(J21+I21+H21),2) -> 0 | L21: =ROUND((F21*E21),2) -> 0 | M21: =ROUND((H21*E21),2) -> 0 | N21: =ROUND((I21*E21),2) -> 0 | O21: =ROUND((J21*E21),2) -> 0 | P21: =ROUND(SUM(O21+N21+M21),2) -> 0
A22: 1.1.6. | C22: Durvju, durvju kārbas demontāža | D22: gab. | E22: 4 | H22: =ROUND(F22*G22,2) -> 0 | K22: =ROUND(SUM(J22+I22+H22),2) -> 0 | L22: =ROUND((F22*E22),2) -> 0 | M22: =ROUND((H22*E22),2) -> 0 | N22: =ROUND((I22*E22),2) -> 0 | O22: =ROUND((J22*E22),2) -> 0 | P22: =ROUND(SUM(O22+N22+M22),2) -> 0
A23: 1.1.7. | C23: Pagrabstāva sienu tīrīšana, gruntēšana, remonts lokālajās vietās | D23: m2 | E23: 150 | H23: =ROUND(F23*G23,2) -> 0 | K23: =ROUND(SUM(J23+I23+H23),2) -> 0 | L23: =ROUND((F23*E23),2) -> 0 | M23: =ROUND((H23*E23),2) -> 0 | N23: =ROUND((I23*E23),2) -> 0 | O23: =ROUND((J23*E23),2) -> 0 | P23: =ROUND(SUM(O23+N23+M23),2) -> 0
A24: 1.1.8. | C24: Pagrabstāva griestu tīrīšana | D24: m2 | E24: 60.4 | H24: =ROUND(F24*G24,2) -> 0 | K24: =ROUND(SUM(J24+I24+H24),2) -> 0 | L24: =ROUND((F24*E24),2) -> 0 | M24: =ROUND((H24*E24),2) -> 0 | N24: =ROUND((I24*E24),2) -> 0 | O24: =ROUND((J24*E24),2) -> 0 | P24: =ROUND(SUM(O24+N24+M24),2) -> 0
A25: 1.1.9. | C25: Būvgružu utilizācija | D25: obj. | E25: 1 | H25: =ROUND(F25*G25,2) -> 0 | K25: =ROUND(SUM(J25+I25+H25),2) -> 0 | L25: =ROUND((F25*E25),2) -> 0 | M25: =ROUND((H25*E25),2) -> 0 | N25: =ROUND((I25*E25),2) -> 0 | O25: =ROUND((J25*E25),2) -> 0 | P25: =ROUND(SUM(O25+N25+M25),2) -> 0
A27: 1.2. | C27: Sienu, grīdas, griestu apdare sanmezglā | H27: =ROUND(F27*G27,2) -> 0 | K27: =ROUND(SUM(J27+I27+H27),2) -> 0 | L27: =ROUND((F27*E27),2) -> 0 | M27: =ROUND((H27*E27),2) -> 0 | N27: =ROUND((I27*E27),2) -> 0 | O27: =ROUND((J27*E27),2) -> 0 | P27: =ROUND(SUM(O27+N27+M27),2) -> 0
A28: 1.2.1. | C28: Sienu gruntēšana un apmetuma iestrāde | D28: m2 | E28: 30 | H28: =ROUND(F28*G28,2) -> 0 | K28: =ROUND(SUM(J28+I28+H28),2) -> 0 | L28: =ROUND((F28*E28),2) -> 0 | M28: =ROUND((H28*E28),2) -> 0 | N28: =ROUND((I28*E28),2) -> 0 | O28: =ROUND((J28*E28),2) -> 0 | P28: =ROUND(SUM(O28+N28+M28),2) -> 0
A29: 1.2.2. | C29: Betona grīdas tīrīšana, gruntēsana, līdzināšana un pretslīdes pārklājuma izbūve, nodrošinot pretslīdes klasi R10 | D29: m2 | E29: 5.6 | H29: =ROUND(F29*G29,2) -> 0 | K29: =ROUND(SUM(J29+I29+H29),2) -> 0 | L29: =ROUND((F29*E29),2) -> 0 | M29: =ROUND((H29*E29),2) -> 0 | N29: =ROUND((I29*E29),2) -> 0 | O29: =ROUND((J29*E29),2) -> 0 | P29: =ROUND(SUM(O29+N29+M29),2) -> 0
A30: 1.2.3. | C30: Griestu tīrīšāna, gruntēšana, krāsošana | D30: m2 | E30: 5.6 | H30: =ROUND(F30*G30,2) -> 0 | K30: =ROUND(SUM(J30+I30+H30),2) -> 0 | L30: =ROUND((F30*E30),2) -> 0 | M30: =ROUND((H30*E30),2) -> 0 | N30: =ROUND((I30*E30),2) -> 0 | O30: =ROUND((J30*E30),2) -> 0 | P30: =ROUND(SUM(O30+N30+M30),2) -> 0
A31: 1.2.4. | C31: Pakāpienu tīrīšana, gruntēšana, remonts, (kāpņu telpā) | D31: gab. | E31: 20 | H31: =ROUND(F31*G31,2) -> 0 | K31: =ROUND(SUM(J31+I31+H31),2) -> 0 | L31: =ROUND((F31*E31),2) -> 0 | M31: =ROUND((H31*E31),2) -> 0 | N31: =ROUND((I31*E31),2) -> 0 | O31: =ROUND((J31*E31),2) -> 0 | P31: =ROUND(SUM(O31+N31+M31),2) -> 0
A32: 1.2.5. | C32: Sienu gruntēšana un apmetuma iestrāde (kāpņu telpā) | D32: m2 | E32: 45 | H32: =ROUND(F32*G32,2) -> 0 | K32: =ROUND(SUM(J32+I32+H32),2) -> 0 | L32: =ROUND((F32*E32),2) -> 0 | M32: =ROUND((H32*E32),2) -> 0 | N32: =ROUND((I32*E32),2) -> 0 | O32: =ROUND((J32*E32),2) -> 0 | P32: =ROUND(SUM(O32+N32+M32),2) -> 0
A33: 1.2.6. | C33: Betona grīdas tīrīšana, gruntēsana, līdzināšana un pretslīdes pārklājuma izbūve, nodrošinot pretslīdes klasi R10 (kāpņu telpā) | D33: m2 | E33: 3 | H33: =ROUND(F33*G33,2) -> 0 | K33: =ROUND(SUM(J33+I33+H33),2) -> 0 | L33: =ROUND((F33*E33),2) -> 0 | M33: =ROUND((H33*E33),2) -> 0 | N33: =ROUND((I33*E33),2) -> 0 | O33: =ROUND((J33*E33),2) -> 0 | P33: =ROUND(SUM(O33+N33+M33),2) -> 0
A34: 1.2.7. | C34: Griestu tīrīšāna, gruntēšana, krāsošana (kāpņu telpā) | D34: m2 | E34: 5.6 | H34: =ROUND(F34*G34,2) -> 0 | K34: =ROUND(SUM(J34+I34+H34),2) -> 0 | L34: =ROUND((F34*E34),2) -> 0 | M34: =ROUND((H34*E34),2) -> 0 | N34: =ROUND((I34*E34),2) -> 0 | O34: =ROUND((J34*E34),2) -> 0 | P34: =ROUND(SUM(O34+N34+M34),2) -> 0
A35: 1.2.8. | C35: Starpsienas ir izgatavotas no skaidu plāksnes (kokskaidu plātne) ar kopējo nominālo biezumu 24 mm izmantošanai mitros apstākļos. (h=2m) Konstrukcijā tiek izmantota LTT anodēta alumīnija profilu sistēma. Komplektācijā ietilpst sienas, durvis, furnitūra, stiprinājumi un karkass. Krāsa - ABET 475 – Gaiši pelēks, izmērus precizēt būvdarbu laikā, materiālu un toni saskaņot ar pasūtītāju | D35: m | E35: 6.4 | H35: =F35*G35 -> 0 | K35: =SUM(H35:J35) -> 0 | L35: =ROUND(E35*F35,2) -> 0 | M35: =ROUND(E35*H35,2) -> 0 | N35: =ROUND(E35*I35,2) -> 0 | O35: =ROUND(E35*J35,2) -> 0 | P35: =SUM(M35:O35) -> 0
C36: Visi evakuācijas ceļi, tai skaitā pakāpieni, laukumu perimetri, margas, rokturi un durvju ailes (apmales), jāizceļ ar kontrastējošu krāsu attiecībā pret apkārtējo virsmu. Kontrastējošajam marķējumam jābūt nepārtrauktam, neslīdīgam un labi saskatāmam normālā un samazinātā apgaismojumā, nodrošinot evakuācijas ceļa un izeju vieglu identificēšanu. Evakuācijas izeju durvis un to ailes jāmarķē analogi VUGD rekomendētajiem piemēriem, izmantojot spilgtu kontrastējošu krāsu (piemēram, dzeltenu, zaļi luminiscējošu vai citu līdzvērtīgu risinājumu). | D36: obj. | E36: 1 | H36: =F36*G36 -> 0 | K36: =SUM(H36:J36) -> 0 | L36: =ROUND(E36*F36,2) -> 0 | M36: =ROUND(E36*H36,2) -> 0 | N36: =ROUND(E36*I36,2) -> 0 | O36: =ROUND(E36*J36,2) -> 0 | P36: =SUM(M36:O36) -> 0
C37: Durvju vērtnes ir kontrastējošā krāsā, toni saskaņojot ar pasūtītāju | D37: gab. | E37: 4 | H37: =ROUND(F37*G37,2) -> 0 | K37: =ROUND(SUM(J37+I37+H37),2) -> 0 | L37: =ROUND((F37*E37),2) -> 0 | M37: =ROUND((H37*E37),2) -> 0 | N37: =ROUND((I37*E37),2) -> 0 | O37: =ROUND((J37*E37),2) -> 0 | P37: =ROUND(SUM(O37+N37+M37),2) -> 0
A38: 1.3. | C38: Elektroapgāde, apgaismojums, IT tīkls | H38: =ROUND(F38*G38,2) -> 0 | K38: =ROUND(SUM(J38+I38+H38),2) -> 0 | L38: =ROUND((F38*E38),2) -> 0 | M38: =ROUND((H38*E38),2) -> 0 | N38: =ROUND((I38*E38),2) -> 0 | O38: =ROUND((J38*E38),2) -> 0 | P38: =ROUND(SUM(O38+N38+M38),2) -> 0
A39: 1.3.1. | C39: PVC kabeļu gofras stiprināšana (betona pārsegums un sienas), kabeļa ar vara dzīslam uzstādīšana, NYM-J 3x1,5, ieskaitot stiprinājumus | D39: m | E39: 150 | H39: =ROUND(F39*G39,2) -> 0 | K39: =ROUND(SUM(J39+I39+H39),2) -> 0 | L39: =ROUND((F39*E39),2) -> 0 | M39: =ROUND((H39*E39),2) -> 0 | N39: =ROUND((I39*E39),2) -> 0 | O39: =ROUND((J39*E39),2) -> 0 | P39: =ROUND(SUM(O39+N39+M39),2) -> 0
A40: 1.3.2. | C40: PVC kabeļu gofras stiprināšana (betona sienas), kabeļa ar vara dzīslam uzstādīšana, NYM-J 3x2,5, ieskaitot stiprinājumus | D40: m | E40: 125 | H40: =ROUND(F40*G40,2) -> 0 | K40: =ROUND(SUM(J40+I40+H40),2) -> 0 | L40: =ROUND((F40*E40),2) -> 0 | M40: =ROUND((H40*E40),2) -> 0 | N40: =ROUND((I40*E40),2) -> 0 | O40: =ROUND((J40*E40),2) -> 0 | P40: =ROUND(SUM(O40+N40+M40),2) -> 0
A41: 1.3.3. | C41: Virsapmetuma montāžas kārba ar kontaktligzda zemapmetuma 1v., 230V; 16A; L+N+PE IP-20 | D41: gb | E41: 10 | H41: =ROUND(F41*G41,2) -> 0 | K41: =ROUND(SUM(J41+I41+H41),2) -> 0 | L41: =ROUND((F41*E41),2) -> 0 | M41: =ROUND((H41*E41),2) -> 0 | N41: =ROUND((I41*E41),2) -> 0 | O41: =ROUND((J41*E41),2) -> 0 | P41: =ROUND(SUM(O41+N41+M41),2) -> 0
A42: 1.3.4. | C42: SADALNE VIRSAPMETUMA PLEXO IP65 IK09 PE/N 2x12M | D42: gab. | E42: 1 | H42: =ROUND(F42*G42,2) -> 0 | K42: =ROUND(SUM(J42+I42+H42),2) -> 0 | L42: =ROUND((F42*E42),2) -> 0 | M42: =ROUND((H42*E42),2) -> 0 | N42: =ROUND((I42*E42),2) -> 0 | O42: =ROUND((J42*E42),2) -> 0 | P42: =ROUND(SUM(O42+N42+M42),2) -> 0
A43: 1.3.5. | C43: Automatiskais slēdzis, 10A, 230V, "C" ABB | D43: gab. | E43: 2 | H43: =ROUND(F43*G43,2) -> 0 | K43: =ROUND(SUM(J43+I43+H43),2) -> 0 | L43: =ROUND((F43*E43),2) -> 0 | M43: =ROUND((H43*E43),2) -> 0 | N43: =ROUND((I43*E43),2) -> 0 | O43: =ROUND((J43*E43),2) -> 0 | P43: =ROUND(SUM(O43+N43+M43),2) -> 0
A44: 1.3.6. | C44: Automatiskais slēdzis, 16A, 230V, "C" ABB | D44: gab. | E44: 2 | H44: =ROUND(F44*G44,2) -> 0 | K44: =ROUND(SUM(J44+I44+H44),2) -> 0 | L44: =ROUND((F44*E44),2) -> 0 | M44: =ROUND((H44*E44),2) -> 0 | N44: =ROUND((I44*E44),2) -> 0 | O44: =ROUND((J44*E44),2) -> 0 | P44: =ROUND(SUM(O44+N44+M44),2) -> 0
A45: 1.3.7. | C45: Slodzes slēdzis 3P 40A 400V | D45: gab. | E45: 1 | H45: =ROUND(F45*G45,2) -> 0 | K45: =ROUND(SUM(J45+I45+H45),2) -> 0 | L45: =ROUND((F45*E45),2) -> 0 | M45: =ROUND((H45*E45),2) -> 0 | N45: =ROUND((I45*E45),2) -> 0 | O45: =ROUND((J45*E45),2) -> 0 | P45: =ROUND(SUM(O45+N45+M45),2) -> 0
...
