Workbook

Sheet KS
A1: Kopsavilkuma aprēķini pa darbu veidiem vai konstruktīvajiem elementiem
A2: 5.2.1.1/1/25/I/013 "Objektu pielāgošana un aprīkošana civilās aizsardzības mērķiem Rēzeknes novadā"
A3: (būvdarbu veids vai konstruktīvā elementa nosaukums)
A4: Objekta nosaukums | C4: Telpu remontdarbi patvertnes funkcionālo prasību pielāgošanai Viļānos, Kultūras laukumā 2
A5: Objekta adrese | C5: Kultūras laukums 2, Viļāni, Rēzeknes nov., LV-4650
A6: Pasūtītājs | C6: Rēzeknes novada pašvaldība
A8: Par kopējo summu (EUR) | C8: =E18 -> 0
A9: Kopējā darbietilpība, (c/h.) | C9: =I14 -> 0
A11: N.p.k. | B11: Kods, tāmes Nr. | C11: Būvdarbu veids vai konstruktīvā elementa nosaukums | E11: Tāmes izmaksas | F11: Tai skaitā | I11: Darbietilpība (c/h)
F12: darba alga | G12: būvizstrādājumi | H12: mehānismi
A13: 5 | B13: LT5 | C13: ='KULTŪRAS LAUKUMS 2, Viļāni'!C5 -> Telpu remontdarbi patvertnes funkcionālo prasību pielāgošanai Viļānos, Kultūras laukumā 2 | E13: ='KULTŪRAS LAUKUMS 2, Viļāni'!P43 -> 0 | F13: ='KULTŪRAS LAUKUMS 2, Viļāni'!M43 -> 0 | G13: ='KULTŪRAS LAUKUMS 2, Viļāni'!N43 -> 0 | H13: ='KULTŪRAS LAUKUMS 2, Viļāni'!O43 -> 0 | I13: ='KULTŪRAS LAUKUMS 2, Viļāni'!L43 -> 0
A14: Kopā | E14: =SUM(E13:E13) -> 0 | F14: =SUM(F13:F13) -> 0 | G14: =SUM(G13:G13) -> 0 | H14: =SUM(H13:H13) -> 0 | I14: =SUM(I13:I13) -> 0
A15: Virsizdevumi | D15: 0 | E15: =ROUND((E14*D15),2) -> 0
A16: T.sk. darba aizsardzība | D16: 0 | E16: =ROUND((E15*D16),2) -> 0
A17: Peļņa | D17: 0 | E17: =ROUND((E14*D17),2) -> 0
A18: Pavisam kopā | E18: =E17+E15+E14 -> 0

Sheet KULTŪRAS LAUKUMS 2, Viļāni
A1: Lokālā tāme Nr.5
A2: Atjaunošanas darbi
A3: (Darba veids vai konstruktīvā elementa nosaukums)
A5: Objekta nosaukums | C5: Telpu remontdarbi patvertnes funkcionālo prasību pielāgošanai Viļānos, Kultūras laukumā 2
A6: Būves nosaukums | C6: Viļānu Novadpētniecības muzejs
A7: Pasūtītājs | C7: Rēzeknes novada pašvaldība
A10: Tāme sastādīta | K10: Tāmes izmaksas | M10: =P43 -> 0
A11: Nr.p.k. | B11: Kods | D11: Mērv. | E11: Daudz. | F11: Vienības izmaksas | L11: Kopā uz visu apjomu | P11: Summa (EUR)
F12: Laika norma (c/h) | G12: Darba samaksas likme (EUR/h) | H12: Darba alga (EUR) | I12: Būvizstrādājumi (EUR) | J12: Mehānismi (EUR) | K12: KOPĀ (EUR) | L12: Darbietilpība (C/h) | M12: Darba alga (EUR) | N12: Būvizstrādājumi (EUR) | O12: Mehānismi (EUR)
A14: 1 | B14: 2 | C14: 3 | D14: 4 | E14: 5 | F14: 6 | G14: 7 | H14: 8 | I14: 9 | J14: 10 | K14: 11 | L14: 12 | M14: 13 | N14: 14 | O14: 15 | P14: 16
A15: 1. | C15: Kultūras laukums 2, Viļāni | K15: =ROUND(SUM(J15+I15+H15),2) -> 0 | L15: =ROUND((F15*E15),2) -> 0 | M15: =ROUND((H15*E15),2) -> 0 | N15: =ROUND((I15*E15),2) -> 0 | O15: =ROUND((J15*E15),2) -> 0 | P15: =ROUND(SUM(O15+N15+M15),2) -> 0
A16: 1.1. | C16: Sagatavošanas darbi | H16: =ROUND(F16*G16,2) -> 0 | K16: =ROUND(SUM(J16+I16+H16),2) -> 0 | L16: =ROUND((F16*E16),2) -> 0 | M16: =ROUND((H16*E16),2) -> 0 | N16: =ROUND((I16*E16),2) -> 0 | O16: =ROUND((J16*E16),2) -> 0 | P16: =ROUND(SUM(O16+N16+M16),2) -> 0
A17: 1.1.1. | C17: Durvju, durvju kārbas demontāža | D17: gab. | E17: 1 | H17: =ROUND(F17*G17,2) -> 0 | K17: =ROUND(SUM(J17+I17+H17),2) -> 0 | L17: =ROUND((F17*E17),2) -> 0 | M17: =ROUND((H17*E17),2) -> 0 | N17: =ROUND((I17*E17),2) -> 0 | O17: =ROUND((J17*E17),2) -> 0 | P17: =ROUND(SUM(O17+N17+M17),2) -> 0
A18: 1.1.2. | C18: Būvgružu utilizācija | D18: obj. | E18: 1 | H18: =ROUND(F18*G18,2) -> 0 | K18: =ROUND(SUM(J18+I18+H18),2) -> 0 | L18: =ROUND((F18*E18),2) -> 0 | M18: =ROUND((H18*E18),2) -> 0 | N18: =ROUND((I18*E18),2) -> 0 | O18: =ROUND((J18*E18),2) -> 0 | P18: =ROUND(SUM(O18+N18+M18),2) -> 0
A19: 1.1.3. | C19: Visi evakuācijas ceļi, tai skaitā pakāpieni, laukumu perimetri, margas, rokturi un durvju ailes (apmales), jāizceļ ar kontrastējošu krāsu attiecībā pret apkārtējo virsmu. Kontrastējošajam marķējumam jābūt nepārtrauktam un labi saskatāmam normālā un samazinātā apgaismojumā, nodrošinot evakuācijas ceļa un izeju vieglu identificēšanu. Evakuācijas izeju durvis un to ailes jāmarķē analogi VUGD rekomendētajiem piemēriem, izmantojot spilgtu kontrastējošu krāsu (piemēram, dzeltenu, zaļi luminiscējošu vai citu līdzvērtīgu risinājumu). | D19: obj. | E19: 1 | H19: =F19*G19 -> 0 | K19: =SUM(H19:J19) -> 0 | L19: =ROUND(E19*F19,2) -> 0 | M19: =ROUND(E19*H19,2) -> 0 | N19: =ROUND(E19*I19,2) -> 0 | O19: =ROUND(E19*J19,2) -> 0 | P19: =SUM(M19:O19) -> 0
A20: 1.1.4. | C20: Durvju vērtnes ir kontrastējošā krāsā, toni saskaņojot ar pasūtītāju | D20: gab. | E20: 2 | H20: =ROUND(F20*G20,2) -> 0 | K20: =ROUND(SUM(J20+I20+H20),2) -> 0 | L20: =ROUND((F20*E20),2) -> 0 | M20: =ROUND((H20*E20),2) -> 0 | N20: =ROUND((I20*E20),2) -> 0 | O20: =ROUND((J20*E20),2) -> 0 | P20: =ROUND(SUM(O20+N20+M20),2) -> 0
A21: 1.2. | C21: Elektroapgāde, apgaismojums, IT tīkls | H21: =ROUND(F21*G21,2) -> 0 | K21: =ROUND(SUM(J21+I21+H21),2) -> 0 | L21: =ROUND((F21*E21),2) -> 0 | M21: =ROUND((H21*E21),2) -> 0 | N21: =ROUND((I21*E21),2) -> 0 | O21: =ROUND((J21*E21),2) -> 0 | P21: =ROUND(SUM(O21+N21+M21),2) -> 0
A22: 1.2.1. | C22: Benzīna ģeneratora KS 10000E-1/3 230V / 400V 8000 W (vai ekvivalents) uzstādīšana, ar iespēju pieslēgt tīklam, dūmgāzu novadīšana ārā | D22: gab. | E22: 1 | H22: =ROUND(F22*G22,2) -> 0 | K22: =ROUND(SUM(J22+I22+H22),2) -> 0 | L22: =ROUND((F22*E22),2) -> 0 | M22: =ROUND((H22*E22),2) -> 0 | N22: =ROUND((I22*E22),2) -> 0 | O22: =ROUND((J22*E22),2) -> 0 | P22: =ROUND(SUM(O22+N22+M22),2) -> 0
A23: 1.2.2. | C23: QLOCOM WLAN pastiprinātājs 1200M Repeater Dual Band Booster ar WPS, Wi-Fi signāla pastiprināšanai. | D23: gb | E23: 1 | H23: =ROUND(F23*G23,2) -> 0 | K23: =ROUND(SUM(J23+I23+H23),2) -> 0 | L23: =ROUND((F23*E23),2) -> 0 | M23: =ROUND((H23*E23),2) -> 0 | N23: =ROUND((I23*E23),2) -> 0 | O23: =ROUND((J23*E23),2) -> 0 | P23: =ROUND(SUM(O23+N23+M23),2) -> 0
A25: 1.3. | C25: Durvju, logu, plauktu montāžas darbi | H25: =ROUND(F25*G25,2) -> 0 | K25: =ROUND(SUM(J25+I25+H25),2) -> 0 | L25: =ROUND((F25*E25),2) -> 0 | M25: =ROUND((H25*E25),2) -> 0 | N25: =ROUND((I25*E25),2) -> 0 | O25: =ROUND((J25*E25),2) -> 0 | P25: =ROUND(SUM(O25+N25+M25),2) -> 0
A26: 1.3.1. | C26: Ugunsdrošu metāla durvju EI30 montāža ar furnitūru 1,2x2,0 m. Slēdzamas durvis. Durvju aizvēršanas mehānisms. EL30 durvju tonis - NCS S0502-Y20R, durvju aplodu tonējums - NCS S8505-B50G Vēršanās virzienu precizēt būvdarbu gaitā. | D26: gab. | E26: 1 | H26: =ROUND((G26*F26),2) -> 0 | K26: =ROUND(SUM(H26+I26+J26),2) -> 0 | L26: =ROUND((E26*F26),2) -> 0 | M26: =ROUND((E26*H26),2) -> 0 | N26: =ROUND((E26*I26),2) -> 0 | O26: =ROUND((E26*J26),2) -> 0 | P26: =ROUND(SUM(M26+N26+O26),2) -> 0
A27: 1.3.2. | C27: Maisi ar smilti, logu aiļu aiztaisīšanai no āras, piegāde | D27: gab. | E27: 40 | H27: =ROUND((G27*F27),2) -> 0 | K27: =ROUND(SUM(H27+I27+J27),2) -> 0 | L27: =ROUND((E27*F27),2) -> 0 | M27: =ROUND((E27*H27),2) -> 0 | N27: =ROUND((E27*I27),2) -> 0 | O27: =ROUND((E27*J27),2) -> 0 | P27: =ROUND(SUM(M27+N27+O27),2) -> 0
A28: 1.3.3. | C28: Metāls plaukts, montāža pie sienas (h=2000mm x b=3000mm), ūdens rezerves glabāšanas vieta | D28: gab. | E28: 1 | H28: =ROUND((G28*F28),2) -> 0 | K28: =ROUND(SUM(H28+I28+J28),2) -> 0 | L28: =ROUND((E28*F28),2) -> 0 | M28: =ROUND((E28*H28),2) -> 0 | N28: =ROUND((E28*I28),2) -> 0 | O28: =ROUND((E28*J28),2) -> 0 | P28: =ROUND(SUM(M28+N28+O28),2) -> 0
A29: 1.3.4. | C29: Metāla plaukts apšūts ar 12mm mitrumizturīgo saplāksni, ieskaitot furnitūru durvīm un durvis, montāža pie sienas (h=2000mm x b=1500mm), atkritumu tvertnes un maisu glabāšanas vieta | D29: gab. | E29: 1 | H29: =ROUND((G29*F29),2) -> 0 | K29: =ROUND(SUM(H29+I29+J29),2) -> 0 | L29: =ROUND((E29*F29),2) -> 0 | M29: =ROUND((E29*H29),2) -> 0 | N29: =ROUND((E29*I29),2) -> 0 | O29: =ROUND((E29*J29),2) -> 0 | P29: =ROUND(SUM(M29+N29+O29),2) -> 0
A30: 1.3.5. | C30: Margu pagarinājums uz 30cm pāri pirmajam un pēdējam laida pakāpienam | D30: obj. | E30: 1 | H30: =ROUND((G30*F30),2) -> 0 | K30: =ROUND(SUM(H30+I30+J30),2) -> 0 | L30: =ROUND((E30*F30),2) -> 0 | M30: =ROUND((E30*H30),2) -> 0 | N30: =ROUND((E30*I30),2) -> 0 | O30: =ROUND((E30*J30),2) -> 0 | P30: =ROUND(SUM(M30+N30+O30),2) -> 0
A32: 1.4. | C32: UK montāžas darbi | H32: =ROUND(F32*G32,2) -> 0 | K32: =ROUND(SUM(J32+I32+H32),2) -> 0 | L32: =ROUND((F32*E32),2) -> 0 | M32: =ROUND((H32*E32),2) -> 0 | N32: =ROUND((I32*E32),2) -> 0 | O32: =ROUND((J32*E32),2) -> 0 | P32: =ROUND(SUM(O32+N32+M32),2) -> 0
A33: 1.4.1. | C33: Portātīva izlietne Universal, Ūdens tvertnes tilpums: 17 litri, mehāniskais sūknis, ūdens tvertnes izmēri 50 x 17,5 x 33 cm; Ziepju tvertnes tilpums: 3 litri; Piegāde, uzstādīšana | D33: kpl. | E33: 1 | H33: =ROUND(F33*G33,2) -> 0 | K33: =ROUND(SUM(J33+I33+H33),2) -> 0 | L33: =ROUND((F33*E33),2) -> 0 | M33: =ROUND((H33*E33),2) -> 0 | N33: =ROUND((I33*E33),2) -> 0 | O33: =ROUND((J33*E33),2) -> 0 | P33: =ROUND(SUM(O33+N33+M33),2) -> 0
A34: 1.4.2. | C34: Sausā tualete P-506, piegāde,uzstādīšana | D34: kpl. | E34: 2 | H34: =ROUND(F34*G34,2) -> 0 | K34: =ROUND(SUM(J34+I34+H34),2) -> 0 | L34: =ROUND((F34*E34),2) -> 0 | M34: =ROUND((H34*E34),2) -> 0 | N34: =ROUND((I34*E34),2) -> 0 | O34: =ROUND((J34*E34),2) -> 0 | P34: =ROUND(SUM(O34+N34+M34),2) -> 0
A35: 1.4.3. | C35: Sausā tualete invalīdu aprīkojumā, piegāde,uzstādīšana | D35: kpl. | E35: 1 | H35: =ROUND(F35*G35,2) -> 0 | K35: =ROUND(SUM(J35+I35+H35),2) -> 0 | L35: =ROUND((F35*E35),2) -> 0 | M35: =ROUND((H35*E35),2) -> 0 | N35: =ROUND((I35*E35),2) -> 0 | O35: =ROUND((J35*E35),2) -> 0 | P35: =ROUND(SUM(O35+N35+M35),2) -> 0
A36: 1.4.4. | C36: Paceļams roku balsts un stacionārais roku balsts tualetes podam, tērauds, balts epoksīda pārklājums, max. slodze 120 kg | D36: kpl. | E36: 1 | H36: =ROUND(F36*G36,2) -> 0 | K36: =ROUND(J36+I36+H36,2) -> 0 | L36: =ROUND(E36*F36,2) -> 0 | M36: =ROUND(E36*H36,2) -> 0 | N36: =ROUND(E36*I36,2) -> 0 | O36: =ROUND(E36*J36,2) -> 0 | P36: =ROUND(M36+N36+O36,2) -> 0
A37: 1.4.5. | C37: Starpsienas ir izgatavotas no skaidu plāksnes (kokskaidu plātne) ar kopējo nominālo biezumu 24 mm izmantošanai mitros apstākļos. (h=2m) Konstrukcijā tiek izmantota LTT anodēta alumīnija profilu sistēma. Komplektācijā ietilpst sienas, durvis, furnitūra, stiprinājumi un karkass. Krāsa - ABET 475 – Gaiši pelēks, izmērus precizēt būvdarbu laikā, materiālu un toni saskaņot ar pasūtītāju | D37: m | E37: 7 | H37: =F37*G37 -> 0 | K37: =SUM(H37:J37) -> 0 | L37: =ROUND(E37*F37,2) -> 0 | M37: =ROUND(E37*H37,2) -> 0 | N37: =ROUND(E37*I37,2) -> 0 | O37: =ROUND(E37*J37,2) -> 0 | P37: =SUM(M37:O37) -> 0
A38: 1.4.6. | C38: Esošā ūdens sildītāja pārvietošana uz drošu vietu, pagarinot izvadus un pievadus (ieskaitot visus palīgmateriālus un stiprinājumus) saskaņojot ar pasūtītāju | D38: gab. | E38: 1 | H38: =F38*G38 -> 0 | K38: =SUM(H38:J38) -> 0 | L38: =ROUND(E38*F38,2) -> 0 | M38: =ROUND(E38*H38,2) -> 0 | N38: =ROUND(E38*I38,2) -> 0 | O38: =ROUND(E38*J38,2) -> 0 | P38: =SUM(M38:O38) -> 0
A39: 1.5. | C39: UATS pasākumi un citi darbi | H39: =ROUND(F39*G39,2) -> 0 | K39: =ROUND(SUM(J39+I39+H39),2) -> 0 | L39: =ROUND((F39*E39),2) -> 0 | M39: =ROUND((H39*E39),2) -> 0 | N39: =ROUND((I39*E39),2) -> 0 | O39: =ROUND((J39*E39),2) -> 0 | P39: =ROUND(SUM(O39+N39+M39),2) -> 0
A40: 1.5.1. | C40: Nedegošs audums Reinold Max, 180 cm x 120 cm, sarkana, iegāde montāža uz sienas | D40: gab. | E40: 3 | H40: =ROUND((G40*F40),2) -> 0 | K40: =ROUND(SUM(H40+I40+J40),2) -> 0 | L40: =ROUND((E40*F40),2) -> 0 | M40: =ROUND((E40*H40),2) -> 0 | N40: =ROUND((E40*I40),2) -> 0 | O40: =ROUND((E40*J40),2) -> 0 | P40: =ROUND(SUM(M40+N40+O40),2) -> 0
A41: 1.5.2. | C41: Informatīvā stenda pārvietošana | D41: obj. | E41: 1 | H41: =ROUND((G41*F41),2) -> 0 | K41: =ROUND(SUM(H41+I41+J41),2) -> 0 | L41: =ROUND((E41*F41),2) -> 0 | M41: =ROUND((E41*H41),2) -> 0 | N41: =ROUND((E41*I41),2) -> 0 | O41: =ROUND((E41*J41),2) -> 0 | P41: =ROUND(SUM(M41+N41+O41),2) -> 0
A42: 1.5.3. | C42: Informatīvās zīmes (norādes līdz ieejai patvertnē u.c.), dublējot braila rakstā, jānovieto 1,0 - 1,4 m augstumā no grīdas, un burtu izmērs informācijai, kas atrodas uz durvīm, ir vismaz 5 cm. | D42: gb | E42: 10 | H42: =ROUND(F42*G42,2) -> 0 | K42: =ROUND(J42+I42+H42,2) -> 0 | L42: =ROUND(E42*F42,2) -> 0 | M42: =ROUND(E42*H42,2) -> 0 | N42: =ROUND(E42*I42,2) -> 0 | O42: =ROUND(E42*J42,2) -> 0 | P42: =ROUND(M42+N42+O42,2) -> 0
A43: Tiešās izmaksas kopā, t. sk. darba devēja sociālais nodoklis (23,59%): | L43: =SUM(L15:L42) -> 0 | M43: =SUM(M15:M42) -> 0 | N43: =SUM(N15:N42) -> 0 | O43: =SUM(O15:O42) -> 0 | P43: =SUM(P15:P42) -> 0
