Workbook

Sheet KS
A1: Kopsavilkuma aprēķini pa darbu veidiem vai konstruktīvajiem elementiem
A2: 5.2.1.1/1/25/I/013 "Objektu pielāgošana un aprīkošana civilās aizsardzības mērķiem Rēzeknes novadā"
A3: (būvdarbu veids vai konstruktīvā elementa nosaukums)
A4: Objekta nosaukums | C4: Telpu remontdarbi patvertnes funkcionālo prasību pielāgošanai Bērzgalē, Rītupes ielā 25
A5: Objekta adrese | C5: Rītupes iela 25, Bērzgale, Bērzgales pag., Rēzeknes nov., LV-4612
A6: Pasūtītājs | C6: Rēzeknes novada pašvaldība
A8: Par kopējo summu (EUR) | C8: =E18 -> 0
A9: Kopējā darbietilpība, (c/h.) | C9: =I14 -> 0
A11: N.p.k. | B11: Kods, tāmes Nr. | C11: Būvdarbu veids vai konstruktīvā elementa nosaukums | E11: Tāmes izmaksas | F11: Tai skaitā | I11: Darbietilpība (c/h)
F12: darba alga | G12: būvizstrādājumi | H12: mehānismi
A13: 6 | B13: LT6 | C13: ='Rītupes iela 25, Bērzgale'!C5 -> Telpu remontdarbi patvertnes funkcionālo prasību pielāgošanai Bērzgalē, Rītupes ielā 25 | E13: ='Rītupes iela 25, Bērzgale'!P77 -> 0 | F13: ='Rītupes iela 25, Bērzgale'!M77 -> 0 | G13: ='Rītupes iela 25, Bērzgale'!N77 -> 0 | H13: ='Rītupes iela 25, Bērzgale'!O77 -> 0 | I13: ='Rītupes iela 25, Bērzgale'!L77 -> 0
A14: Kopā | E14: =SUM(E13:E13) -> 0 | F14: =SUM(F13:F13) -> 0 | G14: =SUM(G13:G13) -> 0 | H14: =SUM(H13:H13) -> 0 | I14: =SUM(I13:I13) -> 0
A15: Virsizdevumi | D15: 0 | E15: =ROUND((E14*D15),2) -> 0
A16: T.sk. darba aizsardzība | D16: 0 | E16: =ROUND((E15*D16),2) -> 0
A17: Peļņa | D17: 0 | E17: =ROUND((E14*D17),2) -> 0
A18: Pavisam kopā | E18: =E17+E15+E14 -> 0

Sheet Rītupes iela 25, Bērzgale
A1: Lokālā tāme Nr.6
A2: Atjaunošanas darbi
A3: (Darba veids vai konstruktīvā elementa nosaukums)
A5: Objekta nosaukums | C5: Telpu remontdarbi patvertnes funkcionālo prasību pielāgošanai Bērzgalē, Rītupes ielā 25
A6: Būves nosaukums | C6: Bērzgales pamatskola
A7: Pasūtītājs | C7: Rēzeknes novada pašvaldība
A10: Tāme sastādīta | K10: Tāmes izmaksas | M10: =P77 -> 0
A11: Nr.p.k. | B11: Kods | D11: Mērv. | E11: Daudz. | F11: Vienības izmaksas | L11: Kopā uz visu apjomu | P11: Summa (EUR)
F12: Laika norma (c/h) | G12: Darba samaksas likme (EUR/h) | H12: Darba alga (EUR) | I12: Būvizstrādājumi (EUR) | J12: Mehānismi (EUR) | K12: KOPĀ (EUR) | L12: Darbietilpība (C/h) | M12: Darba alga (EUR) | N12: Būvizstrādājumi (EUR) | O12: Mehānismi (EUR)
A14: 1 | B14: 2 | C14: 3 | D14: 4 | E14: 5 | F14: 6 | G14: 7 | H14: 8 | I14: 9 | J14: 10 | K14: 11 | L14: 12 | M14: 13 | N14: 14 | O14: 15 | P14: 16
A15: 1. | C15: Rītupes iela 25, Bērzgale | K15: =ROUND(SUM(J15+I15+H15),2) -> 0 | L15: =ROUND((F15*E15),2) -> 0 | M15: =ROUND((H15*E15),2) -> 0 | N15: =ROUND((I15*E15),2) -> 0 | O15: =ROUND((J15*E15),2) -> 0 | P15: =ROUND(SUM(O15+N15+M15),2) -> 0
A16: 1.1. | C16: Sagatavošanas darbi | H16: =ROUND(F16*G16,2) -> 0 | K16: =ROUND(SUM(J16+I16+H16),2) -> 0 | L16: =ROUND((F16*E16),2) -> 0 | M16: =ROUND((H16*E16),2) -> 0 | N16: =ROUND((I16*E16),2) -> 0 | O16: =ROUND((J16*E16),2) -> 0 | P16: =ROUND(SUM(O16+N16+M16),2) -> 0
A17: 1.1.1. | C17: Veco elektro un vājstrāvas tīklu demontāža, t.sk. gaismekļi, slēdži, ligzdas, detektori, kārba u.c. el.tīklu elementi | D17: obj. | E17: 1 | H17: =ROUND(F17*G17,2) -> 0 | K17: =ROUND(SUM(J17+I17+H17),2) -> 0 | L17: =ROUND((F17*E17),2) -> 0 | M17: =ROUND((H17*E17),2) -> 0 | N17: =ROUND((I17*E17),2) -> 0 | O17: =ROUND((J17*E17),2) -> 0 | P17: =ROUND(SUM(O17+N17+M17),2) -> 0
A18: 1.1.2. | C18: Vecās kanalizācijas, ūdensvada tīklu demontāža, t.sk. podi, izlietnes u.c. uk tīklu elementi | D18: obj. | E18: 1 | H18: =ROUND(F18*G18,2) -> 0 | K18: =ROUND(SUM(J18+I18+H18),2) -> 0 | L18: =ROUND((F18*E18),2) -> 0 | M18: =ROUND((H18*E18),2) -> 0 | N18: =ROUND((I18*E18),2) -> 0 | O18: =ROUND((J18*E18),2) -> 0 | P18: =ROUND(SUM(O18+N18+M18),2) -> 0
A19: 1.1.3. | C19: Vecās ventilācijas sistēmas tīklu demontāža, stiprinājumi, ventšahtas u.c. ventilācijas tīklu elementi | D19: obj. | E19: 1 | H19: =ROUND(F19*G19,2) -> 0 | K19: =ROUND(SUM(J19+I19+H19),2) -> 0 | L19: =ROUND((F19*E19),2) -> 0 | M19: =ROUND((H19*E19),2) -> 0 | N19: =ROUND((I19*E19),2) -> 0 | O19: =ROUND((J19*E19),2) -> 0 | P19: =ROUND(SUM(O19+N19+M19),2) -> 0
A20: 1.1.4. | C20: Pagrabstāva betona grīdas tīrīšana, gruntēšana remonts lokālajās vietās | D20: m2 | E20: 251.6 | H20: =ROUND(F20*G20,2) -> 0 | K20: =ROUND(SUM(J20+I20+H20),2) -> 0 | L20: =ROUND((F20*E20),2) -> 0 | M20: =ROUND((H20*E20),2) -> 0 | N20: =ROUND((I20*E20),2) -> 0 | O20: =ROUND((J20*E20),2) -> 0 | P20: =ROUND(SUM(O20+N20+M20),2) -> 0
A21: 1.1.5. | C21: Durvju, durvju kārbas,logu demontāža | D21: gab. | E21: 17 | H21: =ROUND(F21*G21,2) -> 0 | K21: =ROUND(SUM(J21+I21+H21),2) -> 0 | L21: =ROUND((F21*E21),2) -> 0 | M21: =ROUND((H21*E21),2) -> 0 | N21: =ROUND((I21*E21),2) -> 0 | O21: =ROUND((J21*E21),2) -> 0 | P21: =ROUND(SUM(O21+N21+M21),2) -> 0
A22: 1.1.6. | C22: Pagrabstāva sienu tīrīšana, gruntēšana, remonts lokālajās vietās | D22: m2 | E22: 432 | H22: =ROUND(F22*G22,2) -> 0 | K22: =ROUND(SUM(J22+I22+H22),2) -> 0 | L22: =ROUND((F22*E22),2) -> 0 | M22: =ROUND((H22*E22),2) -> 0 | N22: =ROUND((I22*E22),2) -> 0 | O22: =ROUND((J22*E22),2) -> 0 | P22: =ROUND(SUM(O22+N22+M22),2) -> 0
A23: 1.1.7. | C23: Pagrabstāva griestu tīrīšana | D23: m2 | E23: 251 | H23: =ROUND(F23*G23,2) -> 0 | K23: =ROUND(SUM(J23+I23+H23),2) -> 0 | L23: =ROUND((F23*E23),2) -> 0 | M23: =ROUND((H23*E23),2) -> 0 | N23: =ROUND((I23*E23),2) -> 0 | O23: =ROUND((J23*E23),2) -> 0 | P23: =ROUND(SUM(O23+N23+M23),2) -> 0
A24: 1.1.8. | C24: Pagrabstāva betona grīdas un sienu (H=1m) smērēšana ar hidroizolāciju (2 kārtas) | D24: m2 | E24: 100 | H24: =ROUND(F24*G24,2) -> 0 | K24: =ROUND(SUM(J24+I24+H24),2) -> 0 | L24: =ROUND((F24*E24),2) -> 0 | M24: =ROUND((H24*E24),2) -> 0 | N24: =ROUND((I24*E24),2) -> 0 | O24: =ROUND((J24*E24),2) -> 0 | P24: =ROUND(SUM(O24+N24+M24),2) -> 0
A25: 1.1.9. | C25: Betona grīdas līdzināšana (pēc hidroizolācijas) | D25: m2 | E25: 60 | H25: =ROUND(F25*G25,2) -> 0 | K25: =ROUND(SUM(J25+I25+H25),2) -> 0 | L25: =ROUND((F25*E25),2) -> 0 | M25: =ROUND((H25*E25),2) -> 0 | N25: =ROUND((I25*E25),2) -> 0 | O25: =ROUND((J25*E25),2) -> 0 | P25: =ROUND(SUM(O25+N25+M25),2) -> 0
A26: 1.1.10. | C26: Sienu līdzināšana, hidrozilācijas vietā | D26: m2 | E26: 40 | H26: =ROUND(F26*G26,2) -> 0 | K26: =ROUND(SUM(J26+I26+H26),2) -> 0 | L26: =ROUND((F26*E26),2) -> 0 | M26: =ROUND((H26*E26),2) -> 0 | N26: =ROUND((I26*E26),2) -> 0 | O26: =ROUND((J26*E26),2) -> 0 | P26: =ROUND(SUM(O26+N26+M26),2) -> 0
A27: 1.1.11. | C27: Būvgružu utilizācija | D27: obj. | E27: 1 | H27: =ROUND(F27*G27,2) -> 0 | K27: =ROUND(SUM(J27+I27+H27),2) -> 0 | L27: =ROUND((F27*E27),2) -> 0 | M27: =ROUND((H27*E27),2) -> 0 | N27: =ROUND((I27*E27),2) -> 0 | O27: =ROUND((J27*E27),2) -> 0 | P27: =ROUND(SUM(O27+N27+M27),2) -> 0
A29: 1.2. | C29: Sienu, grīdas, griestu apdare sanmezglos | H29: =ROUND(F29*G29,2) -> 0 | K29: =ROUND(SUM(J29+I29+H29),2) -> 0 | L29: =ROUND((F29*E29),2) -> 0 | M29: =ROUND((H29*E29),2) -> 0 | N29: =ROUND((I29*E29),2) -> 0 | O29: =ROUND((J29*E29),2) -> 0 | P29: =ROUND(SUM(O29+N29+M29),2) -> 0
A30: 1.2.1. | C30: Sienu gruntēšana un apmetuma iestrāde | D30: m2 | E30: 85 | H30: =ROUND(F30*G30,2) -> 0 | K30: =ROUND(SUM(J30+I30+H30),2) -> 0 | L30: =ROUND((F30*E30),2) -> 0 | M30: =ROUND((H30*E30),2) -> 0 | N30: =ROUND((I30*E30),2) -> 0 | O30: =ROUND((J30*E30),2) -> 0 | P30: =ROUND(SUM(O30+N30+M30),2) -> 0
A31: 1.2.2. | C31: Betona grīdas tīrīšana, gruntēsana, līdzināšana un pretslīdes pārklājuma izbūve, nodrošinot pretslīdes klasi R10 | D31: m2 | E31: 20 | H31: =ROUND(F31*G31,2) -> 0 | K31: =ROUND(SUM(J31+I31+H31),2) -> 0 | L31: =ROUND((F31*E31),2) -> 0 | M31: =ROUND((H31*E31),2) -> 0 | N31: =ROUND((I31*E31),2) -> 0 | O31: =ROUND((J31*E31),2) -> 0 | P31: =ROUND(SUM(O31+N31+M31),2) -> 0
A32: 1.2.3. | C32: Griestu tīrīšāna, gruntēšana, krāsošana | D32: m2 | E32: 20 | H32: =ROUND(F32*G32,2) -> 0 | K32: =ROUND(SUM(J32+I32+H32),2) -> 0 | L32: =ROUND((F32*E32),2) -> 0 | M32: =ROUND((H32*E32),2) -> 0 | N32: =ROUND((I32*E32),2) -> 0 | O32: =ROUND((J32*E32),2) -> 0 | P32: =ROUND(SUM(O32+N32+M32),2) -> 0
A33: 1.2.4. | C33: Starpsienas ir izgatavotas no skaidu plāksnes (kokskaidu plātne) ar kopējo nominālo biezumu 24 mm izmantošanai mitros apstākļos. (h=2m) Konstrukcijā tiek izmantota LTT anodēta alumīnija profilu sistēma. Komplektācijā ietilpst sienas, durvis, furnitūra, stiprinājumi un karkass. Krāsa - ABET 475 – Gaiši pelēks, izmērus precizēt būvdarbu laikā, materiālu un toni saskaņot ar pasūtītāju | D33: m | E33: 15.6 | H33: =F33*G33 -> 0 | K33: =SUM(H33:J33) -> 0 | L33: =ROUND(E33*F33,2) -> 0 | M33: =ROUND(E33*H33,2) -> 0 | N33: =ROUND(E33*I33,2) -> 0 | O33: =ROUND(E33*J33,2) -> 0 | P33: =SUM(M33:O33) -> 0
A34: 1.2.5. | C34: Visi evakuācijas ceļi, tai skaitā pakāpieni, laukumu perimetri, margas, rokturi un durvju ailes (apmales), jāizceļ ar kontrastējošu krāsu attiecībā pret apkārtējo virsmu. Kontrastējošajam marķējumam jābūt nepārtrauktam un labi saskatāmam normālā un samazinātā apgaismojumā, nodrošinot evakuācijas ceļa un izeju vieglu identificēšanu. Evakuācijas izeju durvis un to ailes jāmarķē analogi VUGD rekomendētajiem piemēriem, izmantojot spilgtu kontrastējošu krāsu (piemēram, dzeltenu, zaļi luminiscējošu vai citu līdzvērtīgu risinājumu). | D34: obj. | E34: 1 | H34: =F34*G34 -> 0 | K34: =SUM(H34:J34) -> 0 | L34: =ROUND(E34*F34,2) -> 0 | M34: =ROUND(E34*H34,2) -> 0 | N34: =ROUND(E34*I34,2) -> 0 | O34: =ROUND(E34*J34,2) -> 0 | P34: =SUM(M34:O34) -> 0
A35: 1.2.6. | C35: Durvju vērtnes ir kontrastējošā krāsā, toni saskaņojot ar pasūtītāju | D35: gab. | E35: 17 | H35: =ROUND(F35*G35,2) -> 0 | K35: =ROUND(SUM(J35+I35+H35),2) -> 0 | L35: =ROUND((F35*E35),2) -> 0 | M35: =ROUND((H35*E35),2) -> 0 | N35: =ROUND((I35*E35),2) -> 0 | O35: =ROUND((J35*E35),2) -> 0 | P35: =ROUND(SUM(O35+N35+M35),2) -> 0
A36: 1.3. | C36: Elektroapgāde, apgaismojums, IT tīkls | H36: =ROUND(F36*G36,2) -> 0 | K36: =ROUND(SUM(J36+I36+H36),2) -> 0 | L36: =ROUND((F36*E36),2) -> 0 | M36: =ROUND((H36*E36),2) -> 0 | N36: =ROUND((I36*E36),2) -> 0 | O36: =ROUND((J36*E36),2) -> 0 | P36: =ROUND(SUM(O36+N36+M36),2) -> 0
A37: 1.3.1. | C37: PVC kabeļu gofras stiprināšana (betona pārsegums un sienas), kabeļa ar vara dzīslam uzstādīšana, NYM-J 3x1,5, ieskaitot stiprinājumus | D37: m | E37: 500 | H37: =ROUND(F37*G37,2) -> 0 | K37: =ROUND(SUM(J37+I37+H37),2) -> 0 | L37: =ROUND((F37*E37),2) -> 0 | M37: =ROUND((H37*E37),2) -> 0 | N37: =ROUND((I37*E37),2) -> 0 | O37: =ROUND((J37*E37),2) -> 0 | P37: =ROUND(SUM(O37+N37+M37),2) -> 0
A38: 1.3.2. | C38: PVC kabeļu gofras stiprināšana (betona sienas), kabeļa ar vara dzīslam uzstādīšana, NYM-J 3x2,5, ieskaitot stiprinājumus | D38: m | E38: 800 | H38: =ROUND(F38*G38,2) -> 0 | K38: =ROUND(SUM(J38+I38+H38),2) -> 0 | L38: =ROUND((F38*E38),2) -> 0 | M38: =ROUND((H38*E38),2) -> 0 | N38: =ROUND((I38*E38),2) -> 0 | O38: =ROUND((J38*E38),2) -> 0 | P38: =ROUND(SUM(O38+N38+M38),2) -> 0
A39: 1.3.3. | C39: Virsapmetuma montāžas kārba ar kontaktligzda zemapmetuma 1v., 230V; 16A; L+N+PE IP-20 | D39: gb | E39: 40 | H39: =ROUND(F39*G39,2) -> 0 | K39: =ROUND(SUM(J39+I39+H39),2) -> 0 | L39: =ROUND((F39*E39),2) -> 0 | M39: =ROUND((H39*E39),2) -> 0 | N39: =ROUND((I39*E39),2) -> 0 | O39: =ROUND((J39*E39),2) -> 0 | P39: =ROUND(SUM(O39+N39+M39),2) -> 0
A40: 1.3.4. | C40: SADALNE VIRSAPMETUMA PLEXO IP65 IK09 PE/N 2x12M | D40: gab. | E40: 1 | H40: =ROUND(F40*G40,2) -> 0 | K40: =ROUND(SUM(J40+I40+H40),2) -> 0 | L40: =ROUND((F40*E40),2) -> 0 | M40: =ROUND((H40*E40),2) -> 0 | N40: =ROUND((I40*E40),2) -> 0 | O40: =ROUND((J40*E40),2) -> 0 | P40: =ROUND(SUM(O40+N40+M40),2) -> 0
A41: 1.3.5. | C41: Automatiskais slēdzis, 10A, 230V, "C" ABB | D41: gab. | E41: 10 | H41: =ROUND(F41*G41,2) -> 0 | K41: =ROUND(SUM(J41+I41+H41),2) -> 0 | L41: =ROUND((F41*E41),2) -> 0 | M41: =ROUND((H41*E41),2) -> 0 | N41: =ROUND((I41*E41),2) -> 0 | O41: =ROUND((J41*E41),2) -> 0 | P41: =ROUND(SUM(O41+N41+M41),2) -> 0
A42: 1.3.6. | C42: Automatiskais slēdzis, 16A, 230V, "C" ABB | D42: gab. | E42: 10 | H42: =ROUND(F42*G42,2) -> 0 | K42: =ROUND(SUM(J42+I42+H42),2) -> 0 | L42: =ROUND((F42*E42),2) -> 0 | M42: =ROUND((H42*E42),2) -> 0 | N42: =ROUND((I42*E42),2) -> 0 | O42: =ROUND((J42*E42),2) -> 0 | P42: =ROUND(SUM(O42+N42+M42),2) -> 0
A43: 1.3.7. | C43: Slodzes slēdzis 3P 40A 400V | D43: gab. | E43: 1 | H43: =ROUND(F43*G43,2) -> 0 | K43: =ROUND(SUM(J43+I43+H43),2) -> 0 | L43: =ROUND((F43*E43),2) -> 0 | M43: =ROUND((H43*E43),2) -> 0 | N43: =ROUND((I43*E43),2) -> 0 | O43: =ROUND((J43*E43),2) -> 0 | P43: =ROUND(SUM(O43+N43+M43),2) -> 0
A44: 1.3.8. | C44: Palīgmateriāli el.sistēmas izbūvei t.sk, stiprinājumi, nozarkārbas, savienojumi u.c. elementi | D44: obj. | E44: 1 | H44: =ROUND(F44*G44,2) -> 0 | K44: =ROUND(SUM(J44+I44+H44),2) -> 0 | L44: =ROUND((F44*E44),2) -> 0 | M44: =ROUND((H44*E44),2) -> 0 | N44: =ROUND((I44*E44),2) -> 0 | O44: =ROUND((J44*E44),2) -> 0 | P44: =ROUND(SUM(O44+N44+M44),2) -> 0
A45: 1.3.9. | C45: Gaismeklis LED,virsapmetuma, lineārs, 1200mm, 4600lm, 35W, CRI 80, 4000K, 100.000h, IP65 Feilo Sylvania 0046370 START Waterproof Slim 1200 IP65 4600lm 840 | D45: gab. | E45: 20 | H45: =ROUND(G45*F45,2) -> 0 | K45: =ROUND(J45+I45+H45,2) -> 0 | L45: =ROUND(F45*E45,2) -> 0 | M45: =ROUND(H45*E45,2) -> 0 | N45: =ROUND(I45*E45,2) -> 0 | O45: =ROUND(J45*E45,2) -> 0 | P45: =ROUND(O45+N45+M45,2) -> 0
A46: 1.3.10. | C46: LED, virsapmetuma, griestu, DIONE LED PLUS 2550 LM 840 IP65 OPAL WHITE 22W) | D46: gab. | E46: 10 | H46: =ROUND(G46*F46,2) -> 0 | K46: =ROUND(J46+I46+H46,2) -> 0 | L46: =ROUND(F46*E46,2) -> 0 | M46: =ROUND(H46*E46,2) -> 0 | N46: =ROUND(I46*E46,2) -> 0 | O46: =ROUND(J46*E46,2) -> 0 | P46: =ROUND(O46+N46+M46,2) -> 0
A47: 1.3.11. | C47: Benzīna ģeneratora KS 10000E-1/3 230V / 400V 8000 W (vai ekvivalents) uzstādīšana, ar iespēju pieslēgt tīklam, dūmgāzu novadīšana ārā | D47: gab. | E47: 1 | H47: =ROUND(G47*F47,2) -> 0 | K47: =ROUND(J47+I47+H47,2) -> 0 | L47: =ROUND(F47*E47,2) -> 0 | M47: =ROUND(H47*E47,2) -> 0 | N47: =ROUND(I47*E47,2) -> 0 | O47: =ROUND(J47*E47,2) -> 0 | P47: =ROUND(O47+N47+M47,2) -> 0
A48: 1.3.12. | C48: QLOCOM WLAN pastiprinātājs 1200M Repeater Dual Band Booster ar WPS, Wi-Fi signāla pastiprināšanai. | D48: gb | E48: 5 | H48: =ROUND(F48*G48,2) -> 0 | K48: =ROUND(SUM(J48+I48+H48),2) -> 0 | L48: =ROUND((F48*E48),2) -> 0 | M48: =ROUND((H48*E48),2) -> 0 | N48: =ROUND((I48*E48),2) -> 0 | O48: =ROUND((J48*E48),2) -> 0 | P48: =ROUND(SUM(O48+N48+M48),2) -> 0
A50: 1.4. | C50: UK montāžas darbi | H50: =ROUND(F50*G50,2) -> 0 | K50: =ROUND(SUM(J50+I50+H50),2) -> 0 | L50: =ROUND((F50*E50),2) -> 0 | M50: =ROUND((H50*E50),2) -> 0 | N50: =ROUND((I50*E50),2) -> 0 | O50: =ROUND((J50*E50),2) -> 0 | P50: =ROUND(SUM(O50+N50+M50),2) -> 0
A51: 1.4.1. | C51: Ūdensvada montāža PPR-AL-PEX De20 un De16 ar līkumiem, noslēgkrāniem- boilera, klozetpodu, izlietņu pieslēgumam. | D51: m | E51: 70 | H51: =ROUND(F51*G51,2) -> 0 | K51: =ROUND(SUM(J51+I51+H51),2) -> 0 | L51: =ROUND((F51*E51),2) -> 0 | M51: =ROUND((H51*E51),2) -> 0 | N51: =ROUND((I51*E51),2) -> 0 | O51: =ROUND((J51*E51),2) -> 0 | P51: =ROUND(SUM(O51+N51+M51),2) -> 0
A52: 1.4.2. | C52: PVC De 50-100 kanailzācijas caurules montāža ar līkumiem, pārejām un stiprinājumiem montāža. Klozetpodiem, izlietņu pieslēguma veidošanai. | D52: m | E52: 30 | H52: =ROUND(F52*G52,2) -> 0 | K52: =ROUND(SUM(J52+I52+H52),2) -> 0 | L52: =ROUND((F52*E52),2) -> 0 | M52: =ROUND((H52*E52),2) -> 0 | N52: =ROUND((I52*E52),2) -> 0 | O52: =ROUND((J52*E52),2) -> 0 | P52: =ROUND(SUM(O52+N52+M52),2) -> 0
A53: 1.4.3. | C53: Klozetpoda montāža ar skalojamo kasti un vāku. Ūdensvada pieslēgums cieto metāla cauruli, noslēgrāns. Klozetpoda kanalizācijas pieslēguma veidgabali, pāreja, pieslēguma caurule. | D53: kpl. | E53: 2 | H53: =ROUND(F53*G53,2) -> 0 | K53: =ROUND(SUM(J53+I53+H53),2) -> 0 | L53: =ROUND((F53*E53),2) -> 0 | M53: =ROUND((H53*E53),2) -> 0 | N53: =ROUND((I53*E53),2) -> 0 | O53: =ROUND((J53*E53),2) -> 0 | P53: =ROUND(SUM(O53+N53+M53),2) -> 0
A54: 1.4.4. | C54: Klozetpoda montāža invalīdu aprīkojumā ar skalojamo kasti un vāku. Ūdensvada pieslēgums cieto metāla cauruli, noslēgrāns. Klozetpoda kanalizācijas pieslēguma veidgabali, pāreja, pieslēguma caurule. | D54: kpl. | E54: 2 | H54: =ROUND(F54*G54,2) -> 0 | K54: =ROUND(SUM(J54+I54+H54),2) -> 0 | L54: =ROUND((F54*E54),2) -> 0 | M54: =ROUND((H54*E54),2) -> 0 | N54: =ROUND((I54*E54),2) -> 0 | O54: =ROUND((J54*E54),2) -> 0 | P54: =ROUND(SUM(O54+N54+M54),2) -> 0
A55: 1.4.5. | C55: Vannas istabas izlietne Ideal Standard I.Life, keramika, 60 cm x 48 cm x 15 cm vai ekvivalents, montāža. Izlietnes kanalizācijas pieslēguma veidgabali sifons.Ūdensvada pieslēgums cieto metāla cauruli, noslēgrāns (karstam un augstam ūdenim), ieskaitot jaucekrānu | D55: kpl. | E55: 4 | H55: =ROUND(F55*G55,2) -> 0 | K55: =ROUND(SUM(J55+I55+H55),2) -> 0 | L55: =ROUND((F55*E55),2) -> 0 | M55: =ROUND((H55*E55),2) -> 0 | N55: =ROUND((I55*E55),2) -> 0 | O55: =ROUND((J55*E55),2) -> 0 | P55: =ROUND(SUM(O55+N55+M55),2) -> 0
A56: 1.4.6. | C56: Sausā tualete P-506, piegāde,uzstādīšana | D56: kpl. | E56: 2 | H56: =ROUND(F56*G56,2) -> 0 | K56: =ROUND(SUM(J56+I56+H56),2) -> 0 | L56: =ROUND((F56*E56),2) -> 0 | M56: =ROUND((H56*E56),2) -> 0 | N56: =ROUND((I56*E56),2) -> 0 | O56: =ROUND((J56*E56),2) -> 0 | P56: =ROUND(SUM(O56+N56+M56),2) -> 0
A57: 1.4.7. | C57: Paceļams roku balsts un stacionārais roku balsts tualetes podam, tērauds, balts epoksīda pārklājums, max. slodze 120 kg | D57: kpl. | E57: 2 | H57: =ROUND(F57*G57,2) -> 0 | K57: =ROUND(J57+I57+H57,2) -> 0 | L57: =ROUND(E57*F57,2) -> 0 | M57: =ROUND(E57*H57,2) -> 0 | N57: =ROUND(E57*I57,2) -> 0 | O57: =ROUND(E57*J57,2) -> 0 | P57: =ROUND(M57+N57+O57,2) -> 0
A59: 1.5. | C59: Durvju, plauktu montāžas darbi | H59: =ROUND(F59*G59,2) -> 0 | K59: =ROUND(SUM(J59+I59+H59),2) -> 0 | L59: =ROUND((F59*E59),2) -> 0 | M59: =ROUND((H59*E59),2) -> 0 | N59: =ROUND((I59*E59),2) -> 0 | O59: =ROUND((J59*E59),2) -> 0 | P59: =ROUND(SUM(O59+N59+M59),2) -> 0
A60: 1.5.1. | C60: Ugunsdrošu metāla durvju EI30 montāža ar furnitūru 0,95x2,1 m. Slēdzamas durvis. Durvju aizvēršanas mehānisms. EL30 durvju tonis - NCS S0502-Y20R, durvju aplodu tonējums - NCS S8505-B50G Vēršanās virzienu precizēt būvdarbu gaitā. | D60: gab. | E60: 2 | H60: =ROUND((G60*F60),2) -> 0 | K60: =ROUND(SUM(H60+I60+J60),2) -> 0 | L60: =ROUND((E60*F60),2) -> 0 | M60: =ROUND((E60*H60),2) -> 0 | N60: =ROUND((E60*I60),2) -> 0 | O60: =ROUND((E60*J60),2) -> 0 | P60: =ROUND(SUM(M60+N60+O60),2) -> 0
A61: 1.5.2. | C61: Finerētas iekšdurvis 0,8x2,0mfurnitūra, aplodas. Vēršanās virzienu precizēt būvdarbu gaitā. Izmērs precizējams pirms pasūtījuma. Papildus uzstādāmas durvju atdures Hafele Durvju Atdure Pie Sienas 40mm, Balta. | D61: gab. | E61: 14 | H61: =ROUND((G61*F61),2) -> 0 | K61: =ROUND(SUM(H61+I61+J61),2) -> 0 | L61: =ROUND((E61*F61),2) -> 0 | M61: =ROUND((E61*H61),2) -> 0 | N61: =ROUND((E61*I61),2) -> 0 | O61: =ROUND((E61*J61),2) -> 0 | P61: =ROUND(SUM(M61+N61+O61),2) -> 0
A62: 1.5.3. | C62: Loga montāža Uw≤0,80 W/m2K, 1,5mx1,5m | D62: gab. | E62: 2 | H62: =ROUND((G62*F62),2) -> 0 | K62: =ROUND(SUM(H62+I62+J62),2) -> 0 | L62: =ROUND((E62*F62),2) -> 0 | M62: =ROUND((E62*H62),2) -> 0 | N62: =ROUND((E62*I62),2) -> 0 | O62: =ROUND((E62*J62),2) -> 0 | P62: =ROUND(SUM(M62+N62+O62),2) -> 0
A63: 1.5.4. | C63: Metāls plaukts, montāža pie sienas (h=2000mm x b=3000mm), ūdens rezerves glabāšanas vieta | D63: gab. | E63: 2 | H63: =ROUND((G63*F63),2) -> 0 | K63: =ROUND(SUM(H63+I63+J63),2) -> 0 | L63: =ROUND((E63*F63),2) -> 0 | M63: =ROUND((E63*H63),2) -> 0 | N63: =ROUND((E63*I63),2) -> 0 | O63: =ROUND((E63*J63),2) -> 0 | P63: =ROUND(SUM(M63+N63+O63),2) -> 0
A64: 1.5.4. | C64: Metāla plaukts apšūts ar 12mm mitrumizturīgo saplāksni, ieskaitot furnitūru durvīm un durvis, montāža pie sienas (h=2000mm x b=1500mm), atkritumu tvertnes un maisu glabāšanas vieta | D64: gab. | E64: 2 | H64: =ROUND((G64*F64),2) -> 0 | K64: =ROUND(SUM(H64+I64+J64),2) -> 0 | L64: =ROUND((E64*F64),2) -> 0 | M64: =ROUND((E64*H64),2) -> 0 | N64: =ROUND((E64*I64),2) -> 0 | O64: =ROUND((E64*J64),2) -> 0 | P64: =ROUND(SUM(M64+N64+O64),2) -> 0
A66: 1.6. | C66: AVK-A AVK-V darbi | H66: =ROUND(F66*G66,2) -> 0 | K66: =ROUND(SUM(J66+I66+H66),2) -> 0 | L66: =ROUND((F66*E66),2) -> 0 | M66: =ROUND((H66*E66),2) -> 0 | N66: =ROUND((I66*E66),2) -> 0 | O66: =ROUND((J66*E66),2) -> 0 | P66: =ROUND(SUM(O66+N66+M66),2) -> 0
A67: 1.6.1. | C67: Radiatoru pievadu montāža, pieslegšana pie apkures stāvvada. Cauruļvada montāža PPR AUL PEX DN32. Sienu šķērsošana un atvērumu aizdare. Noslegkrānu montāža | D67: m | E67: 300 | H67: =ROUND((G67*F67),2) -> 0 | K67: =ROUND(SUM(H67+I67+J67),2) -> 0 | L67: =ROUND((E67*F67),2) -> 0 | M67: =ROUND((E67*H67),2) -> 0 | N67: =ROUND((E67*I67),2) -> 0 | O67: =ROUND((E67*J67),2) -> 0 | P67: =ROUND(SUM(M67+N67+O67),2) -> 0
A68: 1.6.2. | C68: Tērauda radiators PURMO Compact ar cauruļvadu sānu pievienojumu, komplektā ar atgaisotāju, termogalvu, korķi un stiprinājuma kronšteiniem 1231W, C 22-500-1200 | D68: gab. | E68: 15 | H68: =ROUND((G68*F68),2) -> 0 | K68: =ROUND(SUM(H68+I68+J68),2) -> 0 | L68: =ROUND((E68*F68),2) -> 0 | M68: =ROUND((E68*H68),2) -> 0 | N68: =ROUND((E68*I68),2) -> 0 | O68: =ROUND((E68*J68),2) -> 0 | P68: =ROUND(SUM(M68+N68+O68),2) -> 0
A69: 1.6.3. | C69: Eletriskās ventilācijas sisēmas izbūve telpās (pieplūde), 5 telpas, ieskaitot visus pievadus, veidgabalus, restes, stiprinājumus, sienu šķērsošanu u.c.c | D69: m | E69: 50 | H69: =ROUND((G69*F69),2) -> 0 | K69: =ROUND(SUM(H69+I69+J69),2) -> 0 | L69: =ROUND((E69*F69),2) -> 0 | M69: =ROUND((E69*H69),2) -> 0 | N69: =ROUND((E69*I69),2) -> 0 | O69: =ROUND((E69*J69),2) -> 0 | P69: =ROUND(SUM(M69+N69+O69),2) -> 0
A70: 1.6.4. | C70: Eletriskās ventilācijas sisēmas izbūve telpās (nosūce), 5 telpas, ieskaitot visus pievadus, veidgabalus, restes, stiprinājumus, sienu šķērsošanu u.c.c | D70: m | E70: 50 | H70: =ROUND((G70*F70),2) -> 0 | K70: =ROUND(SUM(H70+I70+J70),2) -> 0 | L70: =ROUND((E70*F70),2) -> 0 | M70: =ROUND((E70*H70),2) -> 0 | N70: =ROUND((E70*I70),2) -> 0 | O70: =ROUND((E70*J70),2) -> 0 | P70: =ROUND(SUM(M70+N70+O70),2) -> 0
A72: 1.7. | C72: Citi darbi | H72: =ROUND(F72*G72,2) -> 0 | K72: =ROUND(SUM(J72+I72+H72),2) -> 0 | L72: =ROUND((F72*E72),2) -> 0 | M72: =ROUND((H72*E72),2) -> 0 | N72: =ROUND((I72*E72),2) -> 0 | O72: =ROUND((J72*E72),2) -> 0 | P72: =ROUND(SUM(O72+N72+M72),2) -> 0
A73: 1.7.1. | C73: Informatīvās zīmes (ieeja patvertnē, ugunsdzēšamie aparāti, aptieciņa, WC u.c.c.), dublējot braila rakstā, jānovieto 1,0 - 1,5 m augstumā no grīdas, un burtu izmērs informācijai, kas atrodas uz durvīm, ir vismaz 5 cm. | D73: gb | E73: 50 | H73: =ROUND(F73*G73,2) -> 0 | K73: =ROUND(J73+I73+H73,2) -> 0 | L73: =ROUND(E73*F73,2) -> 0 | M73: =ROUND(E73*H73,2) -> 0 | N73: =ROUND(E73*I73,2) -> 0 | O73: =ROUND(E73*J73,2) -> 0 | P73: =ROUND(M73+N73+O73,2) -> 0
A74: 1.7.2. | C74: Kapņu remonts izmantojot stiegrojuma sietu un betona javu | D74: m3 | E74: 3 | H74: =ROUND((F74*G74),2) -> 0 | K74: =ROUND(J74+I74+H74,2) -> 0 | L74: =ROUND(E74*F74,2) -> 0 | M74: =ROUND(E74*H74,2) -> 0 | N74: =ROUND(E74*I74,2) -> 0 | O74: =ROUND(E74*J74,2) -> 0 | P74: =ROUND(O74+N74+M74,2) -> 0
A75: 1.7.3. | C75: Jumtiņa virs ieejas durvīm izbūve (metāla karkass, ar skārda segumu (RUKKI T20 profils) (izm 1900-5000mm) | D75: gb | E75: 2 | H75: =ROUND(G75*F75,2) -> 0 | K75: =ROUND(SUM(J75,I75,H75),2) -> 0 | L75: =ROUND(E75*F75,2) -> 0 | M75: =ROUND(E75*H75,2) -> 0 | N75: =ROUND(E75*I75,2) -> 0 | O75: =ROUND(E75*J75,2) -> 0 | P75: =ROUND(SUM(M75:O75),2) -> 0
A76: 1.7.4. | C76: Informatīvās zīmes (norādes līdz ieejai patvertnē u.c.), dublējot braila rakstā, jānovieto 1,0 - 1,4 m augstumā no grīdas, un burtu izmērs informācijai, kas atrodas uz durvīm, ir vismaz 5 cm. | D76: gb | E76: 4 | H76: =ROUND(F76*G76,2) -> 0 | K76: =ROUND(J76+I76+H76,2) -> 0 | L76: =ROUND(E76*F76,2) -> 0 | M76: =ROUND(E76*H76,2) -> 0 | N76: =ROUND(E76*I76,2) -> 0 | O76: =ROUND(E76*J76,2) -> 0 | P76: =ROUND(M76+N76+O76,2) -> 0
A77: Tiešās izmaksas kopā, t. sk. darba devēja sociālais nodoklis (23,59%): | L77: =SUM(L15:L76) -> 0 | M77: =SUM(M15:M76) -> 0 | N77: =SUM(N15:N76) -> 0 | O77: =SUM(O15:O76) -> 0 | P77: =SUM(P15:P76) -> 0
