Workbook

Sheet KS
A1: Kopsavilkuma aprēķini pa darbu veidiem vai konstruktīvajiem elementiem
A2: 5.2.1.1/1/25/I/013 "Objektu pielāgošana un aprīkošana civilās aizsardzības mērķiem Rēzeknes novadā"
A3: (būvdarbu veids vai konstruktīvā elementa nosaukums)
A4: Objekta nosaukums | C4: Telpu remontdarbi patvertnes funkcionālo prasību pielāgošanai Gaigalavā, Skolas ielā 5
A5: Objekta adrese | C5: Skolas iela 5, Gaigalava, Gaigalavas pag., Rēzeknes nov., LV-4618
A6: Pasūtītājs | C6: Rēzeknes novada pašvaldība
A8: Par kopējo summu (EUR) | C8: =E18 -> 0
A9: Kopējā darbietilpība, (c/h.) | C9: =I14 -> 0
A11: N.p.k. | B11: Kods, tāmes Nr. | C11: Būvdarbu veids vai konstruktīvā elementa nosaukums | E11: Tāmes izmaksas | F11: Tai skaitā | I11: Darbietilpība (c/h)
F12: darba alga | G12: būvizstrādājumi | H12: mehānismi
A13: 7 | B13: LT7 | C13: ='Skolas iela 5, Gaigalava'!C5 -> Telpu remontdarbi patvertnes funkcionālo prasību pielāgošanai Gaigalavā, Skolas ielā 5 | E13: ='Skolas iela 5, Gaigalava'!P65 -> 0 | F13: ='Skolas iela 5, Gaigalava'!M65 -> 0 | G13: ='Skolas iela 5, Gaigalava'!N65 -> 0 | H13: ='Skolas iela 5, Gaigalava'!O65 -> 0 | I13: ='Skolas iela 5, Gaigalava'!L65 -> 0
A14: Kopā | E14: =SUM(E13:E13) -> 0 | F14: =SUM(F13:F13) -> 0 | G14: =SUM(G13:G13) -> 0 | H14: =SUM(H13:H13) -> 0 | I14: =SUM(I13:I13) -> 0
A15: Virsizdevumi | D15: 0 | E15: =ROUND((E14*D15),2) -> 0
A16: T.sk. darba aizsardzība | D16: 0 | E16: =ROUND((E15*D16),2) -> 0
A17: Peļņa | D17: 0 | E17: =ROUND((E14*D17),2) -> 0
A18: Pavisam kopā | E18: =E17+E15+E14 -> 0

Sheet Skolas iela 5, Gaigalava
A1: Lokālā tāme Nr.7
A2: Atjaunošanas darbi
A3: (Darba veids vai konstruktīvā elementa nosaukums)
A5: Objekta nosaukums | C5: Telpu remontdarbi patvertnes funkcionālo prasību pielāgošanai Gaigalavā, Skolas ielā 5
A6: Būves nosaukums | C6: Gaigalavas pamatskola
A7: Pasūtītājs | C7: Rēzeknes novada pašvaldība
A10: Tāme sastādīta | K10: Tāmes izmaksas | M10: =P65 -> 0
A11: Nr.p.k. | B11: Kods | D11: Mērv. | E11: Daudz. | F11: Vienības izmaksas | L11: Kopā uz visu apjomu | P11: Summa (EUR)
F12: Laika norma (c/h) | G12: Darba samaksas likme (EUR/h) | H12: Darba alga (EUR) | I12: Būvizstrādājumi (EUR) | J12: Mehānismi (EUR) | K12: KOPĀ (EUR) | L12: Darbietilpība (C/h) | M12: Darba alga (EUR) | N12: Būvizstrādājumi (EUR) | O12: Mehānismi (EUR)
A14: 1 | B14: 2 | C14: 3 | D14: 4 | E14: 5 | F14: 6 | G14: 7 | H14: 8 | I14: 9 | J14: 10 | K14: 11 | L14: 12 | M14: 13 | N14: 14 | O14: 15 | P14: 16
A15: 1. | C15: Skolas iela 5, Gaigalava | K15: =ROUND(SUM(J15+I15+H15),2) -> 0 | L15: =ROUND((F15*E15),2) -> 0 | M15: =ROUND((H15*E15),2) -> 0 | N15: =ROUND((I15*E15),2) -> 0 | O15: =ROUND((J15*E15),2) -> 0 | P15: =ROUND(SUM(O15+N15+M15),2) -> 0
A16: 1.1. | C16: Sagatavošanas darbi | H16: =ROUND(F16*G16,2) -> 0 | K16: =ROUND(SUM(J16+I16+H16),2) -> 0 | L16: =ROUND((F16*E16),2) -> 0 | M16: =ROUND((H16*E16),2) -> 0 | N16: =ROUND((I16*E16),2) -> 0 | O16: =ROUND((J16*E16),2) -> 0 | P16: =ROUND(SUM(O16+N16+M16),2) -> 0
A17: 1.1.1. | C17: Veco elektro un vājstrāvas tīklu demontāža, t.sk. gaismekļi, slēdži, ligzdas, detektori, kārba u.c. el.tīklu elementi | D17: obj. | E17: 1 | H17: =ROUND(F17*G17,2) -> 0 | K17: =ROUND(SUM(J17+I17+H17),2) -> 0 | L17: =ROUND((F17*E17),2) -> 0 | M17: =ROUND((H17*E17),2) -> 0 | N17: =ROUND((I17*E17),2) -> 0 | O17: =ROUND((J17*E17),2) -> 0 | P17: =ROUND(SUM(O17+N17+M17),2) -> 0
A18: 1.1.2. | C18: Ventilācijas kanālu tīrīšana (dumvads) | D18: gab. | E18: 1 | H18: =ROUND(F18*G18,2) -> 0 | K18: =ROUND(SUM(J18+I18+H18),2) -> 0 | L18: =ROUND((F18*E18),2) -> 0 | M18: =ROUND((H18*E18),2) -> 0 | N18: =ROUND((I18*E18),2) -> 0 | O18: =ROUND((J18*E18),2) -> 0 | P18: =ROUND(SUM(O18+N18+M18),2) -> 0
A19: 1.1.3. | C19: Vecā katla demontāža (ieskaitot pamatni un tīklus) | D19: gab. | E19: 1 | H19: =ROUND(F19*G19,2) -> 0 | K19: =ROUND(SUM(J19+I19+H19),2) -> 0 | L19: =ROUND((F19*E19),2) -> 0 | M19: =ROUND((H19*E19),2) -> 0 | N19: =ROUND((I19*E19),2) -> 0 | O19: =ROUND((J19*E19),2) -> 0 | P19: =ROUND(SUM(O19+N19+M19),2) -> 0
A20: 1.1.4. | C20: Pagrabstāva betona grīdas tīrīšana, gruntēšana un pretslīdes pārklājuma izbūve, nodrošinot pretslīdes klasi R10 | D20: m2 | E20: 98.5 | H20: =ROUND(F20*G20,2) -> 0 | K20: =ROUND(SUM(J20+I20+H20),2) -> 0 | L20: =ROUND((F20*E20),2) -> 0 | M20: =ROUND((H20*E20),2) -> 0 | N20: =ROUND((I20*E20),2) -> 0 | O20: =ROUND((J20*E20),2) -> 0 | P20: =ROUND(SUM(O20+N20+M20),2) -> 0
A21: 1.1.5. | C21: Durvju, durvju kārbas demontāža | D21: gab. | E21: 5 | H21: =ROUND(F21*G21,2) -> 0 | K21: =ROUND(SUM(J21+I21+H21),2) -> 0 | L21: =ROUND((F21*E21),2) -> 0 | M21: =ROUND((H21*E21),2) -> 0 | N21: =ROUND((I21*E21),2) -> 0 | O21: =ROUND((J21*E21),2) -> 0 | P21: =ROUND(SUM(O21+N21+M21),2) -> 0
A22: 1.1.6. | C22: Pagrabstāva sienu tīrīšana, gruntēšana, remonts lokālajās vietās | D22: m2 | E22: 175 | H22: =ROUND(F22*G22,2) -> 0 | K22: =ROUND(SUM(J22+I22+H22),2) -> 0 | L22: =ROUND((F22*E22),2) -> 0 | M22: =ROUND((H22*E22),2) -> 0 | N22: =ROUND((I22*E22),2) -> 0 | O22: =ROUND((J22*E22),2) -> 0 | P22: =ROUND(SUM(O22+N22+M22),2) -> 0
A23: 1.1.7. | C23: Pagrabstāva griestu tīrīšana | D23: m2 | E23: 98.5 | H23: =ROUND(F23*G23,2) -> 0 | K23: =ROUND(SUM(J23+I23+H23),2) -> 0 | L23: =ROUND((F23*E23),2) -> 0 | M23: =ROUND((H23*E23),2) -> 0 | N23: =ROUND((I23*E23),2) -> 0 | O23: =ROUND((J23*E23),2) -> 0 | P23: =ROUND(SUM(O23+N23+M23),2) -> 0
A24: 1.1.8. | C24: Būvgružu utilizācija | D24: obj. | E24: 1 | H24: =ROUND(F24*G24,2) -> 0 | K24: =ROUND(SUM(J24+I24+H24),2) -> 0 | L24: =ROUND((F24*E24),2) -> 0 | M24: =ROUND((H24*E24),2) -> 0 | N24: =ROUND((I24*E24),2) -> 0 | O24: =ROUND((J24*E24),2) -> 0 | P24: =ROUND(SUM(O24+N24+M24),2) -> 0
A25: 1.1.9. | C25: Visi evakuācijas ceļi, tai skaitā pakāpieni, laukumu perimetri, margas, rokturi un durvju ailes (apmales), jāizceļ ar kontrastējošu krāsu attiecībā pret apkārtējo virsmu. Kontrastējošajam marķējumam jābūt nepārtrauktam un labi saskatāmam normālā un samazinātā apgaismojumā, nodrošinot evakuācijas ceļa un izeju vieglu identificēšanu. Evakuācijas izeju durvis un to ailes jāmarķē analogi VUGD rekomendētajiem piemēriem, izmantojot spilgtu kontrastējošu krāsu (piemēram, dzeltenu, zaļi luminiscējošu vai citu līdzvērtīgu risinājumu). | D25: obj. | E25: 1 | H25: =F25*G25 -> 0 | K25: =SUM(H25:J25) -> 0 | L25: =ROUND(E25*F25,2) -> 0 | M25: =ROUND(E25*H25,2) -> 0 | N25: =ROUND((I25*E25),2) -> 0 | O25: =ROUND((J25*E25),2) -> 0 | P25: =ROUND(SUM(O25+N25+M25),2) -> 0
A26: 1.1.10. | C26: Durvju vērtnes ir kontrastējošā krāsā, toni saskaņojot ar pasūtītāju | D26: gab. | E26: 5 | H26: =ROUND(F26*G26,2) -> 0 | K26: =ROUND(SUM(J26+I26+H26),2) -> 0 | L26: =ROUND((F26*E26),2) -> 0 | M26: =ROUND((H26*E26),2) -> 0 | N26: =ROUND((I26*E26),2) -> 0 | O26: =ROUND((J26*E26),2) -> 0 | P26: =ROUND(SUM(O26+N26+M26),2) -> 0
A27: 1.2. | C27: Grīdu, griestu apdare | H27: =ROUND(F27*G27,2) -> 0 | K27: =ROUND(SUM(J27+I27+H27),2) -> 0 | L27: =ROUND((F27*E27),2) -> 0 | M27: =ROUND((H27*E27),2) -> 0 | N27: =ROUND((I27*E27),2) -> 0 | O27: =ROUND((J27*E27),2) -> 0 | P27: =ROUND(SUM(O27+N27+M27),2) -> 0
A28: 1.2.2. | C28: Betona grīdas līdzināšana vecā katlu telpā un pretslīdes pārklājuma izbūve, nodrošinot pretslīdes klasi R10 | D28: m2 | E28: 57 | H28: =ROUND(F28*G28,2) -> 0 | K28: =ROUND(SUM(J28+I28+H28),2) -> 0 | L28: =ROUND((F28*E28),2) -> 0 | M28: =ROUND((H28*E28),2) -> 0 | N28: =ROUND((I28*E28),2) -> 0 | O28: =ROUND((J28*E28),2) -> 0 | P28: =ROUND(SUM(O28+N28+M28),2) -> 0
A29: 1.2.3. | C29: Griestu gruntēšana, krāsošana | D29: m2 | E29: 57 | H29: =ROUND(F29*G29,2) -> 0 | K29: =ROUND(SUM(J29+I29+H29),2) -> 0 | L29: =ROUND((F29*E29),2) -> 0 | M29: =ROUND((H29*E29),2) -> 0 | N29: =ROUND((I29*E29),2) -> 0 | O29: =ROUND((J29*E29),2) -> 0 | P29: =ROUND(SUM(O29+N29+M29),2) -> 0
A30: 1.2.4. | C30: Starpsienas ir izgatavotas no skaidu plāksnes (kokskaidu plātne) ar kopējo nominālo biezumu 24 mm izmantošanai mitros apstākļos. (h=2m) Konstrukcijā tiek izmantota LTT anodēta alumīnija profilu sistēma. Komplektācijā ietilpst sienas, durvis, furnitūra, stiprinājumi un karkass. Krāsa - ABET 475 – Gaiši pelēks, izmērus precizēt būvdarbu laikā, materiālu un toni saskaņot ar pasūtītāju | D30: m | E30: 3 | H30: =F30*G30 -> 0 | K30: =SUM(H30:J30) -> 0 | L30: =ROUND(E30*F30,2) -> 0 | M30: =ROUND(E30*H30,2) -> 0 | N30: =ROUND(E30*I30,2) -> 0 | O30: =ROUND(E30*J30,2) -> 0 | P30: =SUM(M30:O30) -> 0
A32: 1.3. | C32: Elektroapgāde, apgaismojums, IT tīkls | H32: =ROUND(F32*G32,2) -> 0 | K32: =ROUND(SUM(J32+I32+H32),2) -> 0 | L32: =ROUND((F32*E32),2) -> 0 | M32: =ROUND((H32*E32),2) -> 0 | N32: =ROUND((I32*E32),2) -> 0 | O32: =ROUND((J32*E32),2) -> 0 | P32: =ROUND(SUM(O32+N32+M32),2) -> 0
A33: 1.3.1. | C33: PVC kabeļu gofras stiprināšana (betona pārsegums un sienas), kabeļa ar vara dzīslam uzstādīšana, NYM-J 3x1,5, ieskaitot stiprinājumus | D33: m | E33: 200 | H33: =ROUND(F33*G33,2) -> 0 | K33: =ROUND(SUM(J33+I33+H33),2) -> 0 | L33: =ROUND((F33*E33),2) -> 0 | M33: =ROUND((H33*E33),2) -> 0 | N33: =ROUND((I33*E33),2) -> 0 | O33: =ROUND((J33*E33),2) -> 0 | P33: =ROUND(SUM(O33+N33+M33),2) -> 0
A34: 1.3.2. | C34: PVC kabeļu gofras stiprināšana (betona sienas), kabeļa ar vara dzīslam uzstādīšana, NYM-J 3x2,5, ieskaitot stiprinājumus | D34: m | E34: 300 | H34: =ROUND(F34*G34,2) -> 0 | K34: =ROUND(SUM(J34+I34+H34),2) -> 0 | L34: =ROUND((F34*E34),2) -> 0 | M34: =ROUND((H34*E34),2) -> 0 | N34: =ROUND((I34*E34),2) -> 0 | O34: =ROUND((J34*E34),2) -> 0 | P34: =ROUND(SUM(O34+N34+M34),2) -> 0
A35: 1.3.3. | C35: Virsapmetuma montāžas kārba ar kontaktligzda 1v., 230V; 16A; L+N+PE IP-20 | D35: gb | E35: 15 | H35: =ROUND(F35*G35,2) -> 0 | K35: =ROUND(SUM(J35+I35+H35),2) -> 0 | L35: =ROUND((F35*E35),2) -> 0 | M35: =ROUND((H35*E35),2) -> 0 | N35: =ROUND((I35*E35),2) -> 0 | O35: =ROUND((J35*E35),2) -> 0 | P35: =ROUND(SUM(O35+N35+M35),2) -> 0
A36: 1.3.4. | C36: SADALNE VIRSAPMETUMA PLEXO IP65 IK09 PE/N 2x12M | D36: gab. | E36: 1 | H36: =ROUND(F36*G36,2) -> 0 | K36: =ROUND(SUM(J36+I36+H36),2) -> 0 | L36: =ROUND((F36*E36),2) -> 0 | M36: =ROUND((H36*E36),2) -> 0 | N36: =ROUND((I36*E36),2) -> 0 | O36: =ROUND((J36*E36),2) -> 0 | P36: =ROUND(SUM(O36+N36+M36),2) -> 0
A37: 1.3.5. | C37: Automatiskais slēdzis, 10A, 230V, "C" ABB | D37: gab. | E37: 3 | H37: =ROUND(F37*G37,2) -> 0 | K37: =ROUND(SUM(J37+I37+H37),2) -> 0 | L37: =ROUND((F37*E37),2) -> 0 | M37: =ROUND((H37*E37),2) -> 0 | N37: =ROUND((I37*E37),2) -> 0 | O37: =ROUND((J37*E37),2) -> 0 | P37: =ROUND(SUM(O37+N37+M37),2) -> 0
A38: 1.3.6. | C38: Automatiskais slēdzis, 16A, 230V, "C" ABB | D38: gab. | E38: 2 | H38: =ROUND(F38*G38,2) -> 0 | K38: =ROUND(SUM(J38+I38+H38),2) -> 0 | L38: =ROUND((F38*E38),2) -> 0 | M38: =ROUND((H38*E38),2) -> 0 | N38: =ROUND((I38*E38),2) -> 0 | O38: =ROUND((J38*E38),2) -> 0 | P38: =ROUND(SUM(O38+N38+M38),2) -> 0
A39: 1.3.7. | C39: Slodzes slēdzis 3P 40A 400V | D39: gab. | E39: 1 | H39: =ROUND(F39*G39,2) -> 0 | K39: =ROUND(SUM(J39+I39+H39),2) -> 0 | L39: =ROUND((F39*E39),2) -> 0 | M39: =ROUND((H39*E39),2) -> 0 | N39: =ROUND((I39*E39),2) -> 0 | O39: =ROUND((J39*E39),2) -> 0 | P39: =ROUND(SUM(O39+N39+M39),2) -> 0
A40: 1.3.8. | C40: Palīgmateriāli el.sistēmas izbūvei t.sk, stiprinājumi, nozarkārbas, savienojumi u.c. elementi | D40: obj. | E40: 1 | H40: =ROUND(F40*G40,2) -> 0 | K40: =ROUND(SUM(J40+I40+H40),2) -> 0 | L40: =ROUND((F40*E40),2) -> 0 | M40: =ROUND((H40*E40),2) -> 0 | N40: =ROUND((I40*E40),2) -> 0 | O40: =ROUND((J40*E40),2) -> 0 | P40: =ROUND(SUM(O40+N40+M40),2) -> 0
A41: 1.3.9. | C41: Gaismeklis LED,virsapmetuma, lineārs, 1200mm, 4600lm, 35W, CRI 80, 4000K, 100.000h, IP65 Feilo Sylvania 0046370 START Waterproof Slim 1200 IP65 4600lm 840 | D41: gab. | E41: 7 | H41: =ROUND(G41*F41,2) -> 0 | K41: =ROUND(J41+I41+H41,2) -> 0 | L41: =ROUND(F41*E41,2) -> 0 | M41: =ROUND(H41*E41,2) -> 0 | N41: =ROUND(I41*E41,2) -> 0 | O41: =ROUND(J41*E41,2) -> 0 | P41: =ROUND(O41+N41+M41,2) -> 0
A42: 1.3.10. | C42: LED, virsapmetuma, griestu, DIONE LED PLUS 2550 LM 840 IP65 OPAL WHITE 22W) | D42: gab. | E42: 3 | H42: =ROUND(G42*F42,2) -> 0 | K42: =ROUND(J42+I42+H42,2) -> 0 | L42: =ROUND(F42*E42,2) -> 0 | M42: =ROUND(H42*E42,2) -> 0 | N42: =ROUND(I42*E42,2) -> 0 | O42: =ROUND(J42*E42,2) -> 0 | P42: =ROUND(O42+N42+M42,2) -> 0
A43: 1.3.11. | C43: Benzīna ģeneratora KS 10000E-1/3 230V / 400V 8000 W (vai ekvivalents) uzstādīšana, ar iespēju pieslēgt tīklam, dūmgāzu novadīšana ārā | D43: gab. | E43: 1 | H43: =ROUND(G43*F43,2) -> 0 | K43: =ROUND(J43+I43+H43,2) -> 0 | L43: =ROUND(F43*E43,2) -> 0 | M43: =ROUND(H43*E43,2) -> 0 | N43: =ROUND(I43*E43,2) -> 0 | O43: =ROUND(J43*E43,2) -> 0 | P43: =ROUND(O43+N43+M43,2) -> 0
A44: 1.3.12. | C44: QLOCOM WLAN pastiprinātājs 1200M Repeater Dual Band Booster ar WPS, Wi-Fi signāla pastiprināšanai. | D44: gb | E44: 1 | H44: =ROUND(F44*G44,2) -> 0 | K44: =ROUND(SUM(J44+I44+H44),2) -> 0 | L44: =ROUND((F44*E44),2) -> 0 | M44: =ROUND((H44*E44),2) -> 0 | N44: =ROUND((I44*E44),2) -> 0 | O44: =ROUND((J44*E44),2) -> 0 | P44: =ROUND(SUM(O44+N44+M44),2) -> 0
A46: 1.4. | C46: UK montāžas darbi | H46: =ROUND(F46*G46,2) -> 0 | K46: =ROUND(SUM(J46+I46+H46),2) -> 0 | L46: =ROUND((F46*E46),2) -> 0 | M46: =ROUND((H46*E46),2) -> 0 | N46: =ROUND((I46*E46),2) -> 0 | O46: =ROUND((J46*E46),2) -> 0 | P46: =ROUND(SUM(O46+N46+M46),2) -> 0
A47: 1.4.1. | C47: Sausā tualete P-506, piegāde,uzstādīšana | D47: kpl. | E47: 1 | H47: =ROUND(F47*G47,2) -> 0 | K47: =ROUND(SUM(J47+I47+H47),2) -> 0 | L47: =ROUND((F47*E47),2) -> 0 | M47: =ROUND((H47*E47),2) -> 0 | N47: =ROUND((I47*E47),2) -> 0 | O47: =ROUND((J47*E47),2) -> 0 | P47: =ROUND(SUM(O47+N47+M47),2) -> 0
A48: 1.4.2. | C48: Sausā tualete invalīdu aprīkojumā, piegāde,uzstādīšana | D48: kpl. | E48: 1 | H48: =ROUND(F48*G48,2) -> 0 | K48: =ROUND(SUM(J48+I48+H48),2) -> 0 | L48: =ROUND((F48*E48),2) -> 0 | M48: =ROUND((H48*E48),2) -> 0 | N48: =ROUND((I48*E48),2) -> 0 | O48: =ROUND((J48*E48),2) -> 0 | P48: =ROUND(SUM(O48+N48+M48),2) -> 0
A49: 1.4.3. | C49: Portātīva izlietne Universal, Ūdens tvertnes tilpums: 17 litri, mehāniskais sūknis, ūdens tvertnes izmēri 50 x 17,5 x 33 cm; Ziepju tvertnes tilpums: 3 litri; Piegāde, uzstādīšana | D49: kpl. | E49: 2 | H49: =ROUND(F49*G49,2) -> 0 | K49: =ROUND(SUM(J49+I49+H49),2) -> 0 | L49: =ROUND((F49*E49),2) -> 0 | M49: =ROUND((H49*E49),2) -> 0 | N49: =ROUND((I49*E49),2) -> 0 | O49: =ROUND((J49*E49),2) -> 0 | P49: =ROUND(SUM(O49+N49+M49),2) -> 0
A51: 1.5. | C51: Durvju, plauktu montāžas darbi | H51: =ROUND(F51*G51,2) -> 0 | K51: =ROUND(SUM(J51+I51+H51),2) -> 0 | L51: =ROUND((F51*E51),2) -> 0 | M51: =ROUND((H51*E51),2) -> 0 | N51: =ROUND((I51*E51),2) -> 0 | O51: =ROUND((J51*E51),2) -> 0 | P51: =ROUND(SUM(O51+N51+M51),2) -> 0
A52: 1.5.1. | C52: Ugunsdrošu metāla durvju EI30 montāža ar furnitūru 0,95x2,1 m. Slēdzamas durvis. Durvju aizvēršanas mehānisms. EL30 durvju tonis - NCS S0502-Y20R, durvju aplodu tonējums - NCS S8505-B50G Vēršanās virzienu precizēt būvdarbu gaitā. | D52: gab. | E52: 2 | H52: =ROUND((G52*F52),2) -> 0 | K52: =ROUND(SUM(H52+I52+J52),2) -> 0 | L52: =ROUND((E52*F52),2) -> 0 | M52: =ROUND((E52*H52),2) -> 0 | N52: =ROUND((E52*I52),2) -> 0 | O52: =ROUND((E52*J52),2) -> 0 | P52: =ROUND(SUM(M52+N52+O52),2) -> 0
A53: 1.5.2. | C53: Finerētas iekšdurvis 0,8x2,0mfurnitūra, aplodas. Vēršanās virzienu precizēt būvdarbu gaitā. Izmērs precizējams pirms pasūtījuma. Papildus uzstādāmas durvju atdures Hafele Durvju Atdure Pie Sienas 40mm, Balta. | D53: gab. | E53: 4 | H53: =ROUND((G53*F53),2) -> 0 | K53: =ROUND(SUM(H53+I53+J53),2) -> 0 | L53: =ROUND((E53*F53),2) -> 0 | M53: =ROUND((E53*H53),2) -> 0 | N53: =ROUND((E53*I53),2) -> 0 | O53: =ROUND((E53*J53),2) -> 0 | P53: =ROUND(SUM(M53+N53+O53),2) -> 0
A54: 1.5.3. | C54: Metāls plaukts, montāža pie sienas (h=2000mm x b=3000mm), ūdens rezerves glabāšanas vieta | D54: gab. | E54: 1 | H54: =ROUND((G54*F54),2) -> 0 | K54: =ROUND(SUM(H54+I54+J54),2) -> 0 | L54: =ROUND((E54*F54),2) -> 0 | M54: =ROUND((E54*H54),2) -> 0 | N54: =ROUND((E54*I54),2) -> 0 | O54: =ROUND((E54*J54),2) -> 0 | P54: =ROUND(SUM(M54+N54+O54),2) -> 0
A55: 1.5.4. | C55: Metāla plaukts apšūts ar 12mm mitrumizturīgo saplāksni, ieskaitot furnitūru durvīm un durvis, montāža pie sienas (h=2000mm x b=1500mm), atkritumu tvertnes un maisu glabāšanas vieta | D55: gab. | E55: 1 | H55: =ROUND((G55*F55),2) -> 0 | K55: =ROUND(SUM(H55+I55+J55),2) -> 0 | L55: =ROUND((E55*F55),2) -> 0 | M55: =ROUND((E55*H55),2) -> 0 | N55: =ROUND((E55*I55),2) -> 0 | O55: =ROUND((E55*J55),2) -> 0 | P55: =ROUND(SUM(M55+N55+O55),2) -> 0
A57: 1.6. | C57: AVK-A darbi | H57: =ROUND(F57*G57,2) -> 0 | K57: =ROUND(SUM(J57+I57+H57),2) -> 0 | L57: =ROUND((F57*E57),2) -> 0 | M57: =ROUND((H57*E57),2) -> 0 | N57: =ROUND((I57*E57),2) -> 0 | O57: =ROUND((J57*E57),2) -> 0 | P57: =ROUND(SUM(O57+N57+M57),2) -> 0
A58: 1.6.1. | C58: Radiatoru pievadu montāža, pieslegšana pie apkures stāvvada. Cauruļvada montāža PPR AUL PEX DN32. Sienu šķērsošana un atvērumu aizdare. Noslegkrānu montāža | D58: m | E58: 60 | H58: =ROUND((G58*F58),2) -> 0 | K58: =ROUND(SUM(H58+I58+J58),2) -> 0 | L58: =ROUND((E58*F58),2) -> 0 | M58: =ROUND((E58*H58),2) -> 0 | N58: =ROUND((E58*I58),2) -> 0 | O58: =ROUND((E58*J58),2) -> 0 | P58: =ROUND(SUM(M58+N58+O58),2) -> 0
A59: 1.6.2. | C59: Tērauda radiators PURMO Compact ar cauruļvadu sānu pievienojumu, komplektā ar atgaisotāju, termogalvu, korķi un stiprinājuma kronšteiniem 1231W, C 22-500-1200 | D59: gab. | E59: 4 | H59: =ROUND((G59*F59),2) -> 0 | K59: =ROUND(SUM(H59+I59+J59),2) -> 0 | L59: =ROUND((E59*F59),2) -> 0 | M59: =ROUND((E59*H59),2) -> 0 | N59: =ROUND((E59*I59),2) -> 0 | O59: =ROUND((E59*J59),2) -> 0 | P59: =ROUND(SUM(M59+N59+O59),2) -> 0
A61: 1.7. | C61: UATS pasākumi un citi darbi | H61: =ROUND(F61*G61,2) -> 0 | K61: =ROUND(SUM(J61+I61+H61),2) -> 0 | L61: =ROUND((F61*E61),2) -> 0 | M61: =ROUND((H61*E61),2) -> 0 | N61: =ROUND((I61*E61),2) -> 0 | O61: =ROUND((J61*E61),2) -> 0 | P61: =ROUND(SUM(O61+N61+M61),2) -> 0
A62: 1.7.1. | C62: Dūmu detektoru montāža (akumulatora) | D62: gab. | E62: 7 | H62: =ROUND(F62*G62,2) -> 0 | K62: =ROUND(SUM(H62+I62+J62),2) -> 0 | L62: =ROUND((E62*F62),2) -> 0 | M62: =ROUND((E62*H62),2) -> 0 | N62: =ROUND((E62*I62),2) -> 0 | O62: =ROUND((E62*J62),2) -> 0 | P62: =ROUND(SUM(M62+N62+O62),2) -> 0
A63: 1.7.2. | C63: Informatīvās zīmes (ieeja patvertnē, ugunsdzēšamie aparāti, aptieciņa, WC u.c.c.), dublējot braila rakstā, jānovieto 1,0 - 1,5 m augstumā no grīdas, un burtu izmērs informācijai, kas atrodas uz durvīm, ir vismaz 5 cm. | D63: gb | E63: 20 | H63: =ROUND(F63*G63,2) -> 0 | K63: =ROUND(J63+I63+H63,2) -> 0 | L63: =ROUND(E63*F63,2) -> 0 | M63: =ROUND(E63*H63,2) -> 0 | N63: =ROUND(E63*I63,2) -> 0 | O63: =ROUND(E63*J63,2) -> 0 | P63: =ROUND(M63+N63+O63,2) -> 0
A64: 1.7.3. | C64: Informatīvās zīmes (norādes līdz ieejai patvertnē u.c.), dublējot braila rakstā, jānovieto 1,0 - 1,4 m augstumā no grīdas, un burtu izmērs informācijai, kas atrodas uz durvīm, ir vismaz 5 cm. | D64: gb | E64: 4 | H64: =ROUND(F64*G64,2) -> 0 | K64: =ROUND(J64+I64+H64,2) -> 0 | L64: =ROUND(E64*F64,2) -> 0 | M64: =ROUND(E64*H64,2) -> 0 | N64: =ROUND(E64*I64,2) -> 0 | O64: =ROUND(E64*J64,2) -> 0 | P64: =ROUND(M64+N64+O64,2) -> 0
A65: Tiešās izmaksas kopā, t. sk. darba devēja sociālais nodoklis (23,59%): | L65: =SUM(L15:L64) -> 0 | M65: =SUM(M15:M64) -> 0 | N65: =SUM(N15:N64) -> 0 | O65: =SUM(O15:O64) -> 0 | P65: =SUM(P15:P64) -> 0
