Workbook
Name Dienas: #REF!
Name higiēnas: #REF!
Name Laiks: #REF!

Sheet Vērtēšanas kritēriji
A2: Piedāvājumu vērtēšanas principis
A4: Vērtēšanas kritēriji | C4: Maksimālais punktu skaits | D4: Punktu piešķiršanas metodika
A5: KU1 | B5: CENA PAR VIENU UZKOPŠANAS REIZI par 1 m2 (ja objekta uzkopjamā platība ir līdz 300 m2 )** | C5: 30 | D5: KU1=Czem / Cpied x N
D6: (Czem – viszemāk piedāvātā cena; Cpied – vērtējamā piedāvājuma cena; N – kritērija maksimālā skaitliskā vērtība)
A7: KU2 | B7: CENA PAR VIENU UZKOPŠANAS REIZI par 1 m2 (ja objekta uzkopjamā platība ir no 301 līdz 1000 m2 ) | C7: 5 | D7: KU2=Czem / Cpied x N
D8: (Czem – viszemāk piedāvātā cena; Cpied – vērtējamā piedāvājuma cena; N – kritērija maksimālā skaitliskā vērtība)
A9: KU3 | B9: CENA PAR VIENU UZKOPŠANAS REIZI par 1 m2 (ja objekta uzkopjamā platība ir no 1001 līdz 5000 m2 ) | C9: 5 | D9: KU3=Czem / Cpied x N
D10: (Czem – viszemāk piedāvātā cena; Cpied – vērtējamā piedāvājuma cena; N – kritērija maksimālā skaitliskā vērtība)
A11: KU4 | B11: CENA PAR VIENU UZKOPŠANAS REIZI REIZI par 1 m2 (ja teritorijas uzkopjamā platība līdz 5 000 m2) | C11: 5 | D11: KU4=Czem / Cpied x N
D12: (Czem – viszemāk piedāvātā cena; Cpied – vērtējamā piedāvājuma cena; N – kritērija maksimālā skaitliskā vērtība)
A13: KU5 | B13: CENA PAR VIENU UZKOPŠANAS REIZI par 1 m2 (ja teritorijas uzkopjamā platība no 5 001 m2 līdz 20 000 m2) | C13: 5 | D13: KU5=Czem / Cpied x N
D14: (Czem – viszemāk piedāvātā cena; Cpied – vērtējamā piedāvājuma cena; N – kritērija maksimālā skaitliskā vērtība)
A15: KU6 | B15: CENA PAR VIENU UZKOPŠANAS REIZI par 1 m2 (ja teritorijas uzkopjamā platība no 20 001 m2 līdz 40 000 m2) | C15: 5 | D15: KU6=Czem / Cpied x N
D16: (Czem – viszemāk piedāvātā cena; Cpied – vērtējamā piedāvājuma cena; N – kritērija maksimālā skaitliskā vērtība)
A17: KU7 | B17: CENA PAR VIENU UZKOPŠANAS REIZI par 1 m2 (ja teritorijas uzkopjamā platība no 40 001 m2 līdz 65 000 m2) | C17: 5 | D17: KU7=Czem / Cpied x N
D18: (Czem – viszemāk piedāvātā cena; Cpied – vērtējamā piedāvājuma cena; N – kritērija maksimālā skaitliskā vērtība)
A19: KU8 | B19: CENA PAR VIENU UZKOPŠANAS REIZI par 1 m2 (ja teritorijas uzkopjamā platība no 65 001 m2 līdz 95 000 m2) | C19: 25 | D19: KU8=Czem / Cpied x N
D20: (Czem – viszemāk piedāvātā cena; Cpied – vērtējamā piedāvājuma cena; N – kritērija maksimālā skaitliskā vērtība)
A21: KU9 | B21: CENA PAR VIENU UZKOPŠANAS REIZI par 1 m2 (ja teritorijas uzkopjamā platība 95 001 m2 līdz 120 000 m2) | C21: 5 | D21: KU9=Czem / Cpied x N
D22: (Czem – viszemāk piedāvātā cena; Cpied – vērtējamā piedāvājuma cena; N – kritērija maksimālā skaitliskā vērtība)
A23: KU10 | B23: Higiēnas un telpu uzturēšanas pakalpojumi | C23: 5 | D23: KU10=Czem / Cpied x N
D24: (Czem – viszemāk piedāvātā cena; Cpied – vērtējamā piedāvājuma cena; N – kritērija maksimālā skaitliskā vērtība)
A25: KU11 | B25: PAPILDUS PAKALPOJUMI | C25: 5 | D25: KU11=Czem / Cpied x N
D26: (Czem – viszemāk piedāvātā cena; Cpied – vērtējamā piedāvājuma cena; N – kritērija maksimālā skaitliskā vērtība)
A27: Maksimāli iespējamais punktu skaits | C27: =SUM(C5:C26) -> 100 | D27: KU – kopējais punktu skaits, ņemot vērā tehniskajā piedāvājuma formā un Finanšu piedāvājumā iesniegto informāciju. (KU1+KU2+KU3+KU4+KU5+KU6+KU7+KU8+KU9+KU10+KU11)=(KU) kopējais punktu skaits.
A29: Par saimnieciski visizdevīgāko piedāvājumu tiks atzīts tas pretendents, kurš iegūs visaugstāko punktu skaitu uzkopšanas un inženierkomunikāciju sadaļā, pēc formulas: KU+KI

Sheet Finanšu piedāvājums KU1-KU11
I1: 5.pielikums nolikumam
I2: ID Nr. VNĪ 2026/4/4-4/AK-62
B3: FINANŠU PIEDĀVĀJUMS Nr. 1.1. Atklātam konkursam “Robežkontroles punktu apsaimniekošana” ID Nr. VNĪ 2026/4/4-4/AK-62
B4: IEPIRKUMA 1.DAĻAI
A6: Telpu ikdienas uzkopšana *
A7: NPK | B7: TELPU IKDIENAS UZKOPŠANAS PAKALPOJUMI | C7: OBJEKTA Kadastra Nr. | D7: MINIMĀLĀ OBJEKTA UZKOPJAMĀ PLATĪBA kv.m. | E7: OBJEKTA UZKOPJAMĀ PLATĪBA** | F7: FAKTISKĀ uzkopjamā platība saskaņā ar uzkopšanas intensitātes grafiku (novembris-marts)*** | G7: KU1 Vērtējamā CENA PAR VIENU UZKOPŠANAS REIZI par 1 m2 (ja objekta uzkopjamā platība ir no 200 m2 līdz 300 m2 )** | H7: KU2 Vērtējamā CENA PAR VIENU UZKOPŠANAS REIZI par 1 m2 (ja objekta uzkopjamā platība ir no 301 līdz 1000 m2 )** | I7: KU3 Vērtējamā CENA PAR VIENU UZKOPŠANAS REIZI par 1 m2 (ja objekta uzkopjamā platība ir no 1001 līdz 5000 m2 )**
A8: Nr. | B8: Pakalpojums un Objekta adrese | C8: Kadastra Nr. | D8: kv.m. | E8: kv.m. | F8: kv.m. | G8: EUR bez PVN/ reize m2 | H8: EUR bez PVN/ reize m2 | I8: EUR bez PVN/ reize m2
A9: 1 | B9: Telpu ikdienas uzkopšana SILENE | C9: 4486-006-0072 | D9: 236.5 | E9: ='FAKTISKAIS uzkopšanas biežums'!G166 -> 3359.3 | F9: ='FAKTISKAIS uzkopšanas biežums'!V166 -> 236.5 | G9: 0 | H9: 0 | I9: 0
A10: * Papildu uzkopšanas intensitātes gadījumā norēķini tiek veikti, par pamatu ņemot attiecīgā biežuma vidējo uzkopšanas reižu skaitu mēnesī gada griezumā.
A11: **Objekta uzkopjamā platība ir visu uzkopjamo objekta telpu FAKTISKĀ UZKOPJAMĀ kopējā platība. Aprēķina metodika norādīta pie FAKTISKĀ uzkopšanas biežuma
A12: ***Faktiskā uzkopjamā platība ir viena mēneša laikā faktiskā vidējā uzkoptā platība, ņemot vērā telpu uzkopšanas biežumu. Aprēķina metodika norādīta sadaļā pie uzkopšanas biežuma objekta kopējā uzkopjamā platība mēnesī.
A14: Teritorijas ikdienas uzkopšana *
A15: NPK | B15: TERITORIJAS IKDIENAS UZKOPŠANAS PAKALPOJUMI | C15: OBJEKTA Kadastra Nr. | D15: MINIMĀLĀ OBJEKTA UZKOPJAMĀ PLATĪBA kv.m. | E15: MAKSIMĀLĀ OBJEKTA UZKOPJAMĀ PLATĪBA kv.m. | F15: IEPIRKUMA BRĪDĪ uzkopjamā platība | G15: KU4 Vērtējamā CENA PAR VIENU UZKOPŠANAS REIZI REIZI par 1 m2 (ja teritorijas uzkopjamā platība 5 000 m2) | H15: KU5 Vērtējamā CENA PAR VIENU UZKOPŠANAS REIZI par 1 m2 (ja teritorijas uzkopjamā platība no 5 001 m2 līdz 20 000 m2) | I15: KU6 Vērtējamā CENA PAR VIENU UZKOPŠANAS REIZI par 1 m2 (ja teritorijas uzkopjamā platība no 20 001 m2 līdz 40 000 m2) | J15: KU7 Vērtējamā CENA PAR VIENU UZKOPŠANAS REIZI par 1 m2 (ja teritorijas uzkopjamā platība no 40 001 m2 līdz 65 000 m2) | K15: KU8 Vērtējamā CENA PAR VIENU UZKOPŠANAS REIZI par 1 m2 (ja teritorijas uzkopjamā platība no 65 001 m2 līdz 95 000 m2) | L15: KU9 Vērtējamā CENA PAR VIENU UZKOPŠANAS REIZI par 1 m2 (ja teritorijas uzkopjamā platība no 95 001 m2 līdz 120 000 m2)
A16: Nr. | B16: Pakalpojums un Objekta adrese | C16: Kadastra Nr. | D16: kv.m. | E16: kv.m. | F16: kv.m. | G16: EUR bez PVN/ reize m2 | H16: EUR bez PVN/ reize m2 | I16: EUR bez PVN/ reize m2 | J16: EUR bez PVN/ reize m2 | K16: EUR bez PVN/ reize m2 | L16: EUR bez PVN/ reize m2
A17: 2 | B17: Teritorijas ikdienas uzkopšana SILENE (brauktuves, ietves un cits cietais segums, zāliens) | C17: 4486-006-0072 | D17: 5000 | E17: 120000 | F17: ='Teritorijas sadalījums un ĪP'!E3 -> 82040.7 | G17: 0 | H17: 0 | I17: 0 | J17: 0 | K17: 0 | L17: 0
A18: * Papildu uzkopšanas intensitātes gadījumā norēķini tiek veikti, par pamatu ņemot attiecīgā biežuma vidējo uzkopšanas reižu skaitu mēnesī gada griezumā.
A20: Higiēnas un telpu uzturēšanas pakalpojumi KU10
A21: NPK | B21: KU10.1. HIGIĒNAS MATERIĀLI (pēc fakta) (saskaņā ar Tehniskās specifikācijas . punktu) | C21: OBJEKTA Kadastra Nr. | D21: Provizoriskais viena mēneša apjoms | E21: CENA par vienu vienību (EUR bez PVN) | F21: CENA par MĒNEŠA provizorisko apjomu (Eur bez PVN)
A22: 1 | B22: Roku dvieļi (ruļlos) | C22: 4486-006-0072 | D22: ='Higiēnas preces'!L3 -> 5 | E22: 0 | F22: =D22*E22 -> 0
A23: 2 | B23: Tualetes papīrs (Ruļļos) | D23: ='Higiēnas preces'!K3 -> 5 | E23: 0 | F23: =D23*E23 -> 0
A24: 3 | B24: Putu ziepes (gab) | D24: ='Higiēnas preces'!I3 -> 2 | E24: 0 | F24: =D24*E24 -> 0
A25: 4 | B25: Gaisa atsvaidzinātājs aerosols (gab) | D25: ='Higiēnas preces'!M3 -> 2 | E25: 0 | F25: =D25*E25 -> 0
A26: 5 | B26: Trauku mazgājamais līdzeklis | D26: ='Higiēnas preces'!J3 -> 1 | E26: 0 | F26: =D26*E26 -> 0
A27: 6 | B27: Dezinfekcijas līdzeklis virsmām/rokām izsmidzināms 500ml | D27: ='Higiēnas preces'!H3 -> 1 | E27: 0 | F27: =D27*E27 -> 0
A28: Kopējā cena EUR bez PVN par higiēnas materiāliem (Kritērijs KU10.1.) | F28: =SUM(F22:F27) -> 0
A29: NPK | B29: KU10.2. Maināmie paklāji (pēc fakta) (saskaņā ar Tehniskās specifikācijas . punktu) | C29: OBJEKTA Kadastra Nr. | D29: CENA par vienas vienības maiņu (EUR bez PVN) | E29: Paklāju daudzums | F29: CENA par kopējā daudzuma vienas reizes nomaiņu EUR bez PVN
A30: 1 | B30: Maināmo paklāju nomaiņa 115 x 200 cm (sintētisks) | C30: 4486-006-0072 | D30: 0 | E30: =Paklāji!E3 -> 2 | F30: =D30*E30 -> 0
A31: Kopējā cena EUR bez PVN (Kritērijs KU10.2.) | F31: =SUM(F30:F30) -> 0
A32: NPK | B32: KU10.3. Dežūrpersonāla pakalpojumi (saskaņā ar Tehniskās specifikācijas . punktu) | C32: OBJEKTA Kadastra Nr. | D32: CENA mēnesī (EUR bez PVN) | E32: Ziemas sezonas noteikto mēnešu skaits | F32: Cena par kopējo ziemas sezonu EUR bez PVN
A33: 1 | B33: Dežūrapkopēja ziemas sezonā | C33: 4486-006-0072 | D33: 0 | E33: 6 | F33: =-D33*E33 -> 0
A34: 2 | B34: Dežūrsētnieks ziemas sezonā | D34: 0 | E34: 6 | F34: =-D34*E34 -> 0
A35: Kopējā cena EUR bez PVN (Kritērijs KU10.3.) | F35: =SUM(F33:F34) -> 0
A36: KOPĀ VĒRTĒJAMĀ CENA KU10 = (KU10.1.+KU10.2.+KU10.3.) | F36: =SUM(F35+F31+F28) -> 0
A38: PAPILDUS PAKALPOJUMI (KU11 kritērijs) **
A39: NPK | B39: PAPILDUS PAKALPOJUMI (KU11 kritērijs) ** | C39: MĒRVIENĪBA | D39: CENA PAR MĒRVIENĪBU | E39: PROVIZORISKAIS PAKALPOJUMU APJOMS par reizi (mērvienība) | F39: CENA PAR KOPĒJO APJOMU
A40: Nr. | B40: Pakalpojums | C40: (kv.m., stundas, kubi, gab. u.c.) | D40: (EUR bez PVN) | E40: (kv.m., stundas, kubi, gab. u.c.) | F40: (EUR bez PVN)
A41: 1 | B41: GRĪDAS SEGUMU UZKOPŠANA
A42: 1.1 | B42: Linoleja vaskošana (vecā vaska noņemšana, tīrīšana un vaskošana 2 kārtās) | C42: kvadrātmetrs | D42: 0 | E42: 500 | F42: =D42*E42 -> 0
A43: 1.2 | B43: Linoleja ķīmiskā pulēšana | C43: kvadrātmetrs | D43: 0 | E43: 100 | F43: =D43*E43 -> 0
A44: 1.3 | B44: Linoleja sausā pulēšana | C44: kvadrātmetrs | D44: 0 | E44: 100 | F44: =D44*E44 -> 0
A45: 1.4 | B45: Epoksīda grīdas seguma ģenerālā tīrīšana | C45: kvadrātmetrs | D45: 0 | E45: 150 | F45: =D45*E45 -> 0
A46: 1.5 | B46: Epoksīda grīdas seguma vaskošana | C46: kvadrātmetrs | D46: 0 | E46: 150 | F46: =D46*E46 -> 0
A47: 1.6 | B47: Akmens/betona seguma tīrīšana | C47: kvadrātmetrs | D47: 0 | E47: 1000 | F47: =D47*E47 -> 0
A48: 1.7 | B48: Mehanizēta cietā grīdas seguma mazgāšana | C48: kvadrātmetrs | D48: 0 | E48: 500 | F48: =D48*E48 -> 0
A49: 1.8 | B49: Flīžu seguma un to šuvju tīrīšana | C49: kvadrātmetrs | D49: 0 | E49: 300 | F49: =D49*E49 -> 0
A50: 2 | B50: LOGU UN STIKLA VIRSMU MAZGĀŠANA (abpusēja), ŽALŪZIJU TĪRĪŠANA
A51: 2.1 | B51: Logu (no abām pusēm stiklotās virsmas, t.sk. rāmju, iekšējo un ārējo palodžu) mazgāšana (BEZ pacēlāja) | C51: kvadrātmetrs | D51: 0 | E51: 250 | F51: =D51*E51 -> 0
A52: 2.2 | B52: Iekšējo un ārējo žalūziju tīrīšana | C52: kvadrātmetrs | D52: 0 | E52: 90 | F52: =D52*E52 -> 0
A53: 3 | B53: HIGIĒNAS PREČU TURĒTĀJI ***
A54: 3.1 | B54: Roku dvieļu sistēma TORK H1 (ar sensoru) vai ekvivalents (plastmasas) | C54: 1 gab turētājs | D54: 0 | E54: 5 | F54: =D54*E54 -> 0
A55: 3.2 | B55: Tualetes papīra sistēma TORK T6 vai ekvivalents (plastmasas) | C55: 1 gab turētājs | D55: 0 | E55: 5 | F55: =D55*E55 -> 0
A56: 3.3 | B56: Šķidro ziepju sistēma TORK S4 (putu) vai ekvivalents (plastmasas) | C56: 1 gab dozators | D56: 0 | E56: 5 | F56: =D56*E56 -> 0
A57: 4 | B57: CITI TELPU UZKOPŠANAS DARBI
A58: 4.1 | B58: Dežūrapkopēja pakalpojumi (ja nepieciešamas ārpus ziemas sezonas, un/vai papildus reizes) | C58: stunda | D58: 0 | E58: 480 | F58: =D58*E58 -> 0
A59: 4.2 | B59: Durvju (t.sk.rokturu), kāpņu margu, sienu vienreizēja padziļināta mazgāšana vai dezinfekcija | C59: stunda | D59: 0 | E59: 20 | F59: =D59*E59 -> 0
A60: 4.3 | B60: Mīksto mēbeļu (krēslu, dīvānu) ķīmiskā tīrīšana | C60: gabali | D60: 0 | E60: 10 | F60: =D60*E60 -> 0
A61: 4.4 | B61: Pilna telpu dezinfekcija (darba dienās, darba laikā 09:00-17:00) | C61: kvadrātmetrs | D61: 0 | E61: 3359.3 | F61: =D61*E61 -> 0
A62: 4.5 | B62: Pilna telpu dezinfekcija (ārpus darba laika 17:00-08:00 un brīvdienās) | C62: kvadrātmetrs | D62: 0 | E62: 3359.3 | F62: =D62*E62 -> 0
A63: 4.6 | B63: Ģenerālā telpu uzkopšana (t.sk.visu horizontālo un vertikālo virsmu, mīkstā grīdas seguma ķīmiskā tīrīšana, linoleja vaskošana vai pulēšana, logu un stikloto starpsienu mazgāšana, žalūziju mazgāšana, ēku fasādes mazgāšana) | C63: kvadrātmetrs | D63: 0 | E63: 3359.3 | F63: =D63*E63 -> 0
A64: 4.7 | B64: Telpu uzkopšana pēc avārijas situācijām (t.sk.ja nepieciešams, ar speciālo tehniku) | C64: kvadrātmetrs | D64: 0 | E64: 100 | F64: =D64*E64 -> 0
A65: 4.8 | B65: Telpu uzkopšana pēc remontdarbiem (visu horizontālo un vertikālo virsmu, t.sk. ja nepieciešams, ar speciālo uzkopšanas tehniku) | C65: kvadrātmetrs | D65: 0 | E65: 100 | F65: =D65*E65 -> 0
A66: 4.9 | B66: Ikdienā neizmantotu telpu uzkopšana (pagrabi, bēniņi, noliktavas) | C66: kvadrātmetrs | D66: 0 | E66: 20 | F66: =D66*E66 -> 0
A67: 4.1 | B67: Dzīvnieku uzturēšanas telpu mitrā mazgāšana | C67: kvadrātmetrs | D67: 0 | E67: 250 | F67: =D67*E67 -> 0
A68: 4.11 | B68: Dzīvnieku uzturēšanas sprostu/būru dezinfekcija. | C68: gabali | D68: 0 | E68: 5 | F68: =D68*E68 -> 0
A69: 5 | B69: TERITORIJU UZKOPŠANAS DARBI
A70: 5.1 | B70: Dežūrsētnieka pakalpojumi (ja nepieciešamas ārpus ziemas sezonas, un/vai papildus reizes) | C70: stunda | D70: 0 | E70: 480 | F70: =D70*E70 -> 0
A71: 5.2 | B71: Papildus teritorijas sakopšanas darbi, kad nepieciešams uzkopt papildus platību (teritorijas slaucīšana, lapu, zaru un sīko atkritumu savākšana manuāli maisos) | C71: kvadrātmetrs | D71: 0 | E71: 5000 | F71: =D71*E71 -> 0
A72: 5.3 | B72: Papildus teritorijas (aiz žoga) sakopšanas darbi (zāles pļaušana) | C72: kvadrātmetrs | D72: 0 | E72: 15000 | F72: =D72*E72 -> 0
A73: 5.4 | B73: Papildus teritorijas sakopšanas darbi (krūmāju pļaušana ar trimmeri, materiāla savākšana un izvešana) | C73: kvadrātmetrs | D73: 0 | E73: 2000 | F73: =D73*E73 -> 0
A74: 5.5 | B74: Bruģa mazgāšana/attīrīšana | C74: kvadrātmetrs | D74: 0 | E74: 2009 | F74: =D74*E74 -> 0
A75: 5.6 | B75: Ēku fasādes mazgāšana | C75: kvadrātmetrs | D75: 0 | E75: 100 | F75: =D75*E75 -> 0
A76: 6 | B76: LIELGABARĪTA ATKRITUMU IZVEŠANA un DZĪVNIEKU IZCELSMES PRODUKTU UTILIZĀCIJA
A77: 6.1 | B77: Lielgabarīta atkritumu konteinera noma* | C77: kubi | D77: 0 | E77: 5 | F77: =D77*E77 -> 0
A78: 6.2 | B78: Lielgabarīta atkritumu iznešana un izjaukšana(no telpām līdz transportam/konteineram)* | C78: stunda | D78: 0 | E78: 48 | F78: =D78*E78 -> 0
A79: 6.3 | B79: Lielgabarīta atkritumu izvešana | C79: kubi | D79: 0 | E79: 10 | F79: =D79*E79 -> 0
A80: 6.4 | B80: Būvgružu atkritumu izvešana | C80: kubi | D80: 0 | E80: 10 | F80: =D80*E80 -> 0
A81: 6.5 | B81: Bīstamo atkritumu izvešana | C81: kubi | D81: 0 | E81: 4 | F81: =D81*E81 -> 0
A82: 6.6 | B82: Sniega izvešana | C82: kubi | D82: 0 | E82: 10 | F82: =D82*E82 -> 0
A83: 6.7 | B83: Dažādu dzīvnieku un nedzīvnieku izcelsmes produktu tvertnes (240L) nodrošināšana un apsaimniekošana saskaņā ar TS 51.3. punktu | C83: ceturksnis | D83: 0 | E83: 4 | F83: =D83*E83 -> 0
A84: Papildus pakalpojumi KOPĀ (KU11 kritērijs) | F84: =SUM(F42:F83) -> 0
B87: * - Darbi, BEZ IZVEŠANAS.
B88: ** - Papildus pakalpojumi ir pakalpojumi, kuri būs nepieciešami papildus ikdienas uzkopšanas pakalpojumiem, kuri nav iekļauti Ikdienas uzkopšanas pakalpojumos.
B89: ***- Izpildītājs ir tiesīgs par saviem līdzekļiem aizstāt Objektā esošos higiēnas preču turētājus ar citiem - līdzvērtīgiem, ja Pasūtītājs tam piekrīt un nomaiņas rezultātā netiek bojātas telpu sienas vai radītas neērtības vai finansiāli zaudējumi
C93: Aizpilda Pretendents (Izpildītājs)

Sheet FAKTISKAIS uzkopšanas biežums
A1: RKP SILENE FAKTISKAIS TELPU UZKOPŠANAS BIEŽUMS | K1: Uzkopšanas reize nedēļās dienā (norāda ar x, ja nepieciešams). | R1: Uzkopšanas intensitātes koeficients* | V1: Telpu FAKTISKĀ uzkopjamā platība mēnesī* | W1: ĪPAŠIE NOTEIKUMI
A2: Nr. p.k. | B2: ĒKA | C2: KADASTRA APZĪMĒJUMS | D2: STĀVS | E2: Telpu grupa un telpas Nr. | F2: TELPAS NOSAUKUMS | G2: TELPU PLATĪBA m2 | H2: GRĪDAS SEGUMS | I2: TELPU GRUPA UZKOPŠANAS PROGRAMMĀ | J2: UZKOPŠANAS LAIKS | K2: Pr | L2: Ot | M2: Tr | N2: Ce | O2: Pk | P2: Se | Q2: Sv | R2: Katru dienu (V) | S2: vienu reizi nedēļā (N) | T2: vienu reizi divās nedēļās (D) | U2: vienu reizi mēnesī (M
A3: 1 | B3: Administratīvā ēka | C3: 44860060072001 | D3: 1 | E3: 006 1 | F3: Priekštelpa | G3: 2.8 | H3: Flīzes | I3: Sanitārās telpas | J3: 7:00 - 15:00 | V3: =G3*(R3+S3+T3+U3) -> 0
A4: 2 | B4: Administratīvā ēka | C4: 44860060072001 | D4: 1 | E4: 006 2 | F4: Tualete | G4: 3.6 | H4: Flīzes | I4: Sanitārās telpas | J4: 7:00 - 15:00 | V4: =G4*(R4+S4+T4+U4) -> 0
A5: 3 | B5: Administratīvā ēka | C5: 44860060072001 | D5: 1 | E5: 006 3 | F5: Tualete | G5: 4 | H5: Linolejs | I5: Sanitārās telpas | J5: 7:00 - 15:00 | V5: =G5*(R5+S5+T5+U5) -> 0
A6: 4 | B6: Administratīvā ēka | C6: 44860060072001 | D6: 1 | E6: 006 4 | F6: Iekštelpa | G6: 4.3 | H6: epoksīds | I6: Koplietošanas un publiskās telpas | J6: 7:00 - 15:00 | V6: =G6*(R6+S6+T6+U6) -> 0
A7: 5 | B7: Administratīvā ēka | C7: 44860060072001 | D7: 1 | E7: 006 5 | F7: Tualete | G7: 4.1 | H7: Linolejs | I7: Sanitārās telpas | J7: 7:00 - 15:00 | V7: =G7*(R7+S7+T7+U7) -> 0
A8: 6 | B8: Administratīvā ēka | C8: 44860060072001 | D8: 1 | E8: 006 6 | F8: Pasažieru uzgaidāmā telpa | G8: 61.4 | H8: epoksīds | I8: biroju/darba telpa | J8: 7:00 - 15:00 | V8: =G8*(R8+S8+T8+U8) -> 0
A9: 7 | B9: Administratīvā ēka | C9: 44860060072001 | D9: 1 | E9: 006 7 | F9: Muitas kontroles telpa | G9: 7.7 | H9: Linolejs | I9: biroju/darba telpa | J9: 7:00 - 15:00 | V9: =G9*(R9+S9+T9+U9) -> 0
A10: 8 | B10: Administratīvā ēka | C10: 44860060072001 | D10: 1 | E10: 006 8 | F10: Muitas darba telpa | G10: 14.3 | H10: Linolejs | I10: biroju/darba telpa | J10: 7:00 - 15:00 | V10: =G10*(R10+S10+T10+U10) -> 0
A11: 9 | B11: Administratīvā ēka | C11: 44860060072001 | D11: 1 | E11: 006 9 | F11: VRS kontroles telpa | G11: 9.4 | H11: Linolejs | I11: biroju/darba telpa | J11: 7:00 - 15:00 | V11: =G11*(R11+S11+T11+U11) -> 0
A12: 10 | B12: Administratīvā ēka | C12: 44860060072001 | D12: 1 | E12: 006 10 | F12: Robežkontroles kabīne | G12: 4 | H12: Linolejs | I12: biroju/darba telpa | J12: 7:00 - 15:00 | V12: =G12*(R12+S12+T12+U12) -> 0
A13: 11 | B13: Administratīvā ēka | C13: 44860060072001 | D13: 1 | E13: 006 11 | F13: Iekštelpa | G13: 17.8 | H13: epoksīds | I13: Koplietošanas un publiskās telpas | J13: 7:00 - 15:00 | V13: =G13*(R13+S13+T13+U13) -> 0
A14: 12 | B14: Administratīvā ēka | C14: 44860060072001 | D14: 1 | E14: 006 12 | F14: Robežkontroles kabīne | G14: 4 | H14: Flīzes | I14: biroju/darba telpa | J14: 7:00 - 15:00 | V14: =G14*(R14+S14+T14+U14) -> 0
... A19: 17 | B19: Administratīvā ēka | C19: 44860060072001 | D19: 1 | E19: 006 17 | F19: Robežkontroles telpa | G19: 71.9 | H19: epoksīds | I19: biroju/darba telpa | J19: 7:00 - 15:00 | V19: =G19*(R19+S19+T19+U19) -> 0
A20: 18 | B20: Administratīvā ēka | C20: 44860060072001 | D20: 1 | E20: 006 18 | F20: Apmeklētāju zāle | G20: 119.5 | H20: Flīzes | I20: biroju/darba telpa | J20: 7:00 - 15:00 | S20: 4.3 | U20: 1 | V20: =15*(R20+S20+T20) -> 64.5 | W20: No kopējās telpas platības uzkopjam tikai 15 m2.
A21: 19 | B21: Administratīvā ēka | C21: 44860060072001 | D21: 1 | E21: 006 19 | F21: Apmeklētāju zāle | G21: 109.4 | H21: Flīzes | I21: biroju/darba telpa | J21: 7:00 - 15:00 | S21: 4.3 | U21: 1 | V21: =15.5*(R21+S21+T21) -> 66.65 | W21: No kopējās telpas platības uzkopjam tikai 15,5 m2.
A22: 20 | B22: Administratīvā ēka | C22: 44860060072001 | D22: 1 | E22: 006 20 | F22: Kabinets | G22: 15.8 | H22: Linolejs | I22: biroju/darba telpa | J22: 7:00 - 15:00 | V22: =G22*(R22+S22+T22+U22) -> 0
A23: 21 | B23: Administratīvā ēka | C23: 44860060072001 | D23: 1 | E23: 006 21 | F23: Kabinets | G23: 15.8 | H23: Linolejs | I23: biroju/darba telpa | J23: 7:00 - 15:00 | V23: =G23*(R23+S23+T23+U23) -> 0
A24: 22 | B24: Administratīvā ēka | C24: 44860060072001 | D24: 1 | E24: 006 22 | F24: Kabinets | G24: 32 | H24: Linolejs | I24: biroju/darba telpa | J24: 7:00 - 15:00 | V24: =G24*(R24+S24+T24+U24) -> 0
A25: 23 | B25: Administratīvā ēka | C25: 44860060072001 | D25: 1 | E25: 006 23 | F25: Kabinets | G25: 15.9 | H25: Linolejs | I25: biroju/darba telpa | J25: 7:00 - 15:00 | V25: =G25*(R25+S25+T25+U25) -> 0
A26: 24 | B26: Administratīvā ēka | C26: 44860060072001 | D26: 1 | E26: 006 24 | F26: Kabinets | G26: 15.9 | H26: Linolejs | I26: biroju/darba telpa | J26: 7:00 - 15:00 | V26: =G26*(R26+S26+T26+U26) -> 0
A27: 25 | B27: Administratīvā ēka | C27: 44860060072001 | D27: 1 | E27: 006 25 | F27: Kabinets | G27: 15.9 | H27: Linolejs | I27: biroju/darba telpa | J27: 7:00 - 15:00 | V27: =G27*(R27+S27+T27+U27) -> 0
A28: 26 | B28: Administratīvā ēka | C28: 44860060072001 | D28: 1 | E28: 006 26 | F28: Kabinets | G28: 12.5 | H28: Linolejs | I28: biroju/darba telpa | J28: 7:00 - 15:00 | V28: =G28*(R28+S28+T28+U28) -> 0
A29: 27 | B29: Administratīvā ēka | C29: 44860060072001 | D29: 1 | E29: 006 27 | F29: Laboratorija | G29: 2.4 | H29: Flīzes | I29: biroju/darba telpa | J29: 7:00 - 15:00 | V29: =G29*(R29+S29+T29+U29) -> 0
A30: 28 | B30: Administratīvā ēka | C30: 44860060072001 | D30: 1 | E30: 006 28 | F30: Tualete | G30: 2 | H30: Flīzes | I30: Sanitārās telpas | J30: 7:00 - 15:00 | S30: 4.3 | U30: 1 | V30: =G30*(R30+S30+T30) -> 8.6
A31: 29 | B31: Administratīvā ēka | C31: 44860060072001 | D31: 1 | E31: 006 29 | F31: Bēgļu telpa | G31: 9.8 | H31: Linolejs | I31: biroju/darba telpa | J31: 7:00 - 15:00 | V31: =G31*(R31+S31+T31+U31) -> 0
A32: 30 | B32: Administratīvā ēka | C32: 44860060072001 | D32: 1 | E32: 006 30 | F32: Bēgļu telpa | G32: 9.4 | H32: Linolejs | I32: biroju/darba telpa | J32: 7:00 - 15:00 | V32: =G32*(R32+S32+T32+U32) -> 0
A33: 31 | B33: Administratīvā ēka | C33: 44860060072001 | D33: 1 | E33: 006 31 | F33: Kinologa telpa | G33: 5 | H33: Linolejs | I33: Sanitārās telpas | J33: 7:00 - 15:00 | V33: =G33*(R33+S33+T33+U33) -> 0
A34: 32 | B34: Administratīvā ēka | C34: 44860060072001 | D34: 1 | E34: 006 32 | F34: Aizturēto telpa | G34: 6 | H34: Linolejs | I34: biroju/darba telpa | J34: 7:00 - 15:00 | V34: =G34*(R34+S34+T34+U34) -> 0
A35: 33 | B35: Administratīvā ēka | C35: 44860060072001 | D35: 1 | E35: 006 33 | F35: Koridors, dušas telpa | G35: 3.8 | H35: Flīzes | I35: Sanitārās telpas | J35: 7:00 - 15:00 | V35: =G35*(R35+S35+T35+U35) -> 0
A36: 34 | B36: Administratīvā ēka | C36: 44860060072001 | D36: 1 | E36: 006 34 | F36: Koridors | G36: 5.9 | H36: Flīzes | I36: Koplietošanas un publiskās telpas | J36: 7:00 - 15:00 | V36: =G36*(R36+S36+T36) -> 0
A37: 35 | B37: Administratīvā ēka | C37: 44860060072001 | D37: 1 | E37: 006 35 | F37: Dežūrtelpa, apkopējas noliktava | G37: 4.1 | H37: Flīzes | I37: Sanitārās telpas | J37: 7:00 - 15:00 | V37: =G37*(R37+S37+T37+U37) -> 0
A38: 36 | B38: Administratīvā ēka | C38: 44860060072001 | D38: 1 | E38: 006 36 | F38: Mazgāšanas telpa, tualete | G38: 13.7 | H38: Flīzes | I38: Sanitārās telpas | J38: 7:00 - 15:00 | V38: =G38*(R38+S38+T38+U38) -> 0
A39: 37 | B39: Administratīvā ēka | C39: 44860060072001 | D39: 1 | E39: 006 37 | F39: Mazgāšanas telpa, tualete | G39: 13.8 | H39: Flīzes | I39: Sanitārās telpas | J39: 7:00 - 15:00 | V39: =G39*(R39+S39+T39+U39) -> 0
A40: 38 | B40: Administratīvā ēka | C40: 44860060072001 | D40: 1 | E40: 006 38 | F40: Koridors, kāpņu telpa | G40: 50.5 | H40: Flīzes | I40: Koplietošanas un publiskās telpas | J40: 7:00 - 15:00 | V40: =G40*(R40+S40+T40+U40) -> 0
A41: 39 | B41: Administratīvā ēka | C41: 44860060072001 | D41: 1 | E41: 006 39 | F41: Tualete | G41: 13.9 | H41: Flīzes | I41: Sanitārās telpas | J41: 7:00 - 15:00 | V41: =G41*(R41+S41+T41+U41) -> 0
A42: 40 | B42: Administratīvā ēka | C42: 44860060072001 | D42: 1 | E42: 006 40 | F42: Dežūrtelpa/apkopējas noliktava | G42: 4 | H42: Flīzes | I42: Sanitārās telpas | J42: 7:00 - 15:00 | V42: =G42*(R42+S42+T42+U42) -> 0
A43: 41 | B43: Administratīvā ēka | C43: 44860060072001 | D43: 1 | E43: 006 41 | F43: Koridors | G43: 5.5 | H43: Flīzes | I43: Koplietošanas un publiskās telpas | J43: 7:00 - 15:00 | V43: =G43*(R43+S43+T43) -> 0
A44: 42 | B44: Administratīvā ēka | C44: 44860060072001 | D44: 1 | E44: 006 42 | F44: Koridors, dušas telpa | G44: 3.5 | H44: Flīzes | I44: Sanitārās telpas | J44: 7:00 - 15:00 | V44: =G44*(R44+S44+T44+U44) -> 0
A45: 43 | B45: Administratīvā ēka | C45: 44860060072001 | D45: 1 | E45: 006 43 | F45: Koridors, dušas telpa | G45: 1.8 | H45: Flīzes | I45: Sanitārās telpas | J45: 7:00 - 15:00 | V45: =G45*(R45+S45+T45+U45) -> 0
A46: 44 | B46: Administratīvā ēka | C46: 44860060072001 | D46: 1 | E46: 006 44 | F46: Dušas telpa | G46: 12.1 | H46: Flīzes | I46: Sanitārās telpas | J46: 7:00 - 15:00 | V46: =G46*(R46+S46+T46+U46) -> 0
A47: 45 | B47: Administratīvā ēka | C47: 44860060072001 | D47: 1 | E47: 006 45 | F47: Tualete | G47: 1.4 | H47: Flīzes | I47: Sanitārās telpas | J47: 7:00 - 15:00 | V47: =G47*(R47+S47+T47+U47) -> 0
A48: 46 | B48: Administratīvā ēka | C48: 44860060072001 | D48: 1 | E48: 006 46 | F48: Tualete | G48: 1.5 | H48: Flīzes | I48: Sanitārās telpas | J48: 7:00 - 15:00 | V48: =G48*(R48+S48+T48+U48) -> 0
A49: 47 | B49: Administratīvā ēka | C49: 44860060072001 | D49: 1 | E49: 006 47 | F49: Tualete | G49: 3.4 | H49: Flīzes | I49: Sanitārās telpas | J49: 7:00 - 15:00 | V49: =G49*(R49+S49+T49+U49) -> 0
A50: 48 | B50: Administratīvā ēka | C50: 44860060072001 | D50: 1 | E50: 006 48 | F50: Tualete | G50: 3 | H50: Flīzes | I50: Sanitārās telpas | J50: 7:00 - 15:00 | V50: =G50*(R50+S50+T50+U50) -> 0
A51: 49 | B51: Administratīvā ēka | C51: 44860060072001 | D51: 1 | E51: 006 49 | F51: koridors | G51: 5.8 | H51: Flīzes | I51: Koplietošanas un publiskās telpas | J51: 7:00 - 15:00 | V51: =G51*(R51+S51+T51+U51) -> 0
A52: 50 | B52: Administratīvā ēka | C52: 44860060072001 | D52: 1 | E52: 006 50 | F52: Izolators (VID servertelpa) | G52: 5.6 | H52: Flīzes | I52: Tehniskās telpas | J52: 7:00 - 15:00 | V52: =G52*(R52+S52+T52+U52) -> 0
A53: 51 | B53: Administratīvā ēka | C53: 44860060072001 | D53: 1 | E53: 006 51 | F53: Medpunkts PVD | G53: 12.3 | H53: Linolejs | I53: biroju/darba telpa | J53: 7:00 - 15:00 | V53: =G53*(R53+S53+T53+U53) -> 0
A54: 52 | B54: Administratīvā ēka | C54: 44860060072001 | D54: 1 | E54: 006 52 | F54: tehniskā telpa (UPS) | G54: 5.4 | H54: Linolejs | I54: Tehniskās telpas | J54: 7:00 - 15:00 | V54: =G54*(R54+S54+T54+U54) -> 0
A55: 53 | B55: Administratīvā ēka | C55: 44860060072001 | D55: 1 | E55: 006 53 | F55: tualete | G55: 1.6 | H55: Flīzes | I55: Sanitārās telpas | J55: 7:00 - 15:00 | V55: =G55*(R55+S55+T55+U55) -> 0
A56: 54 | B56: Administratīvā ēka | C56: 44860060072001 | D56: 1 | E56: 006 54 | F56: Koridors, kāpņu telpa (VRS gaitenis 1.st.) | G56: 19.1 | H56: Flīzes | I56: Koplietošanas un publiskās telpas | J56: 7:00 - 15:00 | S56: 4.3 | U56: 1 | V56: =3.6*(R56+S56+T56) -> 15.48 | W56: No kopējās telpas platības uzkopjam tikai 3,6 m2.
A57: 55 | B57: Administratīvā ēka | C57: 44860060072001 | D57: 1 | E57: 006 55 | F57: Tehniskā telpa | G57: 12 | H57: Betons | I57: Tehniskās telpas | J57: 7:00 - 15:00 | V57: =G57*(R57+S57+T57+U57) -> 0
A58: 56 | B58: Administratīvā ēka | C58: 44860060072001 | D58: 1 | E58: 006 56 | F58: Tehniskā telpa | G58: 9.4 | H58: Betons | I58: Tehniskās telpas | J58: 7:00 - 15:00 | V58: =G58*(R58+S58+T58+U58) -> 0
A59: 57 | B59: Administratīvā ēka | C59: 44860060072001 | D59: 1 | E59: 006 57 | F59: Glabātuve | G59: 8.4 | H59: Betons | I59: Sanitārās telpas | J59: 7:00 - 15:00 | V59: =G59*(R59+S59+T59+U59) -> 0
A60: 58 | B60: Administratīvā ēka | C60: 44860060072001 | D60: 1 | E60: 006 58 | F60: Dežūrtelpa | G60: 18.9 | H60: Linolejs | I60: biroju/darba telpa | J60: 7:00 - 15:00 | S60: 4.3 | U60: 1 | V60: =G60*(R60+S60+T60) -> 81.27
A61: 59 | B61: Administratīvā ēka | C61: 44860060072001 | D61: 1 | E61: 006 59 | F61: Sakaru telpa | G61: 9 | H61: Flīzes | I61: Tehniskās telpas | J61: 7:00 - 15:00 | V61: =G61*(R61+S61+T61+U61) -> 0
A62: 60 | B62: Administratīvā ēka | C62: 44860060072001 | D62: 2 | E62: 006 60 | F62: Sanāksmju telpa | G62: 85.8 | H62: Linolejs | I62: biroju/darba telpa | J62: 7:00 - 15:00 | V62: =G62*(R62+S62+T62+U62) -> 0
A63: 61 | B63: Administratīvā ēka | C63: 44860060072001 | D63: 2 | E63: 006 61 | F63: WC | G63: 2.3 | H63: Linolejs | I63: Sanitārās telpas | J63: 7:00 - 15:00 | V63: =G63*(R63+S63+T63+U63) -> 0
A64: 62 | B64: Administratīvā ēka | C64: 44860060072001 | D64: 2 | E64: 006 62 | F64: WC | G64: 2.4 | H64: Linolejs | I64: Sanitārās telpas | J64: 7:00 - 15:00 | V64: =G64*(R64+S64+T64+U64) -> 0
A65: 63 | B65: Administratīvā ēka | C65: 44860060072001 | D65: 2 | E65: 006 63 | F65: Gaitenis | G65: 25.6 | H65: Linolejs | I65: Koplietošanas un publiskās telpas | J65: 7:00 - 15:00 | V65: =G65*(R65+S65+T65+U65) -> 0
A66: 64 | B66: Administratīvā ēka | C66: 44860060072001 | D66: 2 | E66: 006 64 | F66: Ģērbtuve | G66: 15 | H66: Linolejs | I66: Sanitārās telpas | J66: 7:00 - 15:00 | V66: =G66*(R66+S66+T66+U66) -> 0
A67: 65 | B67: Administratīvā ēka | C67: 44860060072001 | D67: 2 | E67: 006 65 | F67: Ģērbtuve | G67: 16.2 | H67: Linolejs | I67: Sanitārās telpas | J67: 7:00 - 15:00 | V67: =G67*(R67+S67+T67+U67) -> 0
A68: 66 | B68: Administratīvā ēka | C68: 44860060072001 | D68: 2 | E68: 006 66 | F68: Ģērbtuve | G68: 15.6 | H68: Linolejs | I68: Sanitārās telpas | J68: 7:00 - 15:00 | V68: =G68*(R68+S68+T68+U68) -> 0
A69: 67 | B69: Administratīvā ēka | C69: 44860060072001 | D69: 2 | E69: 006 67 | F69: Ģērbtuve | G69: 16.2 | H69: Linolejs | I69: Sanitārās telpas | J69: 7:00 - 15:00 | V69: =G69*(R69+S69+T69+U69) -> 0
A70: 68 | B70: Administratīvā ēka | C70: 44860060072001 | D70: 2 | E70: 006 68 | F70: Kāpņu telpa | G70: 2.7 | H70: Epoksīds | I70: Koplietošanas un publiskās telpas | J70: 7:00 - 15:00 | V70: =G70*(R70+S70+T70+U70) -> 0
A71: 69 | B71: Administratīvā ēka | C71: 44860060072001 | D71: 2 | E71: 006 69 | F71: Ēdamistaba | G71: 10.1 | H71: Linolejs | I71: Sanitārās telpas | J71: 7:00 - 15:00 | V71: =G71*(R71+S71+T71+U71) -> 0
A72: 70 | B72: Administratīvā ēka | C72: 44860060072001 | D72: 2 | E72: 006 70 | F72: Dušas telpa, ģērbtuve | G72: 11.7 | H72: Linolejs | I72: Sanitārās telpas | J72: 7:00 - 15:00 | V72: =G72*(R72+S72+T72+U72) -> 0
A73: 71 | B73: Administratīvā ēka | C73: 44860060072001 | D73: 2 | E73: 006 71 | F73: Koridors | G73: 1.5 | H73: Linolejs | I73: Sanitārās telpas | J73: 7:00 - 15:00 | V73: =G73*(R73+S73+T73+U73) -> 0
... A96: 94 | B96: Administratīvā ēka | C96: 44860060072001 | D96: 2 | E96: 006 94 | F96: Drēbju žāvētava | G96: 9.9 | H96: Linolejs | I96: Sanitārās telpas | J96: 7:00 - 15:00 | V96: =G96*(R96+S96+T96+U96) -> 0
A97: 95 | B97: Kontroles paviljons | C97: 44860060102001 | D97: 1 | E97: 1 | F97: Klientu telpa muitas kontrolei | G97: 5.4 | H97: Linolejs | I97: biroju/darba telpa | J97: 7:00 - 15:00 | V97: =G97*(R97+S97+T97+U97) -> 0
A98: 96 | B98: Kontroles paviljons | C98: 44860060102001 | D98: 1 | E98: 2 | F98: Muitas darbinieku telpa | G98: 10 | H98: Linolejs | I98: biroju/darba telpa | J98: 7:00 - 15:00 | V98: =G98*(R98+S98+T98+U98) -> 0
A99: 97 | B99: Kontroles paviljons | C99: 44860060102001 | D99: 1 | E99: 3 | F99: Gaitenis | G99: 3.3 | H99: Linolejs | I99: Koplietošanas un publiskās telpas | J99: 7:00 - 15:00 | V99: =G99*(R99+S99+T99+U99) -> 0
A100: 98 | B100: Kontroles paviljons | C100: 44860060102001 | D100: 1 | E100: 4 | F100: Robežsardzes drabinieku telpa | G100: 6.9 | H100: Linolejs | I100: biroju/darba telpa | J100: 7:00 - 15:00 | V100: =G100*(R100+S100+T100+U100) -> 0
A101: 99 | B101: Kontroles paviljons | C101: 44860060102001 | D101: 1 | E101: 5 | F101: Biometrisko datu ņemšanas vieta | G101: 5.4 | H101: Linolejs | I101: biroju/darba telpa | J101: 7:00 - 15:00 | V101: =G101*(R101+S101+T101+U101) -> 0
A102: 100 | B102: Kontroles paviljons | C102: 44860060102002 | D102: 1 | E102: 1 | F102: Klientu telpa muitas kontrolei | G102: 5.4 | H102: Linolejs | I102: biroju/darba telpa | J102: 7:00 - 15:00 | V102: =G102*(R102+S102+T102+U102) -> 0
A103: 101 | B103: Kontroles paviljons | C103: 44860060102002 | D103: 1 | E103: 2 | F103: Muitas darbinieku telpa | G103: 10 | H103: Linolejs | I103: biroju/darba telpa | J103: 7:00 - 15:00 | V103: =G103*(R103+S103+T103+U103) -> 0
A104: 102 | B104: Kontroles paviljons | C104: 44860060102002 | D104: 1 | E104: 3 | F104: Gaitenis | G104: 3.3 | H104: Linolejs | I104: Koplietošanas un publiskās telpas | J104: 7:00 - 15:00 | V104: =G104*(R104+S104+T104+U104) -> 0
A105: 103 | B105: Kontroles paviljons | C105: 44860060102002 | D105: 1 | E105: 4 | F105: Robežsardzes drabinieku telpa | G105: 6.9 | H105: Linolejs | I105: biroju/darba telpa | J105: 7:00 - 15:00 | V105: =G105*(R105+S105+T105+U105) -> 0
A106: 104 | B106: Kontroles paviljons | C106: 44860060102002 | D106: 1 | E106: 5 | F106: Biometrisko datu ņemšanas vieta | G106: 5.4 | H106: Linolejs | I106: biroju/darba telpa | J106: 7:00 - 15:00 | V106: =G106*(R106+S106+T106+U106) -> 0
A107: 105 | B107: Kontroles paviljons | C107: 44860060102003 | D107: 1 | E107: 1 | F107: Klientu telpa muitas kontrolei | G107: 5.4 | H107: Linolejs | I107: biroju/darba telpa | J107: 7:00 - 15:00 | V107: =G107*(R107+S107+T107+U107) -> 0
A108: 106 | B108: Kontroles paviljons | C108: 44860060102003 | D108: 1 | E108: 2 | F108: Muitas darbinieku telpa | G108: 10 | H108: Linolejs | I108: biroju/darba telpa | J108: 7:00 - 15:00 | V108: =G108*(R108+S108+T108+U108) -> 0
... A116: 114 | B116: Kontroles paviljons | C116: 44860060102004 | D116: 1 | E116: 5 | F116: Biometrisko datu ņemšanas vieta | G116: 5.4 | H116: Linolejs | I116: biroju/darba telpa | J116: 7:00 - 15:00 | V116: =G116*(R116+S116+T116+U116) -> 0
A117: 115 | B117: Kontroles paviljons | C117: 44860060072008 | D117: 1 | E117: 001 1 | F117: Kontroles paviljons | G117: 9 | H117: Flīzes | I117: biroju/darba telpa | J117: 7:00 - 15:00 | V117: =G117*(R117+S117+T117+U117) -> 0
A118: 116 | B118: Artēziskā aka ar paviljonu | C118: 44860060072009 | D118: 1 | E118: 001 1 | F118: artēziskā aka ar paviljonu | G118: 31.6 | H118: Betons | I118: Tehniskās telpas | J118: 7:00 - 15:00 | V118: =G118*(R118+S118+T118+U118) -> 0
A119: 117 | B119: Ugunsdzēsības sūkņu stacija | C119: 44860060072010 | D119: 1 | E119: 001 1 | F119: Ugunsdzēsības sukņu stacija | G119: 20 | H119: Betons | I119: Tehniskās telpas | J119: 7:00 - 15:00 | V119: =G119*(R119+S119+T119+U119) -> 0
A120: 118 | B120: Aparatūras māja | C120: 44860060072011 | D120: 1 | E120: 001 1 | F120: aparatūras māja LMT | G120: 6.8 | H120: Betons | I120: Tehniskās telpas | J120: 7:00 - 15:00 | V120: =G120*(R120+S120+T120+U120) -> 0
A121: 119 | B121: Saimniecības ēka | C121: 44860060072014 | D121: 1 | E121: 001 1 | F121: Noliktava | G121: 68 | H121: Betons | I121: Tehniskās telpas | J121: 7:00 - 15:00 | V121: =G121*(R121+S121+T121+U121) -> 0
A122: 120 | B122: Saimniecības ēka | C122: 44860060072014 | D122: 1 | E122: 2 | F122: Katlu telpa | G122: 54.6 | H122: Betons | I122: Tehniskās telpas | J122: 7:00 - 15:00 | V122: =G122*(R122+S122+T122+U122) -> 0
A123: 121 | B123: Saimniecības ēka | C123: 44860060072014 | D123: 1 | E123: 3 | F123: Koridors | G123: 7.6 | H123: Flīzes | I123: Koplietošanas un publiskās telpas | J123: 7:00 - 15:00 | V123: =G123*(R123+S123+T123+U123) -> 0
A124: 122 | B124: Saimniecības ēka | C124: 44860060072014 | D124: 1 | E124: 4 | F124: Dušas telpa | G124: 2.8 | H124: Flīzes | I124: Sanitārās telpas | J124: 7:00 - 15:00 | V124: =G124*(R124+S124+T124+U124) -> 0
A125: 123 | B125: Saimniecības ēka | C125: 44860060072014 | D125: 1 | E125: 5 | F125: Noliktava | G125: 8 | H125: Betons | I125: Tehniskās telpas | J125: 7:00 - 15:00 | V125: =G125*(R125+S125+T125+U125) -> 0
A126: 124 | B126: Saimniecības ēka | C126: 44860060072014 | D126: 1 | E126: 6 | F126: Darbnīca | G126: 34.2 | H126: Betons | I126: Tehniskās telpas | J126: 7:00 - 15:00 | V126: =G126*(R126+S126+T126+U126) -> 0
A127: 125 | B127: Saimniecības ēka | C127: 44860060072014 | D127: 1 | E127: 7 | F127: Koridors | G127: 1.9 | H127: Flīzes | I127: Koplietošanas un publiskās telpas | J127: 7:00 - 15:00 | V127: =G127*(R127+S127+T127+U127) -> 0
A128: 126 | B128: Saimniecības ēka | C128: 44860060072014 | D128: 1 | E128: 8 | F128: Suņu virtuve | G128: 13.1 | H128: Flīzes | I128: Sanitārās telpas | J128: 7:00 - 15:00 | V128: =G128*(R128+S128+T128+U128) -> 0
A129: 127 | B129: Saimniecības ēka | C129: 44860060072014 | D129: 1 | E129: 9 | F129: Noliktava | G129: 9.1 | H129: Betons | I129: Tehniskās telpas | J129: 7:00 - 15:00 | V129: =G129*(R129+S129+T129+U129) -> 0
A130: 128 | B130: Saimniecības ēka | C130: 44860060072014 | D130: 1 | E130: 10 | F130: Darbnīca | G130: 16.9 | H130: Betons | I130: Tehniskās telpas | J130: 7:00 - 15:00 | V130: =G130*(R130+S130+T130+U130) -> 0
A131: 129 | B131: Saimniecības ēka | C131: 44860060072014 | D131: 1 | E131: 11 | F131: Tehniskā telpa | G131: 40.7 | H131: Betons | I131: Tehniskās telpas | J131: 7:00 - 15:00 | V131: =G131*(R131+S131+T131+U131) -> 0
A132: 130 | B132: Saimniecības ēka | C132: 44860060072014 | D132: 1 | E132: 12 | F132: Garāža | G132: 84 | H132: Betons | I132: Tehniskās telpas | J132: 7:00 - 15:00 | V132: =G132*(R132+S132+T132+U132) -> 0
... A146: 144 | B146: Saimniecības ēka | C146: 44860060072014 | D146: 1 | E146: 008 1 | F146: Suņu mītnes | G146: 2.4 | H146: Betons | I146: Sanitārās telpas | J146: 7:00 - 15:00 | V146: =G146*(R146+S146+T146+U146) -> 0
...

Sheet Telpu_Uzkopjamā platība

Sheet Telpu ikdienas UP
C1: KVALITĀTES LĪMENIS
B2: TELPU IKDIENAS UZKOPŠANAS PAKALPOJUMI | C2: MĒBELES PIEDERUMI | D2: GRĪDAS | E2: SIENAS | F2: GRIESTI
B3: BIROJU/ DARBA TELPAS, ZĀLES, EKSPOZĪCIJU ZĀLES | C3: 4 | D3: 4 | E3: 4 | F3: 3
B4: Atkritumu grozu tukšošana un maisiņu nomaiņa *
B5: Ādas mēbeļu tīrīšana ar atbilstošu līdzekli
B6: Cietā grīdas seguma mitrā uzkopšana telpās
B7: Durvju rokturu tīrīšana ar dezinficējošu līdzekli
B8: Elektroslēdžu un rozešu mitrā tīrīšana
B9: Gaismas ķermeņu un reljefu interjera elementu tīrīšana līdz 2 m augstumam
B10: Brīvo galda virsmu mitrā tīrīšana, ja uz virsmas izklaidus nav papīri **
B11: Grīdlīstšu un ventilācijas restu mitrā tīrīšana
B12: Horizontālo un vertikālo virsmu mitrā tīrīšana (skapji, plaukti, palodzes, galdi, krēsli)
B13: Krēslu kāju mitrā tīrīšana
B14: Lokālu traipu tīrīšana no horizontālām un vertikālajām virsmām (skapji, plaukti, galdi, krēsli, durvis, sienas, stikla starpsienas)
B15: Mīkstā grīdas seguma (ja tāds ir) izsūkšana ar putekļusūcēju
B16: Mīksto mēbeļu (ja tādas ir) izsūkšana ar putekļu sūcēju
B17: SANITĀRĀS, VIRTUVES TELPAS | C17: 4 | D17: 4 | E17: 4 | F17: 3
B18: Atkritumu grozu tukšošana un maisiņu nomaiņa *
B19: Atkritumu tvertnes mazgāšana un dezinficēšana
B20: Cietā grīdas seguma mitrā uzkopšana ar dezinficējošu līdzekli
B21: Durvju rokturu tīrīšana ar dezinficējošu līdzekli
B22: Duškabīnes, dušas stūra vai vannas (ja tāda telpā uzstādīta) tīrīšana
B23: Gaismas ķermeņu un reljefu interjera elementu tīrīšana līdz 2 m augstumam
B24: Grīdlīstšu un ventilācijas restu mitrā tīrīšana
B25: Higiēnas preču turētāju mitrā tīrīšana
B26: Higiēnas preču papildināšana
B27: Higiēnas preču piegāde
B28: Horizontālo un vertikālo virsmu mitrā tīrīšana (skapji, plaukti, palodzes, galdi, krēsli)
B29: Lokālu traipu tīrīšana no horizontālajām un vertikālām virsmām
... B37: WC gaisa atsvaidzinātāja nodrošināšana
B38: KOPLIETOŠANAS TELPAS | C38: 3 | D38: 3 | E38: 3 | F38: 2
B39: Atkritumu grozu tukšošana un maisiņu nomaiņa *
B40: Ādas mēbeļu tīrīšana ar atbilstošu līdzekli
B41: Cietā grīdas seguma mitrā uzkopšana
B42: Durvju rokturu tīrīšana ar dezinficējošu līdzekli
B43: Elektroslēdžu un rozešu mitrā tīrīšana
B44: Gaismas ķermeņu un reljefu interjera elemntu tīrīšana līdz 2m augstumam
B45: Grīdlīstšu un ventilācijas restu mitrā tīrīšana
B46: Horizontālo un vertikālo virsmu mitrā tīrīšana (skapji, plaukti, palodzes, galdi, krēsli)
B47: Krēslu kāju mitrā tīrīšana
B48: Lokālu traipu tīrīšana no horizontālām un vertikālajām virsmām (skapji, plaukti, galdi, krēsli, durvis, sienas, stikla starpsienas)
B49: Kāpņu margu un roku balstu mitrā tīrīšana (ar dezinficējošu)
B50: Mīkstā grīdas seguma izsūkšana ar putekļusūcēju
... B54: Spoguļu tīrīšana
B55: TEHNISKĀS TELPAS | C55: 2 | D55: 2 | E55: 2 | F55: 2
B56: Atkritumu grozu tukšošana un maisiņu nomaiņa *
B57: Cietā grīdas seguma mitrā uzkopšana (serveru telpās uzkopj tikai grīdas segumu)
B58: Elektroslēdžu un rozešu mitrā tīrīšana
B59: Grīdlīstšu un ventilācijas restu mitrā tīrīšana
B60: Horizontāli virsmu mitrā tīrīšana (skapji, plaukti, palodzes, galdi, krēsli)
B61: Horizontālo un vertikālo virsmu mitrā tīrīšana (skapji, plaukti, palodzes, galdi, krēsli)
B63: * - Atkritumi urnas jāiztukšo katru dienu, ja tajās ir atkritumi. Maisiņi tiek mainīti, ja atkritumos ir bioloģiskas izcelsmes atkritumi. Ja ir iespēja un Lietotājs/Pasūtītājs to pieprasa, tad atkritumi arī ir jāšķiro³
B64: ** - Par atbrīvotām tiek uzskatītas virsmas bez dokumentiem, mapēm un privātām lietām vai traukiem (uz galdiem var atrasties rakstāmpiederumu organizatori, plastmasas „šālītes“ u. tml.).
B65: *** - Šie pakalpojumi (kafijas automāta, ledusskapja un virtuves skapīšu tīrīšana no iekšpuses) jāveic, ja Pasūtītājs vai Lietotājs to pieprasa. Visu rūpīgi izņemot, iztīrot un pēc tam saliekot atpakaļ.
B66: **** - Ja Pasūtītājs vai Lietotājs to pieprasa, Izpildītājam jāseko līdzi, lai virtuvē vienmēr būtu trauku mazgāšanas līdzeklis un švamme(mazgāšanai ar rokām), gumijota lupatiņa un/ vai trauku tabletes un sāls trauku mazgājamajai mašīna (ja tāda ir).

Sheet Telpu sadalījums un ĪP
F2: SADALĪJUMS PA TELPU GRUPĀM
B3: NPK | C3: OBJEKTS | D3: TELPU KOPĒJĀ PLATĪBA (m²) | F3: Ārtelpa | G3: Biroju/darba telpas | H3: Koplietošanas telpas | I3: Sanitārās telpas | J3: Tehniskās telpas | M3: ĪPAŠĀS PRASĪBAS (JĀŅEM VĒRĀ)
B4: Nr. | C4: Nosaukums | D4: (m²) | F4: (m²) | G4: (m²) | H4: (m²) | I4: (m²) | J4: (m²)
B5: 1 | C5: SILENE | D5: =SUM(F5:J5) -> 3359.3 | F5: 0 | G5: 1792.7 | H5: 314.5 | I5: 366 | J5: 886.1 | M5: Pēc dzīvnieku uzturēšanās dzīvnieku novietnēs, attiecīgo telpu mazgāšana ir jāveic izmantojot augstspiediena iekārtu. PVD telpu uzkopšana jāveic saskaņā ar PVD prasībām.

Sheet Cilvēku plūsma
B5: SILENE | C5: Pilnas noslodzes gadījumā | D5: Zemas noslodzes gadījumā
B6: Darbinieki (12 h diennaktī strādājošo skaits) | C6: 40 | D6: 30
B7: Kravas automašīnas (24h diennaktī vidēji šķērso): | C7: 200 | D7: 100
B8: Vieglās automašīnas (24h diennaktī vidēji šķērso): | C8: 150 | D8: 50

Sheet Higiēnas preces
B2: NPK | C2: OBJEKTS | D2: ROKU DVIEĻI | E2: TUALETES PAPĪRS | F2: ZIEPES ROKU MAZGĀŠANAI | G2: GAISA ATSVAIDZINĀTĀJS UN BIRSTE (WC telpās) | H2: DEZINFEKCIJAS LĪDZEKLIS virsmām/rokām izsmidzināms 500ml (vestibilos pie ieejas un klientu zonās ) * | I2: PUTU ZIEPES (gab) * | J2: TRAUKU MAZGĀJAMAIS LĪDZEKLIS UN ŠVAMME (virtuvē) * | K2: TUALETES PAPĪRS (ruļļi) * | L2: ROKU DVIEĻI (ruļļi) * | M2: GAISA ATSVAIDZINĀTĀJS WC telpās (skaits) *
B3: 1 | C3: SILENE | D3: Tork H1 Advanced baltā krāsā (ar sensoru) sistēmai vai ekvivalents | E3: Tork T6 sistēmai/Tork Mini Jumbo Advanced vai ekvivalents | F3: Tork S4 (putu) sistēmai vai ekvivalents | G3: Aerosola | H3: 1 | I3: 2 | J3: 1 | K3: 5 | L3: 5 | M3: 2
D6: * patēriņš vidēji mēnesī

Sheet Paklāji
B2: Objekts | C2: Izmērs (cm) | D2: Krāsa, materiāls | E2: Daudzums | F2: Ziemas sezonā (01.11.-31.03) | G2: Vasaras sezonā (01.04.-31.10.)
B3: SILENE | C3: 115 x 200 | D3: pelēks, sintētisks | E3: 2 | F3: Reizi nedēļā | G3: Reizi divās nedēļās

Sheet Silene_Teritorijas tīrīšana

Sheet Teritorijas ikdienas UP
B2: NPK | C2: TERITORIJAS IKDIENAS UZKOPŠANĀ VEICAMIE DARBI | D2: 1xdiennaktī līdz plkst.:08:00 | E2: 2x diennaktī | F2: Intensīvas snigšanas gadījumā, ne retāk kā ik pa 4h (no 06:00 - 22:00) | G2: 1 x nedēļā | H2: 1x mēnesī | I2: Pēc nepieciešamības
B3: ZIEMAS SEZONĀ (novembris-marts)₁
B4: 1. | C4: Trotuāri, ietves, gājēju celiņi (ar speciālu segumu), autostāvvietas, veloceliņi, pagalmi, iebrauktuves, lieveņi, ieejas pakāpieni
B5: 1.1 | C5: Objekta apsekošana (ne retāk kā 1x 2 nedēļās) | I5: X
B6: 1.2 | C6: Slaucīšana, ja nekrīt sniegs | I6: X
B7: 1.3 | C7: Attīrīšana no sniega un ledus, kaisīšana ar pretslīdes materiāliem | I7: X
B8: 1.4 | C8: Attīrīšana no apledojuma atkalas laikā (ar ledus cirtni), kaisīšana ar smilšu un sāls maisījumu | I8: X
B9: 1.5 | C9: Kanalizācijas aku vāku un hidrantu attīrīšana no sniega | I9: X
B10: 1.6 | C10: Atkritumu konteineru novietnes laukuma uzturēšana kārtībā | I10: X
B11: 1.7 | C11: Atkritumu urnu tukšošana un maisiņu nomaiņa atkritumu tvertnēs teritorijā | I11: X
B12: 1.8 | C12: Attīrīšana no sniega un ledus intensīvas snigšanas gadījumā (kolīdz sniega biezums pārsniedz 2 cm) un kaisīšana ar pretslīdes materiālu | I12: X
B13: 1.9 | C13: Ēku ieejas mezglu uzturēšana, attīrīšana no ledus un sniega, un kaisīšana ar pretslīdes materiāliem | I13: X
B14: 1.1 | C14: Kaisīšana ar pretslīdes materiālu atkalas laikā | I14: X
B15: 1.11 | C15: Atkritumu tvertņu korpusu tīrīšana no ārpuses | I15: X
B16: 1.12 | C16: Lielgabarīta atkritumu izvešanas organizēšana (ja tādi novietoti blakus atkritumu konteineriem) | I16: X
... B21: 1.17 | C21: Koku, krūmu vai aizlūzušu zaru apzāģēšana vietās, kur tiek traucēta gājēju un transporta kustība vai tie bojā sētu (t.sk. nozāģēto zaru izvešana un nepieciešamo mehānisko līdzekļu noma) ² | I21: X
B22: 2. | C22: Zālāji un citi laukumi, kuri netiek izmantoti, lai pārvietotos
B23: 2.1 | C23: Atkritumu savākšana | I23: X
B24: 3 | C24: Citi
B25: 3.1 | C25: Ēkas jumta un noteku tīrīšana (no sniega, ledus, gružiem, koku lapām un zariem, putnu radītiem atkritumiem) | I25: X
B26: 3.2 | C26: Ēkas fasādes tīrīšana | I26: X
B27: 3.4 | C27: Teritorijā esošo nojumju, koku stumbru un sakņu aizsarg-apmaļu, soliņu un velosipēdu novietņu (stendu/statīvu) uzturēšana tīrībā | I27: X
B28: 3.5 | C28: Teritorijā esošo kravas pacēlāju un piegādes rampu, ja tādas atrodas teritorijā, uzturēšana tīrībā | I28: X
B29: 3.6 | C29: Teritorijā esošo apgaismes ķermeņu, apgaismes stabu, nožogojumu, barjeru un norāžu uzturēšana tīrībā | I29: X
B30: 3.7 | C30: Teritorijā esošo koku un apstādījumu uzturēšana (kokkopja, arborista paklapojumi lūzušu koku gadījumā) | I30: X
B31: 3.8 | C31: Atkritumu (kartona kastu, iepakojumu, makulatūras un citu atkritumu) nogādāšana no iekštelpām līdz konteineriem un sadzīves atkritumu daudzuma fiksēšana uzskaites žurnālā. | I31: X
B32: 3.9 | C32: Bīstamo atkritumu uzskaite un nodošana utilizācijai. | I32: X
B33: 3.1 | C33: Konteineru, kur tiek izmesti dzīvnieku izcelsmes produkti, vienreizējās lietošanas maisu nomaiņa vismaz 1 x diennaktī (plkst.8.00 un 17.00), izņemto atkritumu svēršana un nogādāšana uz saldētavu PVD ēkā, atkritumu konteineru mazgāšana un dezinficēšana pēc nepieciešamības, bet ne retāk kā 2 x mēnesī. Dezinfekcijas līdzekļu izmaksas sedz VID. | I33: X
B34: 3.11. | C34: Novadgrāvju tīrīšana (krūmu izciršana) | I34: X
B35: 3.12. | C35: Saldējamās kameras dezinficēšanu veic pēc PVD pieteikuma, dezinfekcijas līdzekļus nodrošina PVD. | I35: X
B36: VASARAS SEZONĀ (aprīlis-oktobris)
B37: 4 | C37: Trotuāri, ietves, gājēju celiņi (ar speciālu segumu), autostāvvietas, veloceliņi, pagalmi, iebrauktuves, lieveņi, ieejas pakāpieni
B38: 4.1 | C38: Objekta apsekošana (ne retāk kā 1x 2 nedēļās) | I38: X
B39: 4.2 | C39: Teritorijas slaucīšana | I39: X
B40: 4.3 | C40: Atkritumu urnu tukšošana un maisiņu nomaiņa atkritumu tvertnēs teritorijā | I40: X
B41: 4.4 | C41: Atkritumu tvertņu korpusu tīrīšana no ārpuses | I41: X
B42: 4.5 | C42: Atkritumu tvertņu novietnes laukuma slaucīšana | I42: X
B43: 4.6 | C43: Lielgabarīta atkritumu izvešanas organizēšana (ja tādi novietoti blakus atkritumu konteineriem) | I43: X
B44: 4.7 | C44: Bīstamo vietu (bedres, ūdenstilpnes utml) norobežošana ar speciālo lenti | I44: X
B45: 4.8 | C45: Karoga izkāršana atbilstošā noformējumā saskaņā ar LR likumdošanu ¹ , karogu mastu uzturēšana un karogu nomaiņa (t.sk.iegāde) to bojājumu gadījumos | I45: X
B46: 4.9 | C46: Koku, krūmu vai aizlūzušu zaru apzāģēšana vietās, kur tiek traucēta gājēju un transporta kustība vai tie bojā sētu (t.sk. nozāģēto zaru izvešana un nepieciešamo mehānisko līdzekļu noma) ² | I46: X
B47: 4.1 | C47: Lapu savākšana un izvešana | I47: X
B48: 4.11 | C48: Smilšu savākšana pēc ziemas sezonas un to izvešana | I48: X
B49: 5 | C49: Zālāji un citi laukumi, kuri netiek izmantoti, lai pārvietotos
B50: 5.1 | C50: Atkritumu savākšana
B51: 5.2 | C51: Apstādījumu un zālāja laistīšana, kur tas tehniski iespējams un nepieciešamības | I51: X
B52: 5.3 | C52: Apstādījumu, trotuāra malu, bruģa, betona plākšņu, cita veida segumu ravēšana un attīrīšana no nezālēm, sūnām | I52: X
B53: 5.4 | C53: Lapu, zaru un nopļautās zāles savākšana | I53: X
B54: 5.5 | C54: Zālāju pļaušana (iežogotajā teritorijā un ārpus iežogotās teritroijas) ievērojot pašvaldības saistošos noteikumus | I54: X
B55: 5.6 | C55: Zālāja un apstādījumu laistīšana, kur tas tehniski iespējams un nepieciešamības | I55: X
B56: 5.7 | C56: Zālāju atjaunošana un uzturēšana (t.sk.piesēt vietas, kur zāle iznīkus, kaisīšana ar dolomīta smiltīm, lai likvidētu sūnas) | I56: X
B57: 6 | C57: Citi
B58: 6.1 | C58: Ēku jumta un noteku tīrīšana (gružiem, koku lapām un zariem, putnu radītiem atkritumiem) | I58: X
B59: 6.2 | C59: Ēkas fasādes tīrīšana | I59: X
B60: 6.3 | C60: Ēku ieejas mezglu uzturēšana | I60: X
B61: 6.4 | C61: Numurzīmju, norāžu, luksoforu uzturēšana | I61: X
B62: 6.5 | C62: Teritorijā esošo nojumju, koku stumbru un sakņu aizsarg-apmaļu, soliņu un velosipēdu novietņu (stendu/statīvu), ja tādi atrodas teritorijā, uzturēšana tīrībā | I62: X
B63: 6.6 | C63: Teritorijā esošo kravas pacēlāju un piegādes rampu, ja tādas atrodas teritorijā, uzturēšana tīrībā | I63: X
B64: 6.7 | C64: Teritorijā esošo apgaismes ķermeņu, nožogojumu un norāžu uzturēšana tīrībā | I64: X
B65: 6.8 | C65: Teritorijā esošo koku un apstādījumu uzturēšana un atjaunošana (kokkopja, arborista, daiļdārznieka pakalpojumi) ³ | I65: X
B66: 6.9 | C66: Atkritumu (kartona kastu, iepakojumu, makulatūras un citu atkritumu) nogādāšana no iekštelpām līdz konteineriem un sadzīves atkritumu daudzuma fiksēšana uzskaites žurnālā. | I66: X
B67: 6.1 | C67: Bīstamo atkritumu uzskaite un nodošana utilizācijai. | I67: X
B68: 6.11 | C68: Konteineru, kur tiek izmesti dzīvnieku izcelsmes produkti, vienreizējās lietošanas maisu nomaiņa vismaz 1x diennaktī (plkst.8.00 un 17.00), izņemto atkritumu svēršana un nogādāšana uz saldētavu PVD ēkā, atkritumu konteineru mazgāšana un dezinficēšana pēc nepieciešamības, bet ne retāk kā 2 x mēnesī. Dezinfekcijas līdzekļu izmaksas sedz VID. | I68: X
B69: 6.12 | C69: Saldējamās kameras dezinficēšanu veic pēc PVD pieteikuma, dezinfekcijas līdzekļus nodrošina PVD. | I69: X
B70: 6.13. | C70: Robežzīmes "Latvijas Republika" uzturēšana - burtu un ģerboņa attīrīšana no zirnekļu tīkliem, citiem netīrumiem | I70: X
B71: 6.14. | C71: Robežzīmes "Latvijas Republika" uzturēšana - puķu iestādīšana ( 100 gabali zemās samtenes), ravēšana, laistīšana | I71: X
B72: CITI (nepārtraukti)
B74: ¹ | C74: Saskaņā ar likumu "Latvijas valsts karoga likums"
B75: ² | C75: Atļauju koku nozāģēšanai saskaņo VNĪ. Troturāra un brauktuves norobežošanas atļauju saskaņo Izpildītājs.

Sheet Teritorijas sadalījums un ĪP
B2: NPK | C2: OBJEKTS | D2: KOPĒJĀ PLATĪBA (m²) | E2: KOPĒJĀ TERITORIJAS UZKOPJAMĀ PLATĪBA (m²) (IZŅEMOT PLATĪBU, KURA TIEK UZKOPTA PĒC PIEPRASĪJUMA) | F2: Ietvju platība, cietais segums iežogotā teritorija un piebraukšana (m²) | G2: Zāliena platība iežogotajā teritorijā (m²) | H2: Zāliena un krūmāju platība, kura tiek kopta PĒC PIEPRASĪJUMA (m²) | I2: Jānodrošina karoga izkāršana (karogu skaits) | J2: Sniega izvešana jānodrošina | K2: ĪPAŠĀS PRASĪBAS (JĀŅEM VĒRĀ)
B3: 1 | C3: SILENE | D3: =SUM(F3:H3) -> 116040.7 | E3: =F3+G3 -> 82040.7 | F3: 50775 | G3: 31265.7 | H3: 34000 | I3: 2 | J3: Sniegšanas laikā tiek tīrītas 3m platas joslas braucamajai daļai RKP teritorijā kā arī laukumi pie ārdurvīm. Kopējais sniega tīrīšanas apjoms 3900m2. | K3: 1) Objektā teritorijas uzkopšanā jābūt nodarbinātiem ne mazāk kā 3 sētniekiem gadījumos, kad nakts periodā ir bijusi spēcīga snigšana vai novērojama stipra snigšana dienas periodā, kā arī, lai novērstu uz ietvēm un ceļa segumiem radušos apledojumu. 2) Teritorijā izvietoti 2 karogi (Latvijas un Eiropas), karogu izmēri 2m x 1m. 3) Ziemas periodā jāizmanto dzīvniekiem draudzīgs pretslīdes materiāls. 4) Vasaras sezonā vismaz 2 reizes pļaut zālāju aiz RKP iežogotās teritorijas. 5) Robežzīmes "Latvijas Republika" uzturēšana - burtu un ģerboņa attīrīšana no zirnekļu tīkliem, citiem netīrumiem 2 reizes gadā. 6) Robežzīmes "Latvijas Republika" uzturēšana - puķu iestādīšana ( 100 gabali zemās samtenes), ravēšana, laistīšana regulāri
