Workbook
Name Dienas: #REF!
Name higiēnas: #REF!
Name Laiks: #REF!

Sheet Vērtēšanas kritēriji
A2: Piedāvājumu vērtēšanas principis
A4: Vērtēšanas kritēriji | C4: Maksimālais punktu skaits | D4: Punktu piešķiršanas metodika
A5: KU1 | B5: CENA PAR VIENU UZKOPŠANAS REIZI par 1 m2 (ja objekta uzkopjamā platība ir līdz 300 m2 )** | C5: 30 | D5: KU1=Czem / Cpied x N
D6: (Czem – viszemāk piedāvātā cena; Cpied – vērtējamā piedāvājuma cena; N – kritērija maksimālā skaitliskā vērtība)
A7: KU2 | B7: CENA PAR VIENU UZKOPŠANAS REIZI par 1 m2 (ja objekta uzkopjamā platība ir no 301 līdz 1000 m2 ) | C7: 5 | D7: KU2=Czem / Cpied x N
D8: (Czem – viszemāk piedāvātā cena; Cpied – vērtējamā piedāvājuma cena; N – kritērija maksimālā skaitliskā vērtība)
A9: KU3 | B9: CENA PAR VIENU UZKOPŠANAS REIZI par 1 m2 (ja objekta uzkopjamā platība ir no 1001 līdz 5000 m2 ) | C9: 5 | D9: KU3=Czem / Cpied x N
D10: (Czem – viszemāk piedāvātā cena; Cpied – vērtējamā piedāvājuma cena; N – kritērija maksimālā skaitliskā vērtība)
A11: KU4 | B11: CENA PAR VIENU UZKOPŠANAS REIZI REIZI par 1 m2 (ja teritorijas uzkopjamā platība līdz 5 000 m2) | C11: 5 | D11: KU4=Czem / Cpied x N
D12: (Czem – viszemāk piedāvātā cena; Cpied – vērtējamā piedāvājuma cena; N – kritērija maksimālā skaitliskā vērtība)
A13: KU5 | B13: CENA PAR VIENU UZKOPŠANAS REIZI par 1 m2 (ja teritorijas uzkopjamā platība no 5 001 m2 līdz 20 000 m2) | C13: 5 | D13: KU5=Czem / Cpied x N
D14: (Czem – viszemāk piedāvātā cena; Cpied – vērtējamā piedāvājuma cena; N – kritērija maksimālā skaitliskā vērtība)
A15: KU6 | B15: CENA PAR VIENU UZKOPŠANAS REIZI par 1 m2 (ja teritorijas uzkopjamā platība no 20 001 m2 līdz 40 000 m2) | C15: 5 | D15: KU6=Czem / Cpied x N
D16: (Czem – viszemāk piedāvātā cena; Cpied – vērtējamā piedāvājuma cena; N – kritērija maksimālā skaitliskā vērtība)
A17: KU7 | B17: CENA PAR VIENU UZKOPŠANAS REIZI par 1 m2 (ja teritorijas uzkopjamā platība no 40 001 m2 līdz 65 000 m2) | C17: 5 | D17: KU7=Czem / Cpied x N
D18: (Czem – viszemāk piedāvātā cena; Cpied – vērtējamā piedāvājuma cena; N – kritērija maksimālā skaitliskā vērtība)
A19: KU8 | B19: CENA PAR VIENU UZKOPŠANAS REIZI par 1 m2 (ja teritorijas uzkopjamā platība no 65 001 m2 līdz 95 000 m2) | C19: 25 | D19: KU8=Czem / Cpied x N
D20: (Czem – viszemāk piedāvātā cena; Cpied – vērtējamā piedāvājuma cena; N – kritērija maksimālā skaitliskā vērtība)
A21: KU9 | B21: CENA PAR VIENU UZKOPŠANAS REIZI par 1 m2 (ja teritorijas uzkopjamā platība 95 001 m2 līdz 120 000 m2) | C21: 5 | D21: KU9=Czem / Cpied x N
D22: (Czem – viszemāk piedāvātā cena; Cpied – vērtējamā piedāvājuma cena; N – kritērija maksimālā skaitliskā vērtība)
A23: KU10 | B23: Higiēnas un telpu uzturēšanas pakalpojumi | C23: 5 | D23: KU10=Czem / Cpied x N
D24: (Czem – viszemāk piedāvātā cena; Cpied – vērtējamā piedāvājuma cena; N – kritērija maksimālā skaitliskā vērtība)
A25: KU11 | B25: PAPILDUS PAKALPOJUMI | C25: 5 | D25: KU11=Czem / Cpied x N
D26: (Czem – viszemāk piedāvātā cena; Cpied – vērtējamā piedāvājuma cena; N – kritērija maksimālā skaitliskā vērtība)
A27: Maksimāli iespējamais punktu skaits | C27: =SUM(C5:C26) -> 100 | D27: KU – kopējais punktu skaits, ņemot vērā tehniskajā piedāvājuma formā un Finanšu piedāvājumā iesniegto informāciju. (KU1+KU2+KU3+KU4+KU5+KU6+KU7+KU8+KU9+KU10+KU11)=(KU) kopējais punktu skaits.
A29: Par saimnieciski visizdevīgāko piedāvājumu tiks atzīts tas pretendents, kurš iegūs visaugstāko punktu skaitu uzkopšanas un inženierkomunikāciju sadaļā, pēc formulas: KU+KI

Sheet Finanšu piedāvājums KU1-KU11
I1: 5.pielikums nolikumam
I2: ID Nr. VNĪ 2026/4/4-4/AK-62
B3: FINANŠU PIEDĀVĀJUMS Nr. 1.1. Atklātam konkursam “Robežkontroles punktu apsaimniekošana” ID Nr. VNĪ 2026/4/4-4/AK-62
B4: IEPIRKUMA 1.DAĻAI
A6: Telpu ikdienas uzkopšana *
A7: NPK | B7: TELPU IKDIENAS UZKOPŠANAS PAKALPOJUMI | C7: OBJEKTA Kadastra Nr. | D7: MINIMĀLĀ OBJEKTA UZKOPJAMĀ PLATĪBA kv.m. | E7: OBJEKTA UZKOPJAMĀ PLATĪBA** | F7: FAKTISKĀ uzkopjamā platība saskaņā ar uzkopšanas intensitātes grafiku (novembris-marts)*** | G7: KU1 Vērtējamā CENA PAR VIENU UZKOPŠANAS REIZI par 1 m2 (ja objekta uzkopjamā platība ir no 200 m2 līdz 300 m2 )** | H7: KU2 Vērtējamā CENA PAR VIENU UZKOPŠANAS REIZI par 1 m2 (ja objekta uzkopjamā platība ir no 301 līdz 1000 m2 )** | I7: KU3 Vērtējamā CENA PAR VIENU UZKOPŠANAS REIZI par 1 m2 (ja objekta uzkopjamā platība ir no 1001 līdz 5000 m2 )**
A8: Nr. | B8: Pakalpojums un Objekta adrese | C8: Kadastra Nr. | D8: kv.m. | E8: kv.m. | F8: kv.m. | G8: EUR bez PVN/ reize m2 | H8: EUR bez PVN/ reize m2 | I8: EUR bez PVN/ reize m2
A9: 1 | B9: Telpu ikdienas uzkopšana SILENE | C9: 4486-006-0072 | D9: 236.5 | E9: ='FAKTISKAIS uzkopšanas biežums'!G166 -> 3359.3 | F9: ='FAKTISKAIS uzkopšanas biežums'!V166 -> 236.5 | G9: 0 | H9: 0 | I9: 0
A10: * Papildu uzkopšanas intensitātes gadījumā norēķini tiek veikti, par pamatu ņemot attiecīgā biežuma vidējo uzkopšanas reižu skaitu mēnesī gada griezumā.
A11: **Objekta uzkopjamā platība ir visu uzkopjamo objekta telpu FAKTISKĀ UZKOPJAMĀ kopējā platība. Aprēķina metodika norādīta pie FAKTISKĀ uzkopšanas biežuma
A12: ***Faktiskā uzkopjamā platība ir viena mēneša laikā faktiskā vidējā uzkoptā platība, ņemot vērā telpu uzkopšanas biežumu. Aprēķina metodika norādīta sadaļā pie uzkopšanas biežuma objekta kopējā uzkopjamā platība mēnesī.
A14: Teritorijas ikdienas uzkopšana *
A15: NPK | B15: TERITORIJAS IKDIENAS UZKOPŠANAS PAKALPOJUMI | C15: OBJEKTA Kadastra Nr. | D15: MINIMĀLĀ OBJEKTA UZKOPJAMĀ PLATĪBA kv.m. | E15: MAKSIMĀLĀ OBJEKTA UZKOPJAMĀ PLATĪBA kv.m. | F15: IEPIRKUMA BRĪDĪ uzkopjamā platība | G15: KU4 Vērtējamā CENA PAR VIENU UZKOPŠANAS REIZI REIZI par 1 m2 (ja teritorijas uzkopjamā platība 5 000 m2) | H15: KU5 Vērtējamā CENA PAR VIENU UZKOPŠANAS REIZI par 1 m2 (ja teritorijas uzkopjamā platība no 5 001 m2 līdz 20 000 m2) | I15: KU6 Vērtējamā CENA PAR VIENU UZKOPŠANAS REIZI par 1 m2 (ja teritorijas uzkopjamā platība no 20 001 m2 līdz 40 000 m2) | J15: KU7 Vērtējamā CENA PAR VIENU UZKOPŠANAS REIZI par 1 m2 (ja teritorijas uzkopjamā platība no 40 001 m2 līdz 65 000 m2) | K15: KU8 Vērtējamā CENA PAR VIENU UZKOPŠANAS REIZI par 1 m2 (ja teritorijas uzkopjamā platība no 65 001 m2 līdz 95 000 m2) | L15: KU9 Vērtējamā CENA PAR VIENU UZKOPŠANAS REIZI par 1 m2 (ja teritorijas uzkopjamā platība no 95 001 m2 līdz 120 000 m2)
A16: Nr. | B16: Pakalpojums un Objekta adrese | C16: Kadastra Nr. | D16: kv.m. | E16: kv.m. | F16: kv.m. | G16: EUR bez PVN/ reize m2 | H16: EUR bez PVN/ reize m2 | I16: EUR bez PVN/ reize m2 | J16: EUR bez PVN/ reize m2 | K16: EUR bez PVN/ reize m2 | L16: EUR bez PVN/ reize m2
A17: 2 | B17: Teritorijas ikdienas uzkopšana SILENE (brauktuves, ietves un cits cietais segums, zāliens) | C17: 4486-006-0072 | D17: 5000 | E17: 120000 | F17: ='Teritorijas sadalījums un ĪP'!E3 -> 82040.7 | G17: 0 | H17: 0 | I17: 0 | J17: 0 | K17: 0 | L17: 0
A18: * Papildu uzkopšanas intensitātes gadījumā norēķini tiek veikti, par pamatu ņemot attiecīgā biežuma vidējo uzkopšanas reižu skaitu mēnesī gada griezumā.
A20: Higiēnas un telpu uzturēšanas pakalpojumi KU10
A21: NPK | B21: KU10.1. HIGIĒNAS MATERIĀLI (pēc fakta) (saskaņā ar Tehniskās specifikācijas . punktu) | C21: OBJEKTA Kadastra Nr. | D21: Provizoriskais viena mēneša apjoms | E21: CENA par vienu vienību (EUR bez PVN) | F21: CENA par MĒNEŠA provizorisko apjomu (Eur bez PVN)
A22: 1 | B22: Roku dvieļi (ruļlos) | C22: 4486-006-0072 | D22: ='Higiēnas preces'!L3 -> 5 | E22: 0 | F22: =D22*E22 -> 0
A23: 2 | B23: Tualetes papīrs (Ruļļos) | D23: ='Higiēnas preces'!K3 -> 5 | E23: 0 | F23: =D23*E23 -> 0
A24: 3 | B24: Putu ziepes (gab) | D24: ='Higiēnas preces'!I3 -> 2 | E24: 0 | F24: =D24*E24 -> 0
A25: 4 | B25: Gaisa atsvaidzinātājs aerosols (gab) | D25: ='Higiēnas preces'!M3 -> 2 | E25: 0 | F25: =D25*E25 -> 0
A26: 5 | B26: Trauku mazgājamais līdzeklis | D26: ='Higiēnas preces'!J3 -> 1 | E26: 0 | F26: =D26*E26 -> 0
A27: 6 | B27: Dezinfekcijas līdzeklis virsmām/rokām izsmidzināms 500ml | D27: ='Higiēnas preces'!H3 -> 1 | E27: 0 | F27: =D27*E27 -> 0
A28: Kopējā cena EUR bez PVN par higiēnas materiāliem (Kritērijs KU10.1.) | F28: =SUM(F22:F27) -> 0
A29: NPK | B29: KU10.2. Maināmie paklāji (pēc fakta) (saskaņā ar Tehniskās specifikācijas . punktu) | C29: OBJEKTA Kadastra Nr. | D29: CENA par vienas vienības maiņu (EUR bez PVN) | E29: Paklāju daudzums | F29: CENA par kopējā daudzuma vienas reizes nomaiņu EUR bez PVN
A30: 1 | B30: Maināmo paklāju nomaiņa 115 x 200 cm (sintētisks) | C30: 4486-006-0072 | D30: 0 | E30: =Paklāji!E3 -> 2 | F30: =D30*E30 -> 0
A31: Kopējā cena EUR bez PVN (Kritērijs KU10.2.) | F31: =SUM(F30:F30) -> 0
A32: NPK | B32: KU10.3. Dežūrpersonāla pakalpojumi (saskaņā ar Tehniskās specifikācijas . punktu) | C32: OBJEKTA Kadastra Nr. | D32: CENA mēnesī (EUR bez PVN) | E32: Ziemas sezonas noteikto mēnešu skaits | F32: Cena par kopējo ziemas sezonu EUR bez PVN
A33: 1 | B33: Dežūrapkopēja ziemas sezonā | C33: 4486-006-0072 | D33: 0 | E33: 6 | F33: =-D33*E33 -> 0
A34: 2 | B34: Dežūrsētnieks ziemas sezonā | D34: 0 | E34: 6 | F34: =-D34*E34 -> 0
A35: Kopējā cena EUR bez PVN (Kritērijs KU10.3.) | F35: =SUM(F33:F34) -> 0
A36: KOPĀ VĒRTĒJAMĀ CENA KU10 = (KU10.1.+KU10.2.+KU10.3.) | F36: =SUM(F35+F31+F28) -> 0
A38: PAPILDUS PAKALPOJUMI (KU11 kritērijs) **
A39: NPK | B39: PAPILDUS PAKALPOJUMI (KU11 kritērijs) ** | C39: MĒRVIENĪBA | D39: CENA PAR MĒRVIENĪBU | E39: PROVIZORISKAIS PAKALPOJUMU APJOMS par reizi (mērvienība) | F39: CENA PAR KOPĒJO APJOMU
A40: Nr. | B40: Pakalpojums | C40: (kv.m., stundas, kubi, gab. u.c.) | D40: (EUR bez PVN) | E40: (kv.m., stundas, kubi, gab. u.c.) | F40: (EUR bez PVN)
A41: 1 | B41: GRĪDAS SEGUMU UZKOPŠANA
A42: 1.1 | B42: Linoleja vaskošana (vecā vaska noņemšana, tīrīšana un vaskošana 2 kārtās) | C42: kvadrātmetrs | D42: 0 | E42: 500 | F42: =D42*E42 -> 0
A43: 1.2 | B43: Linoleja ķīmiskā pulēšana | C43: kvadrātmetrs | D43: 0 | E43: 100 | F43: =D43*E43 -> 0
A44: 1.3 | B44: Linoleja sausā pulēšana | C44: kvadrātmetrs | D44: 0 | E44: 100 | F44: =D44*E44 -> 0
...

Sheet FAKTISKAIS uzkopšanas biežums
A1: RKP SILENE FAKTISKAIS TELPU UZKOPŠANAS BIEŽUMS | K1: Uzkopšanas reize nedēļās dienā (norāda ar x, ja nepieciešams). | R1: Uzkopšanas intensitātes koeficients* | V1: Telpu FAKTISKĀ uzkopjamā platība mēnesī* | W1: ĪPAŠIE NOTEIKUMI
A2: Nr. p.k. | B2: ĒKA | C2: KADASTRA APZĪMĒJUMS | D2: STĀVS | E2: Telpu grupa un telpas Nr. | F2: TELPAS NOSAUKUMS | G2: TELPU PLATĪBA m2 | H2: GRĪDAS SEGUMS | I2: TELPU GRUPA UZKOPŠANAS PROGRAMMĀ | J2: UZKOPŠANAS LAIKS | K2: Pr | L2: Ot | M2: Tr | N2: Ce | O2: Pk | P2: Se | Q2: Sv | R2: Katru dienu (V) | S2: vienu reizi nedēļā (N) | T2: vienu reizi divās nedēļās (D) | U2: vienu reizi mēnesī (M
A3: 1 | B3: Administratīvā ēka | C3: 44860060072001 | D3: 1 | E3: 006 1 | F3: Priekštelpa | G3: 2.8 | H3: Flīzes | I3: Sanitārās telpas | J3: 7:00 - 15:00 | V3: =G3*(R3+S3+T3+U3) -> 0
A4: 2 | B4: Administratīvā ēka | C4: 44860060072001 | D4: 1 | E4: 006 2 | F4: Tualete | G4: 3.6 | H4: Flīzes | I4: Sanitārās telpas | J4: 7:00 - 15:00 | V4: =G4*(R4+S4+T4+U4) -> 0
A5: 3 | B5: Administratīvā ēka | C5: 44860060072001 | D5: 1 | E5: 006 3 | F5: Tualete | G5: 4 | H5: Linolejs | I5: Sanitārās telpas | J5: 7:00 - 15:00 | V5: =G5*(R5+S5+T5+U5) -> 0
A6: 4 | B6: Administratīvā ēka | C6: 44860060072001 | D6: 1 | E6: 006 4 | F6: Iekštelpa | G6: 4.3 | H6: epoksīds | I6: Koplietošanas un publiskās telpas | J6: 7:00 - 15:00 | V6: =G6*(R6+S6+T6+U6) -> 0
A7: 5 | B7: Administratīvā ēka | C7: 44860060072001 | D7: 1 | E7: 006 5 | F7: Tualete | G7: 4.1 | H7: Linolejs | I7: Sanitārās telpas | J7: 7:00 - 15:00 | V7: =G7*(R7+S7+T7+U7) -> 0
A8: 6 | B8: Administratīvā ēka | C8: 44860060072001 | D8: 1 | E8: 006 6 | F8: Pasažieru uzgaidāmā telpa | G8: 61.4 | H8: epoksīds | I8: biroju/darba telpa | J8: 7:00 - 15:00 | V8: =G8*(R8+S8+T8+U8) -> 0
A9: 7 | B9: Administratīvā ēka | C9: 44860060072001 | D9: 1 | E9: 006 7 | F9: Muitas kontroles telpa | G9: 7.7 | H9: Linolejs | I9: biroju/darba telpa | J9: 7:00 - 15:00 | V9: =G9*(R9+S9+T9+U9) -> 0
A10: 8 | B10: Administratīvā ēka | C10: 44860060072001 | D10: 1 | E10: 006 8 | F10: Muitas darba telpa | G10: 14.3 | H10: Linolejs | I10: biroju/darba telpa | J10: 7:00 - 15:00 | V10: =G10*(R10+S10+T10+U10) -> 0
A11: 9 | B11: Administratīvā ēka | C11: 44860060072001 | D11: 1 | E11: 006 9 | F11: VRS kontroles telpa | G11: 9.4 | H11: Linolejs | I11: biroju/darba telpa | J11: 7:00 - 15:00 | V11: =G11*(R11+S11+T11+U11) -> 0
A12: 10 | B12: Administratīvā ēka | C12: 44860060072001 | D12: 1 | E12: 006 10 | F12: Robežkontroles kabīne | G12: 4 | H12: Linolejs | I12: biroju/darba telpa | J12: 7:00 - 15:00 | V12: =G12*(R12+S12+T12+U12) -> 0
A13: 11 | B13: Administratīvā ēka | C13: 44860060072001 | D13: 1 | E13: 006 11 | F13: Iekštelpa | G13: 17.8 | H13: epoksīds | I13: Koplietošanas un publiskās telpas | J13: 7:00 - 15:00 | V13: =G13*(R13+S13+T13+U13) -> 0
A14: 12 | B14: Administratīvā ēka | C14: 44860060072001 | D14: 1 | E14: 006 12 | F14: Robežkontroles kabīne | G14: 4 | H14: Flīzes | I14: biroju/darba telpa | J14: 7:00 - 15:00 | V14: =G14*(R14+S14+T14+U14) -> 0
... A19: 17 | B19: Administratīvā ēka | C19: 44860060072001 | D19: 1 | E19: 006 17 | F19: Robežkontroles telpa | G19: 71.9 | H19: epoksīds | I19: biroju/darba telpa | J19: 7:00 - 15:00 | V19: =G19*(R19+S19+T19+U19) -> 0
A20: 18 | B20: Administratīvā ēka | C20: 44860060072001 | D20: 1 | E20: 006 18 | F20: Apmeklētāju zāle | G20: 119.5 | H20: Flīzes | I20: biroju/darba telpa | J20: 7:00 - 15:00 | S20: 4.3 | U20: 1 | V20: =15*(R20+S20+T20) -> 64.5 | W20: No kopējās telpas platības uzkopjam tikai 15 m2.
A21: 19 | B21: Administratīvā ēka | C21: 44860060072001 | D21: 1 | E21: 006 19 | F21: Apmeklētāju zāle | G21: 109.4 | H21: Flīzes | I21: biroju/darba telpa | J21: 7:00 - 15:00 | S21: 4.3 | U21: 1 | V21: =15.5*(R21+S21+T21) -> 66.65 | W21: No kopējās telpas platības uzkopjam tikai 15,5 m2.
A22: 20 | B22: Administratīvā ēka | C22: 44860060072001 | D22: 1 | E22: 006 20 | F22: Kabinets | G22: 15.8 | H22: Linolejs | I22: biroju/darba telpa | J22: 7:00 - 15:00 | V22: =G22*(R22+S22+T22+U22) -> 0
A23: 21 | B23: Administratīvā ēka | C23: 44860060072001 | D23: 1 | E23: 006 21 | F23: Kabinets | G23: 15.8 | H23: Linolejs | I23: biroju/darba telpa | J23: 7:00 - 15:00 | V23: =G23*(R23+S23+T23+U23) -> 0
A24: 22 | B24: Administratīvā ēka | C24: 44860060072001 | D24: 1 | E24: 006 22 | F24: Kabinets | G24: 32 | H24: Linolejs | I24: biroju/darba telpa | J24: 7:00 - 15:00 | V24: =G24*(R24+S24+T24+U24) -> 0
A25: 23 | B25: Administratīvā ēka | C25: 44860060072001 | D25: 1 | E25: 006 23 | F25: Kabinets | G25: 15.9 | H25: Linolejs | I25: biroju/darba telpa | J25: 7:00 - 15:00 | V25: =G25*(R25+S25+T25+U25) -> 0
A26: 24 | B26: Administratīvā ēka | C26: 44860060072001 | D26: 1 | E26: 006 24 | F26: Kabinets | G26: 15.9 | H26: Linolejs | I26: biroju/darba telpa | J26: 7:00 - 15:00 | V26: =G26*(R26+S26+T26+U26) -> 0
A27: 25 | B27: Administratīvā ēka | C27: 44860060072001 | D27: 1 | E27: 006 25 | F27: Kabinets | G27: 15.9 | H27: Linolejs | I27: biroju/darba telpa | J27: 7:00 - 15:00 | V27: =G27*(R27+S27+T27+U27) -> 0
A28: 26 | B28: Administratīvā ēka | C28: 44860060072001 | D28: 1 | E28: 006 26 | F28: Kabinets | G28: 12.5 | H28: Linolejs | I28: biroju/darba telpa | J28: 7:00 - 15:00 | V28: =G28*(R28+S28+T28+U28) -> 0
A29: 27 | B29: Administratīvā ēka | C29: 44860060072001 | D29: 1 | E29: 006 27 | F29: Laboratorija | G29: 2.4 | H29: Flīzes | I29: biroju/darba telpa | J29: 7:00 - 15:00 | V29: =G29*(R29+S29+T29+U29) -> 0
A30: 28 | B30: Administratīvā ēka | C30: 44860060072001 | D30: 1 | E30: 006 28 | F30: Tualete | G30: 2 | H30: Flīzes | I30: Sanitārās telpas | J30: 7:00 - 15:00 | S30: 4.3 | U30: 1 | V30: =G30*(R30+S30+T30) -> 8.6
A31: 29 | B31: Administratīvā ēka | C31: 44860060072001 | D31: 1 | E31: 006 29 | F31: Bēgļu telpa | G31: 9.8 | H31: Linolejs | I31: biroju/darba telpa | J31: 7:00 - 15:00 | V31: =G31*(R31+S31+T31+U31) -> 0
A32: 30 | B32: Administratīvā ēka | C32: 44860060072001 | D32: 1 | E32: 006 30 | F32: Bēgļu telpa | G32: 9.4 | H32: Linolejs | I32: biroju/darba telpa | J32: 7:00 - 15:00 | V32: =G32*(R32+S32+T32+U32) -> 0
A33: 31 | B33: Administratīvā ēka | C33: 44860060072001 | D33: 1 | E33: 006 31 | F33: Kinologa telpa | G33: 5 | H33: Linolejs | I33: Sanitārās telpas | J33: 7:00 - 15:00 | V33: =G33*(R33+S33+T33+U33) -> 0
A34: 32 | B34: Administratīvā ēka | C34: 44860060072001 | D34: 1 | E34: 006 32 | F34: Aizturēto telpa | G34: 6 | H34: Linolejs | I34: biroju/darba telpa | J34: 7:00 - 15:00 | V34: =G34*(R34+S34+T34+U34) -> 0
A35: 33 | B35: Administratīvā ēka | C35: 44860060072001 | D35: 1 | E35: 006 33 | F35: Koridors, dušas telpa | G35: 3.8 | H35: Flīzes | I35: Sanitārās telpas | J35: 7:00 - 15:00 | V35: =G35*(R35+S35+T35+U35) -> 0
A36: 34 | B36: Administratīvā ēka | C36: 44860060072001 | D36: 1 | E36: 006 34 | F36: Koridors | G36: 5.9 | H36: Flīzes | I36: Koplietošanas un publiskās telpas | J36: 7:00 - 15:00 | V36: =G36*(R36+S36+T36) -> 0
A37: 35 | B37: Administratīvā ēka | C37: 44860060072001 | D37: 1 | E37: 006 35 | F37: Dežūrtelpa, apkopējas noliktava | G37: 4.1 | H37: Flīzes | I37: Sanitārās telpas | J37: 7:00 - 15:00 | V37: =G37*(R37+S37+T37+U37) -> 0
A38: 36 | B38: Administratīvā ēka | C38: 44860060072001 | D38: 1 | E38: 006 36 | F38: Mazgāšanas telpa, tualete | G38: 13.7 | H38: Flīzes | I38: Sanitārās telpas | J38: 7:00 - 15:00 | V38: =G38*(R38+S38+T38+U38) -> 0
A39: 37 | B39: Administratīvā ēka | C39: 44860060072001 | D39: 1 | E39: 006 37 | F39: Mazgāšanas telpa, tualete | G39: 13.8 | H39: Flīzes | I39: Sanitārās telpas | J39: 7:00 - 15:00 | V39: =G39*(R39+S39+T39+U39) -> 0
A40: 38 | B40: Administratīvā ēka | C40: 44860060072001 | D40: 1 | E40: 006 38 | F40: Koridors, kāpņu telpa | G40: 50.5 | H40: Flīzes | I40: Koplietošanas un publiskās telpas | J40: 7:00 - 15:00 | V40: =G40*(R40+S40+T40+U40) -> 0
A41: 39 | B41: Administratīvā ēka | C41: 44860060072001 | D41: 1 | E41: 006 39 | F41: Tualete | G41: 13.9 | H41: Flīzes | I41: Sanitārās telpas | J41: 7:00 - 15:00 | V41: =G41*(R41+S41+T41+U41) -> 0
A42: 40 | B42: Administratīvā ēka | C42: 44860060072001 | D42: 1 | E42: 006 40 | F42: Dežūrtelpa/apkopējas noliktava | G42: 4 | H42: Flīzes | I42: Sanitārās telpas | J42: 7:00 - 15:00 | V42: =G42*(R42+S42+T42+U42) -> 0
A43: 41 | B43: Administratīvā ēka | C43: 44860060072001 | D43: 1 | E43: 006 41 | F43: Koridors | G43: 5.5 | H43: Flīzes | I43: Koplietošanas un publiskās telpas | J43: 7:00 - 15:00 | V43: =G43*(R43+S43+T43) -> 0
A44: 42 | B44: Administratīvā ēka | C44: 44860060072001 | D44: 1 | E44: 006 42 | F44: Koridors, dušas telpa | G44: 3.5 | H44: Flīzes | I44: Sanitārās telpas | J44: 7:00 - 15:00 | V44: =G44*(R44+S44+T44+U44) -> 0
...

Sheet Telpu_Uzkopjamā platība

Sheet Telpu ikdienas UP
C1: KVALITĀTES LĪMENIS
B2: TELPU IKDIENAS UZKOPŠANAS PAKALPOJUMI | C2: MĒBELES PIEDERUMI | D2: GRĪDAS | E2: SIENAS | F2: GRIESTI
B3: BIROJU/ DARBA TELPAS, ZĀLES, EKSPOZĪCIJU ZĀLES | C3: 4 | D3: 4 | E3: 4 | F3: 3
B4: Atkritumu grozu tukšošana un maisiņu nomaiņa *
B5: Ādas mēbeļu tīrīšana ar atbilstošu līdzekli
B6: Cietā grīdas seguma mitrā uzkopšana telpās
B7: Durvju rokturu tīrīšana ar dezinficējošu līdzekli
B8: Elektroslēdžu un rozešu mitrā tīrīšana
B9: Gaismas ķermeņu un reljefu interjera elementu tīrīšana līdz 2 m augstumam
B10: Brīvo galda virsmu mitrā tīrīšana, ja uz virsmas izklaidus nav papīri **
B11: Grīdlīstšu un ventilācijas restu mitrā tīrīšana
B12: Horizontālo un vertikālo virsmu mitrā tīrīšana (skapji, plaukti, palodzes, galdi, krēsli)
B13: Krēslu kāju mitrā tīrīšana
B14: Lokālu traipu tīrīšana no horizontālām un vertikālajām virsmām (skapji, plaukti, galdi, krēsli, durvis, sienas, stikla starpsienas)
B15: Mīkstā grīdas seguma (ja tāds ir) izsūkšana ar putekļusūcēju
B16: Mīksto mēbeļu (ja tādas ir) izsūkšana ar putekļu sūcēju
B17: SANITĀRĀS, VIRTUVES TELPAS | C17: 4 | D17: 4 | E17: 4 | F17: 3
B18: Atkritumu grozu tukšošana un maisiņu nomaiņa *
B19: Atkritumu tvertnes mazgāšana un dezinficēšana
B20: Cietā grīdas seguma mitrā uzkopšana ar dezinficējošu līdzekli
B21: Durvju rokturu tīrīšana ar dezinficējošu līdzekli
B22: Duškabīnes, dušas stūra vai vannas (ja tāda telpā uzstādīta) tīrīšana
B23: Gaismas ķermeņu un reljefu interjera elementu tīrīšana līdz 2 m augstumam
B24: Grīdlīstšu un ventilācijas restu mitrā tīrīšana
B25: Higiēnas preču turētāju mitrā tīrīšana
B26: Higiēnas preču papildināšana
B27: Higiēnas preču piegāde
B28: Horizontālo un vertikālo virsmu mitrā tīrīšana (skapji, plaukti, palodzes, galdi, krēsli)
B29: Lokālu traipu tīrīšana no horizontālajām un vertikālām virsmām
... B37: WC gaisa atsvaidzinātāja nodrošināšana
B38: KOPLIETOŠANAS TELPAS | C38: 3 | D38: 3 | E38: 3 | F38: 2
B39: Atkritumu grozu tukšošana un maisiņu nomaiņa *
B40: Ādas mēbeļu tīrīšana ar atbilstošu līdzekli
B41: Cietā grīdas seguma mitrā uzkopšana
B42: Durvju rokturu tīrīšana ar dezinficējošu līdzekli
B43: Elektroslēdžu un rozešu mitrā tīrīšana
B44: Gaismas ķermeņu un reljefu interjera elemntu tīrīšana līdz 2m augstumam
B45: Grīdlīstšu un ventilācijas restu mitrā tīrīšana
B46: Horizontālo un vertikālo virsmu mitrā tīrīšana (skapji, plaukti, palodzes, galdi, krēsli)
B47: Krēslu kāju mitrā tīrīšana
...

Sheet Telpu sadalījums un ĪP
F2: SADALĪJUMS PA TELPU GRUPĀM
B3: NPK | C3: OBJEKTS | D3: TELPU KOPĒJĀ PLATĪBA (m²) | F3: Ārtelpa | G3: Biroju/darba telpas | H3: Koplietošanas telpas | I3: Sanitārās telpas | J3: Tehniskās telpas | M3: ĪPAŠĀS PRASĪBAS (JĀŅEM VĒRĀ)
B4: Nr. | C4: Nosaukums | D4: (m²) | F4: (m²) | G4: (m²) | H4: (m²) | I4: (m²) | J4: (m²)
B5: 1 | C5: SILENE | D5: =SUM(F5:J5) -> 3359.3 | F5: 0 | G5: 1792.7 | H5: 314.5 | I5: 366 | J5: 886.1 | M5: Pēc dzīvnieku uzturēšanās dzīvnieku novietnēs, attiecīgo telpu mazgāšana ir jāveic izmantojot augstspiediena iekārtu. PVD telpu uzkopšana jāveic saskaņā ar PVD prasībām.

Sheet Cilvēku plūsma
B5: SILENE | C5: Pilnas noslodzes gadījumā | D5: Zemas noslodzes gadījumā
B6: Darbinieki (12 h diennaktī strādājošo skaits) | C6: 40 | D6: 30
B7: Kravas automašīnas (24h diennaktī vidēji šķērso): | C7: 200 | D7: 100
B8: Vieglās automašīnas (24h diennaktī vidēji šķērso): | C8: 150 | D8: 50

Sheet Higiēnas preces
B2: NPK | C2: OBJEKTS | D2: ROKU DVIEĻI | E2: TUALETES PAPĪRS | F2: ZIEPES ROKU MAZGĀŠANAI | G2: GAISA ATSVAIDZINĀTĀJS UN BIRSTE (WC telpās) | H2: DEZINFEKCIJAS LĪDZEKLIS virsmām/rokām izsmidzināms 500ml (vestibilos pie ieejas un klientu zonās ) * | I2: PUTU ZIEPES (gab) * | J2: TRAUKU MAZGĀJAMAIS LĪDZEKLIS UN ŠVAMME (virtuvē) * | K2: TUALETES PAPĪRS (ruļļi) * | L2: ROKU DVIEĻI (ruļļi) * | M2: GAISA ATSVAIDZINĀTĀJS WC telpās (skaits) *
B3: 1 | C3: SILENE | D3: Tork H1 Advanced baltā krāsā (ar sensoru) sistēmai vai ekvivalents | E3: Tork T6 sistēmai/Tork Mini Jumbo Advanced vai ekvivalents | F3: Tork S4 (putu) sistēmai vai ekvivalents | G3: Aerosola | H3: 1 | I3: 2 | J3: 1 | K3: 5 | L3: 5 | M3: 2
D6: * patēriņš vidēji mēnesī

Sheet Paklāji
B2: Objekts | C2: Izmērs (cm) | D2: Krāsa, materiāls | E2: Daudzums | F2: Ziemas sezonā (01.11.-31.03) | G2: Vasaras sezonā (01.04.-31.10.)
B3: SILENE | C3: 115 x 200 | D3: pelēks, sintētisks | E3: 2 | F3: Reizi nedēļā | G3: Reizi divās nedēļās

Sheet Silene_Teritorijas tīrīšana

Sheet Teritorijas ikdienas UP
B2: NPK | C2: TERITORIJAS IKDIENAS UZKOPŠANĀ VEICAMIE DARBI | D2: 1xdiennaktī līdz plkst.:08:00 | E2: 2x diennaktī | F2: Intensīvas snigšanas gadījumā, ne retāk kā ik pa 4h (no 06:00 - 22:00) | G2: 1 x nedēļā | H2: 1x mēnesī | I2: Pēc nepieciešamības
B3: ZIEMAS SEZONĀ (novembris-marts)₁
B4: 1. | C4: Trotuāri, ietves, gājēju celiņi (ar speciālu segumu), autostāvvietas, veloceliņi, pagalmi, iebrauktuves, lieveņi, ieejas pakāpieni
B5: 1.1 | C5: Objekta apsekošana (ne retāk kā 1x 2 nedēļās) | I5: X
B6: 1.2 | C6: Slaucīšana, ja nekrīt sniegs | I6: X
B7: 1.3 | C7: Attīrīšana no sniega un ledus, kaisīšana ar pretslīdes materiāliem | I7: X
B8: 1.4 | C8: Attīrīšana no apledojuma atkalas laikā (ar ledus cirtni), kaisīšana ar smilšu un sāls maisījumu | I8: X
B9: 1.5 | C9: Kanalizācijas aku vāku un hidrantu attīrīšana no sniega | I9: X
B10: 1.6 | C10: Atkritumu konteineru novietnes laukuma uzturēšana kārtībā | I10: X
B11: 1.7 | C11: Atkritumu urnu tukšošana un maisiņu nomaiņa atkritumu tvertnēs teritorijā | I11: X
B12: 1.8 | C12: Attīrīšana no sniega un ledus intensīvas snigšanas gadījumā (kolīdz sniega biezums pārsniedz 2 cm) un kaisīšana ar pretslīdes materiālu | I12: X
B13: 1.9 | C13: Ēku ieejas mezglu uzturēšana, attīrīšana no ledus un sniega, un kaisīšana ar pretslīdes materiāliem | I13: X
B14: 1.1 | C14: Kaisīšana ar pretslīdes materiālu atkalas laikā | I14: X
B15: 1.11 | C15: Atkritumu tvertņu korpusu tīrīšana no ārpuses | I15: X
B16: 1.12 | C16: Lielgabarīta atkritumu izvešanas organizēšana (ja tādi novietoti blakus atkritumu konteineriem) | I16: X
... B21: 1.17 | C21: Koku, krūmu vai aizlūzušu zaru apzāģēšana vietās, kur tiek traucēta gājēju un transporta kustība vai tie bojā sētu (t.sk. nozāģēto zaru izvešana un nepieciešamo mehānisko līdzekļu noma) ² | I21: X
B22: 2. | C22: Zālāji un citi laukumi, kuri netiek izmantoti, lai pārvietotos
B23: 2.1 | C23: Atkritumu savākšana | I23: X
B24: 3 | C24: Citi
B25: 3.1 | C25: Ēkas jumta un noteku tīrīšana (no sniega, ledus, gružiem, koku lapām un zariem, putnu radītiem atkritumiem) | I25: X
B26: 3.2 | C26: Ēkas fasādes tīrīšana | I26: X
B27: 3.4 | C27: Teritorijā esošo nojumju, koku stumbru un sakņu aizsarg-apmaļu, soliņu un velosipēdu novietņu (stendu/statīvu) uzturēšana tīrībā | I27: X
B28: 3.5 | C28: Teritorijā esošo kravas pacēlāju un piegādes rampu, ja tādas atrodas teritorijā, uzturēšana tīrībā | I28: X
B29: 3.6 | C29: Teritorijā esošo apgaismes ķermeņu, apgaismes stabu, nožogojumu, barjeru un norāžu uzturēšana tīrībā | I29: X
B30: 3.7 | C30: Teritorijā esošo koku un apstādījumu uzturēšana (kokkopja, arborista paklapojumi lūzušu koku gadījumā) | I30: X
B31: 3.8 | C31: Atkritumu (kartona kastu, iepakojumu, makulatūras un citu atkritumu) nogādāšana no iekštelpām līdz konteineriem un sadzīves atkritumu daudzuma fiksēšana uzskaites žurnālā. | I31: X
B32: 3.9 | C32: Bīstamo atkritumu uzskaite un nodošana utilizācijai. | I32: X
B33: 3.1 | C33: Konteineru, kur tiek izmesti dzīvnieku izcelsmes produkti, vienreizējās lietošanas maisu nomaiņa vismaz 1 x diennaktī (plkst.8.00 un 17.00), izņemto atkritumu svēršana un nogādāšana uz saldētavu PVD ēkā, atkritumu konteineru mazgāšana un dezinficēšana pēc nepieciešamības, bet ne retāk kā 2 x mēnesī. Dezinfekcijas līdzekļu izmaksas sedz VID. | I33: X
B34: 3.11. | C34: Novadgrāvju tīrīšana (krūmu izciršana) | I34: X
B35: 3.12. | C35: Saldējamās kameras dezinficēšanu veic pēc PVD pieteikuma, dezinfekcijas līdzekļus nodrošina PVD. | I35: X
B36: VASARAS SEZONĀ (aprīlis-oktobris)
B37: 4 | C37: Trotuāri, ietves, gājēju celiņi (ar speciālu segumu), autostāvvietas, veloceliņi, pagalmi, iebrauktuves, lieveņi, ieejas pakāpieni
B38: 4.1 | C38: Objekta apsekošana (ne retāk kā 1x 2 nedēļās) | I38: X
B39: 4.2 | C39: Teritorijas slaucīšana | I39: X
B40: 4.3 | C40: Atkritumu urnu tukšošana un maisiņu nomaiņa atkritumu tvertnēs teritorijā | I40: X
B41: 4.4 | C41: Atkritumu tvertņu korpusu tīrīšana no ārpuses | I41: X
B42: 4.5 | C42: Atkritumu tvertņu novietnes laukuma slaucīšana | I42: X
B43: 4.6 | C43: Lielgabarīta atkritumu izvešanas organizēšana (ja tādi novietoti blakus atkritumu konteineriem) | I43: X
B44: 4.7 | C44: Bīstamo vietu (bedres, ūdenstilpnes utml) norobežošana ar speciālo lenti | I44: X
B45: 4.8 | C45: Karoga izkāršana atbilstošā noformējumā saskaņā ar LR likumdošanu ¹ , karogu mastu uzturēšana un karogu nomaiņa (t.sk.iegāde) to bojājumu gadījumos | I45: X
...

Sheet Teritorijas sadalījums un ĪP
B2: NPK | C2: OBJEKTS | D2: KOPĒJĀ PLATĪBA (m²) | E2: KOPĒJĀ TERITORIJAS UZKOPJAMĀ PLATĪBA (m²) (IZŅEMOT PLATĪBU, KURA TIEK UZKOPTA PĒC PIEPRASĪJUMA) | F2: Ietvju platība, cietais segums iežogotā teritorija un piebraukšana (m²) | G2: Zāliena platība iežogotajā teritorijā (m²) | H2: Zāliena un krūmāju platība, kura tiek kopta PĒC PIEPRASĪJUMA (m²) | I2: Jānodrošina karoga izkāršana (karogu skaits) | J2: Sniega izvešana jānodrošina | K2: ĪPAŠĀS PRASĪBAS (JĀŅEM VĒRĀ)
B3: 1 | C3: SILENE | D3: =SUM(F3:H3) -> 116040.7 | E3: =F3+G3 -> 82040.7 | F3: 50775 | G3: 31265.7 | H3: 34000 | I3: 2 | J3: Sniegšanas laikā tiek tīrītas 3m platas joslas braucamajai daļai RKP teritorijā kā arī laukumi pie ārdurvīm. Kopējais sniega tīrīšanas apjoms 3900m2. | K3: 1) Objektā teritorijas uzkopšanā jābūt nodarbinātiem ne mazāk kā 3 sētniekiem gadījumos, kad nakts periodā ir bijusi spēcīga snigšana vai novērojama stipra snigšana dienas periodā, kā arī, lai novērstu uz ietvēm un ceļa segumiem radušos apledojumu. 2) Teritorijā izvietoti 2 karogi (Latvijas un Eiropas), karogu izmēri 2m x 1m. 3) Ziemas periodā jāizmanto dzīvniekiem draudzīgs pretslīdes materiāls. 4) Vasaras sezonā vismaz 2 reizes pļaut zālāju aiz RKP iežogotās teritorijas. 5) Robežzīmes "Latvijas Republika" uzturēšana - burtu un ģerboņa attīrīšana no zirnekļu tīkliem, citiem netīrumiem 2 reizes gadā. 6) Robežzīmes "Latvijas Republika" uzturēšana - puķu iestādīšana ( 100 gabali zemās samtenes), ravēšana, laistīšana regulāri
