Workbook
Name Dienas: #REF!
Name higiēnas: #REF!
Name Laiks: #REF!

Sheet VĒRTĒŠANAS KRITĒRIJI
A2: Piedāvājumu vērtēšanas principis
A4: Vērtēšanas kritērijs | C4: Maksimālais punktu skaits | D4: Punktu piešķiršanas metodika
A5: KU1 | B5: CENA PAR VIENU UZKOPŠANAS REIZI par 1 m2 (ja objekta uzkopjamā platība ir līdz 500 m2 )** | C5: 5 | D5: KU1=Czem / Cpied x N
D6: (Czem – viszemāk piedāvātā cena; Cpied – vērtējamā piedāvājuma cena; N – kritērija maksimālā skaitliskā vērtība)
A7: KU2 | B7: CENA PAR VIENU UZKOPŠANAS REIZI par 1 m2 (ja objekta uzkopjamā platība ir no 501 līdz 1000 m2 ) | C7: 5 | D7: KU2=Czem / Cpied x N
D8: (Czem – viszemāk piedāvātā cena; Cpied – vērtējamā piedāvājuma cena; N – kritērija maksimālā skaitliskā vērtība)
A9: KU3 | B9: CENA PAR VIENU UZKOPŠANAS REIZI par 1 m2 (ja objekta uzkopjamā platība ir no 1001 līdz 5000 m2 ) | C9: 35 | D9: KU3=Czem / Cpied x N
D10: (Czem – viszemāk piedāvātā cena; Cpied – vērtējamā piedāvājuma cena; N – kritērija maksimālā skaitliskā vērtība)
A11: KU4 | B11: CENA PAR VIENU UZKOPŠANAS REIZI REIZI par 1 m2 (ja teritorijas uzkopjamā platība līdz 5 000 m2) | C11: 5 | D11: KU4=Czem / Cpied x N
D12: (Czem – viszemāk piedāvātā cena; Cpied – vērtējamā piedāvājuma cena; N – kritērija maksimālā skaitliskā vērtība)
A13: KU5 | B13: CENA PAR VIENU UZKOPŠANAS REIZI par 1 m2 (ja teritorijas uzkopjamā platība no 5 001 m2 līdz 20 000 m2) | C13: 5 | D13: KU5=Czem / Cpied x N
D14: (Czem – viszemāk piedāvātā cena; Cpied – vērtējamā piedāvājuma cena; N – kritērija maksimālā skaitliskā vērtība)
A15: KU6 | B15: CENA PAR VIENU UZKOPŠANAS REIZI par 1 m2 (ja teritorijas uzkopjamā platība no 20 001 m2 līdz 40 000 m2) | C15: 5 | D15: KU6=Czem / Cpied x N
D16: (Czem – viszemāk piedāvātā cena; Cpied – vērtējamā piedāvājuma cena; N – kritērija maksimālā skaitliskā vērtība)
A17: KU7 | B17: CENA PAR VIENU UZKOPŠANAS REIZI par 1 m2 (ja teritorijas uzkopjamā platība no 40 001 m2 līdz 65 000 m2) | C17: 30 | D17: KU7=Czem / Cpied x N
D18: (Czem – viszemāk piedāvātā cena; Cpied – vērtējamā piedāvājuma cena; N – kritērija maksimālā skaitliskā vērtība)
A19: KU8 | B19: Higiēnas un telpu uzturēšanas pakalpojumi | C19: 5 | D19: KU8=Czem / Cpied x N
D20: (Czem – viszemāk piedāvātā cena; Cpied – vērtējamā piedāvājuma cena; N – kritērija maksimālā skaitliskā vērtība)
A21: KU9 | B21: PAPILDUS PAKALPOJUMI | C21: 5 | D21: KU9=Czem / Cpied x N
D22: (Czem – viszemāk piedāvātā cena; Cpied – vērtējamā piedāvājuma cena; N – kritērija maksimālā skaitliskā vērtība)
A23: Maksimāli iespējamais punktu skaits | C23: =SUM(C5:C22) -> 100 | D23: KU – kopējais punktu skaits, ņemot vērā tehniskajā piedāvājuma formā un Finanšu piedāvājumā iesniegto informāciju. (KU1+KU2+KU3+KU4+KU5+KU6+KU7+KU8+KU9)=(KU) kopējais punktu skaits.
A25: Par saimnieciski visizdevīgāko piedāvājumu tiks atzīts tas pretendents, kurš iegūs visaugstāko punktu skaitu uzkopšanas un inženierkomunikāciju sadaļā, pēc formulas: KU+KI

Sheet Finanšu piedāvājums_KU1-KU9
H1: 5.pielikums nolikumam
H2: ID Nr. VNĪ 2026/4/4-4/AK-62
A3: FINANŠU PIEDĀVĀJUMS Nr. 4.1. Atklātam konkursam “Robežkontroles punktu apsaimniekošana” ID Nr. VNĪ 2026/4/4-4/AK-62
B4: IEPIRKUMA 4.DAĻA
A5: Telpu ikdienas uzkopšana *
A6: NPK | B6: TELPU IKDIENAS UZKOPŠANAS PAKALPOJUMI | C6: OBJEKTA Kadastra Nr. | D6: MINIMĀLĀ OBJEKTA UZKOPJAMĀ PLATĪBA kv.m. | E6: OBJEKTA UZKOPJAMĀ PLATĪBA** | F6: FAKTISKĀ uzkopjamā platība saskaņā ar uzkopšanas intensitātes grafiku mēnesī*** | G6: KU1 Vērtējamā CENA PAR VIENU UZKOPŠANAS REIZI par 1 m2 (ja objekta uzkopjamā platība ir no 200 m2 līdz 500 m2)** | H6: KU2 Vērtējamā CENA PAR VIENU UZKOPŠANAS REIZI par 1 m2 (ja objekta uzkopjamā platība ir no 501 līdz 1000 m2 )** | I6: KU3 Vērtējamā CENA PAR VIENU UZKOPŠANAS REIZI par 1 m2 (ja objekta uzkopjamā platība ir no 1001 līdz 5000 m2 )**
A7: Nr. | B7: Pakalpojums un Objekta adrese | C7: Kadastra Nr. | D7: kv.m. | E7: kv.m. | F7: kv.m. | G7: EUR bez PVN/ reize m2 | H7: EUR bez PVN/ reize m2 | I7: EUR bez PVN/ reize m2
A8: 1 | B8: Telpu ikdienas uzkopšana Pātarnieki | C8: 6084-005-0062 | D8: 200 | E8: ='FAKTISKĀS uzkopšanas biežums'!G248 -> 4871 | F8: ='FAKTISKĀS uzkopšanas biežums'!Z247 -> 85179.35 | G8: 0 | H8: 0 | I8: 0
A9: * Papildu uzkopšanas intensitātes gadījumā norēķini tiek veikti, par pamatu ņemot attiecīgā biežuma vidējo uzkopšanas reižu skaitu mēnesī gada griezumā.
A10: **Objekta uzkopjamā platība ir visu uzkopjamo objekta telpu FAKTISKĀ UZKOPJAMĀ kopējā platība. Aprēķina metodika norādīta pie FAKTISKĀuzkopšanas biežuma
A11: ***Faktiskā uzkopjamā platība ir viena mēneša laikā faktiskā vidējā uzkoptā platība, ņemot vērā telpu uzkopšanas biežumu. Aprēķina metodika norādīta sadaļā pie uzkopšanas biežuma objekta kopējā uzkopjamā platība mēnesī.
A13: Teritorijas ikdienas uzkopšana *
A14: NPK | B14: TERITORIJAS IKDIENAS UZKOPŠANAS PAKALPOJUMI | C14: OBJEKTA Kadastra Nr. | D14: MINIMĀLĀ OBJEKTA UZKOPJAMĀ PLATĪBA kv.m. | E14: MAKSIMĀLĀ OBJEKTA UZKOPJAMĀ PLATĪBA kv.m. | F14: IEPIRKUMA BRĪDĪ uzkopjamā platība | G14: KU4 Vērtējamā CENA PAR VIENU UZKOPŠANAS REIZI REIZI par 1 m2 (ja teritorijas uzkopjamā platība 5 000 m2) | H14: KU5 Vērtējamā CENA PAR VIENU UZKOPŠANAS REIZI par 1 m2 (ja teritorijas uzkopjamā platība no 5 001 m2 līdz 20 000 m2) | I14: KU6 Vērtējamā CENA PAR VIENU UZKOPŠANAS REIZI par 1 m2 (ja teritorijas uzkopjamā platība no 20 001 m2 līdz 40 000 m2) | J14: KU7 Vērtējamā CENA PAR VIENU UZKOPŠANAS REIZI par 1 m2 (ja teritorijas uzkopjamā platība no 40 001 m2 līdz 65 000 m2)
A15: Nr. | B15: Pakalpojums un Objekta adrese | C15: Kadastra Nr. | D15: kv.m. | E15: kv.m. | F15: kv.m. | G15: EUR bez PVN/m2 | H15: EUR bez PVN/m2 | I15: EUR bez PVN/m2 | J15: EUR bez PVN/m2
A16: 2 | B16: Teritorijas ikdienas uzkopšana Pātarnieki (brauktuves, ietves un cits cietais segums, zāliens) | C16: 6084-005-0062 | D16: 5000 | E16: 65000 | F16: ='Teritorijas sadalījums un ĪP'!D3 -> 57360 | G16: 0 | H16: 0 | I16: 0 | J16: 0
A17: * Papildu uzkopšanas intensitātes gadījumā norēķini tiek veikti, par pamatu ņemot attiecīgā biežuma vidējo uzkopšanas reižu skaitu mēnesī gada griezumā.
A19: Higiēnas un telpu uzturēšanas pakalpojumi KU8
A20: NPK | B20: KU8.1. HIGIĒNAS MATERIĀLI (pēc fakta) (saskaņā ar Tehniskās specifikācijas . punktu) | C20: OBJEKTA Kadastra Nr. | D20: Provizoriskais viena mēneša apjoms | E20: CENA par vienu vienību (EUR bez PVN) | F20: CENA par MĒNEŠA provizorisko apjomu (Eur bez PVN)
A21: 1 | B21: Roku dvieļi (ruļlos) | C21: 6084-005-0062 | D21: ='Higiēnas preces'!L3 -> 75 | E21: 0 | F21: =D21*E21 -> 0
A22: 2 | B22: Tualetes papīrs (Ruļļos) | D22: ='Higiēnas preces'!K3 -> 120 | E22: 0 | F22: =D22*E22 -> 0
A23: 3 | B23: Putu ziepes (gab) | D23: ='Higiēnas preces'!I3 -> 20 | E23: 0 | F23: =D23*E23 -> 0
A24: 4 | B24: Gaisa atsvaidzinātājs aerosols (gab) | D24: ='Higiēnas preces'!M3 -> 20 | E24: 0 | F24: =D24*E24 -> 0
A25: 5 | B25: Trauku mazgājamais līdzeklis | D25: ='Higiēnas preces'!J3 -> 10 | E25: 0 | F25: =D25*E25 -> 0
A26: 6 | B26: Dezinfekcijas līdzeklis virsmām/rokām izsmidzināms 500ml | D26: ='Higiēnas preces'!H3 -> 10 | E26: 0 | F26: =D26*E26 -> 0
A27: Kopējā cena EUR bez PVN par higiēnas materiāliem (Kritērijs KU8.1.) | F27: =SUM(F21:F26) -> 0
A28: NPK | B28: KU8.2. Maināmie paklāji (pēc fakta) (saskaņā ar Tehniskās specifikācijas . punktu) | C28: OBJEKTA Kadastra Nr. | D28: CENA par vienas vienības maiņu (EUR bez PVN) | E28: Paklāju daudzums | F28: CENA par kopējā daudzuma vienas reizes nomaiņu EUR bez PVN
A29: 1 | B29: Maināmo paklāju nomaiņa 85 x 150 cm (sintētisks) | C29: 6084-005-0062 | D29: 0 | E29: =Paklāji!E3 -> 6 | F29: =D29*E29 -> 0
A30: 2 | B30: Maināmo paklāju nomaiņa 115 x 200 cm (sintētisks) | D30: 0 | E30: =Paklāji!E4 -> 4 | F30: =D30*E30 -> 0
A31: Kopējā cena EUR bez PVN (Kritērijs KU8.2.) | F31: =SUM(F29:F30) -> 0
A32: NPK | B32: KU8.3. Dežūrpersonāla pakalpojumi (saskaņā ar Tehniskās specifikācijas . punktu) | C32: OBJEKTA Kadastra Nr. | D32: CENA mēnesī (EUR bez PVN) | E32: Ziemas sezonas noteikto mēnešu skaits | F32: Cena par kopējo ziemas sezonu EUR bez PVN
A33: 1 | B33: Dežūrapkopēja ziemas sezonā | C33: 6084-005-0062 | D33: 0 | E33: 6 | F33: =-D33*E33 -> 0
A34: 2 | B34: Dežūrsētnieks ziemas sezonā | D34: 0 | E34: 6 | F34: =-D34*E34 -> 0
A35: Kopējā cena EUR bez PVN (Kritērijs KU8.3.) | F35: =SUM(F33:F34) -> 0
A36: KOPĀ VĒRTĒJAMĀ CENA KU8 = (KU8.1.+KU8.2.+KU8.3.) | F36: =SUM(F35+F31+F27) -> 0
A38: PAPILDUS PAKALPOJUMI (KU9 kritērijs) **
A39: NPK | B39: PAPILDUS PAKALPOJUMI (KU6 kritērijs) ** | C39: MĒRVIENĪBA | D39: CENA PAR MĒRVIENĪBU | E39: PROVIZORISKAIS PAKALPOJUMU APJOMS par reizi (mērvienība) | F39: CENA PAR KOPĒJO APJOMU
A40: Nr. | B40: Pakalpojums | C40: (kv.m., stundas, kubi, gab. u.c.) | D40: (EUR bez PVN) | E40: (kv.m., stundas, kubi, gab. u.c.) | F40: (EUR bez PVN)
A41: 1 | B41: GRĪDAS SEGUMU UZKOPŠANA
A42: 1.1 | B42: Linoleja vaskošana (vecā vaska noņemšana, tīrīšana un vaskošana 2 kārtās) | C42: kvadrātmetrs | D42: 0 | E42: 500 | F42: =D42*E42 -> 0
A43: 1.2 | B43: Linoleja ķīmiskā pulēšana | C43: kvadrātmetrs | D43: 0 | E43: 100 | F43: =D43*E43 -> 0
...

Sheet FAKTISKĀS uzkopšanas biežums
A1: RKP PATARNIEKI FAKTISKAIS TELPU UZKOPŠANAS BIEŽUMS | K1: Uzkopšanas reize nedēļās dienā (norāda ar x, ja nepieciešams). | R1: Uzkopšanas intensitātes koeficients* | Z1: Telpu faktiskā uzkopjamā platība mēnesī*
A2: Nr. p.k. | B2: ĒKA | C2: KADASTRA APZĪMĒJUMS | D2: STĀVS | E2: Telpu grupa un telpas Nr. | F2: TELPAS NOSAUKUMS | G2: TELPU PLATĪBA m2 | H2: GRĪDAS SEGUMS | I2: TELPU GRUPA UZKOPŠANAS PROGRAMMĀ | J2: UZKOPŠANAS LAIKS | K2: Pr | L2: Ot | M2: Tr | N2: Ce | O2: Pk | P2: Se | Q2: Sv | R2: Katru dienu (30,4) | S2: Vienu reizi nedēļā (4,3) | T2: Vienu reizi divās nedēļās (2,2) | U2: Vienu reizi mēnesī (1) | V2: Divas reizes nedēļā (Pirmdienās, piektdienās) | W2: Trīs reizes nedēļā (Pirmdienās, trešdienās, piektdienās) | X2: Piecas reizes nedēļā (no pirmdienas līdz piektdienai) | Y2: ĪPAŠIE NOTEIKUMI
A3: 1 | B3: Administratīvā ēka | C3: 60840050062001 | D3: 1 | E3: 001-1 | F3: tualetes priekštelpa | G3: 3.7 | H3: Flīzes | I3: sanitārās telpas | J3: 7:00 - 15:00 | K3: x | L3: x | M3: x | N3: x | O3: x | P3: x | Q3: x | R3: 30.4 | Z3: =G3*(R3+S3+T3+U3+V3+W3+X3) -> 112.48 | AA3: AT
A4: 2 | B4: Administratīvā ēka | C4: 60840050062001 | D4: 1 | E4: 001-2 | F4: tualete ar ratiņkrēslu piekļuvi | G4: 4.2 | H4: Flīzes | I4: sanitārās telpas | J4: 7:00 - 15:00 | K4: x | L4: x | M4: x | N4: x | O4: x | P4: x | Q4: x | R4: 30.4 | Z4: =G4*(R4+S4+T4+U4+V4+W4+X4) -> 127.68 | AA4: AT
A5: 3 | B5: Administratīvā ēka | C5: 60840050062001 | D5: 1 | E5: 001-3 | F5: tualete, tualetes priekštelpa | G5: 5 | H5: Flīzes | I5: sanitārās telpas | J5: 7:00 - 15:00 | K5: x | L5: x | M5: x | N5: x | O5: x | P5: x | Q5: x | R5: 30.4 | Z5: =G5*(R5+S5+T5+U5+V5+W5+X5) -> 152 | AA5: AT
A6: 4 | B6: Administratīvā ēka | C6: 60840050062001 | D6: 1 | E6: 001-4 | F6: tualete, tualetes priekštelpa | G6: 4.8 | H6: Flīzes | I6: sanitārās telpas | J6: 7:00 - 15:00 | K6: x | L6: x | M6: x | N6: x | O6: x | P6: x | Q6: x | R6: 30.4 | Z6: =G6*(R6+S6+T6+U6+V6+W6+X6) -> 145.92 | AA6: AT
A7: 5 | B7: Administratīvā ēka | C7: 60840050062001 | D7: 1 | E7: 001-5 | F7: klientu uzgaidāmā telpa | G7: 74.9 | H7: Epoksīda | I7: biroju/darba telpa | J7: 7:00 - 15:00 | K7: x | L7: x | M7: x | N7: x | O7: x | P7: x | Q7: x | R7: 30.4 | Z7: =G7*(R7+S7+T7+U7+V7+W7+X7) -> 2276.96 | AA7: AT
A8: 6 | B8: Administratīvā ēka | C8: 60840050062001 | D8: 1 | E8: 001-6 | F8: Muitas kontroles telpa | G8: 7.1 | H8: Linolejs | I8: biroju/darba telpa | J8: 7:00 - 15:00 | K8: x | L8: x | M8: x | N8: x | O8: x | P8: x | Q8: x | R8: 30.4 | Z8: =G8*(R8+S8+T8+U8+V8+W8+X8) -> 215.84 | AA8: AT
A9: 7 | B9: Administratīvā ēka | C9: 60840050062001 | D9: 1 | E9: 001-7 | F9: muitas darba telpa | G9: 15.5 | H9: Linolejs | I9: biroju/darba telpa | J9: 7:00 - 15:00 | K9: x | L9: x | M9: x | N9: x | O9: x | P9: x | Q9: x | R9: 30.4 | Z9: =G9*(R9+S9+T9+U9+V9+W9+X9) -> 471.2 | AA9: AT
A10: 8 | B10: Administratīvā ēka | C10: 60840050062001 | D10: 1 | E10: 001-8 | F10: muitas kontroles telpa | G10: 57.8 | H10: Epoksīda | I10: biroju/darba telpa | J10: 7:00 - 15:00 | K10: x | L10: x | M10: x | N10: x | O10: x | P10: x | Q10: x | R10: 30.4 | Z10: =G10*(R10+S10+T10+U10+V10+W10+X10) -> 1757.12 | AA10: AT
A11: 9 | B11: Administratīvā ēka | C11: 60840050062001 | D11: 1 | E11: 001-9 | F11: muitas darba telpa | G11: 5 | H11: Linolejs | I11: biroju/darba telpa | J11: 7:00 - 15:00 | K11: x | N11: x | Q11: x | W11: =4.3*3 -> 12.9 | Z11: =G11*(R11+S11+T11+U11+V11+W11+X11) -> 64.5 | AA11: AT
A12: 10 | B12: Administratīvā ēka | C12: 60840050062001 | D12: 1 | E12: 001-10 | F12: inventāra noliktava | G12: 3 | H12: Linolejs | I12: tehniskā telpa | J12: 7:00 - 15:00 | K12: x | L12: x | M12: x | N12: x | O12: x | P12: x | Q12: x | R12: 30.4 | Z12: =G12*(R12+S12+T12+U12+V12+W12+X12) -> 91.2 | AA12: AT
A13: 11 | B13: Administratīvā ēka | C13: 60840050062001 | D13: 1 | E13: 001-11 | F13: kāpņu telpa | G13: 7.2 | H13: Linolejs | I13: Koplietošanas, publ. | J13: 7:00 - 15:00 | K13: x | L13: x | M13: x | N13: x | O13: x | P13: x | Q13: x | R13: 30.4 | Z13: =G13*(R13+S13+T13+U13+V13+W13+X13) -> 218.88 | AA13: AT
A14: 12 | B14: Administratīvā ēka | C14: 60840050062001 | D14: 1 | E14: 001-12 | F14: robežkontroles kabīne | G14: 2.6 | H14: Linolejs | I14: biroju/darba telpa | J14: 7:00 - 15:00 | K14: x | L14: x | M14: x | N14: x | O14: x | P14: x | Q14: x | R14: 30.4 | Z14: =G14*(R14+S14+T14+U14+V14+W14+X14) -> 79.04 | AA14: AT
A15: 13 | B15: Administratīvā ēka | C15: 60840050062001 | D15: 1 | E15: 001-13 | F15: gaitenis | G15: 14.4 | H15: Epoksīda | I15: Koplietošanas, publ. | J15: 7:00 - 15:00 | K15: x | L15: x | M15: x | N15: x | O15: x | P15: x | Q15: x | R15: 30.4 | Z15: =G15*(R15+S15+T15+U15+V15+W15+X15) -> 437.76 | AA15: AT
A16: 14 | B16: Administratīvā ēka | C16: 60840050062001 | D16: 1 | E16: 001-14 | F16: robežkontroles kabīne | G16: 2.6 | H16: Linolejs | I16: biroju/darba telpa | J16: 7:00 - 15:00 | K16: x | L16: x | M16: x | N16: x | O16: x | P16: x | Q16: x | R16: 30.4 | Z16: =G16*(R16+S16+T16+U16+V16+W16+X16) -> 79.04 | AA16: AT
A17: 15 | B17: Administratīvā ēka | C17: 60840050062001 | D17: 1 | E17: 001-15 | F17: VRS kontroles telpa | G17: 8.4 | H17: Linolejs | I17: biroju/darba telpa | J17: 7:00 - 15:00 | K17: x | L17: x | M17: x | N17: x | O17: x | P17: x | Q17: x | R17: 30.4 | Z17: =G17*(R17+S17+T17+U17+V17+W17+X17) -> 255.36 | AA17: AT
A18: 16 | B18: Administratīvā ēka | C18: 60840050062001 | D18: 1 | E18: 001-16 | F18: robežkontroles punkta telpa | G18: 67.9 | H18: Epoksīda | I18: biroju/darba telpa | J18: 7:00 - 15:00 | K18: x | L18: x | M18: x | N18: x | O18: x | P18: x | Q18: x | R18: 30.4 | Z18: =G18*(R18+S18+T18+U18+V18+W18+X18) -> 2064.16 | AA18: AT
A19: 17 | B19: Administratīvā ēka | C19: 60840050062001 | D19: 1 | E19: 001-17 | F19: apmeklētāju telpa | G19: 2.7 | H19: Linolejs | I19: biroju/darba telpa | J19: 7:00 - 15:00 | K19: x | L19: x | M19: x | N19: x | O19: x | P19: x | Q19: x | R19: 30.4 | Z19: =G19*(R19+S19+T19+U19+V19+W19+X19) -> 82.08
A20: 18 | B20: Administratīvā ēka | C20: 60840050062001 | D20: 1 | E20: 001-18 | F20: sanitārās robežkontroles inspekcija | G20: 10 | H20: Linolejs | I20: biroju/darba telpa | J20: 7:00 - 15:00 | K20: x | L20: x | M20: x | N20: x | O20: x | P20: x | Q20: x | R20: 30.4 | Z20: =G20*(R20+S20+T20+U20+V20+W20+X20) -> 304
A21: 19 | B21: Administratīvā ēka | C21: 60840050062001 | D21: 1 | E21: 001-19 | F21: apmeklētāju telpa | G21: 2.9 | H21: Linolejs | I21: biroju/darba telpa | J21: 7:00 - 15:00 | K21: x | L21: x | M21: x | N21: x | O21: x | P21: x | Q21: x | R21: 30.4 | Z21: =G21*(R21+S21+T21+U21+V21+W21+X21) -> 88.16
A22: 20 | B22: Administratīvā ēka | C22: 60840050062001 | D22: 1 | E22: 001-20 | F22: sanitārā robežinspekcija | G22: 15.8 | H22: Linolejs | I22: biroju/darba telpa | J22: 7:00 - 15:00 | K22: x | L22: x | M22: x | N22: x | O22: x | P22: x | Q22: x | R22: 30.4 | Z22: =G22*(R22+S22+T22+U22+V22+W22+X22) -> 480.32
A23: 21 | B23: Administratīvā ēka | C23: 60840050062001 | D23: 1 | E23: 001-21 | F23: priekšnieka telpa | G23: 32.2 | H23: Linolejs | I23: biroju/darba telpa | J23: 7:00 - 15:00 | K23: x | L23: x | M23: x | N23: x | O23: x | P23: x | Q23: x | R23: 30.4 | Z23: =G23*(R23+S23+T23+U23+V23+W23+X23) -> 978.88
A24: 22 | B24: Administratīvā ēka | C24: 60840050062001 | D24: 1 | E24: 001-22 | F24: kabinets | G24: 15.8 | H24: Linolejs | I24: biroju/darba telpa | J24: 7:00 - 15:00 | K24: x | L24: x | M24: x | N24: x | O24: x | P24: x | Q24: x | R24: 30.4 | Z24: =G24*(R24+S24+T24+U24+V24+W24+X24) -> 480.32
A25: 23 | B25: Administratīvā ēka | C25: 60840050062001 | D25: 1 | E25: 001-23 | F25: kabinets | G25: 15.9 | H25: Linolejs | I25: biroju/darba telpa | J25: 7:00 - 15:00 | K25: x | L25: x | M25: x | N25: x | O25: x | P25: x | Q25: x | R25: 30.4 | Z25: =G25*(R25+S25+T25+U25+V25+W25+X25) -> 483.36
A26: 24 | B26: Administratīvā ēka | C26: 60840050062001 | D26: 1 | E26: 001-24 | F26: iekštelpa | G26: 6.5 | H26: Linolejs | I26: biroju/darba telpa | J26: 7:00 - 15:00 | K26: x | L26: x | M26: x | N26: x | O26: x | P26: x | Q26: x | R26: 30.4 | Z26: =G26*(R26+S26+T26+U26+V26+W26+X26) -> 197.6
A27: 25 | B27: Administratīvā ēka | C27: 60840050062001 | D27: 1 | E27: 001-25 | F27: iekštelpa | G27: 7.4 | H27: Linolejs | I27: biroju/darba telpa | J27: 7:00 - 15:00 | K27: x | L27: x | M27: x | N27: x | O27: x | P27: x | Q27: x | R27: 30.4 | Z27: =G27*(R27+S27+T27+U27+V27+W27+X27) -> 224.96
A28: 26 | B28: Administratīvā ēka | C28: 60840050062001 | D28: 1 | E28: 001-26 | F28: kabinets | G28: 1.3 | H28: Linolejs | I28: biroju/darba telpa | J28: 7:00 - 15:00 | K28: x | N28: x | Q28: x | W28: =4.3*3 -> 12.9 | Z28: =G28*(R28+S28+T28+U28+V28+W28+X28) -> 16.77
A29: 27 | B29: Administratīvā ēka | C29: 60840050062001 | D29: 1 | E29: 001-27 | F29: kabinets | G29: 15.8 | H29: Linolejs | I29: biroju/darba telpa | J29: 7:00 - 15:00 | K29: x | L29: x | M29: x | N29: x | O29: x | P29: x | Q29: x | R29: 30.4 | Z29: =G29*(R29+S29+T29+U29+V29+W29+X29) -> 480.32
A30: 28 | B30: Administratīvā ēka | C30: 60840050062001 | D30: 1 | E30: 001-28 | F30: kabinets | G30: 15.8 | H30: Linolejs | I30: biroju/darba telpa | J30: 7:00 - 15:00 | K30: x | L30: x | M30: x | N30: x | O30: x | P30: x | Q30: x | R30: 30.4 | Z30: =G30*(R30+S30+T30+U30+V30+W30+X30) -> 480.32
A31: 29 | B31: Administratīvā ēka | C31: 60840050062001 | D31: 1 | E31: 001-29 | F31: zāle | G31: 119.3 | H31: Flīzes | I31: biroju/darba telpa | J31: 7:00 - 15:00 | K31: x | L31: x | M31: x | N31: x | O31: x | P31: x | Q31: x | R31: 30.4 | Z31: =G31*(R31+S31+T31+U31+V31+W31+X31) -> 3626.72
A32: 30 | B32: Administratīvā ēka | C32: 60840050062001 | D32: 1 | E32: 001-30 | F32: kabinets | G32: 12.1 | H32: Linolejs | I32: biroju/darba telpa | J32: 7:00 - 15:00 | K32: x | L32: x | M32: x | N32: x | O32: x | P32: x | Q32: x | R32: 30.4 | Z32: =G32*(R32+S32+T32+U32+V32+W32+X32) -> 367.84
A33: 31 | B33: Administratīvā ēka | C33: 60840050062001 | D33: 1 | E33: 001-31 | F33: laboratorija | G33: 2.4 | H33: Linolejs | I33: biroju/darba telpa | J33: 7:00 - 15:00 | K33: x | L33: x | M33: x | N33: x | O33: x | P33: x | Q33: x | R33: 30.4 | Z33: =G33*(R33+S33+T33+U33+V33+W33+X33) -> 72.96
A34: 32 | B34: Administratīvā ēka | C34: 60840050062001 | D34: 1 | E34: 001-32 | F34: sanmezgls | G34: 2.3 | H34: Linolejs | I34: sanitārās telpas | J34: 7:00 - 15:00 | K34: x | L34: x | M34: x | N34: x | O34: x | P34: x | Q34: x | R34: 30.4 | Z34: =G34*(R34+S34+T34+U34+V34+W34+X34) -> 69.92
A35: 33 | B35: Administratīvā ēka | C35: 60840050062001 | D35: 1 | E35: 001-33 | F35: apskates telpa | G35: 4.1 | H35: Linolejs | I35: biroju/darba telpa | J35: 7:00 - 15:00 | K35: x | L35: x | M35: x | N35: x | O35: x | P35: x | Q35: x | R35: 30.4 | Z35: =G35*(R35+S35+T35+U35+V35+W35+X35) -> 124.64
A36: 34 | B36: Administratīvā ēka | C36: 60840050062001 | D36: 1 | E36: 001-34 | F36: sanmezgls | G36: 2.1 | H36: Linolejs | I36: sanitārās telpas | J36: 7:00 - 15:00 | K36: x | L36: x | M36: x | N36: x | O36: x | P36: x | Q36: x | R36: 30.4 | Z36: =G36*(R36+S36+T36+U36+V36+W36+X36) -> 63.84
A37: 35 | B37: Administratīvā ēka | C37: 60840050062001 | D37: 1 | E37: 001-35 | F37: bēgļu telpa | G37: 11.5 | H37: Linolejs | I37: biroju/darba telpa | J37: 7:00 - 15:00 | K37: x | L37: x | M37: x | N37: x | O37: x | P37: x | Q37: x | R37: 30.4 | Z37: =G37*(R37+S37+T37+U37+V37+W37+X37) -> 349.6
A38: 36 | B38: Administratīvā ēka | C38: 60840050062001 | D38: 1 | E38: 001-36 | F38: aizturēto telpa | G38: 6.6 | H38: Linolejs | I38: biroju/darba telpa | J38: 7:00 - 15:00 | K38: x | L38: x | M38: x | N38: x | O38: x | P38: x | Q38: x | R38: 30.4 | Z38: =G38*(R38+S38+T38+U38+V38+W38+X38) -> 200.64
A39: 37 | B39: Administratīvā ēka | C39: 60840050062001 | D39: 1 | E39: 001-37 | F39: kinologa telpa | G39: 5.4 | H39: Linolejs | I39: biroju/darba telpa | J39: 7:00 - 15:00 | K39: x | L39: x | M39: x | N39: x | O39: x | P39: x | Q39: x | R39: 30.4 | Z39: =G39*(R39+S39+T39+U39+V39+W39+X39) -> 164.16
A40: 38 | B40: Administratīvā ēka | C40: 60840050062001 | D40: 1 | E40: 001-38 | F40: dušas telpa | G40: 3.8 | H40: Flīzes | I40: sanitārās telpas | J40: 7:00 - 15:00 | K40: x | L40: x | M40: x | N40: x | O40: x | P40: x | Q40: x | R40: 30.4 | Z40: =G40*(R40+S40+T40+U40+V40+W40+X40) -> 115.52
...

Sheet Telpu sadalījums un ĪP
F2: SADALĪJUMS PA TELPU GRUPĀM
B3: NPK | C3: OBJEKTS | D3: TELPU KOPĒJĀ PLATĪBA (m²) | F3: Ārtelpa | G3: Biroju/darba telpas | H3: Koplietošanas telpas | I3: Sanitārās telpas | J3: Tehniskās telpas | M3: ĪPAŠĀS PRASĪBAS (JĀŅEM VĒRĀ)
B4: Nr. | C4: Nosaukums | D4: (m²) | F4: (m²) | G4: (m²) | H4: (m²) | I4: (m²) | J4: (m²)
B5: 1 | C5: PATARNIEKI | D5: =F5+G5+H5+I5+J5 -> 4871 | F5: 486.3 | G5: 2243.6 | H5: 347.5 | I5: 843.5 | J5: 950.1 | M5: Pēc dzīvnieku uzturēšanās dzīvnieku novietnēs, attiecīgo telpu mazgāšana ir jāveic izmantojot augstspiediena iekārtu. PVD telpu uzkopšana jāveic saskaņā ar PVD prasībām.

Sheet Telpu ikdienas UP
C1: KVALITĀTES LĪMENIS
B2: TELPU IKDIENAS UZKOPŠANAS PAKALPOJUMI | C2: MĒBELES PIEDERUMI | D2: GRĪDAS | E2: SIENAS | F2: GRIESTI
B3: BIROJU/ DARBA TELPAS, ZĀLES, EKSPOZĪCIJU ZĀLES | C3: 4 | D3: 4 | E3: 4 | F3: 3
B4: Atkritumu grozu tukšošana un maisiņu nomaiņa *
B5: Ādas mēbeļu tīrīšana ar atbilstošu līdzekli
B6: Cietā grīdas seguma mitrā uzkopšana telpās
B7: Durvju rokturu tīrīšana ar dezinficējošu līdzekli
B8: Elektroslēdžu un rozešu mitrā tīrīšana
B9: Gaismas ķermeņu un reljefu interjera elementu tīrīšana līdz 2 m augstumam
B10: Brīvo galda virsmu mitrā tīrīšana, ja uz virsmas izklaidus nav papīri **
B11: Grīdlīstšu un ventilācijas restu mitrā tīrīšana
B12: Horizontālo un vertikālo virsmu mitrā tīrīšana (skapji, plaukti, palodzes, galdi, krēsli)
B13: Krēslu kāju mitrā tīrīšana
B14: Lokālu traipu tīrīšana no horizontālām un vertikālajām virsmām (skapji, plaukti, galdi, krēsli, durvis, sienas, stikla starpsienas)
B15: Mīkstā grīdas seguma (ja tāds ir) izsūkšana ar putekļusūcēju
B16: Mīksto mēbeļu (ja tādas ir) izsūkšana ar putekļu sūcēju
B17: SANITĀRĀS, VIRTUVES TELPAS | C17: 4 | D17: 4 | E17: 4 | F17: 3
B18: Atkritumu grozu tukšošana un maisiņu nomaiņa *
B19: Atkritumu tvertnes mazgāšana un dezinficēšana
B20: Cietā grīdas seguma mitrā uzkopšana ar dezinficējošu līdzekli
B21: Durvju rokturu tīrīšana ar dezinficējošu līdzekli
B22: Duškabīnes, dušas stūra vai vannas (ja tāda telpā uzstādīta) tīrīšana
B23: Gaismas ķermeņu un reljefu interjera elementu tīrīšana līdz 2 m augstumam
B24: Grīdlīstšu un ventilācijas restu mitrā tīrīšana
B25: Higiēnas preču turētāju mitrā tīrīšana
B26: Higiēnas preču papildināšana
B27: Higiēnas preču piegāde
B28: Horizontālo un vertikālo virsmu mitrā tīrīšana (skapji, plaukti, palodzes, galdi, krēsli)
B29: Lokālu traipu tīrīšana no horizontālajām un vertikālām virsmām
... B37: WC gaisa atsvaidzinātāja nodrošināšana
B38: KOPLIETOŠANAS TELPAS | C38: 3 | D38: 3 | E38: 3 | F38: 2
B39: Atkritumu grozu tukšošana un maisiņu nomaiņa *
B40: Ādas mēbeļu tīrīšana ar atbilstošu līdzekli
B41: Cietā grīdas seguma mitrā uzkopšana
B42: Durvju rokturu tīrīšana ar dezinficējošu līdzekli
B43: Elektroslēdžu un rozešu mitrā tīrīšana
B44: Gaismas ķermeņu un reljefu interjera elemntu tīrīšana līdz 2m augstumam
B45: Grīdlīstšu un ventilācijas restu mitrā tīrīšana
B46: Horizontālo un vertikālo virsmu mitrā tīrīšana (skapji, plaukti, palodzes, galdi, krēsli)
B47: Krēslu kāju mitrā tīrīšana
...

Sheet Teritorijas sadalījums un ĪP
B2: NPK | C2: OBJEKTS | D2: KOPĒJĀ UZKOPJAMĀ PLATĪBA (m²) | E2: Ietvju platība, cietais segums iežogotā teritorija un piebraukšana (m²) | F2: Zāliena platība iežogotajā teritorijā (m²) | G2: Jānodrošina karoga izkāršana (karogu skaits) | H2: Sniega izvešana jānodrošina | I2: ĪPAŠĀS PRASĪBAS (JĀŅEM VĒRĀ) | J2: Zaliena platība m2
B3: 1 | C3: PATARNIEKI | D3: =E3+F3 -> 57360 | E3: 34393 | F3: 22967 | G3: 2 | H3: Stipras snigšanas laikā, kad teritorijā notīrītā sniega daudzums uzkrājas apmērā, kas traucē transporta vai cilvēku plūsmai, sniegs nekavējoties jāpārvieto ārpus Objekta nožogojuma. | I3: 1) Objektā teritorijas uzkopšanā jābūt nodarbinātiem ne mazāk kā 3 sētniekiem gadījumos, kad nakts periodā ir bijusi spēcīga snigšana vai novērojama stipra snigšana dienas periodā, kā arī, lai novērstu uz ietvēm un ceļa segumiem radušos apledojumu. 2) Teritorijā izvietoti 2 karogi (Latvijas un Eiropas), karogu izmēri 2m x 1m. 3) Ziemas periodā jāizmanto dzīvniekiem draudzīgs pretslīdes materiāls. 4) Vasaras sezonā vismaz 2 reizes pļaut zālāju aiz RKP iežogotās teritorijas. | J3: 23700

Sheet Teritorijas ikdienas UP
B2: NPK | C2: TERITORIJAS IKDIENAS UZKOPŠANĀ VEICAMIE DARBI | D2: 1xdiennaktī līdz plkst.:08:00 | E2: 2x diennaktī | F2: Intensīvas snigšanas gadījumā, ne retāk kā ik pa 4h (no 06:00 - 22:00) | G2: 1 x nedēļā | H2: 1x mēnesī | I2: Pēc nepieciešamības
B3: ZIEMAS SEZONĀ (novembris-marts)₁
B4: 1. | C4: Trotuāri, ietves, gājēju celiņi (ar speciālu segumu), autostāvvietas, veloceliņi, pagalmi, iebrauktuves, lieveņi, ieejas pakāpieni
B5: 1.1 | C5: Objekta apsekošana (ne retāk kā 1x 2 nedēļās) | I5: X
B6: 1.2 | C6: Slaucīšana, ja nekrīt sniegs | D6: X
B7: 1.3 | C7: Attīrīšana no sniega un ledus, kaisīšana ar pretslīdes materiāliem | D7: X
B8: 1.4 | C8: Attīrīšana no apledojuma atkalas laikā (ar ledus cirtni), kaisīšana ar smilšu un sāls maisījumu | D8: X
B9: 1.5 | C9: Kanalizācijas aku vāku un hidrantu attīrīšana no sniega | D9: X
B10: 1.6 | C10: Atkritumu konteineru novietnes laukuma uzturēšana kārtībā | D10: X
B11: 1.7 | C11: Atkritumu urnu tukšošana un maisiņu nomaiņa atkritumu tvertnēs teritorijā | D11: X
B12: 1.8 | C12: Attīrīšana no sniega un ledus intensīvas snigšanas gadījumā (kolīdz sniega biezums pārsniedz 2 cm) un kaisīšana ar pretslīdes materiālu | F12: X
B13: 1.9 | C13: Ēku ieejas mezglu uzturēšana, attīrīšana no ledus un sniega, un kaisīšana ar pretslīdes materiāliem | F13: X
B14: 1.1 | C14: Kaisīšana ar pretslīdes materiālu atkalas laikā | I14: X
B15: 1.11 | C15: Atkritumu tvertņu korpusu tīrīšana no ārpuses | I15: X
B16: 1.12 | C16: Lielgabarīta atkritumu izvešanas organizēšana (ja tādi novietoti blakus atkritumu konteineriem) | I16: X
B17: 1.13 | C17: Bīstamo vietu (bedres, ūdenstilpnes, utml) un vietu, kur uz jumta izveidojušās lāstekas - norobežošana ar speciālo lenti | I17: X
B18: 1.14 | C18: Numurzīmju, norāžu, luksoforu uzturēšana | I18: X
B19: 1.15 | C19: Sniega izvešana | I19: X
B20: 1.16 | C20: Karoga izkāršana atbilstošā noformējumā saskaņā ar LR likumdošanu ¹ , karogu mastu uzturēšana un karogu nomaiņa (t.sk.iegāde) to bojājumu gadījumos | I20: X
B21: 1.17 | C21: Koku, krūmu vai aizlūzušu zaru apzāģēšana vietās, kur tiek traucēta gājēju un transporta kustība vai tie bojā sētu (t.sk. nozāģēto zaru izvešana un nepieciešamo mehānisko līdzekļu noma) ² | I21: X
B22: 2. | C22: Zālāji un citi laukumi, kuri netiek izmantoti, lai pārvietotos
B23: 2.1 | C23: Atkritumu savākšana | D23: X
B24: 3 | C24: Citi
B25: 3.1 | C25: Ēkas jumta un noteku tīrīšana (no sniega, ledus, gružiem, koku lapām un zariem, putnu radītiem atkritumiem) | I25: X
B26: 3.2 | C26: Ēkas fasādes tīrīšana | I26: X
B27: 3.4 | C27: Teritorijā esošo nojumju, koku stumbru un sakņu aizsarg-apmaļu, soliņu un velosipēdu novietņu (stendu/statīvu) uzturēšana tīrībā | I27: X
B28: 3.5 | C28: Teritorijā esošo kravas pacēlāju un piegādes rampu, ja tādas atrodas teritorijā, uzturēšana tīrībā | I28: X
B29: 3.6 | C29: Teritorijā esošo apgaismes ķermeņu, apgaismes stabu, nožogojumu, barjeru un norāžu uzturēšana tīrībā | I29: X
B30: 3.7 | C30: Teritorijā esošo koku un apstādījumu uzturēšana (kokkopja, arborista paklapojumi lūzušu koku gadījumā) | I30: X
B31: 3.8 | C31: Atkritumu (kartona kastu, iepakojumu, makulatūras un citu atkritumu) nogādāšana no iekštelpām līdz konteineriem un sadzīves atkritumu daudzuma fiksēšana uzskaites žurnālā. | I31: X
B32: 3.9 | C32: Bīstamo atkritumu uzskaite un nodošana utilizācijai. | I32: X
B33: 3.1 | C33: Konteineru, kur tiek izmesti dzīvnieku izcelsmes produkti, vienreizējās lietošanas maisu nomaiņa vismaz 1 x diennaktī (plkst.8.00 un 17.00), izņemto atkritumu svēršana un nogādāšana uz saldētavu PVD ēkā, atkritumu konteineru mazgāšana un dezinficēšana pēc nepieciešamības, bet ne retāk kā 2 x mēnesī. Dezinfekcijas līdzekļu izmaksas sedz VID. | I33: X
B34: 3.11. | C34: Novadgrāvju tīrīšana (krūmu izciršana) | I34: X
B35: 3.12. | C35: Saldējamās kameras dezinficēšanu veic pēc PVD pieteikuma, dezinfekcijas līdzekļus nodrošina PVD. | I35: X
B36: VASARAS SEZONĀ (aprīlis-oktobris)
B37: 4 | C37: Trotuāri, ietves, gājēju celiņi (ar speciālu segumu), autostāvvietas, veloceliņi, pagalmi, iebrauktuves, lieveņi, ieejas pakāpieni
B38: 4.1 | C38: Objekta apsekošana (ne retāk kā 1x 2 nedēļās) | I38: X
B39: 4.2 | C39: Teritorijas slaucīšana | D39: X
B40: 4.3 | C40: Atkritumu urnu tukšošana un maisiņu nomaiņa atkritumu tvertnēs teritorijā | D40: X
B41: 4.4 | C41: Atkritumu tvertņu korpusu tīrīšana no ārpuses | D41: X
...

Sheet Cilvēku plūsma
B2: PATARNIEKI | C2: Pilnas noslodzes gadījumā | D2: Zemas noslodzes gadījumā
B3: Darbinieki (12 h diennaktī strādājošo skaits) | C3: 40 | D3: 30
B4: Kravas automašīnas (24h diennaktī vidēji šķērso): | C4: 200 | D4: 100
B5: Vieglās automašīnas (24h diennaktī vidēji šķērso): | C5: 150 | D5: 50

Sheet Higiēnas preces
B2: NPK | C2: OBJEKTS | D2: ROKU DVIEĻI | E2: TUALETES PAPĪRS | F2: ZIEPES ROKU MAZGĀŠANAI | G2: GAISA ATSVAIDZINĀTĀJS UN BIRSTE (WC telpās) | H2: Dezinfekcijas līdzeklis virsmām/rokām izsmidzināms 500ml | I2: PUTU ZIEPES (gab) * | J2: TRAUKU MAZGĀJAMAIS LĪDZEKLIS UN ŠVAMME (virtuvē) * | K2: TUALETES PAPĪRS (ruļļi) * | L2: ROKU DVIEĻI (ruļļi) * | M2: GAISA ATSVAIDZINĀTĀJS WC telpās (skaits) * | N2: CITAS PAPILDUS PRASĪBAS
B3: 1 | C3: PATARNIEKI | D3: Tork H1 Advanced baltā krāsā (ar sensoru) sistēmai vai ekvivalents | E3: Tork T6 sistēmai/Tork Mini Jumbo Advanced vai ekvivalents | F3: Tork S4 (putu) sistēmai vai ekvivalents | G3: Aerosola | H3: 10 | I3: 20 | J3: 10 | K3: 120 | L3: 75 | M3: 20 | N3: -
D6: * patēriņš vidēji mēnesī

Sheet Paklāji
B2: Objekts | C2: Izmērs (cm) | D2: Krāsa, materiāls | E2: Daudzums | F2: Ziemas sezonā (01.11.-31.03) | G2: Vasaras sezonā (01.04.-31.10.)
B3: PATARNIEKI | C3: 85 x 150 | D3: pelēks, sintētisks | E3: 6 | F3: Reizi nedēļā | G3: Reizi divās nedēļās
C4: 115 x 200 | E4: 4

Sheet Patarnieki_Teritorija_zemes v
