Workbook
Name Dienas: #REF!
Name higiēnas: #REF!
Name Laiks: #REF!

Sheet VĒRTĒŠANAS KRITĒRIJI
A2: Piedāvājumu vērtēšanas principis
A4: Vērtēšanas kritērijs | C4: Maksimālais punktu skaits | D4: Punktu piešķiršanas metodika
A5: KU1 | B5: CENA PAR VIENU UZKOPŠANAS REIZI par 1 m2 (ja objekta uzkopjamā platība ir līdz 500 m2 )** | C5: 5 | D5: KU1=Czem / Cpied x N
D6: (Czem – viszemāk piedāvātā cena; Cpied – vērtējamā piedāvājuma cena; N – kritērija maksimālā skaitliskā vērtība)
A7: KU2 | B7: CENA PAR VIENU UZKOPŠANAS REIZI par 1 m2 (ja objekta uzkopjamā platība ir no 501 līdz 1000 m2 ) | C7: 5 | D7: KU2=Czem / Cpied x N
D8: (Czem – viszemāk piedāvātā cena; Cpied – vērtējamā piedāvājuma cena; N – kritērija maksimālā skaitliskā vērtība)
A9: KU3 | B9: CENA PAR VIENU UZKOPŠANAS REIZI par 1 m2 (ja objekta uzkopjamā platība ir no 1001 līdz 5000 m2 ) | C9: 35 | D9: KU3=Czem / Cpied x N
D10: (Czem – viszemāk piedāvātā cena; Cpied – vērtējamā piedāvājuma cena; N – kritērija maksimālā skaitliskā vērtība)
A11: KU4 | B11: CENA PAR VIENU UZKOPŠANAS REIZI REIZI par 1 m2 (ja teritorijas uzkopjamā platība līdz 5 000 m2) | C11: 5 | D11: KU4=Czem / Cpied x N
D12: (Czem – viszemāk piedāvātā cena; Cpied – vērtējamā piedāvājuma cena; N – kritērija maksimālā skaitliskā vērtība)
A13: KU5 | B13: CENA PAR VIENU UZKOPŠANAS REIZI par 1 m2 (ja teritorijas uzkopjamā platība no 5 001 m2 līdz 20 000 m2) | C13: 5 | D13: KU5=Czem / Cpied x N
D14: (Czem – viszemāk piedāvātā cena; Cpied – vērtējamā piedāvājuma cena; N – kritērija maksimālā skaitliskā vērtība)
A15: KU6 | B15: CENA PAR VIENU UZKOPŠANAS REIZI par 1 m2 (ja teritorijas uzkopjamā platība no 20 001 m2 līdz 40 000 m2) | C15: 5 | D15: KU6=Czem / Cpied x N
D16: (Czem – viszemāk piedāvātā cena; Cpied – vērtējamā piedāvājuma cena; N – kritērija maksimālā skaitliskā vērtība)
A17: KU7 | B17: CENA PAR VIENU UZKOPŠANAS REIZI par 1 m2 (ja teritorijas uzkopjamā platība no 40 001 m2 līdz 65 000 m2) | C17: 30 | D17: KU7=Czem / Cpied x N
D18: (Czem – viszemāk piedāvātā cena; Cpied – vērtējamā piedāvājuma cena; N – kritērija maksimālā skaitliskā vērtība)
A19: KU8 | B19: Higiēnas un telpu uzturēšanas pakalpojumi | C19: 5 | D19: KU8=Czem / Cpied x N
D20: (Czem – viszemāk piedāvātā cena; Cpied – vērtējamā piedāvājuma cena; N – kritērija maksimālā skaitliskā vērtība)
A21: KU9 | B21: PAPILDUS PAKALPOJUMI | C21: 5 | D21: KU9=Czem / Cpied x N
D22: (Czem – viszemāk piedāvātā cena; Cpied – vērtējamā piedāvājuma cena; N – kritērija maksimālā skaitliskā vērtība)
A23: Maksimāli iespējamais punktu skaits | C23: =SUM(C5:C22) -> 100 | D23: KU – kopējais punktu skaits, ņemot vērā tehniskajā piedāvājuma formā un Finanšu piedāvājumā iesniegto informāciju. (KU1+KU2+KU3+KU4+KU5+KU6+KU7+KU8+KU9)=(KU) kopējais punktu skaits.
A25: Par saimnieciski visizdevīgāko piedāvājumu tiks atzīts tas pretendents, kurš iegūs visaugstāko punktu skaitu uzkopšanas un inženierkomunikāciju sadaļā, pēc formulas: KU+KI

Sheet Finanšu piedāvājums_KU1-KU9
H1: 5.pielikums nolikumam
H2: ID Nr. VNĪ 2026/4/4-4/AK-62
A3: FINANŠU PIEDĀVĀJUMS Nr. 4.1. Atklātam konkursam “Robežkontroles punktu apsaimniekošana” ID Nr. VNĪ 2026/4/4-4/AK-62
B4: IEPIRKUMA 4.DAĻA
A5: Telpu ikdienas uzkopšana *
A6: NPK | B6: TELPU IKDIENAS UZKOPŠANAS PAKALPOJUMI | C6: OBJEKTA Kadastra Nr. | D6: MINIMĀLĀ OBJEKTA UZKOPJAMĀ PLATĪBA kv.m. | E6: OBJEKTA UZKOPJAMĀ PLATĪBA** | F6: FAKTISKĀ uzkopjamā platība saskaņā ar uzkopšanas intensitātes grafiku mēnesī*** | G6: KU1 Vērtējamā CENA PAR VIENU UZKOPŠANAS REIZI par 1 m2 (ja objekta uzkopjamā platība ir no 200 m2 līdz 500 m2)** | H6: KU2 Vērtējamā CENA PAR VIENU UZKOPŠANAS REIZI par 1 m2 (ja objekta uzkopjamā platība ir no 501 līdz 1000 m2 )** | I6: KU3 Vērtējamā CENA PAR VIENU UZKOPŠANAS REIZI par 1 m2 (ja objekta uzkopjamā platība ir no 1001 līdz 5000 m2 )**
A7: Nr. | B7: Pakalpojums un Objekta adrese | C7: Kadastra Nr. | D7: kv.m. | E7: kv.m. | F7: kv.m. | G7: EUR bez PVN/ reize m2 | H7: EUR bez PVN/ reize m2 | I7: EUR bez PVN/ reize m2
A8: 1 | B8: Telpu ikdienas uzkopšana Pātarnieki | C8: 6084-005-0062 | D8: 200 | E8: ='FAKTISKĀS uzkopšanas biežums'!G248 -> 4871 | F8: ='FAKTISKĀS uzkopšanas biežums'!Z247 -> 85179.35 | G8: 0 | H8: 0 | I8: 0
A9: * Papildu uzkopšanas intensitātes gadījumā norēķini tiek veikti, par pamatu ņemot attiecīgā biežuma vidējo uzkopšanas reižu skaitu mēnesī gada griezumā.
A10: **Objekta uzkopjamā platība ir visu uzkopjamo objekta telpu FAKTISKĀ UZKOPJAMĀ kopējā platība. Aprēķina metodika norādīta pie FAKTISKĀuzkopšanas biežuma
A11: ***Faktiskā uzkopjamā platība ir viena mēneša laikā faktiskā vidējā uzkoptā platība, ņemot vērā telpu uzkopšanas biežumu. Aprēķina metodika norādīta sadaļā pie uzkopšanas biežuma objekta kopējā uzkopjamā platība mēnesī.
A13: Teritorijas ikdienas uzkopšana *
A14: NPK | B14: TERITORIJAS IKDIENAS UZKOPŠANAS PAKALPOJUMI | C14: OBJEKTA Kadastra Nr. | D14: MINIMĀLĀ OBJEKTA UZKOPJAMĀ PLATĪBA kv.m. | E14: MAKSIMĀLĀ OBJEKTA UZKOPJAMĀ PLATĪBA kv.m. | F14: IEPIRKUMA BRĪDĪ uzkopjamā platība | G14: KU4 Vērtējamā CENA PAR VIENU UZKOPŠANAS REIZI REIZI par 1 m2 (ja teritorijas uzkopjamā platība 5 000 m2) | H14: KU5 Vērtējamā CENA PAR VIENU UZKOPŠANAS REIZI par 1 m2 (ja teritorijas uzkopjamā platība no 5 001 m2 līdz 20 000 m2) | I14: KU6 Vērtējamā CENA PAR VIENU UZKOPŠANAS REIZI par 1 m2 (ja teritorijas uzkopjamā platība no 20 001 m2 līdz 40 000 m2) | J14: KU7 Vērtējamā CENA PAR VIENU UZKOPŠANAS REIZI par 1 m2 (ja teritorijas uzkopjamā platība no 40 001 m2 līdz 65 000 m2)
A15: Nr. | B15: Pakalpojums un Objekta adrese | C15: Kadastra Nr. | D15: kv.m. | E15: kv.m. | F15: kv.m. | G15: EUR bez PVN/m2 | H15: EUR bez PVN/m2 | I15: EUR bez PVN/m2 | J15: EUR bez PVN/m2
A16: 2 | B16: Teritorijas ikdienas uzkopšana Pātarnieki (brauktuves, ietves un cits cietais segums, zāliens) | C16: 6084-005-0062 | D16: 5000 | E16: 65000 | F16: ='Teritorijas sadalījums un ĪP'!D3 -> 57360 | G16: 0 | H16: 0 | I16: 0 | J16: 0
A17: * Papildu uzkopšanas intensitātes gadījumā norēķini tiek veikti, par pamatu ņemot attiecīgā biežuma vidējo uzkopšanas reižu skaitu mēnesī gada griezumā.
A19: Higiēnas un telpu uzturēšanas pakalpojumi KU8
A20: NPK | B20: KU8.1. HIGIĒNAS MATERIĀLI (pēc fakta) (saskaņā ar Tehniskās specifikācijas . punktu) | C20: OBJEKTA Kadastra Nr. | D20: Provizoriskais viena mēneša apjoms | E20: CENA par vienu vienību (EUR bez PVN) | F20: CENA par MĒNEŠA provizorisko apjomu (Eur bez PVN)
A21: 1 | B21: Roku dvieļi (ruļlos) | C21: 6084-005-0062 | D21: ='Higiēnas preces'!L3 -> 75 | E21: 0 | F21: =D21*E21 -> 0
A22: 2 | B22: Tualetes papīrs (Ruļļos) | D22: ='Higiēnas preces'!K3 -> 120 | E22: 0 | F22: =D22*E22 -> 0
A23: 3 | B23: Putu ziepes (gab) | D23: ='Higiēnas preces'!I3 -> 20 | E23: 0 | F23: =D23*E23 -> 0
A24: 4 | B24: Gaisa atsvaidzinātājs aerosols (gab) | D24: ='Higiēnas preces'!M3 -> 20 | E24: 0 | F24: =D24*E24 -> 0
A25: 5 | B25: Trauku mazgājamais līdzeklis | D25: ='Higiēnas preces'!J3 -> 10 | E25: 0 | F25: =D25*E25 -> 0
A26: 6 | B26: Dezinfekcijas līdzeklis virsmām/rokām izsmidzināms 500ml | D26: ='Higiēnas preces'!H3 -> 10 | E26: 0 | F26: =D26*E26 -> 0
A27: Kopējā cena EUR bez PVN par higiēnas materiāliem (Kritērijs KU8.1.) | F27: =SUM(F21:F26) -> 0
A28: NPK | B28: KU8.2. Maināmie paklāji (pēc fakta) (saskaņā ar Tehniskās specifikācijas . punktu) | C28: OBJEKTA Kadastra Nr. | D28: CENA par vienas vienības maiņu (EUR bez PVN) | E28: Paklāju daudzums | F28: CENA par kopējā daudzuma vienas reizes nomaiņu EUR bez PVN
A29: 1 | B29: Maināmo paklāju nomaiņa 85 x 150 cm (sintētisks) | C29: 6084-005-0062 | D29: 0 | E29: =Paklāji!E3 -> 6 | F29: =D29*E29 -> 0
A30: 2 | B30: Maināmo paklāju nomaiņa 115 x 200 cm (sintētisks) | D30: 0 | E30: =Paklāji!E4 -> 4 | F30: =D30*E30 -> 0
A31: Kopējā cena EUR bez PVN (Kritērijs KU8.2.) | F31: =SUM(F29:F30) -> 0
A32: NPK | B32: KU8.3. Dežūrpersonāla pakalpojumi (saskaņā ar Tehniskās specifikācijas . punktu) | C32: OBJEKTA Kadastra Nr. | D32: CENA mēnesī (EUR bez PVN) | E32: Ziemas sezonas noteikto mēnešu skaits | F32: Cena par kopējo ziemas sezonu EUR bez PVN
A33: 1 | B33: Dežūrapkopēja ziemas sezonā | C33: 6084-005-0062 | D33: 0 | E33: 6 | F33: =-D33*E33 -> 0
A34: 2 | B34: Dežūrsētnieks ziemas sezonā | D34: 0 | E34: 6 | F34: =-D34*E34 -> 0
A35: Kopējā cena EUR bez PVN (Kritērijs KU8.3.) | F35: =SUM(F33:F34) -> 0
A36: KOPĀ VĒRTĒJAMĀ CENA KU8 = (KU8.1.+KU8.2.+KU8.3.) | F36: =SUM(F35+F31+F27) -> 0
A38: PAPILDUS PAKALPOJUMI (KU9 kritērijs) **
A39: NPK | B39: PAPILDUS PAKALPOJUMI (KU6 kritērijs) ** | C39: MĒRVIENĪBA | D39: CENA PAR MĒRVIENĪBU | E39: PROVIZORISKAIS PAKALPOJUMU APJOMS par reizi (mērvienība) | F39: CENA PAR KOPĒJO APJOMU
A40: Nr. | B40: Pakalpojums | C40: (kv.m., stundas, kubi, gab. u.c.) | D40: (EUR bez PVN) | E40: (kv.m., stundas, kubi, gab. u.c.) | F40: (EUR bez PVN)
A41: 1 | B41: GRĪDAS SEGUMU UZKOPŠANA
A42: 1.1 | B42: Linoleja vaskošana (vecā vaska noņemšana, tīrīšana un vaskošana 2 kārtās) | C42: kvadrātmetrs | D42: 0 | E42: 500 | F42: =D42*E42 -> 0
A43: 1.2 | B43: Linoleja ķīmiskā pulēšana | C43: kvadrātmetrs | D43: 0 | E43: 100 | F43: =D43*E43 -> 0
A44: 1.3 | B44: Linoleja sausā pulēšana | C44: kvadrātmetrs | D44: 0 | E44: 100 | F44: =D44*E44 -> 0
A45: 1.4 | B45: Epoksīda grīdas seguma ģenerālā tīrīšana | C45: kvadrātmetrs | D45: 0 | E45: 150 | F45: =D45*E45 -> 0
A46: 1.5 | B46: Epoksīda grīdas seguma vaskošana | C46: kvadrātmetrs | D46: 0 | E46: 150 | F46: =D46*E46 -> 0
A47: 1.6 | B47: Akmens/betona seguma tīrīšana | C47: kvadrātmetrs | D47: 0 | E47: 1000 | F47: =D47*E47 -> 0
A48: 1.7 | B48: Mehanizēta cietā grīdas seguma mazgāšana | C48: kvadrātmetrs | D48: 0 | E48: 500 | F48: =D48*E48 -> 0
A49: 1.8 | B49: Flīžu seguma un to šuvju tīrīšana | C49: kvadrātmetrs | D49: 0 | E49: 300 | F49: =D49*E49 -> 0
A50: 2 | B50: LOGU UN STIKLA VIRSMU MAZGĀŠANA (abpusēja), ŽALŪZIJU TĪRĪŠANA
A51: 2.1 | B51: Logu (no abām pusēm stiklotās virsmas, t.sk. rāmju, iekšējo un ārējo palodžu) mazgāšana (BEZ pacēlāja) | C51: kvadrātmetrs | D51: 0 | E51: 250 | F51: =D51*E51 -> 0
A52: 2.2 | B52: Iekšējo un ārējo žalūziju tīrīšana | C52: kvadrātmetrs | D52: 0 | E52: 90 | F52: =D52*E52 -> 0
A53: 3 | B53: HIGIĒNAS PREČU TURĒTĀJI ***
A54: 3.1 | B54: Roku dvieļu sistēma TORK H1 (ar sensoru) vai ekvivalents (plastmasas) | C54: 1 gab turētājs | D54: 0 | E54: 5 | F54: =D54*E54 -> 0
A55: 3.2 | B55: Tualetes papīra sistēma TORK T6 vai ekvivalents (plastmasas) | C55: 1 gab turētājs | D55: 0 | E55: 5 | F55: =D55*E55 -> 0
A56: 3.3 | B56: Šķidro ziepju sistēma TORK S4 (putu) vai ekvivalents (plastmasas) | C56: 1 gab dozators | D56: 0 | E56: 5 | F56: =D56*E56 -> 0
A57: 4 | B57: CITI TELPU UZKOPŠANAS DARBI
A58: 4.1 | B58: Dežūrapkopēja pakalpojumi (ja nepieciešamas ārpus ziemas sezonas, un/vai papildus reizes) | C58: stunda | D58: 0 | E58: 480 | F58: =D58*E58 -> 0
A59: 4.2 | B59: Durvju (t.sk.rokturu), kāpņu margu, sienu vienreizēja padziļināta mazgāšana vai dezinfekcija | C59: stunda | D59: 0 | E59: 40 | F59: =D59*E59 -> 0
A60: 4.3 | B60: Mīksto mēbeļu (krēslu, dīvānu) ķīmiskā tīrīšana | C60: gabali | D60: 0 | E60: 40 | F60: =D60*E60 -> 0
A61: 4.4 | B61: Pilna telpu dezinfekcija (darba dienās, darba laikā 09:00-17:00) | C61: kvadrātmetrs | D61: 0 | E61: 4871 | F61: =D61*E61 -> 0
A62: 4.5 | B62: Pilna telpu dezinfekcija (ārpus darba laika 17:00-08:00 un brīvdienās) | C62: kvadrātmetrs | D62: 0 | E62: 4871 | F62: =D62*E62 -> 0
A63: 4.6 | B63: Ģenerālā telpu uzkopšana (t.sk.visu horizontālo un vertikālo virsmu, mīkstā grīdas seguma ķīmiskā tīrīšana, linoleja vaskošana vai pulēšana, logu un stikloto starpsienu mazgāšana, žalūziju mazgāšana, ēku fasādes mazgāšana) | C63: kvadrātmetrs | D63: 0 | E63: 4871 | F63: =D63*E63 -> 0
A64: 4.7 | B64: Telpu uzkopšana pēc avārijas situācijām (t.sk.ja nepieciešams, ar speciālo tehniku) | C64: kvadrātmetrs | D64: 0 | E64: 100 | F64: =D64*E64 -> 0
A65: 4.8 | B65: Telpu uzkopšana pēc remontdarbiem (visu horizontālo un vertikālo virsmu, t.sk. ja nepieciešams, ar speciālo uzkopšanas tehniku) | C65: kvadrātmetrs | D65: 0 | E65: 100 | F65: =D65*E65 -> 0
A66: 4.9 | B66: Ikdienā neizmantotu telpu uzkopšana (pagrabi, bēniņi, noliktavas) | C66: kvadrātmetrs | D66: 0 | E66: 20 | F66: =D66*E66 -> 0
A67: 4.1 | B67: Dzīvnieku uzturēšanas telpu mitrā mazgāšana | C67: kvadrātmetrs | D67: 0 | E67: 252.3 | F67: 0
A68: 4.11 | B68: Dzīvnieku uzturēšanas sprostu/būru dezinfekcija. | C68: gabali | D68: 0 | E68: 5 | F68: =D68*E68 -> 0
A69: 5 | B69: TERITORIJU UZKOPŠANAS DARBI
A70: 5.1 | B70: Dežūrsētnieka pakalpojumi (ja nepieciešamas ārpus ziemas sezonas, un/vai papildus reizes) | C70: stunda | D70: 0 | E70: 480 | F70: =D70*E70 -> 0
A71: 5.2 | B71: Papildus teritorijas sakopšanas darbi, kad nepieciešams uzkopt papildus platību (teritorijas slaucīšana, lapu, zaru un sīko atkritumu savākšana manuāli maisos) | C71: kvadrātmetrs | D71: 0 | E71: 500 | F71: =D71*E71 -> 0
A72: 5.3 | B72: Papildus teritorijas (aiz žoga) sakopšanas darbi (zāles pļaušana) | C72: kvadrātmetrs | D72: 0 | E72: 500 | F72: =D72*E72 -> 0
A73: 5.4 | B73: Papildus teritorijas sakopšanas darbi (krūmāju pļaušana ar trimmeri, materiāla savākšana un izvešana) | C73: kvadrātmetrs | D73: 0 | E73: 500 | F73: =D73*E73 -> 0
A74: 5.5 | B74: Bruģa mazgāšana/attīrīšana | C74: kvadrātmetrs | D74: 0 | E74: 550 | F74: =D74*E74 -> 0
A75: 5.6 | B75: Ēku fasādes mazgāšana | C75: kvadrātmetrs | D75: 0 | E75: 100 | F75: =D75*E75 -> 0
A76: 6 | B76: LIELGABARĪTA ATKRITUMU IZVEŠANA un DZĪVNIEKU IZCELSMES PRODUKTU UTILIZĀCIJA
A77: 6.1 | B77: Lielgabarīta atkritumu konteinera noma* | C77: 16 kubi | D77: 0 | E77: 2 | F77: =D77*E77 -> 0
A78: 6.2 | B78: Lielgabarīta atkritumu iznešana un izjaukšana(no telpām līdz transportam/konteineram)* | C78: stunda | D78: 0 | E78: 48 | F78: 0
A79: 6.3 | B79: Lielgabarīta atkritumu izvešana | C79: kubi | D79: 0 | E79: 32 | F79: =D79*E79 -> 0
A80: 6.4 | B80: Būvgružu atkritumu izvešana | C80: kubi | D80: 0 | E80: 32 | F80: =D80*E80 -> 0
A81: 6.5 | B81: Bīstamo atkritumu izvešana | C81: kubi | D81: 0 | E81: 4 | F81: =D81*E81 -> 0
A82: 6.6 | B82: Sniega izvešana | C82: kubi | D82: 0 | E82: 30 | F82: =D82*E82 -> 0
A83: 6.7 | B83: Dažādu dzīvnieku un nedzīvnieku izcelsmes produktu tvertnes (240L) nodrošināšana un apsaimniekošana saskaņā ar TS 51.3. punktu | C83: ceturksnis | D83: 0 | E83: 4 | F83: =D83*E83 -> 0
A84: Papildus pakalpojumi KOPĀ (KU9 kritērijs) | F84: =SUM(F42:F83) -> 0
A86: * - Darbi, BEZ IZVEŠANAS.
A87: ** - Papildus pakalpojumi ir pakalpojumi, kuri būs nepieciešami papildus ikdienas uzkopšanas pakalpojumiem, kuri nav iekļauti Ikdienas uzkopšanas pakalpojumos.
A88: ***- Izpildītājs ir tiesīgs par saviem līdzekļiem aizstāt Objektā esošos higiēnas preču turētājus ar citiem - līdzvērtīgiem, ja Pasūtītājs tam piekrīt un nomaiņas rezultātā netiek bojātas telpu sienas vai radītas neērtības vai finansiāli zaudējumi
A92: Aizpilda Pretendents (Izpildītājs)

Sheet FAKTISKĀS uzkopšanas biežums
A1: RKP PATARNIEKI FAKTISKAIS TELPU UZKOPŠANAS BIEŽUMS | K1: Uzkopšanas reize nedēļās dienā (norāda ar x, ja nepieciešams). | R1: Uzkopšanas intensitātes koeficients* | Z1: Telpu faktiskā uzkopjamā platība mēnesī*
A2: Nr. p.k. | B2: ĒKA | C2: KADASTRA APZĪMĒJUMS | D2: STĀVS | E2: Telpu grupa un telpas Nr. | F2: TELPAS NOSAUKUMS | G2: TELPU PLATĪBA m2 | H2: GRĪDAS SEGUMS | I2: TELPU GRUPA UZKOPŠANAS PROGRAMMĀ | J2: UZKOPŠANAS LAIKS | K2: Pr | L2: Ot | M2: Tr | N2: Ce | O2: Pk | P2: Se | Q2: Sv | R2: Katru dienu (30,4) | S2: Vienu reizi nedēļā (4,3) | T2: Vienu reizi divās nedēļās (2,2) | U2: Vienu reizi mēnesī (1) | V2: Divas reizes nedēļā (Pirmdienās, piektdienās) | W2: Trīs reizes nedēļā (Pirmdienās, trešdienās, piektdienās) | X2: Piecas reizes nedēļā (no pirmdienas līdz piektdienai) | Y2: ĪPAŠIE NOTEIKUMI
A3: 1 | B3: Administratīvā ēka | C3: 60840050062001 | D3: 1 | E3: 001-1 | F3: tualetes priekštelpa | G3: 3.7 | H3: Flīzes | I3: sanitārās telpas | J3: 7:00 - 15:00 | K3: x | L3: x | M3: x | N3: x | O3: x | P3: x | Q3: x | R3: 30.4 | Z3: =G3*(R3+S3+T3+U3+V3+W3+X3) -> 112.48 | AA3: AT
A4: 2 | B4: Administratīvā ēka | C4: 60840050062001 | D4: 1 | E4: 001-2 | F4: tualete ar ratiņkrēslu piekļuvi | G4: 4.2 | H4: Flīzes | I4: sanitārās telpas | J4: 7:00 - 15:00 | K4: x | L4: x | M4: x | N4: x | O4: x | P4: x | Q4: x | R4: 30.4 | Z4: =G4*(R4+S4+T4+U4+V4+W4+X4) -> 127.68 | AA4: AT
A5: 3 | B5: Administratīvā ēka | C5: 60840050062001 | D5: 1 | E5: 001-3 | F5: tualete, tualetes priekštelpa | G5: 5 | H5: Flīzes | I5: sanitārās telpas | J5: 7:00 - 15:00 | K5: x | L5: x | M5: x | N5: x | O5: x | P5: x | Q5: x | R5: 30.4 | Z5: =G5*(R5+S5+T5+U5+V5+W5+X5) -> 152 | AA5: AT
A6: 4 | B6: Administratīvā ēka | C6: 60840050062001 | D6: 1 | E6: 001-4 | F6: tualete, tualetes priekštelpa | G6: 4.8 | H6: Flīzes | I6: sanitārās telpas | J6: 7:00 - 15:00 | K6: x | L6: x | M6: x | N6: x | O6: x | P6: x | Q6: x | R6: 30.4 | Z6: =G6*(R6+S6+T6+U6+V6+W6+X6) -> 145.92 | AA6: AT
A7: 5 | B7: Administratīvā ēka | C7: 60840050062001 | D7: 1 | E7: 001-5 | F7: klientu uzgaidāmā telpa | G7: 74.9 | H7: Epoksīda | I7: biroju/darba telpa | J7: 7:00 - 15:00 | K7: x | L7: x | M7: x | N7: x | O7: x | P7: x | Q7: x | R7: 30.4 | Z7: =G7*(R7+S7+T7+U7+V7+W7+X7) -> 2276.96 | AA7: AT
A8: 6 | B8: Administratīvā ēka | C8: 60840050062001 | D8: 1 | E8: 001-6 | F8: Muitas kontroles telpa | G8: 7.1 | H8: Linolejs | I8: biroju/darba telpa | J8: 7:00 - 15:00 | K8: x | L8: x | M8: x | N8: x | O8: x | P8: x | Q8: x | R8: 30.4 | Z8: =G8*(R8+S8+T8+U8+V8+W8+X8) -> 215.84 | AA8: AT
A9: 7 | B9: Administratīvā ēka | C9: 60840050062001 | D9: 1 | E9: 001-7 | F9: muitas darba telpa | G9: 15.5 | H9: Linolejs | I9: biroju/darba telpa | J9: 7:00 - 15:00 | K9: x | L9: x | M9: x | N9: x | O9: x | P9: x | Q9: x | R9: 30.4 | Z9: =G9*(R9+S9+T9+U9+V9+W9+X9) -> 471.2 | AA9: AT
A10: 8 | B10: Administratīvā ēka | C10: 60840050062001 | D10: 1 | E10: 001-8 | F10: muitas kontroles telpa | G10: 57.8 | H10: Epoksīda | I10: biroju/darba telpa | J10: 7:00 - 15:00 | K10: x | L10: x | M10: x | N10: x | O10: x | P10: x | Q10: x | R10: 30.4 | Z10: =G10*(R10+S10+T10+U10+V10+W10+X10) -> 1757.12 | AA10: AT
A11: 9 | B11: Administratīvā ēka | C11: 60840050062001 | D11: 1 | E11: 001-9 | F11: muitas darba telpa | G11: 5 | H11: Linolejs | I11: biroju/darba telpa | J11: 7:00 - 15:00 | K11: x | N11: x | Q11: x | W11: =4.3*3 -> 12.9 | Z11: =G11*(R11+S11+T11+U11+V11+W11+X11) -> 64.5 | AA11: AT
A12: 10 | B12: Administratīvā ēka | C12: 60840050062001 | D12: 1 | E12: 001-10 | F12: inventāra noliktava | G12: 3 | H12: Linolejs | I12: tehniskā telpa | J12: 7:00 - 15:00 | K12: x | L12: x | M12: x | N12: x | O12: x | P12: x | Q12: x | R12: 30.4 | Z12: =G12*(R12+S12+T12+U12+V12+W12+X12) -> 91.2 | AA12: AT
A13: 11 | B13: Administratīvā ēka | C13: 60840050062001 | D13: 1 | E13: 001-11 | F13: kāpņu telpa | G13: 7.2 | H13: Linolejs | I13: Koplietošanas, publ. | J13: 7:00 - 15:00 | K13: x | L13: x | M13: x | N13: x | O13: x | P13: x | Q13: x | R13: 30.4 | Z13: =G13*(R13+S13+T13+U13+V13+W13+X13) -> 218.88 | AA13: AT
A14: 12 | B14: Administratīvā ēka | C14: 60840050062001 | D14: 1 | E14: 001-12 | F14: robežkontroles kabīne | G14: 2.6 | H14: Linolejs | I14: biroju/darba telpa | J14: 7:00 - 15:00 | K14: x | L14: x | M14: x | N14: x | O14: x | P14: x | Q14: x | R14: 30.4 | Z14: =G14*(R14+S14+T14+U14+V14+W14+X14) -> 79.04 | AA14: AT
A15: 13 | B15: Administratīvā ēka | C15: 60840050062001 | D15: 1 | E15: 001-13 | F15: gaitenis | G15: 14.4 | H15: Epoksīda | I15: Koplietošanas, publ. | J15: 7:00 - 15:00 | K15: x | L15: x | M15: x | N15: x | O15: x | P15: x | Q15: x | R15: 30.4 | Z15: =G15*(R15+S15+T15+U15+V15+W15+X15) -> 437.76 | AA15: AT
A16: 14 | B16: Administratīvā ēka | C16: 60840050062001 | D16: 1 | E16: 001-14 | F16: robežkontroles kabīne | G16: 2.6 | H16: Linolejs | I16: biroju/darba telpa | J16: 7:00 - 15:00 | K16: x | L16: x | M16: x | N16: x | O16: x | P16: x | Q16: x | R16: 30.4 | Z16: =G16*(R16+S16+T16+U16+V16+W16+X16) -> 79.04 | AA16: AT
A17: 15 | B17: Administratīvā ēka | C17: 60840050062001 | D17: 1 | E17: 001-15 | F17: VRS kontroles telpa | G17: 8.4 | H17: Linolejs | I17: biroju/darba telpa | J17: 7:00 - 15:00 | K17: x | L17: x | M17: x | N17: x | O17: x | P17: x | Q17: x | R17: 30.4 | Z17: =G17*(R17+S17+T17+U17+V17+W17+X17) -> 255.36 | AA17: AT
A18: 16 | B18: Administratīvā ēka | C18: 60840050062001 | D18: 1 | E18: 001-16 | F18: robežkontroles punkta telpa | G18: 67.9 | H18: Epoksīda | I18: biroju/darba telpa | J18: 7:00 - 15:00 | K18: x | L18: x | M18: x | N18: x | O18: x | P18: x | Q18: x | R18: 30.4 | Z18: =G18*(R18+S18+T18+U18+V18+W18+X18) -> 2064.16 | AA18: AT
A19: 17 | B19: Administratīvā ēka | C19: 60840050062001 | D19: 1 | E19: 001-17 | F19: apmeklētāju telpa | G19: 2.7 | H19: Linolejs | I19: biroju/darba telpa | J19: 7:00 - 15:00 | K19: x | L19: x | M19: x | N19: x | O19: x | P19: x | Q19: x | R19: 30.4 | Z19: =G19*(R19+S19+T19+U19+V19+W19+X19) -> 82.08
A20: 18 | B20: Administratīvā ēka | C20: 60840050062001 | D20: 1 | E20: 001-18 | F20: sanitārās robežkontroles inspekcija | G20: 10 | H20: Linolejs | I20: biroju/darba telpa | J20: 7:00 - 15:00 | K20: x | L20: x | M20: x | N20: x | O20: x | P20: x | Q20: x | R20: 30.4 | Z20: =G20*(R20+S20+T20+U20+V20+W20+X20) -> 304
A21: 19 | B21: Administratīvā ēka | C21: 60840050062001 | D21: 1 | E21: 001-19 | F21: apmeklētāju telpa | G21: 2.9 | H21: Linolejs | I21: biroju/darba telpa | J21: 7:00 - 15:00 | K21: x | L21: x | M21: x | N21: x | O21: x | P21: x | Q21: x | R21: 30.4 | Z21: =G21*(R21+S21+T21+U21+V21+W21+X21) -> 88.16
A22: 20 | B22: Administratīvā ēka | C22: 60840050062001 | D22: 1 | E22: 001-20 | F22: sanitārā robežinspekcija | G22: 15.8 | H22: Linolejs | I22: biroju/darba telpa | J22: 7:00 - 15:00 | K22: x | L22: x | M22: x | N22: x | O22: x | P22: x | Q22: x | R22: 30.4 | Z22: =G22*(R22+S22+T22+U22+V22+W22+X22) -> 480.32
A23: 21 | B23: Administratīvā ēka | C23: 60840050062001 | D23: 1 | E23: 001-21 | F23: priekšnieka telpa | G23: 32.2 | H23: Linolejs | I23: biroju/darba telpa | J23: 7:00 - 15:00 | K23: x | L23: x | M23: x | N23: x | O23: x | P23: x | Q23: x | R23: 30.4 | Z23: =G23*(R23+S23+T23+U23+V23+W23+X23) -> 978.88
A24: 22 | B24: Administratīvā ēka | C24: 60840050062001 | D24: 1 | E24: 001-22 | F24: kabinets | G24: 15.8 | H24: Linolejs | I24: biroju/darba telpa | J24: 7:00 - 15:00 | K24: x | L24: x | M24: x | N24: x | O24: x | P24: x | Q24: x | R24: 30.4 | Z24: =G24*(R24+S24+T24+U24+V24+W24+X24) -> 480.32
A25: 23 | B25: Administratīvā ēka | C25: 60840050062001 | D25: 1 | E25: 001-23 | F25: kabinets | G25: 15.9 | H25: Linolejs | I25: biroju/darba telpa | J25: 7:00 - 15:00 | K25: x | L25: x | M25: x | N25: x | O25: x | P25: x | Q25: x | R25: 30.4 | Z25: =G25*(R25+S25+T25+U25+V25+W25+X25) -> 483.36
A26: 24 | B26: Administratīvā ēka | C26: 60840050062001 | D26: 1 | E26: 001-24 | F26: iekštelpa | G26: 6.5 | H26: Linolejs | I26: biroju/darba telpa | J26: 7:00 - 15:00 | K26: x | L26: x | M26: x | N26: x | O26: x | P26: x | Q26: x | R26: 30.4 | Z26: =G26*(R26+S26+T26+U26+V26+W26+X26) -> 197.6
A27: 25 | B27: Administratīvā ēka | C27: 60840050062001 | D27: 1 | E27: 001-25 | F27: iekštelpa | G27: 7.4 | H27: Linolejs | I27: biroju/darba telpa | J27: 7:00 - 15:00 | K27: x | L27: x | M27: x | N27: x | O27: x | P27: x | Q27: x | R27: 30.4 | Z27: =G27*(R27+S27+T27+U27+V27+W27+X27) -> 224.96
A28: 26 | B28: Administratīvā ēka | C28: 60840050062001 | D28: 1 | E28: 001-26 | F28: kabinets | G28: 1.3 | H28: Linolejs | I28: biroju/darba telpa | J28: 7:00 - 15:00 | K28: x | N28: x | Q28: x | W28: =4.3*3 -> 12.9 | Z28: =G28*(R28+S28+T28+U28+V28+W28+X28) -> 16.77
A29: 27 | B29: Administratīvā ēka | C29: 60840050062001 | D29: 1 | E29: 001-27 | F29: kabinets | G29: 15.8 | H29: Linolejs | I29: biroju/darba telpa | J29: 7:00 - 15:00 | K29: x | L29: x | M29: x | N29: x | O29: x | P29: x | Q29: x | R29: 30.4 | Z29: =G29*(R29+S29+T29+U29+V29+W29+X29) -> 480.32
A30: 28 | B30: Administratīvā ēka | C30: 60840050062001 | D30: 1 | E30: 001-28 | F30: kabinets | G30: 15.8 | H30: Linolejs | I30: biroju/darba telpa | J30: 7:00 - 15:00 | K30: x | L30: x | M30: x | N30: x | O30: x | P30: x | Q30: x | R30: 30.4 | Z30: =G30*(R30+S30+T30+U30+V30+W30+X30) -> 480.32
A31: 29 | B31: Administratīvā ēka | C31: 60840050062001 | D31: 1 | E31: 001-29 | F31: zāle | G31: 119.3 | H31: Flīzes | I31: biroju/darba telpa | J31: 7:00 - 15:00 | K31: x | L31: x | M31: x | N31: x | O31: x | P31: x | Q31: x | R31: 30.4 | Z31: =G31*(R31+S31+T31+U31+V31+W31+X31) -> 3626.72
A32: 30 | B32: Administratīvā ēka | C32: 60840050062001 | D32: 1 | E32: 001-30 | F32: kabinets | G32: 12.1 | H32: Linolejs | I32: biroju/darba telpa | J32: 7:00 - 15:00 | K32: x | L32: x | M32: x | N32: x | O32: x | P32: x | Q32: x | R32: 30.4 | Z32: =G32*(R32+S32+T32+U32+V32+W32+X32) -> 367.84
A33: 31 | B33: Administratīvā ēka | C33: 60840050062001 | D33: 1 | E33: 001-31 | F33: laboratorija | G33: 2.4 | H33: Linolejs | I33: biroju/darba telpa | J33: 7:00 - 15:00 | K33: x | L33: x | M33: x | N33: x | O33: x | P33: x | Q33: x | R33: 30.4 | Z33: =G33*(R33+S33+T33+U33+V33+W33+X33) -> 72.96
A34: 32 | B34: Administratīvā ēka | C34: 60840050062001 | D34: 1 | E34: 001-32 | F34: sanmezgls | G34: 2.3 | H34: Linolejs | I34: sanitārās telpas | J34: 7:00 - 15:00 | K34: x | L34: x | M34: x | N34: x | O34: x | P34: x | Q34: x | R34: 30.4 | Z34: =G34*(R34+S34+T34+U34+V34+W34+X34) -> 69.92
A35: 33 | B35: Administratīvā ēka | C35: 60840050062001 | D35: 1 | E35: 001-33 | F35: apskates telpa | G35: 4.1 | H35: Linolejs | I35: biroju/darba telpa | J35: 7:00 - 15:00 | K35: x | L35: x | M35: x | N35: x | O35: x | P35: x | Q35: x | R35: 30.4 | Z35: =G35*(R35+S35+T35+U35+V35+W35+X35) -> 124.64
A36: 34 | B36: Administratīvā ēka | C36: 60840050062001 | D36: 1 | E36: 001-34 | F36: sanmezgls | G36: 2.1 | H36: Linolejs | I36: sanitārās telpas | J36: 7:00 - 15:00 | K36: x | L36: x | M36: x | N36: x | O36: x | P36: x | Q36: x | R36: 30.4 | Z36: =G36*(R36+S36+T36+U36+V36+W36+X36) -> 63.84
A37: 35 | B37: Administratīvā ēka | C37: 60840050062001 | D37: 1 | E37: 001-35 | F37: bēgļu telpa | G37: 11.5 | H37: Linolejs | I37: biroju/darba telpa | J37: 7:00 - 15:00 | K37: x | L37: x | M37: x | N37: x | O37: x | P37: x | Q37: x | R37: 30.4 | Z37: =G37*(R37+S37+T37+U37+V37+W37+X37) -> 349.6
A38: 36 | B38: Administratīvā ēka | C38: 60840050062001 | D38: 1 | E38: 001-36 | F38: aizturēto telpa | G38: 6.6 | H38: Linolejs | I38: biroju/darba telpa | J38: 7:00 - 15:00 | K38: x | L38: x | M38: x | N38: x | O38: x | P38: x | Q38: x | R38: 30.4 | Z38: =G38*(R38+S38+T38+U38+V38+W38+X38) -> 200.64
A39: 37 | B39: Administratīvā ēka | C39: 60840050062001 | D39: 1 | E39: 001-37 | F39: kinologa telpa | G39: 5.4 | H39: Linolejs | I39: biroju/darba telpa | J39: 7:00 - 15:00 | K39: x | L39: x | M39: x | N39: x | O39: x | P39: x | Q39: x | R39: 30.4 | Z39: =G39*(R39+S39+T39+U39+V39+W39+X39) -> 164.16
A40: 38 | B40: Administratīvā ēka | C40: 60840050062001 | D40: 1 | E40: 001-38 | F40: dušas telpa | G40: 3.8 | H40: Flīzes | I40: sanitārās telpas | J40: 7:00 - 15:00 | K40: x | L40: x | M40: x | N40: x | O40: x | P40: x | Q40: x | R40: 30.4 | Z40: =G40*(R40+S40+T40+U40+V40+W40+X40) -> 115.52
... A62: 60 | B62: Administratīvā ēka | C62: 60840050062001 | D62: 1 | E62: 001-60 | F62: vējtveris | G62: 5.8 | H62: Flīzes | I62: Koplietošanas, publ. | J62: 7:00 - 15:00 | K62: x | L62: x | M62: x | N62: x | O62: x | P62: x | Q62: x | R62: 30.4 | Z62: =G62*(R62+S62+T62+U62+V62+W62+X62) -> 176.32
A63: 61 | B63: Administratīvā ēka | C63: 60840050062001 | D63: 1 | E63: 001-61 | F63: izolators | G63: 5.5 | H63: Flīzes | I63: biroju/darba telpa | J63: 7:00 - 15:00 | S63: 1 | Z63: =G63*(R63+S63+T63+U63+V63+W63+X63) -> 5.5
A64: 62 | B64: Administratīvā ēka | C64: 60840050062001 | D64: 1 | E64: 001-62 | F64: sanmezgls | G64: 1.6 | H64: Flīzes | I64: sanitārās telpas | J64: 7:00 - 15:00 | K64: x | L64: x | M64: x | N64: x | O64: x | P64: x | Q64: x | R64: 30.4 | Z64: =G64*(R64+S64+T64+U64+V64+W64+X64) -> 48.64
A65: 63 | B65: Administratīvā ēka | C65: 60840050062001 | D65: 1 | E65: 001-63 | F65: sakaru telpa | G65: 5.3 | H65: Linolejs | I65: tehniskā telpa | J65: 7:00 - 15:00 | U65: 1 | Y65: Tikai IP klātbūtnē un pēc Pieprasījuma | Z65: =G65*(R65+S65+T65+U65+V65+W65+X65) -> 5.3
A66: 64 | B66: Administratīvā ēka | C66: 60840050062001 | D66: 1 | E66: 001-64 | F66: medpunkts | G66: 12.2 | H66: Flīzes | I66: sanitārās telpas | J66: 7:00 - 15:00 | K66: x | L66: x | M66: x | N66: x | O66: x | P66: x | Q66: x | R66: 30.4 | Z66: =G66*(R66+S66+T66+U66+V66+W66+X66) -> 370.88
A67: 65 | B67: Administratīvā ēka | C67: 60840050062001 | D67: 2 | E67: 001-65 | F67: zāle | G67: 99.7 | H67: Flīzes | I67: biroju/darba telpa | J67: 7:00 - 15:00 | K67: x | L67: x | M67: x | N67: x | O67: x | P67: x | Q67: x | R67: 30.4 | Z67: =G67*(R67+S67+T67+U67+V67+W67+X67) -> 3030.88
A68: 66 | B68: Administratīvā ēka | C68: 60840050062001 | D68: 2 | E68: 001-66 | F68: nojume | G68: 167.9 | H68: bruģis | I68: ārtelpa | J68: 7:00 - 15:00 | Y68: mazā nojume pie galvenās ēkas | Z68: =G68*(R68+S68+T68+U68+V68+W68+X68) -> 0 | AA68: nav iekļaujam pie telpu platības
A69: 67 | B69: Administratīvā ēka | C69: 60840050062001 | D69: 2 | E69: 001-67 | F69: nojume | G69: 166.9 | H69: bruģis | I69: ārtelpa | J69: 7:00 - 15:00 | Y69: mazās nojume pie galvenās ēkas | Z69: =G69*(R69+S69+T69+U69+V69+W69+X69) -> 0 | AA69: nav iekļaujams pie telpu platības
A70: 68 | B70: Administratīvā ēka | C70: 60840050062001 | D70: 2 | E70: 001-68 | F70: sanāksmju telpa | G70: 76.5 | H70: Linolejs | I70: biroju/darba telpa | J70: 7:00 - 15:00 | K70: x | L70: x | M70: x | N70: x | O70: x | P70: x | Q70: x | R70: 30.4 | Z70: =G70*(R70+S70+T70+U70+V70+W70+X70) -> 2325.6 | AA70: AT
A71: 69 | B71: Administratīvā ēka | C71: 60840050062001 | D71: 2 | E71: 001-69 | F71: vīriešu tualete | G71: 1.7 | H71: Flīzes | I71: sanitārās telpas | J71: 7:00 - 15:00 | K71: x | L71: x | M71: x | N71: x | O71: x | P71: x | Q71: x | R71: 30.4 | Z71: =G71*(R71+S71+T71+U71+V71+W71+X71) -> 51.68 | AA71: AT
A72: 70 | B72: Administratīvā ēka | C72: 60840050062001 | D72: 2 | E72: 001-70 | F72: sieviešu tualete | G72: 1.8 | H72: Flīzes | I72: sanitārās telpas | J72: 7:00 - 15:00 | K72: x | L72: x | M72: x | N72: x | O72: x | P72: x | Q72: x | R72: 30.4 | Z72: =G72*(R72+S72+T72+U72+V72+W72+X72) -> 54.72 | AA72: AT
A73: 71 | B73: Administratīvā ēka | C73: 60840050062001 | D73: 2 | E73: 001-71 | F73: tualetes priekštelpa | G73: 1.8 | H73: Linolejs | I73: sanitārās telpas | J73: 7:00 - 15:00 | K73: x | L73: x | M73: x | N73: x | O73: x | P73: x | Q73: x | R73: 30.4 | Z73: =G73*(R73+S73+T73+U73+V73+W73+X73) -> 54.72 | AA73: AT
A74: 72 | B74: Administratīvā ēka | C74: 60840050062001 | D74: 2 | E74: 001-72 | F74: tualetes priekštelpa | G74: 1.8 | H74: Linolejs | I74: sanitārās telpas | J74: 7:00 - 15:00 | K74: x | L74: x | M74: x | N74: x | O74: x | P74: x | Q74: x | R74: 30.4 | Z74: =G74*(R74+S74+T74+U74+V74+W74+X74) -> 54.72 | AA74: AT
A75: 73 | B75: Administratīvā ēka | C75: 60840050062001 | D75: 2 | E75: 001-73 | F75: gaitenis | G75: 27.4 | H75: Linolejs | I75: Koplietošanas, publ. | J75: 7:00 - 15:00 | K75: x | L75: x | M75: x | N75: x | O75: x | P75: x | Q75: x | R75: 30.4 | Z75: =G75*(R75+S75+T75+U75+V75+W75+X75) -> 832.96 | AA75: AT
A76: 74 | B76: Administratīvā ēka | C76: 60840050062001 | D76: 2 | E76: 001-74 | F76: personāla ģērbtuve | G76: 15.2 | H76: Linolejs | I76: sanitārās telpas | J76: 7:00 - 15:00 | K76: x | L76: x | M76: x | N76: x | O76: x | P76: x | Q76: x | R76: 30.4 | Z76: =G76*(R76+S76+T76+U76+V76+W76+X76) -> 462.08 | AA76: AT
A77: 75 | B77: Administratīvā ēka | C77: 60840050062001 | D77: 2 | E77: 001-75 | F77: pesonāla ģērbtuve | G77: 16.4 | H77: Linolejs | I77: sanitārās telpas | J77: 7:00 - 15:00 | K77: x | L77: x | M77: x | N77: x | O77: x | P77: x | Q77: x | R77: 30.4 | Z77: =G77*(R77+S77+T77+U77+V77+W77+X77) -> 498.56 | AA77: AT
A78: 76 | B78: Administratīvā ēka | C78: 60840050062001 | D78: 2 | E78: 001-76 | F78: personāla ģērbtuve | G78: 16.4 | H78: Linolejs | I78: sanitārās telpas | J78: 7:00 - 15:00 | K78: x | L78: x | M78: x | N78: x | O78: x | P78: x | Q78: x | R78: 30.4 | Z78: =G78*(R78+S78+T78+U78+V78+W78+X78) -> 498.56 | AA78: AT
A79: 77 | B79: Administratīvā ēka | C79: 60840050062001 | D79: 2 | E79: 001-77 | F79: personāla ģērbtuve | G79: 16.3 | H79: Linolejs | I79: sanitārās telpas | J79: 7:00 - 15:00 | K79: x | L79: x | M79: x | N79: x | O79: x | P79: x | Q79: x | R79: 30.4 | Z79: =G79*(R79+S79+T79+U79+V79+W79+X79) -> 495.52 | AA79: AT
A80: 78 | B80: Administratīvā ēka | C80: 60840050062001 | D80: 2 | E80: 001-78 | F80: ēdamtelpa | G80: 10 | H80: Linolejs | I80: sanitārās telpas | J80: 7:00 - 15:00 | K80: x | L80: x | M80: x | N80: x | O80: x | P80: x | Q80: x | R80: 30.4 | Z80: =G80*(R80+S80+T80+U80+V80+W80+X80) -> 304
A81: 79 | B81: Administratīvā ēka | C81: 60840050062001 | D81: 2 | E81: 001-79 | F81: sanmezgls | G81: 1.2 | H81: Linolejs | I81: sanitārās telpas | J81: 7:00 - 15:00 | K81: x | L81: x | M81: x | N81: x | O81: x | P81: x | Q81: x | R81: 30.4 | Z81: =G81*(R81+S81+T81+U81+V81+W81+X81) -> 36.48
A82: 80 | B82: Administratīvā ēka | C82: 60840050062001 | D82: 2 | E82: 001-80 | F82: sanmezgls | G82: 1.5 | H82: Linolejs | I82: sanitārās telpas | J82: 7:00 - 15:00 | K82: x | L82: x | M82: x | N82: x | O82: x | P82: x | Q82: x | R82: 30.4 | Z82: =G82*(R82+S82+T82+U82+V82+W82+X82) -> 45.6
A83: 81 | B83: Administratīvā ēka | C83: 60840050062001 | D83: 2 | E83: 001-81 | F83: ģērbtuve | G83: 11.4 | H83: Linolejs | I83: sanitārās telpas | J83: 7:00 - 15:00 | K83: x | L83: x | M83: x | N83: x | O83: x | P83: x | Q83: x | R83: 30.4 | Z83: =G83*(R83+S83+T83+U83+V83+W83+X83) -> 346.56
A84: 82 | B84: Administratīvā ēka | C84: 60840050062001 | D84: 2 | E84: 001-82 | F84: kabinets | G84: 27.9 | H84: Linolejs | I84: biroju/darba telpa | J84: 7:00 - 15:00 | K84: x | L84: x | M84: x | N84: x | O84: x | P84: x | Q84: x | R84: 30.4 | Z84: =G84*(R84+S84+T84+U84+V84+W84+X84) -> 848.16
A85: 83 | B85: Administratīvā ēka | C85: 60840050062001 | D85: 2 | E85: 001-83 | F85: kabinets | G85: 17.6 | H85: Linolejs | I85: biroju/darba telpa | J85: 7:00 - 15:00 | K85: x | L85: x | M85: x | N85: x | O85: x | P85: x | Q85: x | R85: 30.4 | Z85: =G85*(R85+S85+T85+U85+V85+W85+X85) -> 535.04
A86: 84 | B86: Administratīvā ēka | C86: 60840050062001 | D86: 2 | E86: 001-84 | F86: kabinets | G86: 12.6 | H86: Linolejs | I86: biroju/darba telpa | J86: 7:00 - 15:00 | K86: x | L86: x | M86: x | N86: x | O86: x | P86: x | Q86: x | R86: 30.4 | Z86: =G86*(R86+S86+T86+U86+V86+W86+X86) -> 383.04
A87: 85 | B87: Administratīvā ēka | C87: 60840050062001 | D87: 2 | E87: 001-85 | F87: gaitenis | G87: 28 | H87: Linolejs | I87: Koplietošanas, publ. | J87: 7:00 - 15:00 | K87: x | L87: x | M87: x | N87: x | O87: x | P87: x | Q87: x | R87: 30.4 | Z87: =G87*(R87+S87+T87+U87+V87+W87+X87) -> 851.2
A88: 86 | B88: Administratīvā ēka | C88: 60840050062001 | D88: 2 | E88: 001-86 | F88: atpūtas telpa | G88: 19.2 | H88: Linolejs | I88: sanitārās telpas | J88: 7:00 - 15:00 | K88: x | L88: x | M88: x | N88: x | O88: x | P88: x | Q88: x | R88: 30.4 | Z88: =G88*(R88+S88+T88+U88+V88+W88+X88) -> 583.68
A89: 87 | B89: Administratīvā ēka | C89: 60840050062001 | D89: 2 | E89: 001-87 | F89: žāvētava | G89: 9.7 | H89: Linolejs | I89: sanitārās telpas | J89: 7:00 - 15:00 | K89: x | L89: x | M89: x | N89: x | O89: x | P89: x | Q89: x | R89: 30.4 | Z89: =G89*(R89+S89+T89+U89+V89+W89+X89) -> 294.88
A90: 88 | B90: Administratīvā ēka | C90: 60840050062001 | D90: 2 | E90: 001-88 | F90: žāvētava | G90: 6.5 | H90: Linolejs | I90: sanitārās telpas | J90: 7:00 - 15:00 | K90: x | L90: x | M90: x | N90: x | O90: x | P90: x | Q90: x | R90: 30.4 | Z90: =G90*(R90+S90+T90+U90+V90+W90+X90) -> 197.6
A91: 89 | B91: Administratīvā ēka | C91: 60840050062001 | D91: 2 | E91: 001-89 | F91: ģērbtuve, dušas telpa | G91: 33.1 | H91: Linolejs | I91: sanitārās telpas | J91: 7:00 - 15:00 | K91: x | L91: x | M91: x | N91: x | O91: x | P91: x | Q91: x | R91: 30.4 | Z91: =G91*(R91+S91+T91+U91+V91+W91+X91) -> 1006.24
... A106: 104 | B106: Robežsargu kontroles paviljons LV | C106: 60840050062006 | D106: 1 | E106: 001 1 | F106: Robežsargu kontroles paviljons | G106: 9.3 | H106: Flīzes | I106: biroju/darba telpa | J106: 7:00 - 15:00 | K106: x | L106: x | M106: x | N106: x | O106: x | P106: x | Q106: x | R106: 30.4 | Z106: =G106*(R106+S106+T106+U106+V106+W106+X106) -> 282.72
A107: 105 | B107: Sanitārā dienesta ēka | C107: 60840050062007 | D107: 1 | E107: 001 1 | F107: Veterinārais kabinets | G107: 9.9 | H107: Flīzes | I107: biroju/darba telpa | J107: 7:00 - 15:00 | S107: 4.3 | Z107: =G107*(R107+S107+T107+U107+V107+W107+X107) -> 42.57
A108: 106 | B108: Sanitārā dienesta ēka | C108: 60840050062007 | D108: 1 | E108: 001-2 | F108: Laboratorija | G108: 10.3 | H108: Flīzes | I108: biroju/darba telpa | J108: 7:00 - 15:00 | S108: 4.3 | Y108: Dezinfekcija 1 x ned | Z108: =G108*(R108+S108+T108+U108+V108+W108+X108) -> 44.29
A109: 107 | B109: Sanitārā dienesta ēka | C109: 60840050062007 | D109: 1 | E109: 001-3 | F109: Tualete | G109: 1.7 | H109: Flīzes | I109: sanitārās telpas | J109: 7:00 - 15:00 | T109: 1 | Y109: Pēc PVD pieprsījumu | Z109: =G109*(R109+S109+T109+U109+V109+W109+X109) -> 1.7
A110: 108 | B110: Sanitārā dienesta ēka | C110: 60840050062007 | D110: 1 | E110: 001-3 | F110: Priekštelpa | G110: 2.3 | H110: Flīzes | I110: Koplietošanas, publ. | J110: 7:00 - 15:00 | T110: 1 | Y110: Pēc PVD pieprsījumu | Z110: =G110*(R110+S110+T110+U110+V110+W110+X110) -> 2.3
A111: 109 | B111: Sanitārā dienesta ēka | C111: 60840050062007 | D111: 1 | E111: 001-4 | F111: Gaitenis | G111: 8.2 | H111: Flīzes | I111: Koplietošanas, publ. | J111: 7:00 - 15:00 | T111: 1 | Y111: Pēc PVD pieprsījumu | Z111: =G111*(R111+S111+T111+U111+V111+W111+X111) -> 8.2
A112: 110 | B112: Sanitārā dienesta ēka | C112: 60840050062007 | D112: 1 | E112: 001-4 | F112: Dušas telpa | G112: 2.5 | H112: Flīzes | I112: sanitārās telpas | J112: 7:00 - 15:00 | T112: 1 | Y112: Pēc PVD pieprsījumu | Z112: =G112*(R112+S112+T112+U112+V112+W112+X112) -> 2.5
A113: 111 | B113: Sanitārā dienesta ēka | C113: 60840050062007 | D113: 1 | E113: 001-5 | F113: Vējtveris | G113: 1.1 | H113: Flīzes | I113: Koplietošanas, publ. | J113: 7:00 - 15:00 | T113: 1 | Y113: Pēc PVD pieprsījumu | Z113: =G113*(R113+S113+T113+U113+V113+W113+X113) -> 1.1
A114: 112 | B114: Sanitārā dienesta ēka | C114: 60840050062007 | D114: 1 | E114: 001-5 | F114: Noliktava | G114: 13.7 | H114: Flīzes | I114: tehniskā telpa | J114: 7:00 - 15:00 | T114: 1 | Y114: Pēc PVD pieprsījumu | Z114: =G114*(R114+S114+T114+U114+V114+W114+X114) -> 13.7
A115: 113 | B115: Sanitārā dienesta ēka | C115: 60840050062007 | D115: 1 | E115: 001-6 | F115: Barības nojume | G115: 10.6 | H115: Betons | I115: tehniskā telpa | J115: 7:00 - 15:00 | T115: 1 | Y115: Pēc PVD pieprsījumu | Z115: =G115*(R115+S115+T115+U115+V115+W115+X115) -> 10.6
A116: 114 | B116: Sanitārā dienesta ēka | C116: 60840050062007 | D116: 1 | E116: 001-6 | F116: Gaitenis | G116: 14.3 | H116: Flīzes | I116: Koplietošanas, publ. | J116: 7:00 - 15:00 | T116: 1 | Y116: Pēc PVD pieprsījumu | Z116: =G116*(R116+S116+T116+U116+V116+W116+X116) -> 14.3
A117: 115 | B117: Sanitārā dienesta ēka | C117: 60840050062007 | D117: 1 | E117: 001-7 | F117: Ģērbtuve | G117: 8.3 | H117: Flīzes | I117: sanitārās telpas | J117: 7:00 - 15:00 | T117: 1 | Y117: Pēc PVD pieprsījumu | Z117: =G117*(R117+S117+T117+U117+V117+W117+X117) -> 8.3
A118: 116 | B118: Sanitārā dienesta ēka | C118: 60840050062007 | D118: 1 | E118: 001-7 | F118: Dušas telpa | G118: 1.5 | H118: Flīzes | I118: sanitārās telpas | J118: 7:00 - 15:00 | T118: 1 | Y118: Pēc PVD pieprsījumu | Z118: =G118*(R118+S118+T118+U118+V118+W118+X118) -> 1.5
A119: 117 | B119: Sanitārā dienesta ēka | C119: 60840050062007 | D119: 1 | E119: 001-8 | F119: Tualete | G119: 1.5 | H119: Flīzes | I119: sanitārās telpas | J119: 7:00 - 15:00 | T119: 1 | Y119: Pēc PVD pieprsījumu | Z119: =G119*(R119+S119+T119+U119+V119+W119+X119) -> 1.5
A120: 118 | B120: Sanitārā dienesta ēka | C120: 60840050062007 | D120: 1 | E120: 001-8 | F120: Dezinfekcijas telpa | G120: 8.9 | H120: Flīzes | I120: sanitārās telpas | J120: 7:00 - 15:00 | T120: 1 | Y120: Pēc PVD pieprsījumu | Z120: =G120*(R120+S120+T120+U120+V120+W120+X120) -> 8.9
... A127: 125 | B127: Sanitārā dienesta ēka | C127: 60840050062007 | D127: 1 | E127: 001-12 | F127: Boksu telpas lopiem | G127: 184.3 | H127: Gumija | I127: sanitārās telpas | J127: 7:00 - 15:00 | T127: 1 | Y127: Pēc PVD pieprsījumu | Z127: =G127*(R127+S127+T127+U127+V127+W127+X127) -> 184.3
A128: 126 | B128: Sanitārā dienesta ēka | C128: 60840050062007 | D128: 1 | E128: 001-12 | F128: Laboratorija | G128: 6 | H128: Flīzes | I128: biroju/darba telpa | J128: 7:00 - 15:00 | S128: 4.3 | Y128: Dezinfekcija 1 x ned | Z128: =G128*(R128+S128+T128+U128+V128+W128+X128) -> 25.8
A129: 127 | B129: Sanitārā dienesta ēka | C129: 60840050062007 | D129: 1 | E129: 001-13 | F129: Lopu izolātors | G129: 14.1 | H129: Gumija | I129: sanitārās telpas | J129: 7:00 - 15:00 | T129: 1 | Y129: Pēc PVD pieprsījumu | Z129: =G129*(R129+S129+T129+U129+V129+W129+X129) -> 14.1
A130: 128 | B130: Sanitārā dienesta ēka | C130: 60840050062007 | D130: 1 | E130: 001-13 | F130: Priekštelpa | G130: 5.4 | H130: Flīzes | I130: Koplietošanas, publ. | J130: 7:00 - 15:00 | T130: 1 | Y130: Pēc PVD pieprsījumu | Z130: =G130*(R130+S130+T130+U130+V130+W130+X130) -> 5.4
A131: 129 | B131: Sanitārā dienesta ēka | C131: 60840050062007 | D131: 1 | E131: 001-14 | F131: Izolātors | G131: 14.6 | H131: Gumija | I131: biroju/darba telpa | J131: 7:00 - 15:00 | T131: 1 | Y131: Pēc PVD pieprsījumu | Z131: =G131*(R131+S131+T131+U131+V131+W131+X131) -> 14.6
A132: 130 | B132: Sanitārā dienesta ēka | C132: 60840050062007 | D132: 1 | E132: 001-14 | F132: Stāvvietas zirgiem | G132: 80 | H132: Gumija | I132: sanitārās telpas | J132: 7:00 - 15:00 | T132: 1 | Y132: Pēc PVD pieprsījumu | Z132: =G132*(R132+S132+T132+U132+V132+W132+X132) -> 80
A133: 131 | B133: Sanitārā dienesta ēka | C133: 60840050062007 | D133: 1 | E133: 001-15 | F133: Noliktava | G133: 8 | H133: Flīzes | I133: tehniskā telpa | J133: 7:00 - 15:00 | T133: 1 | Y133: Pēc PVD pieprsījumu | Z133: =G133*(R133+S133+T133+U133+V133+W133+X133) -> 8
A134: 132 | B134: Sanitārā dienesta ēka | C134: 60840050062007 | D134: 1 | E134: 001-15 | F134: Kautuve | G134: 16.7 | H134: Flīzes | I134: sanitārās telpas | J134: 7:00 - 15:00 | T134: 1 | Y134: Pēc PVD pieprsījumu | Z134: =G134*(R134+S134+T134+U134+V134+W134+X134) -> 16.7
A135: 133 | B135: Sanitārā dienesta ēka | C135: 60840050062007 | D135: 1 | E135: 001-16 | F135: Utilizācijas krāsns | G135: 11.9 | H135: Flīzes | I135: tehniskā telpa | J135: 7:00 - 15:00 | T135: 1 | Y135: Dezinfekcija 1 x mēn | Z135: =G135*(R135+S135+T135+U135+V135+W135+X135) -> 11.9
A136: 134 | B136: Sanitārā dienesta ēka | C136: 60840050062007 | D136: 1 | E136: 001-16 | F136: Saldēšanas kamera | G136: 10 | H136: Flīzes | I136: tehniskā telpa | J136: 7:00 - 15:00 | T136: 1 | Y136: Dezinfekcija 1 x mēn | Z136: =G136*(R136+S136+T136+U136+V136+W136+X136) -> 10
A137: 135 | B137: Sanitārā dienesta ēka | C137: 60840050062007 | D137: 1 | E137: 001-17 | F137: Terase | G137: 123.8 | H137: Gumija | I137: ārtelpa | J137: 7:00 - 15:00 | T137: 1 | Y137: Pēc PVD pieprsījumu | Z137: =G137*(R137+S137+T137+U137+V137+W137+X137) -> 123.8
A138: 136 | B138: Padziļinātās kontroles ēka | C138: 60840050062008 | D138: 1 | E138: 001-1 | F138: Kontroles telpa | G138: 318.2 | H138: Betons | I138: biroju/darba telpa | J138: 7:00 - 15:00 | K138: x | M138: x | O138: x | W138: =4.3*3 -> 12.9 | Z138: =G138*(R138+S138+T138+U138+V138+W138+X138) -> 4104.78
A139: 137 | B139: Padziļinātās kontroles ēka | C139: 60840050062008 | D139: 1 | E139: 001-2 | F139: Elektrokāra nojume | G139: 17.7 | H139: Betons | I139: tehniskā telpa | J139: 7:00 - 15:00 | R139: 30.4 | Z139: =G139*(R139+S139+T139+U139+V139+W139+X139) -> 538.08
A140: 138 | B140: Padziļinātās kontroles ēka | C140: 60840050062008 | D140: 1 | E140: 001-3 | F140: Noliktava | G140: 49.9 | H140: Betons | I140: tehniskā telpa | J140: 7:00 - 15:00 | U140: 1 | Y140: Pēc pieprasījuma un MP klātbūtnē | Z140: =G140*(R140+S140+T140+U140+V140+W140+X140) -> 49.9
A141: 139 | B141: Padziļinātās kontroles ēka | C141: 60840050062008 | D141: 1 | E141: 001-4 | F141: Pārziņa telpa | G141: 11.7 | H141: Linolejs | I141: biroju/darba telpa | J141: 7:00 - 15:00 | K141: x | M141: x | O141: x | W141: =4.3*3 -> 12.9 | Z141: =G141*(R141+S141+T141+U141+V141+W141+X141) -> 150.93
...

Sheet Telpu sadalījums un ĪP
F2: SADALĪJUMS PA TELPU GRUPĀM
B3: NPK | C3: OBJEKTS | D3: TELPU KOPĒJĀ PLATĪBA (m²) | F3: Ārtelpa | G3: Biroju/darba telpas | H3: Koplietošanas telpas | I3: Sanitārās telpas | J3: Tehniskās telpas | M3: ĪPAŠĀS PRASĪBAS (JĀŅEM VĒRĀ)
B4: Nr. | C4: Nosaukums | D4: (m²) | F4: (m²) | G4: (m²) | H4: (m²) | I4: (m²) | J4: (m²)
B5: 1 | C5: PATARNIEKI | D5: =F5+G5+H5+I5+J5 -> 4871 | F5: 486.3 | G5: 2243.6 | H5: 347.5 | I5: 843.5 | J5: 950.1 | M5: Pēc dzīvnieku uzturēšanās dzīvnieku novietnēs, attiecīgo telpu mazgāšana ir jāveic izmantojot augstspiediena iekārtu. PVD telpu uzkopšana jāveic saskaņā ar PVD prasībām.

Sheet Telpu ikdienas UP
C1: KVALITĀTES LĪMENIS
B2: TELPU IKDIENAS UZKOPŠANAS PAKALPOJUMI | C2: MĒBELES PIEDERUMI | D2: GRĪDAS | E2: SIENAS | F2: GRIESTI
B3: BIROJU/ DARBA TELPAS, ZĀLES, EKSPOZĪCIJU ZĀLES | C3: 4 | D3: 4 | E3: 4 | F3: 3
B4: Atkritumu grozu tukšošana un maisiņu nomaiņa *
B5: Ādas mēbeļu tīrīšana ar atbilstošu līdzekli
B6: Cietā grīdas seguma mitrā uzkopšana telpās
B7: Durvju rokturu tīrīšana ar dezinficējošu līdzekli
B8: Elektroslēdžu un rozešu mitrā tīrīšana
B9: Gaismas ķermeņu un reljefu interjera elementu tīrīšana līdz 2 m augstumam
B10: Brīvo galda virsmu mitrā tīrīšana, ja uz virsmas izklaidus nav papīri **
B11: Grīdlīstšu un ventilācijas restu mitrā tīrīšana
B12: Horizontālo un vertikālo virsmu mitrā tīrīšana (skapji, plaukti, palodzes, galdi, krēsli)
B13: Krēslu kāju mitrā tīrīšana
B14: Lokālu traipu tīrīšana no horizontālām un vertikālajām virsmām (skapji, plaukti, galdi, krēsli, durvis, sienas, stikla starpsienas)
B15: Mīkstā grīdas seguma (ja tāds ir) izsūkšana ar putekļusūcēju
B16: Mīksto mēbeļu (ja tādas ir) izsūkšana ar putekļu sūcēju
B17: SANITĀRĀS, VIRTUVES TELPAS | C17: 4 | D17: 4 | E17: 4 | F17: 3
B18: Atkritumu grozu tukšošana un maisiņu nomaiņa *
B19: Atkritumu tvertnes mazgāšana un dezinficēšana
B20: Cietā grīdas seguma mitrā uzkopšana ar dezinficējošu līdzekli
B21: Durvju rokturu tīrīšana ar dezinficējošu līdzekli
B22: Duškabīnes, dušas stūra vai vannas (ja tāda telpā uzstādīta) tīrīšana
B23: Gaismas ķermeņu un reljefu interjera elementu tīrīšana līdz 2 m augstumam
B24: Grīdlīstšu un ventilācijas restu mitrā tīrīšana
B25: Higiēnas preču turētāju mitrā tīrīšana
B26: Higiēnas preču papildināšana
B27: Higiēnas preču piegāde
B28: Horizontālo un vertikālo virsmu mitrā tīrīšana (skapji, plaukti, palodzes, galdi, krēsli)
B29: Lokālu traipu tīrīšana no horizontālajām un vertikālām virsmām
... B37: WC gaisa atsvaidzinātāja nodrošināšana
B38: KOPLIETOŠANAS TELPAS | C38: 3 | D38: 3 | E38: 3 | F38: 2
B39: Atkritumu grozu tukšošana un maisiņu nomaiņa *
B40: Ādas mēbeļu tīrīšana ar atbilstošu līdzekli
B41: Cietā grīdas seguma mitrā uzkopšana
B42: Durvju rokturu tīrīšana ar dezinficējošu līdzekli
B43: Elektroslēdžu un rozešu mitrā tīrīšana
B44: Gaismas ķermeņu un reljefu interjera elemntu tīrīšana līdz 2m augstumam
B45: Grīdlīstšu un ventilācijas restu mitrā tīrīšana
B46: Horizontālo un vertikālo virsmu mitrā tīrīšana (skapji, plaukti, palodzes, galdi, krēsli)
B47: Krēslu kāju mitrā tīrīšana
B48: Lokālu traipu tīrīšana no horizontālām un vertikālajām virsmām (skapji, plaukti, galdi, krēsli, durvis, sienas, stikla starpsienas)
B49: Kāpņu margu un roku balstu mitrā tīrīšana (ar dezinficējošu)
B50: Mīkstā grīdas seguma izsūkšana ar putekļusūcēju
... B54: Spoguļu tīrīšana
B55: TEHNISKĀS TELPAS | C55: 2 | D55: 2 | E55: 2 | F55: 2
B56: Atkritumu grozu tukšošana un maisiņu nomaiņa *
B57: Cietā grīdas seguma mitrā uzkopšana (serveru telpās uzkopj tikai grīdas segumu)
B58: Elektroslēdžu un rozešu mitrā tīrīšana
B59: Grīdlīstšu un ventilācijas restu mitrā tīrīšana
B60: Horizontāli virsmu mitrā tīrīšana (skapji, plaukti, palodzes, galdi, krēsli)
B61: Horizontālo un vertikālo virsmu mitrā tīrīšana (skapji, plaukti, palodzes, galdi, krēsli)
B63: * - Atkritumi urnas jāiztukšo katru dienu, ja tajās ir atkritumi. Maisiņi tiek mainīti, ja atkritumos ir bioloģiskas izcelsmes atkritumi. Ja ir iespēja un Lietotājs/Pasūtītājs to pieprasa, tad atkritumi arī ir jāšķiro³
B64: ** - Par atbrīvotām tiek uzskatītas virsmas bez dokumentiem, mapēm un privātām lietām vai traukiem (uz galdiem var atrasties rakstāmpiederumu organizatori, plastmasas „šālītes“ u. tml.).
B65: *** - Šie pakalpojumi (kafijas automāta, ledusskapja un virtuves skapīšu tīrīšana no iekšpuses) jāveic, ja Pasūtītājs vai Lietotājs to pieprasa. Visu rūpīgi izņemot, iztīrot un pēc tam saliekot atpakaļ.
B66: **** - Ja Pasūtītājs vai Lietotājs to pieprasa, Izpildītājam jāseko līdzi, lai virtuvē vienmēr būtu trauku mazgāšanas līdzeklis un švamme(mazgāšanai ar rokām), gumijota lupatiņa un/ vai trauku tabletes un sāls trauku mazgājamajai mašīna (ja tāda ir).

Sheet Teritorijas sadalījums un ĪP
B2: NPK | C2: OBJEKTS | D2: KOPĒJĀ UZKOPJAMĀ PLATĪBA (m²) | E2: Ietvju platība, cietais segums iežogotā teritorija un piebraukšana (m²) | F2: Zāliena platība iežogotajā teritorijā (m²) | G2: Jānodrošina karoga izkāršana (karogu skaits) | H2: Sniega izvešana jānodrošina | I2: ĪPAŠĀS PRASĪBAS (JĀŅEM VĒRĀ) | J2: Zaliena platība m2
B3: 1 | C3: PATARNIEKI | D3: =E3+F3 -> 57360 | E3: 34393 | F3: 22967 | G3: 2 | H3: Stipras snigšanas laikā, kad teritorijā notīrītā sniega daudzums uzkrājas apmērā, kas traucē transporta vai cilvēku plūsmai, sniegs nekavējoties jāpārvieto ārpus Objekta nožogojuma. | I3: 1) Objektā teritorijas uzkopšanā jābūt nodarbinātiem ne mazāk kā 3 sētniekiem gadījumos, kad nakts periodā ir bijusi spēcīga snigšana vai novērojama stipra snigšana dienas periodā, kā arī, lai novērstu uz ietvēm un ceļa segumiem radušos apledojumu. 2) Teritorijā izvietoti 2 karogi (Latvijas un Eiropas), karogu izmēri 2m x 1m. 3) Ziemas periodā jāizmanto dzīvniekiem draudzīgs pretslīdes materiāls. 4) Vasaras sezonā vismaz 2 reizes pļaut zālāju aiz RKP iežogotās teritorijas. | J3: 23700

Sheet Teritorijas ikdienas UP
B2: NPK | C2: TERITORIJAS IKDIENAS UZKOPŠANĀ VEICAMIE DARBI | D2: 1xdiennaktī līdz plkst.:08:00 | E2: 2x diennaktī | F2: Intensīvas snigšanas gadījumā, ne retāk kā ik pa 4h (no 06:00 - 22:00) | G2: 1 x nedēļā | H2: 1x mēnesī | I2: Pēc nepieciešamības
B3: ZIEMAS SEZONĀ (novembris-marts)₁
B4: 1. | C4: Trotuāri, ietves, gājēju celiņi (ar speciālu segumu), autostāvvietas, veloceliņi, pagalmi, iebrauktuves, lieveņi, ieejas pakāpieni
B5: 1.1 | C5: Objekta apsekošana (ne retāk kā 1x 2 nedēļās) | I5: X
B6: 1.2 | C6: Slaucīšana, ja nekrīt sniegs | D6: X
B7: 1.3 | C7: Attīrīšana no sniega un ledus, kaisīšana ar pretslīdes materiāliem | D7: X
B8: 1.4 | C8: Attīrīšana no apledojuma atkalas laikā (ar ledus cirtni), kaisīšana ar smilšu un sāls maisījumu | D8: X
B9: 1.5 | C9: Kanalizācijas aku vāku un hidrantu attīrīšana no sniega | D9: X
B10: 1.6 | C10: Atkritumu konteineru novietnes laukuma uzturēšana kārtībā | D10: X
B11: 1.7 | C11: Atkritumu urnu tukšošana un maisiņu nomaiņa atkritumu tvertnēs teritorijā | D11: X
B12: 1.8 | C12: Attīrīšana no sniega un ledus intensīvas snigšanas gadījumā (kolīdz sniega biezums pārsniedz 2 cm) un kaisīšana ar pretslīdes materiālu | F12: X
B13: 1.9 | C13: Ēku ieejas mezglu uzturēšana, attīrīšana no ledus un sniega, un kaisīšana ar pretslīdes materiāliem | F13: X
B14: 1.1 | C14: Kaisīšana ar pretslīdes materiālu atkalas laikā | I14: X
B15: 1.11 | C15: Atkritumu tvertņu korpusu tīrīšana no ārpuses | I15: X
B16: 1.12 | C16: Lielgabarīta atkritumu izvešanas organizēšana (ja tādi novietoti blakus atkritumu konteineriem) | I16: X
B17: 1.13 | C17: Bīstamo vietu (bedres, ūdenstilpnes, utml) un vietu, kur uz jumta izveidojušās lāstekas - norobežošana ar speciālo lenti | I17: X
B18: 1.14 | C18: Numurzīmju, norāžu, luksoforu uzturēšana | I18: X
B19: 1.15 | C19: Sniega izvešana | I19: X
B20: 1.16 | C20: Karoga izkāršana atbilstošā noformējumā saskaņā ar LR likumdošanu ¹ , karogu mastu uzturēšana un karogu nomaiņa (t.sk.iegāde) to bojājumu gadījumos | I20: X
B21: 1.17 | C21: Koku, krūmu vai aizlūzušu zaru apzāģēšana vietās, kur tiek traucēta gājēju un transporta kustība vai tie bojā sētu (t.sk. nozāģēto zaru izvešana un nepieciešamo mehānisko līdzekļu noma) ² | I21: X
B22: 2. | C22: Zālāji un citi laukumi, kuri netiek izmantoti, lai pārvietotos
B23: 2.1 | C23: Atkritumu savākšana | D23: X
B24: 3 | C24: Citi
B25: 3.1 | C25: Ēkas jumta un noteku tīrīšana (no sniega, ledus, gružiem, koku lapām un zariem, putnu radītiem atkritumiem) | I25: X
B26: 3.2 | C26: Ēkas fasādes tīrīšana | I26: X
B27: 3.4 | C27: Teritorijā esošo nojumju, koku stumbru un sakņu aizsarg-apmaļu, soliņu un velosipēdu novietņu (stendu/statīvu) uzturēšana tīrībā | I27: X
B28: 3.5 | C28: Teritorijā esošo kravas pacēlāju un piegādes rampu, ja tādas atrodas teritorijā, uzturēšana tīrībā | I28: X
B29: 3.6 | C29: Teritorijā esošo apgaismes ķermeņu, apgaismes stabu, nožogojumu, barjeru un norāžu uzturēšana tīrībā | I29: X
B30: 3.7 | C30: Teritorijā esošo koku un apstādījumu uzturēšana (kokkopja, arborista paklapojumi lūzušu koku gadījumā) | I30: X
B31: 3.8 | C31: Atkritumu (kartona kastu, iepakojumu, makulatūras un citu atkritumu) nogādāšana no iekštelpām līdz konteineriem un sadzīves atkritumu daudzuma fiksēšana uzskaites žurnālā. | I31: X
B32: 3.9 | C32: Bīstamo atkritumu uzskaite un nodošana utilizācijai. | I32: X
B33: 3.1 | C33: Konteineru, kur tiek izmesti dzīvnieku izcelsmes produkti, vienreizējās lietošanas maisu nomaiņa vismaz 1 x diennaktī (plkst.8.00 un 17.00), izņemto atkritumu svēršana un nogādāšana uz saldētavu PVD ēkā, atkritumu konteineru mazgāšana un dezinficēšana pēc nepieciešamības, bet ne retāk kā 2 x mēnesī. Dezinfekcijas līdzekļu izmaksas sedz VID. | I33: X
B34: 3.11. | C34: Novadgrāvju tīrīšana (krūmu izciršana) | I34: X
B35: 3.12. | C35: Saldējamās kameras dezinficēšanu veic pēc PVD pieteikuma, dezinfekcijas līdzekļus nodrošina PVD. | I35: X
B36: VASARAS SEZONĀ (aprīlis-oktobris)
B37: 4 | C37: Trotuāri, ietves, gājēju celiņi (ar speciālu segumu), autostāvvietas, veloceliņi, pagalmi, iebrauktuves, lieveņi, ieejas pakāpieni
B38: 4.1 | C38: Objekta apsekošana (ne retāk kā 1x 2 nedēļās) | I38: X
B39: 4.2 | C39: Teritorijas slaucīšana | D39: X
B40: 4.3 | C40: Atkritumu urnu tukšošana un maisiņu nomaiņa atkritumu tvertnēs teritorijā | D40: X
B41: 4.4 | C41: Atkritumu tvertņu korpusu tīrīšana no ārpuses | D41: X
B42: 4.5 | C42: Atkritumu tvertņu novietnes laukuma slaucīšana | D42: X
B43: 4.6 | C43: Lielgabarīta atkritumu izvešanas organizēšana (ja tādi novietoti blakus atkritumu konteineriem) | I43: X
B44: 4.7 | C44: Bīstamo vietu (bedres, ūdenstilpnes utml) norobežošana ar speciālo lenti | I44: X
B45: 4.8 | C45: Karoga izkāršana atbilstošā noformējumā saskaņā ar LR likumdošanu ¹ , karogu mastu uzturēšana un karogu nomaiņa (t.sk.iegāde) to bojājumu gadījumos | I45: X
B46: 4.9 | C46: Koku, krūmu vai aizlūzušu zaru apzāģēšana vietās, kur tiek traucēta gājēju un transporta kustība vai tie bojā sētu (t.sk. nozāģēto zaru izvešana un nepieciešamo mehānisko līdzekļu noma) ² | I46: X
B47: 4.1 | C47: Lapu savākšana un izvešana | I47: X
B48: 4.11 | C48: Smilšu savākšana pēc ziemas sezonas un to izvešana | I48: X
B49: 5 | C49: Zālāji un citi laukumi, kuri netiek izmantoti, lai pārvietotos
B50: 5.1 | C50: Atkritumu savākšana | D50: X
B51: 5.2 | C51: Apstādījumu un zālāja laistīšana, kur tas tehniski iespējams un nepieciešamības | I51: X
B52: 5.3 | C52: Apstādījumu, trotuāra malu, bruģa, betona plākšņu, cita veida segumu ravēšana un attīrīšana no nezālēm, sūnām | I52: X
B53: 5.4 | C53: Lapu, zaru un nopļautās zāles savākšana | I53: X
B54: 5.5 | C54: Zālāju pļaušana (iežogotajā teritorijā un ārpus iežogotās teritroijas) ievērojot pašvaldības saistošos noteikumus | I54: X
B55: 5.6 | C55: Zālāja un apstādījumu laistīšana, kur tas tehniski iespējams un nepieciešamības | I55: X
B56: 5.7 | C56: Zālāju atjaunošana un uzturēšana (t.sk.piesēt vietas, kur zāle iznīkus, kaisīšana ar dolomīta smiltīm, lai likvidētu sūnas) | I56: X
B57: 6 | C57: Citi
B58: 6.1 | C58: Ēku jumta un noteku tīrīšana (gružiem, koku lapām un zariem, putnu radītiem atkritumiem) | I58: X
B59: 6.2 | C59: Ēkas fasādes tīrīšana | I59: X
B60: 6.3 | C60: Ēku ieejas mezglu uzturēšana | I60: X
B61: 6.4 | C61: Numurzīmju, norāžu, luksoforu uzturēšana | I61: X
B62: 6.5 | C62: Teritorijā esošo nojumju, koku stumbru un sakņu aizsarg-apmaļu, soliņu un velosipēdu novietņu (stendu/statīvu), ja tādi atrodas teritorijā, uzturēšana tīrībā | I62: X
B63: 6.6 | C63: Teritorijā esošo kravas pacēlāju un piegādes rampu, ja tādas atrodas teritorijā, uzturēšana tīrībā | I63: X
B64: 6.7 | C64: Teritorijā esošo apgaismes ķermeņu, nožogojumu un norāžu uzturēšana tīrībā | I64: X
B65: 6.8 | C65: Teritorijā esošo koku un apstādījumu uzturēšana un atjaunošana (kokkopja, arborista, daiļdārznieka pakalpojumi) ³ | I65: X
B66: 6.9 | C66: Atkritumu (kartona kastu, iepakojumu, makulatūras un citu atkritumu) nogādāšana no iekštelpām līdz konteineriem un sadzīves atkritumu daudzuma fiksēšana uzskaites žurnālā. | I66: X
B67: 6.1 | C67: Bīstamo atkritumu uzskaite un nodošana utilizācijai. | I67: X
B68: 6.11 | C68: Konteineru, kur tiek izmesti dzīvnieku izcelsmes produkti, vienreizējās lietošanas maisu nomaiņa vismaz 1x diennaktī (plkst.8.00 un 17.00), izņemto atkritumu svēršana un nogādāšana uz saldētavu PVD ēkā, atkritumu konteineru mazgāšana un dezinficēšana pēc nepieciešamības, bet ne retāk kā 2 x mēnesī. Dezinfekcijas līdzekļu izmaksas sedz VID. | I68: X
B69: 6.12 | C69: Saldējamās kameras dezinficēšanu veic pēc PVD pieteikuma, dezinfekcijas līdzekļus nodrošina PVD. | I69: X
B70: 6.13. | C70: Robežzīmes "Latvijas Republika" uzturēšana - burtu un ģerboņa attīrīšana no zirnekļu tīkliem, citiem netīrumiem | I70: X
B71: 6.14. | C71: Robežzīmes "Latvijas Republika" uzturēšana - puķu iestādīšana ( 100 gabali zemās samtenes), ravēšana, laistīšana | I71: X
B72: CITI (nepārtraukti)
B74: ¹ | C74: Saskaņā ar likumu "Latvijas valsts karoga likums"
B75: ² | C75: Atļauju koku nozāģēšanai saskaņo VNĪ. Troturāra un brauktuves norobežošanas atļauju saskaņo Izpildītājs.

Sheet Cilvēku plūsma
B2: PATARNIEKI | C2: Pilnas noslodzes gadījumā | D2: Zemas noslodzes gadījumā
B3: Darbinieki (12 h diennaktī strādājošo skaits) | C3: 40 | D3: 30
B4: Kravas automašīnas (24h diennaktī vidēji šķērso): | C4: 200 | D4: 100
B5: Vieglās automašīnas (24h diennaktī vidēji šķērso): | C5: 150 | D5: 50

Sheet Higiēnas preces
B2: NPK | C2: OBJEKTS | D2: ROKU DVIEĻI | E2: TUALETES PAPĪRS | F2: ZIEPES ROKU MAZGĀŠANAI | G2: GAISA ATSVAIDZINĀTĀJS UN BIRSTE (WC telpās) | H2: Dezinfekcijas līdzeklis virsmām/rokām izsmidzināms 500ml | I2: PUTU ZIEPES (gab) * | J2: TRAUKU MAZGĀJAMAIS LĪDZEKLIS UN ŠVAMME (virtuvē) * | K2: TUALETES PAPĪRS (ruļļi) * | L2: ROKU DVIEĻI (ruļļi) * | M2: GAISA ATSVAIDZINĀTĀJS WC telpās (skaits) * | N2: CITAS PAPILDUS PRASĪBAS
B3: 1 | C3: PATARNIEKI | D3: Tork H1 Advanced baltā krāsā (ar sensoru) sistēmai vai ekvivalents | E3: Tork T6 sistēmai/Tork Mini Jumbo Advanced vai ekvivalents | F3: Tork S4 (putu) sistēmai vai ekvivalents | G3: Aerosola | H3: 10 | I3: 20 | J3: 10 | K3: 120 | L3: 75 | M3: 20 | N3: -
D6: * patēriņš vidēji mēnesī

Sheet Paklāji
B2: Objekts | C2: Izmērs (cm) | D2: Krāsa, materiāls | E2: Daudzums | F2: Ziemas sezonā (01.11.-31.03) | G2: Vasaras sezonā (01.04.-31.10.)
B3: PATARNIEKI | C3: 85 x 150 | D3: pelēks, sintētisks | E3: 6 | F3: Reizi nedēļā | G3: Reizi divās nedēļās
C4: 115 x 200 | E4: 4

Sheet Patarnieki_Teritorija_zemes v
