Workbook
Name ApkopesVeids: #REF!
Name Dienas: #REF!
Name higiēnas: #REF!
Name Ipasumi: #REF!
Name Laiks: #REF!
Name Produkti: #REF!
Name ProduktuKodi: #REF!

Sheet Vērtēšanas kritēriji
A3: Piedāvājumu vērtēšanas principis
A4: Vērtēšanas kritēriji | C4: Maksimālais punktu skaits | D4: Punktu pieķiršanas metodika
A5: KU1 | B5: CENA PAR VIENU UZKOPŠANAS REIZI par 1 m2 (ja objekta uzkopjamā platība ir līdz 500 m2 )** | C5: 5 | D5: KU1=Czem / Cpied x N
D6: (Czem – viszemāk piedāvātā cena; Cpied – vērtējamā piedāvājuma cena; N – kritērija maksimālā skaitliskā vērtība)
A7: KU2 | B7: CENA PAR VIENU UZKOPŠANAS REIZI par 1 m2 (ja objekta uzkopjamā platība ir no 501 līdz 1000 m2 ) | C7: 5 | D7: KU2=Czem / Cpied x N
D8: (Czem – viszemāk piedāvātā cena; Cpied – vērtējamā piedāvājuma cena; N – kritērija maksimālā skaitliskā vērtība)
A9: KU3 | B9: CENA PAR VIENU UZKOPŠANAS REIZI par 1 m2 (ja objekta uzkopjamā platība ir no 1001 līdz 5500 m2 ) | C9: 30 | D9: KU3=Czem / Cpied x N
D10: (Czem – viszemāk piedāvātā cena; Cpied – vērtējamā piedāvājuma cena; N – kritērija maksimālā skaitliskā vērtība)
A11: KU4 | B11: CENA PAR VIENU UZKOPŠANAS REIZI REIZI par 1 m2 (ja teritorijas uzkopjamā platība līdz 5 000 m2) | C11: 5 | D11: KU4=Czem / Cpied x N
D12: (Czem – viszemāk piedāvātā cena; Cpied – vērtējamā piedāvājuma cena; N – kritērija maksimālā skaitliskā vērtība)
A13: KU5 | B13: CENA PAR VIENU UZKOPŠANAS REIZI par 1 m2 (ja teritorijas uzkopjamā platība no 5 001 m2 līdz 20 000 m2) | C13: 5 | D13: KU5=Czem / Cpied x N
D14: (Czem – viszemāk piedāvātā cena; Cpied – vērtējamā piedāvājuma cena; N – kritērija maksimālā skaitliskā vērtība)
A15: KU6 | B15: CENA PAR VIENU UZKOPŠANAS REIZI par 1 m2 (ja teritorijas uzkopjamā platība no 20 001 m2 līdz 40 000 m2) | C15: 5 | D15: KU6=Czem / Cpied x N
D16: (Czem – viszemāk piedāvātā cena; Cpied – vērtējamā piedāvājuma cena; N – kritērija maksimālā skaitliskā vērtība)
A17: KU7 | B17: CENA PAR VIENU UZKOPŠANAS REIZI par 1 m2 (ja teritorijas uzkopjamā platība no 40 001 m2 līdz 65 000 m2) | C17: 5 | D17: KU7=Czem / Cpied x N
D18: (Czem – viszemāk piedāvātā cena; Cpied – vērtējamā piedāvājuma cena; N – kritērija maksimālā skaitliskā vērtība)
A19: KU8 | B19: CENA PAR VIENU UZKOPŠANAS REIZI par 1 m2 (ja teritorijas uzkopjamā platība no 65 001 m2 līdz 95 000 m2) | C19: 25 | D19: KU8=Czem / Cpied x N
D20: (Czem – viszemāk piedāvātā cena; Cpied – vērtējamā piedāvājuma cena; N – kritērija maksimālā skaitliskā vērtība)
A21: KU9 | B21: CENA PAR VIENU UZKOPŠANAS REIZI par 1 m2 (ja teritorijas uzkopjamā platība 95 001 m2 līdz 122 000 m2) | C21: 5 | D21: KU9=Czem / Cpied x N
D22: (Czem – viszemāk piedāvātā cena; Cpied – vērtējamā piedāvājuma cena; N – kritērija maksimālā skaitliskā vērtība)
A23: KU10 | B23: Higiēnas un telpu uzturēšanas pakalpojumi | C23: 5 | D23: KU10=Czem / Cpied x N
D24: (Czem – viszemāk piedāvātā cena; Cpied – vērtējamā piedāvājuma cena; N – kritērija maksimālā skaitliskā vērtība)
A25: KU11 | B25: PAPILDUS PAKALPOJUMI** | C25: 5 | D25: KU11=Czem / Cpied x N
D26: (Czem – viszemāk piedāvātā cena; Cpied – vērtējamā piedāvājuma cena; N – kritērija maksimālā skaitliskā vērtība)
A27: Maksimāli iespējamais punktu skaits | C27: =SUM(C5:C26) -> 100 | D27: KU – kopējais punktu skaits, ņemot vērā tehniskajā piedāvājuma formā un Finanšu piedāvājumā iesniegto informāciju. (KU1+KU2+KU3+KU4+KU5+KU6+KU7+KU8+KU9+KU10+KU11)=(KU) kopējais punktu skaits.
A29: Par saimnieciski visizdevīgāko piedāvājumu tiks atzīts tas pretendents, kurš iegūs visaugstāko punktu skaitu uzkopšanas un inženierkomunikāciju sadaļā, pēc formulas: KU+KI

Sheet Finanšu piedāvājums KU1-KU11
H1: 5.pielikums nolikumam
H2: ID Nr. VNĪ 2026/4/4-4/AK-62
A4: FINANŠU PIEDĀVĀJUMS Nr. 2.1.
A5: Atklātam konkursam “Robežkontroles punktu apsaimniekošana”
A6: ID Nr. VNĪ 2026/4/4-4/AK-62
B8: IEPIRKUMA 2.DAĻA
A10: Telpu ikdienas uzkopšana *
A11: NPK | B11: TELPU IKDIENAS UZKOPŠANAS PAKALPOJUMI | C11: OBJEKTA Kadastra Nr. | D11: MINIMĀLĀ OBJEKTA UZKOPJAMĀ PLATĪBA kv.m. | E11: OBJEKTA UZKOPJAMĀ PLATĪBA** | F11: FAKTISKĀ uzkopjamā platība saskaņā ar uzkopšanas intensitātes grafiku mēnesī *** | G11: KU1 Vērtējamā CENA PAR VIENU UZKOPŠANAS REIZI par 1 m2 (ja objekta uzkopjamā platība ir no 200 m2 līdz 500 m2 )** | H11: KU2 Vērtējamā CENA PAR VIENU UZKOPŠANAS REIZI par 1 m2 (ja objekta uzkopjamā platība ir no 501 līdz 1000 m2 )** | I11: KU3 Vērtējamā CENA PAR VIENU UZKOPŠANAS REIZI par 1 m2 (ja objekta uzkopjamā platība ir no 1001 līdz 5500 m2 )**
A12: Nr. | B12: Pakalpojums un Objekta adrese | C12: Kadastra Nr. | D12: kv.m. | E12: kv.m. | F12: kv.m. | G12: EUR bez PVN/ reize m2 | H12: EUR bez PVN/ reize m2 | I12: EUR bez PVN/ reize m2
A13: 1 | B13: Telpu ikdienas uzkopšana TEREHOVA | C13: 6896-006-0025 | D13: 200 | E13: ='FAKTISKĀS uzkopšanas biežums'!G322 -> 5292.8 | F13: ='FAKTISKĀS uzkopšanas biežums'!V322 -> 76027.73 | G13: 0 | H13: 0 | I13: 0
A14: * Papildu uzkopšanas intensitātes gadījumā norēķini tiek veikti, par pamatu ņemot attiecīgā biežuma vidējo uzkopšanas reižu skaitu mēnesī gada griezumā.
A15: **Objekta uzkopjamā platība ir visu uzkopjamo objekta telpu kopējā platība. Aprēķina metodika norādīta pie uzkopšanas biežuma
A16: ***Faktiskā uzkopjamā platība ir viena mēneša laikā faktiskā vidējā uzkoptā platība, ņemot vērā telpu uzkopšanas biežumu. Aprēķina metodika norādīta sadaļā pie uzkopšanas biežuma objekta kopējā uzkopjamā platība mēnesī.
A18: Teritorijas ikdienas uzkopšana *
A19: NPK | B19: TERITORIJAS IKDIENAS UZKOPŠANAS PAKALPOJUMI | C19: OBJEKTA Kadastra Nr. | D19: MINIMĀLĀ OBJEKTA UZKOPJAMĀ PLATĪBA kv.m. | E19: MAKSIMĀLĀ OBJEKTA UZKOPJAMĀ PLATĪBA kv.m. | F19: IEPIRKUMA BRĪDĪ uzkopjamā platība | G19: KU4 Vērtējamā CENA PAR VIENU UZKOPŠANAS REIZI REIZI par 1 m2 (teritorijas uzkopjamā platība 5 000 m2) | H19: KU5 Vērtējamā CENA PAR VIENU UZKOPŠANAS REIZI par 1 m2 (ja teritorijas uzkopjamā platība no 5 001 m2 līdz 20 000 m2) | I19: KU6 Vērtējamā CENA PAR VIENU UZKOPŠANAS REIZI par 1 m2 (ja teritorijas uzkopjamā platība no 20 001 m2 līdz 40 000 m2) | J19: KU7 Vērtējamā CENA PAR VIENU UZKOPŠANAS REIZI par 1 m2 (ja teritorijas uzkopjamā platība no 40 001 m2 līdz 65 000 m2) | K19: KU8 Vērtējamā CENA PAR VIENU UZKOPŠANAS REIZI par 1 m2 (ja teritorijas uzkopjamā platība no 65 001 m2 līdz 95 000 m2) | L19: KU9 Vērtējamā CENA PAR VIENU UZKOPŠANAS REIZI par 1 m2 (ja teritorijas uzkopjamā platība no 95 001 m2 līdz 122 000 m2)
A20: Nr. | B20: Pakalpojums un Objekta adrese | C20: Kadastra Nr. | D20: kv.m. | E20: kv.m. | F20: kv.m. | G20: EUR bez PVN/m2 | H20: EUR bez PVN/m2 | I20: EUR bez PVN/m2 | J20: EUR bez PVN/m2 | K20: EUR bez PVN/m2 | L20: EUR bez PVN/m2
A21: 1 | B21: Teritorijas ikdienas uzkopšana TEREHOVA (brauktuves, ietves un cits cietais segums, zāliens) | C21: 6896-006-0025 | D21: 5000 | E21: 122000 | F21: ='Teritorijas sadalījums un ĪP'!D3 -> 73286.2 | G21: 0 | H21: 0 | I21: 0 | J21: 0 | K21: 0 | L21: 0
A22: * Papildu uzkopšanas intensitātes gadījumā norēķini tiek veikti, par pamatu ņemot attiecīgā biežuma vidējo uzkopšanas reižu skaitu mēnesī gada griezumā.
A24: Higiēnas un telpu uzturēšanas pakalpojumi KU10
A25: NPK | B25: KU10.1. HIGIĒNAS MATERIĀLI (pēc fakta) (saskaņā ar Tehniskās specifikācijas . punktu) | C25: OBJEKTA Kadastra Nr. | D25: Provizoriskais viena mēneša apjoms | E25: CENA par vienu vienību (EUR bez PVN) | F25: CENA par MĒNEŠA provizorisko apjomu (Eur bez PVN)
A26: 1 | B26: Roku dvieļi (ruļlos) | C26: 6896-006-0025 | D26: ='Higiēnas preces'!L3 -> 100 | E26: 0 | F26: =D26*E26 -> 0
A27: 2 | B27: Tualetes papīrs (Ruļļos) | D27: ='Higiēnas preces'!K3 -> 200 | E27: 0 | F27: =D27*E27 -> 0
A28: 3 | B28: Putu ziepes (gab) | D28: ='Higiēnas preces'!I3 -> 30 | E28: 0 | F28: =D28*E28 -> 0
A29: 4 | B29: Gaisa atsvaidzinātājs aerosols (gab) | D29: ='Higiēnas preces'!M3 -> 20 | E29: 0 | F29: =D29*E29 -> 0
A30: 5 | B30: Trauku mazgājamais līdzeklis | D30: ='Higiēnas preces'!J3 -> 10 | E30: 0 | F30: =D30*E30 -> 0
A31: 6 | B31: Dezinfekcijas līdzeklis virsmām/rokām izsmidzināms 500ml/gab | D31: ='Higiēnas preces'!H3 -> 8 | E31: 0 | F31: =D31*E31 -> 0
A32: Kopējā cena EUR bez PVN par higiēnas materiāliem (Kritērijs KU10.1.) | F32: =SUM(F26:F31) -> 0
A33: NPK | B33: KU10.2. Maināmie paklāji (pēc fakta) (saskaņā ar Tehniskās specifikācijas . punktu) | C33: OBJEKTA Kadastra Nr. | D33: CENA par vienas vienības maiņu (EUR bez PVN) | E33: Paklāju daudzums | F33: CENA par kopējā daudzuma vienas reizes nomaiņu EUR bez PVN
A34: 1 | B34: Maināmo paklāju nomaiņa 85 x 150 cm (sintētisks) | C34: 6896-006-0025 | D34: 0 | E34: =Paklāji!E3 -> 6 | F34: =D34*E34 -> 0
A35: 2 | B35: Maināmo paklāju nomaiņa 115 x 200 cm (sintētisks) | D35: 0 | E35: =Paklāji!E4 -> 6 | F35: =D35*E35 -> 0
A36: Kopējā cena EUR bez PVN (Kritērijs KU10.2.) | F36: =SUM(F34:F35) -> 0
A37: NPK | B37: KU10.3. Dežūrpersonāla pakalpojumi (saskaņā ar Tehniskās specifikācijas . punktu) | C37: OBJEKTA Kadastra Nr. | D37: CENA mēnesī (EUR bez PVN) | E37: Ziemas sezonas noteikto mēnešu skaits | F37: Cena par kopējo ziemas sezonu EUR bez PVN
A38: 1 | B38: Dežūrapkopēja ziemas sezonā | C38: 6896-006-0025 | D38: 0 | E38: 6 | F38: =-D38*E38 -> 0
A39: 2 | B39: Dežūrsētnieks zirmas sezonā | D39: 0 | E39: 6 | F39: =-D39*E39 -> 0
A40: Kopējā cena EUR bez PVN (Kritērijs KU10.3.) | F40: =SUM(F38:F39) -> 0
A41: KOPĀ VĒRTĒJAMĀ CENA KU10 = (KU10.1.+KU10.2.+KU10.3.) | F41: =SUM(F40+F36+F32) -> 0
A44: PAPILDUS PAKALPOJUMI (KU11 kritērijs) **
A45: NPK | B45: PAPILDUS PAKALPOJUMI (KU11 kritērijs) ** | C45: MĒRVIENĪBA | D45: CENA PAR MĒRVIENĪBU | E45: PROVIZORISKAIS PAKALPOJUMU APJOMS par reizi (mērvienība) | F45: CENA PAR KOPĒJO APJOMU
A46: Nr. | B46: Pakalpojums | C46: (kv.m., stundas, kubi, gab. u.c.) | D46: (EUR bez PVN) | E46: (kv.m., stundas, kubi, gab. u.c.) | F46: (EUR bez PVN)
A47: 1 | B47: GRĪDAS SEGUMU UZKOPŠANA
...

Sheet FAKTISKĀS uzkopšanas biežums
A1: RKP TEREHOVA FAKTISKAIS TELPU UZKOPŠANAS BIEŽUMS | K1: Uzkopšanas reize nedēļās dienā (norāda ar x, ja nepieciešams). | R1: Uzkopšanas intensitātes koeficients* | V1: Telpu FAKTISKĀ uzkopjamā platība mēnesī* | W1: ĪPAŠIE NOTEIKUMI
A2: Nr. p.k. | B2: ĒKA | C2: KADASTRA APZĪMĒJUMS | D2: STĀVS | E2: Telpu grupa un telpas Nr. | F2: TELPAS NOSAUKUMS | G2: TELPU PLATĪBA m2 | H2: GRĪDAS SEGUMS | I2: TELPU GRUPA UZKOPŠANAS PROGRAMMĀ | J2: UZKOPŠANAS LAIKS | K2: Pr | L2: Ot | M2: Tr | N2: Ce | O2: Pk | P2: Se | Q2: Sv | R2: Katru dienu (V) | S2: vienu reizi nedēļā (N) | T2: vienu reizi divās nedēļās (D) | U2: vienu reizi mēnesī (M) | X2: Klients
A3: 1 | B3: Transporta kontroles ēka | C3: 68960060180001 | D3: 1 | E3: 009-2 | F3: Autosvari | G3: 160 | H3: betons | I3: ārtelpa | J3: 7:00 - 15:00 | U3: 1 | V3: =G3*(R3+S3+T3+U3) -> 160 | X3: VID
A4: 2 | B4: Galvenā sanitārā kontroles ēka | C4: 68960060025002 | D4: 1 | E4: 001-1 | F4: Izkraušanas telpa | G4: 155.1 | H4: flīzes | I4: Tehniskās telpas | J4: 7:00 - 15:00 | S4: 4.3 | V4: =G4*(R4+S4+T4+U4) -> 666.93 | X4: PVD
A5: 3 | B5: Galvenā sanitārā kontroles ēka | C5: 68960060025002 | D5: 1 | E5: 001-2 | F5: Izkraušanas telpa | G5: 38.5 | H5: flīzes | I5: Tehniskās telpas | J5: 7:00 - 15:00 | S5: 4.3 | V5: =G5*(R5+S5+T5+U5) -> 165.55 | X5: PVD
A6: 4 | B6: Galvenā sanitārā kontroles ēka | C6: 68960060025002 | D6: 1 | E6: 001-3 | F6: Izkraušanas telpa | G6: 19.2 | H6: flīzes | I6: Tehniskās telpas | J6: 7:00 - 15:00 | S6: 4.3 | V6: =G6*(R6+S6+T6+U6) -> 82.56 | X6: PVD
A7: 5 | B7: Galvenā sanitārā kontroles ēka | C7: 68960060025002 | D7: 1 | E7: 001-4 | F7: Dezinfekcijas telpa | G7: 3.4 | H7: flīzes | I7: Sanitārās telpas | J7: 7:00 - 15:00 | S7: 4.3 | V7: =G7*(R7+S7+T7+U7) -> 14.62 | X7: PVD
A8: 6 | B8: Galvenā sanitārā kontroles ēka | C8: 68960060025002 | D8: 1 | E8: 001-5 | F8: Aukstumu kamera | G8: 35 | H8: betons | I8: Tehniskās telpas | J8: 7:00 - 15:00 | U8: 1 | V8: =G8*(R8+S8+T8+U8) -> 35 | X8: PVD
A9: 7 | B9: Galvenā sanitārā kontroles ēka | C9: 68960060025002 | D9: 1 | E9: 001-6 | F9: Aukstumu kamera | G9: 35 | H9: betons | I9: Tehniskās telpas | J9: 7:00 - 15:00 | U9: 1 | V9: =G9*(R9+S9+T9+U9) -> 35 | X9: PVD
A10: 8 | B10: Galvenā sanitārā kontroles ēka | C10: 68960060025002 | D10: 1 | E10: 001-7 | F10: Aukstumu kamera | G10: 35 | H10: betons | I10: Tehniskās telpas | J10: 7:00 - 15:00 | U10: 1 | V10: =G10*(R10+S10+T10+U10) -> 35 | X10: PVD
A11: 9 | B11: Galvenā sanitārā kontroles ēka | C11: 68960060025002 | D11: 1 | E11: 001-8 | F11: Saldējamā kamera | G11: 37.4 | H11: betons | I11: Tehniskās telpas | J11: 7:00 - 15:00 | U11: 1 | V11: =G11*(R11+S11+T11+U11) -> 37.4 | X11: PVD
A12: 10 | B12: Galvenā sanitārā kontroles ēka | C12: 68960060025002 | D12: 1 | E12: 002-1 | F12: Fitokontrole | G12: 8.1 | H12: flīzes | I12: biroju/darba telpas | J12: 7:00 - 15:00 | S12: 4.3 | V12: =G12*(R12+S12+T12+U12) -> 34.83 | X12: PVD
A13: 11 | B13: Galvenā sanitārā kontroles ēka | C13: 68960060025002 | D13: 1 | E13: 003-1 | F13: Laboratorija | G13: 20.3 | H13: flīzes | I13: biroju/darba telpas | J13: 7:00 - 15:00 | K13: x | L13: x | M13: x | N13: x | O13: x | P13: x | Q13: x | R13: 30.4 | V13: =G13*(R13+S13+T13+U13) -> 617.12 | W13: dezinfekcija 1x nedēļā | X13: PVD
A14: 12 | B14: Galvenā sanitārā kontroles ēka | C14: 68960060025002 | D14: 1 | E14: 003-2 | F14: Telpa | G14: 20.7 | H14: flīzes | I14: biroju/darba telpas | J14: 7:00 - 15:00 | S14: 4.3 | V14: =G14*(R14+S14+T14+U14) -> 89.01 | X14: PVD
A15: 13 | B15: Galvenā sanitārā kontroles ēka | C15: 68960060025002 | D15: 1 | E15: 003-3 | F15: Laboratorija | G15: 5.9 | H15: flīzes | I15: biroju/darba telpas | J15: 7:00 - 15:00 | S15: 4.3 | V15: =G15*(R15+S15+T15+U15) -> 25.37 | X15: PVD
A16: 14 | B16: Galvenā sanitārā kontroles ēka | C16: 68960060025002 | D16: 1 | E16: 003-4 | F16: Laboratorija | G16: 5.9 | H16: flīzes | I16: biroju/darba telpas | J16: 7:00 - 15:00 | S16: 4.3 | V16: =G16*(R16+S16+T16+U16) -> 25.37 | W16: dezinfekcija 1x nedēļā | X16: PVD
A17: 15 | B17: Galvenā sanitārā kontroles ēka | C17: 68960060025002 | D17: 1 | E17: 004-1 | F17: Dezinfekcijas telpa | G17: 9 | H17: flīzes | I17: Sanitārās telpas | J17: 7:00 - 15:00 | S17: 4.3 | V17: =G17*(R17+S17+T17+U17) -> 38.7 | X17: PVD
A18: 16 | B18: Galvenā sanitārā kontroles ēka | C18: 68960060025002 | D18: 1 | E18: 004-2 | F18: Laboratorija | G18: 16.6 | H18: flīzes | I18: biroju/darba telpas | J18: 7:00 - 15:00 | K18: x | L18: x | M18: x | N18: x | O18: x | P18: x | Q18: x | R18: 30.4 | V18: =G18*(R18+S18+T18+U18) -> 504.64 | W18: dezinfekcija 1x nedēļā | X18: PVD
A19: 17 | B19: Galvenā sanitārā kontroles ēka | C19: 68960060025002 | D19: 1 | E19: 004-3 | F19: Inventāra telpa | G19: 4.5 | H19: flīzes | I19: Tehniskās telpas | J19: 7:00 - 15:00 | U19: 1 | V19: =G19*(R19+S19+T19+U19) -> 4.5 | X19: PVD
A20: 18 | B20: Galvenā sanitārā kontroles ēka | C20: 68960060025002 | D20: 1 | E20: 005-1 | F20: Inventāra telpa | G20: 4.4 | H20: flīzes | I20: Tehniskās telpas | J20: 7:00 - 15:00 | U20: 1 | V20: =G20*(R20+S20+T20+U20) -> 4.4 | X20: PVD
A21: 19 | B21: Galvenā sanitārā kontroles ēka | C21: 68960060025002 | D21: 1 | E21: 006-1 | F21: Elektrosadale | G21: 13.6 | H21: flīzes | I21: Tehniskās telpas | J21: 7:00 - 15:00 | U21: 1 | V21: =G21*(R21+S21+T21+U21) -> 13.6 | X21: PVD
A22: 20 | B22: Galvenā sanitārā kontroles ēka | C22: 68960060025002 | D22: 1 | E22: 007-1 | F22: Siltummezgls | G22: 10.9 | H22: flīzes | I22: Tehniskās telpas | J22: 7:00 - 15:00 | U22: 1 | V22: =G22*(R22+S22+T22+U22) -> 10.9 | X22: PVD
A23: 21 | B23: Galvenā sanitārā kontroles ēka | C23: 68960060025002 | D23: 1 | E23: 008-1 | F23: Aukstumu kamera | G23: 6.3 | H23: flīzes | I23: Tehniskās telpas | J23: 7:00 - 15:00 | U23: 1 | V23: =G23*(R23+S23+T23+U23) -> 6.3 | W23: tikai pēc blakusproduktu izvešanas T, D | X23: PVD
A24: 22 | B24: Galvenā sanitārā kontroles ēka | C24: 68960060025002 | D24: 1 | E24: 009-1 | F24: Arhīvs | G24: 14.2 | H24: flīzes | I24: biroju/darba telpas | J24: 7:00 - 15:00 | S24: 4.3 | V24: =G24*(R24+S24+T24+U24) -> 61.06 | X24: PVD
A25: 23 | B25: Galvenā sanitārā kontroles ēka | C25: 68960060025002 | D25: 1 | E25: 010-1 | F25: Atpūtas telpa,virtuve | G25: 17.1 | H25: linolejs | I25: Sanitārās telpas | J25: 7:00 - 15:00 | K25: x | L25: x | M25: x | N25: x | O25: x | P25: x | Q25: x | R25: 30.4 | V25: =G25*(R25+S25+T25+U25) -> 519.84 | X25: PVD
A26: 24 | B26: Galvenā sanitārā kontroles ēka | C26: 68960060025002 | D26: 1 | E26: 011-1 | F26: UPS telpa | G26: 1.5 | H26: flīzes | I26: Tehniskās telpas | J26: 7:00 - 15:00 | U26: 1 | V26: =G26*(R26+S26+T26+U26) -> 1.5 | X26: PVD
A27: 25 | B27: Galvenā sanitārā kontroles ēka | C27: 68960060025002 | D27: 1 | E27: 012-1 | F27: Kantoris | G27: 19 | H27: linolejs | I27: biroju/darba telpas | J27: 7:00 - 15:00 | K27: x | L27: x | M27: x | N27: x | O27: x | P27: x | Q27: x | R27: 30.4 | V27: =G27*(R27+S27+T27+U27) -> 577.6 | X27: PVD
A28: 26 | B28: Galvenā sanitārā kontroles ēka | C28: 68960060025002 | D28: 1 | E28: 013-1 | F28: Kantoris | G28: 19 | H28: linolejs | I28: biroju/darba telpas | J28: 7:00 - 15:00 | K28: x | L28: x | M28: x | N28: x | O28: x | P28: x | Q28: x | R28: 30.4 | V28: =G28*(R28+S28+T28+U28) -> 577.6 | X28: PVD
A29: 27 | B29: Galvenā sanitārā kontroles ēka | C29: 68960060025002 | D29: 1 | E29: 014-1 | F29: Apmeklētāju telpa | G29: 10.1 | H29: flīzes | I29: koplietošanas, publiskās telpas | J29: 7:00 - 15:00 | K29: x | L29: x | M29: x | N29: x | O29: x | P29: x | Q29: x | R29: 30.4 | V29: =G29*(R29+S29+T29+U29) -> 307.04 | X29: PVD
A30: 28 | B30: Galvenā sanitārā kontroles ēka | C30: 68960060025002 | D30: 1 | E30: 015-1 | F30: Laboratorija | G30: 14 | H30: flīzes | I30: biroju/darba telpas | J30: 7:00 - 15:00 | K30: x | L30: x | M30: x | N30: x | O30: x | P30: x | Q30: x | R30: 30.4 | V30: =G30*(R30+S30+T30+U30) -> 425.6 | W30: dezinfekcija 1x nedēļā | X30: PVD
A31: 29 | B31: Galvenā sanitārā kontroles ēka | C31: 68960060025002 | D31: 1 | E31: 016-1 | F31: Inventāra telpa | G31: 6 | H31: flīzes | I31: Tehniskās telpas | J31: 7:00 - 15:00 | U31: 1 | V31: =G31*(R31+S31+T31+U31) -> 6 | X31: PVD
A32: 30 | B32: Galvenā sanitārā kontroles ēka | C32: 68960060025002 | D32: 1 | E32: 017-1 | F32: Drēbju mazgāšanas un žāvēšanas telpa | G32: 12.9 | H32: flīzes | I32: Sanitārās telpas | J32: 7:00 - 15:00 | S32: 4.3 | V32: =G32*(R32+S32+T32+U32) -> 55.47 | X32: PVD
A33: 31 | B33: Galvenā sanitārā kontroles ēka | C33: 68960060025002 | D33: 1 | E33: 017-2 | F33: Telpa | G33: 1.5 | H33: flīzes | I33: Sanitārās telpas | J33: 7:00 - 15:00 | S33: 4.3 | V33: =G33*(R33+S33+T33+U33) -> 6.45 | X33: PVD
A34: 32 | B34: Galvenā sanitārā kontroles ēka | C34: 68960060025002 | D34: 1 | E34: 017-3 | F34: Telpa | G34: 6.6 | H34: flīzes | I34: Sanitārās telpas | J34: 7:00 - 15:00 | S34: 4.3 | V34: =G34*(R34+S34+T34+U34) -> 28.38 | X34: PVD
A35: 33 | B35: Galvenā sanitārā kontroles ēka | C35: 68960060025002 | D35: 1 | E35: 018-1 | F35: Inventāra telpa | G35: 4.5 | H35: flīzes | I35: Tehniskās telpas | J35: 7:00 - 15:00 | T35: 2.2 | V35: =G35*(R35+S35+T35+U35) -> 9.9 | X35: PVD
A36: 34 | B36: Galvenā sanitārā kontroles ēka | C36: 68960060025002 | D36: 1 | E36: 019-1 | F36: Noliktava | G36: 3.2 | H36: flīzes | I36: Tehniskās telpas | J36: 7:00 - 15:00 | T36: 2.2 | V36: =G36*(R36+S36+T36+U36) -> 7.04 | X36: PVD
A37: 35 | B37: Galvenā sanitārā kontroles ēka | C37: 68960060025002 | D37: 1 | E37: 020-1 | F37: Sprostu telpa | G37: 7.4 | H37: flīzes | I37: biroju/darba telpas | J37: 7:00 - 15:00 | T37: 2.2 | V37: =G37*(R37+S37+T37+U37) -> 16.28 | X37: PVD
A38: 36 | B38: Galvenā sanitārā kontroles ēka | C38: 68960060025002 | D38: 1 | E38: 020-2 | F38: Apmeklētāju telpa | G38: 5.3 | H38: flīzes | I38: koplietošanas, publiskās telpas | J38: 7:00 - 15:00 | T38: 2.2 | V38: =G38*(R38+S38+T38+U38) -> 11.66 | X38: PVD
A39: 37 | B39: Galvenā sanitārā kontroles ēka | C39: 68960060025002 | D39: 1 | E39: 020-3 | F39: Sīko mājdzīvnieku apskates telpa | G39: 13.5 | H39: flīzes | I39: biroju/darba telpas | J39: 7:00 - 15:00 | T39: 2.2 | V39: =G39*(R39+S39+T39+U39) -> 29.7 | X39: PVD
A40: 38 | B40: Galvenā sanitārā kontroles ēka | C40: 68960060025002 | D40: 1 | E40: 020-4 | F40: Telpa | G40: 10.9 | H40: flīzes | I40: biroju/darba telpas | J40: 7:00 - 15:00 | T40: 2.2 | V40: =G40*(R40+S40+T40+U40) -> 23.98 | X40: PVD
...

Sheet Telpu ikdienas UP
C1: KVALITĀTES LĪMENIS
B2: TELPU IKDIENAS UZKOPŠANAS PAKALPOJUMI | C2: MĒBELES PIEDERUMI | D2: GRĪDAS | E2: SIENAS | F2: GRIESTI
B3: BIROJU/ DARBA TELPAS, ZĀLES, EKSPOZĪCIJU ZĀLES | C3: 4 | D3: 4 | E3: 4 | F3: 3
B4: Atkritumu grozu tukšošana un maisiņu nomaiņa *
B5: Ādas mēbeļu tīrīšana ar atbilstošu līdzekli
B6: Cietā grīdas seguma mitrā uzkopšana telpās
B7: Durvju rokturu tīrīšana ar dezinficējošu līdzekli
B8: Elektroslēdžu un rozešu mitrā tīrīšana
B9: Gaismas ķermeņu un reljefu interjera elementu tīrīšana līdz 2 m augstumam
B10: Brīvo galda virsmu mitrā tīrīšana, ja uz virsmas izklaidus nav papīri **
B11: Grīdlīstšu un ventilācijas restu mitrā tīrīšana
B12: Horizontālo un vertikālo virsmu mitrā tīrīšana (skapji, plaukti, palodzes, galdi, krēsli)
B13: Krēslu kāju mitrā tīrīšana
B14: Lokālu traipu tīrīšana no horizontālām un vertikālajām virsmām (skapji, plaukti, galdi, krēsli, durvis, sienas, stikla starpsienas)
B15: Mīkstā grīdas seguma (ja tāds ir) izsūkšana ar putekļusūcēju
B16: Mīksto mēbeļu (ja tādas ir) izsūkšana ar putekļu sūcēju
B17: SANITĀRĀS, VIRTUVES TELPAS | C17: 4 | D17: 4 | E17: 4 | F17: 3
B18: Atkritumu grozu tukšošana un maisiņu nomaiņa *
B19: Atkritumu tvertnes mazgāšana un dezinficēšana
B20: Cietā grīdas seguma mitrā uzkopšana ar dezinficējošu līdzekli
B21: Durvju rokturu tīrīšana ar dezinficējošu līdzekli
B22: Duškabīnes, dušas stūra vai vannas (ja tāda telpā uzstādīta) tīrīšana
B23: Gaismas ķermeņu un reljefu interjera elementu tīrīšana līdz 2 m augstumam
B24: Grīdlīstšu un ventilācijas restu mitrā tīrīšana
B25: Higiēnas preču turētāju mitrā tīrīšana
B26: Higiēnas preču papildināšana
B27: Higiēnas preču piegāde
B28: Horizontālo un vertikālo virsmu mitrā tīrīšana (skapji, plaukti, palodzes, galdi, krēsli)
B29: Lokālu traipu tīrīšana no horizontālajām un vertikālām virsmām
... B37: WC gaisa atsvaidzinātāja nodrošināšana
B38: KOPLIETOŠANAS TELPAS | C38: 3 | D38: 3 | E38: 3 | F38: 2
B39: Atkritumu grozu tukšošana un maisiņu nomaiņa *
B40: Ādas mēbeļu tīrīšana ar atbilstošu līdzekli
B41: Cietā grīdas seguma mitrā uzkopšana
B42: Durvju rokturu tīrīšana ar dezinficējošu līdzekli
B43: Elektroslēdžu un rozešu mitrā tīrīšana
B44: Gaismas ķermeņu un reljefu interjera elemntu tīrīšana līdz 2m augstumam
B45: Grīdlīstšu un ventilācijas restu mitrā tīrīšana
B46: Horizontālo un vertikālo virsmu mitrā tīrīšana (skapji, plaukti, palodzes, galdi, krēsli)
B47: Krēslu kāju mitrā tīrīšana
...

Sheet Telpu sadalījums un ĪP
F2: SADALĪJUMS PA TELPU GRUPĀM
B3: NPK | C3: OBJEKTS | D3: TELPU KOPĒJĀ PLATĪBA (m²) | F3: Ārtelpa | G3: Biroju/darba telpas | H3: Koplietošanas telpas | I3: Sanitārās telpas | J3: Tehniskās telpas | M3: ĪPAŠĀS PRASĪBAS (JĀŅEM VĒRĀ)
B4: Nr. | C4: Nosaukums | D4: (m²) | F4: (m²) | G4: (m²) | H4: (m²) | I4: (m²) | J4: (m²)
B5: 1 | C5: TEREHOVA | D5: =SUM(F5:J5) -> 5292.8 | F5: 189.6 | G5: 690.1 | H5: 1112.5 | I5: 664.5 | J5: 2636.1 | M5: Pēc dzīvnieku uzturēšanās dzīvnieku novietnēs, attiecīgo telpu mazgāšana ir jāveic izmantojot augstspiediena iekārtu. PVD telpu uzkopšana jāveic saskaņā ar PVD prasībām.

Sheet Ēku karte

Sheet Cilvēku plūsma
B3: TEREHOVA | C3: Pilnas noslodzes gadījumā | D3: Zemas noslodzes gadījumā
B4: Darbinieki (12 h diennaktī strādājošo skaits) | C4: 40 | D4: 30
B5: Kravas automašīnas (24h diennaktī vidēji šķērso): | C5: 220 | D5: 100
B6: Vieglās automašīnas (24h diennaktī vidēji šķērso): | C6: 200 | D6: 100

Sheet Higiēnas preces
B2: NPK | C2: OBJEKTS | D2: ROKU DVIEĻI | E2: TUALETES PAPĪRS | F2: ZIEPES ROKU MAZGĀŠANAI | G2: GAISA ATSVAIDZINĀTĀJS UN BIRSTE (WC telpās) | H2: DEZINFEKCIJAS LĪDZEKLIS virsmām/rokām izsmidzināms 500ml (vestibilos pie ieejas un klientu zonās ) * | I2: ŠĶIDRĀS ZIEPES * pudelītēs ar pumpīti (litri) | J2: TRAUKU MAZGĀJAMAIS LĪDZEKLIS UN ŠVAMME* (virtuvē) | K2: TUALETES PAPĪRS* (ruļļi) | L2: ROKU DVIEĻI* (ruļļi) | M2: GAISA ATSVAIDZINĀTĀJS * (gabali) | N2: CITAS PAPILDUS PRASĪBAS
B3: 2 | C3: TEREHOVA | D3: Tork H1 Advanced baltā krāsā (ar sensoru) sistēmai vai ekvivalents | E3: Tork T6 sistēmai/Tork Mini Jumbo Advanced vai ekvivalents | F3: Tork S4 (putu) sistēmai vai ekvivalents | G3: Aerosola | H3: 8 | I3: 30 | J3: 10 | K3: 200 | L3: 100 | M3: 20 | N3: -
D7: * patēriņš vidēji mēnesī

Sheet Paklāji
B2: Objekts | C2: Izmērs (cm) | D2: Krāsa, materiāls | E2: Daudzums | F2: Ziemas sezonā (01.11.-31.03) | G2: Vasaras sezonā (01.04.-31.10.)
B3: TEREHOVA | C3: 85 x 150 | D3: pelēks, sintētisks | E3: 6 | F3: Reizi nedēļā | G3: Reizi divās nedēļās
C4: 115 x 200 | E4: 6

Sheet Teritorijas sadalījums un ĪP
B2: NPK | C2: OBJEKTS | D2: KOPĒJĀ UZKOPJAMĀ PLATĪBA (m²) | E2: KOPĒJĀ PLATĪBA (m²) | F2: Ietvju platība, cietais segums (m²) | G2: Ietvju platība, cietais segums, kurš tiek kopts pēc pieprasījuma (m²) | H2: Zāliena platība (m²) | I2: Zāliena un krūmāju platība, kura tiek kopta pēc pieprasījuma (m²) | J2: Jānodrošina karoga izkāršana (karogu skaits) | K2: Sniega izvešana jānodrošina | L2: ĪPAŠĀS PRASĪBAS (JĀŅEM VĒRĀ)
B3: 1 | C3: TEREHOVA | D3: =F3+H3 -> 73286.2 | E3: =SUM(F3:I3) -> 120328.2 | F3: 47294.9 | G3: 290 | H3: 25991.3 | I3: 46752 | J3: 4 | K3: Stipras snigšanas laikā, kad teritorijā notīrītā sniega daudzums uzkrājas apmērā, kas traucē transporta vai cilvēku plūsmai, sniegs nekavējoties jāpārvieto sniegs ārpus Objekta nožogojuma. | L3: 1) Objektā teritorijas uzkopšanā jābūt nodarbinātiem ne mazāk kā 3 sētniekiem gadījumos, kad nakts periodā ir bijusi spēcīga snigšana vai novērojama stipra snigšana dienas periodā, kā arī, lai novērstu uz ietvēm un ceļa segumiem radušos apledojumu. 2) Teritorijā izvietoti 4 karogi (2.gab. Latvijas un2.gab. Eiropas), karogu izmēri 2m x 1m. 3) Ziemas periodā jāizmanto dzīvniekiem draudzīgs pretslīdes materiāls. 4) Vasaras sezonā vismaz 2 reizes pļaut zālāju aiz RKP iežogotās teritorijas

Sheet Teritorijas ikdienas UP
B2: NPK | C2: TERITORIJAS IKDIENAS UZKOPŠANĀ VEICAMIE DARBI | D2: 1xdiennaktī līdz plkst.:08:00 | E2: 2x diennaktī | F2: Intensīvas snigšanas gadījumā, ne retāk kā ik pa 4h (no 06:00 - 22:00) | G2: 1 x nedēļā | H2: 1x mēnesī | I2: Pēc nepieciešamības
B3: ZIEMAS SEZONĀ (novembris-marts)₁
B4: 1. | C4: Trotuāri, ietves, gājēju celiņi (ar speciālu segumu), autostāvvietas, veloceliņi, pagalmi, iebrauktuves, lieveņi, ieejas pakāpieni
B5: 1.1 | C5: Objekta apsekošana (ne retāk kā 1x 2 nedēļās) | I5: X
B6: 1.2 | C6: Slaucīšana, ja nekrīt sniegs | D6: X
B7: 1.3 | C7: Attīrīšana no sniega un ledus, kaisīšana ar pretslīdes materiāliem | D7: X
B8: 1.4 | C8: Attīrīšana no apledojuma atkalas laikā (ar ledus cirtni), kaisīšana ar smilšu un sāls maisījumu | D8: X
B9: 1.5 | C9: Kanalizācijas aku vāku un hidrantu attīrīšana no sniega | D9: X
B10: 1.6 | C10: Atkritumu konteineru novietnes laukuma uzturēšana kārtībā | D10: X
B11: 1.7 | C11: Atkritumu urnu tukšošana un maisiņu nomaiņa atkritumu tvertnēs teritorijā | D11: X
B12: 1.8 | C12: Attīrīšana no sniega un ledus intensīvas snigšanas gadījumā (kolīdz sniega biezums pārsniedz 2 cm) un kaisīšana ar pretslīdes materiālu | F12: X
B13: 1.9 | C13: Ēku ieejas mezglu uzturēšana, attīrīšana no ledus un sniega, un kaisīšana ar pretslīdes materiāliem | F13: X
B14: 1.1 | C14: Kaisīšana ar pretslīdes materiālu atkalas laikā | I14: X
B15: 1.11 | C15: Atkritumu tvertņu korpusu tīrīšana no ārpuses | I15: X
B16: 1.12 | C16: Lielgabarīta atkritumu izvešanas organizēšana (ja tādi novietoti blakus atkritumu konteineriem) | I16: X
B17: 1.13 | C17: Bīstamo vietu (bedres, ūdenstilpnes, utml) un vietu, kur uz jumta izveidojušās lāstekas - norobežošana ar speciālo lenti | I17: X
B18: 1.14 | C18: Numurzīmju, norāžu, luksoforu uzturēšana | I18: X
B19: 1.15 | C19: Sniega izvešana | I19: X
B20: 1.16 | C20: Karoga izkāršana atbilstošā noformējumā saskaņā ar LR likumdošanu ¹ , karogu mastu uzturēšana un karogu nomaiņa (t.sk.iegāde) to bojājumu gadījumos | I20: X
B21: 1.17 | C21: Koku, krūmu vai aizlūzušu zaru apzāģēšana vietās, kur tiek traucēta gājēju un transporta kustība vai tie bojā sētu (t.sk. nozāģēto zaru izvešana un nepieciešamo mehānisko līdzekļu noma) ² | I21: X
B22: 2. | C22: Zālāji un citi laukumi, kuri netiek izmantoti, lai pārvietotos
B23: 2.1 | C23: Atkritumu savākšana | D23: X
B24: 3 | C24: Citi
B25: 3.1 | C25: Ēkas jumta un noteku tīrīšana (no sniega, ledus, gružiem, koku lapām un zariem, putnu radītiem atkritumiem) | I25: X
B26: 3.2 | C26: Ēkas fasādes tīrīšana | I26: X
B27: 3.4 | C27: Teritorijā esošo nojumju, koku stumbru un sakņu aizsarg-apmaļu, soliņu un velosipēdu novietņu (stendu/statīvu) uzturēšana tīrībā | I27: X
B28: 3.5 | C28: Teritorijā esošo kravas pacēlāju un piegādes rampu, ja tādas atrodas teritorijā, uzturēšana tīrībā | I28: X
B29: 3.6 | C29: Teritorijā esošo apgaismes ķermeņu, apgaismes stabu, nožogojumu, barjeru un norāžu uzturēšana tīrībā | I29: X
B30: 3.7 | C30: Teritorijā esošo koku un apstādījumu uzturēšana (kokkopja, arborista paklapojumi lūzušu koku gadījumā) | I30: X
B31: 3.8 | C31: Atkritumu (kartona kastu, iepakojumu, makulatūras un citu atkritumu) nogādāšana no iekštelpām līdz konteineriem un sadzīves atkritumu daudzuma fiksēšana uzskaites žurnālā. | I31: X
B32: 3.9 | C32: Bīstamo atkritumu uzskaite un nodošana utilizācijai. | I32: X
B33: 3.1 | C33: Konteineru, kur tiek izmesti dzīvnieku izcelsmes produkti, vienreizējās lietošanas maisu nomaiņa ne retāk kā 1 x diennaktī (pēc nepieciešamības 2 reizes dienā) , izņemto atkritumu svēršana, uzskaite un nogādāšana uz saldētavu PVD ēkā, atkritumu konteineru mazgāšana un dezinficēšana pēc nepieciešamības, bet ne retāk kā 2 x mēnesī. Dezinfekcijas līdzekļu izmaksas sedz VID. | I33: X
B34: 3.11 | C34: Novadgrāvju tīrīšana (krūmu izciršana) | I34: X
B35: 3.12 | C35: Saldējamās kameras dezinficēšanu veic pēc PVD pieteikuma, dezinfekcijas līdzekļus nodrošina PVD. | I35: X
B36: VASARAS SEZONĀ (aprīlis-oktobris)
B37: 4 | C37: Trotuāri, ietves, gājēju celiņi (ar speciālu segumu), autostāvvietas, veloceliņi, pagalmi, iebrauktuves, lieveņi, ieejas pakāpieni
B38: 4.1 | C38: Objekta apsekošana (ne retāk kā 1x 2 nedēļās) | I38: X
B39: 4.2 | C39: Teritorijas slaucīšana | D39: X
B40: 4.3 | C40: Atkritumu urnu tukšošana un maisiņu nomaiņa atkritumu tvertnēs teritorijā | D40: X
B41: 4.4 | C41: Atkritumu tvertņu korpusu tīrīšana no ārpuses | D41: X
...

Sheet Uzkopjamo platību karte
