Workbook
Name ApkopesVeids: #REF!
Name Dienas: #REF!
Name higiēnas: #REF!
Name Ipasumi: #REF!
Name Laiks: #REF!
Name Produkti: #REF!
Name ProduktuKodi: #REF!

Sheet Vērtēšanas kritēriji
A3: Piedāvājumu vērtēšanas principis
A4: Vērtēšanas kritēriji | C4: Maksimālais punktu skaits | D4: Punktu pieķiršanas metodika
A5: KU1 | B5: CENA PAR VIENU UZKOPŠANAS REIZI par 1 m2 (ja objekta uzkopjamā platība ir līdz 500 m2 )** | C5: 5 | D5: KU1=Czem / Cpied x N
D6: (Czem – viszemāk piedāvātā cena; Cpied – vērtējamā piedāvājuma cena; N – kritērija maksimālā skaitliskā vērtība)
A7: KU2 | B7: CENA PAR VIENU UZKOPŠANAS REIZI par 1 m2 (ja objekta uzkopjamā platība ir no 501 līdz 1000 m2 ) | C7: 5 | D7: KU2=Czem / Cpied x N
D8: (Czem – viszemāk piedāvātā cena; Cpied – vērtējamā piedāvājuma cena; N – kritērija maksimālā skaitliskā vērtība)
A9: KU3 | B9: CENA PAR VIENU UZKOPŠANAS REIZI par 1 m2 (ja objekta uzkopjamā platība ir no 1001 līdz 5500 m2 ) | C9: 30 | D9: KU3=Czem / Cpied x N
D10: (Czem – viszemāk piedāvātā cena; Cpied – vērtējamā piedāvājuma cena; N – kritērija maksimālā skaitliskā vērtība)
A11: KU4 | B11: CENA PAR VIENU UZKOPŠANAS REIZI REIZI par 1 m2 (ja teritorijas uzkopjamā platība līdz 5 000 m2) | C11: 5 | D11: KU4=Czem / Cpied x N
D12: (Czem – viszemāk piedāvātā cena; Cpied – vērtējamā piedāvājuma cena; N – kritērija maksimālā skaitliskā vērtība)
A13: KU5 | B13: CENA PAR VIENU UZKOPŠANAS REIZI par 1 m2 (ja teritorijas uzkopjamā platība no 5 001 m2 līdz 20 000 m2) | C13: 5 | D13: KU5=Czem / Cpied x N
D14: (Czem – viszemāk piedāvātā cena; Cpied – vērtējamā piedāvājuma cena; N – kritērija maksimālā skaitliskā vērtība)
A15: KU6 | B15: CENA PAR VIENU UZKOPŠANAS REIZI par 1 m2 (ja teritorijas uzkopjamā platība no 20 001 m2 līdz 40 000 m2) | C15: 5 | D15: KU6=Czem / Cpied x N
D16: (Czem – viszemāk piedāvātā cena; Cpied – vērtējamā piedāvājuma cena; N – kritērija maksimālā skaitliskā vērtība)
A17: KU7 | B17: CENA PAR VIENU UZKOPŠANAS REIZI par 1 m2 (ja teritorijas uzkopjamā platība no 40 001 m2 līdz 65 000 m2) | C17: 5 | D17: KU7=Czem / Cpied x N
D18: (Czem – viszemāk piedāvātā cena; Cpied – vērtējamā piedāvājuma cena; N – kritērija maksimālā skaitliskā vērtība)
A19: KU8 | B19: CENA PAR VIENU UZKOPŠANAS REIZI par 1 m2 (ja teritorijas uzkopjamā platība no 65 001 m2 līdz 95 000 m2) | C19: 25 | D19: KU8=Czem / Cpied x N
D20: (Czem – viszemāk piedāvātā cena; Cpied – vērtējamā piedāvājuma cena; N – kritērija maksimālā skaitliskā vērtība)
A21: KU9 | B21: CENA PAR VIENU UZKOPŠANAS REIZI par 1 m2 (ja teritorijas uzkopjamā platība 95 001 m2 līdz 122 000 m2) | C21: 5 | D21: KU9=Czem / Cpied x N
D22: (Czem – viszemāk piedāvātā cena; Cpied – vērtējamā piedāvājuma cena; N – kritērija maksimālā skaitliskā vērtība)
A23: KU10 | B23: Higiēnas un telpu uzturēšanas pakalpojumi | C23: 5 | D23: KU10=Czem / Cpied x N
D24: (Czem – viszemāk piedāvātā cena; Cpied – vērtējamā piedāvājuma cena; N – kritērija maksimālā skaitliskā vērtība)
A25: KU11 | B25: PAPILDUS PAKALPOJUMI** | C25: 5 | D25: KU11=Czem / Cpied x N
D26: (Czem – viszemāk piedāvātā cena; Cpied – vērtējamā piedāvājuma cena; N – kritērija maksimālā skaitliskā vērtība)
A27: Maksimāli iespējamais punktu skaits | C27: =SUM(C5:C26) -> 100 | D27: KU – kopējais punktu skaits, ņemot vērā tehniskajā piedāvājuma formā un Finanšu piedāvājumā iesniegto informāciju. (KU1+KU2+KU3+KU4+KU5+KU6+KU7+KU8+KU9+KU10+KU11)=(KU) kopējais punktu skaits.
A29: Par saimnieciski visizdevīgāko piedāvājumu tiks atzīts tas pretendents, kurš iegūs visaugstāko punktu skaitu uzkopšanas un inženierkomunikāciju sadaļā, pēc formulas: KU+KI

Sheet Finanšu piedāvājums KU1-KU11
H1: 5.pielikums nolikumam
H2: ID Nr. VNĪ 2026/4/4-4/AK-62
A4: FINANŠU PIEDĀVĀJUMS Nr. 2.1.
A5: Atklātam konkursam “Robežkontroles punktu apsaimniekošana”
A6: ID Nr. VNĪ 2026/4/4-4/AK-62
B8: IEPIRKUMA 2.DAĻA
A10: Telpu ikdienas uzkopšana *
A11: NPK | B11: TELPU IKDIENAS UZKOPŠANAS PAKALPOJUMI | C11: OBJEKTA Kadastra Nr. | D11: MINIMĀLĀ OBJEKTA UZKOPJAMĀ PLATĪBA kv.m. | E11: OBJEKTA UZKOPJAMĀ PLATĪBA** | F11: FAKTISKĀ uzkopjamā platība saskaņā ar uzkopšanas intensitātes grafiku mēnesī *** | G11: KU1 Vērtējamā CENA PAR VIENU UZKOPŠANAS REIZI par 1 m2 (ja objekta uzkopjamā platība ir no 200 m2 līdz 500 m2 )** | H11: KU2 Vērtējamā CENA PAR VIENU UZKOPŠANAS REIZI par 1 m2 (ja objekta uzkopjamā platība ir no 501 līdz 1000 m2 )** | I11: KU3 Vērtējamā CENA PAR VIENU UZKOPŠANAS REIZI par 1 m2 (ja objekta uzkopjamā platība ir no 1001 līdz 5500 m2 )**
A12: Nr. | B12: Pakalpojums un Objekta adrese | C12: Kadastra Nr. | D12: kv.m. | E12: kv.m. | F12: kv.m. | G12: EUR bez PVN/ reize m2 | H12: EUR bez PVN/ reize m2 | I12: EUR bez PVN/ reize m2
A13: 1 | B13: Telpu ikdienas uzkopšana TEREHOVA | C13: 6896-006-0025 | D13: 200 | E13: ='FAKTISKĀS uzkopšanas biežums'!G322 -> 5292.8 | F13: ='FAKTISKĀS uzkopšanas biežums'!V322 -> 76027.73 | G13: 0 | H13: 0 | I13: 0
A14: * Papildu uzkopšanas intensitātes gadījumā norēķini tiek veikti, par pamatu ņemot attiecīgā biežuma vidējo uzkopšanas reižu skaitu mēnesī gada griezumā.
A15: **Objekta uzkopjamā platība ir visu uzkopjamo objekta telpu kopējā platība. Aprēķina metodika norādīta pie uzkopšanas biežuma
A16: ***Faktiskā uzkopjamā platība ir viena mēneša laikā faktiskā vidējā uzkoptā platība, ņemot vērā telpu uzkopšanas biežumu. Aprēķina metodika norādīta sadaļā pie uzkopšanas biežuma objekta kopējā uzkopjamā platība mēnesī.
A18: Teritorijas ikdienas uzkopšana *
A19: NPK | B19: TERITORIJAS IKDIENAS UZKOPŠANAS PAKALPOJUMI | C19: OBJEKTA Kadastra Nr. | D19: MINIMĀLĀ OBJEKTA UZKOPJAMĀ PLATĪBA kv.m. | E19: MAKSIMĀLĀ OBJEKTA UZKOPJAMĀ PLATĪBA kv.m. | F19: IEPIRKUMA BRĪDĪ uzkopjamā platība | G19: KU4 Vērtējamā CENA PAR VIENU UZKOPŠANAS REIZI REIZI par 1 m2 (teritorijas uzkopjamā platība 5 000 m2) | H19: KU5 Vērtējamā CENA PAR VIENU UZKOPŠANAS REIZI par 1 m2 (ja teritorijas uzkopjamā platība no 5 001 m2 līdz 20 000 m2) | I19: KU6 Vērtējamā CENA PAR VIENU UZKOPŠANAS REIZI par 1 m2 (ja teritorijas uzkopjamā platība no 20 001 m2 līdz 40 000 m2) | J19: KU7 Vērtējamā CENA PAR VIENU UZKOPŠANAS REIZI par 1 m2 (ja teritorijas uzkopjamā platība no 40 001 m2 līdz 65 000 m2) | K19: KU8 Vērtējamā CENA PAR VIENU UZKOPŠANAS REIZI par 1 m2 (ja teritorijas uzkopjamā platība no 65 001 m2 līdz 95 000 m2) | L19: KU9 Vērtējamā CENA PAR VIENU UZKOPŠANAS REIZI par 1 m2 (ja teritorijas uzkopjamā platība no 95 001 m2 līdz 122 000 m2)
A20: Nr. | B20: Pakalpojums un Objekta adrese | C20: Kadastra Nr. | D20: kv.m. | E20: kv.m. | F20: kv.m. | G20: EUR bez PVN/m2 | H20: EUR bez PVN/m2 | I20: EUR bez PVN/m2 | J20: EUR bez PVN/m2 | K20: EUR bez PVN/m2 | L20: EUR bez PVN/m2
A21: 1 | B21: Teritorijas ikdienas uzkopšana TEREHOVA (brauktuves, ietves un cits cietais segums, zāliens) | C21: 6896-006-0025 | D21: 5000 | E21: 122000 | F21: ='Teritorijas sadalījums un ĪP'!D3 -> 73286.2 | G21: 0 | H21: 0 | I21: 0 | J21: 0 | K21: 0 | L21: 0
A22: * Papildu uzkopšanas intensitātes gadījumā norēķini tiek veikti, par pamatu ņemot attiecīgā biežuma vidējo uzkopšanas reižu skaitu mēnesī gada griezumā.
A24: Higiēnas un telpu uzturēšanas pakalpojumi KU10
A25: NPK | B25: KU10.1. HIGIĒNAS MATERIĀLI (pēc fakta) (saskaņā ar Tehniskās specifikācijas . punktu) | C25: OBJEKTA Kadastra Nr. | D25: Provizoriskais viena mēneša apjoms | E25: CENA par vienu vienību (EUR bez PVN) | F25: CENA par MĒNEŠA provizorisko apjomu (Eur bez PVN)
A26: 1 | B26: Roku dvieļi (ruļlos) | C26: 6896-006-0025 | D26: ='Higiēnas preces'!L3 -> 100 | E26: 0 | F26: =D26*E26 -> 0
A27: 2 | B27: Tualetes papīrs (Ruļļos) | D27: ='Higiēnas preces'!K3 -> 200 | E27: 0 | F27: =D27*E27 -> 0
A28: 3 | B28: Putu ziepes (gab) | D28: ='Higiēnas preces'!I3 -> 30 | E28: 0 | F28: =D28*E28 -> 0
A29: 4 | B29: Gaisa atsvaidzinātājs aerosols (gab) | D29: ='Higiēnas preces'!M3 -> 20 | E29: 0 | F29: =D29*E29 -> 0
A30: 5 | B30: Trauku mazgājamais līdzeklis | D30: ='Higiēnas preces'!J3 -> 10 | E30: 0 | F30: =D30*E30 -> 0
A31: 6 | B31: Dezinfekcijas līdzeklis virsmām/rokām izsmidzināms 500ml/gab | D31: ='Higiēnas preces'!H3 -> 8 | E31: 0 | F31: =D31*E31 -> 0
A32: Kopējā cena EUR bez PVN par higiēnas materiāliem (Kritērijs KU10.1.) | F32: =SUM(F26:F31) -> 0
A33: NPK | B33: KU10.2. Maināmie paklāji (pēc fakta) (saskaņā ar Tehniskās specifikācijas . punktu) | C33: OBJEKTA Kadastra Nr. | D33: CENA par vienas vienības maiņu (EUR bez PVN) | E33: Paklāju daudzums | F33: CENA par kopējā daudzuma vienas reizes nomaiņu EUR bez PVN
A34: 1 | B34: Maināmo paklāju nomaiņa 85 x 150 cm (sintētisks) | C34: 6896-006-0025 | D34: 0 | E34: =Paklāji!E3 -> 6 | F34: =D34*E34 -> 0
A35: 2 | B35: Maināmo paklāju nomaiņa 115 x 200 cm (sintētisks) | D35: 0 | E35: =Paklāji!E4 -> 6 | F35: =D35*E35 -> 0
A36: Kopējā cena EUR bez PVN (Kritērijs KU10.2.) | F36: =SUM(F34:F35) -> 0
A37: NPK | B37: KU10.3. Dežūrpersonāla pakalpojumi (saskaņā ar Tehniskās specifikācijas . punktu) | C37: OBJEKTA Kadastra Nr. | D37: CENA mēnesī (EUR bez PVN) | E37: Ziemas sezonas noteikto mēnešu skaits | F37: Cena par kopējo ziemas sezonu EUR bez PVN
A38: 1 | B38: Dežūrapkopēja ziemas sezonā | C38: 6896-006-0025 | D38: 0 | E38: 6 | F38: =-D38*E38 -> 0
A39: 2 | B39: Dežūrsētnieks zirmas sezonā | D39: 0 | E39: 6 | F39: =-D39*E39 -> 0
A40: Kopējā cena EUR bez PVN (Kritērijs KU10.3.) | F40: =SUM(F38:F39) -> 0
A41: KOPĀ VĒRTĒJAMĀ CENA KU10 = (KU10.1.+KU10.2.+KU10.3.) | F41: =SUM(F40+F36+F32) -> 0
A44: PAPILDUS PAKALPOJUMI (KU11 kritērijs) **
A45: NPK | B45: PAPILDUS PAKALPOJUMI (KU11 kritērijs) ** | C45: MĒRVIENĪBA | D45: CENA PAR MĒRVIENĪBU | E45: PROVIZORISKAIS PAKALPOJUMU APJOMS par reizi (mērvienība) | F45: CENA PAR KOPĒJO APJOMU
A46: Nr. | B46: Pakalpojums | C46: (kv.m., stundas, kubi, gab. u.c.) | D46: (EUR bez PVN) | E46: (kv.m., stundas, kubi, gab. u.c.) | F46: (EUR bez PVN)
A47: 1 | B47: GRĪDAS SEGUMU UZKOPŠANA
A48: 1.1 | B48: Linoleja vaskošana (vecā vaska noņemšana, tīrīšana un vaskošana 2 kārtās) | C48: kvadrātmetrs | D48: 0 | E48: 804.9 | F48: =D48*E48 -> 0
A49: 1.2 | B49: Linoleja ķīmiskā pulēšana | C49: kvadrātmetrs | D49: 0 | E49: 804.9 | F49: =D49*E49 -> 0
A50: 1.3 | B50: Linoleja sausā pulēšana | C50: kvadrātmetrs | D50: 0 | E50: 804.9 | F50: =D50*E50 -> 0
A51: 1.4 | B51: Epoksīda grīdas seguma ģenerālā tīrīšana | C51: kvadrātmetrs | D51: 0 | E51: 774.9 | F51: =D51*E51 -> 0
A52: 1.5 | B52: Epoksīda grīdas seguma vaskošana | C52: kvadrātmetrs | D52: 0 | E52: 774.9 | F52: =D52*E52 -> 0
A53: 1.6 | B53: Akmens/betona seguma tīrīšana | C53: kvadrātmetrs | D53: 0 | E53: 1794.5 | F53: =D53*E53 -> 0
A54: 1.7 | B54: Mehanizēta cietā grīdas seguma mazgāšana | C54: kvadrātmetrs | D54: 0 | E54: 261.4 | F54: =D54*E54 -> 0
A55: 1.8 | B55: Flīžu seguma un to šuvju tīrīšana | C55: kvadrātmetrs | D55: 0 | E55: 1652.9 | F55: =D55*E55 -> 0
A56: 2 | B56: LOGU UN STIKLA VIRSMU MAZGĀŠANA (abpusēja), ŽALŪZIJU TĪRĪŠANA
A57: 2.1 | B57: Logu (no abām pusēm stiklotās virsmas, t.sk. rāmju, iekšējo un ārējo palodžu) mazgāšana (BEZ pacēlāja) | C57: kvadrātmetrs | D57: 0 | E57: 260 | F57: =D57*E57 -> 0
A58: 2.2 | B58: Iekšējo un ārējo žalūziju tīrīšana | C58: kvadrātmetrs | D58: 0 | E58: 90 | F58: =D58*E58 -> 0
A59: 3 | B59: HIGIĒNAS PREČU TURĒTĀJI ***
A60: 3.1 | B60: Roku dvieļu sistēma TORK H1 (ar sensoru) vai ekvivalents (plastmasas) | C60: 1 gab turētājs | D60: 0 | E60: 25 | F60: =D60*E60 -> 0
A61: 3.2 | B61: Tualetes papīra sistēma TORK T6 vai ekvivalents (plastmasas) | C61: 1 gab turētājs | D61: 0 | E61: 50 | F61: =D61*E61 -> 0
A62: 3.3 | B62: Šķidro ziepju sistēma TORK S4 (putu) vai ekvivalents (plastmasas) | C62: 1 gab dozators | D62: 0 | E62: 25 | F62: =D62*E62 -> 0
A63: 4 | B63: CITI TELPU UZKOPŠANAS DARBI
A64: 4.1 | B64: Dežūrapkopēja pakalpojumi (ja nepieciešamas ārpus ziemas sezonas, un/vai papildus reizes) | C64: stunda | D64: 0 | E64: 480 | F64: =D64*E64 -> 0
A65: 4.2 | B65: Durvju (t.sk.rokturu), kāpņu margu, sienu vienreizēja padziļināta mazgāšana vai dezinfekcija | C65: stunda | D65: 0 | E65: 40 | F65: =D65*E65 -> 0
A66: 4.3 | B66: Mīksto mēbeļu (krēslu, dīvānu) ķīmiskā tīrīšana | C66: gabali | D66: 0 | E66: 40 | F66: =D66*E66 -> 0
A67: 4.4 | B67: Pilna telpu dezinfekcija (darba dienās, darba laikā 09:00-17:00) | C67: kvadrātmetrs | D67: 0 | E67: 5292.8 | F67: =D67*E67 -> 0
A68: 4.5 | B68: Pilna telpu dezinfekcija (ārpus darba laika 17:00-08:00 un brīvdienās) | C68: kvadrātmetrs | D68: 0 | E68: 5292.8 | F68: =D68*E68 -> 0
A69: 4.6 | B69: Ģenerālā telpu uzkopšana (t.sk.visu horizontālo un vertikālo virsmu, mīkstā grīdas seguma ķīmiskā tīrīšana, linoleja vaskošana vai pulēšana, logu un stikloto starpsienu mazgāšana, žalūziju mazgāšana, ēku fasādes mazgāšana) | C69: kvadrātmetrs | D69: 0 | E69: 5292.8 | F69: =D69*E69 -> 0
A70: 4.7 | B70: Telpu uzkopšana pēc avārijas situācijām (t.sk.ja nepieciešams, ar speciālo tehniku) | C70: kvadrātmetrs | D70: 0 | E70: 100 | F70: =D70*E70 -> 0
A71: 4.8 | B71: Telpu uzkopšana pēc remontdarbiem (visu horizontālo un vertikālo virsmu, t.sk. ja nepieciešams, ar speciālo uzkopšanas tehniku) | C71: kvadrātmetrs | D71: 0 | E71: 100 | F71: =D71*E71 -> 0
A72: 4.9 | B72: Ikdienā neizmantotu telpu uzkopšana (pagrabi, bēniņi, noliktavas) | C72: kvadrātmetrs | D72: 0 | E72: 1200 | F72: =D72*E72 -> 0
A73: 4.1 | B73: Dzīvnieku uzturēšanas telpu mitrā mazgāšana | C73: kvadrātmetrs | D73: 0 | E73: 252.3 | F73: 0
A74: 4.11 | B74: Dzīvnieku uzturēšanas sprostu/būru dezinfekcija. | C74: gabali | D74: 0 | E74: 5 | F74: =D74*E74 -> 0
A75: 5 | B75: TERITORIJU UZKOPŠANAS DARBI
A76: 5.1 | B76: Dežūrsētnieka pakalpojumi (ja nepieciešamas ārpus ziemas sezonas, un/vai papildus reizes) | C76: stunda | D76: 0 | E76: 480 | F76: =D76*E76 -> 0
A77: 5.2 | B77: Papildus teritorijas sakopšanas darbi, kad nepieciešams uzkopt papildus platību (teritorijas slaucīšana, lapu, zaru un sīko atkritumu savākšana manuāli maisos) | C77: kvadrātmetrs | D77: 0 | E77: 5292.8 | F77: =D77*E77 -> 0
A78: 5.3 | B78: Papildus teritorijas (aiz žoga) sakopšanas darbi (zāles pļaušana) | C78: kvadrātmetrs | D78: 0 | E78: 6500 | F78: =D78*E78 -> 0
A79: 5.4 | B79: Papildus teritorijas sakopšanas darbi (krūmāju pļaušana ar trimmeri, materiāla savākšana un izvešana) | C79: kvadrātmetrs | D79: 0 | E79: 2009 | F79: =D79*E79 -> 0
A80: 5.5 | B80: Bruģa mazgāšana/attīrīšana | C80: kvadrātmetrs | D80: 0 | E80: 2009 | F80: =D80*E80 -> 0
A81: 5.6 | B81: Ēku fasādes mazgāšana | C81: kvadrātmetrs | D81: 0 | E81: 5167.63 | F81: =D81*E81 -> 0
A82: 6 | B82: LIELGABARĪTA ATKRITUMU IZVEŠANA un DZĪVNIEKU IZCELSMES PRODUKTU UTILIZĀCIJA
A83: 6.1 | B83: Lielgabarīta atkritumu konteinera noma* | C83: 16 kubi | D83: 0 | E83: 2 | F83: =D83*E83 -> 0
A84: 6.2 | B84: Lielgabarīta atkritumu iznešana un izjaukšana(no telpām līdz transportam/konteineram)* | C84: stunda | D84: 0 | E84: 48 | F84: 0
A85: 6.3 | B85: Lielgabarīta atkritumu izvešana | C85: kubi | D85: 0 | E85: 32 | F85: =D85*E85 -> 0
A86: 6.4 | B86: Būvgružu atkritumu izvešana | C86: kubi | D86: 0 | E86: 32 | F86: =D86*E86 -> 0
A87: 6.5 | B87: Bīstamo atkritumu izvešana | C87: kubi | D87: 0 | E87: 4 | F87: =D87*E87 -> 0
A88: 6.6 | B88: Sniega izvešana | C88: kubi | D88: 0 | E88: 30 | F88: =D88*E88 -> 0
A89: 6.7 | B89: Dažādu dzīvnieku un nedzīvnieku izcelsmes produktu tvertnes (240L) nodrošināšana un apsaimniekošana saskaņā ar TS 51.3. punktu | C89: ceturksnis | D89: 0 | E89: 4 | F89: =D89*E89 -> 0
A90: Papildus pakalpojumi KOPĀ (KU11 kritērijs) | F90: =SUM(F48:F89) -> 0
B92: * - Darbi, BEZ IZVEŠANAS.
B93: ** - Papildus pakalpojumi ir pakalpojumi, kuri būs nepieciešami papildus ikdienas uzkopšanas pakalpojumiem, kuri nav iekļauti Ikdienas uzkopšanas pakalpojumos.
B94: ***- Izpildītājs ir tiesīgs par saviem līdzekļiem aizstāt Objektā esošos higiēnas preču turētājus ar citiem - līdzvērtīgiem, ja Pasūtītājs tam piekrīt un nomaiņas rezultātā netiek bojātas telpu sienas vai radītas neērtības vai finansiāli zaudējumi
C98: Aizpilda Pretendents (Izpildītājs)

Sheet FAKTISKĀS uzkopšanas biežums
A1: RKP TEREHOVA FAKTISKAIS TELPU UZKOPŠANAS BIEŽUMS | K1: Uzkopšanas reize nedēļās dienā (norāda ar x, ja nepieciešams). | R1: Uzkopšanas intensitātes koeficients* | V1: Telpu FAKTISKĀ uzkopjamā platība mēnesī* | W1: ĪPAŠIE NOTEIKUMI
A2: Nr. p.k. | B2: ĒKA | C2: KADASTRA APZĪMĒJUMS | D2: STĀVS | E2: Telpu grupa un telpas Nr. | F2: TELPAS NOSAUKUMS | G2: TELPU PLATĪBA m2 | H2: GRĪDAS SEGUMS | I2: TELPU GRUPA UZKOPŠANAS PROGRAMMĀ | J2: UZKOPŠANAS LAIKS | K2: Pr | L2: Ot | M2: Tr | N2: Ce | O2: Pk | P2: Se | Q2: Sv | R2: Katru dienu (V) | S2: vienu reizi nedēļā (N) | T2: vienu reizi divās nedēļās (D) | U2: vienu reizi mēnesī (M) | X2: Klients
A3: 1 | B3: Transporta kontroles ēka | C3: 68960060180001 | D3: 1 | E3: 009-2 | F3: Autosvari | G3: 160 | H3: betons | I3: ārtelpa | J3: 7:00 - 15:00 | U3: 1 | V3: =G3*(R3+S3+T3+U3) -> 160 | X3: VID
A4: 2 | B4: Galvenā sanitārā kontroles ēka | C4: 68960060025002 | D4: 1 | E4: 001-1 | F4: Izkraušanas telpa | G4: 155.1 | H4: flīzes | I4: Tehniskās telpas | J4: 7:00 - 15:00 | S4: 4.3 | V4: =G4*(R4+S4+T4+U4) -> 666.93 | X4: PVD
A5: 3 | B5: Galvenā sanitārā kontroles ēka | C5: 68960060025002 | D5: 1 | E5: 001-2 | F5: Izkraušanas telpa | G5: 38.5 | H5: flīzes | I5: Tehniskās telpas | J5: 7:00 - 15:00 | S5: 4.3 | V5: =G5*(R5+S5+T5+U5) -> 165.55 | X5: PVD
A6: 4 | B6: Galvenā sanitārā kontroles ēka | C6: 68960060025002 | D6: 1 | E6: 001-3 | F6: Izkraušanas telpa | G6: 19.2 | H6: flīzes | I6: Tehniskās telpas | J6: 7:00 - 15:00 | S6: 4.3 | V6: =G6*(R6+S6+T6+U6) -> 82.56 | X6: PVD
A7: 5 | B7: Galvenā sanitārā kontroles ēka | C7: 68960060025002 | D7: 1 | E7: 001-4 | F7: Dezinfekcijas telpa | G7: 3.4 | H7: flīzes | I7: Sanitārās telpas | J7: 7:00 - 15:00 | S7: 4.3 | V7: =G7*(R7+S7+T7+U7) -> 14.62 | X7: PVD
A8: 6 | B8: Galvenā sanitārā kontroles ēka | C8: 68960060025002 | D8: 1 | E8: 001-5 | F8: Aukstumu kamera | G8: 35 | H8: betons | I8: Tehniskās telpas | J8: 7:00 - 15:00 | U8: 1 | V8: =G8*(R8+S8+T8+U8) -> 35 | X8: PVD
A9: 7 | B9: Galvenā sanitārā kontroles ēka | C9: 68960060025002 | D9: 1 | E9: 001-6 | F9: Aukstumu kamera | G9: 35 | H9: betons | I9: Tehniskās telpas | J9: 7:00 - 15:00 | U9: 1 | V9: =G9*(R9+S9+T9+U9) -> 35 | X9: PVD
A10: 8 | B10: Galvenā sanitārā kontroles ēka | C10: 68960060025002 | D10: 1 | E10: 001-7 | F10: Aukstumu kamera | G10: 35 | H10: betons | I10: Tehniskās telpas | J10: 7:00 - 15:00 | U10: 1 | V10: =G10*(R10+S10+T10+U10) -> 35 | X10: PVD
A11: 9 | B11: Galvenā sanitārā kontroles ēka | C11: 68960060025002 | D11: 1 | E11: 001-8 | F11: Saldējamā kamera | G11: 37.4 | H11: betons | I11: Tehniskās telpas | J11: 7:00 - 15:00 | U11: 1 | V11: =G11*(R11+S11+T11+U11) -> 37.4 | X11: PVD
A12: 10 | B12: Galvenā sanitārā kontroles ēka | C12: 68960060025002 | D12: 1 | E12: 002-1 | F12: Fitokontrole | G12: 8.1 | H12: flīzes | I12: biroju/darba telpas | J12: 7:00 - 15:00 | S12: 4.3 | V12: =G12*(R12+S12+T12+U12) -> 34.83 | X12: PVD
A13: 11 | B13: Galvenā sanitārā kontroles ēka | C13: 68960060025002 | D13: 1 | E13: 003-1 | F13: Laboratorija | G13: 20.3 | H13: flīzes | I13: biroju/darba telpas | J13: 7:00 - 15:00 | K13: x | L13: x | M13: x | N13: x | O13: x | P13: x | Q13: x | R13: 30.4 | V13: =G13*(R13+S13+T13+U13) -> 617.12 | W13: dezinfekcija 1x nedēļā | X13: PVD
A14: 12 | B14: Galvenā sanitārā kontroles ēka | C14: 68960060025002 | D14: 1 | E14: 003-2 | F14: Telpa | G14: 20.7 | H14: flīzes | I14: biroju/darba telpas | J14: 7:00 - 15:00 | S14: 4.3 | V14: =G14*(R14+S14+T14+U14) -> 89.01 | X14: PVD
A15: 13 | B15: Galvenā sanitārā kontroles ēka | C15: 68960060025002 | D15: 1 | E15: 003-3 | F15: Laboratorija | G15: 5.9 | H15: flīzes | I15: biroju/darba telpas | J15: 7:00 - 15:00 | S15: 4.3 | V15: =G15*(R15+S15+T15+U15) -> 25.37 | X15: PVD
A16: 14 | B16: Galvenā sanitārā kontroles ēka | C16: 68960060025002 | D16: 1 | E16: 003-4 | F16: Laboratorija | G16: 5.9 | H16: flīzes | I16: biroju/darba telpas | J16: 7:00 - 15:00 | S16: 4.3 | V16: =G16*(R16+S16+T16+U16) -> 25.37 | W16: dezinfekcija 1x nedēļā | X16: PVD
A17: 15 | B17: Galvenā sanitārā kontroles ēka | C17: 68960060025002 | D17: 1 | E17: 004-1 | F17: Dezinfekcijas telpa | G17: 9 | H17: flīzes | I17: Sanitārās telpas | J17: 7:00 - 15:00 | S17: 4.3 | V17: =G17*(R17+S17+T17+U17) -> 38.7 | X17: PVD
A18: 16 | B18: Galvenā sanitārā kontroles ēka | C18: 68960060025002 | D18: 1 | E18: 004-2 | F18: Laboratorija | G18: 16.6 | H18: flīzes | I18: biroju/darba telpas | J18: 7:00 - 15:00 | K18: x | L18: x | M18: x | N18: x | O18: x | P18: x | Q18: x | R18: 30.4 | V18: =G18*(R18+S18+T18+U18) -> 504.64 | W18: dezinfekcija 1x nedēļā | X18: PVD
A19: 17 | B19: Galvenā sanitārā kontroles ēka | C19: 68960060025002 | D19: 1 | E19: 004-3 | F19: Inventāra telpa | G19: 4.5 | H19: flīzes | I19: Tehniskās telpas | J19: 7:00 - 15:00 | U19: 1 | V19: =G19*(R19+S19+T19+U19) -> 4.5 | X19: PVD
A20: 18 | B20: Galvenā sanitārā kontroles ēka | C20: 68960060025002 | D20: 1 | E20: 005-1 | F20: Inventāra telpa | G20: 4.4 | H20: flīzes | I20: Tehniskās telpas | J20: 7:00 - 15:00 | U20: 1 | V20: =G20*(R20+S20+T20+U20) -> 4.4 | X20: PVD
A21: 19 | B21: Galvenā sanitārā kontroles ēka | C21: 68960060025002 | D21: 1 | E21: 006-1 | F21: Elektrosadale | G21: 13.6 | H21: flīzes | I21: Tehniskās telpas | J21: 7:00 - 15:00 | U21: 1 | V21: =G21*(R21+S21+T21+U21) -> 13.6 | X21: PVD
A22: 20 | B22: Galvenā sanitārā kontroles ēka | C22: 68960060025002 | D22: 1 | E22: 007-1 | F22: Siltummezgls | G22: 10.9 | H22: flīzes | I22: Tehniskās telpas | J22: 7:00 - 15:00 | U22: 1 | V22: =G22*(R22+S22+T22+U22) -> 10.9 | X22: PVD
A23: 21 | B23: Galvenā sanitārā kontroles ēka | C23: 68960060025002 | D23: 1 | E23: 008-1 | F23: Aukstumu kamera | G23: 6.3 | H23: flīzes | I23: Tehniskās telpas | J23: 7:00 - 15:00 | U23: 1 | V23: =G23*(R23+S23+T23+U23) -> 6.3 | W23: tikai pēc blakusproduktu izvešanas T, D | X23: PVD
A24: 22 | B24: Galvenā sanitārā kontroles ēka | C24: 68960060025002 | D24: 1 | E24: 009-1 | F24: Arhīvs | G24: 14.2 | H24: flīzes | I24: biroju/darba telpas | J24: 7:00 - 15:00 | S24: 4.3 | V24: =G24*(R24+S24+T24+U24) -> 61.06 | X24: PVD
A25: 23 | B25: Galvenā sanitārā kontroles ēka | C25: 68960060025002 | D25: 1 | E25: 010-1 | F25: Atpūtas telpa,virtuve | G25: 17.1 | H25: linolejs | I25: Sanitārās telpas | J25: 7:00 - 15:00 | K25: x | L25: x | M25: x | N25: x | O25: x | P25: x | Q25: x | R25: 30.4 | V25: =G25*(R25+S25+T25+U25) -> 519.84 | X25: PVD
A26: 24 | B26: Galvenā sanitārā kontroles ēka | C26: 68960060025002 | D26: 1 | E26: 011-1 | F26: UPS telpa | G26: 1.5 | H26: flīzes | I26: Tehniskās telpas | J26: 7:00 - 15:00 | U26: 1 | V26: =G26*(R26+S26+T26+U26) -> 1.5 | X26: PVD
A27: 25 | B27: Galvenā sanitārā kontroles ēka | C27: 68960060025002 | D27: 1 | E27: 012-1 | F27: Kantoris | G27: 19 | H27: linolejs | I27: biroju/darba telpas | J27: 7:00 - 15:00 | K27: x | L27: x | M27: x | N27: x | O27: x | P27: x | Q27: x | R27: 30.4 | V27: =G27*(R27+S27+T27+U27) -> 577.6 | X27: PVD
A28: 26 | B28: Galvenā sanitārā kontroles ēka | C28: 68960060025002 | D28: 1 | E28: 013-1 | F28: Kantoris | G28: 19 | H28: linolejs | I28: biroju/darba telpas | J28: 7:00 - 15:00 | K28: x | L28: x | M28: x | N28: x | O28: x | P28: x | Q28: x | R28: 30.4 | V28: =G28*(R28+S28+T28+U28) -> 577.6 | X28: PVD
A29: 27 | B29: Galvenā sanitārā kontroles ēka | C29: 68960060025002 | D29: 1 | E29: 014-1 | F29: Apmeklētāju telpa | G29: 10.1 | H29: flīzes | I29: koplietošanas, publiskās telpas | J29: 7:00 - 15:00 | K29: x | L29: x | M29: x | N29: x | O29: x | P29: x | Q29: x | R29: 30.4 | V29: =G29*(R29+S29+T29+U29) -> 307.04 | X29: PVD
A30: 28 | B30: Galvenā sanitārā kontroles ēka | C30: 68960060025002 | D30: 1 | E30: 015-1 | F30: Laboratorija | G30: 14 | H30: flīzes | I30: biroju/darba telpas | J30: 7:00 - 15:00 | K30: x | L30: x | M30: x | N30: x | O30: x | P30: x | Q30: x | R30: 30.4 | V30: =G30*(R30+S30+T30+U30) -> 425.6 | W30: dezinfekcija 1x nedēļā | X30: PVD
A31: 29 | B31: Galvenā sanitārā kontroles ēka | C31: 68960060025002 | D31: 1 | E31: 016-1 | F31: Inventāra telpa | G31: 6 | H31: flīzes | I31: Tehniskās telpas | J31: 7:00 - 15:00 | U31: 1 | V31: =G31*(R31+S31+T31+U31) -> 6 | X31: PVD
A32: 30 | B32: Galvenā sanitārā kontroles ēka | C32: 68960060025002 | D32: 1 | E32: 017-1 | F32: Drēbju mazgāšanas un žāvēšanas telpa | G32: 12.9 | H32: flīzes | I32: Sanitārās telpas | J32: 7:00 - 15:00 | S32: 4.3 | V32: =G32*(R32+S32+T32+U32) -> 55.47 | X32: PVD
A33: 31 | B33: Galvenā sanitārā kontroles ēka | C33: 68960060025002 | D33: 1 | E33: 017-2 | F33: Telpa | G33: 1.5 | H33: flīzes | I33: Sanitārās telpas | J33: 7:00 - 15:00 | S33: 4.3 | V33: =G33*(R33+S33+T33+U33) -> 6.45 | X33: PVD
A34: 32 | B34: Galvenā sanitārā kontroles ēka | C34: 68960060025002 | D34: 1 | E34: 017-3 | F34: Telpa | G34: 6.6 | H34: flīzes | I34: Sanitārās telpas | J34: 7:00 - 15:00 | S34: 4.3 | V34: =G34*(R34+S34+T34+U34) -> 28.38 | X34: PVD
A35: 33 | B35: Galvenā sanitārā kontroles ēka | C35: 68960060025002 | D35: 1 | E35: 018-1 | F35: Inventāra telpa | G35: 4.5 | H35: flīzes | I35: Tehniskās telpas | J35: 7:00 - 15:00 | T35: 2.2 | V35: =G35*(R35+S35+T35+U35) -> 9.9 | X35: PVD
A36: 34 | B36: Galvenā sanitārā kontroles ēka | C36: 68960060025002 | D36: 1 | E36: 019-1 | F36: Noliktava | G36: 3.2 | H36: flīzes | I36: Tehniskās telpas | J36: 7:00 - 15:00 | T36: 2.2 | V36: =G36*(R36+S36+T36+U36) -> 7.04 | X36: PVD
A37: 35 | B37: Galvenā sanitārā kontroles ēka | C37: 68960060025002 | D37: 1 | E37: 020-1 | F37: Sprostu telpa | G37: 7.4 | H37: flīzes | I37: biroju/darba telpas | J37: 7:00 - 15:00 | T37: 2.2 | V37: =G37*(R37+S37+T37+U37) -> 16.28 | X37: PVD
A38: 36 | B38: Galvenā sanitārā kontroles ēka | C38: 68960060025002 | D38: 1 | E38: 020-2 | F38: Apmeklētāju telpa | G38: 5.3 | H38: flīzes | I38: koplietošanas, publiskās telpas | J38: 7:00 - 15:00 | T38: 2.2 | V38: =G38*(R38+S38+T38+U38) -> 11.66 | X38: PVD
A39: 37 | B39: Galvenā sanitārā kontroles ēka | C39: 68960060025002 | D39: 1 | E39: 020-3 | F39: Sīko mājdzīvnieku apskates telpa | G39: 13.5 | H39: flīzes | I39: biroju/darba telpas | J39: 7:00 - 15:00 | T39: 2.2 | V39: =G39*(R39+S39+T39+U39) -> 29.7 | X39: PVD
A40: 38 | B40: Galvenā sanitārā kontroles ēka | C40: 68960060025002 | D40: 1 | E40: 020-4 | F40: Telpa | G40: 10.9 | H40: flīzes | I40: biroju/darba telpas | J40: 7:00 - 15:00 | T40: 2.2 | V40: =G40*(R40+S40+T40+U40) -> 23.98 | X40: PVD
A41: 39 | B41: Galvenā sanitārā kontroles ēka | C41: 68960060025002 | D41: 1 | E41: 020-5 | F41: Telpa | G41: 14.4 | H41: flīzes | I41: biroju/darba telpas | J41: 7:00 - 15:00 | T41: 2.2 | V41: =G41*(R41+S41+T41+U41) -> 31.68 | X41: PVD
A42: 40 | B42: Galvenā sanitārā kontroles ēka | C42: 68960060025002 | D42: 1 | E42: 020-6 | F42: Lopu pārbaudes telpa | G42: 111.3 | H42: betons | I42: Tehniskās telpas | J42: 7:00 - 15:00 | T42: 2.2 | V42: =G42*(R42+S42+T42+U42) -> 244.86 | X42: PVD
A43: 41 | B43: Galvenā sanitārā kontroles ēka | C43: 68960060025002 | D43: 1 | E43: 021-1 | F43: Zirgu novietne | G43: 40.5 | H43: betons | I43: Sanitārās telpas | J43: 7:00 - 15:00 | U43: 1 | V43: =G43*(R43+S43+T43+U43) -> 40.5 | X43: PVD
A44: 42 | B44: Galvenā sanitārā kontroles ēka | C44: 68960060025002 | D44: 1 | E44: 021-2 | F44: Izolātors | G44: 13 | H44: betons | I44: Tehniskās telpas | J44: 7:00 - 15:00 | U44: 1 | V44: =G44*(R44+S44+T44+U44) -> 13 | X44: PVD
A45: 43 | B45: Galvenā sanitārā kontroles ēka | C45: 68960060025002 | D45: 1 | E45: 022-1 | F45: Barošanas eja | G45: 19 | H45: betons | I45: koplietošanas, publiskās telpas | J45: 7:00 - 15:00 | U45: 1 | V45: =G45*(R45+S45+T45+U45) -> 19 | X45: PVD
A46: 44 | B46: Galvenā sanitārā kontroles ēka | C46: 68960060025002 | D46: 1 | E46: 022-2 | F46: Barības noliktava | G46: 9.7 | H46: betons | I46: Sanitārās telpas | J46: 7:00 - 15:00 | U46: 1 | V46: =G46*(R46+S46+T46+U46) -> 9.7 | X46: PVD
A47: 45 | B47: Galvenā sanitārā kontroles ēka | C47: 68960060025002 | D47: 1 | E47: 022-3 | F47: Barības noliktava | G47: 8.3 | H47: betons | I47: Sanitārās telpas | J47: 7:00 - 15:00 | U47: 1 | V47: =G47*(R47+S47+T47+U47) -> 8.3 | X47: PVD
A48: 46 | B48: Galvenā sanitārā kontroles ēka | C48: 68960060025002 | D48: 1 | E48: 022-4 | F48: Inventāra telpa | G48: 5.4 | H48: betons | I48: Tehniskās telpas | J48: 7:00 - 15:00 | U48: 1 | V48: =G48*(R48+S48+T48+U48) -> 5.4 | X48: PVD
A49: 47 | B49: Galvenā sanitārā kontroles ēka | C49: 68960060025002 | D49: 1 | E49: 023-1 | F49: Sīklopu telpa | G49: 25 | H49: betons | I49: Sanitārās telpas | J49: 7:00 - 15:00 | U49: 1 | V49: =G49*(R49+S49+T49+U49) -> 25 | X49: PVD
A50: 48 | B50: Galvenā sanitārā kontroles ēka | C50: 68960060025002 | D50: 1 | E50: 024-1 | F50: Lopu izolātors | G50: 30 | H50: betons | I50: Sanitārās telpas | J50: 7:00 - 15:00 | U50: 1 | V50: =G50*(R50+S50+T50+U50) -> 30 | X50: PVD
A51: 49 | B51: Galvenā sanitārā kontroles ēka | C51: 68960060025002 | D51: 1 | E51: 025-1 | F51: Saldētava kritušajiem lopiem | G51: 11.7 | H51: betons | I51: Sanitārās telpas | J51: 7:00 - 15:00 | U51: 1 | V51: =G51*(R51+S51+T51+U51) -> 11.7 | X51: PVD
A52: 50 | B52: Galvenā sanitārā kontroles ēka | C52: 68960060025002 | D52: 1 | E52: 026-1 | F52: Utilizācijas krāsns telpa | G52: 11.7 | H52: betons | I52: Tehniskās telpas | J52: 7:00 - 15:00 | U52: 1 | V52: =G52*(R52+S52+T52+U52) -> 11.7 | X52: PVD
A53: 51 | B53: Galvenā sanitārā kontroles ēka | C53: 68960060025002 | D53: 1 | E53: 027-1 | F53: Kautuve slimiem lopiem | G53: 16.8 | H53: betons | I53: biroju/darba telpas | J53: 7:00 - 15:00 | U53: 1 | V53: =G53*(R53+S53+T53+U53) -> 16.8 | X53: PVD
A54: 52 | B54: Galvenā sanitārā kontroles ēka | C54: 68960060025002 | D54: 1 | E54: 901-1 | F54: Vējtveris | G54: 2.7 | H54: flīzes | I54: koplietošanas, publiskās telpas | J54: 7:00 - 15:00 | K54: x | L54: x | M54: x | N54: x | O54: x | P54: x | Q54: x | R54: 30.4 | V54: =G54*(R54+S54+T54+U54) -> 82.08 | X54: PVD
A55: 53 | B55: Galvenā sanitārā kontroles ēka | C55: 68960060025002 | D55: 1 | E55: 901-2 | F55: Gaitenis | G55: 6 | H55: flīzes | I55: koplietošanas, publiskās telpas | J55: 7:00 - 15:00 | K55: x | L55: x | M55: x | N55: x | O55: x | P55: x | Q55: x | R55: 30.4 | V55: =G55*(R55+S55+T55+U55) -> 182.4 | X55: PVD
A56: 54 | B56: Galvenā sanitārā kontroles ēka | C56: 68960060025002 | D56: 1 | E56: 901-3 | F56: Tualete | G56: 2.9 | H56: flīzes | I56: koplietošanas, publiskās telpas | J56: 7:00 - 15:00 | K56: x | L56: x | M56: x | N56: x | O56: x | P56: x | Q56: x | R56: 30.4 | V56: =G56*(R56+S56+T56+U56) -> 88.16 | X56: PVD
A57: 55 | B57: Galvenā sanitārā kontroles ēka | C57: 68960060025002 | D57: 1 | E57: 901-4 | F57: Gaitenis | G57: 37 | H57: flīzes | I57: koplietošanas, publiskās telpas | J57: 7:00 - 15:00 | K57: x | L57: x | M57: x | N57: x | O57: x | P57: x | Q57: x | R57: 30.4 | V57: =G57*(R57+S57+T57+U57) -> 1124.8 | X57: PVD
A58: 56 | B58: Galvenā sanitārā kontroles ēka | C58: 68960060025002 | D58: 1 | E58: 901-5 | F58: Ģērbtuve | G58: 9 | H58: flīzes | I58: Sanitārās telpas | J58: 7:00 - 15:00 | K58: x | L58: x | M58: x | N58: x | O58: x | P58: x | Q58: x | R58: 30.4 | V58: =G58*(R58+S58+T58+U58) -> 273.6 | X58: PVD
A59: 57 | B59: Galvenā sanitārā kontroles ēka | C59: 68960060025002 | D59: 1 | E59: 901-6 | F59: Dušas telpa | G59: 1.4 | H59: flīzes | I59: Sanitārās telpas | J59: 7:00 - 15:00 | K59: x | L59: x | M59: x | N59: x | O59: x | P59: x | Q59: x | R59: 30.4 | V59: =G59*(R59+S59+T59+U59) -> 42.56 | X59: PVD
A60: 58 | B60: Galvenā sanitārā kontroles ēka | C60: 68960060025002 | D60: 1 | E60: 901-7 | F60: Tualete | G60: 1.4 | H60: flīzes | I60: Sanitārās telpas | J60: 7:00 - 15:00 | K60: x | L60: x | M60: x | N60: x | O60: x | P60: x | Q60: x | R60: 30.4 | V60: =G60*(R60+S60+T60+U60) -> 42.56 | X60: PVD
A61: 59 | B61: Galvenā sanitārā kontroles ēka | C61: 68960060025002 | D61: 1 | E61: 901-8 | F61: Dušas telpa | G61: 2.5 | H61: flīzes | I61: Sanitārās telpas | J61: 7:00 - 15:00 | K61: x | L61: x | M61: x | N61: x | O61: x | P61: x | Q61: x | R61: 30.4 | V61: =G61*(R61+S61+T61+U61) -> 76 | X61: PVD
A62: 60 | B62: Galvenā sanitārā kontroles ēka | C62: 68960060025002 | D62: 1 | E62: 901-9 | F62: Tualete | G62: 1.3 | H62: flīzes | I62: Sanitārās telpas | J62: 7:00 - 15:00 | K62: x | L62: x | M62: x | N62: x | O62: x | P62: x | Q62: x | R62: 30.4 | V62: =G62*(R62+S62+T62+U62) -> 39.52 | X62: PVD
A63: 61 | B63: Galvenā sanitārā kontroles ēka | C63: 68960060025002 | D63: 1 | E63: 901-10 | F63: Ģērbtuve | G63: 6.5 | H63: flīzes | I63: Sanitārās telpas | J63: 7:00 - 15:00 | S63: 4.3 | V63: =G63*(R63+S63+T63+U63) -> 27.95 | X63: PVD
A64: 62 | B64: Galvenā sanitārā kontroles ēka | C64: 68960060025002 | D64: 1 | E64: 902-1 | F64: Kāpņu telpa uz bēniņiem | G64: 8.2 | H64: betons | I64: koplietošanas, publiskās telpas | J64: 7:00 - 15:00 | U64: 1 | V64: =G64*(R64+S64+T64+U64) -> 8.2 | X64: PVD
A65: 63 | B65: Galvenā sanitārā kontroles ēka | C65: 68960060025002 | D65: 1 | E65: 903-1 | F65: Gaitenis | G65: 11.1 | H65: flīzes | I65: koplietošanas, publiskās telpas | J65: 7:00 - 15:00 | S65: 4.3 | V65: =G65*(R65+S65+T65+U65) -> 47.73 | X65: PVD
A66: 64 | B66: Galvenā sanitārā kontroles ēka | C66: 68960060025002 | D66: 1 | E66: 904-1 | F66: Gaitenis | G66: 12.1 | H66: flīzes | I66: koplietošanas, publiskās telpas | J66: 7:00 - 15:00 | S66: 4.3 | V66: =G66*(R66+S66+T66+U66) -> 52.03 | X66: PVD
A67: 65 | B67: Galvenā sanitārā kontroles ēka | C67: 68960060025002 | D67: 1 | E67: 905-1 | F67: Gaitenis | G67: 12.1 | H67: flīzes | I67: koplietošanas, publiskās telpas | J67: 7:00 - 15:00 | S67: 4.3 | V67: =G67*(R67+S67+T67+U67) -> 52.03 | X67: PVD
A68: 66 | B68: Galvenā sanitārā kontroles ēka | C68: 68960060025002 | D68: 1 | E68: 906-1 | F68: Dušas telpa | G68: 2.6 | H68: flīzes | I68: Sanitārās telpas | J68: 7:00 - 15:00 | S68: 4.3 | V68: =G68*(R68+S68+T68+U68) -> 11.18 | X68: PVD
A69: 67 | B69: Galvenā sanitārā kontroles ēka | C69: 68960060025002 | D69: 1 | E69: 907-1 | F69: Tualete | G69: 1.4 | H69: flīzes | I69: Sanitārās telpas | J69: 7:00 - 15:00 | S69: 4.3 | V69: =G69*(R69+S69+T69+U69) -> 6.02 | X69: PVD
A70: 68 | B70: Galvenā sanitārā kontroles ēka | C70: 68960060025002 | D70: 1 | E70: 908-1 | F70: Vējtveris | G70: 1.4 | H70: flīzes | I70: koplietošanas, publiskās telpas | J70: 7:00 - 15:00 | S70: 4.3 | V70: =G70*(R70+S70+T70+U70) -> 6.02 | X70: PVD
A71: 69 | B71: Galvenā sanitārā kontroles ēka | C71: 68960060025002 | D71: 1 | E71: 909-1 | F71: Kāpņu telpa | G71: 6.9 | H71: flīzes | I71: koplietošanas, publiskās telpas | J71: 7:00 - 15:00 | S71: 4.3 | V71: =G71*(R71+S71+T71+U71) -> 29.67 | X71: PVD
A72: 70 | B72: Galvenā sanitārā kontroles ēka | C72: 68960060025002 | D72: 1 | E72: 909-2 | F72: Gaitenis | G72: 5.9 | H72: flīzes | I72: koplietošanas, publiskās telpas | J72: 7:00 - 15:00 | S72: 4.3 | V72: =G72*(R72+S72+T72+U72) -> 25.37 | X72: PVD
A73: 71 | B73: Galvenā sanitārā kontroles ēka | C73: 68960060025002 | D73: 1 | E73: 909-3 | F73: Gaitenis | G73: 10 | H73: flīzes | I73: koplietošanas, publiskās telpas | J73: 7:00 - 15:00 | S73: 4.3 | V73: =G73*(R73+S73+T73+U73) -> 43 | X73: PVD
A74: 72 | B74: Galvenā sanitārā kontroles ēka | C74: 68960060025002 | D74: 1 | E74: 909-4 | F74: Ģērbtuve | G74: 7.4 | H74: flīzes | I74: Sanitārās telpas | J74: 7:00 - 15:00 | S74: 4.3 | V74: =G74*(R74+S74+T74+U74) -> 31.82 | X74: PVD
A75: 73 | B75: Galvenā sanitārā kontroles ēka | C75: 68960060025002 | D75: 1 | E75: 909-5 | F75: Tualete | G75: 1.5 | H75: flīzes | I75: Sanitārās telpas | J75: 7:00 - 15:00 | S75: 4.3 | V75: =G75*(R75+S75+T75+U75) -> 6.45 | X75: PVD
A76: 74 | B76: Galvenā sanitārā kontroles ēka | C76: 68960060025002 | D76: 1 | E76: 909-6 | F76: Tualete | G76: 1.5 | H76: flīzes | I76: Sanitārās telpas | J76: 7:00 - 15:00 | S76: 4.3 | V76: =G76*(R76+S76+T76+U76) -> 6.45 | X76: PVD
... A78: 76 | B78: Galvenā sanitārā kontroles ēka | C78: 68960060025002 | D78: 1 | E78: 910-2 | F78: Rampa | G78: 28 | H78: betons | I78: koplietošanas, publiskās telpas | J78: 7:00 - 15:00 | S78: 4.3 | V78: =G78*(R78+S78+T78+U78) -> 120.4 | X78: PVD
A79: 77 | B79: Galvenā sanitārā kontroles ēka | C79: 68960060025002 | D79: 1 | E79: 911-1 | F79: Rampa | G79: 22.4 | H79: betons | I79: koplietošanas, publiskās telpas | J79: 7:00 - 15:00 | U79: 1 | V79: =G79*(R79+S79+T79+U79) -> 22.4 | X79: PVD
A80: 78 | B80: Galvenā sanitārā kontroles ēka | C80: 68960060025002 | D80: 1 | E80: 911-2 | F80: Rampa | G80: 31 | H80: betons | I80: koplietošanas, publiskās telpas | J80: 7:00 - 15:00 | U80: 1 | V80: =G80*(R80+S80+T80+U80) -> 31 | X80: PVD
A81: 79 | B81: Galvenā sanitārā kontroles ēka | C81: 68960060025002 | D81: 1 | E81: 911-3 | F81: Ratiņu novietne | G81: 8.1 | H81: betons | I81: koplietošanas, publiskās telpas | J81: 7:00 - 15:00 | U81: 1 | V81: =G81*(R81+S81+T81+U81) -> 8.1 | X81: PVD
A82: 80 | B82: Operatoru ēka | C82: 68960060025019 | D82: 1 | E82: 001-1 | F82: Apmeklētāju telpa | G82: 4.3 | H82: flīzes | I82: koplietošanas, publiskās telpas | J82: 7:00 - 15:00 | K82: x | L82: x | M82: x | N82: x | O82: x | P82: x | Q82: x | R82: 30.4 | V82: =G82*(R82+S82+T82+U82) -> 130.72 | X82: VID
A83: 81 | B83: Operatoru ēka | C83: 68960060025019 | D83: 1 | E83: 001-2 | F83: Servera telpa | G83: 6.3 | H83: flīzes | I83: Tehniskās telpas | J83: 7:00 - 15:00 | T83: 2.2 | V83: =G83*(R83+S83+T83+U83) -> 13.86 | W83: Uzkopšanas darbi veicami tikai pēc pieprasījuma VID atbildīgās personas (IP) klātbūtnē. | X83: VID
A84: 82 | B84: Operatoru ēka | C84: 68960060025019 | D84: 1 | E84: 001-3 | F84: Operatoru telpa | G84: 26.1 | H84: flīzes | I84: biroju/darba telpas | J84: 7:00 - 15:00 | K84: x | L84: x | M84: x | N84: x | O84: x | P84: x | Q84: x | R84: 30.4 | V84: =G84*(R84+S84+T84+U84) -> 793.44 | X84: VID
A85: 83 | B85: Operatoru ēka | C85: 68960060025019 | D85: 1 | E85: 001-4 | F85: Vējtveris | G85: 1.2 | H85: flīzes | I85: koplietošanas, publiskās telpas | J85: 7:00 - 15:00 | K85: x | L85: x | M85: x | N85: x | O85: x | P85: x | Q85: x | R85: 30.4 | V85: =G85*(R85+S85+T85+U85) -> 36.48 | X85: VID
A86: 84 | B86: Angārs | C86: 68960060025020 | D86: 1 | E86: 001-1 | F86: Skenera telpa | G86: 508.4 | H86: betons | I86: Tehniskās telpas | J86: 7:00 - 15:00 | S86: 4.3 | V86: =G86*(R86+S86+T86+U86) -> 2186.12 | W86: 2x gadā nepieciešama ģenerāltīrīšana, ziemā katru dienu braucamā daļa | X86: VID
A87: 85 | B87: Angārs | C87: 68960060025020 | D87: 1 | E87: 001-2 | F87: UPS telpa | G87: 11.7 | H87: betons | I87: Tehniskās telpas | J87: 7:00 - 15:00 | U87: 1 | V87: =G87*(R87+S87+T87+U87) -> 11.7 | W87: Uzkopšanas darbi veicami tikai pēc pieprasījuma VID atbildīgās personas (IP) klātbūtnē | X87: VID
A88: 86 | B88: Muitas kontroles ēka | C88: 68960060026001 | D88: 1 | E88: 001-1 | F88: Telpa | G88: 2.8 | H88: linolejs | I88: biroju/darba telpas | J88: 7:00 - 15:00 | U88: 1 | V88: =G88*(R88+S88+T88+U88) -> 2.8 | X88: VID
A89: 87 | B89: Muitas kontroles ēka | C89: 68960060026001 | D89: 1 | E89: 001-2 | F89: Telpa | G89: 5.8 | H89: linolejs | I89: biroju/darba telpas | J89: 7:00 - 15:00 | U89: 1 | V89: =G89*(R89+S89+T89+U89) -> 5.8 | X89: VID
A90: 88 | B90: Muitas kontroles ēka | C90: 68960060026001 | D90: 1 | E90: 001-3 | F90: Telpa | G90: 2.6 | H90: linolejs | I90: biroju/darba telpas | J90: 7:00 - 15:00 | U90: 1 | V90: =G90*(R90+S90+T90+U90) -> 2.6 | X90: VID
A91: 89 | B91: Muitas kontroles ēka | C91: 68960060026001 | D91: 1 | E91: 002-1 | F91: Telpa | G91: 10.4 | H91: linolejs | I91: biroju/darba telpas | J91: 7:00 - 15:00 | K91: x | L91: x | M91: x | N91: x | O91: x | P91: x | Q91: x | R91: 30.4 | V91: =G91*(R91+S91+T91+U91) -> 316.16 | X91: VID
A92: 90 | B92: Muitas kontroles ēka | C92: 68960060026001 | D92: 1 | E92: 003-1 | F92: Biroja telpa | G92: 9.5 | H92: linolejs | I92: biroju/darba telpas | J92: 7:00 - 15:00 | K92: x | L92: x | M92: x | N92: x | O92: x | P92: x | Q92: x | R92: 30.4 | V92: =G92*(R92+S92+T92+U92) -> 288.8 | X92: PBS SIA
A93: 91 | B93: Muitas kontroles ēka | C93: 68960060026001 | D93: 1 | E93: 003-2 | F93: Biroja telpa | G93: 10.7 | H93: linolejs | I93: biroju/darba telpas | J93: 7:00 - 15:00 | K93: x | L93: x | M93: x | N93: x | O93: x | P93: x | Q93: x | R93: 30.4 | V93: =G93*(R93+S93+T93+U93) -> 325.28 | X93: PPKC.EU SIA
A94: 92 | B94: Muitas kontroles ēka | C94: 68960060026001 | D94: 1 | E94: 003-3 | F94: Biroja telpa | G94: 7.9 | H94: linolejs | I94: biroju/darba telpas | J94: 7:00 - 15:00 | K94: x | L94: x | M94: x | N94: x | O94: x | P94: x | Q94: x | R94: 30.4 | V94: =G94*(R94+S94+T94+U94) -> 240.16 | X94: vakance
A95: 93 | B95: Muitas kontroles ēka | C95: 68960060026001 | D95: 1 | E95: 003-4 | F95: Biroja telpa | G95: 13.3 | H95: linolejs | I95: biroju/darba telpas | J95: 7:00 - 15:00 | S95: 4.3 | V95: =G95*(R95+S95+T95+U95) -> 57.19 | X95: A&A Logistic SIA
A96: 94 | B96: Muitas kontroles ēka | C96: 68960060026001 | D96: 1 | E96: 004-1 | F96: Priekštelpa | G96: 2.2 | H96: linolejs | I96: koplietošanas, publiskās telpas | J96: 7:00 - 15:00 | K96: x | L96: x | M96: x | N96: x | O96: x | P96: x | Q96: x | R96: 30.4 | V96: =G96*(R96+S96+T96+U96) -> 66.88 | X96: VDD
A97: 95 | B97: Muitas kontroles ēka | C97: 68960060026001 | D97: 1 | E97: 005-1 | F97: Biroja telpa | G97: 8.2 | H97: linolejs | I97: biroju/darba telpas | J97: 7:00 - 15:00 | K97: x | L97: x | M97: x | N97: x | O97: x | P97: x | Q97: x | R97: 30.4 | V97: =G97*(R97+S97+T97+U97) -> 249.28 | X97: VDD
A98: 96 | B98: Muitas kontroles ēka | C98: 68960060026001 | D98: 1 | E98: 006-1 | F98: Apskates telpa | G98: 9.4 | H98: linolejs | I98: biroju/darba telpas | J98: 7:00 - 15:00 | K98: x | L98: x | M98: x | N98: x | O98: x | P98: x | Q98: x | R98: 30.4 | V98: =G98*(R98+S98+T98+U98) -> 285.76 | X98: VRS
A99: 97 | B99: Muitas kontroles ēka | C99: 68960060026001 | D99: 1 | E99: 006-2 | F99: Tualete | G99: 1.4 | H99: flīzes | I99: Sanitārās telpas | J99: 7:00 - 15:00 | K99: x | L99: x | M99: x | N99: x | O99: x | P99: x | Q99: x | R99: 30.4 | V99: =G99*(R99+S99+T99+U99) -> 42.56 | X99: VRS
A100: 98 | B100: Muitas kontroles ēka | C100: 68960060026001 | D100: 1 | E100: 007-1 | F100: Dienesta telpa | G100: 26.6 | H100: linolejs | I100: Tehniskās telpas | J100: 7:00 - 15:00 | S100: 4.3 | V100: =G100*(R100+S100+T100+U100) -> 114.38 | X100: VID/VRS
A101: 99 | B101: Muitas kontroles ēka | C101: 68960060026001 | D101: 1 | E101: 008-1 | F101: Dežūrtelpa | G101: 11.3 | H101: linolejs | I101: biroju/darba telpas | J101: 7:00 - 15:00 | K101: x | L101: x | M101: x | N101: x | O101: x | P101: x | Q101: x | R101: 30.4 | V101: =G101*(R101+S101+T101+U101) -> 343.52 | X101: VRS
...

Sheet Telpu ikdienas UP
C1: KVALITĀTES LĪMENIS
B2: TELPU IKDIENAS UZKOPŠANAS PAKALPOJUMI | C2: MĒBELES PIEDERUMI | D2: GRĪDAS | E2: SIENAS | F2: GRIESTI
B3: BIROJU/ DARBA TELPAS, ZĀLES, EKSPOZĪCIJU ZĀLES | C3: 4 | D3: 4 | E3: 4 | F3: 3
B4: Atkritumu grozu tukšošana un maisiņu nomaiņa *
B5: Ādas mēbeļu tīrīšana ar atbilstošu līdzekli
B6: Cietā grīdas seguma mitrā uzkopšana telpās
B7: Durvju rokturu tīrīšana ar dezinficējošu līdzekli
B8: Elektroslēdžu un rozešu mitrā tīrīšana
B9: Gaismas ķermeņu un reljefu interjera elementu tīrīšana līdz 2 m augstumam
B10: Brīvo galda virsmu mitrā tīrīšana, ja uz virsmas izklaidus nav papīri **
B11: Grīdlīstšu un ventilācijas restu mitrā tīrīšana
B12: Horizontālo un vertikālo virsmu mitrā tīrīšana (skapji, plaukti, palodzes, galdi, krēsli)
B13: Krēslu kāju mitrā tīrīšana
B14: Lokālu traipu tīrīšana no horizontālām un vertikālajām virsmām (skapji, plaukti, galdi, krēsli, durvis, sienas, stikla starpsienas)
B15: Mīkstā grīdas seguma (ja tāds ir) izsūkšana ar putekļusūcēju
B16: Mīksto mēbeļu (ja tādas ir) izsūkšana ar putekļu sūcēju
B17: SANITĀRĀS, VIRTUVES TELPAS | C17: 4 | D17: 4 | E17: 4 | F17: 3
B18: Atkritumu grozu tukšošana un maisiņu nomaiņa *
B19: Atkritumu tvertnes mazgāšana un dezinficēšana
B20: Cietā grīdas seguma mitrā uzkopšana ar dezinficējošu līdzekli
B21: Durvju rokturu tīrīšana ar dezinficējošu līdzekli
B22: Duškabīnes, dušas stūra vai vannas (ja tāda telpā uzstādīta) tīrīšana
B23: Gaismas ķermeņu un reljefu interjera elementu tīrīšana līdz 2 m augstumam
B24: Grīdlīstšu un ventilācijas restu mitrā tīrīšana
B25: Higiēnas preču turētāju mitrā tīrīšana
B26: Higiēnas preču papildināšana
B27: Higiēnas preču piegāde
B28: Horizontālo un vertikālo virsmu mitrā tīrīšana (skapji, plaukti, palodzes, galdi, krēsli)
B29: Lokālu traipu tīrīšana no horizontālajām un vertikālām virsmām
... B37: WC gaisa atsvaidzinātāja nodrošināšana
B38: KOPLIETOŠANAS TELPAS | C38: 3 | D38: 3 | E38: 3 | F38: 2
B39: Atkritumu grozu tukšošana un maisiņu nomaiņa *
B40: Ādas mēbeļu tīrīšana ar atbilstošu līdzekli
B41: Cietā grīdas seguma mitrā uzkopšana
B42: Durvju rokturu tīrīšana ar dezinficējošu līdzekli
B43: Elektroslēdžu un rozešu mitrā tīrīšana
B44: Gaismas ķermeņu un reljefu interjera elemntu tīrīšana līdz 2m augstumam
B45: Grīdlīstšu un ventilācijas restu mitrā tīrīšana
B46: Horizontālo un vertikālo virsmu mitrā tīrīšana (skapji, plaukti, palodzes, galdi, krēsli)
B47: Krēslu kāju mitrā tīrīšana
B48: Lokālu traipu tīrīšana no horizontālām un vertikālajām virsmām (skapji, plaukti, galdi, krēsli, durvis, sienas, stikla starpsienas)
B49: Kāpņu margu un roku balstu mitrā tīrīšana (ar dezinficējošu)
B50: Mīkstā grīdas seguma izsūkšana ar putekļusūcēju
... B54: Spoguļu tīrīšana
B55: TEHNISKĀS TELPAS | C55: 2 | D55: 2 | E55: 2 | F55: 2
B56: Atkritumu grozu tukšošana un maisiņu nomaiņa *
B57: Cietā grīdas seguma mitrā uzkopšana (serveru telpās uzkopj tikai grīdas segumu)
B58: Elektroslēdžu un rozešu mitrā tīrīšana
B59: Grīdlīstšu un ventilācijas restu mitrā tīrīšana
B60: Horizontāli virsmu mitrā tīrīšana (skapji, plaukti, palodzes, galdi, krēsli)
B61: Horizontālo un vertikālo virsmu mitrā tīrīšana (skapji, plaukti, palodzes, galdi, krēsli)
B63: * - Atkritumi urnas jāiztukšo katru dienu, ja tajās ir atkritumi. Maisiņi tiek mainīti, ja atkritumos ir bioloģiskas izcelsmes atkritumi. Ja ir iespēja un Lietotājs/Pasūtītājs to pieprasa, tad atkritumi arī ir jāšķiro³
B64: ** - Par atbrīvotām tiek uzskatītas virsmas bez dokumentiem, mapēm un privātām lietām vai traukiem (uz galdiem var atrasties rakstāmpiederumu organizatori, plastmasas „šālītes“ u. tml.).
B65: *** - Šie pakalpojumi (kafijas automāta, ledusskapja un virtuves skapīšu tīrīšana no iekšpuses) jāveic, ja Pasūtītājs vai Lietotājs to pieprasa. Visu rūpīgi izņemot, iztīrot un pēc tam saliekot atpakaļ.
B66: **** - Ja Pasūtītājs vai Lietotājs to pieprasa, Izpildītājam jāseko līdzi, lai virtuvē vienmēr būtu trauku mazgāšanas līdzeklis un švamme(mazgāšanai ar rokām), gumijota lupatiņa un/ vai trauku tabletes un sāls trauku mazgājamajai mašīna (ja tāda ir).

Sheet Telpu sadalījums un ĪP
F2: SADALĪJUMS PA TELPU GRUPĀM
B3: NPK | C3: OBJEKTS | D3: TELPU KOPĒJĀ PLATĪBA (m²) | F3: Ārtelpa | G3: Biroju/darba telpas | H3: Koplietošanas telpas | I3: Sanitārās telpas | J3: Tehniskās telpas | M3: ĪPAŠĀS PRASĪBAS (JĀŅEM VĒRĀ)
B4: Nr. | C4: Nosaukums | D4: (m²) | F4: (m²) | G4: (m²) | H4: (m²) | I4: (m²) | J4: (m²)
B5: 1 | C5: TEREHOVA | D5: =SUM(F5:J5) -> 5292.8 | F5: 189.6 | G5: 690.1 | H5: 1112.5 | I5: 664.5 | J5: 2636.1 | M5: Pēc dzīvnieku uzturēšanās dzīvnieku novietnēs, attiecīgo telpu mazgāšana ir jāveic izmantojot augstspiediena iekārtu. PVD telpu uzkopšana jāveic saskaņā ar PVD prasībām.

Sheet Ēku karte

Sheet Cilvēku plūsma
B3: TEREHOVA | C3: Pilnas noslodzes gadījumā | D3: Zemas noslodzes gadījumā
B4: Darbinieki (12 h diennaktī strādājošo skaits) | C4: 40 | D4: 30
B5: Kravas automašīnas (24h diennaktī vidēji šķērso): | C5: 220 | D5: 100
B6: Vieglās automašīnas (24h diennaktī vidēji šķērso): | C6: 200 | D6: 100

Sheet Higiēnas preces
B2: NPK | C2: OBJEKTS | D2: ROKU DVIEĻI | E2: TUALETES PAPĪRS | F2: ZIEPES ROKU MAZGĀŠANAI | G2: GAISA ATSVAIDZINĀTĀJS UN BIRSTE (WC telpās) | H2: DEZINFEKCIJAS LĪDZEKLIS virsmām/rokām izsmidzināms 500ml (vestibilos pie ieejas un klientu zonās ) * | I2: ŠĶIDRĀS ZIEPES * pudelītēs ar pumpīti (litri) | J2: TRAUKU MAZGĀJAMAIS LĪDZEKLIS UN ŠVAMME* (virtuvē) | K2: TUALETES PAPĪRS* (ruļļi) | L2: ROKU DVIEĻI* (ruļļi) | M2: GAISA ATSVAIDZINĀTĀJS * (gabali) | N2: CITAS PAPILDUS PRASĪBAS
B3: 2 | C3: TEREHOVA | D3: Tork H1 Advanced baltā krāsā (ar sensoru) sistēmai vai ekvivalents | E3: Tork T6 sistēmai/Tork Mini Jumbo Advanced vai ekvivalents | F3: Tork S4 (putu) sistēmai vai ekvivalents | G3: Aerosola | H3: 8 | I3: 30 | J3: 10 | K3: 200 | L3: 100 | M3: 20 | N3: -
D7: * patēriņš vidēji mēnesī

Sheet Paklāji
B2: Objekts | C2: Izmērs (cm) | D2: Krāsa, materiāls | E2: Daudzums | F2: Ziemas sezonā (01.11.-31.03) | G2: Vasaras sezonā (01.04.-31.10.)
B3: TEREHOVA | C3: 85 x 150 | D3: pelēks, sintētisks | E3: 6 | F3: Reizi nedēļā | G3: Reizi divās nedēļās
C4: 115 x 200 | E4: 6

Sheet Teritorijas sadalījums un ĪP
B2: NPK | C2: OBJEKTS | D2: KOPĒJĀ UZKOPJAMĀ PLATĪBA (m²) | E2: KOPĒJĀ PLATĪBA (m²) | F2: Ietvju platība, cietais segums (m²) | G2: Ietvju platība, cietais segums, kurš tiek kopts pēc pieprasījuma (m²) | H2: Zāliena platība (m²) | I2: Zāliena un krūmāju platība, kura tiek kopta pēc pieprasījuma (m²) | J2: Jānodrošina karoga izkāršana (karogu skaits) | K2: Sniega izvešana jānodrošina | L2: ĪPAŠĀS PRASĪBAS (JĀŅEM VĒRĀ)
B3: 1 | C3: TEREHOVA | D3: =F3+H3 -> 73286.2 | E3: =SUM(F3:I3) -> 120328.2 | F3: 47294.9 | G3: 290 | H3: 25991.3 | I3: 46752 | J3: 4 | K3: Stipras snigšanas laikā, kad teritorijā notīrītā sniega daudzums uzkrājas apmērā, kas traucē transporta vai cilvēku plūsmai, sniegs nekavējoties jāpārvieto sniegs ārpus Objekta nožogojuma. | L3: 1) Objektā teritorijas uzkopšanā jābūt nodarbinātiem ne mazāk kā 3 sētniekiem gadījumos, kad nakts periodā ir bijusi spēcīga snigšana vai novērojama stipra snigšana dienas periodā, kā arī, lai novērstu uz ietvēm un ceļa segumiem radušos apledojumu. 2) Teritorijā izvietoti 4 karogi (2.gab. Latvijas un2.gab. Eiropas), karogu izmēri 2m x 1m. 3) Ziemas periodā jāizmanto dzīvniekiem draudzīgs pretslīdes materiāls. 4) Vasaras sezonā vismaz 2 reizes pļaut zālāju aiz RKP iežogotās teritorijas

Sheet Teritorijas ikdienas UP
B2: NPK | C2: TERITORIJAS IKDIENAS UZKOPŠANĀ VEICAMIE DARBI | D2: 1xdiennaktī līdz plkst.:08:00 | E2: 2x diennaktī | F2: Intensīvas snigšanas gadījumā, ne retāk kā ik pa 4h (no 06:00 - 22:00) | G2: 1 x nedēļā | H2: 1x mēnesī | I2: Pēc nepieciešamības
B3: ZIEMAS SEZONĀ (novembris-marts)₁
B4: 1. | C4: Trotuāri, ietves, gājēju celiņi (ar speciālu segumu), autostāvvietas, veloceliņi, pagalmi, iebrauktuves, lieveņi, ieejas pakāpieni
B5: 1.1 | C5: Objekta apsekošana (ne retāk kā 1x 2 nedēļās) | I5: X
B6: 1.2 | C6: Slaucīšana, ja nekrīt sniegs | D6: X
B7: 1.3 | C7: Attīrīšana no sniega un ledus, kaisīšana ar pretslīdes materiāliem | D7: X
B8: 1.4 | C8: Attīrīšana no apledojuma atkalas laikā (ar ledus cirtni), kaisīšana ar smilšu un sāls maisījumu | D8: X
B9: 1.5 | C9: Kanalizācijas aku vāku un hidrantu attīrīšana no sniega | D9: X
B10: 1.6 | C10: Atkritumu konteineru novietnes laukuma uzturēšana kārtībā | D10: X
B11: 1.7 | C11: Atkritumu urnu tukšošana un maisiņu nomaiņa atkritumu tvertnēs teritorijā | D11: X
B12: 1.8 | C12: Attīrīšana no sniega un ledus intensīvas snigšanas gadījumā (kolīdz sniega biezums pārsniedz 2 cm) un kaisīšana ar pretslīdes materiālu | F12: X
B13: 1.9 | C13: Ēku ieejas mezglu uzturēšana, attīrīšana no ledus un sniega, un kaisīšana ar pretslīdes materiāliem | F13: X
B14: 1.1 | C14: Kaisīšana ar pretslīdes materiālu atkalas laikā | I14: X
B15: 1.11 | C15: Atkritumu tvertņu korpusu tīrīšana no ārpuses | I15: X
B16: 1.12 | C16: Lielgabarīta atkritumu izvešanas organizēšana (ja tādi novietoti blakus atkritumu konteineriem) | I16: X
B17: 1.13 | C17: Bīstamo vietu (bedres, ūdenstilpnes, utml) un vietu, kur uz jumta izveidojušās lāstekas - norobežošana ar speciālo lenti | I17: X
B18: 1.14 | C18: Numurzīmju, norāžu, luksoforu uzturēšana | I18: X
B19: 1.15 | C19: Sniega izvešana | I19: X
B20: 1.16 | C20: Karoga izkāršana atbilstošā noformējumā saskaņā ar LR likumdošanu ¹ , karogu mastu uzturēšana un karogu nomaiņa (t.sk.iegāde) to bojājumu gadījumos | I20: X
B21: 1.17 | C21: Koku, krūmu vai aizlūzušu zaru apzāģēšana vietās, kur tiek traucēta gājēju un transporta kustība vai tie bojā sētu (t.sk. nozāģēto zaru izvešana un nepieciešamo mehānisko līdzekļu noma) ² | I21: X
B22: 2. | C22: Zālāji un citi laukumi, kuri netiek izmantoti, lai pārvietotos
B23: 2.1 | C23: Atkritumu savākšana | D23: X
B24: 3 | C24: Citi
B25: 3.1 | C25: Ēkas jumta un noteku tīrīšana (no sniega, ledus, gružiem, koku lapām un zariem, putnu radītiem atkritumiem) | I25: X
B26: 3.2 | C26: Ēkas fasādes tīrīšana | I26: X
B27: 3.4 | C27: Teritorijā esošo nojumju, koku stumbru un sakņu aizsarg-apmaļu, soliņu un velosipēdu novietņu (stendu/statīvu) uzturēšana tīrībā | I27: X
B28: 3.5 | C28: Teritorijā esošo kravas pacēlāju un piegādes rampu, ja tādas atrodas teritorijā, uzturēšana tīrībā | I28: X
B29: 3.6 | C29: Teritorijā esošo apgaismes ķermeņu, apgaismes stabu, nožogojumu, barjeru un norāžu uzturēšana tīrībā | I29: X
B30: 3.7 | C30: Teritorijā esošo koku un apstādījumu uzturēšana (kokkopja, arborista paklapojumi lūzušu koku gadījumā) | I30: X
B31: 3.8 | C31: Atkritumu (kartona kastu, iepakojumu, makulatūras un citu atkritumu) nogādāšana no iekštelpām līdz konteineriem un sadzīves atkritumu daudzuma fiksēšana uzskaites žurnālā. | I31: X
B32: 3.9 | C32: Bīstamo atkritumu uzskaite un nodošana utilizācijai. | I32: X
B33: 3.1 | C33: Konteineru, kur tiek izmesti dzīvnieku izcelsmes produkti, vienreizējās lietošanas maisu nomaiņa ne retāk kā 1 x diennaktī (pēc nepieciešamības 2 reizes dienā) , izņemto atkritumu svēršana, uzskaite un nogādāšana uz saldētavu PVD ēkā, atkritumu konteineru mazgāšana un dezinficēšana pēc nepieciešamības, bet ne retāk kā 2 x mēnesī. Dezinfekcijas līdzekļu izmaksas sedz VID. | I33: X
B34: 3.11 | C34: Novadgrāvju tīrīšana (krūmu izciršana) | I34: X
B35: 3.12 | C35: Saldējamās kameras dezinficēšanu veic pēc PVD pieteikuma, dezinfekcijas līdzekļus nodrošina PVD. | I35: X
B36: VASARAS SEZONĀ (aprīlis-oktobris)
B37: 4 | C37: Trotuāri, ietves, gājēju celiņi (ar speciālu segumu), autostāvvietas, veloceliņi, pagalmi, iebrauktuves, lieveņi, ieejas pakāpieni
B38: 4.1 | C38: Objekta apsekošana (ne retāk kā 1x 2 nedēļās) | I38: X
B39: 4.2 | C39: Teritorijas slaucīšana | D39: X
B40: 4.3 | C40: Atkritumu urnu tukšošana un maisiņu nomaiņa atkritumu tvertnēs teritorijā | D40: X
B41: 4.4 | C41: Atkritumu tvertņu korpusu tīrīšana no ārpuses | D41: X
B42: 4.5 | C42: Atkritumu tvertņu novietnes laukuma slaucīšana | D42: X
B43: 4.6 | C43: Lielgabarīta atkritumu izvešanas organizēšana (ja tādi novietoti blakus atkritumu konteineriem) | I43: X
B44: 4.7 | C44: Bīstamo vietu (bedres, ūdenstilpnes utml) norobežošana ar speciālo lenti | I44: X
B45: 4.8 | C45: Karoga izkāršana atbilstošā noformējumā saskaņā ar LR likumdošanu ¹ , karogu mastu uzturēšana un karogu nomaiņa (t.sk.iegāde) to bojājumu gadījumos | I45: X
B46: 4.9 | C46: Koku, krūmu vai aizlūzušu zaru apzāģēšana vietās, kur tiek traucēta gājēju un transporta kustība vai tie bojā sētu (t.sk. nozāģēto zaru izvešana un nepieciešamo mehānisko līdzekļu noma) ² | I46: X
B47: 4.1 | C47: Lapu savākšana un izvešana | I47: X
B48: 4.11 | C48: Smilšu savākšana pēc ziemas sezonas un to izvešana | I48: X
B49: 5 | C49: Zālāji un citi laukumi, kuri netiek izmantoti, lai pārvietotos
B50: 5.1 | C50: Atkritumu savākšana | D50: X
B51: 5.2 | C51: Apstādījumu un zālāja laistīšana, kur tas tehniski iespējams un nepieciešamības | I51: X
B52: 5.3 | C52: Apstādījumu, trotuāra malu, bruģa, betona plākšņu, cita veida segumu ravēšana un attīrīšana no nezālēm, sūnām | I52: X
B53: 5.4 | C53: Lapu, zaru un nopļautās zāles savākšana | I53: X
B54: 5.5 | C54: Zālāju pļaušana (iežogotajā teritorijā un ārpus iežogotās teritorijas) ievērojot pašvaldības saistošos noteikumus | I54: X
B55: 5.6 | C55: Zālāja un apstādījumu laistīšana, kur tas tehniski iespējams un nepieciešamības | I55: X
B56: 5.7 | C56: Zālāju atjaunošana un uzturēšana (t.sk.piesēt vietas, kur zāle iznīkus, kaisīšana ar dolomīta smiltīm, lai likvidētu sūnas) | I56: X
B57: 6 | C57: Citi
B58: 6.1 | C58: Ēku jumta un noteku tīrīšana (gružiem, koku lapām un zariem, putnu radītiem atkritumiem) | I58: X
B59: 6.2 | C59: Ēkas fasādes tīrīšana | I59: X
B60: 6.3 | C60: Ēku ieejas mezglu uzturēšana | I60: X
B61: 6.4 | C61: Numurzīmju, norāžu, luksoforu uzturēšana | I61: X
B62: 6.5 | C62: Teritorijā esošo nojumju, koku stumbru un sakņu aizsarg-apmaļu, soliņu un velosipēdu novietņu (stendu/statīvu), ja tādi atrodas teritorijā, uzturēšana tīrībā | I62: X
B63: 6.6 | C63: Teritorijā esošo kravas pacēlāju un piegādes rampu, ja tādas atrodas teritorijā, uzturēšana tīrībā | I63: X
B64: 6.7 | C64: Teritorijā esošo apgaismes ķermeņu, nožogojumu un norāžu uzturēšana tīrībā | I64: X
B65: 6.8 | C65: Teritorijā esošo koku un apstādījumu uzturēšana un atjaunošana (kokkopja, arborista, daiļdārznieka pakalpojumi) ² | I65: X
B66: 6.9 | C66: Atkritumu (kartona kastu, iepakojumu, makulatūras un citu atkritumu) nogādāšana no iekštelpām līdz konteineriem un sadzīves atkritumu daudzuma fiksēšana uzskaites žurnālā. | I66: X
B67: 6.1 | C67: Bīstamo atkritumu uzskaite un nodošana utilizācijai. | I67: X
B68: 6.11 | C68: Konteineru, kur tiek izmesti dzīvnieku izcelsmes produkti, vienreizējās lietošanas maisu nomaiņa vismaz 1 x diennaktī (pēc nepieciešamības 2 reizes dienā), izņemto atkritumu svēršana, uzskaite un nogādāšana uz saldētavu PVD ēkā, atkritumu konteineru mazgāšana un dezinficēšana pēc nepieciešamības, bet ne retāk kā 2 x mēnesī. Dezinfekcijas līdzekļu izmaksas sedz VID. | I68: X
B69: 6.12 | C69: Saldējamās kameras dezinficēšanu veic pēc PVD pieteikuma, dezinfekcijas līdzekļus nodrošina PVD. | I69: X
B70: CITI (nepārtraukti)
B72: ¹ | C72: Saskaņā ar likumu "Latvijas valsts karoga likums"
B73: ² | C73: Atļauju koku nozāģēšanai saskaņo VNĪ. Troturāra un brauktuves norobežošanas atļauju saskaņo Izpildītājs.

Sheet Uzkopjamo platību karte
