Workbook
Name TIPS: [1]Tabulas!$E$11:$E$15

Sheet Saturs
B1: Tehniskā-finanšu piedāvājuma forma iepirkumam
B2: ='1. pozīcija'!A2 -> ATKLĀTA KONKURSA “Pacientu vitālo funkciju monitoru piederumu piegāde III” (identifikācijas Nr. PSKUS 2026/125)
B3: Saturs
B5: Nr. | C5: Nosaukums | D5: Cena kopā, EUR bez PVN
C6: ='1. pozīcija'!A3 -> Piederumi Philips pacientu monitoriem
B7: 1.1 | C7: ='1. pozīcija'!B23 -> BIS sensors | D7: ='1. pozīcija'!F26 -> 0
B8: 1.2 | C8: ='1. pozīcija'!B33 -> Sirds izsviedes kabelis | D8: ='1. pozīcija'!F36 -> 0
B9: 1.3 | C9: ='1. pozīcija'!B43 -> Jaundzimušo EKG vadu komplekts Philips pacientu monitoriem | D9: ='1. pozīcija'!C46 -> 0
B10: 1.4 | C10: ='1. pozīcija'!B58 -> EKG krūšu vadu komplekts Philips pacientu monitoriem | D10: ='1. pozīcija'!C61 -> 0
B11: 1.5 | C11: ='1. pozīcija'!B74 -> Ādas temperatūras zonde Philips pacientu monitoriem | D11: ='1. pozīcija'!C77 -> 0
B12: 1.6 | C12: ='1. pozīcija'!B89 -> Neinvazīvā spiediena savienojošā caurule Philips pacientu monitoriem | D12: ='1. pozīcija'!C90 -> 0
B13: 1.7 | C13: ='1. pozīcija'!B103 -> Neinvazīvā spiediena savienojošā caurule Philips pacientu monitoriem jaundzimušiem | D13: ='1. pozīcija'!C104 -> 0
B14: 1.8 | C14: ='1. pozīcija'!B117 -> Daudzreizlietojama neinvazīvā spiediena mērīšanas manšete | D14: ='1. pozīcija'!C118 -> 0
B15: 1.9 | C15: ='1. pozīcija'!B139 -> Jaundzimušo vienreizlietojama neinvazīvā spiediena mērīšanas manšete | D15: ='1. pozīcija'!C140 -> 0
B16: 1.10 | C16: ='1. pozīcija'!B162 -> Pulsa oksimetrijas savienojošais kabelis ar 8 adatu saspraudni | D16: ='1. pozīcija'!C163 -> 0
B17: 1.11 | C17: ='1. pozīcija'!B177 -> Baterija Philips pacientu monitoriem | D17: ='1. pozīcija'!C178 -> 0
B18: 1.12 | C18: ='1. pozīcija'!B192 -> Kapnogrāfijas līnija IntelliVue sērijas monitoriem | D18: ='1. pozīcija'!C193 -> 0
B19: 1.13 | C19: ='1. pozīcija'!B211 -> Kapnogrāfijas līnijas IntelliVue sērijas monitoriem jaundzimušiem | D19: ='1. pozīcija'!C214 -> 0
B20: 1.14 | C20: ='1. pozīcija'!B231 -> SpO2 sensori ar 8 adatu spraudni Philips pacientu monitoriem | D20: ='1. pozīcija'!C232 -> 0
B21: 1.15 | C21: ='1. pozīcija'!B250 -> SpO2 sensori ar 9 adatu konektoru | D21: ='1. pozīcija'!C251 -> 0
B22: 1.16 | C22: ='1. pozīcija'!B264 -> Pulsa oksimetrijas pagarinājuma kabelis | D22: ='1. pozīcija'!C267 -> 0
B23: 1.17 | C23: ='1. pozīcija'!B280 -> Elektrokardiogrammas novadījumu kabelis Efficia pacientu monitoriem | D23: ='1. pozīcija'!C281 -> 0
B24: 1.18 | C24: ='1. pozīcija'!B293 -> Elektrokardiogrammas maģistrāles kabelis Efficia pacientu monitoriem | D24: ='1. pozīcija'!C296 -> 0
B25: 1.19 | C25: ='1. pozīcija'!B308 -> EKG elektrodu vadi | D25: ='1. pozīcija'!C309 -> 0
B26: 1.20 | C26: ='1. pozīcija'!B324 -> Elektrokardiogrammas maģistrāles kabelis Efficia pacientu monitoriem | D26: ='1. pozīcija'!C325 -> 0
B27: 1.21 | C27: ='1. pozīcija'!B340 -> Atkārtoti lietojamas temperatūras zondes | D27: ='1. pozīcija'!C341 -> 0
B28: 1.22 | C28: ='1. pozīcija'!B356 -> Vienreizlietojama neinvazīvā spiediena mērīšanas manšete | D28: ='1. pozīcija'!C357 -> 0
B29: 1.23 | C29: ='1. pozīcija'!B373 -> Vienreizlietojami EKG vadi un maģistrāles kabeļi | D29: ='1. pozīcija'!C612 -> 0
B30: 1.24 | C30: ='1. pozīcija'!B391 -> Baterija Philips pacientu monitoriem | D30: ='1. pozīcija'!C613 -> 0
B31: 1.25 | C31: ='1. pozīcija'!B402 -> EKG elektrodu maģistrāles vadi | D31: ='1. pozīcija'!C614 -> 0
B32: 1.26 | C32: ='1. pozīcija'!B413 -> Vienreizlietojama neinvazīvā spiediena mērīšanas manšete | D32: ='1. pozīcija'!C615 -> 0
B33: 1.27 | C33: ='1. pozīcija'!B429 -> Vienreiz lietojami SpO2 sensori | D33: ='1. pozīcija'!C616 -> 0
B34: 1.28 | C34: ='1. pozīcija'!B447 -> Sensori invazīvā spiediena mērīšanai | D34: ='1. pozīcija'!C617 -> 0
B35: 1.29 | C35: ='1. pozīcija'!B465 -> EKG vads telemetrijas iekārtai MX40 | D35: ='1. pozīcija'!C618 -> 0
B36: 1.30 | C36: ='1. pozīcija'!B479 -> MX40 iekārtas pārnēsāšanas somiņa | D36: ='1. pozīcija'!C619 -> 0
B37: 1.31 | C37: ='1. pozīcija'!B489 -> MX40 telemetrijas iekārtas akumulators | D37: ='1. pozīcija'!C620 -> 0
B38: 1.32 | C38: ='1. pozīcija'!B500 -> MX40 telemetrijas iekārtas bateriju adapteris | D38: ='1. pozīcija'!C621 -> 0
B39: 1.33 | C39: ='1. pozīcija'!B510 -> EEG 5 novadījumu maģistrālais vads | D39: ='1. pozīcija'!C622 -> 0
B40: 1.34 | C40: ='1. pozīcija'!B521 -> EEG kausiņelektrodi | D40: ='1. pozīcija'!C623 -> 0
B41: 1.35 | C41: ='1. pozīcija'!B533 -> Vienreiz lietojamas neinvazīvā asinsspiediena manžetes | D41: ='1. pozīcija'!C624 -> 0
...

Sheet 1. pozīcija
A1: Tehniskā-finanšu piedāvājuma forma
A2: ATKLĀTA KONKURSA “Pacientu vitālo funkciju monitoru piederumu piegāde III” (identifikācijas Nr. PSKUS 2026/125)
A3: Piederumi Philips pacientu monitoriem
A5: Vispārīgās prasības:
A6: 1 | B6: Finanšu piedāvājumā pretendentam jāietver visi izdevumi un izmaksas, kas saistītas ar Preces piegādi, transportu un ierīces nodošanu ekspluatācijā;
A7: 2 | B7: Piegāde 4 nedēļu laikā no pasūtījuma nosūtīšanas dienas;
A8: 3 | B8: Vienreizlietojamām piedāvātajām precēm derīguma termiņš ir (nosaka Pretendents) 12 (mēneši) mēneši no pavadzīmes-rēķina abpusējas parakstīšanas brīža;
A9: 4 | B9: Piedāvātajām daudzreizlietojāmām precēm garantijas termiņš ir 3 (trīs) mēneši no pavadzīmes abpusējas parakstīšanas brīža
A10: 5 | B10: *Pretendenta tehniskajā piedāvājumā norāda Preces modeli, ref kodu un ražotāju atbilstošos parametrus;
A11: 6 | B11: **Parametru atbilstību pamatot ar norādi uz tehniskajām datu lapām ("data sheet'') jeb informatīviem materiāliem, kas apliecina atbilstību (oriģinālvalodā un tulkojumi valsts valodā, ja oriģinālvalodā nav angļu), norādot atsauci tehniskajā piedāvājumā uz konkrēto lapaspusi. Informatīvajos materiālos pretendents atzīmē uz kuru iepirkuma tehniskās specifikācijas pozīciju pievienotā informācija attiecināma;
A12: 7 | B12: Visas piedāvātās Preces ir jaunas (ražotas ne vēlāk kā 12 mēnešu laikā no pasūtījuma brīža), iepriekš nelietotas un nesatur iepriekš lietotas vai atjaunotas sastāvdaļas vai komponentes;
A13: 8 | B13: ***'Pretendentam jāiesniedz piedāvātās preces EK atbilstības deklarācijas kopija, atbilstoši regulas 2017/745 prasībām (ja Prece ir klasificēta kā medicīnas ierīce) un CE sertifikāta kopija (ja ražotājs noteicis ierīču klasi: I klases sterilas ierīces un I klases ierīces ar mērīšanas funkciju, IIa, IIb vai III klases ierīces
A14: 9 | B14: ****Paredzamais daudzums tiek izmantots pretendentu finanšu piedāvājumu objektīvai vērtēšanai. Līgumi tiek slēgti par vienas vienības cenu, nosakot visa iepirkuma kopējo apjomu naudas izteiksmē un nenosakot katras iepirkuma daļas apjomu;
A15: 10 | B15: Piedāvājumam jāpievieno Preces ražotāja izsniegta autorizācijas vēstule, kas apliecina, ka pretendents tiesīgs izplatīt piedāvāto Preci Latvijas Republikā.
A16: 11 | B16: Nepieciešamības gadījumā, pretendents nodrošina piederumu paraugus piedāvājuma izvērtēšanai.
A17: 12 | B17: Pasūtītājam nav pienākums iepirkt visu norādīto katras preču vienības apjomu;
... A20: 15 | B20: Pusēm vienojoties Vienošanās darbības termiņš var tikt pagarināts saskaņā ar Publisko iepirkumu likumā noteikto.
A22: Nr.p.k. | B22: Preces nosaukums, veicamās funkcijas, tehniskās prasības
A23: 1.1 | B23: BIS sensors
B24: Pozīcijas: | C24: Preces modelis, ref kods, ražotājs*: | D24: Medicīnas ierīces klase***: | E24: Paredzamais daudzums (gab.)****: | F24: 1 vienības cena bez PVN, EUR:
B25: BIS sensors/ elektrods (Atsauces nr. 186-0106 vai analogs.) | E25: 1 | F25: 0
E26: =CONCATENATE("KOPĒJĀ CENA 1.1.pozīciju kopā bez PVN, EUR:") -> KOPĒJĀ CENA 1.1.pozīciju kopā bez PVN, EUR: | F26: =SUMPRODUCT(E25:E25,F25:F25) -> 0
A27: 1.1.1 | B27: Prasības: | C27: Pretendenta piedāvātie parametri* | E27: Atsauce uz informatīvo materiālu**
A28: 1.1.2 | B28: vienreizlietojams;
A29: 1.1.3 | B29: Kastē 25 gabali
A30: 1.1.4 | B30: Atsauces nr. 186-0106 vai analogs.
B31: EKK: | C31: 23442
A33: 1.2 | B33: Sirds izsviedes kabelis
B34: Pozīcijas: | C34: Preces modelis, ref kods, ražotājs*: | D34: Medicīnas ierīces klase***: | E34: Paredzamais daudzums (gab.)****: | F34: 1 vienības cena bez PVN, EUR:
B35: Sirds izsviedes kabelis (Atsauces nr. M1643A Philips vai analogs.) | E35: 1 | F35: 0
E36: =CONCATENATE("KOPĒJĀ CENA 1.2.pozīciju kopā bez PVN, EUR:") -> KOPĒJĀ CENA 1.2.pozīciju kopā bez PVN, EUR: | F36: =SUMPRODUCT(E35:E35,F35:F35) -> 0
A37: 1.2.1 | B37: Prasības: | C37: Pretendenta piedāvātie parametri* | E37: Atsauce uz informatīvo materiālu**
A38: 1.2.2 | B38: Daudzreizlietojams;
A39: 1.2.3 | B39: Nesterils
A40: 1.2.4 | B40: Atsauces nr. Philips M1643A vai analogs.
B41: EKK: | C41: 23442
A43: 1.3 | B43: Jaundzimušo EKG vadu komplekts Philips pacientu monitoriem | C43: Pretendenta piedāvātie parametri | E43: Atsauce uz informatīvo materiālu**
B44: Paredzamais daudzums (gab.) *: | C44: 2
B45: 1 vienības cena bez PVN, EUR: | C45: 0
B46: =CONCATENATE("KOPĒJA CENA ",A43," pozīcija kopā bez PVN, EUR:") -> KOPĒJA CENA 1.3 pozīcija kopā bez PVN, EUR: | C46: =C44*C45 -> 0
...
