Workbook
Name TIPS: [1]Tabulas!$E$11:$E$15

Sheet Saturs
B1: Tehniskā-finanšu piedāvājuma forma iepirkumam
B2: ='1. pozīcija'!A2 -> ATKLĀTA KONKURSA “Pacientu vitālo funkciju monitoru piederumu piegāde III” (identifikācijas Nr. PSKUS 2026/125)
B3: Saturs
B5: Nr. | C5: Nosaukums | D5: Cena kopā, EUR bez PVN
C6: ='1. pozīcija'!A3 -> Piederumi Philips pacientu monitoriem
B7: 1.1 | C7: ='1. pozīcija'!B23 -> BIS sensors | D7: ='1. pozīcija'!F26 -> 0
B8: 1.2 | C8: ='1. pozīcija'!B33 -> Sirds izsviedes kabelis | D8: ='1. pozīcija'!F36 -> 0
B9: 1.3 | C9: ='1. pozīcija'!B43 -> Jaundzimušo EKG vadu komplekts Philips pacientu monitoriem | D9: ='1. pozīcija'!C46 -> 0
B10: 1.4 | C10: ='1. pozīcija'!B58 -> EKG krūšu vadu komplekts Philips pacientu monitoriem | D10: ='1. pozīcija'!C61 -> 0
B11: 1.5 | C11: ='1. pozīcija'!B74 -> Ādas temperatūras zonde Philips pacientu monitoriem | D11: ='1. pozīcija'!C77 -> 0
B12: 1.6 | C12: ='1. pozīcija'!B89 -> Neinvazīvā spiediena savienojošā caurule Philips pacientu monitoriem | D12: ='1. pozīcija'!C90 -> 0
B13: 1.7 | C13: ='1. pozīcija'!B103 -> Neinvazīvā spiediena savienojošā caurule Philips pacientu monitoriem jaundzimušiem | D13: ='1. pozīcija'!C104 -> 0
B14: 1.8 | C14: ='1. pozīcija'!B117 -> Daudzreizlietojama neinvazīvā spiediena mērīšanas manšete | D14: ='1. pozīcija'!C118 -> 0
B15: 1.9 | C15: ='1. pozīcija'!B139 -> Jaundzimušo vienreizlietojama neinvazīvā spiediena mērīšanas manšete | D15: ='1. pozīcija'!C140 -> 0
B16: 1.10 | C16: ='1. pozīcija'!B162 -> Pulsa oksimetrijas savienojošais kabelis ar 8 adatu saspraudni | D16: ='1. pozīcija'!C163 -> 0
B17: 1.11 | C17: ='1. pozīcija'!B177 -> Baterija Philips pacientu monitoriem | D17: ='1. pozīcija'!C178 -> 0
B18: 1.12 | C18: ='1. pozīcija'!B192 -> Kapnogrāfijas līnija IntelliVue sērijas monitoriem | D18: ='1. pozīcija'!C193 -> 0
B19: 1.13 | C19: ='1. pozīcija'!B211 -> Kapnogrāfijas līnijas IntelliVue sērijas monitoriem jaundzimušiem | D19: ='1. pozīcija'!C214 -> 0
B20: 1.14 | C20: ='1. pozīcija'!B231 -> SpO2 sensori ar 8 adatu spraudni Philips pacientu monitoriem | D20: ='1. pozīcija'!C232 -> 0
B21: 1.15 | C21: ='1. pozīcija'!B250 -> SpO2 sensori ar 9 adatu konektoru | D21: ='1. pozīcija'!C251 -> 0
B22: 1.16 | C22: ='1. pozīcija'!B264 -> Pulsa oksimetrijas pagarinājuma kabelis | D22: ='1. pozīcija'!C267 -> 0
B23: 1.17 | C23: ='1. pozīcija'!B280 -> Elektrokardiogrammas novadījumu kabelis Efficia pacientu monitoriem | D23: ='1. pozīcija'!C281 -> 0
B24: 1.18 | C24: ='1. pozīcija'!B293 -> Elektrokardiogrammas maģistrāles kabelis Efficia pacientu monitoriem | D24: ='1. pozīcija'!C296 -> 0
B25: 1.19 | C25: ='1. pozīcija'!B308 -> EKG elektrodu vadi | D25: ='1. pozīcija'!C309 -> 0
B26: 1.20 | C26: ='1. pozīcija'!B324 -> Elektrokardiogrammas maģistrāles kabelis Efficia pacientu monitoriem | D26: ='1. pozīcija'!C325 -> 0
B27: 1.21 | C27: ='1. pozīcija'!B340 -> Atkārtoti lietojamas temperatūras zondes | D27: ='1. pozīcija'!C341 -> 0
B28: 1.22 | C28: ='1. pozīcija'!B356 -> Vienreizlietojama neinvazīvā spiediena mērīšanas manšete | D28: ='1. pozīcija'!C357 -> 0
B29: 1.23 | C29: ='1. pozīcija'!B373 -> Vienreizlietojami EKG vadi un maģistrāles kabeļi | D29: ='1. pozīcija'!C612 -> 0
B30: 1.24 | C30: ='1. pozīcija'!B391 -> Baterija Philips pacientu monitoriem | D30: ='1. pozīcija'!C613 -> 0
B31: 1.25 | C31: ='1. pozīcija'!B402 -> EKG elektrodu maģistrāles vadi | D31: ='1. pozīcija'!C614 -> 0
B32: 1.26 | C32: ='1. pozīcija'!B413 -> Vienreizlietojama neinvazīvā spiediena mērīšanas manšete | D32: ='1. pozīcija'!C615 -> 0
B33: 1.27 | C33: ='1. pozīcija'!B429 -> Vienreiz lietojami SpO2 sensori | D33: ='1. pozīcija'!C616 -> 0
B34: 1.28 | C34: ='1. pozīcija'!B447 -> Sensori invazīvā spiediena mērīšanai | D34: ='1. pozīcija'!C617 -> 0
B35: 1.29 | C35: ='1. pozīcija'!B465 -> EKG vads telemetrijas iekārtai MX40 | D35: ='1. pozīcija'!C618 -> 0
B36: 1.30 | C36: ='1. pozīcija'!B479 -> MX40 iekārtas pārnēsāšanas somiņa | D36: ='1. pozīcija'!C619 -> 0
B37: 1.31 | C37: ='1. pozīcija'!B489 -> MX40 telemetrijas iekārtas akumulators | D37: ='1. pozīcija'!C620 -> 0
B38: 1.32 | C38: ='1. pozīcija'!B500 -> MX40 telemetrijas iekārtas bateriju adapteris | D38: ='1. pozīcija'!C621 -> 0
B39: 1.33 | C39: ='1. pozīcija'!B510 -> EEG 5 novadījumu maģistrālais vads | D39: ='1. pozīcija'!C622 -> 0
B40: 1.34 | C40: ='1. pozīcija'!B521 -> EEG kausiņelektrodi | D40: ='1. pozīcija'!C623 -> 0
B41: 1.35 | C41: ='1. pozīcija'!B533 -> Vienreiz lietojamas neinvazīvā asinsspiediena manžetes | D41: ='1. pozīcija'!C624 -> 0
B42: 1.36 | C42: ='1. pozīcija'!B545 -> NMT transmisijas kabelis | D42: ='1. pozīcija'!C625 -> 0
B43: 1.37 | C43: ='1. pozīcija'!B556 -> NMT rokas adapteris | D43: ='1. pozīcija'!C626 -> 0
B44: 1.38 | C44: ='1. pozīcija'!B566 -> Ledus vanniņas temperatūras zonde | D44: ='1. pozīcija'!C627 -> 0
B45: 1.39 | C45: ='1. pozīcija'!B576 -> Ūdenssavācējfiltrs G7 moduļiem | D45: ='1. pozīcija'!C628 -> 0
C46: Kopā, EUR bez PVN: | D46: =SUM(D7:D45) -> 0

Sheet 1. pozīcija
A1: Tehniskā-finanšu piedāvājuma forma
A2: ATKLĀTA KONKURSA “Pacientu vitālo funkciju monitoru piederumu piegāde III” (identifikācijas Nr. PSKUS 2026/125)
A3: Piederumi Philips pacientu monitoriem
A5: Vispārīgās prasības:
A6: 1 | B6: Finanšu piedāvājumā pretendentam jāietver visi izdevumi un izmaksas, kas saistītas ar Preces piegādi, transportu un ierīces nodošanu ekspluatācijā;
A7: 2 | B7: Piegāde 4 nedēļu laikā no pasūtījuma nosūtīšanas dienas;
A8: 3 | B8: Vienreizlietojamām piedāvātajām precēm derīguma termiņš ir (nosaka Pretendents) 12 (mēneši) mēneši no pavadzīmes-rēķina abpusējas parakstīšanas brīža;
A9: 4 | B9: Piedāvātajām daudzreizlietojāmām precēm garantijas termiņš ir 3 (trīs) mēneši no pavadzīmes abpusējas parakstīšanas brīža
A10: 5 | B10: *Pretendenta tehniskajā piedāvājumā norāda Preces modeli, ref kodu un ražotāju atbilstošos parametrus;
A11: 6 | B11: **Parametru atbilstību pamatot ar norādi uz tehniskajām datu lapām ("data sheet'') jeb informatīviem materiāliem, kas apliecina atbilstību (oriģinālvalodā un tulkojumi valsts valodā, ja oriģinālvalodā nav angļu), norādot atsauci tehniskajā piedāvājumā uz konkrēto lapaspusi. Informatīvajos materiālos pretendents atzīmē uz kuru iepirkuma tehniskās specifikācijas pozīciju pievienotā informācija attiecināma;
A12: 7 | B12: Visas piedāvātās Preces ir jaunas (ražotas ne vēlāk kā 12 mēnešu laikā no pasūtījuma brīža), iepriekš nelietotas un nesatur iepriekš lietotas vai atjaunotas sastāvdaļas vai komponentes;
A13: 8 | B13: ***'Pretendentam jāiesniedz piedāvātās preces EK atbilstības deklarācijas kopija, atbilstoši regulas 2017/745 prasībām (ja Prece ir klasificēta kā medicīnas ierīce) un CE sertifikāta kopija (ja ražotājs noteicis ierīču klasi: I klases sterilas ierīces un I klases ierīces ar mērīšanas funkciju, IIa, IIb vai III klases ierīces
A14: 9 | B14: ****Paredzamais daudzums tiek izmantots pretendentu finanšu piedāvājumu objektīvai vērtēšanai. Līgumi tiek slēgti par vienas vienības cenu, nosakot visa iepirkuma kopējo apjomu naudas izteiksmē un nenosakot katras iepirkuma daļas apjomu;
A15: 10 | B15: Piedāvājumam jāpievieno Preces ražotāja izsniegta autorizācijas vēstule, kas apliecina, ka pretendents tiesīgs izplatīt piedāvāto Preci Latvijas Republikā.
A16: 11 | B16: Nepieciešamības gadījumā, pretendents nodrošina piederumu paraugus piedāvājuma izvērtēšanai.
A17: 12 | B17: Pasūtītājam nav pienākums iepirkt visu norādīto katras preču vienības apjomu;
... A20: 15 | B20: Pusēm vienojoties Vienošanās darbības termiņš var tikt pagarināts saskaņā ar Publisko iepirkumu likumā noteikto.
A22: Nr.p.k. | B22: Preces nosaukums, veicamās funkcijas, tehniskās prasības
A23: 1.1 | B23: BIS sensors
B24: Pozīcijas: | C24: Preces modelis, ref kods, ražotājs*: | D24: Medicīnas ierīces klase***: | E24: Paredzamais daudzums (gab.)****: | F24: 1 vienības cena bez PVN, EUR:
B25: BIS sensors/ elektrods (Atsauces nr. 186-0106 vai analogs.) | E25: 1 | F25: 0
E26: =CONCATENATE("KOPĒJĀ CENA 1.1.pozīciju kopā bez PVN, EUR:") -> KOPĒJĀ CENA 1.1.pozīciju kopā bez PVN, EUR: | F26: =SUMPRODUCT(E25:E25,F25:F25) -> 0
A27: 1.1.1 | B27: Prasības: | C27: Pretendenta piedāvātie parametri* | E27: Atsauce uz informatīvo materiālu**
A28: 1.1.2 | B28: vienreizlietojams;
A29: 1.1.3 | B29: Kastē 25 gabali
A30: 1.1.4 | B30: Atsauces nr. 186-0106 vai analogs.
B31: EKK: | C31: 23442
A33: 1.2 | B33: Sirds izsviedes kabelis
B34: Pozīcijas: | C34: Preces modelis, ref kods, ražotājs*: | D34: Medicīnas ierīces klase***: | E34: Paredzamais daudzums (gab.)****: | F34: 1 vienības cena bez PVN, EUR:
B35: Sirds izsviedes kabelis (Atsauces nr. M1643A Philips vai analogs.) | E35: 1 | F35: 0
E36: =CONCATENATE("KOPĒJĀ CENA 1.2.pozīciju kopā bez PVN, EUR:") -> KOPĒJĀ CENA 1.2.pozīciju kopā bez PVN, EUR: | F36: =SUMPRODUCT(E35:E35,F35:F35) -> 0
A37: 1.2.1 | B37: Prasības: | C37: Pretendenta piedāvātie parametri* | E37: Atsauce uz informatīvo materiālu**
A38: 1.2.2 | B38: Daudzreizlietojams;
A39: 1.2.3 | B39: Nesterils
A40: 1.2.4 | B40: Atsauces nr. Philips M1643A vai analogs.
B41: EKK: | C41: 23442
A43: 1.3 | B43: Jaundzimušo EKG vadu komplekts Philips pacientu monitoriem | C43: Pretendenta piedāvātie parametri | E43: Atsauce uz informatīvo materiālu**
B44: Paredzamais daudzums (gab.) *: | C44: 2
B45: 1 vienības cena bez PVN, EUR: | C45: 0
B46: =CONCATENATE("KOPĒJA CENA ",A43," pozīcija kopā bez PVN, EUR:") -> KOPĒJA CENA 1.3 pozīcija kopā bez PVN, EUR: | C46: =C44*C45 -> 0
B47: Preces ražotājs:
B48: Preces modelis, kods:
A49: 1.3.1 | B49: Veicamās funkcijas:
A50: 1.3.1.1 | B50: Nodrošina EKG signāla vadīšanu
A51: 1.3.2 | B51: Tehniskās prasības:
A52: 1.3.2.1 | B52: Daudzreiz lietojams;
A53: 1.3.2.2 | B53: Garums ne mazāks par 70 cm;
A54: 1.3.2.3 | B54: 3 novadījumi;
A55: 1.3.2.4 | B55: Saderīgs ar Philips M1669A EKG kabeli;
A56: 1.3.2.5 | B56: Philips atsauces nr. M1626A vai analogs.
A58: 1.4 | B58: EKG krūšu vadu komplekts Philips pacientu monitoriem | C58: Pretendenta piedāvātie parametri | E58: Atsauce uz informatīvo materiālu**
B59: Paredzamais daudzums (gab.) *: | C59: 20
B60: 1 vienības cena bez PVN, EUR: | C60: 0
B61: =CONCATENATE("KOPĒJA CENA ",A58," pozīcija kopā bez PVN, EUR:") -> KOPĒJA CENA 1.4 pozīcija kopā bez PVN, EUR: | C61: =C59*C60 -> 0
B62: Preces ražotājs:
B63: Preces modelis, kods:
A64: 1.4.1 | B64: Veicamās funkcijas:
A65: 1.4.1.1 | B65: Nodrošina EKG signāla vadīšanu
A66: 1.4.2 | B66: Tehniskās prasības:
A67: 1.4.2.1 | B67: Daudzreiz lietojams;
A68: 1.4.2.2 | B68: Garums ne mazāks par 100 cm;
A69: 1.4.2.3 | B69: 5 novadījumi;
A70: 1.4.2.4 | B70: Satvērējtipa konektors;
A71: 1.4.2.5 | B71: Saderīgs ar Philips M1663A un M1949A EKG kabeli;
A72: 1.4.2.6 | B72: Philips atsauces nr. M1978A vai analogs.
A74: 1.5 | B74: Ādas temperatūras zonde Philips pacientu monitoriem | C74: Pretendenta piedāvātie parametri | E74: Atsauce uz informatīvo materiālu**
B75: Paredzamais daudzums (gab.) *: | C75: 20
B76: 1 vienības cena bez PVN, EUR: | C76: 0
B77: =CONCATENATE("KOPĒJA CENA ",A74," pozīcija kopā bez PVN, EUR:") -> KOPĒJA CENA 1.5 pozīcija kopā bez PVN, EUR: | C77: =C75*C76 -> 0
B78: Preces ražotājs:
B79: Preces modelis, kods:
A80: 1.5.1 | B80: Veicamās funkcijas:
A81: 1.5.1.1 | B81: Nepārtraukta ādas virsmas temperatūras mērīšana
A82: 1.5.2 | B82: Tehniskās prasības:
A83: 1.5.2.1 | B83: Kabeļa garums ne mazāks par 2,8m;
A84: 1.5.2.2 | B84: Sensora diametrs 9,5 ±1mm;
A85: 1.5.2.4 | B85: Daudzreiz lietojama,
A86: 1.5.2.5 | B86: Savienojama ar Philips Intellivue X2/X3 pacientu monitoriem;
A87: 1.5.2.6 | B87: Philips atsauces nr. 989803203581; 989803220831 (011-00110) vai analogs.
A89: 1.6 | B89: Neinvazīvā spiediena savienojošā caurule Philips pacientu monitoriem | C89: Pretendenta piedāvātie parametri | E89: Atsauce uz informatīvo materiālu**
B90: =CONCATENATE("KOPĒJA CENA ",A89," pozīcija kopā bez PVN, EUR:") -> KOPĒJA CENA 1.6 pozīcija kopā bez PVN, EUR: | C90: =SUMPRODUCT(C100:C101,D100:D101) -> 0
B91: Preces ražotājs:
B92: Preces modelis, kods:
A93: 1.6.1 | B93: Veicamās funkcijas:
A94: 1.6.1.1 | B94: Neinvazīvā spiediena mērīšanas nodrošināšana
A95: 1.6.2 | B95: Tehniskās prasības:
A96: 1.6.2.1 | B96: Savienojama ar daudzreiz un vienreiz lietojamām pieaugušo un pediatriskām neinvazīvā spiediena manžetēm;
A97: 1.6.2.2 | B97: Savienojama ar Philips Intellivue X2/X3 pacientu monitoru;
A98: 1.6.2.3 | B98: Daudzreiz lietojama.
A99: 1.6.3 | B99: Konfigurācijas: | C99: Paredzamais daudzums*: | D99: Vienības cena bez PVN: | E99: Pretendenta piedāvātie parametri | F99: Atsauce uz informatīvu materiālu**
A100: 1.6.3.1 | B100: Garums ne mazāks par 1,5 m (Philips atsauces nr. M1598B/ 989803209761, vai analogs); | C100: 4
A101: 1.6.3.2 | B101: Garums ne mazāks par 3,0 m (Philips atsauces nr. M1599B/ 989803209771 vai analogs). | C101: 52
A103: 1.7 | B103: Neinvazīvā spiediena savienojošā caurule Philips pacientu monitoriem jaundzimušiem | C103: Pretendenta piedāvātie parametri | E103: Atsauce uz informatīvo materiālu**
B104: =CONCATENATE("KOPĒJA CENA ",A103," pozīcija kopā bez PVN, EUR:") -> KOPĒJA CENA 1.7 pozīcija kopā bez PVN, EUR: | C104: =SUMPRODUCT(C114:C115,D114:D115) -> 0
B105: Preces ražotājs:
B106: Preces modelis, kods:
A107: 1.7.1 | B107: Veicamās funkcijas:
A108: 1.7.1.1 | B108: Neinvazīvā spiediena mērīšanas nodrošināšana
A109: 1.7.2 | B109: Tehniskās prasības:
A110: 1.7.2.1 | B110: Savienojama ar vienreiz lietojamām jaundzimušo neinvazīvā spiediena manžetēm;
...
