Workbook
Name Excel_BuiltIn__FilterDatabase_10: #REF!
Name Excel_BuiltIn__FilterDatabase_10: #REF!
Name Excel_BuiltIn__FilterDatabase_10: #REF!
Name Excel_BuiltIn__FilterDatabase_10: #REF!
Name Excel_BuiltIn__FilterDatabase_10: #REF!
Name Excel_BuiltIn__FilterDatabase_10: #REF!
Name Excel_BuiltIn__FilterDatabase_10: #REF!
Name Excel_BuiltIn__FilterDatabase_10: #REF!
Name Excel_BuiltIn__FilterDatabase_10: #REF!
Name Excel_BuiltIn__FilterDatabase_10: #REF!
Name Excel_BuiltIn__FilterDatabase_10: #REF!
Name Excel_BuiltIn__FilterDatabase_10: #REF!
Name Excel_BuiltIn__FilterDatabase_11: #REF!
Name Excel_BuiltIn__FilterDatabase_11: #REF!
Name Excel_BuiltIn__FilterDatabase_11: #REF!
Name Excel_BuiltIn__FilterDatabase_11: #REF!
Name Excel_BuiltIn__FilterDatabase_11: #REF!
Name Excel_BuiltIn__FilterDatabase_11: #REF!
Name Excel_BuiltIn__FilterDatabase_11: #REF!
Name Excel_BuiltIn__FilterDatabase_11: #REF!
Name Excel_BuiltIn__FilterDatabase_11: #REF!
Name Excel_BuiltIn__FilterDatabase_11: #REF!
Name Excel_BuiltIn__FilterDatabase_11: #REF!
Name Excel_BuiltIn__FilterDatabase_11: #REF!
Name Excel_BuiltIn__FilterDatabase_12: #REF!
Name Excel_BuiltIn__FilterDatabase_12: #REF!
Name Excel_BuiltIn__FilterDatabase_12: #REF!
Name Excel_BuiltIn__FilterDatabase_12: #REF!
Name Excel_BuiltIn__FilterDatabase_12: #REF!
Name Excel_BuiltIn__FilterDatabase_12: #REF!
Name Excel_BuiltIn__FilterDatabase_12: #REF!
Name Excel_BuiltIn__FilterDatabase_12: #REF!
Name Excel_BuiltIn__FilterDatabase_12: #REF!
Name Excel_BuiltIn__FilterDatabase_12: #REF!
Name Excel_BuiltIn__FilterDatabase_12: #REF!
Name Excel_BuiltIn__FilterDatabase_12: #REF!
Name Excel_BuiltIn__FilterDatabase_13: #REF!
Name Excel_BuiltIn__FilterDatabase_13: #REF!
Name Excel_BuiltIn__FilterDatabase_13: #REF!
Name Excel_BuiltIn__FilterDatabase_13: #REF!
Name Excel_BuiltIn__FilterDatabase_13: #REF!
Name Excel_BuiltIn__FilterDatabase_13: #REF!
Name Excel_BuiltIn__FilterDatabase_13: #REF!
Name Excel_BuiltIn__FilterDatabase_13: #REF!
Name Excel_BuiltIn__FilterDatabase_13: #REF!
Name Excel_BuiltIn__FilterDatabase_13: #REF!
Name Excel_BuiltIn__FilterDatabase_13: #REF!
Name Excel_BuiltIn__FilterDatabase_13: #REF!
Name Excel_BuiltIn__FilterDatabase_14: #REF!
Name Excel_BuiltIn__FilterDatabase_14: #REF!
Name Excel_BuiltIn__FilterDatabase_14: #REF!
Name Excel_BuiltIn__FilterDatabase_14: #REF!
Name Excel_BuiltIn__FilterDatabase_14: #REF!
Name Excel_BuiltIn__FilterDatabase_14: #REF!
Name Excel_BuiltIn__FilterDatabase_14: #REF!
Name Excel_BuiltIn__FilterDatabase_14: #REF!
Name Excel_BuiltIn__FilterDatabase_14: #REF!
Name Excel_BuiltIn__FilterDatabase_14: #REF!
Name Excel_BuiltIn__FilterDatabase_14: #REF!
Name Excel_BuiltIn__FilterDatabase_14: #REF!

Sheet Kopsavilkums
C1: 3.1. pielikums
C2: ID Nr. ONP 2026/
A4: TEHNISKĀ SPECIFIKĀCIJA - TĀME*
A6: Iepirkums
A8: identifikācijas Nr. ONP 2026/
A10: __________________________________________________________
A11: (Pretendenta nosaukums, reģistrācijas Nr.)
A13: Saskaņā ar Iepirkuma nolikuma prasībām un Tehnisko specifikāciju piedāvājam veikt darbus par šādu līgumcenu:
A15: Tāmes Nr. | B15: Nosaukums | C15: Darbu izmaksas kopā EUR bez PVN
A16: 1 | B16: Istaba Nr. 11 | C16: ='Istaba 11'!P45 -> 0
A17: 2 | B17: Istaba Nr. 16 | C17: ='Istaba 16'!P49 -> 0
A18: 3 | B18: Istaba Nr. 20 | C18: ='Istaba 20'!P61 -> 0
A19: 4 | B19: Istaba Nr. 28 | C19: ='Istaba 28'!P45 -> 0
A20: 5 | B20: Istaba Nr. 30 | C20: ='Istaba 30'!P45 -> 0
A21: 6 | B21: Istaba Nr. 31 | C21: ='Istaba 31'!P43 -> 0
A22: 7 | B22: Istaba Nr. 32 | C22: ='Istaba 32'!P41 -> 0
A23: 8 | B23: Istaba Nr. 33 | C23: ='Istaba 33'!P60 -> 0
A24: 9 | B24: Istaba Nr. 45 | C24: ='Istaba 45'!P49 -> 0
A25: 10 | B25: Istaba Nr. 46 | C25: ='Istaba 46'!P52 -> 0
B26: Kopā EUR bez PVN: | C26: =SUM(C16:C25) -> 0
B27: PVN(21%): | C27: =C26*0.21 -> 0
B28: Kopā EUR ar PVN: | C28: =C26+C27 -> 0
A30: * Pretendentam jāiesniedz arī detalizēts izmaksu aprēķins (10 Tāmes) par visiem līguma ietvaros veicamajiem darbiem, ņemot vērā norādītos darbu apjomus.
A32: Finanšu piedāvājuma cenā ir iekļautas visas ar darbu izpildi saistītās izmaksas, tajā skaitā administrācijas, līguma slēgšanu, transporta, visi riski un iespējamie sadārdzinājumi, kā arī visi nodokļi, nodevas un maksājumi saskaņā ar Latvijas Republikas normatīvajiem aktiem, kas ir saistoši pretendentam, lai nodrošinātu kvalitatīvu pakalpojuma izpildi.

Sheet Istaba 11
A1: Lokālā tāme Nr. 1
A2: Istabas Nr.11 remonts
A4: Objekta nosaukums: Istabas Nr. 11 remonts
A5: Būves nosaukums: Sociālā dzīvojamā māja Indrānu ielā 14, Ogrē
A6: Objekta adrese: Indrānui iela 14, Ogre, Ogres novads. LV-5001 | M6: Tāmes izmaksas | O6: =P47 -> 0 | P6: euro
A7: Pasūtījuma Nr.
A8: Tāme sastādīta 2026. gada tirgus cenās. | M8: Tāme sastādīta 2026.gada
M9: I
A10: Nr.p.k. | B10: Kods | C10: Būvdarbu nosaukums | D10: Mērvienība | E10: Daudzums | F10: Vienības izmaksas | L10: Kopā uz visu apjomu
F11: laika norma (c/h) | G11: darba samaksas likme (euro/h) | H11: darba alga | I11: būvizstrā dājumi | J11: mehānismi | K11: kopā | L11: darbietil pība (c/h) | M11: darba alga | N11: būvizstrā dājumi | O11: mehānismi | P11: summa
C14: Demontāžas darbi
A16: 1 | B16: Lc | C16: Tapešu noņemšana koridorā | D16: m2 | E16: 11.7 | F16: 0 | G16: 0 | H16: =ROUND(F16*G16,2) -> 0 | I16: 0 | J16: 0 | K16: =ROUND(SUM(H16:J16),2) -> 0 | L16: =ROUND(E16*F16,2) -> 0 | M16: =ROUND(E16*H16,2) -> 0 | N16: =ROUND(E16*I16,2) -> 0 | O16: =ROUND(E16*J16,2) -> 0 | P16: =ROUND(SUM(M16:O16),2) -> 0
C18: Grīdas
A20: 2 | B20: Lc | C20: Grīdu pamatnes atsevišķu vietu remonts | D20: m2 | E20: 1.1 | F20: 0 | G20: 0 | H20: =ROUND(F20*G20,2) -> 0 | I20: 0 | J20: 0 | K20: =ROUND(SUM(H20:J20),2) -> 0 | L20: =ROUND(E20*F20,2) -> 0 | M20: =ROUND(E20*H20,2) -> 0 | N20: =ROUND(E20*I20,2) -> 0 | O20: =ROUND(E20*J20,2) -> 0 | P20: =ROUND(SUM(M20:O20),2) -> 0
A21: 3 | B21: Lc | C21: Lamināta ( 31.klase) ieskaitot apakšklāju ieklāšāna | D21: m2 | E21: 23.6 | F21: 0 | G21: 0 | H21: =ROUND(F21*G21,2) -> 0 | I21: 0 | J21: 0 | K21: =ROUND(SUM(H21:J21),2) -> 0 | L21: =ROUND(E21*F21,2) -> 0 | M21: =ROUND(E21*H21,2) -> 0 | N21: =ROUND(E21*I21,2) -> 0 | O21: =ROUND(E21*J21,2) -> 0 | P21: =ROUND(SUM(M21:O21),2) -> 0
A22: 4 | B22: Lc | C22: Tualetes grīdas flīžu sagatavošana krāsošanai, krāsošana ar Fontefloor EP 100 vai analogu | D22: m2 | E22: 1.6 | F22: 0 | G22: 0 | H22: =ROUND(F22*G22,2) -> 0 | I22: 0 | J22: 0 | K22: =ROUND(SUM(H22:J22),2) -> 0 | L22: =ROUND(E22*F22,2) -> 0 | M22: =ROUND(E22*H22,2) -> 0 | N22: =ROUND(E22*I22,2) -> 0 | O22: =ROUND(E22*J22,2) -> 0 | P22: =ROUND(SUM(M22:O22),2) -> 0
A23: 5 | B23: Lc | C23: Grīdlīstes | D23: m | E23: 23.9 | F23: 0 | G23: 0 | H23: =ROUND(F23*G23,2) -> 0 | I23: 0 | J23: 0 | K23: =ROUND(SUM(H23:J23),2) -> 0 | L23: =ROUND(E23*F23,2) -> 0 | M23: =ROUND(E23*H23,2) -> 0 | N23: =ROUND(E23*I23,2) -> 0 | O23: =ROUND(E23*J23,2) -> 0 | P23: =ROUND(SUM(M23:O23),2) -> 0
C25: Griesti
A27: 6 | B27: Lc | C27: Tualetes, koridora griestu špaktelēšana, krāsošana | D27: m2 | E27: 4.3 | F27: 0 | G27: 0 | H27: =ROUND(F27*G27,2) -> 0 | I27: 0 | J27: 0 | K27: =ROUND(SUM(H27:J27),2) -> 0 | L27: =ROUND(E27*F27,2) -> 0 | M27: =ROUND(E27*H27,2) -> 0 | N27: =ROUND(E27*I27,2) -> 0 | O27: =ROUND(E27*J27,2) -> 0 | P27: =ROUND(SUM(M27:O27),2) -> 0
C29: Sienas
A31: 7 | B31: Lc | C31: Tapešu remonts (pielīmēšana) | D31: m2 | E31: 13.4 | F31: 0 | G31: 0 | H31: =ROUND(F31*G31,2) -> 0 | I31: 0 | J31: 0 | K31: =ROUND(SUM(H31:J31),2) -> 0 | L31: =ROUND(E31*F31,2) -> 0 | M31: =ROUND(E31*H31,2) -> 0 | N31: =ROUND(E31*I31,2) -> 0 | O31: =ROUND(E31*J31,2) -> 0 | P31: =ROUND(SUM(M31:O31),2) -> 0
A32: 8 | B32: Lc | C32: Sienu koriodorā, sanmezglā virs flīzēm špaktelēšana krāsošana 2x | D32: m2 | E32: 21.9 | F32: 0 | G32: 0 | H32: =ROUND(F32*G32,2) -> 0 | I32: 0 | J32: 0 | K32: =ROUND(SUM(H32:J32),2) -> 0 | L32: =ROUND(E32*F32,2) -> 0 | M32: =ROUND(E32*H32,2) -> 0 | N32: =ROUND(E32*I32,2) -> 0 | O32: =ROUND(E32*J32,2) -> 0 | P32: =ROUND(SUM(M32:O32),2) -> 0
C35: Dažādi darbi
A37: 9 | B37: Lc | C37: Būvgružu savākšana un utilizācija | D37: m3 | E37: 0.5 | F37: 0 | G37: 0 | H37: =ROUND(F37*G37,2) -> 0 | I37: 0 | J37: 0 | K37: =ROUND(SUM(H37:J37),2) -> 0 | L37: 0.3 | M37: =ROUND(E37*H37,2) -> 0 | N37: =ROUND(E37*I37,2) -> 0 | O37: =ROUND(E37*J37,2) -> 0 | P37: =ROUND(SUM(M37:O37),2) -> 0
A38: 10 | B38: Lc | C38: Slēdzenes montāža istabas durvīm | D38: gab, | E38: 1 | F38: 0 | G38: 0 | H38: =ROUND(F38*G38,2) -> 0 | I38: 0 | J38: 0 | K38: =ROUND(SUM(H38:J38),2) -> 0 | L38: 0.3 | M38: =ROUND(E38*H38,2) -> 0 | N38: =ROUND(E38*I38,2) -> 0 | O38: =ROUND(E38*J38,2) -> 0 | P38: =ROUND(SUM(M38:O38),2) -> 0
A39: 11 | B39: Lc | C39: Objekta tīrīšana un sakopšana pēc būvdarbu pabeigšanas | D39: obj | E39: 1 | F39: 0 | G39: 0 | H39: =ROUND(F39*G39,2) -> 0 | I39: 0 | J39: 0 | K39: =ROUND(SUM(H39:J39),2) -> 0 | L39: =ROUND(E39*F39,2) -> 0 | M39: =ROUND(E39*H39,2) -> 0 | N39: =ROUND(E39*I39,2) -> 0 | O39: =ROUND(E39*J39,2) -> 0 | P39: =ROUND(SUM(M39:O39),2) -> 0
A40: 12 | B40: Lc | C40: Transporta izdevumi | D40: obj. | E40: 1 | F40: 0 | G40: 0 | H40: =ROUND(F40*G40,2) -> 0 | I40: 0 | J40: 0 | K40: =ROUND(SUM(H40:J40),2) -> 0 | L40: =ROUND(E40*F40,2) -> 0 | M40: =ROUND(E40*H40,2) -> 0 | N40: =ROUND(E40*I40,2) -> 0 | O40: =ROUND(E40*J40,2) -> 0 | P40: =ROUND(SUM(M40:O40),2) -> 0
K41: Tiešās izmaksas kopā, t. sk. darba devēja sociālais nodoklis (24.09%) | L41: =SUM(L13:L40) -> 0.6 | M41: =SUM(M13:M40) -> 0 | N41: =SUM(N13:N40) -> 0 | O41: =SUM(O13:O40) -> 0 | P41: =SUM(P13:P40) -> 0
O42: Virsizdevumi (0 %): | P42: =ROUND(P41*0.08,2) -> 0
O43: t.sk. darba aizsardzībai: | P43: =ROUND(P42*0.1,2) -> 0
O44: Peļņa (0%): | P44: =ROUND(P41*0.05,2) -> 0
O45: Pavisam kopā bez PVN 21%: | P45: =P44+P42+P41 -> 0
O46: PVN 21%: | P46: =ROUND(P45*0.21,2) -> 0
O47: Kopējās izmaksas ar PVN 21%: | P47: =P45+P46 -> 0

Sheet Istaba 16
A1: Lokālā tāme Nr. 1
A2: Istabas Nr.16 remonts
A4: Objekta nosaukums: Istabas Nr. 16 remonts
A5: Būves nosaukums: Sociālā dzīvojamā māja Indrānu ielā 14, Ogrē
A6: Objekta adrese: Indrānui iela 14, Ogre, Ogres novads. LV-5001 | M6: Tāmes izmaksas | O6: =P51 -> 0 | P6: euro
A7: Pasūtījuma Nr.
A8: Tāme sastādīta 2026. gada tirgus cenās. | M8: Tāme sastādīta 2026.gada
M9: I
A10: Nr.p.k. | B10: Kods | C10: Būvdarbu nosaukums | D10: Mērvienība | E10: Daudzums | F10: Vienības izmaksas | L10: Kopā uz visu apjomu
F11: laika norma (c/h) | G11: darba samaksas likme (euro/h) | H11: darba alga | I11: būvizstrā dājumi | J11: mehānismi | K11: kopā | L11: darbietil pība (c/h) | M11: darba alga | N11: būvizstrā dājumi | O11: mehānismi | P11: summa
C14: Demontāžas darbi
A16: 1 | B16: Lc | C16: Sienu tapešu noņemšana istabās, koridorā, sanmezglā | D16: m2 | E16: 75.1 | F16: 0 | G16: 0 | H16: =ROUND(F16*G16,2) -> 0 | I16: 0 | J16: 0 | K16: =ROUND(SUM(H16:J16),2) -> 0 | L16: =ROUND(E16*F16,2) -> 0 | M16: =ROUND(E16*H16,2) -> 0 | N16: =ROUND(E16*I16,2) -> 0 | O16: =ROUND(E16*J16,2) -> 0 | P16: =ROUND(SUM(M16:O16),2) -> 0
A17: 2 | B17: Lc | C17: Demontēt grīdlīstes | D17: m | E17: 21 | F17: 0 | G17: 0 | H17: =ROUND(F17*G17,2) -> 0 | I17: 0 | J17: 0 | K17: =ROUND(SUM(H17:J17),2) -> 0 | L17: =ROUND(E17*F17,2) -> 0 | M17: =ROUND(E17*H17,2) -> 0 | N17: =ROUND(E17*I17,2) -> 0 | O17: =ROUND(E17*J17,2) -> 0 | P17: =ROUND(SUM(M17:O17),2) -> 0
C19: Grīdas
A21: 3 | B21: Lc | C21: Grīdu nosegšana sienu remontam | D21: m2 | E21: 25.6 | F21: 0 | G21: 0 | H21: =ROUND(F21*G21,2) -> 0 | I21: 0 | J21: 0 | K21: =ROUND(SUM(H21:J21),2) -> 0 | L21: =ROUND(E21*F21,2) -> 0 | M21: =ROUND(E21*H21,2) -> 0 | N21: =ROUND(E21*I21,2) -> 0 | O21: =ROUND(E21*J21,2) -> 0 | P21: =ROUND(SUM(M21:O21),2) -> 0
A22: 4 | B22: Lc | C22: Montēt esošas grīdlīstes | D22: m | E22: 21 | F22: 0 | G22: 0 | H22: =ROUND(F22*G22,2) -> 0 | I22: 0 | J22: 0 | K22: =ROUND(SUM(H22:J22),2) -> 0 | L22: =ROUND(E22*F22,2) -> 0 | M22: =ROUND(E22*H22,2) -> 0 | N22: =ROUND(E22*I22,2) -> 0 | O22: =ROUND(E22*J22,2) -> 0 | P22: =ROUND(SUM(M22:O22),2) -> 0
C24: Griesti
A26: 5 | B26: Lc | C26: Griestu špaktelēšana, gruntēšana viena istaba, koridors, sanmezgls | D26: m2 | E26: 20.5 | F26: 0 | G26: 0 | H26: =ROUND(F26*G26,2) -> 0 | I26: 0 | J26: 0 | K26: =ROUND(SUM(H26:J26),2) -> 0 | L26: =ROUND(E26*F26,2) -> 0 | M26: =ROUND(E26*H26,2) -> 0 | N26: =ROUND(E26*I26,2) -> 0 | O26: =ROUND(E26*J26,2) -> 0 | P26: =ROUND(SUM(M26:O26),2) -> 0
A27: 6 | B27: Lc | C27: Griestu krāsošana 2 kārtas viena istaba, koridors, sanmezgls | D27: m2 | E27: 20.5 | F27: 0 | G27: 0 | H27: =ROUND(F27*G27,2) -> 0 | I27: 0 | J27: 0 | K27: =ROUND(SUM(H27:J27),2) -> 0 | L27: =ROUND(E27*F27,2) -> 0 | M27: =ROUND(E27*H27,2) -> 0 | N27: =ROUND(E27*I27,2) -> 0 | O27: =ROUND(E27*J27,2) -> 0 | P27: =ROUND(SUM(M27:O27),2) -> 0
C29: Sienas
A31: 7 | B31: Lc | C31: Sienu špaktelēšana, gruntēšana | D31: m2 | E31: 75.1 | F31: 0 | G31: 0 | H31: =ROUND(F31*G31,2) -> 0 | I31: 0 | J31: 0 | K31: =ROUND(SUM(H31:J31),2) -> 0 | L31: =ROUND(E31*F31,2) -> 0 | M31: =ROUND(E31*H31,2) -> 0 | N31: =ROUND(E31*I31,2) -> 0 | O31: =ROUND(E31*J31,2) -> 0 | P31: =ROUND(SUM(M31:O31),2) -> 0
A32: 8 | B32: Lc | C32: Sienu krāsošana 2 kārtas | D32: m2 | E32: 75.1 | F32: 0 | G32: 0 | H32: =ROUND(F32*G32,2) -> 0 | I32: 0 | J32: 0 | K32: =ROUND(SUM(H32:J32),2) -> 0 | L32: =ROUND(E32*F32,2) -> 0 | M32: =ROUND(E32*H32,2) -> 0 | N32: =ROUND(E32*I32,2) -> 0 | O32: =ROUND(E32*J32,2) -> 0 | P32: =ROUND(SUM(M32:O32),2) -> 0
A33: 9 | B33: Lc | C33: Sienu sanmezglā virs flīzēm špaktelēšana, krāsošana 2x | D33: m2 | E33: 8.6 | F33: 0 | G33: 0 | H33: =ROUND(F33*G33,2) -> 0 | I33: 0 | J33: 0 | K33: =ROUND(SUM(H33:J33),2) -> 0 | L33: =ROUND(E33*F33,2) -> 0 | M33: =ROUND(E33*H33,2) -> 0 | N33: =ROUND(E33*I33,2) -> 0 | O33: =ROUND(E33*J33,2) -> 0 | P33: =ROUND(SUM(M33:O33),2) -> 0
C35: Santehniskie darbi
A37: 10 | C37: Izlietnes 500 mm uzstādīšana ieskaitot maisītāju, pievadus, veidgabalus | D37: gab | E37: 1 | F37: 0 | G37: 0 | H37: =ROUND(F37*G37,2) -> 0 | I37: 0 | J37: 0 | K37: =ROUND(SUM(H37:J37),2) -> 0 | L37: =ROUND(E37*F37,2) -> 0 | M37: =ROUND(E37*H37,2) -> 0 | N37: =ROUND(E37*I37,2) -> 0 | O37: =ROUND(E37*J37,2) -> 0 | P37: =ROUND(SUM(M37:O37),2) -> 0
A38: 11 | C38: Tualetes poda uzstādīšana ieskaitot pievadus, veidgabalus | D38: gab. | E38: 1 | F38: 0 | G38: 0 | H38: =ROUND(F38*G38,2) -> 0 | I38: 0 | J38: 0 | K38: =ROUND(SUM(H38:J38),2) -> 0 | L38: =ROUND(E38*F38,2) -> 0 | M38: =ROUND(E38*H38,2) -> 0 | N38: =ROUND(E38*I38,2) -> 0 | O38: =ROUND(E38*J38,2) -> 0 | P38: =ROUND(SUM(M38:O38),2) -> 0
C40: Dažādi darbi
A41: 12 | B41: Lc | C41: Apkures radiatoru demontāža, atpakaļ montāža. | D41: obj. | E41: 1 | F41: 0 | G41: 0 | H41: =ROUND(F41*G41,2) -> 0 | I41: 0 | J41: 0 | K41: =ROUND(SUM(H41:J41),2) -> 0 | L41: 0.3 | M41: =ROUND(E41*H41,2) -> 0 | N41: =ROUND(E41*I41,2) -> 0 | O41: =ROUND(E41*J41,2) -> 0 | P41: =ROUND(SUM(M41:O41),2) -> 0
A42: 13 | B42: Lc | C42: Būvgružu savākšana un utilizācija | D42: m3 | E42: 0.5 | F42: 0 | G42: 0 | H42: =ROUND(F42*G42,2) -> 0 | I42: 0 | J42: 0 | K42: =ROUND(SUM(H42:J42),2) -> 0 | L42: 0.3 | M42: =ROUND(E42*H42,2) -> 0 | N42: =ROUND(E42*I42,2) -> 0 | O42: =ROUND(E42*J42,2) -> 0 | P42: =ROUND(SUM(M42:O42),2) -> 0
A43: 14 | B43: Lc | C43: Objekta tīrīšana un sakopšana pēc būvdarbu pabeigšanas | D43: obj | E43: 1 | F43: 0 | G43: 0 | H43: =ROUND(F43*G43,2) -> 0 | I43: 0 | J43: 0 | K43: =ROUND(SUM(H43:J43),2) -> 0 | L43: =ROUND(E43*F43,2) -> 0 | M43: =ROUND(E43*H43,2) -> 0 | N43: =ROUND(E43*I43,2) -> 0 | O43: =ROUND(E43*J43,2) -> 0 | P43: =ROUND(SUM(M43:O43),2) -> 0
A44: 15 | B44: Lc | C44: Transporta izdevumi | D44: obj. | E44: 1 | F44: 0 | G44: 0 | H44: =ROUND(F44*G44,2) -> 0 | I44: 0 | J44: 0 | K44: =ROUND(SUM(H44:J44),2) -> 0 | L44: =ROUND(E44*F44,2) -> 0 | M44: =ROUND(E44*H44,2) -> 0 | N44: =ROUND(E44*I44,2) -> 0 | O44: =ROUND(E44*J44,2) -> 0 | P44: =ROUND(SUM(M44:O44),2) -> 0
K45: Tiešās izmaksas kopā, t. sk. darba devēja sociālais nodoklis (24.09%) | L45: =SUM(L13:L44) -> 0.6 | M45: =SUM(M13:M44) -> 0 | N45: =SUM(N13:N44) -> 0 | O45: =SUM(O13:O44) -> 0 | P45: =SUM(P13:P44) -> 0
O46: Virsizdevumi (0 %): | P46: =ROUND(P45*0.08,2) -> 0
O47: t.sk. darba aizsardzībai: | P47: =ROUND(P46*0.1,2) -> 0
O48: Peļņa (0%): | P48: =ROUND(P45*0.05,2) -> 0
O49: Pavisam kopā bez PVN 21%: | P49: =P48+P46+P45 -> 0
O50: PVN 21%: | P50: =ROUND(P49*0.21,2) -> 0
O51: Kopējās izmaksas ar PVN 21%: | P51: =P49+P50 -> 0

Sheet Istaba 20
A1: Lokālā tāme Nr. 1
A2: Istabas Nr.20 remonts
A4: Objekta nosaukums: Istabas Nr. 20 remonts
A5: Būves nosaukums: Sociālā dzīvojamā māja Indrānu ielā 14, Ogrē
A6: Objekta adrese: Indrānui iela 14, Ogre, Ogres novads. LV-5001 | M6: Tāmes izmaksas | O6: =P63 -> 0 | P6: euro
A7: Pasūtījuma Nr.
A8: Tāme sastādīta 2026. gada tirgus cenās. | M8: Tāme sastādīta 2026.gada
M9: I
A10: Nr.p.k. | B10: Kods | C10: Būvdarbu nosaukums | D10: Mērvienība | E10: Daudzums | F10: Vienības izmaksas | L10: Kopā uz visu apjomu
F11: laika norma (c/h) | G11: darba samaksas likme (euro/h) | H11: darba alga | I11: būvizstrā dājumi | J11: mehānismi | K11: kopā | L11: darbietil pība (c/h) | M11: darba alga | N11: būvizstrā dājumi | O11: mehānismi | P11: summa
C14: Demontāžas darbi
A16: 1 | B16: Lc | C16: Durvju demontāža ieskaitot aplodas un kārbas | D16: gab. | E16: 4 | F16: 0 | G16: 0 | H16: =ROUND(F16*G16,2) -> 0 | I16: 0 | J16: 0 | K16: =ROUND(SUM(H16:J16),2) -> 0 | L16: =ROUND(E16*F16,2) -> 0 | M16: =ROUND(E16*H16,2) -> 0 | N16: =ROUND(E16*I16,2) -> 0 | O16: =ROUND(E16*J16,2) -> 0 | P16: =ROUND(SUM(M16:O16),2) -> 0
A17: =A16+1 -> 2 | B17: Lc | C17: Santehnikas demontāža (izlietne, pods) | D17: obj. | E17: 1 | F17: 0 | G17: 0 | H17: =ROUND(F17*G17,2) -> 0 | I17: 0 | J17: 0 | K17: =ROUND(SUM(H17:J17),2) -> 0 | L17: =ROUND(E17*F17,2) -> 0 | M17: =ROUND(E17*H17,2) -> 0 | N17: =ROUND(E17*I17,2) -> 0 | O17: =ROUND(E17*J17,2) -> 0 | P17: =ROUND(SUM(M17:O17),2) -> 0
A18: =A17+1 -> 3 | B18: Lc | C18: Grīdas linoleja noņemšana | D18: m2 | E18: 15 | F18: 0 | G18: 0 | H18: =ROUND(F18*G18,2) -> 0 | I18: 0 | J18: 0 | K18: =ROUND(SUM(H18:J18),2) -> 0 | L18: =ROUND(E18*F18,2) -> 0 | M18: =ROUND(E18*H18,2) -> 0 | N18: =ROUND(E18*I18,2) -> 0 | O18: =ROUND(E18*J18,2) -> 0 | P18: =ROUND(SUM(M18:O18),2) -> 0
A19: 4 | B19: Lc | C19: Sienu tapešu noņemšana istabās, koridorā | D19: m2 | E19: 48 | F19: 0 | G19: 0 | H19: =ROUND(F19*G19,2) -> 0 | I19: 0 | J19: 0 | K19: =ROUND(SUM(H19:J19),2) -> 0 | L19: =ROUND(E19*F19,2) -> 0 | M19: =ROUND(E19*H19,2) -> 0 | N19: =ROUND(E19*I19,2) -> 0 | O19: =ROUND(E19*J19,2) -> 0 | P19: =ROUND(SUM(M19:O19),2) -> 0
A20: 5 | B20: Lc | C20: Demontēt grīdlīstes | D20: m | E20: 20.1 | F20: 0 | G20: 0 | H20: =ROUND(F20*G20,2) -> 0 | I20: 0 | J20: 0 | K20: =ROUND(SUM(H20:J20),2) -> 0 | L20: =ROUND(E20*F20,2) -> 0 | M20: =ROUND(E20*H20,2) -> 0 | N20: =ROUND(E20*I20,2) -> 0 | O20: =ROUND(E20*J20,2) -> 0 | P20: =ROUND(SUM(M20:O20),2) -> 0
A21: =A20+1 -> 6 | B21: Lc | C21: Demontēt sienas skapi | D21: obj. | E21: 1 | F21: 0 | G21: 0 | H21: =ROUND(F21*G21,2) -> 0 | I21: 0 | J21: 0 | K21: =ROUND(SUM(H21:J21),2) -> 0 | L21: =ROUND(E21*F21,2) -> 0 | M21: =ROUND(E21*H21,2) -> 0 | N21: =ROUND(E21*I21,2) -> 0 | O21: =ROUND(E21*J21,2) -> 0 | P21: =ROUND(SUM(M21:O21),2) -> 0
C23: Grīdas
A25: 7 | B25: Lc | C25: Grīdu izlīdzināšana ar OSB plātni 10 mm | D25: m2 | E25: 15 | F25: 0 | G25: 0 | H25: =ROUND(F25*G25,2) -> 0 | I25: 0 | J25: 0 | K25: =ROUND(SUM(H25:J25),2) -> 0 | L25: =ROUND(E25*F25,2) -> 0 | M25: =ROUND(E25*H25,2) -> 0 | N25: =ROUND(E25*I25,2) -> 0 | O25: =ROUND(E25*J25,2) -> 0 | P25: =ROUND(SUM(M25:O25),2) -> 0
A26: 8 | B26: Lc | C26: Tualetes grīdas flīžu sagatavošana krāsošanai, krāsošana ar Fontefloor EP 100 vai analogu | D26: m2 | E26: 2.2 | F26: 0 | G26: 0 | H26: =ROUND(F26*G26,2) -> 0 | I26: 0 | J26: 0 | K26: =ROUND(SUM(H26:J26),2) -> 0 | L26: =ROUND(E26*F26,2) -> 0 | M26: =ROUND(E26*H26,2) -> 0 | N26: =ROUND(E26*I26,2) -> 0 | O26: =ROUND(E26*J26,2) -> 0 | P26: =ROUND(SUM(M26:O26),2) -> 0
A27: 9 | B27: Lc | C27: Lamināta (31.klase) ieskaitot apakšklāju ieklāšana | D27: m2 | E27: 15 | F27: 0 | G27: 0 | H27: =ROUND(F27*G27,2) -> 0 | I27: 0 | J27: 0 | K27: =ROUND(SUM(H27:J27),2) -> 0 | L27: =ROUND(E27*F27,2) -> 0 | M27: =ROUND(E27*H27,2) -> 0 | N27: =ROUND(E27*I27,2) -> 0 | O27: =ROUND(E27*J27,2) -> 0 | P27: =ROUND(SUM(M27:O27),2) -> 0
A28: 10 | B28: Lc | C28: Montēt grīdlīstes | D28: m | E28: 20.1 | F28: 0 | G28: 0 | H28: =ROUND(F28*G28,2) -> 0 | I28: 0 | J28: 0 | K28: =ROUND(SUM(H28:J28),2) -> 0 | L28: =ROUND(E28*F28,2) -> 0 | M28: =ROUND(E28*H28,2) -> 0 | N28: =ROUND(E28*I28,2) -> 0 | O28: =ROUND(E28*J28,2) -> 0 | P28: =ROUND(SUM(M28:O28),2) -> 0
C30: Griesti
A32: 11 | B32: Lc | C32: Griestu špaktelēšana, gruntēšana | D32: m2 | E32: 17.2 | F32: 0 | G32: 0 | H32: =ROUND(F32*G32,2) -> 0 | I32: 0 | J32: 0 | K32: =ROUND(SUM(H32:J32),2) -> 0 | L32: =ROUND(E32*F32,2) -> 0 | M32: =ROUND(E32*H32,2) -> 0 | N32: =ROUND(E32*I32,2) -> 0 | O32: =ROUND(E32*J32,2) -> 0 | P32: =ROUND(SUM(M32:O32),2) -> 0
A33: 12 | B33: Lc | C33: Griestu krāsošana 2 kārtas | D33: m2 | E33: 17.2 | F33: 0 | G33: 0 | H33: =ROUND(F33*G33,2) -> 0 | I33: 0 | J33: 0 | K33: =ROUND(SUM(H33:J33),2) -> 0 | L33: =ROUND(E33*F33,2) -> 0 | M33: =ROUND(E33*H33,2) -> 0 | N33: =ROUND(E33*I33,2) -> 0 | O33: =ROUND(E33*J33,2) -> 0 | P33: =ROUND(SUM(M33:O33),2) -> 0
C35: Sienas
A37: 13 | B37: Lc | C37: Komunikāciju šahtas aizdare tualetē | D37: gab. | E37: 1 | F37: 0 | G37: 0 | H37: =ROUND(F37*G37,2) -> 0 | I37: 0 | J37: 0 | K37: =ROUND(SUM(H37:J37),2) -> 0 | L37: =ROUND(E37*F37,2) -> 0 | M37: =ROUND(E37*H37,2) -> 0 | N37: =ROUND(E37*I37,2) -> 0 | O37: =ROUND(E37*J37,2) -> 0 | P37: =ROUND(SUM(M37:O37),2) -> 0
A38: 14 | B38: Lc | C38: Tualetes sienas flīžu sagatavošana krāsošanai, krāsošana ar Luja Ceramic Tiles vai analogu | D38: m2 | E38: 12.4 | F38: 0 | G38: 0 | H38: =ROUND(F38*G38,2) -> 0 | I38: 0 | J38: 0 | K38: =ROUND(SUM(H38:J38),2) -> 0 | L38: =ROUND(E38*F38,2) -> 0 | M38: =ROUND(E38*H38,2) -> 0 | N38: =ROUND(E38*I38,2) -> 0 | O38: =ROUND(E38*J38,2) -> 0 | P38: =ROUND(SUM(M38:O38),2) -> 0
A39: 15 | B39: Lc | C39: Ārdurvju ailas pielāgošana standarta durvju augstumam, apdare | D39: gab. | E39: 1 | F39: 0 | G39: 0 | H39: =ROUND(F39*G39,2) -> 0 | I39: 0 | J39: 0 | K39: =ROUND(SUM(H39:J39),2) -> 0 | L39: =ROUND(E39*F39,2) -> 0 | M39: =ROUND(E39*H39,2) -> 0 | N39: =ROUND(E39*I39,2) -> 0 | O39: =ROUND(E39*J39,2) -> 0 | P39: =ROUND(SUM(M39:O39),2) -> 0
A40: 16 | B40: Lc | C40: Dzīvokļa ārdurvju uzstādīšana ieskaitot kārbu, ēņģes slēdzeni aplodas | D40: gab. | E40: 1 | F40: 0 | G40: 0 | H40: =ROUND(F40*G40,2) -> 0 | I40: 0 | J40: 0 | K40: =ROUND(SUM(H40:J40),2) -> 0 | L40: =ROUND(E40*F40,2) -> 0 | M40: =ROUND(E40*H40,2) -> 0 | N40: =ROUND(E40*I40,2) -> 0 | O40: =ROUND(E40*J40,2) -> 0 | P40: =ROUND(SUM(M40:O40),2) -> 0
A41: 17 | B41: Lc | C41: Dzīvokļa iekšdurvju uzstādīšana ieskaitot kārbu, ēņģes slēdzeni aplodas | D41: gab. | E41: 3 | F41: 0 | G41: 0 | H41: =ROUND(F41*G41,2) -> 0 | I41: 0 | J41: 0 | K41: =ROUND(SUM(H41:J41),2) -> 0 | L41: =ROUND(E41*F41,2) -> 0 | M41: =ROUND(E41*H41,2) -> 0 | N41: =ROUND(E41*I41,2) -> 0 | O41: =ROUND(E41*J41,2) -> 0 | P41: =ROUND(SUM(M41:O41),2) -> 0
A42: 18 | B42: Lc | C42: Sienu špaktelēšana, gruntēšana | D42: m2 | E42: 48 | F42: 0 | G42: 0 | H42: =ROUND(F42*G42,2) -> 0 | I42: 0 | J42: 0 | K42: =ROUND(SUM(H42:J42),2) -> 0 | L42: =ROUND(E42*F42,2) -> 0 | M42: =ROUND(E42*H42,2) -> 0 | N42: =ROUND(E42*I42,2) -> 0 | O42: =ROUND(E42*J42,2) -> 0 | P42: =ROUND(SUM(M42:O42),2) -> 0
A43: 19 | B43: Lc | C43: Sienu krāsošana 2 kārtas | D43: m2 | E43: 48 | F43: 0 | G43: 0 | H43: =ROUND(F43*G43,2) -> 0 | I43: 0 | J43: 0 | K43: =ROUND(SUM(H43:J43),2) -> 0 | L43: =ROUND(E43*F43,2) -> 0 | M43: =ROUND(E43*H43,2) -> 0 | N43: =ROUND(E43*I43,2) -> 0 | O43: =ROUND(E43*J43,2) -> 0 | P43: =ROUND(SUM(M43:O43),2) -> 0
A44: 20 | B44: Lc | C44: Sienu sanmezglā virs flīzēm špaktelēšana krāsošana 2x | D44: m2 | E44: 8.6 | F44: 0 | G44: 0 | H44: =ROUND(F44*G44,2) -> 0 | I44: 0 | J44: 0 | K44: =ROUND(SUM(H44:J44),2) -> 0 | L44: =ROUND(E44*F44,2) -> 0 | M44: =ROUND(E44*H44,2) -> 0 | N44: =ROUND(E44*I44,2) -> 0 | O44: =ROUND(E44*J44,2) -> 0 | P44: =ROUND(SUM(M44:O44),2) -> 0
C46: Santehniskie darbi
A48: 21 | C48: Izlietnes 500 mm uzstādīšana ieskaitot maisītāju, pievadus, veidgabalus | D48: gab | E48: 1 | F48: 0 | G48: 0 | H48: =ROUND(F48*G48,2) -> 0 | I48: 0 | J48: 0 | K48: =ROUND(SUM(H48:J48),2) -> 0 | L48: =ROUND(E48*F48,2) -> 0 | M48: =ROUND(E48*H48,2) -> 0 | N48: =ROUND(E48*I48,2) -> 0 | O48: =ROUND(E48*J48,2) -> 0 | P48: =ROUND(SUM(M48:O48),2) -> 0
A49: 22 | C49: Tualetes poda uzstādīšana ieskaitot pievadus, veidgabalus | D49: gab. | E49: 1 | F49: 0 | G49: 0 | H49: =ROUND(F49*G49,2) -> 0 | I49: 0 | J49: 0 | K49: =ROUND(SUM(H49:J49),2) -> 0 | L49: =ROUND(E49*F49,2) -> 0 | M49: =ROUND(E49*H49,2) -> 0 | N49: =ROUND(E49*I49,2) -> 0 | O49: =ROUND(E49*J49,2) -> 0 | P49: =ROUND(SUM(M49:O49),2) -> 0
C51: Dažādi darbi
A53: 23 | B53: Lc | C53: Apkures radiatoru demontāžā, atpakaļmontāža | D53: obj. | E53: 1 | F53: 0 | G53: 0 | H53: =ROUND(F53*G53,2) -> 0 | I53: 0 | J53: 0 | K53: =ROUND(SUM(H53:J53),2) -> 0 | L53: 0.3 | M53: =ROUND(E53*H53,2) -> 0 | N53: =ROUND(E53*I53,2) -> 0 | O53: =ROUND(E53*J53,2) -> 0 | P53: =ROUND(SUM(M53:O53),2) -> 0
A54: 25 | B54: Lc | C54: Būvgružu savākšana un utilizācija | D54: m3 | E54: 1 | F54: 0 | G54: 0 | H54: =ROUND(F54*G54,2) -> 0 | I54: 0 | J54: 0 | K54: =ROUND(SUM(H54:J54),2) -> 0 | L54: 0.3 | M54: =ROUND(E54*H54,2) -> 0 | N54: =ROUND(E54*I54,2) -> 0 | O54: =ROUND(E54*J54,2) -> 0 | P54: =ROUND(SUM(M54:O54),2) -> 0
...

Sheet Istaba 28
A1: Lokālā tāme Nr. 1
A2: Istabas Nr.28 remonts
A4: Objekta nosaukums: Istabas Nr. 28 remonts
A5: Būves nosaukums: Sociālā dzīvojamā māja Indrānu ielā 14, Ogrē
A6: Objekta adrese: Indrānui iela 14, Ogre, Ogres novads. LV-5001 | M6: Tāmes izmaksas | O6: =P47 -> 0 | P6: euro
A7: Pasūtījuma Nr.
A8: Tāme sastādīta 2026. gada tirgus cenās. | M8: Tāme sastādīta 2026.gada
M9: I
A10: Nr.p.k. | B10: Kods | C10: Būvdarbu nosaukums | D10: Mērvienība | E10: Daudzums | F10: Vienības izmaksas | L10: Kopā uz visu apjomu
F11: laika norma (c/h) | G11: darba samaksas likme (euro/h) | H11: darba alga | I11: būvizstrā dājumi | J11: mehānismi | K11: kopā | L11: darbietil pība (c/h) | M11: darba alga | N11: būvizstrā dājumi | O11: mehānismi | P11: summa
C14: Demontāžas darbi
A16: 1 | B16: Lc | C16: Ārdurvju demontāža ieskaitot aplodas | D16: gab. | E16: 1 | F16: 0 | G16: 0 | H16: =ROUND(F16*G16,2) -> 0 | I16: 0 | J16: 0 | K16: =ROUND(SUM(H16:J16),2) -> 0 | L16: =ROUND(E16*F16,2) -> 0 | M16: =ROUND(E16*H16,2) -> 0 | N16: =ROUND(E16*I16,2) -> 0 | O16: =ROUND(E16*J16,2) -> 0 | P16: =ROUND(SUM(M16:O16),2) -> 0
A17: 2 | B17: Lc | C17: Grīdas linoleja noņemšana | D17: m2 | E17: 23 | F17: 0 | G17: 0 | H17: =ROUND(F17*G17,2) -> 0 | I17: 0 | J17: 0 | K17: =ROUND(SUM(H17:J17),2) -> 0 | L17: =ROUND(E17*F17,2) -> 0 | M17: =ROUND(E17*H17,2) -> 0 | N17: =ROUND(E17*I17,2) -> 0 | O17: =ROUND(E17*J17,2) -> 0 | P17: =ROUND(SUM(M17:O17),2) -> 0
A18: 3 | B18: Lc | C18: Sienu tapešu noņemšana koridorā | D18: m2 | E18: 13.8 | F18: 0 | G18: 0 | H18: =ROUND(F18*G18,2) -> 0 | I18: 0 | J18: 0 | K18: =ROUND(SUM(H18:J18),2) -> 0 | L18: =ROUND(E18*F18,2) -> 0 | M18: =ROUND(E18*H18,2) -> 0 | N18: =ROUND(E18*I18,2) -> 0 | O18: =ROUND(E18*J18,2) -> 0 | P18: =ROUND(SUM(M18:O18),2) -> 0
A19: 4 | B19: Lc | C19: Demontēt grīdlīstes | D19: m | E19: 26.6 | F19: 0 | G19: 0 | H19: =ROUND(F19*G19,2) -> 0 | I19: 0 | J19: 0 | K19: =ROUND(SUM(H19:J19),2) -> 0 | L19: =ROUND(E19*F19,2) -> 0 | M19: =ROUND(E19*H19,2) -> 0 | N19: =ROUND(E19*I19,2) -> 0 | O19: =ROUND(E19*J19,2) -> 0 | P19: =ROUND(SUM(M19:O19),2) -> 0
C21: Grīdas
A23: 4 | B23: Lc | C23: Tualetes grīdas flīžu sagatavošana krāsošanai, krāsošana ar Fontefloor EP 100 vai analogu | D23: m2 | E23: 1.7 | F23: 0 | G23: 0 | H23: =ROUND(F23*G23,2) -> 0 | I23: 0 | J23: 0 | K23: =ROUND(SUM(H23:J23),2) -> 0 | L23: =ROUND(E23*F23,2) -> 0 | M23: =ROUND(E23*H23,2) -> 0 | N23: =ROUND(E23*I23,2) -> 0 | O23: =ROUND(E23*J23,2) -> 0 | P23: =ROUND(SUM(M23:O23),2) -> 0
A24: 5 | B24: Lc | C24: Lamināta (31.klase) ieskaitot apakšklāju ieklāšana | D24: m2 | E24: 23 | F24: 0 | G24: 0 | H24: =ROUND(F24*G24,2) -> 0 | I24: 0 | J24: 0 | K24: =ROUND(SUM(H24:J24),2) -> 0 | L24: =ROUND(E24*F24,2) -> 0 | M24: =ROUND(E24*H24,2) -> 0 | N24: =ROUND(E24*I24,2) -> 0 | O24: =ROUND(E24*J24,2) -> 0 | P24: =ROUND(SUM(M24:O24),2) -> 0
A25: 6 | B25: Lc | C25: Montēt grīdlīstes | D25: m | E25: 26.6 | F25: 0 | G25: 0 | H25: =ROUND(F25*G25,2) -> 0 | I25: 0 | J25: 0 | K25: =ROUND(SUM(H25:J25),2) -> 0 | L25: =ROUND(E25*F25,2) -> 0 | M25: =ROUND(E25*H25,2) -> 0 | N25: =ROUND(E25*I25,2) -> 0 | O25: =ROUND(E25*J25,2) -> 0 | P25: =ROUND(SUM(M25:O25),2) -> 0
C27: Sienas
A29: 7 | B29: Lc | C29: Tualetes sienas flīžu sagatavošana krāsošanai, krāsošana ar Luja Ceramic Tiles vai analogu | D29: m2 | E29: 6.3 | F29: 0 | G29: 0 | H29: =ROUND(F29*G29,2) -> 0 | I29: 0 | J29: 0 | K29: =ROUND(SUM(H29:J29),2) -> 0 | L29: =ROUND(E29*F29,2) -> 0 | M29: =ROUND(E29*H29,2) -> 0 | N29: =ROUND(E29*I29,2) -> 0 | O29: =ROUND(E29*J29,2) -> 0 | P29: =ROUND(SUM(M29:O29),2) -> 0
A30: 8 | B30: Lc | C30: Ārdurvju ailas pielāgošana standarta durvju augstumam, apdare | D30: gab. | E30: 1 | F30: 0 | G30: 0 | H30: =ROUND(F30*G30,2) -> 0 | I30: 0 | J30: 0 | K30: =ROUND(SUM(H30:J30),2) -> 0 | L30: =ROUND(E30*F30,2) -> 0 | M30: =ROUND(E30*H30,2) -> 0 | N30: =ROUND(E30*I30,2) -> 0 | O30: =ROUND(E30*J30,2) -> 0 | P30: =ROUND(SUM(M30:O30),2) -> 0
A31: 9 | B31: Lc | C31: Dzīvokļa ārdurvju uzstādīšana ieskaitot kārbu, ēņģes slēdzeni aplodas | D31: gab. | E31: 1 | F31: 0 | G31: 0 | H31: =ROUND(F31*G31,2) -> 0 | I31: 0 | J31: 0 | K31: =ROUND(SUM(H31:J31),2) -> 0 | L31: =ROUND(E31*F31,2) -> 0 | M31: =ROUND(E31*H31,2) -> 0 | N31: =ROUND(E31*I31,2) -> 0 | O31: =ROUND(E31*J31,2) -> 0 | P31: =ROUND(SUM(M31:O31),2) -> 0
A32: 10 | B32: Lc | C32: Sienu špaktelēšana, gruntēšana koridorā | D32: m2 | E32: 13.8 | F32: 0 | G32: 0 | H32: =ROUND(F32*G32,2) -> 0 | I32: 0 | J32: 0 | K32: =ROUND(SUM(H32:J32),2) -> 0 | L32: =ROUND(E32*F32,2) -> 0 | M32: =ROUND(E32*H32,2) -> 0 | N32: =ROUND(E32*I32,2) -> 0 | O32: =ROUND(E32*J32,2) -> 0 | P32: =ROUND(SUM(M32:O32),2) -> 0
A33: 11 | B33: Lc | C33: Sienu sanmezglā virs flīzēm špaktelēšana, krāsošana 2x | D33: m2 | E33: 5.7 | F33: 0 | G33: 0 | H33: =ROUND(F33*G33,2) -> 0 | I33: 0 | J33: 0 | K33: =ROUND(SUM(H33:J33),2) -> 0 | L33: =ROUND(E33*F33,2) -> 0 | M33: =ROUND(E33*H33,2) -> 0 | N33: =ROUND(E33*I33,2) -> 0 | O33: =ROUND(E33*J33,2) -> 0 | P33: =ROUND(SUM(M33:O33),2) -> 0
C36: Dažādi darbi
A38: 12 | B38: Lc | C38: Būvgružu savākšana un utilizācija | D38: m3 | E38: 0.5 | F38: 0 | G38: 0 | H38: =ROUND(F38*G38,2) -> 0 | I38: 0 | J38: 0 | K38: =ROUND(SUM(H38:J38),2) -> 0 | L38: 0.3 | M38: =ROUND(E38*H38,2) -> 0 | N38: =ROUND(E38*I38,2) -> 0 | O38: =ROUND(E38*J38,2) -> 0 | P38: =ROUND(SUM(M38:O38),2) -> 0
A39: 13 | B39: Lc | C39: Objekta tīrīšana un sakopšana pēc būvdarbu pabeigšanas | D39: obj | E39: 1 | F39: 0 | G39: 0 | H39: =ROUND(F39*G39,2) -> 0 | I39: 0 | J39: 0 | K39: =ROUND(SUM(H39:J39),2) -> 0 | L39: =ROUND(E39*F39,2) -> 0 | M39: =ROUND(E39*H39,2) -> 0 | N39: =ROUND(E39*I39,2) -> 0 | O39: =ROUND(E39*J39,2) -> 0 | P39: =ROUND(SUM(M39:O39),2) -> 0
A40: 14 | B40: Lc | C40: Transporta izdevumi | D40: obj. | E40: 1 | F40: 0 | G40: 0 | H40: =ROUND(F40*G40,2) -> 0 | I40: 0 | J40: 0 | K40: =ROUND(SUM(H40:J40),2) -> 0 | L40: =ROUND(E40*F40,2) -> 0 | M40: =ROUND(E40*H40,2) -> 0 | N40: =ROUND(E40*I40,2) -> 0 | O40: =ROUND(E40*J40,2) -> 0 | P40: =ROUND(SUM(M40:O40),2) -> 0
K41: Tiešās izmaksas kopā, t. sk. darba devēja sociālais nodoklis (24.09%) | L41: =SUM(L13:L40) -> 0.3 | M41: =SUM(M13:M40) -> 0 | N41: =SUM(N13:N40) -> 0 | O41: =SUM(O13:O40) -> 0 | P41: =SUM(P13:P40) -> 0
O42: Virsizdevumi (0 %): | P42: =ROUND(P41*0.08,2) -> 0
O43: t.sk. darba aizsardzībai: | P43: =ROUND(P42*0.1,2) -> 0
O44: Peļņa (0%): | P44: =ROUND(P41*0.05,2) -> 0
O45: Pavisam kopā bez PVN 21%: | P45: =P44+P42+P41 -> 0
O46: PVN 21%: | P46: =ROUND(P45*0.21,2) -> 0
O47: Kopējās izmaksas ar PVN 21%: | P47: =P45+P46 -> 0

Sheet Istaba 30
A1: Lokālā tāme Nr. 1
A2: Istabas Nr.30 remonts
A4: Objekta nosaukums: Istabas Nr. 30 remonts
A5: Būves nosaukums: Sociālā dzīvojamā māja Indrānu ielā 14, Ogrē
A6: Objekta adrese: Indrānui iela 14, Ogre, Ogres novads. LV-5001 | M6: Tāmes izmaksas | O6: =P47 -> 0 | P6: euro
A7: Pasūtījuma Nr.
A8: Tāme sastādīta 2026. gada tirgus cenās. | M8: Tāme sastādīta 2026.gada
M9: I
A10: Nr.p.k. | B10: Kods | C10: Būvdarbu nosaukums | D10: Mērvienība | E10: Daudzums | F10: Vienības izmaksas | L10: Kopā uz visu apjomu
F11: laika norma (c/h) | G11: darba samaksas likme (euro/h) | H11: darba alga | I11: būvizstrā dājumi | J11: mehānismi | K11: kopā | L11: darbietil pība (c/h) | M11: darba alga | N11: būvizstrā dājumi | O11: mehānismi | P11: summa
C14: Demontāžas darbi
A16: 1 | B16: Lc | C16: Santehnikas demontāža (izlietne, pods) | D16: obj. | E16: 1 | F16: 0 | G16: 0 | H16: =ROUND(F16*G16,2) -> 0 | I16: 0 | J16: 0 | K16: =ROUND(SUM(H16:J16),2) -> 0 | L16: =ROUND(E16*F16,2) -> 0 | M16: =ROUND(E16*H16,2) -> 0 | N16: =ROUND(E16*I16,2) -> 0 | O16: =ROUND(E16*J16,2) -> 0 | P16: =ROUND(SUM(M16:O16),2) -> 0
A17: 2 | B17: Lc | C17: Sienu tapešu noņemšana koridorā | D17: m2 | E17: 13.8 | F17: 0 | G17: 0 | H17: =ROUND(F17*G17,2) -> 0 | I17: 0 | J17: 0 | K17: =ROUND(SUM(H17:J17),2) -> 0 | L17: =ROUND(E17*F17,2) -> 0 | M17: =ROUND(E17*H17,2) -> 0 | N17: =ROUND(E17*I17,2) -> 0 | O17: =ROUND(E17*J17,2) -> 0 | P17: =ROUND(SUM(M17:O17),2) -> 0
C20: Griesti
A22: 3 | B22: Lc | C22: Griestu špaktelēšana, gruntēšana ( koridors, tualete) | D22: m2 | E22: 4.1 | F22: 0 | G22: 0 | H22: =ROUND(F22*G22,2) -> 0 | I22: 0 | J22: 0 | K22: =ROUND(SUM(H22:J22),2) -> 0 | L22: =ROUND(E22*F22,2) -> 0 | M22: =ROUND(E22*H22,2) -> 0 | N22: =ROUND(E22*I22,2) -> 0 | O22: =ROUND(E22*J22,2) -> 0 | P22: =ROUND(SUM(M22:O22),2) -> 0
A23: 4 | B23: Lc | C23: Griestu krāsošana 2 kārtas ( koridors, tualete) | D23: m2 | E23: 4.1 | F23: 0 | G23: 0 | H23: =ROUND(F23*G23,2) -> 0 | I23: 0 | J23: 0 | K23: =ROUND(SUM(H23:J23),2) -> 0 | L23: =ROUND(E23*F23,2) -> 0 | M23: =ROUND(E23*H23,2) -> 0 | N23: =ROUND(E23*I23,2) -> 0 | O23: =ROUND(E23*J23,2) -> 0 | P23: =ROUND(SUM(M23:O23),2) -> 0
C25: Sienas
A27: 5 | B27: Lc | C27: Sienu špaktelēšana, gruntēšana koridorā | D27: m2 | E27: 13.8 | F27: 0 | G27: 0 | H27: =ROUND(F27*G27,2) -> 0 | I27: 0 | J27: 0 | K27: =ROUND(SUM(H27:J27),2) -> 0 | L27: =ROUND(E27*F27,2) -> 0 | M27: =ROUND(E27*H27,2) -> 0 | N27: =ROUND(E27*I27,2) -> 0 | O27: =ROUND(E27*J27,2) -> 0 | P27: =ROUND(SUM(M27:O27),2) -> 0
A28: 6 | B28: Lc | C28: Sienu krāsošana 2 kārtas koridorā | D28: m2 | E28: 13.8 | F28: 0 | G28: 0 | H28: =ROUND(F28*G28,2) -> 0 | I28: 0 | J28: 0 | K28: =ROUND(SUM(H28:J28),2) -> 0 | L28: =ROUND(E28*F28,2) -> 0 | M28: =ROUND(E28*H28,2) -> 0 | N28: =ROUND(E28*I28,2) -> 0 | O28: =ROUND(E28*J28,2) -> 0 | P28: =ROUND(SUM(M28:O28),2) -> 0
A29: 7 | B29: Lc | C29: Sienu sanmezglā virs flīzēm špaktelēšana, krāsošana 2x | D29: m2 | E29: 5.7 | F29: 0 | G29: 0 | H29: =ROUND(F29*G29,2) -> 0 | I29: 0 | J29: 0 | K29: =ROUND(SUM(H29:J29),2) -> 0 | L29: =ROUND(E29*F29,2) -> 0 | M29: =ROUND(E29*H29,2) -> 0 | N29: =ROUND(E29*I29,2) -> 0 | O29: =ROUND(E29*J29,2) -> 0 | P29: =ROUND(SUM(M29:O29),2) -> 0
C31: Santehniskie darbi
A33: 8 | C33: Izlietnes 500 mm uzstādīšana ieskaitot maisītāju, pievadus, veidgabalus | D33: gab | E33: 1 | F33: 0 | G33: 0 | H33: =ROUND(F33*G33,2) -> 0 | I33: 0 | J33: 0 | K33: =ROUND(SUM(H33:J33),2) -> 0 | L33: =ROUND(E33*F33,2) -> 0 | M33: =ROUND(E33*H33,2) -> 0 | N33: =ROUND(E33*I33,2) -> 0 | O33: =ROUND(E33*J33,2) -> 0 | P33: =ROUND(SUM(M33:O33),2) -> 0
A34: 9 | C34: Tualetes poda uzstādīšana ieskaitot pievadus, veidgabalus | D34: gab. | E34: 1 | F34: 0 | G34: 0 | H34: =ROUND(F34*G34,2) -> 0 | I34: 0 | J34: 0 | K34: =ROUND(SUM(H34:J34),2) -> 0 | L34: =ROUND(E34*F34,2) -> 0 | M34: =ROUND(E34*H34,2) -> 0 | N34: =ROUND(E34*I34,2) -> 0 | O34: =ROUND(E34*J34,2) -> 0 | P34: =ROUND(SUM(M34:O34),2) -> 0
C36: Dažādi darbi
A38: 10 | B38: Lc | C38: Būvgružu savākšana un utilizācija | D38: m3 | E38: 0.5 | F38: 0 | G38: 0 | H38: =ROUND(F38*G38,2) -> 0 | I38: 0 | J38: 0 | K38: =ROUND(SUM(H38:J38),2) -> 0 | L38: 0.3 | M38: =ROUND(E38*H38,2) -> 0 | N38: =ROUND(E38*I38,2) -> 0 | O38: =ROUND(E38*J38,2) -> 0 | P38: =ROUND(SUM(M38:O38),2) -> 0
A39: 11 | B39: Lc | C39: Objekta tīrīšana un sakopšana pēc būvdarbu pabeigšanas | D39: obj | E39: 1 | F39: 0 | G39: 0 | H39: =ROUND(F39*G39,2) -> 0 | I39: 0 | J39: 0 | K39: =ROUND(SUM(H39:J39),2) -> 0 | L39: =ROUND(E39*F39,2) -> 0 | M39: =ROUND(E39*H39,2) -> 0 | N39: =ROUND(E39*I39,2) -> 0 | O39: =ROUND(E39*J39,2) -> 0 | P39: =ROUND(SUM(M39:O39),2) -> 0
A40: 13 | B40: Lc | C40: Transporta izdevumi | D40: obj. | E40: 1 | F40: 0 | G40: 0 | H40: =ROUND(F40*G40,2) -> 0 | I40: 0 | J40: 0 | K40: =ROUND(SUM(H40:J40),2) -> 0 | L40: =ROUND(E40*F40,2) -> 0 | M40: =ROUND(E40*H40,2) -> 0 | N40: =ROUND(E40*I40,2) -> 0 | O40: =ROUND(E40*J40,2) -> 0 | P40: =ROUND(SUM(M40:O40),2) -> 0
K41: Tiešās izmaksas kopā, t. sk. darba devēja sociālais nodoklis (24.09%) | L41: =SUM(L13:L40) -> 0.3 | M41: =SUM(M13:M40) -> 0 | N41: =SUM(N13:N40) -> 0 | O41: =SUM(O13:O40) -> 0 | P41: =SUM(P13:P40) -> 0
O42: Virsizdevumi (0 %): | P42: =ROUND(P41*0.08,2) -> 0
O43: t.sk. darba aizsardzībai: | P43: =ROUND(P42*0.1,2) -> 0
O44: Peļņa (0%): | P44: =ROUND(P41*0.05,2) -> 0
O45: Pavisam kopā bez PVN 21%: | P45: =P44+P42+P41 -> 0
O46: PVN 21%: | P46: =ROUND(P45*0.21,2) -> 0
O47: Kopējās izmaksas ar PVN 21%: | P47: =P45+P46 -> 0

Sheet Istaba 31
A1: Lokālā tāme Nr. 1
A2: Istabas Nr.31 remonts
A4: Objekta nosaukums: Istabas Nr. 31 remonts
A5: Būves nosaukums: Sociālā dzīvojamā māja Indrānu ielā 14, Ogrē
A6: Objekta adrese: Indrānui iela 14, Ogre, Ogres novads. LV-5001 | M6: Tāmes izmaksas | O6: =P45 -> 0 | P6: euro
A7: Pasūtījuma Nr.
A8: Tāme sastādīta 2026. gada tirgus cenās. | M8: Tāme sastādīta 2026.gada
M9: I
A10: Nr.p.k. | B10: Kods | C10: Būvdarbu nosaukums | D10: Mērvienība | E10: Daudzums | F10: Vienības izmaksas | L10: Kopā uz visu apjomu
F11: laika norma (c/h) | G11: darba samaksas likme (euro/h) | H11: darba alga | I11: būvizstrā dājumi | J11: mehānismi | K11: kopā | L11: darbietil pība (c/h) | M11: darba alga | N11: būvizstrā dājumi | O11: mehānismi | P11: summa
C14: Demontāžas darbi
A16: 1 | B16: Lc | C16: Santehnikas demontāža ( pods, izlietne) | D16: obj. | E16: 1 | F16: 0 | G16: 0 | H16: =ROUND(F16*G16,2) -> 0 | I16: 0 | J16: 0 | K16: =ROUND(SUM(H16:J16),2) -> 0 | L16: =ROUND(E16*F16,2) -> 0 | M16: =ROUND(E16*H16,2) -> 0 | N16: =ROUND(E16*I16,2) -> 0 | O16: =ROUND(E16*J16,2) -> 0 | P16: =ROUND(SUM(M16:O16),2) -> 0
C18: Grīdas
A20: 2 | B20: Lc | C20: Tualetes grīdas flīžu sagatavošana krāsošanai, krāsošana ar Fontefloor EP 100 vai analogu | D20: m2 | E20: 2.4 | F20: 0 | G20: 0 | H20: =ROUND(F20*G20,2) -> 0 | I20: 0 | J20: 0 | K20: =ROUND(SUM(H20:J20),2) -> 0 | L20: =ROUND(E20*F20,2) -> 0 | M20: =ROUND(E20*H20,2) -> 0 | N20: =ROUND(E20*I20,2) -> 0 | O20: =ROUND(E20*J20,2) -> 0 | P20: =ROUND(SUM(M20:O20),2) -> 0
C22: Sienas
A24: 3 | B24: Lc | C24: Sienu tapešu remonts | D24: m2 | E24: 74 | F24: 0 | G24: 0 | H24: =ROUND(F24*G24,2) -> 0 | I24: 0 | J24: 0 | K24: =ROUND(SUM(H24:J24),2) -> 0 | L24: =ROUND(E24*F24,2) -> 0 | M24: =ROUND(E24*H24,2) -> 0 | N24: =ROUND(E24*I24,2) -> 0 | O24: =ROUND(E24*J24,2) -> 0 | P24: =ROUND(SUM(M24:O24),2) -> 0
A25: 4 | B25: Lc | C25: Sienu ar esošām tapetēm krāsošana 2 kārtas | D25: m2 | E25: 74 | F25: 0 | G25: 0 | H25: =ROUND(F25*G25,2) -> 0 | I25: 0 | J25: 0 | K25: =ROUND(SUM(H25:J25),2) -> 0 | L25: =ROUND(E25*F25,2) -> 0 | M25: =ROUND(E25*H25,2) -> 0 | N25: =ROUND(E25*I25,2) -> 0 | O25: =ROUND(E25*J25,2) -> 0 | P25: =ROUND(SUM(M25:O25),2) -> 0
A26: 5 | B26: Lc | C26: Tualetes sienas flīžu sagatavošana krāsošanai, krāsošana ar Luja Ceramic Tiles vai analogu | D26: m2 | E26: 13.05 | F26: 0 | G26: 0 | H26: =ROUND(F26*G26,2) -> 0 | I26: 0 | J26: 0 | K26: =ROUND(SUM(H26:J26),2) -> 0 | L26: =ROUND(E26*F26,2) -> 0 | M26: =ROUND(E26*H26,2) -> 0 | N26: =ROUND(E26*I26,2) -> 0 | O26: =ROUND(E26*J26,2) -> 0 | P26: =ROUND(SUM(M26:O26),2) -> 0
A27: 6 | B27: Lc | C27: Sienu sanmezglā virs flīzēm špaktelēšana, krāsošana 2x | D27: m2 | E27: 5.7 | F27: 0 | G27: 0 | H27: =ROUND(F27*G27,2) -> 0 | I27: 0 | J27: 0 | K27: =ROUND(SUM(H27:J27),2) -> 0 | L27: =ROUND(E27*F27,2) -> 0 | M27: =ROUND(E27*H27,2) -> 0 | N27: =ROUND(E27*I27,2) -> 0 | O27: =ROUND(E27*J27,2) -> 0 | P27: =ROUND(SUM(M27:O27),2) -> 0
C29: Santehniskie darbi
A31: 7 | B31: Lc | C31: Tualetes poda uzstādīšana ieskaitot pievadus, veidgabalus | D31: gab. | E31: 1 | F31: 0 | G31: 0 | H31: =ROUND(F31*G31,2) -> 0 | I31: 0 | J31: 0 | K31: =ROUND(SUM(H31:J31),2) -> 0 | L31: =ROUND(E31*F31,2) -> 0 | M31: =ROUND(E31*H31,2) -> 0 | N31: =ROUND(E31*I31,2) -> 0 | O31: =ROUND(E31*J31,2) -> 0 | P31: =ROUND(SUM(M31:O31),2) -> 0
A32: 8 | B32: Lc | C32: Izlietnes 500 mm uzstādīšana ieskaitot maisītāju, pievadus, veidgabalus | D32: gab | E32: 1 | F32: 0 | G32: 0 | H32: =ROUND(F32*G32,2) -> 0 | I32: 0 | J32: 0 | K32: =ROUND(SUM(H32:J32),2) -> 0 | L32: =ROUND(E32*F32,2) -> 0 | M32: =ROUND(E32*H32,2) -> 0 | N32: =ROUND(E32*I32,2) -> 0 | O32: =ROUND(E32*J32,2) -> 0 | P32: =ROUND(SUM(M32:O32),2) -> 0
C34: Dažādi darbi
A36: 9 | B36: Lc | C36: Būvgružu savākšana un utilizācija | D36: m3 | E36: 0.5 | F36: 0 | G36: 0 | H36: =ROUND(F36*G36,2) -> 0 | I36: 0 | J36: 0 | K36: =ROUND(SUM(H36:J36),2) -> 0 | L36: 0.3 | M36: =ROUND(E36*H36,2) -> 0 | N36: =ROUND(E36*I36,2) -> 0 | O36: =ROUND(E36*J36,2) -> 0 | P36: =ROUND(SUM(M36:O36),2) -> 0
A37: 10 | B37: Lc | C37: Objekta tīrīšana un sakopšana pēc būvdarbu pabeigšanas | D37: obj | E37: 1 | F37: 0 | G37: 0 | H37: =ROUND(F37*G37,2) -> 0 | I37: 0 | J37: 0 | K37: =ROUND(SUM(H37:J37),2) -> 0 | L37: =ROUND(E37*F37,2) -> 0 | M37: =ROUND(E37*H37,2) -> 0 | N37: =ROUND(E37*I37,2) -> 0 | O37: =ROUND(E37*J37,2) -> 0 | P37: =ROUND(SUM(M37:O37),2) -> 0
A38: 11 | B38: Lc | C38: Transporta izdevumi | D38: obj. | E38: 1 | F38: 0 | G38: 0 | H38: =ROUND(F38*G38,2) -> 0 | I38: 0 | J38: 0 | K38: =ROUND(SUM(H38:J38),2) -> 0 | L38: =ROUND(E38*F38,2) -> 0 | M38: =ROUND(E38*H38,2) -> 0 | N38: =ROUND(E38*I38,2) -> 0 | O38: =ROUND(E38*J38,2) -> 0 | P38: =ROUND(SUM(M38:O38),2) -> 0
K39: Tiešās izmaksas kopā, t. sk. darba devēja sociālais nodoklis (24.09%) | L39: =SUM(L13:L38) -> 0.3 | M39: =SUM(M13:M38) -> 0 | N39: =SUM(N13:N38) -> 0 | O39: =SUM(O13:O38) -> 0 | P39: =SUM(P13:P38) -> 0
O40: Virsizdevumi (0 %): | P40: =ROUND(P39*0.08,2) -> 0
O41: t.sk. darba aizsardzībai: | P41: =ROUND(P40*0.1,2) -> 0
O42: Peļņa (0%): | P42: =ROUND(P39*0.05,2) -> 0
O43: Pavisam kopā bez PVN 21%: | P43: =P42+P40+P39 -> 0
O44: PVN 21%: | P44: =ROUND(P43*0.21,2) -> 0
O45: Kopējās izmaksas ar PVN 21%: | P45: =P43+P44 -> 0

Sheet Istaba 32
A1: Lokālā tāme Nr. 1
A2: Istabas Nr.32 remonts
A4: Objekta nosaukums: Istabas Nr. 32 remonts
A5: Būves nosaukums: Sociālā dzīvojamā māja Indrānu ielā 14, Ogrē
A6: Objekta adrese: Indrānui iela 14, Ogre, Ogres novads. LV-5001 | M6: Tāmes izmaksas | O6: =P43 -> 0 | P6: euro
A7: Pasūtījuma Nr.
A8: Tāme sastādīta 2026. gada tirgus cenās. | M8: Tāme sastādīta 2026.gada
M9: I
A10: Nr.p.k. | B10: Kods | C10: Būvdarbu nosaukums | D10: Mērvienība | E10: Daudzums | F10: Vienības izmaksas | L10: Kopā uz visu apjomu
F11: laika norma (c/h) | G11: darba samaksas likme (euro/h) | H11: darba alga | I11: būvizstrā dājumi | J11: mehānismi | K11: kopā | L11: darbietil pība (c/h) | M11: darba alga | N11: būvizstrā dājumi | O11: mehānismi | P11: summa
C14: Demontāžas darbi
A16: 1 | B16: Lc | C16: Ārdurvju demontāža ieskaitot aplodas un kārbas | D16: gab. | E16: 1 | F16: 0 | G16: 0 | H16: =ROUND(F16*G16,2) -> 0 | I16: 0 | J16: 0 | K16: =ROUND(SUM(H16:J16),2) -> 0 | L16: =ROUND(E16*F16,2) -> 0 | M16: =ROUND(E16*H16,2) -> 0 | N16: =ROUND(E16*I16,2) -> 0 | O16: =ROUND(E16*J16,2) -> 0 | P16: =ROUND(SUM(M16:O16),2) -> 0
A17: 2 | B17: Lc | C17: Grīdas linoleja noņemšana | D17: m2 | E17: 24.2 | F17: 0 | G17: 0 | H17: =ROUND(F17*G17,2) -> 0 | I17: 0 | J17: 0 | K17: =ROUND(SUM(H17:J17),2) -> 0 | L17: =ROUND(E17*F17,2) -> 0 | M17: =ROUND(E17*H17,2) -> 0 | N17: =ROUND(E17*I17,2) -> 0 | O17: =ROUND(E17*J17,2) -> 0 | P17: =ROUND(SUM(M17:O17),2) -> 0
A18: 3 | B18: Lc | C18: Demontēt grīdlīstes | D18: m | E18: 27.06 | F18: 0 | G18: 0 | H18: =ROUND(F18*G18,2) -> 0 | I18: 0 | J18: 0 | K18: =ROUND(SUM(H18:J18),2) -> 0 | L18: =ROUND(E18*F18,2) -> 0 | M18: =ROUND(E18*H18,2) -> 0 | N18: =ROUND(E18*I18,2) -> 0 | O18: =ROUND(E18*J18,2) -> 0 | P18: =ROUND(SUM(M18:O18),2) -> 0
C20: Grīdas
A22: 4 | B22: Lc | C22: Lamināta (31.klase) ieskaitot apakšklāju ieklāšana | D22: m2 | E22: 24.2 | F22: 0 | G22: 0 | H22: =ROUND(F22*G22,2) -> 0 | I22: 0 | J22: 0 | K22: =ROUND(SUM(H22:J22),2) -> 0 | L22: =ROUND(E22*F22,2) -> 0 | M22: =ROUND(E22*H22,2) -> 0 | N22: =ROUND(E22*I22,2) -> 0 | O22: =ROUND(E22*J22,2) -> 0 | P22: =ROUND(SUM(M22:O22),2) -> 0
A23: 5 | B23: Lc | C23: Montēt grīdlīstes | D23: m | E23: 27.06 | F23: 0 | G23: 0 | H23: =ROUND(F23*G23,2) -> 0 | I23: 0 | J23: 0 | K23: =ROUND(SUM(H23:J23),2) -> 0 | L23: =ROUND(E23*F23,2) -> 0 | M23: =ROUND(E23*H23,2) -> 0 | N23: =ROUND(E23*I23,2) -> 0 | O23: =ROUND(E23*J23,2) -> 0 | P23: =ROUND(SUM(M23:O23),2) -> 0
A24: 6 | B24: Lc | C24: Tualetes grīdas flīžu sagatavošana krāsošanai, krāsošana ar Fontefloor EP 100 vai analogu | D24: m2 | E24: 2.4 | F24: 0 | G24: 0 | H24: =ROUND(F24*G24,2) -> 0 | I24: 0 | J24: 0 | K24: =ROUND(SUM(H24:J24),2) -> 0 | L24: =ROUND(E24*F24,2) -> 0 | M24: =ROUND(E24*H24,2) -> 0 | N24: =ROUND(E24*I24,2) -> 0 | O24: =ROUND(E24*J24,2) -> 0 | P24: =ROUND(SUM(M24:O24),2) -> 0
C26: Sienas
A28: 7 | B28: Lc | C28: Ārdurvju ailas pielāgošana standarta durvju augstumam, apdare | D28: gab. | E28: 1 | F28: 0 | G28: 0 | H28: =ROUND(F28*G28,2) -> 0 | I28: 0 | J28: 0 | K28: =ROUND(SUM(H28:J28),2) -> 0 | L28: =ROUND(E28*F28,2) -> 0 | M28: =ROUND(E28*H28,2) -> 0 | N28: =ROUND(E28*I28,2) -> 0 | O28: =ROUND(E28*J28,2) -> 0 | P28: =ROUND(SUM(M28:O28),2) -> 0
A29: 8 | B29: Lc | C29: Dzīvokļa ārdurvju uzstādīšana ieskaitot kārbu, ēņģes slēdzeni aplodas | D29: gab. | E29: 1 | F29: 0 | G29: 0 | H29: =ROUND(F29*G29,2) -> 0 | I29: 0 | J29: 0 | K29: =ROUND(SUM(H29:J29),2) -> 0 | L29: =ROUND(E29*F29,2) -> 0 | M29: =ROUND(E29*H29,2) -> 0 | N29: =ROUND(E29*I29,2) -> 0 | O29: =ROUND(E29*J29,2) -> 0 | P29: =ROUND(SUM(M29:O29),2) -> 0
A30: 9 | B30: Lc | C30: Tualetes sienas flīžu sagatavošana krāsošanai, krāsošana ar Luja Ceramic Tiles vai analogu | D30: m2 | E30: 13.05 | F30: 0 | G30: 0 | H30: =ROUND(F30*G30,2) -> 0 | I30: 0 | J30: 0 | K30: =ROUND(SUM(H30:J30),2) -> 0 | L30: =ROUND(E30*F30,2) -> 0 | M30: =ROUND(E30*H30,2) -> 0 | N30: =ROUND(E30*I30,2) -> 0 | O30: =ROUND(E30*J30,2) -> 0 | P30: =ROUND(SUM(M30:O30),2) -> 0
C32: Dažādi darbi
A34: 10 | B34: Lc | C34: Būvgružu savākšana un utilizācija | D34: m3 | E34: 0.5 | F34: 0 | G34: 0 | H34: =ROUND(F34*G34,2) -> 0 | I34: 0 | J34: 0 | K34: =ROUND(SUM(H34:J34),2) -> 0 | L34: 0.3 | M34: =ROUND(E34*H34,2) -> 0 | N34: =ROUND(E34*I34,2) -> 0 | O34: =ROUND(E34*J34,2) -> 0 | P34: =ROUND(SUM(M34:O34),2) -> 0
A35: 11 | B35: Lc | C35: Objekta tīrīšana un sakopšana pēc būvdarbu pabeigšanas | D35: obj | E35: 1 | F35: 0 | G35: 0 | H35: =ROUND(F35*G35,2) -> 0 | I35: 0 | J35: 0 | K35: =ROUND(SUM(H35:J35),2) -> 0 | L35: =ROUND(E35*F35,2) -> 0 | M35: =ROUND(E35*H35,2) -> 0 | N35: =ROUND(E35*I35,2) -> 0 | O35: =ROUND(E35*J35,2) -> 0 | P35: =ROUND(SUM(M35:O35),2) -> 0
A36: 12 | B36: Lc | C36: Transporta izdevumi | D36: obj. | E36: 1 | F36: 0 | G36: 0 | H36: =ROUND(F36*G36,2) -> 0 | I36: 0 | J36: 0 | K36: =ROUND(SUM(H36:J36),2) -> 0 | L36: =ROUND(E36*F36,2) -> 0 | M36: =ROUND(E36*H36,2) -> 0 | N36: =ROUND(E36*I36,2) -> 0 | O36: =ROUND(E36*J36,2) -> 0 | P36: =ROUND(SUM(M36:O36),2) -> 0
K37: Tiešās izmaksas kopā, t. sk. darba devēja sociālais nodoklis (24.09%) | L37: =SUM(L13:L36) -> 0.3 | M37: =SUM(M13:M36) -> 0 | N37: =SUM(N13:N36) -> 0 | O37: =SUM(O13:O36) -> 0 | P37: =SUM(P13:P36) -> 0
O38: Virsizdevumi (0 %): | P38: =ROUND(P37*0.08,2) -> 0
O39: t.sk. darba aizsardzībai: | P39: =ROUND(P38*0.1,2) -> 0
O40: Peļņa (0%): | P40: =ROUND(P37*0.05,2) -> 0
O41: Pavisam kopā bez PVN 21%: | P41: =P40+P38+P37 -> 0
O42: PVN 21%: | P42: =ROUND(P41*0.21,2) -> 0
O43: Kopējās izmaksas ar PVN 21%: | P43: =P41+P42 -> 0

Sheet Istaba 33
A1: Lokālā tāme Nr. 1
A2: Istabas Nr.33 remonts
A4: Objekta nosaukums: Istabas Nr. 33 remonts
A5: Būves nosaukums: Sociālā dzīvojamā māja Indrānu ielā 14, Ogrē
A6: Objekta adrese: Indrānui iela 14, Ogre, Ogres novads. LV-5001 | M6: Tāmes izmaksas | O6: =P62 -> 0 | P6: euro
A7: Pasūtījuma Nr.
A8: Tāme sastādīta 2026. gada tirgus cenās. | M8: Tāme sastādīta 2026.gada
M9: I
A10: Nr.p.k. | B10: Kods | C10: Būvdarbu nosaukums | D10: Mērvienība | E10: Daudzums | F10: Vienības izmaksas | L10: Kopā uz visu apjomu
F11: laika norma (c/h) | G11: darba samaksas likme (euro/h) | H11: darba alga | I11: būvizstrā dājumi | J11: mehānismi | K11: kopā | L11: darbietil pība (c/h) | M11: darba alga | N11: būvizstrā dājumi | O11: mehānismi | P11: summa
C14: Demontāžas darbi
A16: 1 | B16: Lc | C16: Durvju demontāža ieskaitot aplodas un kārbas | D16: gab. | E16: 5 | F16: 0 | G16: 0 | H16: =ROUND(F16*G16,2) -> 0 | I16: 0 | J16: 0 | K16: =ROUND(SUM(H16:J16),2) -> 0 | L16: =ROUND(E16*F16,2) -> 0 | M16: =ROUND(E16*H16,2) -> 0 | N16: =ROUND(E16*I16,2) -> 0 | O16: =ROUND(E16*J16,2) -> 0 | P16: =ROUND(SUM(M16:O16),2) -> 0
A17: =A16+1 -> 2 | B17: Lc | C17: Santehnikas demontāža (izlietne, pods) | D17: obj. | E17: 1 | F17: 0 | G17: 0 | H17: =ROUND(F17*G17,2) -> 0 | I17: 0 | J17: 0 | K17: =ROUND(SUM(H17:J17),2) -> 0 | L17: =ROUND(E17*F17,2) -> 0 | M17: =ROUND(E17*H17,2) -> 0 | N17: =ROUND(E17*I17,2) -> 0 | O17: =ROUND(E17*J17,2) -> 0 | P17: =ROUND(SUM(M17:O17),2) -> 0
A18: =A17+1 -> 3 | B18: Lc | C18: Grīdas linoleja noņemšana | D18: m2 | E18: 25.6 | F18: 0 | G18: 0 | H18: =ROUND(F18*G18,2) -> 0 | I18: 0 | J18: 0 | K18: =ROUND(SUM(H18:J18),2) -> 0 | L18: =ROUND(E18*F18,2) -> 0 | M18: =ROUND(E18*H18,2) -> 0 | N18: =ROUND(E18*I18,2) -> 0 | O18: =ROUND(E18*J18,2) -> 0 | P18: =ROUND(SUM(M18:O18),2) -> 0
A19: 4 | B19: Lc | C19: Sienu tapešu noņemšana istabās, koridorā | D19: m2 | E19: 75.1 | F19: 0 | G19: 0 | H19: =ROUND(F19*G19,2) -> 0 | I19: 0 | J19: 0 | K19: =ROUND(SUM(H19:J19),2) -> 0 | L19: =ROUND(E19*F19,2) -> 0 | M19: =ROUND(E19*H19,2) -> 0 | N19: =ROUND(E19*I19,2) -> 0 | O19: =ROUND(E19*J19,2) -> 0 | P19: =ROUND(SUM(M19:O19),2) -> 0
A20: 5 | B20: Lc | C20: Radiatora apšuvuma demontāža | D20: gab. | E20: 1 | F20: 0 | G20: 0 | H20: =ROUND(F20*G20,2) -> 0 | I20: 0 | J20: 0 | K20: =ROUND(SUM(H20:J20),2) -> 0 | L20: =ROUND(E20*F20,2) -> 0 | M20: =ROUND(E20*H20,2) -> 0 | N20: =ROUND(E20*I20,2) -> 0 | O20: =ROUND(E20*J20,2) -> 0 | P20: =ROUND(SUM(M20:O20),2) -> 0
A21: 6 | B21: Lc | C21: Demontēt grīdlīstes | D21: m | E21: 21 | F21: 0 | G21: 0 | H21: =ROUND(F21*G21,2) -> 0 | I21: 0 | J21: 0 | K21: =ROUND(SUM(H21:J21),2) -> 0 | L21: =ROUND(E21*F21,2) -> 0 | M21: =ROUND(E21*H21,2) -> 0 | N21: =ROUND(E21*I21,2) -> 0 | O21: =ROUND(E21*J21,2) -> 0 | P21: =ROUND(SUM(M21:O21),2) -> 0
C23: Grīdas
A25: 7 | B25: Lc | C25: Grīdu izlīdzināšana ar OSB plātni 10 mm | D25: m2 | E25: 25.6 | F25: 0 | G25: 0 | H25: =ROUND(F25*G25,2) -> 0 | I25: 0 | J25: 0 | K25: =ROUND(SUM(H25:J25),2) -> 0 | L25: =ROUND(E25*F25,2) -> 0 | M25: =ROUND(E25*H25,2) -> 0 | N25: =ROUND(E25*I25,2) -> 0 | O25: =ROUND(E25*J25,2) -> 0 | P25: =ROUND(SUM(M25:O25),2) -> 0
A26: 8 | B26: Lc | C26: Tualetes grīdas flīžu sagatavošana krāsošanai, krāsošana ar Fontefloor EP 100 vai analogu | D26: m2 | E26: 2.4 | F26: 0 | G26: 0 | H26: =ROUND(F26*G26,2) -> 0 | I26: 0 | J26: 0 | K26: =ROUND(SUM(H26:J26),2) -> 0 | L26: =ROUND(E26*F26,2) -> 0 | M26: =ROUND(E26*H26,2) -> 0 | N26: =ROUND(E26*I26,2) -> 0 | O26: =ROUND(E26*J26,2) -> 0 | P26: =ROUND(SUM(M26:O26),2) -> 0
A27: 9 | B27: Lc | C27: Lamināta (31.klase) ieskaitot apakšklāju ieklāšana | D27: m2 | E27: 25.6 | F27: 0 | G27: 0 | H27: =ROUND(F27*G27,2) -> 0 | I27: 0 | J27: 0 | K27: =ROUND(SUM(H27:J27),2) -> 0 | L27: =ROUND(E27*F27,2) -> 0 | M27: =ROUND(E27*H27,2) -> 0 | N27: =ROUND(E27*I27,2) -> 0 | O27: =ROUND(E27*J27,2) -> 0 | P27: =ROUND(SUM(M27:O27),2) -> 0
A28: 10 | B28: Lc | C28: Montēt grīdlīstes | D28: m | E28: 21 | F28: 0 | G28: 0 | H28: =ROUND(F28*G28,2) -> 0 | I28: 0 | J28: 0 | K28: =ROUND(SUM(H28:J28),2) -> 0 | L28: =ROUND(E28*F28,2) -> 0 | M28: =ROUND(E28*H28,2) -> 0 | N28: =ROUND(E28*I28,2) -> 0 | O28: =ROUND(E28*J28,2) -> 0 | P28: =ROUND(SUM(M28:O28),2) -> 0
C30: Griesti
A32: 11 | B32: Lc | C32: Griestu špaktelēšana, gruntēšana | D32: m2 | E32: 28.1 | F32: 0 | G32: 0 | H32: =ROUND(F32*G32,2) -> 0 | I32: 0 | J32: 0 | K32: =ROUND(SUM(H32:J32),2) -> 0 | L32: =ROUND(E32*F32,2) -> 0 | M32: =ROUND(E32*H32,2) -> 0 | N32: =ROUND(E32*I32,2) -> 0 | O32: =ROUND(E32*J32,2) -> 0 | P32: =ROUND(SUM(M32:O32),2) -> 0
A33: 12 | B33: Lc | C33: Griestu krāsošana 2 kārtas | D33: m2 | E33: 28.1 | F33: 0 | G33: 0 | H33: =ROUND(F33*G33,2) -> 0 | I33: 0 | J33: 0 | K33: =ROUND(SUM(H33:J33),2) -> 0 | L33: =ROUND(E33*F33,2) -> 0 | M33: =ROUND(E33*H33,2) -> 0 | N33: =ROUND(E33*I33,2) -> 0 | O33: =ROUND(E33*J33,2) -> 0 | P33: =ROUND(SUM(M33:O33),2) -> 0
C35: Sienas
A37: 13 | B37: Lc | C37: Tualetes sienas flīžu sagatavošana krāsošanai, krāsošana ar Luja Ceramic Tiles vai analogu | D37: m2 | E37: 13.05 | F37: 0 | G37: 0 | H37: =ROUND(F37*G37,2) -> 0 | I37: 0 | J37: 0 | K37: =ROUND(SUM(H37:J37),2) -> 0 | L37: =ROUND(E37*F37,2) -> 0 | M37: =ROUND(E37*H37,2) -> 0 | N37: =ROUND(E37*I37,2) -> 0 | O37: =ROUND(E37*J37,2) -> 0 | P37: =ROUND(SUM(M37:O37),2) -> 0
A38: 14 | B38: Lc | C38: Ārdurvju ailas pielāgošana standarta durvju augstumam, apdare | D38: gab. | E38: 1 | F38: 0 | G38: 0 | H38: =ROUND(F38*G38,2) -> 0 | I38: 0 | J38: 0 | K38: =ROUND(SUM(H38:J38),2) -> 0 | L38: =ROUND(E38*F38,2) -> 0 | M38: =ROUND(E38*H38,2) -> 0 | N38: =ROUND(E38*I38,2) -> 0 | O38: =ROUND(E38*J38,2) -> 0 | P38: =ROUND(SUM(M38:O38),2) -> 0
A39: 15 | B39: Lc | C39: Dzīvokļa ārdurvju uzstādīšana ieskaitot kārbu, ēņģes slēdzeni aplodas | D39: gab. | E39: 1 | F39: 0 | G39: 0 | H39: =ROUND(F39*G39,2) -> 0 | I39: 0 | J39: 0 | K39: =ROUND(SUM(H39:J39),2) -> 0 | L39: =ROUND(E39*F39,2) -> 0 | M39: =ROUND(E39*H39,2) -> 0 | N39: =ROUND(E39*I39,2) -> 0 | O39: =ROUND(E39*J39,2) -> 0 | P39: =ROUND(SUM(M39:O39),2) -> 0
A40: 16 | B40: Lc | C40: Dzīvokļa iekšdurvju uzstādīšana ieskaitot kārbu, ēņģes slēdzeni aplodas | D40: gab. | E40: 3 | F40: 0 | G40: 0 | H40: =ROUND(F40*G40,2) -> 0 | I40: 0 | J40: 0 | K40: =ROUND(SUM(H40:J40),2) -> 0 | L40: =ROUND(E40*F40,2) -> 0 | M40: =ROUND(E40*H40,2) -> 0 | N40: =ROUND(E40*I40,2) -> 0 | O40: =ROUND(E40*J40,2) -> 0 | P40: =ROUND(SUM(M40:O40),2) -> 0
A41: 17 | B41: Lc | C41: Sienu špaktelēšana, gruntēšana | D41: m2 | E41: 75.1 | F41: 0 | G41: 0 | H41: =ROUND(F41*G41,2) -> 0 | I41: 0 | J41: 0 | K41: =ROUND(SUM(H41:J41),2) -> 0 | L41: =ROUND(E41*F41,2) -> 0 | M41: =ROUND(E41*H41,2) -> 0 | N41: =ROUND(E41*I41,2) -> 0 | O41: =ROUND(E41*J41,2) -> 0 | P41: =ROUND(SUM(M41:O41),2) -> 0
A42: 18 | B42: Lc | C42: Sienu krāsošana 2 kārtas | D42: m2 | E42: 75.13 | F42: 0 | G42: 0 | H42: =ROUND(F42*G42,2) -> 0 | I42: 0 | J42: 0 | K42: =ROUND(SUM(H42:J42),2) -> 0 | L42: =ROUND(E42*F42,2) -> 0 | M42: =ROUND(E42*H42,2) -> 0 | N42: =ROUND(E42*I42,2) -> 0 | O42: =ROUND(E42*J42,2) -> 0 | P42: =ROUND(SUM(M42:O42),2) -> 0
A43: 19 | B43: Lc | C43: Sienu sanmezglā virs flīzēm špaktelēšana, krāsošana 2x | D43: m2 | E43: 9 | F43: 0 | G43: 0 | H43: =ROUND(F43*G43,2) -> 0 | I43: 0 | J43: 0 | K43: =ROUND(SUM(H43:J43),2) -> 0 | L43: =ROUND(E43*F43,2) -> 0 | M43: =ROUND(E43*H43,2) -> 0 | N43: =ROUND(E43*I43,2) -> 0 | O43: =ROUND(E43*J43,2) -> 0 | P43: =ROUND(SUM(M43:O43),2) -> 0
C45: Santehniskie darbi
A47: 20 | C47: Izlietnes 500 mm uzstādīšana ieskaitot maisītāju, pievadus, veidgabalus | D47: gab | E47: 1 | F47: 0 | G47: 0 | H47: =ROUND(F47*G47,2) -> 0 | I47: 0 | J47: 0 | K47: =ROUND(SUM(H47:J47),2) -> 0 | L47: =ROUND(E47*F47,2) -> 0 | M47: =ROUND(E47*H47,2) -> 0 | N47: =ROUND(E47*I47,2) -> 0 | O47: =ROUND(E47*J47,2) -> 0 | P47: =ROUND(SUM(M47:O47),2) -> 0
A48: 21 | C48: Tualetes poda uzstādīšana ieskaitot pievadus, veidgabalus | D48: gab. | E48: 1 | F48: 0 | G48: 0 | H48: =ROUND(F48*G48,2) -> 0 | I48: 0 | J48: 0 | K48: =ROUND(SUM(H48:J48),2) -> 0 | L48: =ROUND(E48*F48,2) -> 0 | M48: =ROUND(E48*H48,2) -> 0 | N48: =ROUND(E48*I48,2) -> 0 | O48: =ROUND(E48*J48,2) -> 0 | P48: =ROUND(SUM(M48:O48),2) -> 0
C50: Dažādi darbi
A52: 22 | B52: Lc | C52: Apkures radiatoru demontāžā, atpakaļmontāža | D52: obj. | E52: 1 | F52: 0 | G52: 0 | H52: =ROUND(F52*G52,2) -> 0 | I52: 0 | J52: 0 | K52: =ROUND(SUM(H52:J52),2) -> 0 | L52: 0.3 | M52: =ROUND(E52*H52,2) -> 0 | N52: =ROUND(E52*I52,2) -> 0 | O52: =ROUND(E52*J52,2) -> 0 | P52: =ROUND(SUM(M52:O52),2) -> 0
A53: 24 | B53: Lc | C53: Būvgružu savākšana un utilizācija | D53: m3 | E53: 1 | F53: 0 | G53: 0 | H53: =ROUND(F53*G53,2) -> 0 | I53: 0 | J53: 0 | K53: =ROUND(SUM(H53:J53),2) -> 0 | L53: 0.3 | M53: =ROUND(E53*H53,2) -> 0 | N53: =ROUND(E53*I53,2) -> 0 | O53: =ROUND(E53*J53,2) -> 0 | P53: =ROUND(SUM(M53:O53),2) -> 0
A54: 25 | B54: Lc | C54: Objekta tīrīšana un sakopšana pēc būvdarbu pabeigšanas | D54: obj | E54: 1 | F54: 0 | G54: 0 | H54: =ROUND(F54*G54,2) -> 0 | I54: 0 | J54: 0 | K54: =ROUND(SUM(H54:J54),2) -> 0 | L54: =ROUND(E54*F54,2) -> 0 | M54: =ROUND(E54*H54,2) -> 0 | N54: =ROUND(E54*I54,2) -> 0 | O54: =ROUND(E54*J54,2) -> 0 | P54: =ROUND(SUM(M54:O54),2) -> 0
...

Sheet Istaba 45
A1: Lokālā tāme Nr. 1
A2: Istabas Nr. 45 remonts
A4: Objekta nosaukums: Istabas Nr. 45 remonts
A5: Būves nosaukums: Sociālā dzīvojamā māja Indrānu ielā 14, Ogrē
A6: Objekta adrese: Indrānui iela 14, Ogre, Ogres novads. LV-5001 | M6: Tāmes izmaksas | O6: =P51 -> 0 | P6: euro
A7: Pasūtījuma Nr.
A8: Tāme sastādīta 2026. gada tirgus cenās. | M8: Tāme sastādīta 2026.gada
M9: I
A10: Nr.p.k. | B10: Kods | C10: Būvdarbu nosaukums | D10: Mērvienība | E10: Daudzums | F10: Vienības izmaksas | L10: Kopā uz visu apjomu
F11: laika norma (c/h) | G11: darba samaksas likme (euro/h) | H11: darba alga | I11: būvizstrā dājumi | J11: mehānismi | K11: kopā | L11: darbietil pība (c/h) | M11: darba alga | N11: būvizstrā dājumi | O11: mehānismi | P11: summa
C14: Demontāžas darbi
A16: 1 | B16: Lc | C16: Santehnikas demontāža (izlietne, pods) | D16: obj. | E16: 1 | F16: 0 | G16: 0 | H16: =ROUND(F16*G16,2) -> 0 | I16: 0 | J16: 0 | K16: =ROUND(SUM(H16:J16),2) -> 0 | L16: =ROUND(E16*F16,2) -> 0 | M16: =ROUND(E16*H16,2) -> 0 | N16: =ROUND(E16*I16,2) -> 0 | O16: =ROUND(E16*J16,2) -> 0 | P16: =ROUND(SUM(M16:O16),2) -> 0
A17: 2 | B17: Lc | C17: Sienu tapešu noņemšana istabās, koridorā | D17: m2 | E17: 72 | F17: 0 | G17: 0 | H17: =ROUND(F17*G17,2) -> 0 | I17: 0 | J17: 0 | K17: =ROUND(SUM(H17:J17),2) -> 0 | L17: =ROUND(E17*F17,2) -> 0 | M17: =ROUND(E17*H17,2) -> 0 | N17: =ROUND(E17*I17,2) -> 0 | O17: =ROUND(E17*J17,2) -> 0 | P17: =ROUND(SUM(M17:O17),2) -> 0
A18: 3 | B18: Lc | C18: Demontēt grīdlīstes | D18: m | E18: 26.5 | F18: 0 | G18: 0 | H18: =ROUND(F18*G18,2) -> 0 | I18: 0 | J18: 0 | K18: =ROUND(SUM(H18:J18),2) -> 0 | L18: =ROUND(E18*F18,2) -> 0 | M18: =ROUND(E18*H18,2) -> 0 | N18: =ROUND(E18*I18,2) -> 0 | O18: =ROUND(E18*J18,2) -> 0 | P18: =ROUND(SUM(M18:O18),2) -> 0
C20: Grīdas
A22: 4 | B22: Lc | C22: Grīdu nosegšana sienu un griestu remontam | D22: m2 | E22: 23.4 | F22: 0 | G22: 0 | H22: =ROUND(F22*G22,2) -> 0 | I22: 0 | J22: 0 | K22: =ROUND(SUM(H22:J22),2) -> 0 | L22: =ROUND(E22*F22,2) -> 0 | M22: =ROUND(E22*H22,2) -> 0 | N22: =ROUND(E22*I22,2) -> 0 | O22: =ROUND(E22*J22,2) -> 0 | P22: =ROUND(SUM(M22:O22),2) -> 0
