Workbook

Sheet kopsav_1
A1: Būvdarbu kopsavilkums
A2: Ēkas energoefektivitātes paaugstināšana
A3: (būvdarbu veids vai konstruktīvā elementa nosaukums)
A4: Objekta nosaukums: "Ēkas energoefektivitātes paaugstināšana objektam Kārklu ielā 24, Daugavpilī, kadastra apzīm. 05000091501001”
A5: Būves nosaukums: Biroju ēka
A6: Objekta adrese: Kārklu ielā 24, Daugavpils
A7: Pasūtījuma Nr. 23KARKLU
A8: Nr. p.k. | B8: Saraksta Nr. | C8: Būvdarbu veids vai konstruktīvā elementa nosaukums
C10: I. Vispārējie celtniecības darbi
A11: 1 | B11: 1-1 | C11: Demontāžas darbi.
A12: 2 | B12: 1-2 | C12: Buvlaukuma sagatavošanas darbi.
A13: 3 | B13: 1-3 | C13: Sienas, starpsienas.
A14: 4 | B14: 1-4 | C14: Betona un metāla konstrukciju montāža.
A15: 5 | B15: 1-5 | C15: Aiļu aizpildījumu elementi.
A16: 6 | B16: 1-6 | C16: Jumts.
A17: 7 | B17: 1-7 | C17: Iekšējie apdares darbi.
A18: 8 | B18: 1-8 | C18: Ārējie apdares darbi.
A19: 9 | B19: 1-9 | C19: Labiekārtošanas darbi
C20: II. Iekšējie specializētie darbi
A21: 10 | B21: 2-1 | C21: Apkure.
A22: 11 | B22: 2-2 | C22: Ventilācija.
A23: 12 | B23: 2-3 | C23: Iekšējie elektrotehniskie darbi.
A24: 13 | B24: 2-4 | C24: Vadības un automatizācijas sistēmas
C25: III. Ārējie inženiertīkli.
A26: 14 | B26: 3-1 | C26: Arējie elektrotehniskie tīkli.
A28: Sastādīja: ___________________ /J.Šeršņova/
C29: (paraksts un tā atšifrējums, datums)
A30: Apjomi sastādīti 2024. gada 22.martā
A31: Pārbaudīja: ___________________ /B.Maike/
C32: (paraksts un tā atšifrējums, datums)
A33: Sertifikāta Nr.1-00649

Sheet 1-1dem
A1: Būvdarbu apjomu saraksts Nr.1-1.
A2: Demontāžas darbi.
A3: (būvdarbu veids vai konstruktīvā elementa nosaukums)
A4: Objekta nosaukums: "Ēkas energoefektivitātes paaugstināšana objektam Kārklu ielā 24, Daugavpilī, kadastra apzīm. 05000091501001”
A5: Būves nosaukums: Biroju ēka
A6: Objekta adrese: Kārklu ielā 24, Daugavpils
A7: Pasūtījuma Nr. 23KARKLU
A8: Apjomi sastādīti 2024. gada, pamatojoties uz AR daļas rasējumiem
A9: Nr. p.k. | B9: Būvdarbu nosaukums | C9: Mērvienība | D9: Daudzums
A10: 1 | B10: 2 | C10: 3 | D10: 4
B11: Demontāžas darbi
B12: 1. Stāva telpu konstrukciju un elementu demontāža skat. AR-02
A13: =A12+1 -> 1 | B13: Logu PVC rāmjos demontāža (1180*1500mm, 1180*1500mm) | C13: gb | D13: 20
A14: =A13+1 -> 2 | B14: Dažādu izmēru durvis: blīvas, vienviru un divviru. Koka, metāla un plātņu materiāla demontāža | C14: gb | D14: 7
A15: =A14+1 -> 3 | B15: Profiletu metāla lokšņu demontāža | C15: m2 | D15: 72
A16: =A15+1 -> 4 | B16: PVC līstu sienu apšuvumu demontāža | C16: m2 | D16: 126
A17: =A16+1 -> 5 | B17: Koka līstu sienu apšuvumu demontāža | C17: m2 | D17: 7
A18: =A17+1 -> 6 | B18: Moduļveida piekargriestu 600*600 kopā ar vadulām, piekarēm, papildelementiem, gaismekļiem un citām instalācijām demontāža | C18: m2 | D18: 270
A19: =A18+1 -> 7 | B19: Griestu metāla redeļu apšuvumu demontāžā | C19: m2 | D19: 13.6
A20: =A19+1 -> 8 | B20: Ārējo kondicionēšanas bloku demontāža un vēlāka uzstādīšana | C20: gb | D20: 7
B21: 2. Stāva telpu konstrukciju un elementu demontāža skat. AR-03
A22: =A20+1 -> 9 | B22: Logu PVC rāmjos demontāža (1180*1500mm, 1180*1500mm) | C22: gb | D22: 22
A23: =A22+1 -> 10 | B23: Dažādu izmēru durvis: blīvas, vienviru un divviru. Koka, metāla un plātņu materiāla demontāža | C23: gb | D23: 1
A24: =A23+1 -> 11 | B24: Profiletu metāla lokšņu demontāža | C24: m2 | D24: 105
A25: =A24+1 -> 12 | B25: Moduļveida piekargriestu 600*600 kopā ar vadulām, piekarēm, papildelementiem, gaismekļiem un citām instalācijām demontāža | C25: m2 | D25: 223
A26: =A25+1 -> 13 | B26: Ārējo kondicionēšanas bloku demontāža un vēlāka uzstādīšana | C26: gb | D26: 5
A27: =A26+1 -> 14 | B27: Ārējo metāla kāpņu demontāža kopā ar laukumiem, margām un fasades margām | C27: gb | D27: 1
A28: =A27+1 -> 15 | B28: PVC līstu sienu apšuvumu demontāža | C28: m2 | D28: 50
B29: Jumta konstrukciju un elementu demontāža skat. AR-04
A30: =A28+1 -> 16 | B30: Parapeta cinkotā skārda nosegprofila, kopā ar stiprinājumiem un apakškonstrukcijām demontāža | C30: m2 | D30: 30
A31: =A30+1 -> 17 | B31: Bitumenizētas ruļļveida jumta seguma kopā ar apakšējo konstrukciju līdz pārseguma paneļiem ap 300mm demontāža | C31: m2 | D31: 405.2
A32: =A31+1 -> 18 | B32: Jumta aeratora demontāža | C32: gb | D32: 4
A33: =A32+1 -> 19 | B33: Lietus ūdens notekcaurules demontāža | C33: m | D33: 36
A34: =A33+1 -> 20 | B34: Lietus ūdens noteces demontāža | C34: m | D34: 63
A35: =A34+1 -> 21 | B35: Esošo metāla un polikarbonāta jumniņa demontāža | C35: m2 | D35: 17.06
A36: =A35+1 -> 22 | B36: Ventilācijas izvadu ar metāla jumtiņiem demontāža | C36: gb | D36: 11
A37: =A36+1 -> 23 | B37: Būvgrūžu savākšana, iekraušana automašīnā un izvešana uz izgāztuvi, utilizācija | C37: m³ | D37: 627
A39: Sastādīja: ___________________ /J.Šeršņova/
B40: (paraksts un tā atšifrējums, datums)
A41: =kopsav_1!A30 -> Apjomi sastādīti 2024. gada 22.martā
...

Sheet 1-2DOP
A1: Būvdarbu apjomu saraksts Nr.1-2.
A2: Buvlaukuma sagatavošanas darbi.
A3: (būvdarbu veids vai konstruktīvā elementa nosaukums)
A4: Objekta nosaukums: "Ēkas energoefektivitātes paaugstināšana objektam Kārklu ielā 24, Daugavpilī, kadastra apzīm. 05000091501001”
A5: Būves nosaukums: Biroju ēka
A6: Objekta adrese: Kārklu ielā 24, Daugavpils
A7: Pasūtījuma Nr. 23KARKLU
A8: Apjomi sastādīti 2024. gada, pamatojoties uz DOP daļas rasējumiem
A9: Nr. p.k. | B9: Būvdarbu nosaukums | C9: Mērvienība | D9: Daudzums
A10: 1 | B10: 2 | C10: 3 | D10: 4
B11: Būvlaukuma sagatavošanas darbi.
A12: 1 | B12: Būvdarbu vadītāju un būvuzraugu telpa. Sapulces telpa montāža, demontāža un noma | C12: gb | D12: 1
A13: =A12+1 -> 2 | B13: Sadzīves telpa strādniekiem Pirmās palīdzības sniegšanas vieta montāža, demontāža un noma | C13: gb | D13: 3
A14: =A13+1 -> 3 | B14: Utilizējamo būvgružu konteiners | C14: gb | D14: 1
A15: =A14+1 -> 4 | B15: Iebraucamie-izbraucamie vārti | C15: gb | D15: 1
A16: =A15+1 -> 5 | B16: Pārvietojamās WC, mobilās Bio-tualetes, standarta tipa uzstādīšana | C16: gb | D16: 2
A17: =A16+1 -> 6 | B17: Slēgta tipa materiālu novietnes konteiners | C17: gb | D17: 1
A18: =A17+1 -> 7 | B18: Apsardzes telpa | C18: gb. | D18: 1
A19: =A18+1 -> 8 | B19: Būvlaukuma nožogojums h=2.0m , L=80.5m | C19: m | D19: 80.5
A20: =A19+1 -> 9 | B20: Būvtāfele ne mazāk kā 1,2x1,2m | C20: gb | D20: 1
A21: =A20+1 -> 10 | B21: Materiālu nokrautne | C21: m² | D21: 14.2
A22: =A21+1 -> 11 | B22: Pagaidu ūdens pieslēgums - pie esoša ūdensvada | C22: vieta | D22: 1
A23: =A22+1 -> 12 | B23: Ūdensapgādes un kanalizācijas izmaksas | C23: mēn | D23: 6
A24: =A23+1 -> 13 | B24: Teritorijas apgaismojuma prožektoru uzstādīšana | C24: gb. | D24: 2
... A29: =A28+1 -> 18 | B29: Pagaidu seguma ierīkošana | C29: m2 | D29: 111
B30: Grants maisījums 0/32 100mm | C30: m2 | D30: =D29 -> 111
B31: Ģeotekstils | C31: m2 | D31: =D29*1.1 -> 122.1
A32: =A29+1 -> 19 | B32: Ugunsdzēsības stends un kaste ar smiltīm | C32: gb | D32: 1
A33: =A32+1 -> 20 | B33: Pagaidu elektrības pieslēguma ierīkošana | C33: kpl. | D33: 1
A34: =A33+1 -> 21 | B34: Pacēlājs- Būvmateriālu un darbinieku, ventilācijas sistēmas elementu(AVK) pacelšana nogādāšanai darba vietā | C34: gb | D34: 1
A35: =A34+1 -> 22 | B35: Sastatnes norobežotas ar būvniecības plēvi (PERI vai ekvivalents) | C35: m2 | D35: 643.21
B36: Piezīme:
B37: Visus projektā minētos materiālus iespējams aizstāt ar citu ražotāju ekvivalentiem būvizstrādājumiem, iepriekš saskaņojot ar projekta autoru.
A39: Sastādīja: ___________________ /J.Šeršņova/
B40: (paraksts un tā atšifrējums, datums)
A41: =kopsav_1!A30 -> Apjomi sastādīti 2024. gada 22.martā
A42: Pārbaudīja: ___________________ /B.Maike/
B43: (paraksts un tā atšifrējums, datums)
A44: Sertifikāta Nr.1-00649

Sheet 1-3Sien
A1: Būvdarbu apjomu saraksts Nr.1-3.
A2: Sienas, starpsienas.
A3: (būvdarbu veids vai konstruktīvā elementa nosaukums)
A4: Objekta nosaukums: "Ēkas energoefektivitātes paaugstināšana objektam Kārklu ielā 24, Daugavpilī, kadastra apzīm. 05000091501001”
A5: Būves nosaukums: Biroju ēka
A6: Objekta adrese: Kārklu ielā 24, Daugavpils
A7: Pasūtījuma Nr. 23KARKLU
A8: Apjomi sastādīti 2024. gada, pamatojoties uz AR daļas rasējumiem
A9: Nr. p.k. | B9: Būvdarbu nosaukums | C9: Mērvienība | D9: Daudzums
A10: 1 | B10: 2 | C10: 3 | D10: 4
B11: Sienu un starpsienu konstrukcijas skat. AR-15
A12: 1 | B12: Karkasa šahtsiena ar metāla statņiem SS-1
A13: 1 | B13: SS-1 Sienu konstrukcijas b=75mm no divām kārtām mitrumizturīga reģipša KNAUF GKBI (zaļa) 2*12.5mm uz metāla karkasa Dubults KNAUF CW 50 profils (Ieskaitot visus nepieciešamos materiālus un palīgmateriālus, saskaņā ar tehnoloģiju KNAUF W629 vai ekvivalents) | C13: m2 | D13: 183.5
B14: Mitrumizturiga ģipškartona loksne - 2 kārtās KNAUF GKBI (zaļa) 2*12.5mm | C14: m2 | D14: =ROUND(D13*2.24,2) -> 411.04
B15: Dubults KNAUF CW 50 profils | C15: m2 | D15: =ROUND(D13*4.7,2) -> 862.45
B16: Vertikāls logailas apšuvums siltumizolācijas biezuma kompensēšanai SS-2
A17: 2 | B17: SS-2 Sienu konstrukcijas b=50mm no mitrumizturīga reģipša KNAUF GKBI (zaļa) 12.5mm uz metāla karkasa KNAUF CW 50 profils (Ieskaitot visus nepieciešamos materiālus un palīgmateriālus, saskaņā ar tehnoloģiju KNAUF W629 vai ekvivalents) | C17: m2 | D17: 77.6
B18: Mitrumizturiga ģipškartona loksne - KNAUF GKBI (zaļa) 12.5mm | C18: m2 | D18: =ROUND(D17*1.12,2) -> 86.91
B19: KNAUF CW 50 profils | C19: m2 | D19: =ROUND(D17*2.35,2) -> 182.36
A20: 3 | B20: Palīgmateriāli, stiprinājumi | C20: kpl | D20: 1
B21: Piezīme:
B22: Visus projektā minētos materiālus iespējams aizstāt ar citu ražotāju ekvivalentiem būvizstrādājumiem, iepriekš saskaņojot ar projekta autoru.
A24: Sastādīja: ___________________ /J.Šeršņova/
B25: (paraksts un tā atšifrējums, datums)
A26: =kopsav_1!A30 -> Apjomi sastādīti 2024. gada 22.martā
A27: Pārbaudīja: ___________________ /B.Maike/
B28: (paraksts un tā atšifrējums, datums)
A29: Sertifikāta Nr.1-00649

Sheet 1-4BK
A1: Būvdarbu apjomu saraksts Nr.1-4.
A2: Betona un metāla konstrukciju montāža.
A3: (būvdarbu veids vai konstruktīvā elementa nosaukums)
A4: Objekta nosaukums: "Ēkas energoefektivitātes paaugstināšana objektam Kārklu ielā 24, Daugavpilī, kadastra apzīm. 05000091501001”
A5: Būves nosaukums: Biroju ēka
A6: Objekta adrese: Kārklu ielā 24, Daugavpils
A7: Pasūtījuma Nr. 23KARKLU
A8: Apjomi sastādīti 2024. gada, pamatojoties uz BK daļas rasējumiem
A9: Nr. p.k. | B9: Būvdarbu nosaukums | C9: Mērvienība | D9: Daudzums
A10: 1 | B10: 2 | C10: 3 | D10: 4
B11: Pārseguma ierīkošana skat.BK-05
A12: 1 | B12: Parseguma Aile AP-1 = 6gb. ierīkošana t.sk.: | C12: t | D12: =ROUND((D13+D14)/1000,3) -> 2.91
B13: Sija IPE240 L=6400mm = 2gb | C13: kg | D13: =403.2*6 -> 2419.2
B14: Plāksne, Stiegras | C14: kg | D14: =81.83*6 -> 490.98
A15: =A10+1 -> 2 | B15: Pārseguma betonēšana, C25/30, spilvens | C15: m3 | D15: =0.88*6 -> 5.28
B16: Cementa maisījums Weber S 100 | C16: kg | D16: =100*6 -> 600
B17: Pārseguma ierīkošana skat.BK-06
A18: 3 | B18: Parseguma Aile AP-2 = 1gb. ierīkošana t.sk.: | C18: t | D18: =ROUND((D19+D20)/1000,3) -> 0.465
B19: Sija IPE240 L=6400mm = 2gb | C19: kg | D19: =406.35 -> 406.35
B20: Plāksne, Stiegras | C20: kg | D20: =58.83 -> 58.83
A21: 4 | B21: Pārseguma betonēšana, C25/30, spilvens | C21: m3 | D21: 0.72
B22: Cementa maisījums Weber S 100 | C22: kg | D22: =100 -> 100
B23: Durvju ailu ierīkošana A-1 skat.BK-07
A24: 5 | B24: Metāla pārsedžu A-1 montāža t.sk.: | C24: t | D24: =ROUND((D25+D26)/1000,3) -> 0.17
B25: Tērauds UPN 120, l=1850mm = 2gb | C25: kg | D25: 49.21
B26: leņķīs, loksne | C26: kg | D26: 121.18
B27: vitnstienis M16 | C27: kpl | D27: 22
B28: Cementa maisījums Weber S 100 | C28: kg | D28: 25
B29: Ķimiska enkurmasa HILTI HIT-HY 170 | C29: gb | D29: 16
A30: 6 | B30: Ailu pārsedžu apmetums | C30: m² | D30: 6.05
B31: java | C31: m³ | D31: =D30*0.05 -> 0.3025
B32: siets Nr.10-1 | C32: m² | D32: =D30*1.1 -> 6.655
B33: Durvju ailu ierīkošana A-2 skat.BK-08
A34: 7 | B34: Metāla pārsedžu A-2 montāža t.sk.: | C34: t | D34: =ROUND((D35+D36)/1000,3) -> 0.159
B35: Tērauds UPN 120, l=1500mm = 2gb | C35: kg | D35: 39.9
B36: leņķīs, loksne | C36: kg | D36: 119.08
B37: vitnstienis M16 | C37: kpl | D37: 21
B38: Cementa maisījums Weber S 100 | C38: kg | D38: 25
B39: Ķimiska enkurmasa HILTI HIT-HY 170 | C39: gb | D39: 16
A40: 8 | B40: Ailu pārsedžu apmetums | C40: m² | D40: 6.05
...

Sheet 1-5Ailas
A1: Būvdarbu apjomu saraksts Nr.1-5.
A2: Aiļu aizpildījumu elementi
A3: (būvdarbu veids vai konstruktīvā elementa nosaukums)
A4: Objekta nosaukums: "Ēkas energoefektivitātes paaugstināšana objektam Kārklu ielā 24, Daugavpilī, kadastra apzīm. 05000091501001”
A5: Būves nosaukums: Biroju ēka
A6: Objekta adrese: Kārklu ielā 24, Daugavpils
A7: Pasūtījuma Nr. 23KARKLU
A8: Apjomi sastādīti 2024. gada, pamatojoties uz AR daļas rasējumiem
A9: Nr. p.k. | B9: Būvdarbu nosaukums | C9: Mērvienība | D9: Daudzums
A10: 1 | B10: 2 | C10: 3 | D10: 4
B11: Durvis skat. AR-16
A12: 1 | B12: D-1 900x2100 1. Gludas, siltinātas, tērauda ārdurvis U ≤ 2.0 W/(m²*) 2. krāsa: · D1, D3 - RAL 7032 · D2 - RAL 7012 3. prasības furnitūrai: · pašaizvēršanās mehānisms; · aktīvajai vērtnei: matēta nerūs. tērauda durvju rokturis un slēdzene. · pasīvās vērtnes fiksators. · nerūs. tērauda atdura grīdā | C12: gb | D12: 1
A13: =A12+1 -> 2 | B13: D-2 1100x2100 1. Gludas, siltinātas, tērauda divviru ārdurvis U ≤ 2.0 W/(m²*) 2. krāsa: · D1, D3 - RAL 7032 · D2 - RAL 7012 3. prasības furnitūrai: · pašaizvēršanās mehānisms; · aktīvajai vērtnei: matēta nerūs. tērauda durvju rokturis un slēdzene. · pasīvās vērtnes fiksators. · nerūs. tērauda atdura grīdā | C13: gb | D13: 1
A14: =A13+1 -> 3 | B14: D-3 900x2100 1. Gludas, siltinātas, tērauda divviru ārdurvis U ≤ 2.0 W/(m²*) 2. krāsa: · D1, D3 - RAL 7032 · D2 - RAL 7012 3. prasības furnitūrai: · pašaizvēršanās mehānisms; · aktīvajai vērtnei: matēta nerūs. tērauda durvju rokturis un slēdzene. · pasīvās vērtnes fiksators. · nerūs. tērauda atdura grīdā | C14: gb | D14: 1
A15: =A14+1 -> 4 | B15: D-4 1800x2100 1. Stiklotas siltinātas divviru durvis U≤ 1.3 W/M²*K. 2. rāmis - alumīnijs, krāsa - RAL 7016. 3. caurspīdīgs, rūdīts, laminēts stikls. aktīvās vērtnes brīvais platums - 1000 mm, brivais augstums - ne mazāks kā 2000 mm. 4. prasības furnitūrai: · pašaizvēršanās mehānisms; · aktīvajai vērtnei: matēta nerūs. tērauda durvju rokturis un slēdzene. · pasīvās vērtnes fiksators. · nerūs. tērauda atdura grīdā. 100 mm platas drošības uzlīmes no krāsainas līmplēves uz stikla H 1400, 1600. | C15: gb | D15: 1
A16: =A15+1 -> 5 | B16: D-5 1100x2100 EI30 1. Ugunsdrošas, stiklotas durvis. klasificētas atbilstoši standartam LVS EN 13501-2:2016: · rāmis un vērtne - alumīnija profils, krāsa abās pusēs - RAL 7040; · ugunsdrošs stikls un pildiņš apakšējā daļā; · brīvais platums ne mazāks kā 1000 mm, brivais augstums - ne mazāks kā 2000 mm. 2. prasības furnitūrai: · slodzes klase ne mazāka kā 3, matēti slipēts nerūsējošais tērauds; · pašaizvēršanās mehānisms sudraba krāsā; · sertificēta panikas durvju furnitūra saskaņā ar EN1125 (slēdzene kopā ar horizontālo rokturstangu): · pretēji evak. virzienam - nospiežams rokturis no matēta nerūs. tērauda. noapaļota forma, gals pavērsts pret vērtni. profilcilindra slēdzene. 3. 100 mm platas drošības uzlīmes no krāsainas līmplēves uz stikla H 1400, 1600. | C16: gb | D16: 1
A17: =A16+1 -> 6 | B17: D-6 1450x2100 EI30 1. Ugunsdrošas, stiklotas divviru durvis. klasificētas atbilstoši standartam LVS EN 13501-2:2016: · rāmis un vērtne - alumīnija profils, krāsa abās pusēs - RAL 7040; · ugunsdrošs stikls un pildiņš apakšējā daļā; · brīvais platums ne mazāks kā 1000 mm, brivais augstums - ne mazāks kā 2000 mm. 2. prasības furnitūrai: · slodzes klase ne mazāka kā 3, matēti slipēts nerūsējošais tērauds; · pašaizvēršanās mehānisms sudraba krāsā; · sertificēta panikas durvju furnitūra saskaņā ar EN1125 (slēdzene kopā ar horizontālo rokturstangu): · pretēji evak. virzienam - nospiežams rokturis no matēta nerūs. tērauda. noapaļota forma, gals pavērsts pret vērtni. profilcilindra slēdzene. 3. 100 mm platas drošības uzlīmes no krāsainas līmplēves uz stikla H 1400, 1600. | C17: gb | D17: 2
A18: =A17+1 -> 7 | B18: D-7 1000x2100 EI30 1. Ugunsdrošas durvis. klasificētas atbilstoši standartam LVS EN 13501-2:2016: · rāmis un vērtne - alumīnija profils, krāsa abās pusēs - RAL 7040; · brīvais platums ne mazāks kā 900 mm, brivais augstums - ne mazāks kā 2000 mm. 2. prasības furnitūrai: · slodzes klase ne mazāka kā 3, matēti slipēts nerūsējošais tērauds; · pašaizvēršanās mehānisms sudraba krāsā; · sertificēta evakuācijas durvju furnitūra saskaņā ar EN179 (slēdzene kopā ar rokturu garnitūru), nospiežams rokturis ar noapaļotu brīvo galu, kurš pavērsts pret vērtni abās pusēs; | C18: gb | D18: 3
B19: Stiklotā alumīnija konstrukcijas skat. VT-1
A20: =A18+1 -> 8 | B20: VT-1 6100x2505 1. stiklota alumīnija vitrīna, fasāžu sistēma SCHÜCO CONSERVATORY SYSTEM PRC 50 vai ekvivalents. 2. rāmja krāsa iekšpusē un ārpusē - RAL 7016. 3. stikli: · caurspīdīgs, rūdīts, laminēts 6 mm; 4. iekšējais - rūdīts, laminēts 3+1+3 mm, ar sauli atstarojošu pārklājumu 6. visi izmēri precizējami būvē pēc ailas izbūves. | C20: gb | D20: 1
B21: Logi skat. AR-16
A22: =A20+1 -> 9 | B22: L-1 1180x1500 1. Logs ar atveramu un atgāžamu vērtni, U≤1.1 W/M²*K : · vēja slodzes izturība - ne zemāka kā B3; · skaņas izolācija - ne mazāka kā 30 dB; · gaisa caurlaidības klase - 4 (EN1220); · min. ūdens necaurlaidības klase - 9A. 2. rāmis - 6 vai vairāk kameru PVC profils, paaugstinātai izturībai armēts ar cinkotu, gludu, vismaz 1,5 mm biezu aizvērta o veida metāla profilu. 3. rāmja krāsa ārpusē - RAL 7016, iekšpusē - balta. 4. 2 kameru (3 stiklu) pakete, 48 mm, argona pildījums, termiskā starplika,U≤ 0.6 W / M² * K. 5. stikla paketes stikli: · visi stikli caurspīdīgi, 4 mm; · malējais iekšējais stikls - ar selektīvo pārklājumu. 6. logu komplektēt ar palodzēm: · ārpusē - locīta skārda palodze ar pural pārklājumu, krāsa RR 23. Iekšpusē - balta pvc palodze 1300*500*20...40 mm. komplektā - uzgaļi. | C22: gb | D22: 35
A23: 10 | B23: L-2 1180x800 1. Logs ar atveramu un atgāžamu vērtni, U≤1.1 W/M²*K : · vēja slodzes izturība - ne zemāka kā B3; · skaņas izolācija - ne mazāka kā 30 dB; · gaisa caurlaidības klase - 4 (EN1220); · min. ūdens necaurlaidības klase - 9A. 2. rāmis - 6 vai vairāk kameru PVC profils, paaugstinātai izturībai armēts ar cinkotu, gludu, vismaz 1,5 mm biezu aizvērta o veida metāla profilu. 3. rāmja krāsa ārpusē - RAL 7016, iekšpusē - balta. 4. 2 kameru (3 stiklu) pakete, 48 mm, argona pildījums, termiskā starplika,U≤ 0.6 W / M² * K. 5. stikla paketes stikli: · visi stikli caurspīdīgi, 4 mm; · malējais iekšējais stikls - ar selektīvo pārklājumu. 6. logu komplektēt ar palodzēm: · ārpusē - locīta skārda palodze ar pural pārklājumu, krāsa RR 23. Iekšpusē - balta pvc palodze 1300*500*20...40 mm. komplektā - uzgaļi. | C23: gb | D23: 6
B24: Piezīme:
B25: Visus projektā minētos materiālus iespējams aizstāt ar citu ražotāju ekvivalentiem būvizstrādājumiem, iepriekš saskaņojot ar projekta autoru.
A27: Sastādīja: ___________________ /J.Šeršņova/
B28: (paraksts un tā atšifrējums, datums)
A29: =kopsav_1!A30 -> Apjomi sastādīti 2024. gada 22.martā
A30: Pārbaudīja: ___________________ /B.Maike/
B31: (paraksts un tā atšifrējums, datums)
A32: Sertifikāta Nr.1-00649

Sheet 1-6Jumts
A1: Būvdarbu apjomu saraksts Nr.1-6.
A2: Jumts.
A3: (būvdarbu veids vai konstruktīvā elementa nosaukums)
A4: Objekta nosaukums: "Ēkas energoefektivitātes paaugstināšana objektam Kārklu ielā 24, Daugavpilī, kadastra apzīm. 05000091501001”
A5: Būves nosaukums: Biroju ēka
A6: Objekta adrese: Kārklu ielā 24, Daugavpils
A7: Pasūtījuma Nr. 23KARKLU
A8: Apjomi sastādīti 2024. gada, pamatojoties uz AR daļas rasējumiem
A9: Nr. p.k. | B9: Būvdarbu nosaukums | C9: Mērvienība | D9: Daudzums
A10: 1 | B10: 2 | C10: 3 | D10: 4
B11: Jumts un parapets skat. AR-09, AR-11
A12: 1 | B12: Siltināta plakana jumta ierīkošana: | C12: m2 | D12: 460
B13: Jumta membrāna MAPEPLAN AF pielīmēta ar POLYGLUE PU 2K | C13: m2 | D13: =D12*1.1 -> 506
B14: POLYGLUE PU 2K | C14: kg | D14: =D12*0.3 -> 138
A15: 2 | B15: Siltumizolācijas plāksne - akmens vate, piem. ROCKWOOL ROOFROCK® 80 - 50 mm; | C15: m2 | D15: =D12*1.03 -> 473.8
A16: 3 | B16: Siltumizolācijas plāksne - akmens vate, piem. ROCKWOOL ROOFROCK® 30 E - 200 mm; | C16: m2 | D16: =D12*1.03 -> 473.8
A17: 4 | B17: Ēsoša izolācija
A18: 5 | B18: Jumta ventilācijas aeratora TEHNONICOL 160x460mm uzstādīšana | C18: gb | D18: 4
A19: 6 | B19: Lietus ūdens notekcaurule Ø100 mm no karsti cinkota skārda ar Pural pārklajumu. Krāsa - RR23. Komplektēta ar kronšteiniem, piltuvi un līkumiem | C19: m | D19: 29.2
A20: 7 | B20: Prod.apsildāmā jumta lietus ūdens notece SITA RONDO vai ekv. | C20: gb | D20: 4
A21: 8 | B21: Parapeta ierīkošana no cinkota skārda | C21: m2 | D21: 132.2
A22: 9 | B22: Metāla kāpne, plātums 700mm | C22: gb | D22: 1
A23: 10 | B23: PVC membrānas trases 600mm platumā SIKAPLAN WALKWAY 20 ar OSB plaksni vai ekv. | C23: m | D23: 40
A24: 11 | B24: Vedināšanas izvads virs jumta : čaula no 150mm sendvičpanelļiem, krāsa RR23 | C24: m2 | D24: 70
A25: 12 | B25: Parapets: kārsti velmēts tērauds 0.5mm | C25: m2 | D25: 25.3
A26: 13 | B26: Aizbēršana ar keramzīt granti | C26: m3 | D26: 3
A27: 14 | B27: Palīgmateriāli, stiprinājumi | C27: kpl. | D27: 1
B28: Piezīme:
B29: Visus projektā minētos materiālus iespējams aizstāt ar citu ražotāju ekvivalentiem būvizstrādājumiem, iepriekš saskaņojot ar projekta autoru.
A31: Sastādīja: ___________________ /J.Šeršņova/
B32: (paraksts un tā atšifrējums, datums)
A33: =kopsav_1!A30 -> Apjomi sastādīti 2024. gada 22.martā
A34: Pārbaudīja: ___________________ /B.Maike/
B35: (paraksts un tā atšifrējums, datums)
A36: Sertifikāta Nr.1-00649

Sheet 1-7Iek
A1: Būvdarbu apjomu saraksts Nr.1-7.
A2: Iekšējie apdares darbi.
A3: (būvdarbu veids vai konstruktīvā elementa nosaukums)
A4: Objekta nosaukums: "Ēkas energoefektivitātes paaugstināšana objektam Kārklu ielā 24, Daugavpilī, kadastra apzīm. 05000091501001”
A5: Būves nosaukums: Biroju ēka
A6: Objekta adrese: Kārklu ielā 24, Daugavpils
A7: Pasūtījuma Nr. 23KARKLU
A8: Apjomi sastādīti 2024. gada, pamatojoties uz AR daļas rasējumiem
A9: Nr. p.k. | B9: Būvdarbu nosaukums | C9: Mērvienība | D9: Daudzums
A10: 1 | B10: 2 | C10: 3 | D10: 4
B11: GRIESTU APDARE.
B12: 1. stāvs skat. AR-12, AR-23
A13: 1 | B13: Minerālšķiedru paneļu piekargriesti ROCKFON BLANKA 1200*600*20mm Ugunsreakcijas klase A1, Redzamā sistēma, Mala A 15 / 24 | C13: m2 | D13: 150
B14: Apmesti, krāsoti griesti: | C14: m2 | D14: 131.3
A15: 2 | B15: Virsmu attīrīšana no iepriekšējiem, nestabilajiem krāsas slāņiem, gruntēšana, špaktelēšana un krāsošana | C15: m2 | D15: =D14 -> 131.3
B16: Saķeres grunts CAPAROL PUTZGRUND 610 vai dziļumgrunts CAPAROL OPTIGRUND E.L.F.(atbilstoši virsmai) | C16: kg | D16: =D14*0.3 -> 39.39
B17: Špakteļmasa CAPAROL-GLATTSPACHTE | C17: kg | D17: =D14*3.6 -> 472.68
B18: Ar ūdeni atšķaidīta grunts CapaSol LF Konzentrat | C18: kg | D18: =D14*0.3 -> 39.39
B19: Krāsojums ar baltu vai tonētu, matētu maklīgo sveķu dispersijas krāsu AMPHIBOLIN, CAPAROL 2 kārtās. atšķaidāma ar ūdeni, mitrās berzes klase - 1 segtspējas klase - 2. tonis GINSTER 20, CAPAROL 3D palete | C19: kg | D19: =D14*0.3 -> 39.39
A20: 3 | B20: Ģipškartona griestu apšuvums: Mitrumizturīga ģipškartona loksne, "KNAUF GKBI" (zaļa) 12.5mm Tērauda profilu karkass un piekares saskaņā ar KNAUF D112 sistēmu, Špaktelēšana, slīpēšana, gruntēšana, Krāsojums ar baltu, zīdaini matētu mākslīgo sveķu dispersijas krāsu Amphibolin, CAPAROL | C20: m2 | D20: 4
A21: 4 | B21: Alumīnija slokšņu piekargriesti | C21: m2 | D21: 12.3
A22: 5 | B22: Ventilācijas fasāde apdare ar šķīedrucementa plāksnes EQUITONE TECTIVA biezums 8mm, TE60 Hessian, RAL 7032, NSC-S 3005-G50Y | C22: m2 | D22: 2.8
B23: 2. stāvs skat. AR-13, AR-26
A24: 6 | B24: Minerālšķiedru paneļu piekargriesti ROCKFON BLANKA 1200*600*20mm Ugunsreakcijas klase A1, Redzamā sistēma, Mala A 15 / 24 | C24: m2 | D24: 201
A25: 7 | B25: Minerālšķiedru paneļu piekargriesti ROCKFON LIGNA 1200*600*20mm Ugunsreakcijas klase A1, krāsa - DARK BEECH Redzamā sistēma, Mala A 15 / 24 | C25: m2 | D25: 52.5
A26: 8 | B26: Ģipškartona griestu apšuvums: Mitrumizturīga ģipškartona loksne, "KNAUF GKBI" (zaļa) 9.5mm Tērauda profilu karkass un piekares saskaņā ar KNAUF D112 sistēmu, Špaktelēšana, slīpēšana, gruntēšana, Krāsojums ar baltu, zīdaini matētu mākslīgo sveķu dispersijas krāsu Amphibolin, CAPAROL | C26: m2 | D26: 84.4
B27: SIENU APDARE.
B28: 1. Stāva sienu apdare skat. AR-21, AR-22, AR-23
A29: 9 | B29: Logu ailsānu apdare: gruntēšana, špaktelēšana, slīpēšana un krāsošana | C29: m2 | D29: 31.2
B30: Saķeres grunts CAPAROL PUTZGRUND 610 vai dziļumgrunts CAPAROL OPTIGRUND E.L.F.(atbilstoši virsmai) | C30: kg | D30: =D29*0.3 -> 9.36
B31: Špakteļmasa CAPAROL-GLATTSPACHTE | C31: kg | D31: =D29*3.6 -> 112.32
B32: Ar ūdeni atšķaidīta grunts CapaSol LF Konzentrat | C32: kg | D32: =D29*0.3 -> 9.36
B33: Krāsojums ar baltu vai tonētu, matētu maklīgo sveķu dispersijas krāsu AMPHIBOLIN, CAPAROL 2 kārtās. atšķaidāma ar ūdeni, mitrās berzes klase - 1 segtspējas klase - 2. tonis GINSTER 20, CAPAROL 3D palete | C33: kg | D33: =D29*0.3 -> 9.36
A34: 10 | B34: Starpsienu gruntēšana, špaktelēšana, slīpešana un krāsošana | C34: m2 | D34: 3.8
B35: Saķeres grunts CAPAROL PUTZGRUND 610 vai dziļumgrunts CAPAROL OPTIGRUND E.L.F.(atbilstoši virsmai) | C35: kg | D35: =D34*0.3 -> 1.14
B36: Špakteļmasa CAPAROL-GLATTSPACHTE | C36: kg | D36: =D34*3.6 -> 13.68
B37: Ar ūdeni atšķaidīta grunts CapaSol LF Konzentrat | C37: kg | D37: =D34*0.3 -> 1.14
B38: Krāsojums ar baltu vai tonētu, matētu maklīgo sveķu dispersijas krāsu AMPHIBOLIN, CAPAROL 2 kārtās. atšķaidāma ar ūdeni, mitrās berzes klase - 1 segtspējas klase - 2. tonis GINSTER 20, CAPAROL 3D palete | C38: kg | D38: =D34*0.3 -> 1.14
A39: 11 | B39: Starpsienu dekoratīva apdare, gruntēšana, špaktelēšana slīpēšana un krāsošana | C39: m2 | D39: 145
B40: Saķeres grunts CAPAROL PUTZGRUND 610 vai dziļumgrunts CAPAROL OPTIGRUND E.L.F.(atbilstoši virsmai) | C40: kg | D40: =D39*0.3 -> 43.5
...

Sheet 1-8ArApd
A1: Būvdarbu apjomu saraksts Nr.1-8.
A2: Ārējie apdares darbi.
A3: (būvdarbu veids vai konstruktīvā elementa nosaukums)
A4: Objekta nosaukums: "Ēkas energoefektivitātes paaugstināšana objektam Kārklu ielā 24, Daugavpilī, kadastra apzīm. 05000091501001”
A5: Būves nosaukums: Biroju ēka
A6: Objekta adrese: Kārklu ielā 24, Daugavpils
A7: Pasūtījuma Nr. 23KARKLU
A8: Apjomi sastādīti 2024. gada, pamatojoties uz AR daļas rasējumiem
A9: Nr. p.k. | B9: Būvdarbu nosaukums | C9: Mērvienība | D9: Daudzums
A10: 1 | B10: 2 | C10: 3 | D10: 4
A11: 1 | B11: C-1 Siltināta betona bloku pagraba ārsiena (zem zemes planējuma atzīmes) skat. AR-14, AR-11 | C11: m2 | D11: 151.5
B12: Grunts rakšana cokola siltināšanai | C12: m3 | D12: 121.2
B13: Esošā dzelzsbetona bloku pagarba siena - notīrīta, izlīdzināta, vajadzības gadījumā aizpildot šuves un dobumus ar remontjavu un hidroizolācija | C13: m2 | D13: =D11 -> 151.5
B14: Bituma hidroizolācija un līmjava Capatect-Klebe-und Dichtungsmasse 114 | C14: kg | D14: =D11*3 -> 454.5
B15: Siltumizolācija - ekstrudētais putupolistirols Tenapors Extra - 150mm, λ≤0.034 W/m2K | C15: m2 | D15: =D11*1.05 -> 159.075
B16: Profilēta ģeomembrāna līdz zemes planējuma atzīmei. Stiprināta saskaņā ar ražotāja tehnoloģiju | C16: m2 | D16: =D11*1.1 -> 166.65
B17: Hidroizolējošs aizsargkrāsojums Caparol Capatect-SockelFlex | C17: m2 | D17: =D11 -> 151.5
B18: Aizbēruma grunts | C18: m3 | D18: 99.38
A19: 2 | B19: ĀS-2, ĀS-3 Siltināta ārsienas. Ventilējama fasāde. | C19: m2 | D19: 584.4
B20: Esošā siena - notīrīta, izlīdzināta, vajadzības gadījumā aizpildot šuves un dobumus ar remontjavu | C20: m2 | D20: =D19 -> 584.4
B21: Līmjava Caparol CapaTect Dammerkleber 185 | C21: kg | D21: =D19*4.5 -> 2629.8
B22: Siltumizolācija - minerālvate PAROC WAS 50 BT, λ≤0.036 W/MK, ugunsreakcijas klase A1, b=180 mm | C22: m2 | D22: =D19*1.05 -> 613.62
B23: Siltumizolācijas stiprinājuma dībelis Capatect CARBON FIX | C23: gb | D23: =D19*6 -> 3506.4
B24: Gruntējums (birstošām, smilšainām fasadem un pēc nepieciešamības)Caparol Capasol LF Koncentrat | C24: kg | D24: =D22*0.2 -> 122.724
B25: Cokola leņķa profils ar izvirzījumu Caparol Capatect Thermoschiene 6680-160 | C25: m | D25: 105
B26: Metāla piekares konstrukcija (nerūsējošā tērauda kronšteini un alumīnija vadules) | C26: m2 | D26: =D19 -> 584.4
A27: 3 | B27: JM-1 Siltināts keramzītbetona parapets. | C27: m2 | D27: 381.24
B28: Keramzītbetona bloki 5MPA (FIBO) ar FIBO BI-armatūru 2X∅4 mm, ugunsreakcijas klase A1, 2X 200X480X185 mm | C28: m2 | D28: =D27 -> 381.24
B29: Metāla piekares konstrukcija (nerūsējošā tērauda kronšteini un alumīnija vadules) | C29: m2 | D29: =D27 -> 381.24
B30: Minerālvate PAROC WAS 50t λ≤ 0.033 W/m2K, ugunsreakcijas klase A1, 50mm | C30: m2 | D30: =D27*1.03 -> 392.6772
B31: Fasādes apdare skat. AR-13
A32: 4 | B32: Ventilācijas fasāde apdare ar šķīedrucementa plāksnes EQUITONE TECTIVA biezums 8mm, TE60 Hessian, RAL 7032, NSC-S 3005-G50Y | C32: m2 | D32: 592.3
A33: 5 | B33: Ventilācijas fasāde apdare ar šķīedrucementa plāksnes EQUITONE TECTIVA biezums 8mm, TE60 Grafite, RAL 7012, NCS-S 6502-B50G | C33: m2 | D33: 275.8
A34: 6 | B34: Tonēts dekoratīvaisakmens graudu apmetums Caparol Buntsteinputz | C34: m2 | D34: 32.4
A35: 7 | B35: Kondicionieru ārējo bloku fasādes grozus 1200x900x550 | C35: gb | D35: 12
B36: Lievenis LV-1 skat. AR-20
A37: 8 | B37: Grunts noblietēšana ar šķembām, un pamatnes izveidošana no šķembām | C37: m³ | D37: 0.41
B38: šķembas b=150mm | C38: m³ | D38: =ROUND(D37*1.15,2) -> 0.47
B39: Piebetonējums zem kājslauķa | C39: m3 | D39: 0.2
A40: 9 | B40: FORBO āra kājslauķis NUWAY TUFTIGUARD PLAIN 12mm, F-1, 1740*1000 mm. četru rindu birste, atvērta konstrukcija, matēts-anodēts alumīnijs, komplektā - iebūvēts traps. | C40: gb | D40: 1
...

Sheet 1-9Labiek
A1: Būvdarbu apjomu saraksts Nr.1-9.
A2: Labiekārtošanas darbi.
A3: (būvdarbu veids vai konstruktīvā elementa nosaukums)
A4: Objekta nosaukums: "Ēkas energoefektivitātes paaugstināšana objektam Kārklu ielā 24, Daugavpilī, kadastra apzīm. 05000091501001”
A5: Būves nosaukums: Biroju ēka
A6: Objekta adrese: Kārklu ielā 24, Daugavpils
A7: Pasūtījuma Nr. 23KARKLU
A8: Apjomi sastādīti 2024. gada, pamatojoties uz GP daļas rasējumiem
A9: Nr. p.k. | B9: Būvdarbu nosaukums | C9: Mērvienība | D9: Daudzums
A10: 1 | B10: 2 | C10: 3 | D10: 4
A11: 1 | B11: Projekt. ēkas apmales no pelēka betona bruģa seguma 100*200*60mm slīpums 2%: | C11: m2 | D11: 83.5
B12: Betona bruģis 100*200*60 mm Krāsa - pelēka, virsma - skalota. Apmales virsmas slīpums 2%, Sausais betona maisījums. Cementa / smilts attiecība 1:8, 50 mm | C12: m2 | D12: =D11 -> 83.5
B13: Šķembas ar atsijām - 130 mm | C13: m3 | D13: =D11*0.13 -> 10.855
B14: Skalota grants 50 mm | C14: m3 | D14: =D11*0.05 -> 4.175
B15: Salizturīgs slānis - vismaz 500 mm | C15: m3 | D15: =D11*0.5 -> 41.75
B16: Neausts ģeotekstils | C16: m2 | D16: =D11*1.1 -> 91.85
B17: Blietēta grunts | C17: m3
A18: 2 | B18: Apmalē iebūvēta bruģa tēkne ierīkošana 500x180x80 sadures šuves hermetizētas | C18: gb | D18: 13
B19: Betona Ietvju apmaļu izbūve : | C19: m | D19: 85
B20: Betona ietvju apmale 1000*200*80 mm | C20: m | D20: =D19 -> 85
B21: Betona pamatne | C21: m3 | D21: 5.9
B22: Betona ceļu apmaļu BR100.30.15 uzstādīšana uz betona C30/37 (h=10cm) un šķembu fr.0/45 (h=15cm) pamata | C22: m | D22: 12
A23: 3 | B23: Puķu dobju atjaunošana pēc izbūves: | C23: m2 | D23: 30.2
B24: Augu zeme, kura apsēta ar daudzgadīga zāliena sēklu maisījums - 150 mm, ziemciešu stādījumi, maksimāli izmantoot pirms darbu veikšanas saudzīgi izraktus esošos augus | C24: m2 | D24: =D23 -> 30.2
B25: Izlīdzināta pamatnes aizbēruma grunts | C25: m2 | D25: =D23 -> 30.2
B26: Piezīme:
B27: Visus projektā minētos materiālus iespējams aizstāt ar citu ražotāju ekvivalentiem būvizstrādājumiem, iepriekš saskaņojot ar projekta autoru.
A29: Sastādīja: ___________________ /J.Šeršņova/
B30: (paraksts un tā atšifrējums, datums)
A31: =kopsav_1!A30 -> Apjomi sastādīti 2024. gada 22.martā
A32: Pārbaudīja: ___________________ /B.Maike/
B33: (paraksts un tā atšifrējums, datums)
A34: Sertifikāta Nr.1-00649

Sheet 2-1AVK-A
A1: Būvdarbu apjomu saraksts Nr.2-1.
A2: Apkure.
A3: (būvdarbu veids vai konstruktīvā elementa nosaukums)
A4: Objekta nosaukums: "Ēkas energoefektivitātes paaugstināšana objektam Kārklu ielā 24, Daugavpilī, kadastra apzīm. 05000091501001”
A5: Būves nosaukums: Biroju ēka
A6: Objekta adrese: Kārklu ielā 24, Daugavpils
A7: Pasūtījuma Nr. 23KARKLU
A8: Apjomi sastādīti 2024. gada, pamatojoties uz AVK daļas rasējumiem
A9: Nr. p.k. | B9: Būvdarbu nosaukums | D9: Mērvienība | E9: Daudzums
A10: 1 | B10: 2 | D10: 3 | E10: 4
B11: Apkure. Radiatoru konturs.
A12: 1 | B12: Tērauda radiators "PURMO Copact" komplektā ar sienas stiprinājumiem un atgaisošanas korķi | C12: C11-500-400 | D12: kpl | E12: 3
A13: =A12+1 -> 2 | B13: Tērauda radiators "PURMO Copact" komplektā ar sienas stiprinājumiem un atgaisošanas korķi | C13: C11-500-500 | D13: kpl | E13: 9
A14: =A13+1 -> 3 | B14: Tērauda radiators "PURMO Copact" komplektā ar sienas stiprinājumiem un atgaisošanas korķi | C14: C11-500-600 | D14: kpl | E14: 8
A15: =A14+1 -> 4 | B15: Tērauda radiators "PURMO Copact" komplektā ar sienas stiprinājumiem un atgaisošanas korķi | C15: C11-500-700 | D15: kpl | E15: 12
A16: =A15+1 -> 5 | B16: Tērauda radiators "PURMO Copact" komplektā ar sienas stiprinājumiem un atgaisošanas korķi | C16: C11-500-800 | D16: kpl | E16: 5
A17: =A16+1 -> 6 | B17: Tērauda radiators "PURMO Copact" komplektā ar sienas stiprinājumiem un atgaisošanas korķi | C17: C11-500-900 | D17: kpl | E17: 1
A18: =A17+1 -> 7 | B18: Tērauda radiators "PURMO Copact" komplektā ar sienas stiprinājumiem un atgaisošanas korķi | C18: C11-500-1000 | D18: kpl | E18: 2
A19: =A18+1 -> 8 | B19: Tērauda radiators "PURMO Copact" komplektā ar sienas stiprinājumiem un atgaisošanas korķi | C19: C22-500-700 | D19: kpl | E19: 2
A20: =A19+1 -> 9 | B20: Tērauda radiators "PURMO Copact" komplektā ar sienas stiprinājumiem un atgaisošanas korķi | C20: C22-500-1000 | D20: kpl | E20: 1
A21: =A20+1 -> 10 | B21: Radiatora atgaisošanas korķis | D21: gb | E21: 43
A22: =A21+1 -> 11 | B22: Radiatora termostats | C22: RA-DV 15 | D22: gb | E22: 43
A23: =A22+1 -> 12 | B23: Danfoss Ally™ elektroniskais programmējamais termostats ar viedtālruni savienots termostats | C23: Danfoss Ally™ | D23: gb | E23: 43
A24: =A23+1 -> 13 | B24: Danfoss Ally™ Gateway | D24: kpl | E24: 2
A25: =A24+1 -> 14 | B25: Radiatora noslēgvārsts niķelēts | C25: RLV-S 15 | D25: gb | E25: 43
A26: =A25+1 -> 15 | B26: Radiatoru termoregulatoru un atgaitas noslēgventiļu ieregulēšana | D26: gb | E26: 43
A27: =A26+1 -> 16 | B27: Noslēgvārsts | C27: MSV-S DN15 | D27: gb | E27: 45
A28: =A27+1 -> 17 | B28: Noslēgvārsts | C28: MSV-S DN20 | D28: gb | E28: 1
A29: =A28+1 -> 18 | B29: Noslēgvārsts | C29: MSV-S DN25 | D29: gb | E29: 2
A30: =A29+1 -> 19 | B30: Iztukšošanas ventilis | C30: DN15 | D30: gb | E30: 4
A31: =A30+1 -> 20 | B31: Iztukšošanas ventilis | C31: DN20 | D31: gb | E31: 2
A32: =A31+1 -> 21 | B32: Automātiskais atgaisotājs | C32: DN15 | D32: gb | E32: 6
A33: =A32+1 -> 22 | B33: Apkures VSH tērauda caurule | C33: 15x1,2 | D33: m | E33: 400
A34: =A33+1 -> 23 | B34: Apkures VSH tērauda caurule | C34: 18x1,2 | D34: m | E34: 45
A35: =A34+1 -> 24 | B35: Apkures VSH tērauda caurule | C35: 22x1,5 | D35: m | E35: 70
A36: =A35+1 -> 25 | B36: Apkures VSH tērauda caurule | C36: 28x1,5 | D36: m | E36: 75
A37: =A36+1 -> 26 | B37: Apkures VSH tērauda caurule | C37: 35x1,5 | D37: m | E37: 110
A38: =A37+1 -> 27 | B38: VSH tērauda caurules fasondetāļas un stiprinājumi | D38: kpl | E38: 1
A39: =A38+1 -> 28 | B39: Akmensvates siltumizolācija ar foliju q=40mm | C39: 15x40 | D39: m | E39: 55
A40: =A39+1 -> 29 | B40: Akmensvates siltumizolācija ar foliju q=40mm | C40: 18x40 | D40: m | E40: 45
...

Sheet 2-2AVK-V
A1: Būvdarbu apjomu saraksts Nr.2-2.
A2: Ventilācija.
A3: (būvdarbu veids vai konstruktīvā elementa nosaukums)
A4: Objekta nosaukums: "Ēkas energoefektivitātes paaugstināšana objektam Kārklu ielā 24, Daugavpilī, kadastra apzīm. 05000091501001”
A5: Būves nosaukums: Biroju ēka
A6: Objekta adrese: Kārklu ielā 24, Daugavpils
A7: Pasūtījuma Nr. 23KARKLU
A8: Apjomi sastādīti 2024. gada, pamatojoties uz AVK daļas rasējumiem
A9: Nr. p.k. | B9: Būvdarbu nosaukums | D9: Mērvienība | E9: Daudzums
A10: 1 | B10: 2 | D10: 3 | E10: 4
B11: Ventilācijas sistēma PN1 (ofisa telpas)
A12: 1 | B12: Gaisa apstrādes iekārta ar automātiku Ventus compact Verso R 4000 U C5, Qpieplūde= 2700 m3/h, 300 Pa, Qnosūcē= 2700 m3/h, 300 Pa, Nel=15kW, Motors jauda/fāze/strāva/Frekvence/ātrums: 1,8kW/3P/400V/50Hz; komplektācijā ar: - Elastīgajiem savienojumiem - Iekārtā iebūvētiem noslēgvārstiem - Pieplūdes gaisa filtri F7 - Nosūces gaisa filtri F5 - Spiediena devējs - Rotorveida siltummainis - Elektriskais gaisa sildītājs - Automātikas un vadības bloki - Vadības skapis - Pretaizsalšana automatika - Vadības pults - M-BUS | C12: Verso R 4000 U C5 | D12: kpl | E12: 1
A13: =A12+1 -> 2 | B13: Kvadrātveida griestu difuzors pieplūdes un nosūces gaisam | C13: PELICAN L 125-400+ALSd L 100-125 | D13: gb | E13: 45
A14: =A13+1 -> 3 | B14: Sienas/galda ventilācijas režģis pieplūdes, nosūces vai šķērsplūsmas gaisa plūsmai | C14: ALG 200-100+TRG 200-100-175-B-125 | D14: gb | E14: 25
A15: =A14+1 -> 4 | B15: Sienas/galda ventilācijas režģis pieplūdes, nosūces vai šķērsplūsmas gaisa plūsmai | C15: ALG300-100+TRG 300-210-175-B-160 | D15: gb | E15: 12
A16: =A15+1 -> 5 | B16: Āra režģis pieplūdes gaisam | C16: 500х800 | D16: gb | E16: 1
A17: =A16+1 -> 6 | B17: Āra režģis nosūces gaisam | C17: 500х400 | D17: gb | E17: 1
A18: =A17+1 -> 7 | B18: Trokšņu slāpētājs | C18: 400х400, L=1250 | D18: gb | E18: 2
A19: =A18+1 -> 8 | B19: Ugunsdrosības vārsts | C19: 150x150 | D19: gb | E19: 2
A20: =A19+1 -> 9 | B20: Ugunsdrosības vārsts | C20: 200x200 | D20: gb | E20: 12
A21: =A20+1 -> 10 | B21: Ugunsdrosības vārsts | C21: 300x250 | D21: gb | E21: 2
A22: =A21+1 -> 11 | B22: Ugunsdrosības vārsts | C22: d100 | D22: gb | E22: 1
A23: =A22+1 -> 12 | B23: Ugunsdrosības vārsts | C23: d160 | D23: gb | E23: 4
A24: =A23+1 -> 13 | B24: Plūsmas regulēšanas vārsts | C24: d125 | D24: gb | E24: 12
... A28: =A27+1 -> 17 | B28: Plūsmas regulēšanas vārsts | C28: 200x100 | D28: gb | E28: 2
A29: =A28+1 -> 18 | B29: Elektrības apsaistes materiālu komplekts | D29: kpl | E29: 1
A30: =A29+1 -> 19 | B30: Palīgmateriālu komplekts | D30: kpl | E30: 1
A31: =A30+1 -> 20 | B31: Vibroizolatori agregāta uzstādīšanai | D31: kpl | E31: 1
A32: =A31+1 -> 21 | B32: Tīrīšanas lūka apaļajam gaisavadam | C32: IPLR100 | D32: gb | E32: 1
A33: =A32+1 -> 22 | B33: Tīrīšanas lūka apaļajam gaisavadam | C33: IPLR160 | D33: gb | E33: 4
A34: =A33+1 -> 23 | B34: Tīrīšanas lūka taisnstūra gaisvadam | C34: IPF200x200 | D34: gb | E34: 14
A35: =A34+1 -> 24 | B35: Ventilācijas sistēmu sākumregulēšanas darbi | D35: kpl | E35: 1
B36: Ventilācijas sistēma PN2 (aktu zāle)
A37: =A35+1 -> 25 | B37: Gaisa apstrādes iekārta ar automātiku Ventus compact Verso R 1300 U C5, Qpieplūde= 1000 m3/h, 150 Pa, Qnosūcē= 1000 m3/h,150 Pa, Nel=4,5kW, Motors jauda/fāze/strāva/Frekvence/ātrums: 0,3kW/3P/400V/50Hz;- Elastīgajiem savienojumiem - Iekārtā iebūvētiem noslēgvārstiem - Pieplūdes gaisa filtri F7 - Nosūces gaisa filtri F5 - CO2 devējs - Spiediena devējs - Rotorveida siltummainis - Elektriskais gaisa sildītājs - Automātikas un vadības bloki - Vadības skapis - Pretaizsalšanas automātika - Vadības pults - M-BUS | C37: Verso R 1300 U C5 | D37: kpl | E37: 1
A38: =A37+1 -> 26 | B38: Āra režģis pieplūdes gaisam | C38: 400x400 | D38: gb | E38: 1
A39: =A38+1 -> 27 | B39: Āra režģis nosūces gaisam | C39: d315 | D39: gb | E39: 1
A40: =A39+1 -> 28 | B40: Kvadrātveida griestu difuzors pieplūdes un nosūces gaisam | C40: PELICAN L 200-600+ALSd L 160-200 | D40: gb | E40: 2
A41: =A40+1 -> 29 | B41: Sienas/galda ventilācijas režģis pieplūdes, nosūces vai šķērsplūsmas gaisa plūsmai | C41: ALG500-100+TRG 500-100-245-B-200 | D41: gb | E41: 8
A42: =A41+1 -> 30 | B42: Ugunsdrošības vārsts | C42: d315 | D42: gb | E42: 2
A43: =A42+1 -> 31 | B43: Trokšņu slāpētājs | C43: 315/100, L=1200 | D43: gb | E43: 2
...

Sheet 2-3EL
A1: Būvdarbu apjomu saraksts Nr.2-3.
A2: Iekšējie elektrotehniskie darbi.
A3: (būvdarbu veids vai konstruktīvā elementa nosaukums)
A4: Objekta nosaukums: "Ēkas energoefektivitātes paaugstināšana objektam Kārklu ielā 24, Daugavpilī, kadastra apzīm. 05000091501001”
A5: Būves nosaukums: Biroju ēka
A6: Objekta adrese: Kārklu ielā 24, Daugavpils
A7: Pasūtījuma Nr. 23KARKLU
A8: Apjomi sastādīti 2024. gada, pamatojoties uz EL daļas rasējumiem
A9: Nr. p.k. | B9: Būvdarbu nosaukums | D9: Mērvienība | E9: Daudzums
A10: 1 | B10: 2 | D10: 3 | E10: 4
B11: ELEKTROAPGĀDE. IEKŠĒJIE TĪKLI
B12: Sadalnes
A13: 1 | B13: Spēka sadalne SS-AVK, iekštipa, IP30, v/a; 20% brīvvietu perspektīvām slodzēm; durvis ar atslēgu. | D13: kpl. | E13: 1
A14: =A13+1 -> 2 | B14: Ventilācijas atvienošanas relejs | D14: gb | E14: 1
A15: =A14+1 -> 3 | B15: Drošinātājs 50A, 500V (uzstādīt es. sadalē ЩС) | D15: gb | E15: 3
A16: =A15+1 -> 4 | B16: Automātiskais vītņu drošinātājs 16A (uzstādīt es. sadalē Щ02) | D16: gb | E16: 1
A17: =A16+1 -> 5 | B17: Montāžas izstrādājumi | D17: kpl | E17: 1
B18: Spēka el. Iekārtas tīklu elektrokabeļi
A19: =A17+1 -> 6 | B19: Kabelis NYM-J ar dzīslām 5x10 mm², 0,6/1kV, PVC | D19: m | E19: 5
A20: =A19+1 -> 7 | B20: Kabelis NYM-J ar dzīslām 5x6mm², 0,6/1kV, PVC | D20: m | E20: 50
A21: =A20+1 -> 8 | B21: Kabelis NYM-J ar dzīslām 5x1,5mm², 0,6/1kV, PVC | D21: m | E21: 38
A22: =A21+1 -> 9 | B22: Kabelis NYM-J ar dzīslām 3x1,5 mm², 0,6/1kV, PVC | D22: m | E22: 260
A23: =A22+1 -> 10 | B23: Kabelis NYM-J ar dzīslām 3x2,5 mm², 0,6/1kV, PVC | D23: m | E23: 50
A24: =A23+1 -> 11 | B24: Kabelis ugunsdrošs (N)HXH-J FE 180/E30 3x1.5mm² | D24: m | E24: 7
A25: =A24+1 -> 12 | B25: Pašregulējams sildīšanas kabelis IT-THERM SRL 2CR | D25: m | E25: 50
A26: =A25+1 -> 13 | B26: Nozarkārba ar spailēm, v/a | D26: gb | E26: 6
A27: =A26+1 -> 14 | B27: Nozarkārba ar spailēm, z/a | D27: gb | E27: 10
A28: =A27+1 -> 15 | B28: Hermetizējošs blīvējums | D28: kpl. | E28: 1
A29: =A28+1 -> 16 | B29: Ugunsdrošs noblīvējums | D29: kpl. | E29: 1
A30: =A29+1 -> 17 | B30: Montāžas izstrādājumu palīgmateriālu komplekts (kārbas, klemmes, kronšteini, stiprināšanas elementi utt.) | D30: kpl. | E30: 1
B31: Apgaismojuma izstrādājumi
B32: 1 stavs
A33: =A30+1 -> 18 | B33: LED gaismeklis, PANEL PERFORMANCE 3600 lm UGR<19 DALI 30 W 4000K, 1200x300mm, IP20 | C33: LEDVANCE | D33: gb | E33: 55
A34: =A33+1 -> 19 | B34: LED gaismeklis, DOWNLIGHT DN 115 8W 800 lm 840WT 4000K, IP44 | C34: LEDVANCE | D34: gb | E34: 7
A35: =A34+1 -> 20 | B35: LED gaismeklis, Karo RV 310 SOP 1800 lm 19 W 840 FO 4000K, IP43 white | D35: gb | E35: 23
A36: =A35+1 -> 21 | B36: LED gaismeklis, Karo C 300 SOP 1800 lm 19 W 840 FO 4000K, IP43 white | D36: gb | E36: 2
A37: =A36+1 -> 22 | B37: Fasādes LED gaismekļis RL ar PIR sensoru 15W 1600lm 4000K IP54 D=243mm, balts vai ekvivalents (virs ieejas durvīm) | D37: gb | E37: 1
A38: =A37+1 -> 23 | B38: LED prožektors ar kustības sensoru virs ieejas durvīm FL PFM SYM 100WT, 10W, 1200lm, 4000K, izmēri: 131x122x36mm, baltā krāsā, IP65 | D38: gb | E38: 2
B39: 2 stavs
A40: =A38+1 -> 24 | B40: LED gaismeklis, PANEL PERFORMANCE 3600 lm UGR<19 DALI 30 W 4000K, 1200x300mm, IP20 | C40: LEDVANCE | D40: gb | E40: 48
...

Sheet 2-4ESS-VAS
A1: Būvdarbu apjomu saraksts Nr.2-4.
A2: Vadības un automatizācijas sistēmas
A3: (būvdarbu veids vai konstruktīvā elementa nosaukums)
A4: Objekta nosaukums: "Ēkas energoefektivitātes paaugstināšana objektam Kārklu ielā 24, Daugavpilī, kadastra apzīm. 05000091501001”
A5: Būves nosaukums: Biroju ēka
A6: Objekta adrese: Kārklu ielā 24, Daugavpils
A7: Pasūtījuma Nr. 23KARKLU
A8: Apjomi sastādīti 2024. gada, pamatojoties uz ESS-VAS daļas rasējumiem
A9: Nr. p.k. | B9: Būvdarbu nosaukums | D9: Mērvienība | E9: Daudzums
A10: 1 | B10: 2 | D10: 3 | E10: 4
B11: Vadības un automatizācijas sistēmas
B12: Telekomunikācijas skapja iekārtas
A13: 1 | B13: Telekomunikāciju skapis 19'' 9U 600x450mm, ar priekša durvīm | D13: kpl | E13: 1
A14: 2 | B14: Zemējuma komplekts | D14: kpl | E14: 1
A15: 3 | B15: Barošanas bloks 8P 1U | D15: gb | E15: 1
A16: 4 | B16: Ventilators ar termodevēju, 19’’ 1U 2xfans, 22W | D16: kpl | E16: 1
B17: Tīklu iekārta
A18: 5 | B18: Wireless maršrutētājs (Router), 2.4 GHz (802.11n, up to 800 Mbps), D-Link | D18: kpl | E18: 1
A19: 6 | B19: 5 x 10/100BASE-TX komutators (Switch), 24VDC, MOXA | C19: EDS-205 | D19: kpl | E19: 1
A20: 6 | B20: Barošanas bloks 230VAC/24VDC 40W, DIN-rail, MOXA | C20: MDR-40-24 | D20: gb | E20: 1
A21: 7 | B21: Komutācijas panelis UTP cat.6 24xRJ45, 1U | D21: gb | E21: 1
A22: 7 | B22: Organaizers ar metāla skavām 1U | D22: gab | E22: 1
A23: 8 | B23: Nepārtrauktās barošanas iekārta UPS, 19" skapim, APC Smart-UPS 500VA 230V, 1U | C23: SCL500RMI1UNC | D23: kpl | E23: 1
B24: Rozetes*
A25: 9 | B25: Datoru kontaktligzda RJ45 ar 1 Keystone mehānismiem, z/a (tipu precizēt montāžas laikā) | C25: RJ45 Cat.6 | D25: gb | E25: 2
A26: 10 | B26: Montāžas kārba reģipsim | D26: gb | E26: 2
B27: Lauku iekārtas
A28: 11 | B28: Viedā vārteja Zigbee 3.0 (LAN GATEWAY), DANFOSS | C28: Danfoss Ally | D28: kpl | E28: 2
A29: 12 | B29: Digitālo termostata galva ar attālinātu vadību, DANFOSS | C29: Danfoss Living Connect | D29: kpl | E29: -
B30: Kabeļi un montāžas materiāli
A31: 13 | B31: Kabelis UTP Cat.6 LSZH | C31: UTP CAT6 4x2x0,5 | D31: m | E31: 200
A32: 14 | B32: Ugunsdrošs kabelis E30 (ekr.) | C32: JE-H(St)H 2x1 | D32: m | E32: 250
A33: 15 | B33: Savienošanas kabelis CAT 6 (patch cable), 1.0m | D33: gb | E33: 24
A34: 16 | B34: Gofrētā caurule Ø20mm , LSHZ, (halogēnu nesaturš.) | D34: m. | E34: 100
A35: 17 | B35: Kabeļa skava, Ø20mm | D35: gb | E35: 300
A36: 18 | B36: Skrūve betonam | C36: SB 6.3x35 | D36: gb | E36: 300
A37: 19 | B37: Kabeļa marķējums SFX 11/60 MC NEUT | D37: gb | E37: 50
A38: 20 | B38: Iekārtu marķējums | D38: kpl | E38: 1
A39: 21 | B39: Ugunsdrošs materiāls sienu un starpstāvu pārsegumu blīvēšanai | D39: kpl | E39: 1
A40: 22 | B40: Instalācijas palīgmateriāli. Saskaņā ar montāžu darbu raksturojumu un apjomu | D40: kpl | E40: 1
...

Sheet 3-1ArELT
A1: Būvdarbu apjomu saraksts Nr.3-1
A2: Arējie elektrības tīkli.
A3: (būvdarbu veids vai konstruktīvā elementa nosaukums)
A4: Objekta nosaukums: "Ēkas energoefektivitātes paaugstināšana objektam Kārklu ielā 24, Daugavpilī, kadastra apzīm. 05000091501001”
A5: Būves nosaukums: Biroju ēka
A6: Objekta adrese: Kārklu ielā 24, Daugavpils
A7: Pasūtījuma Nr. 23KARKLU
A8: Apjomi sastādīti 2024. gada, pamatojoties uz ELT daļas rasējumiem
A9: Nr. p.k. | B9: Būvdarbu nosaukums | C9: Mērvienība | D9: Daudzums
A10: 1 | B10: 2 | C10: 3 | D10: 4
B11: Zemēšanas aprīkojums
A12: 1 | B12: Plakanvads no cinkota tērauda FT 5052 DIN 30X3.5 | C12: m | D12: 80
A13: =A12+1 -> 2 | B13: Vertikālais zemētājs stienis no cinkota tērauda FT 1,5m d=20mm 219 20 ST FT | C13: gb | D13: 36
A14: =A13+1 -> 3 | B14: Elektroda uzgalis priekš zemejuma elektroda 20mm TG FT | C14: gb | D14: 12
A15: =A14+1 -> 4 | B15: Uzsišanas galviņa zemējuma stieņiem karst Zn | C15: gb | D15: 12
A16: =A15+1 -> 5 | B16: Elektroda un tērauda apaļvada savienojums | C16: gb | D16: 12
A17: =A16+1 -> 6 | B17: Plastiska pretkorozijas aizsarglente, 10m | C17: iepak. | D17: 3
A18: =A17+1 -> 7 | B18: Tranšeja - bedre kabeļa vai citu apakšzemes komunikāciju apsekošanai (šurfēšana) | C18: gb | D18: 12
A19: =A18+1 -> 8 | B19: Tranšejas rakšana un aizbēršana, 0.7m dziļumā, bez mehanismu pielietošanas | C19: m | D19: 80
A20: =A19+1 -> 9 | B20: Horizontālā zemētāja montāža tranšejā | C20: m | D20: 80
A21: =A20+1 -> 10 | B21: Vertikālā zemētāja montāža dziļumā līdz 6m (3x1,5m) | C21: gb | D21: 36
A22: =A21+1 -> 11 | B22: Montāžas izstrādājumu palīgmateriālu komplekts (kārbas, klemmes, kronšteini, ķēdes un citi stiprināšanas elementi) | C22: kpl | D22: 1
A23: =A22+1 -> 12 | B23: Teritorijas labiekārtošana | C23: obj | D23: 1
B24: Piezīme:
B25: Visus projektā minētos materiālus iespējams aizstāt ar citu ražotāju ekvivalentiem būvizstrādājumiem, iepriekš saskaņojot ar projekta autoru.
A27: Sastādīja: ___________________ /J.Šeršņova/
B28: (paraksts un tā atšifrējums, datums)
A29: =kopsav_1!A30 -> Apjomi sastādīti 2024. gada 22.martā
A30: Pārbaudīja: ___________________ /B.Maike/
B31: (paraksts un tā atšifrējums, datums)
A32: Sertifikāta Nr.1-00649
