Workbook

Sheet 1
A1: Būvdarbu apjomu saraksts Nr. 1
A2: Būvlaukuma sagatavošana
A3: (Būvdarbu veids vai konstruktīvā elementa nosaukums)
A5: Objekta nosaukums: Būvdarbu pabeigšana Jezuītu klostera kompleksa un Ilūkstes upes piekrastes publiskās ārtelpas attīstībai
A6: Būves nosaukums: Būvdarbu pabeigšana Jezuītu klostera kompleksa un Ilūkstes upes piekrastes publiskās ārtelpas attīstībai
A7: Objekta adrese: Augšdaugavas novads, Ilūkste, Brīvības iela 6
A8: Pasūtījuma Nr.
A10: Apjomi sastādīti, pamatojoties uz DOP daļas rasējumiem.
C11: =7.5*1.2359 -> 9.26925
A12: Nr. p.k. | B12: Būvdarbu nosaukums | C12: Mērvienība | D12: Projektā KOPĀ paredzētais daudzums | E12: Izpildītais daudzums uz Iepirkuma brīdi | F12: Atlikums jeb Iepirkumā iekļaujamais daudzums
A14: 1 | B14: 2 | C14: 3 | D14: 4 | E14: 5 | F14: 6
A16: 1.1 | B16: Teritorijas sagatavošana, nospraušana, u.c.
A17: 1 | B17: Koku aizsardzība būvdarbu laikā (koka dēļu vairogs, stiprināts ap koka stumbru uz elastīgas membrānas starpkārtas) | C17: kpl | D17: 28 | E17: 28 | F17: =ROUND(D17-E17,2) -> 0
A18: 3 | B18: Jaunstādāmo augu stādvietu un laukumu nospraušana dabā | C18: m2 | D18: 380.5 | E18: 380.5 | F18: =ROUND(D18-E18,2) -> 0
A19: 4 | B19: Reljefa pārbūves apjoma nospraušana un precizēšana dabā | C19: m2 | D19: 682 | E19: 682 | F19: =ROUND(D19-E19,2) -> 0
A20: 5 | B20: Labiekārtojuma izbūves trasējuma nospraušana dabā, precizējumu laikā pieaicinot Pasūtītāja pārstāvi (celiņu segumi un metāla laipa) | C20: m2 | D20: 1034 | E20: 1034 | F20: =ROUND(D20-E20,2) -> 0
A21: 6 | B21: Teritorijas, kurā veicama rūpīga rakšana, atsedzot vēsturiskos slāņus (ARHEOLOĢISKĀS IZPĒTES DAĻA), ierādīšana un marķēšana dabā | C21: m2 | D21: 5700 | E21: 0 | F21: =ROUND(D21-E21,2) -> 5700
A22: 7 | B22: Auglīgās augsnes virskārtas noņemšana un pārvietošana atkārtotai izmantošanai teritorijā, to sijājot un pielāgojot augu ierīkošanas prasībām saskaņā ar specifikāciju | C22: m2 | D22: 1384 | E22: 1384 | F22: =ROUND(D22-E22,2) -> 0
A23: 8 | B23: Arheoloģiskās priekšizpētes veikšana demontējot esošā seguma virskārtu zem izbūvējamā labiekārtojuma | C23: m2 | D23: 151 | E23: 0 | F23: =ROUND(D23-E23,2) -> 151
A25: 1.2 | B25: Demontējamie objekti
A26: 1 | B26: Ilūkstes upes krasta sakārtošanas un tīrīšanas zona pie Atpūtas vietas pie ūdens | C26: m2 | D26: 935 | E26: 700 | F26: =ROUND(D26-E26,2) -> 235
A27: 2 | B27: Nocērtamie invazīvo sugu koki - ošlapu kļavas, frēzējot celmus, aizpildot ar auglīgo augsni, izlīdzinot un atjaunojot zāliena segumu | C27: kpl | D27: 1 | E27: 1 | F27: =ROUND(D27-E27,2) -> 0
A28: 3 | B28: Citi nocērtamie koki - augļu koki, mazvērtīgie koki | C28: kpl | D28: 2 | E28: 2 | F28: =ROUND(D28-E28,2) -> 0
A29: 4 | B29: Nocērtamie krūmi, koki ar caurmēru mazāku kā 20cm, raujot celmus, aizpildot ar atgūto auglīgo augsni, izlīdzinot un atjaunojot zāliena segumu | C29: m2 | D29: 356 | E29: 356 | F29: =ROUND(D29-E29,2) -> 0
A30: 5 | B30: Demontējamie koku celmi, frēzējot celmus, aipzildot ar augsni, līdzinot, atjaunojot zālienu | C30: kpl | D30: 6 | E30: 6 | F30: =ROUND(D30-E30,2) -> 0
A31: 8 | B31: Demontējams esošais grantētais segums - pie gāzes grupas laukuma 1m dziļumā, atkārtotai lietošanai teritorijas reljefa virsmu izbūvē | C31: m3 | D31: 100 | E31: 100 | F31: =ROUND(D31-E31,2) -> 0
A32: 9 | B32: Esošās metāla marga gar nekustamo īpašumu Brīvības ielā 8, Ilūkstē demontāža | C32: m | D32: 82.6 | E32: 82.6 | F32: =ROUND(D32-E32,2) -> 0
A33: 10 | B33: Demontējams, un teritorijā novietojams, labiekārtojuma tālākā izbūvē izmantojams betona plākšņu seguma materiāls pie Ilūkstes upes | C33: m2 | D33: 60 | E33: 60 | F33: =ROUND(D33-E33,2) -> 0
A34: 11 | B34: Demontējamas betona kāpnes, margas un plākšņu segums (2 laidi) pie esošās atbalstsienas (pet īpašumu Brīvības ielā 8, Ilūkstē) | C34: m2 | D34: 9.5 | E34: 9.5 | F34: =ROUND(D34-E34,2) -> 0
A35: 12 | B35: Esošās mūrētas laukakmens atbalstsienas konstrukcijas demontāža, orientējoši 1.2m augsta, 0.5m plata | C35: m | D35: 82.6 | E35: 82.6 | F35: =ROUND(D35-E35,2) -> 0
A37: 1.3 | B37: Koku kopšana - prof. arborista pakalpojumi
A38: 1 | B38: Esošu, saglabājamu koku vainagu kopšana, obligāti - pie Brīvības ielas uagošā parastā ozola vainaga pacelšana, parastās zirgastaņas vainaga pacelšana, pie Teātra ēkas augošās ābeles ainaviska izkopšana, pie upes atpūtas vietas augošo 2 plūmju vainagu kopšana,darbus veicot sertificētam kokkkopim-arboristam, ar vismaz 2 gadu darba pieredzi publisko stādījumu kopšanā | C38: h | D38: 20 | E38: 20 | F38: =ROUND(D38-E38,2) -> 0
A41: Piezīmes: Demontāžas laikā iegūtie būvgruži tiks izvesti no objekta un utilizēti atbilstoši Atkritumu apsaimniekošanas likumā noteiktajai kārtībai, ievērojot MK 18.02.2021. noteikumu Nr.113 “Atkritumu un to pārvadājumu uzskaites kārtība” prasības.

Sheet 2
A1: Būvdarbu apjomu saraksts Nr. 2
A2: Teritorijas segumu ieklāšana
A3: (Būvdarbu veids vai konstruktīvā elementa nosaukums)
A4: Objekta nosaukums: Būvdarbu pabeigšana Jezuītu klostera kompleksa un Ilūkstes upes piekrastes publiskās ārtelpas attīstībai
A5: Būves nosaukums: Būvdarbu pabeigšana Jezuītu klostera kompleksa un Ilūkstes upes piekrastes publiskās ārtelpas attīstībai
A6: Objekta adrese: Augšdaugavas novads, Ilūkste, Brīvības iela 6
A7: Pasūtījuma Nr.
A9: Apjomi sastādīti, pamatojoties uz GP, TS daļas rasējumiem.
C10: =7.5*1.2359 -> 9.26925
A11: Nr. p.k. | B11: Būvdarbu nosaukums | C11: Mērvienība | D11: Projektā KOPĀ paredzētais daudzums | E11: Izpildītais daudzums uz Iepirkuma brīdi | F11: Atlikums jeb Iepirkumā iekļaujamais daudzums
A13: 1 | B13: 2 | C13: 3 | D13: 4 | E13: 5 | F13: 6
A15: 2.1 | B15: Ar režģi stiprināts zāliens piebraucamajam ceļam (Segums S-01)
A16: 1 | B16: Esoša grunts pamatnes vai uzbēruma grunts noblīvēšana (Ev2>45MPa), nepieciešamības gadījumā pastiprinot | C16: m2 | D16: 236 | E16: 0 | F16: =ROUND(D16-E16,2) -> 236
A17: 2 | B17: Salizturīgās kārtas izbūve no smilts materiāla (Ev2>60 Mpa), h=400mm, iesk. noblīvēšanu | C17: m2 | D17: 236 | E17: 0 | F17: =ROUND(D17-E17,2) -> 236
A18: 2.1 | B18: - smilts materiāls (sablīvējuma koef. = 1.10) | C18: m3 | D18: 103.84 | E18: 0 | F18: =ROUND(D18-E18,2) -> 103.84
A19: 3 | B19: Minerālmateriālu maisījuma 0/32ps, (N-III klase), h=300mm, izbūve, iesk. noblīvēšanu | C19: m2 | D19: 236 | E19: 0 | F19: =ROUND(D19-E19,2) -> 236
A20: 3.1 | B20: - minerālmateriālu maisījuma 0/32ps materiāls (sablīvējuma koef. = 1.10) | C20: m3 | D20: 77.88 | E20: 0 | F20: =ROUND(D20-E20,2) -> 77.88
A21: 4 | B21: Plastmasas šūnu režģa montāža uz sagatavotas pamatnes (brauktuvēm, melnā krāsā), pildīšana ar auglīgas augsnes-smilts maisījumu (30% smilts), h=40 mm, augsnes maisījums miksēts ar zāliena sēklu maisījumu | C21: m2 | D21: 236 | E21: 0 | F21: =ROUND(D21-E21,2) -> 236
A22: 4.1 | B22: - plastmasas šūnu režģis | C22: m2 | D22: 236 | E22: 0 | F22: =ROUND(D22-E22,2) -> 236
A23: 4.2 | B23: - auglīgas augsnes-smilts maisījums | C23: m3 | D23: 9.44 | E23: 0 | F23: =ROUND(D23-E23,2) -> 9.44
A24: 4.3 | B24: - zāliena sēklu maisījums | C24: kg. | D24: 7.08 | E24: 0 | F24: =ROUND(D24-E24,2) -> 7.08
A25: 2.2 | B25: Gransts seguma piebraucamajie ceļiem (Segums S-02)
A26: 1 | B26: Esoša grunts pamatnes vai uzbēruma grunts noblīvēšana (Ev2>45MPa), nepieciešamības gadījumā pastiprinot | C26: m2 | D26: 100 | E26: 0 | F26: =ROUND(D26-E26,2) -> 100
A27: 2 | B27: Salizturīgās kārtas izbūve no smilts materiāla (Ev2>60 Mpa), h=400mm, iesk. noblīvēšanu | C27: m2 | D27: 100 | E27: 0 | F27: =ROUND(D27-E27,2) -> 100
A28: 2.1 | B28: - smilts materiāls (sablīvējuma koef. = 1.10) | C28: m3 | D28: 44 | E28: 0 | F28: =ROUND(D28-E28,2) -> 44
A29: 3 | B29: Minerālmateriālu maisījuma 0/32ps, (N-III klase), h=300mm, izbūve, iesk. noblīvēšanu | C29: m2 | D29: 100 | E29: 0 | F29: =ROUND(D29-E29,2) -> 100
A30: 3.1 | B30: - minerālmateriālu maisījuma 0/32ps materiāls (sablīvējuma koef. = 1.10) | C30: m3 | D30: 33 | E30: 0 | F30: =ROUND(D30-E30,2) -> 33
A31: 2.3 | B31: Šķeltā granīta bruģakmens segums piebraucamajam ceļam (Segums S-03)
A32: 1 | B32: Esoša grunts pamatnes vai uzbēruma grunts noblīvēšana (Ev2>45MPa), nepieciešamības gadījumā pastiprinot | C32: m2 | D32: 167 | E32: 0 | F32: =ROUND(D32-E32,2) -> 167
A33: 2 | B33: Salizturīgās kārtas izbūve no smilts materiāla (Ev2>60 Mpa), h=400mm, iesk. noblīvēšanu | C33: m2 | D33: 167 | E33: 0 | F33: =ROUND(D33-E33,2) -> 167
A34: 2.1 | B34: - smilts materiāls (sablīvējuma koef. = 1.10) | C34: m3 | D34: 73.48 | E34: 0 | F34: =ROUND(D34-E34,2) -> 73.48
A35: 3 | B35: Minerālmateriālu maisījuma 0/32ps, (N-III klase), h=300mm, izbūve, iesk. noblīvēšanu | C35: m2 | D35: 167 | E35: 0 | F35: =ROUND(D35-E35,2) -> 167
A36: 3.1 | B36: - minerālmateriālu maisījuma 0/32ps materiāls (sablīvējuma koef. = 1.10) | C36: m3 | D36: 55.11 | E36: 0 | F36: =ROUND(D36-E36,2) -> 55.11
A37: 4 | B37: Smilts maisījuma izlīdzinošās kārtas izbūve fr.0-2mm, b=50 mm | C37: m2 | D37: 167 | E37: 0 | F37: =ROUND(D37-E37,2) -> 167
A38: 4.1 | B38: - smilts materiāls (sablīvējuma koef. = 1.10) | C38: m3 | D38: 9.19 | E38: 0 | F38: =ROUND(D38-E38,2) -> 9.19
A39: 5 | B39: Šķeltā granīta bruģakmens b=100 mm seguma izbūve | C39: m2 | D39: 167 | E39: 0 | F39: =ROUND(D39-E39,2) -> 167
A40: 5.1 | B40: - šķeltā granīta bruģakmens b=100 mm | C40: m2 | D40: 167 | E40: 0 | F40: =ROUND(D40-E40,2) -> 167
A41: 2.4 | B41: Laukakmens segums gājēju celiņiem un apmalēm (Segums S-04)
A42: 1 | B42: Esoša grunts pamatnes vai uzbēruma grunts noblīvēšana | C42: m2 | D42: 136 | E42: 46 | F42: =ROUND(D42-E42,2) -> 90
A43: 2 | B43: Drenējošās kārtas izbūve no smilts materiāla (K/f>=1), h=300mm, iesk. noblīvēšanu | C43: m2 | D43: 136 | E43: 46 | F43: =ROUND(D43-E43,2) -> 90
...

Sheet 3
A1: Būvdarbu apjomu saraksts Nr. 3
A2: Metāla konstrukcijas
A3: (Būvdarbu veids vai konstruktīvā elementa nosaukums)
A4: Objekta nosaukums: Būvdarbu pabeigšana Jezuītu klostera kompleksa un Ilūkstes upes piekrastes publiskās ārtelpas attīstībai
A5: Būves nosaukums: Būvdarbu pabeigšana Jezuītu klostera kompleksa un Ilūkstes upes piekrastes publiskās ārtelpas attīstībai
A6: Objekta adrese: Augšdaugavas novads, Ilūkste, Brīvības iela 6
A7: ='1'!A8 -> Pasūtījuma Nr.
A9: Apjomi sastādīti, pamatojoties uz BK, GP, TS daļas rasējumiem.
C10: =7.5*1.2359 -> 9.26925
A11: Nr. p.k. | B11: Būvdarbu nosaukums | C11: Mērvienība | D11: Projektā KOPĀ paredzētais daudzums | E11: Izpildītais daudzums uz Iepirkuma brīdi | F11: Atlikums jeb Iepirkumā iekļaujamais daudzums
A13: 1 | B13: 2 | C13: 3 | D13: 4 | E13: 5 | F13: 6
A14: 3.1 | B14: Metāla konstrukcijas laipu izbūve
A15: 1 | B15: Skrūvpāļu S355+HDG d88.9x6mm, d350x10mm, L=2000-2500mm montāža | C15: gb. | D15: 37 | E15: 0 | F15: =ROUND(D15-E15,2) -> 37
A16: 2 | B16: Tērauda karkasa konstrukcijas izbūve (āra margas, āra kāpnes K3, ārējie AVK rāmji, ārējais nosegrežģis) | C16: tn | D16: 8.95 | E16: 0 | F16: =ROUND(D16-E16,2) -> 8.95
A17: 3 | B17: Cinkota metāla režģa klāja 11x71/40x3 montāža | C17: m2 | D17: 136 | E17: 0 | F17: =ROUND(D17-E17,2) -> 136
A18: 4 | B18: Cinkota metāla režģa pakāpienu montāža 11x71/40x3 montāža | C18: gb. | D18: 6 | E18: 0 | F18: =ROUND(D18-E18,2) -> 6
A19: 5 | B19: Margu koka lentera montāža | C19: m | D19: 180 | E19: 0 | F19: =ROUND(D19-E19,2) -> 180
A20: 6 | B20: Margu CorTen apdares montāža | C20: m | D20: 180 | E20: 0 | F20: =ROUND(D20-E20,2) -> 180
A21: 7 | B21: Noblīvēta šķembu pamatojuma izbūve | C21: m3 | D21: 0.2 | E21: 0.2 | F21: =ROUND(D21-E21,2) -> 0
A22: 8 | B22: Kāpņu konstrukcijas betonēšana (betons C30/37, XC3, XF1) | C22: m3 | D22: 1.4 | E22: 1.4 | F22: =ROUND(D22-E22,2) -> 0
A23: 9 | B23: Kāpņu konstrukcijas stiegrošaana d6-10 B500B | C23: kg | D23: 105 | E23: 105 | F23: =ROUND(D23-E23,2) -> 0

Sheet 4
A1: Būvdarbu apjomu saraksts Nr. 4
A2: Būvkonstrukcijas
A3: (Būvdarbu veids vai konstruktīvā elementa nosaukums)
A4: ='2'!A4 -> Objekta nosaukums: Būvdarbu pabeigšana Jezuītu klostera kompleksa un Ilūkstes upes piekrastes publiskās ārtelpas attīstībai
A5: ='2'!A5 -> Būves nosaukums: Būvdarbu pabeigšana Jezuītu klostera kompleksa un Ilūkstes upes piekrastes publiskās ārtelpas attīstībai
A6: ='2'!A6 -> Objekta adrese: Augšdaugavas novads, Ilūkste, Brīvības iela 6
A7: ='2'!A7 -> Pasūtījuma Nr.
A9: Apjomi sastādīti, pamatojoties uz BK daļas rasējumiem.
C10: =7.5*1.2359 -> 9.26925
A11: Nr. p.k. | B11: Būvdarbu nosaukums | C11: Mērvienība | D11: Projektā KOPĀ paredzētais daudzums | E11: Izpildītais daudzums uz Iepirkuma brīdi | F11: Atlikums jeb Iepirkumā iekļaujamais daudzums
A13: 1 | B13: 2 | C13: 3 | D13: 4 | E13: 5 | F13: 6
A15: 1 | B15: Atbalstsienas
A16: 1 | B16: Ģeotekstila ieklāšana uz grunts | C16: m2 | D16: 202 | E16: 202 | F16: =ROUND(D16-E16,2) -> 0
A17: 2 | B17: Grants vai oļu filtrējošā materiāla iebūve | C17: m3 | D17: 24.24 | E17: 24.24 | F17: =ROUND(D17-E17,2) -> 0
A18: 3 | B18: Drenu caurules D110 ar kokosa filtru montāža pie atbalstsienas konstrukcijas | C18: m | D18: 101 | E18: 101 | F18: =ROUND(D18-E18,2) -> 0
A19: 4 | B19: Šķembu pamatojuma izbūve atbalstsienas konstrukcijai | C19: m3 | D19: 25.56 | E19: 25.56 | F19: =ROUND(D19-E19,2) -> 0
A20: 5 | B20: Betona atbalstsienas konstrukcijas izbūve (betons C30/37), iesk. veidņu montāžu un demontāžu | C20: m3 | D20: 56.75 | E20: 56.75 | F20: =ROUND(D20-E20,2) -> 0
A21: 6 | B21: Betona atbalstsienas konstrukcijas stiegrošana (d6-10 B500B), iesk. stiprinājumus u.c. montāžas materiālus | C21: t | D21: 5.12 | E21: 5.12 | F21: =ROUND(D21-E21,2) -> 0
A22: 7 | B22: Atbalstsienas betona nosegcepures montāža | C22: m | D22: 99 | E22: 0 | F22: =ROUND(D22-E22,2) -> 99

Sheet 5
A1: Būvdarbu apjomu saraksts Nr. 5
A2: Labiekārtošana
A3: (Būvdarbu veids vai konstruktīvā elementa nosaukums)
A5: ='4'!A4 -> Objekta nosaukums: Būvdarbu pabeigšana Jezuītu klostera kompleksa un Ilūkstes upes piekrastes publiskās ārtelpas attīstībai
A6: ='4'!A5 -> Būves nosaukums: Būvdarbu pabeigšana Jezuītu klostera kompleksa un Ilūkstes upes piekrastes publiskās ārtelpas attīstībai
A7: ='4'!A6 -> Objekta adrese: Augšdaugavas novads, Ilūkste, Brīvības iela 6
A8: Pasūtījuma Nr.
A10: Apjomi sastādīti, pamatojoties uz GP daļas rasējumiem.
C11: =7.5*1.2359 -> 9.26925
A12: Nr. p.k. | B12: Būvdarbu nosaukums | C12: Mērvienība | D12: Projektā KOPĀ paredzētais daudzums | E12: Izpildītais daudzums uz Iepirkuma brīdi | F12: Atlikums jeb Iepirkumā iekļaujamais daudzums
A14: 1 | B14: 2 | C14: 3 | D14: 4 | E14: 5 | F14: 6
A15: 5.1 | B15: Apstādījumi
A16: 1 | B16: Jaunstādāmo augu iegāde un dobes augsnes sagatavošana 40cm dziļumā, augu iestādīšana, kopšana, laistīšana | C16: m2 | D16: 380.5 | E16: 0 | F16: =ROUND(D16-E16,2) -> 380.5
A17: 2 | B17: "Lietus dārzs" - ūdensaugu un sausumizturīgu augu stādījumu grupas, ar kurām papildināma "Lietus dārza" izbūve un apstādījumi | C17: m2 | D17: 60 | E17: 0 | F17: =ROUND(D17-E17,2) -> 60
A18: 3 | B18: Jaunstādāmi koki, stumbra caurmērs 12-14 cm, piesienami pie 2 atbalstmietiem (virpots, impregnēts skujkoks) un nostiprināms ar melnu vai pelēku koku piesiešanas lentu, sagatavojama stādbedre vismaz 60x60x60cm izmērā, piepildāma ar trūdu un auglīgās augsnes maisījumu atbilstoši koka sugas specifikācijai, mulčējama koka apdobe ar skuju koku mizas mulču, stādu piegāde, laistīšana 50l uz augu pēc iestādīšanas vismaz 2x nedēļā visu veģetācijas sezonu, augu uzturēšana līdz iestādīšanai objektā | C18: kpl | D18: 3 | E18: 0 | F18: =ROUND(D18-E18,2) -> 3
A19: 4 | B19: Jaunstādāmi krūmi, augu stāda konteinera izmērs C7.5, sagatavojama stādbedre vismaz 40x40x40cm izmērā, piepildāma ar trūdu un auglīgās augsnes maisījumu atbilstoši krūma sugas specifikācijai, mulčējama koka apdobe ar skuju koku mizas mulču, stādu piegāde, laistīšana 30l uz augu pēc iestādīšanas vismaz 2x nedēļā visu veģetācijas sezonu, augu uzturēšana līdz iestādīšanai objektā | C19: kpl | D19: 30 | E19: 0 | F19: =ROUND(D19-E19,2) -> 30
A20: 5.2 | B20: Labiekārtojuma elementi - soliņi
A21: 1 | B21: Soliņa S-01 piegāde un montāža objektā. Komplektācija saskaņā ar būvprojekta sepecifikāciju lapā GPD-03 * - skatīt piezīmes | C21: gb. | D21: 1 | E21: 0.3 | F21: =ROUND(D21-E21,2) -> 0.7
A22: 2 | B22: Soliņa S-02 piegāde un montāža objektā. Komplektācija saskaņā ar būvprojekta sepecifikāciju lapā GPD-03 * - skatīt piezīmes | C22: gb. | D22: 3 | E22: 1 | F22: =ROUND(D22-E22,2) -> 2
A23: 3 | B23: Soliņa S-03 piegāde un montāža objektā. Komplektācija saskaņā ar būvprojekta sepecifikāciju lapā GPD-03 * - skatīt piezīmes | C23: gb. | D23: 1 | E23: 0 | F23: =ROUND(D23-E23,2) -> 1
A24: 4 | B24: Soliņa S-04 piegāde un montāža objektā. Komplektācija saskaņā ar būvprojekta sepecifikāciju lapā GPD-03 | C24: gb. | D24: 3 | E24: 0 | F24: =ROUND(D24-E24,2) -> 3
A25: 5 | B25: Piknika galda un solu komplekta S-05 piegāde un montāža objektā. Komplektācija saskaņā ar būvprojekta sepecifikāciju lapā GPD-08 | C25: gb. | D25: 3 | E25: 0 | F25: =ROUND(D25-E25,2) -> 3
A26: 5.3 | B26: Labiekārtojuma elementi - velo turētāji
A27: 1 | B27: Velosipēda novietošanas statīva I-04 piegāde un montāža objektā. Komplektācija saskaņā ar būvprojekta sepecifikāciju lapā GPD-07 | C27: gb. | D27: 3 | E27: 0 | F27: =ROUND(D27-E27,2) -> 3
A28: 5.4 | B28: Labiekārtojuma elementi - atkritumu apsaimniekošana
A29: 1 | B29: Atkritumu novietnes A-01 piegāde un montāža objektā. Komplektācija saskaņā ar būvprojekta sepecifikāciju lapā GPD-10 | C29: gb. | D29: 1 | E29: 0 | F29: =ROUND(D29-E29,2) -> 1
A30: 2 | B30: Atkritumu tvertnes ar trīs nodalījumiem šķirošanai A-02 piegāde un montāža objektā. Komplektācija saskaņā ar būvprojekta sepecifikāciju lapā GPD-11 | C30: gb. | D30: 1 | E30: 0 | F30: =ROUND(D30-E30,2) -> 1
A31: 3 | B31: Atkritumu tvertnes A-03 piegāde un montāža objektā. Komplektācija saskaņā ar būvprojekta sepecifikāciju lapā GPD-11 | C31: gb. | D31: 7 | E31: 0 | F31: =ROUND(D31-E31,2) -> 7
A32: 4 | B32: Suņu atkritumu tvertnes A-04 piegāde un montāža objektā. Komplektācija saskaņā ar būvprojekta sepecifikāciju lapā GPD-11 | C32: gb. | D32: 2 | E32: 0 | F32: =ROUND(D32-E32,2) -> 2
A33: 5.5 | B33: Labiekārtojuma elementi - rekreācijai
A34: 1 | B34: Bērnu laukuma ierīces I-01 "Kuģis" piegāde un montāža objektā. Komplektācija saskaņā ar būvprojekta sepecifikāciju lapā GPD-04. | C34: gb. | D34: 1 | E34: 0 | F34: =ROUND(D34-E34,2) -> 1
A35: 2 | B35: Bērnu laukuma ierīces I-02 šūpoles "Ligzda" piegāde un montāža objektā. Komplektācija saskaņā ar būvprojekta sepecifikāciju lapā GPD-06 | C35: gb. | D35: 2 | E35: 0 | F35: =ROUND(D35-E35,2) -> 2
A36: 3 | B36: Trenažiera I-03 piegāde un montāža objektā. Komplektācija saskaņā ar būvprojekta sepecifikāciju lapā GPD-05 | C36: gb. | D36: 1 | E36: 0 | F36: =ROUND(D36-E36,2) -> 1
A37: 4 | B37: Stacionāra grila, mangāla I-05 piegāde un montāža objektā. Komplektācija saskaņā ar būvprojekta sepecifikāciju lapā GPD-12 | C37: gb. | D37: 3 | E37: 0 | F37: =ROUND(D37-E37,2) -> 3
A38: 5 | B38: Tualetes L-01, tualetes vairoga konstrukcijas izgatavošana un montāža objektā. Komplektācija saskaņā ar būvprojekta sepecifikāciju. | C38: gb. | D38: 1 | E38: 0 | F38: =ROUND(D38-E38,2) -> 1
A39: 6 | B39: Pārģērbšanās kabīnes L-02 izgatavošana un montāža objektā. Komplektācija saskaņā ar būvprojekta sepecifikāciju. | C39: gb. | D39: 2 | E39: 0 | F39: =ROUND(D39-E39,2) -> 2
A40: 5.6 | B40: Informācijas zīmju grafiskās identitātes izstrāde un izbūvējamo objektu
A41: 1 | B41: Informācijas stenda ST-01skvērā pie Brīvības ielas piegāde un montāža. Saskaņā ar būvprojekta sepecifikāciju lapā GPD-13. | C41: gb. | D41: 1 | E41: 0 | F41: =ROUND(D41-E41,2) -> 1
A42: 2 | B42: Stenda pie pludmales ST-02 piegāde un montāža objektā. Komplektācija saskaņā ar būvprojekta sepecifikāciju lapā GPD-14 | C42: gb. | D42: 1 | E42: 0 | F42: =ROUND(D42-E42,2) -> 1
A43: 3 | B43: Norādes uz tualeti pas labi N-01L piegāde un montāža objektā. Komplektācija saskaņā ar būvprojekta sepecifikāciju lapā GPD-13 | C43: gb. | D43: 2 | E43: 0 | F43: =ROUND(D43-E43,2) -> 2
...

Sheet 6
A1: Būvdarbu apjomu saraksts Nr. 6
A2: Elektroapgāde
A3: (Būvdarbu veids vai konstruktīvā elementa nosaukums)
A5: ='4'!A4 -> Objekta nosaukums: Būvdarbu pabeigšana Jezuītu klostera kompleksa un Ilūkstes upes piekrastes publiskās ārtelpas attīstībai
A6: ='4'!A5 -> Būves nosaukums: Būvdarbu pabeigšana Jezuītu klostera kompleksa un Ilūkstes upes piekrastes publiskās ārtelpas attīstībai
A7: ='4'!A6 -> Objekta adrese: Augšdaugavas novads, Ilūkste, Brīvības iela 6
A8: ='4'!A7 -> Pasūtījuma Nr.
A10: Apjomi sastādīti, pamatojoties uz ELT daļas rasējumiem.
C11: =7.5*1.2359 -> 9.26925
A12: Nr. p.k. | B12: Būvdarbu nosaukums | C12: Mērvienība | D12: Projektā KOPĀ paredzētais daudzums | E12: Izpildītais daudzums uz Iepirkuma brīdi | F12: Atlikums jeb Iepirkumā iekļaujamais daudzums
A14: 1 | B14: 2 | C14: 3 | D14: 4 | E14: 5 | F14: 6
A15: 6.1 | B15: DARBI
A16: 1 | B16: Skatrakums - esošo komunikāciju ieguldīšanas dziļuma precizēšana, veicot raksšanas darbus ar rokām | C16: gb. | D16: 7 | E16: 5 | F16: =ROUND(D16-E16,2) -> 2
A17: 2 | B17: Dalītās caurles uzstādīšana ZEM SPRIEGUMA ESOŠAM līdz 0.4kV kabelim | C17: m | D17: 14 | E17: 0 | F17: =ROUND(D17-E17,2) -> 14
A18: 3 | B18: Tranšejas rakšana un aizbēršana viena līdz četru kabeļu (caurules) guldīšanai līdz 0.8m | C18: m | D18: 240 | E18: 210 | F18: =ROUND(D18-E18,2) -> 30
A19: 4 | B19: Tranšejas rakšana un aizbēršana viena līdz četru kabeļu (caurules) guldīšanai līdz 1.2m | C19: m | D19: 10 | E19: 8 | F19: =ROUND(D19-E19,2) -> 2
A20: 5 | B20: Tranšejas rakšana un aizbēršana zemējuma guldīšanai līdz 1.0m | C20: m | D20: 28 | E20: 20 | F20: =ROUND(D20-E20,2) -> 8
A21: 6 | B21: Kabeļu aizsargcaurules d=līdz 110 mm ieguldīšana gatavā tranšejā | C21: m | D21: 495 | E21: 470 | F21: =ROUND(D21-E21,2) -> 25
A22: 7 | B22: Kabeļu aizsargcaurules d=līdz 110 mm montāža zem laipas | C22: m | D22: 114 | E22: 0 | F22: =ROUND(D22-E22,2) -> 114
A23: 8 | B23: Elektroda stieņa līdz 6.0m dziļumā montāža | C23: gb. | D23: 14 | E23: 0 | F23: =ROUND(D23-E23,2) -> 14
A24: 9 | B24: Zemējuma kontūra montāža tranšejā | C24: m | D24: 28 | E24: 0 | F24: =ROUND(D24-E24,2) -> 28
A25: 10 | B25: ZS plastmasas izolācijas kabeļa no 6 mm2 gala apdares montāža | C25: kpl. | D25: 10 | E25: 9 | F25: =ROUND(D25-E25,2) -> 1
A26: 11 | B26: ZS kabeļa līdz 16 mm2 ievēršana caurulē | C26: m | D26: 440 | E26: 400 | F26: =ROUND(D26-E26,2) -> 40
A27: 12 | B27: ZS plastmasas izolācijas kabeļa no 10 līdz 25 mm2 gala apdares montāža | C27: kpl. | D27: 2 | E27: 0 | F27: =ROUND(D27-E27,2) -> 2
... A36: 21 | B36: Tehniskās dokumentācijas sagatavošana objekta nodošanai | C36: obj. | D36: 1 | E36: 0 | F36: =ROUND(D36-E36,2) -> 1
A37: 6.2 | B37: MATERIĀLI
A38: 1 | B38: Gala apdare 1kV ,piecdzīlsu kabelim 6mm2 | C38: kpl. | D38: 10 | E38: 0 | F38: =ROUND(D38-E38,2) -> 10
A39: 2 | B39: Gala apdare 1kV ,viendzīlsu kabelim no 10mm2-25mm2 | C39: kpl. | D39: 2 | E39: 0 | F39: =ROUND(D39-E39,2) -> 2
A40: 3 | B40: Kabelis ārtipa ar vara dzīslām NYY-J-3x1.5mm2 vai ekvivalents | C40: m | D40: 48 | E40: 0 | F40: =ROUND(D40-E40,2) -> 48
A41: 4 | B41: Kabelis ārtipa ar vara dzīslām NYY-J-3x2.5mm2 vai ekvivalents | C41: m | D41: 401 | E41: 380 | F41: =ROUND(D41-E41,2) -> 21
A42: 5 | B42: Kabelis ārtipa ar vara dzīslām NYY-J-5x6mm2 vai ekvivalents | C42: m | D42: 369 | E42: 350 | F42: =ROUND(D42-E42,2) -> 19
A43: 6 | B43: Kabelis ārtipa ar vara dzīslām YSLY-JZ-4x1mm2 vai ekvivalents | C43: m | D43: 16 | E43: 0 | F43: =ROUND(D43-E43,2) -> 16
A44: 7 | B44: Kabelis ārtipa ar alumīnija dzīslām NAYY-J-4x25mm2 vai ekvivalents | C44: m | D44: 14 | E44: 0 | F44: =ROUND(D44-E44,2) -> 14
A45: 8 | B45: Caurule, gofrēta 450N, d=50mm | C45: m | D45: 367 | E45: 0 | F45: =ROUND(D45-E45,2) -> 367
A46: 9 | B46: Caurule, gofrēta 450N, d=75mm | C46: m | D46: 350 | E46: 247 | F46: =ROUND(D46-E46,2) -> 103
A47: 10 | B47: Caurule, cinkota metāla, d=110mm | C47: m | D47: 114 | E47: 0 | F47: =ROUND(D47-E47,2) -> 114
A48: 11 | B48: Caurule, dalītā, 750N, d=110mm | C48: m | D48: 14 | E48: 0 | F48: =ROUND(D48-E48,2) -> 14
A49: 12 | B49: Signāllenta kabeļlīnijai - sarkana 125mm | C49: m | D49: 250 | E49: 230 | F49: =ROUND(D49-E49,2) -> 20
... A68: 30 | B68: Gaismeklis GAĀ-1 (korpuss NEITRĀLI PELEKS) 4.2W, 485lm, 3000K, garantija 5 gadi | C68: gb. | D68: 80 | E68: 0 | F68: =ROUND(D68-E68,2) -> 80
B69: - gaismeklis LEDVANCE LS P-500/930/5/IP67 tips, 50 000 h, IP66 (vai ekvivalents)
...
