Workbook
Name ___xlnm.Print_Titles_10: #REF!
Name ___xlnm.Print_Titles_11: #REF!
Name ___xlnm.Print_Titles_4: #REF!
Name ___xlnm.Print_Titles_5: #REF!
Name ___xlnm.Print_Titles_6: #REF!
Name ___xlnm.Print_Titles_7: #REF!
Name ___xlnm.Print_Titles_8: #REF!
Name ___xlnm.Print_Titles_9: #REF!
Name __xlnm.Print_Titles_10: #REF!
Name __xlnm.Print_Titles_11: #REF!
Name __xlnm.Print_Titles_4: #REF!
Name __xlnm.Print_Titles_5: #REF!
Name __xlnm.Print_Titles_6: 'Arhitektūra-AR'!$11:$11
Name __xlnm.Print_Titles_6: 'Būvkonstrukcijas-BK'!$11:$11
Name __xlnm.Print_Titles_6: 'Ceļa darbi-TS-CD'!$11:$11
Name __xlnm.Print_Titles_6: 'Elektroapgāde-ārējā-ELT'!$11:$11
Name __xlnm.Print_Titles_6: 'Elektronisko sakaru tīkli-EST'!$11:$11
Name __xlnm.Print_Titles_6: 'Lietus ūdens kanalizācija '!$11:$11
Name __xlnm.Print_Titles_6: 'Ūdensapgāde un kanalizācija-UKT'!$11:$11
Name __xlnm.Print_Titles_6: #REF!
Name __xlnm.Print_Titles_7: #REF!
Name __xlnm.Print_Titles_8: #REF!
Name __xlnm.Print_Titles_9: #REF!
Name Excel_BuiltIn__FilterDatabase_1: #REF!
Name Excel_BuiltIn__FilterDatabase_1: 'Būvniecības koptāme'!$A$12:$P$97
Name Excel_BuiltIn_Print_Area_1: #REF!
Name Excel_BuiltIn_Print_Area_1: 'Būvniecības koptāme'!$A$1:$P$136
Name Excel_BuiltIn_Print_Titles_1: #REF!
Name Excel_BuiltIn_Print_Titles_1: 'Būvniecības koptāme'!$3:$4

Sheet Sk_r
A1: Skaidrojošais apraksts
A2: VSIA "Strenču psihoneiroloģiskā slimnīca" galvenās iebrauktuves un uzņemšanas un observācijas nodaļas teritorijas labiekārtojums. 1.kārta
A4: Būves nosaukums | C4: =A2 -> VSIA "Strenču psihoneiroloģiskā slimnīca" galvenās iebrauktuves un uzņemšanas un observācijas nodaļas teritorijas labiekārtojums. 1.kārta
A5: Objekta adrese | C5: Valkas iela 11, Strenči, Valmieras novads, LV-4730
A6: Izmaksu aprēķins sastādīts pamatojoties uz Noteikumi par Latvijas būvnormatīvu LBN 501-17 "Būvizmaksu noteikšanas kārtība", būvprojektu, tajā iekļautajām specifikācijām un dažādās sadaļās iekļautos būvdarbu izpildes visus apstākļu raksturojumus. Saskaņā ar Noteikumi par Latvijas būvnormatīvu LBN 501-17 "Būvizmaksu noteikšanas kārtība" noteikto kārtību noteikta kopējā darbietilpība.
A7: Būvizstrādājumu apjomi doti sablīvētā veidā. Lokālajā tāmē minētos darbus veikt atbilstoši būvprojektam un Autoceļu būvdarbu specifikācijām ABS 2023. Būvdarbu veicējam jāvērtē visi nepieciešamie darbi, materiāli, būvmašīnas un transports, bez kā nevarētu būt iespējama darba daudzumu sarakstā minēto darbu tehnoloģiski pareiza, Pasūtītāja prasībām atbilstoša izpilde pilnā apjomā. Darba apjomus skatīt kopā ar plānu, profiliem, tehniskajiem risinājumiem un pielikumiem. Izstrādājot piedāvājumu, būvdarbu veicējam rūpīgi pārskatīt projektu, un apjomos jāiekļauj arī neuzrādītie darbi un materiāli, lai kvalitatīvi veiktu būvniecību atbilstoši konkrētā būvdarbu veicēja pielietotajai tehnoloģijai, un bez kuriem nebūtu iespējama būvdarbu tehnoloģiski pareiza un spēkā esošajiem normatīviem atbilstoša veikšana pilnā apjomā.
A8: Visas atsauces uz iekārtu un būvizstrādājumu izgatavotāju firmām, kuras norādītas projektā liecina tikai par šo būvizstrādājumu un iekārtu kvalitātes un apkalpošanas līmeni. Norādīto iekārtu un būvizstrādājumu nomaiņa ir iespējama ar citām tehniski ekvivalentām vai labākām iekārtām un būvizstrādājumiem. Būvdarbu veicējs dod pilna apjoma cenu piedāvājumu ieskaitot darbus un būvizstrādājumus, kas nav uzrādīti un ir nepieciešami sistēmu montāžai, palaišanai un nodošanai.
A10: Būvdarbu kopējā darbietilpība sastāda c/h | E10: ='Kopsavilkuma aprēķins'!D6 -> 0
A14: Sastādīja | C14: __________________
C15: paraksts | E15: sertifikāta Nr. | H15: datums

Sheet Būvniecības koptāme
H1: Apstiprinu
H2: ___________________________________
H3: (pasūtītājs, paraksts un tā atšifrējums)
A7: Būvniecības koptāme
A8: ='Kopsavilkuma aprēķins'!D3 -> VSIA "Strenču psihoneiroloģiskā slimnīca" galvenās iebrauktuves un uzņemšanas un observācijas nodaļas teritorijas labiekārtojums.1.kārta
A10: Būves nosaukums | D10: VSIA "Strenču psihoneiroloģiskā slimnīca" galvenās iebrauktuves un uzņemšanas un observācijas nodaļas teritorijas labiekārtojums. 1.kārta
A11: Objekta adrese | D11: ='Kopsavilkuma aprēķins'!D4 -> Valkas iela 11, Strenči, Valmieras novads, LV-4730
A12: Pasūtījuma Nr. | D12: -
A15: N. p. k | C15: Objekta nosaukums | H15: Objekta izmaksas (EUR)
A16: 1 | C16: =A8 -> VSIA "Strenču psihoneiroloģiskā slimnīca" galvenās iebrauktuves un uzņemšanas un observācijas nodaļas teritorijas labiekārtojums.1.kārta | H16: ='Kopsavilkuma aprēķins'!G21 -> 0
A18: Pavisam būvniecības izmaksas | H18: =H16 -> 0
A19: PVN | G19: 0.21 | H19: =ROUND(H18*G19,2) -> 0
C20: Kopā | H20: =H19+H18 -> 0
A26: Sastādīja | C26: _______________ | I26: =J13 -> 0
C27: paraksts | E27: sertifikāta Nr. | I27: datums
A30: Pārbaudīja | C30: _______________ | I30: =J13 -> 0
C31: paraksts | E31: sertifikāta Nr. | I31: datums

Sheet Kopsavilkuma aprēķins
A1: Kopsavilkuma aprēķins par darbu vai konstruktīvo elementu veidiem
A2: Būves nosaukums | D2: VSIA "Strenču psihoneiroloģiskā slimnīca" galvenās iebrauktuves un uzņemšanas un observācijas nodaļas teritorijas labiekārtojums. 1.kārta
A3: Objekta nosaukums | D3: VSIA "Strenču psihoneiroloģiskā slimnīca" galvenās iebrauktuves un uzņemšanas un observācijas nodaļas teritorijas labiekārtojums.1.kārta
A4: Objekta adrese | D4: Valkas iela 11, Strenči, Valmieras novads, LV-4730
A5: Par kopējo summu | D5: =G21 -> 0
A6: Kopējā darbietilpība | D6: =SUM(K10:K14) -> 0
A7: Tāme sastādīta
A8: Nr. p.k | B8: Kods, tāme Nr. | C8: Būvdarbu veids vai konstruktīvā elementa nosaukums | G8: Tāmes izmaksa EUR | H8: Tai skaitā | K8: Darb-ietilpība c/h
H9: Darba alga EUR | I9: Būvizstrādājumi EUR | J9: Mehānismi EUR
A10: 1 | B10: 1-1 | C10: ='Ceļa darbi-TS-CD'!A2 -> Ceļa darbi (TS-CD) | G10: ='Ceļa darbi-TS-CD'!O198 -> 0 | H10: ='Ceļa darbi-TS-CD'!L198 -> 0 | I10: ='Ceļa darbi-TS-CD'!M198 -> 0 | J10: ='Ceļa darbi-TS-CD'!N198 -> 0 | K10: ='Ceļa darbi-TS-CD'!K198 -> 0
B11: 1-2 | C11: ='Ūdensapgāde un kanalizācija-UKT'!A2 -> Inženierrisinājumu daļa (UKT - Ūdensapgāde un kanalizācija-ārējā) | G11: ='Ūdensapgāde un kanalizācija-UKT'!O61 -> 0 | H11: ='Ūdensapgāde un kanalizācija-UKT'!L61 -> 0 | I11: ='Ūdensapgāde un kanalizācija-UKT'!M61 -> 0 | J11: ='Ūdensapgāde un kanalizācija-UKT'!N61 -> 0 | K11: ='Ūdensapgāde un kanalizācija-UKT'!K61 -> 0
B12: 1-3 | C12: ='Lietus ūdens kanalizācija '!A2 -> Inženierrisinājumu daļa (LKT - Lietus ūdens kanalizācija) | G12: ='Lietus ūdens kanalizācija '!O43 -> 0 | H12: ='Lietus ūdens kanalizācija '!L43 -> 0 | I12: ='Lietus ūdens kanalizācija '!M43 -> 0 | J12: ='Lietus ūdens kanalizācija '!N43 -> 0 | K12: ='Lietus ūdens kanalizācija '!K43 -> 0
B13: 1-4 | C13: ='Elektroapgāde-ārējā-ELT'!A2 -> Inženierrisinājumu daļa (ELT - Elektroapgāde-ārējā (apgaismojums)) | G13: ='Elektroapgāde-ārējā-ELT'!O53 -> 0 | H13: ='Elektroapgāde-ārējā-ELT'!L53 -> 0 | I13: ='Elektroapgāde-ārējā-ELT'!M53 -> 0 | J13: ='Elektroapgāde-ārējā-ELT'!N53 -> 0 | K13: ='Elektroapgāde-ārējā-ELT'!K53 -> 0
B14: 1-5 | C14: ='Elektronisko sakaru tīkli-EST'!A2 -> Inženierrisinājumu daļa (EST - Elektronisko sakaru sistēmas-ārējās) | G14: ='Elektronisko sakaru tīkli-EST'!O32 -> 0 | H14: ='Elektronisko sakaru tīkli-EST'!L32 -> 0 | I14: ='Elektronisko sakaru tīkli-EST'!M32 -> 0 | J14: ='Elektronisko sakaru tīkli-EST'!N32 -> 0 | K14: ='Elektronisko sakaru tīkli-EST'!K32 -> 0
B15: 1-6 | C15: ='Arhitektūra-AR'!A2 -> Arhitektūras risinājumi (AR) | G15: ='Arhitektūra-AR'!O54 -> 0 | H15: ='Arhitektūra-AR'!L54 -> 0 | I15: ='Arhitektūra-AR'!M54 -> 0 | J15: ='Arhitektūra-AR'!N54 -> 0 | K15: ='Arhitektūra-AR'!K54 -> 0
B16: 1-7 | C16: ='Būvkonstrukcijas-BK'!A2 -> Būvkonstrukcijas (BK) | G16: ='Būvkonstrukcijas-BK'!O33 -> 0 | H16: ='Būvkonstrukcijas-BK'!L33 -> 0 | I16: ='Būvkonstrukcijas-BK'!M33 -> 0 | J16: ='Būvkonstrukcijas-BK'!N33 -> 0 | K16: ='Būvkonstrukcijas-BK'!K33 -> 0
A17: Kopā | G17: =SUM(G10:G16) -> 0 | H17: =SUM(H10:H16) -> 0 | I17: =SUM(I10:I16) -> 0 | J17: =SUM(J10:J16) -> 0 | K17: =SUM(K10:K16) -> 0
A18: Virsizdevumi * | F18: 0 | G18: =ROUND(G17*F18,2) -> 0
A19: tajā skaitā darba aizsardzība * (0,00%) | G19: =ROUND(G18*0.1,2) -> 0
A20: Peļņa * | F20: 0 | G20: =ROUND(G17*F20,2) -> 0
A21: Kopā | G21: =G17+G18+G20 -> 0
B23: Sastādīja | C23: __________________ | I23: =D7 -> 0
C24: paraksts | E24: sertifikāta Nr. | I24: datums
B26: Pārbaudīja | C26: __________________ | I26: =D7 -> 0
C27: paraksts | E27: sertifikāta Nr. | I27: datums
B29: * Ierakstīt savu piedāvāto skaitli (%)

Sheet Ceļa darbi-TS-CD
A1: Lokālā tāme Nr. 1-1
A2: Ceļa darbi (TS-CD)
A3: (Darba veids vai konstruktīvā elementa nosaukums)
A4: Būves nosaukums | C4: ='Kopsavilkuma aprēķins'!D2 -> VSIA "Strenču psihoneiroloģiskā slimnīca" galvenās iebrauktuves un uzņemšanas un observācijas nodaļas teritorijas labiekārtojums. 1.kārta
A5: Objekta nosaukums | C5: ='Kopsavilkuma aprēķins'!D3 -> VSIA "Strenču psihoneiroloģiskā slimnīca" galvenās iebrauktuves un uzņemšanas un observācijas nodaļas teritorijas labiekārtojums.1.kārta
A6: Objekta adrese | C6: ='Būvniecības koptāme'!D11 -> Valkas iela 11, Strenči, Valmieras novads, LV-4730
A7: Tāme sastādīta 2026. gada tirgus cenās pamatojoties uz projekta risinājumiem un rasējumiem.
L8: Tāmes izmaksa | N8: =O198 -> 0
L9: Tāme sastādīta | N9: ='Kopsavilkuma aprēķins'!D7 -> 0
A10: Nr. p.k. | B10: Darbu apraksts vai materiālu nosaukums | E10: Vienības izmaksas | K10: Kopā uz visu apjomu
C11: Mērvienība | D11: Daudzums | E11: Laika norma (c/h) | F11: Darba samaksas likme (EUR/h) | G11: Darba alga (EUR) | H11: Būvizstrādājumi (EUR) | I11: Mehānismi (EUR) | J11: Kopā (EUR) | K11: Darbietilpība (c/h) | L11: Darba alga (EUR) | M11: Būvizstrādājumi (EUR) | N11: Mehānismi (EUR) | O11: Summa (EUR)
A12: SAGATAVOŠANAS DARBI
A13: 1 | B13: Izpilddokumentācijas sagatavošana | C13: kpl. | D13: 1 | G13: =ROUND(F13*E13,2) -> 0 | J13: =SUM(G13:I13) -> 0 | K13: =ROUND(D13*E13,1) -> 0 | L13: =ROUND(D13*G13,2) -> 0 | M13: =ROUND(D13*H13,2) -> 0 | N13: =ROUND(D13*I13,2) -> 0 | O13: =SUM(L13:N13) -> 0
A14: 2 | B14: Mobilizācija un sagatavošanās būvdarbu veikšanai | C14: kpl. | D14: 1 | G14: =ROUND(F14*E14,2) -> 0 | J14: =SUM(G14:I14) -> 0 | K14: =ROUND(D14*E14,1) -> 0 | L14: =ROUND(D14*G14,2) -> 0 | M14: =ROUND(D14*H14,2) -> 0 | N14: =ROUND(D14*I14,2) -> 0 | O14: =SUM(L14:N14) -> 0
A15: 3 | B15: Būvtāfeles uzstādīšana | C15: kpl. | D15: 1 | G15: =ROUND(E15*F15,2) -> 0 | J15: =SUM(G15:I15) -> 0 | K15: =ROUND(D15*E15,2) -> 0 | L15: =ROUND(D15*G15,2) -> 0 | M15: =ROUND(D15*H15,2) -> 0 | N15: =ROUND(D15*I15,2) -> 0 | O15: =SUM(L15:N15) -> 0
A16: 4 | B16: Teritorijas uzmērīšana un nospraušana | C16: kpl. | D16: 1 | G16: =ROUND(F16*E16,2) -> 0 | J16: =SUM(G16:I16) -> 0 | K16: =ROUND(D16*E16,1) -> 0 | L16: =ROUND(D16*G16,2) -> 0 | M16: =ROUND(D16*H16,2) -> 0 | N16: =ROUND(D16*I16,2) -> 0 | O16: =SUM(L16:N16) -> 0
A17: TERITORIJAS SAGATAVOŠANA UN DEMONTĀŽAS DARBI
A18: 5 | B18: Augu zemes noņemšana, hvid=40 cm, utilizējamo/noglabājamo grunti aizvedot uz būvdarbu veicēja norādīto atbērtni | C18: m3 | D18: 2763.77 | G18: =ROUND(F18*E18,2) -> 0 | J18: =SUM(G18:I18) -> 0 | K18: =ROUND(D18*E18,1) -> 0 | L18: =ROUND(D18*G18,2) -> 0 | M18: =ROUND(D18*H18,2) -> 0 | N18: =ROUND(D18*I18,2) -> 0 | O18: =SUM(L18:N18) -> 0
A19: 6 | B19: Ierakuma izbūve, izrakto grunti izmantojot uzbērumam zem zaļajām zonām, lieko grunti aizvedot uz atbērtni | C19: m3 | D19: =1164.48*1.05 -> 1222.704 | G19: =ROUND(F19*E19,2) -> 0 | J19: =SUM(G19:I19) -> 0 | K19: =ROUND(D19*E19,1) -> 0 | L19: =ROUND(D19*G19,2) -> 0 | M19: =ROUND(D19*H19,2) -> 0 | N19: =ROUND(D19*I19,2) -> 0 | O19: =SUM(L19:N19) -> 0
A20: 7 | B20: Uzbēruma izveide, izmantojot grunti atbilstošu "Autoceļu būvdarbu specifikācijām 2026" | C20: m3 | D20: =1014.54*1.1 -> 1115.994 | G20: =ROUND(E20*F20,2) -> 0 | J20: =SUM(G20:I20) -> 0 | K20: =ROUND(D20*E20,2) -> 0 | L20: =ROUND(D20*G20,2) -> 0 | M20: =ROUND(D20*H20,2) -> 0 | N20: =ROUND(D20*I20,2) -> 0 | O20: =SUM(L20:N20) -> 0
A21: 8 | B21: Esošu segumu demontāža (asfalts, h=8cm) | C21: m3 | D21: =0.08*949.79 -> 75.9832 | G21: =ROUND(F21*E21,2) -> 0 | J21: =SUM(G21:I21) -> 0 | K21: =ROUND(D21*E21,1) -> 0 | L21: =ROUND(D21*G21,2) -> 0 | M21: =ROUND(D21*H21,2) -> 0 | N21: =ROUND(D21*I21,2) -> 0 | O21: =SUM(L21:N21) -> 0
A22: 9 | B22: Esošu segumu demontāža (betona bruģis, betona plāksnes) | C22: m3 | D22: =0.1*425.58 -> 42.558 | G22: =ROUND(E22*F22,2) -> 0 | J22: =SUM(G22:I22) -> 0 | K22: =ROUND(D22*E22,2) -> 0 | L22: =ROUND(D22*G22,2) -> 0 | M22: =ROUND(D22*H22,2) -> 0 | N22: =ROUND(D22*I22,2) -> 0 | O22: =SUM(L22:N22) -> 0
A23: 10 | B23: Esoša betona seguma demontāža | C23: m2 | D23: 14.49 | G23: =ROUND(E23*F23,2) -> 0 | J23: =SUM(G23:I23) -> 0 | K23: =ROUND(D23*E23,2) -> 0 | L23: =ROUND(D23*G23,2) -> 0 | M23: =ROUND(D23*H23,2) -> 0 | N23: =ROUND(D23*I23,2) -> 0 | O23: =SUM(L23:N23) -> 0
A24: 11 | B24: Koku (kuru stumbra caurmērs ir lielāks par 20 cm) izciršana, celmu frēzēšana un aizvešana | C24: gb. | D24: 9 | G24: =ROUND(E24*F24,2) -> 0 | J24: =SUM(G24:I24) -> 0 | K24: =ROUND(D24*E24,2) -> 0 | L24: =ROUND(D24*G24,2) -> 0 | M24: =ROUND(D24*H24,2) -> 0 | N24: =ROUND(D24*I24,2) -> 0 | O24: =SUM(L24:N24) -> 0
A25: 12 | B25: Kokaugu (augļu koki, krūmi, koki, kuru stumbra caurmērs ir mazāks par 20 cm) izciršana, celmu frēzēšana un aizvešana | C25: gb. | D25: 28 | G25: =ROUND(E25*F25,2) -> 0 | J25: =SUM(G25:I25) -> 0 | K25: =ROUND(D25*E25,2) -> 0 | L25: =ROUND(D25*G25,2) -> 0 | M25: =ROUND(D25*H25,2) -> 0 | N25: =ROUND(D25*I25,2) -> 0 | O25: =SUM(L25:N25) -> 0
A26: 13 | B26: Esošu pandusu saudzīga demontāža un uzglabāšana pie Pasūtītāja | C26: kpl. | D26: 2 | G26: =ROUND(F26*E26,2) -> 0 | J26: =SUM(G26:I26) -> 0 | K26: =ROUND(D26*E26,1) -> 0 | L26: =ROUND(D26*G26,2) -> 0 | M26: =ROUND(D26*H26,2) -> 0 | N26: =ROUND(D26*I26,2) -> 0 | O26: =SUM(L26:N26) -> 0
A27: 14 | B27: Esoša sola demontāža un nodošana Pasūtītājam | C27: gb. | D27: 3 | G27: =ROUND(F27*E27,2) -> 0 | J27: =SUM(G27:I27) -> 0 | K27: =ROUND(D27*E27,1) -> 0 | L27: =ROUND(D27*G27,2) -> 0 | M27: =ROUND(D27*H27,2) -> 0 | N27: =ROUND(D27*I27,2) -> 0 | O27: =SUM(L27:N27) -> 0
A28: 15 | B28: Esošas atkritumu urnas demontāža un nodošana Pasūtītājam | C28: gb. | D28: 2 | G28: =ROUND(F28*E28,2) -> 0 | J28: =SUM(G28:I28) -> 0 | K28: =ROUND(D28*E28,1) -> 0 | L28: =ROUND(D28*G28,2) -> 0 | M28: =ROUND(D28*H28,2) -> 0 | N28: =ROUND(D28*I28,2) -> 0 | O28: =SUM(L28:N28) -> 0
A29: 16 | B29: Esošu velosipēdu statīvu demontāža un nodošana Pasūtītājam | C29: gb. | D29: 1 | G29: =ROUND(F29*E29,2) -> 0 | J29: =SUM(G29:I29) -> 0 | K29: =ROUND(D29*E29,1) -> 0 | L29: =ROUND(D29*G29,2) -> 0 | M29: =ROUND(D29*H29,2) -> 0 | N29: =ROUND(D29*I29,2) -> 0 | O29: =SUM(L29:N29) -> 0
A30: 17 | B30: Šūpoļu demontāža un nodošana Pasūtītājam | C30: kpl. | D30: 1 | G30: =ROUND(F30*E30,2) -> 0 | J30: =SUM(G30:I30) -> 0 | K30: =ROUND(D30*E30,1) -> 0 | L30: =ROUND(D30*G30,2) -> 0 | M30: =ROUND(D30*H30,2) -> 0 | N30: =ROUND(D30*I30,2) -> 0 | O30: =SUM(L30:N30) -> 0
A31: 18 | B31: Esoša mūra žoga demontāža | C31: t. m | D31: 23 | G31: =ROUND(E31*F31,2) -> 0 | J31: =SUM(G31:I31) -> 0 | K31: =ROUND(D31*E31,2) -> 0 | L31: =ROUND(D31*G31,2) -> 0 | M31: =ROUND(D31*H31,2) -> 0 | N31: =ROUND(D31*I31,2) -> 0 | O31: =SUM(L31:N31) -> 0
A32: 19 | B32: Esoša informatīvā stenda (Dž.Pītersona citāts) demontāža un uzglabāšana pie Pasūtītāja atkārtotai montāžai | C32: gb. | D32: 1 | G32: =ROUND(F32*E32,2) -> 0 | J32: =SUM(G32:I32) -> 0 | K32: =ROUND(D32*E32,1) -> 0 | L32: =ROUND(D32*G32,2) -> 0 | M32: =ROUND(D32*H32,2) -> 0 | N32: =ROUND(D32*I32,2) -> 0 | O32: =SUM(L32:N32) -> 0
A33: 20 | B33: Esoša norādes staba ar spoguli demontāža un uzglabāšana pie Pasūtītāja atkārtotai montāžai | C33: gb. | D33: 1 | G33: =ROUND(E33*F33,2) -> 0 | J33: =SUM(G33:I33) -> 0 | K33: =ROUND(D33*E33,2) -> 0 | L33: =ROUND(D33*G33,2) -> 0 | M33: =ROUND(D33*H33,2) -> 0 | N33: =ROUND(D33*I33,2) -> 0 | O33: =SUM(L33:N33) -> 0
A34: 21 | B34: Esošas norādes zīmes "Uzņemšana, administrācija" demontāža un utilizācija | C34: gb. | D34: 1 | G34: =ROUND(E34*F34,2) -> 0 | J34: =SUM(G34:I34) -> 0 | K34: =ROUND(D34*E34,2) -> 0 | L34: =ROUND(D34*G34,2) -> 0 | M34: =ROUND(D34*H34,2) -> 0 | N34: =ROUND(D34*I34,2) -> 0 | O34: =SUM(L34:N34) -> 0
A35: 22 | B35: Ievalkas izbūve | C35: m2 | D35: 50 | G35: =ROUND(F35*E35,2) -> 0 | J35: =SUM(G35:I35) -> 0 | K35: =ROUND(D35*E35,1) -> 0 | L35: =ROUND(D35*G35,2) -> 0 | M35: =ROUND(D35*H35,2) -> 0 | N35: =ROUND(D35*I35,2) -> 0 | O35: =SUM(L35:N35) -> 0
A36: 23 | B36: Aku vāku līmeņošana | C36: kpl. | D36: 5 | G36: =ROUND(E36*F36,2) -> 0 | J36: =SUM(G36:I36) -> 0 | K36: =ROUND(D36*E36,2) -> 0 | L36: =ROUND(D36*G36,2) -> 0 | M36: =ROUND(D36*H36,2) -> 0 | N36: =ROUND(D36*I36,2) -> 0 | O36: =SUM(L36:N36) -> 0
A37: 24 | B37: Inženierkomuniāciju ievietošana aizsargcaurulēs | C37: t. m | D37: 295 | G37: =ROUND(F37*E37,2) -> 0 | J37: =SUM(G37:I37) -> 0 | K37: =ROUND(D37*E37,1) -> 0 | L37: =ROUND(D37*G37,2) -> 0 | M37: =ROUND(D37*H37,2) -> 0 | N37: =ROUND(D37*I37,2) -> 0 | O37: =SUM(L37:N37) -> 0
A38: 25 | B38: Apzaļumošana
A39: 26 | B39: Atvestās auglīgās augsnes ielabošana ar pievestu organisko un minerālo mēslojumu, zāliena ierīkošana ar veltņošanu 15 cm dziļumā vienlaidus zonā. Zālienam izmantot Masterline zāliena sēklu maisījumu "ECO MASTER" vai ekvivalentu. Izsējas norma 3 kg/100 m² | C39: m2 | D39: =1657.3*1.03 -> 1707.019 | G39: =ROUND(F39*E39,2) -> 0 | J39: =SUM(G39:I39) -> 0 | K39: =ROUND(D39*E39,1) -> 0 | L39: =ROUND(D39*G39,2) -> 0 | M39: =ROUND(D39*H39,2) -> 0 | N39: =ROUND(D39*I39,2) -> 0 | O39: =SUM(L39:N39) -> 0
A40: 27 | B40: Zāliens - darba zonas sakārtošana | C40: m2 | D40: =291*1.03 -> 299.73 | G40: =ROUND(E40*F40,2) -> 0 | J40: =SUM(G40:I40) -> 0 | K40: =ROUND(D40*E40,2) -> 0 | L40: =ROUND(D40*G40,2) -> 0 | M40: =ROUND(D40*H40,2) -> 0 | N40: =ROUND(D40*I40,2) -> 0 | O40: =SUM(L40:N40) -> 0
...

Sheet Ūdensapgāde un kanalizācija-UKT
A1: Lokālā tāme Nr. 1-2
A2: Inženierrisinājumu daļa (UKT - Ūdensapgāde un kanalizācija-ārējā)
A3: (Darba veids vai konstruktīvā elementa nosaukums)
A4: Būves nosaukums | C4: ='Kopsavilkuma aprēķins'!D2 -> VSIA "Strenču psihoneiroloģiskā slimnīca" galvenās iebrauktuves un uzņemšanas un observācijas nodaļas teritorijas labiekārtojums. 1.kārta
A5: Objekta nosaukums | C5: ='Kopsavilkuma aprēķins'!D3 -> VSIA "Strenču psihoneiroloģiskā slimnīca" galvenās iebrauktuves un uzņemšanas un observācijas nodaļas teritorijas labiekārtojums.1.kārta
A6: Objekta adrese | C6: ='Būvniecības koptāme'!D11 -> Valkas iela 11, Strenči, Valmieras novads, LV-4730
A7: Tāme sastādīta _______. gada tirgus cenās pamatojoties uz projekta risinājumiem un rasējumiem.
L8: Tāmes izmaksa | N8: =O61 -> 0
L9: Tāme sastādīta | N9: ='Kopsavilkuma aprēķins'!D7 -> 0
A10: Nr. p.k. | B10: Darbu apraksts vai materiālu nosaukums | E10: Vienības izmaksas | K10: Kopā uz visu apjomu
C11: Mērvienība | D11: Daudzums | E11: Laika norma (c/h) | F11: Darba samaksas likme (EUR/h) | G11: Darba alga (EUR) | H11: Būvizstrādājumi (EUR) | I11: Mehānismi (EUR) | J11: Kopā (EUR) | K11: Darbietilpība (c/h) | L11: Darba alga (EUR) | M11: Būvizstrādājumi (EUR) | N11: Mehānismi (EUR) | O11: Summa (EUR)
A12: Zemes darbi projektētā ūdensvada un kanalizācijas tīklu darbu zonā
A13: 1 | B13: Tranšejas rakšana ar rokām un ekskavatoru projektēto cauruļvadu montāžai. Grunti noblīvēt līdz dabīgā blīvuma pakāpei | C13: m³ | D13: 818 | G13: =ROUND(E13*F13,2) -> 0 | J13: =SUM(G13:I13) -> 0 | K13: =ROUND(D13*E13,2) -> 0 | L13: =ROUND(D13*G13,2) -> 0 | M13: =ROUND(D13*H13,2) -> 0 | N13: =ROUND(D13*I13,2) -> 0 | O13: =SUM(L13:N13) -> 0
A14: 2 | B14: Izbrīvētās grunts iekraušana autopašizgāzējā un promvešana līdz pasūtītāja norādītai atbērtnei (ja nepieciešams) | C14: m³ | D14: 818 | G14: =ROUND(E14*F14,2) -> 0 | J14: =SUM(G14:I14) -> 0 | K14: =ROUND(D14*E14,2) -> 0 | L14: =ROUND(D14*G14,2) -> 0 | M14: =ROUND(D14*H14,2) -> 0 | N14: =ROUND(D14*I14,2) -> 0 | O14: =SUM(L14:N14) -> 0
A15: 3 | B15: Blietētas smilts (filtrācijas koeficients K>1 m/dnn) pamatnes un apbērums ierīkošana h=0,15/0.30 m | C15: m³ | D15: 329.35 | G15: =ROUND(E15*F15,2) -> 0 | J15: =SUM(G15:I15) -> 0 | K15: =ROUND(D15*E15,2) -> 0 | L15: =ROUND(D15*G15,2) -> 0 | M15: =ROUND(D15*H15,2) -> 0 | N15: =ROUND(D15*I15,2) -> 0 | O15: =SUM(L15:N15) -> 0
A16: 4 | B16: Graudaina grunts vai rupja smilts, Stormbox pamatnes un apbēruma ierikošanai | C16: m³ | D16: 26 | G16: =ROUND(E16*F16,2) -> 0 | J16: =SUM(G16:I16) -> 0 | K16: =ROUND(D16*E16,2) -> 0 | L16: =ROUND(D16*G16,2) -> 0 | M16: =ROUND(D16*H16,2) -> 0 | N16: =ROUND(D16*I16,2) -> 0 | O16: =SUM(L16:N16) -> 0
A17: 5 | B17: Virszemes ūdens atsūknēšana no tranšejas ar drenāžas sūkni (nepieciešamības gadījumā) | C17: m | D17: 342 | G17: =ROUND(F17*E17,2) -> 0 | J17: =SUM(G17:I17) -> 0 | K17: =ROUND(D17*E17,1) -> 0 | L17: =ROUND(D17*G17,2) -> 0 | M17: =ROUND(D17*H17,2) -> 0 | N17: =ROUND(D17*I17,2) -> 0 | O17: =SUM(L17:N17) -> 0
A18: 6 | B18: Grunts ūdens līmeņa pazemināšana ar adatfiltriem tīklu rakšanas zonā (nepieciešamības gadījumā) | C18: m | D18: 30 | G18: =ROUND(F18*E18,2) -> 0 | J18: =SUM(G18:I18) -> 0 | K18: =ROUND(D18*E18,1) -> 0 | L18: =ROUND(D18*G18,2) -> 0 | M18: =ROUND(D18*H18,2) -> 0 | N18: =ROUND(D18*I18,2) -> 0 | O18: =SUM(L18:N18) -> 0
A19: 7 | B19: Tranšejas sieniņu nostiprināšana ar metāla vairogiem pie dziļuma lielāka par 1,00m | C19: m | D19: 342 | G19: =ROUND(F19*E19,2) -> 0 | J19: =SUM(G19:I19) -> 0 | K19: =ROUND(D19*E19,1) -> 0 | L19: =ROUND(D19*G19,2) -> 0 | M19: =ROUND(D19*H19,2) -> 0 | N19: =ROUND(D19*I19,2) -> 0 | O19: =SUM(L19:N19) -> 0
A20: 8 | B20: Tranšeju aizbēršana ar pievesto smilti (filtrācijas koeficientu ≥ 1 m/dnn, smilts blīvums ne mazāks par 0,95 no dabīgā blīvuma) no ierīkotā apbēruma ap cauruļvadu līdz atjaunojamā seguma apakšējai kārtai, blietējot ik pa 30 cm. | C20: m³ | D20: 457.5 | G20: =ROUND(E20*F20,2) -> 0 | J20: =SUM(G20:I20) -> 0 | K20: =ROUND(D20*E20,2) -> 0 | L20: =ROUND(D20*G20,2) -> 0 | M20: =ROUND(D20*H20,2) -> 0 | N20: =ROUND(D20*I20,2) -> 0 | O20: =SUM(L20:N20) -> 0
A21: Ūdensvads
A22: =A20+1 -> 9 | B22: Spiedvada PE-100 caurule PN16, OD32x3.0, montāža ar 15 cm smilts pamatnes ierīkošanu un izbūvētā cauruļvada smilts apbēruma ierīkošanu 30 cm virs caurules virsas. Tai skaitā būvizstrādājumi | C22: m | D22: 3 | G22: =ROUND(F22*E22,2) -> 0 | J22: =SUM(G22:I22) -> 0 | K22: =ROUND(D22*E22,1) -> 0 | L22: =ROUND(D22*G22,2) -> 0 | M22: =ROUND(D22*H22,2) -> 0 | N22: =ROUND(D22*I22,2) -> 0 | O22: =SUM(L22:N22) -> 0
A23: 10 | B23: EM sedlu trejgabals PN10 OD63/32, montāža | C23: gb | D23: 1 | G23: =ROUND(E23*F23,2) -> 0 | J23: =SUM(G23:I23) -> 0 | K23: =ROUND(D23*E23,2) -> 0 | L23: =ROUND(D23*G23,2) -> 0 | M23: =ROUND(D23*H23,2) -> 0 | N23: =ROUND(D23*I23,2) -> 0 | O23: =SUM(L23:N23) -> 0
A24: 11 | B24: EM dubultuzmava PN10 OD32, montāža | C24: gb | D24: 1 | G24: =ROUND(E24*F24,2) -> 0 | J24: =SUM(G24:I24) -> 0 | K24: =ROUND(D24*E24,2) -> 0 | L24: =ROUND(D24*G24,2) -> 0 | M24: =ROUND(D24*H24,2) -> 0 | N24: =ROUND(D24*I24,2) -> 0 | O24: =SUM(L24:N24) -> 0
A25: 12 | B25: EM līknis PN10 OD32x90°, montāža | C25: gb | D25: 1 | G25: =ROUND(E25*F25,2) -> 0 | J25: =SUM(G25:I25) -> 0 | K25: =ROUND(D25*E25,2) -> 0 | L25: =ROUND(D25*G25,2) -> 0 | M25: =ROUND(D25*H25,2) -> 0 | N25: =ROUND(D25*I25,2) -> 0 | O25: =SUM(L25:N25) -> 0
A26: 13 | B26: Servisa aizbīdnis ar uzmavām PE caurulei, DCI DN 25, montāža | C26: gb | D26: 1 | G26: =ROUND(E26*F26,2) -> 0 | J26: =SUM(G26:I26) -> 0 | K26: =ROUND(D26*E26,2) -> 0 | L26: =ROUND(D26*G26,2) -> 0 | M26: =ROUND(D26*H26,2) -> 0 | N26: =ROUND(D26*I26,2) -> 0 | O26: =SUM(L26:N26) -> 0
A27: 14 | B27: Plastmasas ūdens aka ø400/315 h=0,6m, ar ķeta akas vāku 40t, PP pamata plāksni (800x800mm), lodveida ventili DN25 ar ārējo vītni pieslēgumam un stiprinājumiem; uzstādīšanai zaļajā zonā, montāža | C27: kompl. | D27: 1 | G27: =ROUND(F27*E27,2) -> 0 | J27: =ROUND(SUM(G27:I27),2) -> 0 | K27: =ROUND(E27*D27,2) -> 0 | L27: =ROUND(G27*D27,2) -> 0 | M27: =ROUND(H27*D27,2) -> 0 | N27: =ROUND(I27*D27,2) -> 0 | O27: =ROUND(SUM(L27:N27),2) -> 0
A28: 15 | B28: Balsti zem aizbīdņiem un veidgabaliem, betona marka B25, montāža | C28: gb | D28: 2 | G28: =ROUND(E28*F28,2) -> 0 | J28: =SUM(G28:I28) -> 0 | K28: =ROUND(D28*E28,2) -> 0 | L28: =ROUND(D28*G28,2) -> 0 | M28: =ROUND(D28*H28,2) -> 0 | N28: =ROUND(D28*I28,2) -> 0 | O28: =SUM(L28:N28) -> 0
A29: 16 | B29: Marķējuma lentas piegāde un ieklāšana ūdensvadam 0,5m no cauruļvada virsmas | C29: m | D29: 3 | G29: =ROUND(E29*F29,2) -> 0 | J29: =SUM(G29:I29) -> 0 | K29: =ROUND(D29*E29,2) -> 0 | L29: =ROUND(D29*G29,2) -> 0 | M29: =ROUND(D29*H29,2) -> 0 | N29: =ROUND(D29*I29,2) -> 0 | O29: =SUM(L29:N29) -> 0
A30: 17 | B30: Pievienojums esošajam ūdensvadam d63 | C30: vieta | D30: 1 | G30: =ROUND(F30*E30,2) -> 0 | J30: =SUM(G30:I30) -> 0 | K30: =ROUND(D30*E30,1) -> 0 | L30: =ROUND(D30*G30,2) -> 0 | M30: =ROUND(D30*H30,2) -> 0 | N30: =ROUND(D30*I30,2) -> 0 | O30: =SUM(L30:N30) -> 0
A31: 18 | B31: Cauruļvadu skalošana un hlorēšana | C31: m | D31: 3 | G31: =ROUND(E31*F31,2) -> 0 | J31: =SUM(G31:I31) -> 0 | K31: =ROUND(D31*E31,2) -> 0 | L31: =ROUND(D31*G31,2) -> 0 | M31: =ROUND(D31*H31,2) -> 0 | N31: =ROUND(D31*I31,2) -> 0 | O31: =SUM(L31:N31) -> 0
A32: 19 | B32: Cauruļvadu hidrauliskā pārbaude | C32: m | D32: 3 | G32: =ROUND(E32*F32,2) -> 0 | J32: =SUM(G32:I32) -> 0 | K32: =ROUND(D32*E32,2) -> 0 | L32: =ROUND(D32*G32,2) -> 0 | M32: =ROUND(D32*H32,2) -> 0 | N32: =ROUND(D32*I32,2) -> 0 | O32: =SUM(L32:N32) -> 0
A33: Sadzīves kanalizācija K1
A34: 20 | B34: PVC daudzslāņu kanalizācijas caurule ar uzmavu, SN8 OD110, montāža ar 15 cm smilts pamatnes ierīkošanu un izbūvētā cauruļvada smilts apbēruma ierīkošanu 30 cm virs caurules virsas. Tai skaitā būvizstrādājumi | C34: m | D34: 2 | G34: =ROUND(F34*E34,2) -> 0 | J34: =SUM(G34:I34) -> 0 | K34: =ROUND(D34*E34,1) -> 0 | L34: =ROUND(D34*G34,2) -> 0 | M34: =ROUND(D34*H34,2) -> 0 | N34: =ROUND(D34*I34,2) -> 0 | O34: =SUM(L34:N34) -> 0
A35: 21 | B35: PP kanalizācijas caurule ar uzmavu, SN8 OD160, montāža ar 15 cm smilts pamatnes ierīkošanu un izbūvētā cauruļvada smilts apbēruma ierīkošanu 30 cm virs caurules virsas. Tai skaitā būvizstrādājumi | C35: m | D35: 8 | G35: =ROUND(E35*F35,2) -> 0 | J35: =SUM(G35:I35) -> 0 | K35: =ROUND(D35*E35,2) -> 0 | L35: =ROUND(D35*G35,2) -> 0 | M35: =ROUND(D35*H35,2) -> 0 | N35: =ROUND(D35*I35,2) -> 0 | O35: =SUM(L35:N35) -> 0
A36: 22 | B36: PP kanalizācijas caurule ar uzmavu, SN8 OD250, montāža ar 15 cm smilts pamatnes ierīkošanu un izbūvētā cauruļvada smilts apbēruma ierīkošanu 30 cm virs caurules virsas. Tai skaitā būvizstrādājumi | C36: m | D36: 62 | G36: =ROUND(F36*E36,2) -> 0 | J36: =ROUND(SUM(G36:I36),2) -> 0 | K36: =ROUND(E36*D36,2) -> 0 | L36: =ROUND(G36*D36,2) -> 0 | M36: =ROUND(H36*D36,2) -> 0 | N36: =ROUND(I36*D36,2) -> 0 | O36: =ROUND(SUM(L36:N36),2) -> 0
A37: 23 | B37: Iebetonējama aizsargčaula DW DN250, montāža. Tai skaitā būvizstrādājumi | C37: gb | D37: 1 | G37: =ROUND(E37*F37,2) -> 0 | J37: =SUM(G37:I37) -> 0 | K37: =ROUND(D37*E37,2) -> 0 | L37: =ROUND(D37*G37,2) -> 0 | M37: =ROUND(D37*H37,2) -> 0 | N37: =ROUND(D37*I37,2) -> 0 | O37: =SUM(L37:N37) -> 0
A38: 24 | B38: Individuāla pasūtījuma teleskopiska skataka POLAR 160/400/315 (skatakas pamatne, blīvgumija akas pamatnei, augstuma regulēšanas šahta OD400, manžete teleskopiskajai caurulei, teleskopiskā caurule OD315 un ķeta rāmis ar slēgtu vāku R40-40t) H = 1.50-2.00m, izbūve un montāža. Tai skaitā būvizstrādājumi | C38: kompl. | D38: 1 | G38: =ROUND(E38*F38,2) -> 0 | J38: =SUM(G38:I38) -> 0 | K38: =ROUND(D38*E38,2) -> 0 | L38: =ROUND(D38*G38,2) -> 0 | M38: =ROUND(D38*H38,2) -> 0 | N38: =ROUND(D38*I38,2) -> 0 | O38: =SUM(L38:N38) -> 0
A39: 25 | B39: Individuāla pasūtījuma teleskopiska skataka PRO 250/630/500 (akas pamatne ar tekni, blīvgumija akas pamatnei, augstuma regulēšanas šahta PP OD630, manžete teleskopiskajai caurulei, teleskopiskā caurule OD500 un ķeta rāmis ar slēgtu vāku R40-40t) H = 1.50-2.00m, izbūve un montāža. Tai skaitā būvizstrādājumi | C39: kompl. | D39: 1 | G39: =ROUND(E39*F39,2) -> 0 | J39: =SUM(G39:I39) -> 0 | K39: =ROUND(D39*E39,2) -> 0 | L39: =ROUND(D39*G39,2) -> 0 | M39: =ROUND(D39*H39,2) -> 0 | N39: =ROUND(D39*I39,2) -> 0 | O39: =SUM(L39:N39) -> 0
A40: 26 | B40: Teleskopiska skataka PRO 250/630/500 (akas pamatne ar tekni, blīvgumija akas pamatnei, augstuma regulēšanas šahta PP OD630, manžete teleskopiskajai caurulei, teleskopiskā caurule OD500 un ķeta rāmis ar slēgtu vāku R40-40t) H = 2.00-2.50m, izbūve un montāža. Tai skaitā būvizstrādājumi | C40: kompl. | D40: 2 | G40: =ROUND(E40*F40,2) -> 0 | J40: =SUM(G40:I40) -> 0 | K40: =ROUND(D40*E40,2) -> 0 | L40: =ROUND(D40*G40,2) -> 0 | M40: =ROUND(D40*H40,2) -> 0 | N40: =ROUND(D40*I40,2) -> 0 | O40: =SUM(L40:N40) -> 0
...

Sheet Lietus ūdens kanalizācija 
A1: Lokālā tāme Nr. 1-3
A2: Inženierrisinājumu daļa (LKT - Lietus ūdens kanalizācija)
A3: (Darba veids vai konstruktīvā elementa nosaukums)
A4: Būves nosaukums | C4: ='Kopsavilkuma aprēķins'!D2 -> VSIA "Strenču psihoneiroloģiskā slimnīca" galvenās iebrauktuves un uzņemšanas un observācijas nodaļas teritorijas labiekārtojums. 1.kārta
A5: Objekta nosaukums | C5: ='Kopsavilkuma aprēķins'!D3 -> VSIA "Strenču psihoneiroloģiskā slimnīca" galvenās iebrauktuves un uzņemšanas un observācijas nodaļas teritorijas labiekārtojums.1.kārta
A6: Objekta adrese | C6: ='Būvniecības koptāme'!D11 -> Valkas iela 11, Strenči, Valmieras novads, LV-4730
A7: Tāme sastādīta ________. gada tirgus cenās pamatojoties uz projekta risinājumiem un rasējumiem.
L8: Tāmes izmaksa | N8: =O43 -> 0
L9: Tāme sastādīta | N9: ='Kopsavilkuma aprēķins'!D7 -> 0
A10: Nr. p.k. | B10: Darbu apraksts vai materiālu nosaukums | E10: Vienības izmaksas | K10: Kopā uz visu apjomu
C11: Mērvienība | D11: Daudzums | E11: Laika norma (c/h) | F11: Darba samaksas likme (EUR/h) | G11: Darba alga (EUR) | H11: Būvizstrādājumi (EUR) | I11: Mehānismi (EUR) | J11: Kopā (EUR) | K11: Darbietilpība (c/h) | L11: Darba alga (EUR) | M11: Būvizstrādājumi (EUR) | N11: Mehānismi (EUR) | O11: Summa (EUR)
A12: Lietus ūdens kanalizācija K2
A13: 1 | B13: Lietus ūdeņu kanalizācijas caurule SN8 PVC OD110, montāža ar 15 cm smilts pamatnes ierīkošanu un izbūvētā cauruļvada smilts apbēruma ierīkošanu 30 cm virs caurules virsas. Tai skaitā būvizstrādājumi | C13: m | D13: 70 | G13: =ROUND(F13*E13,2) -> 0 | J13: =SUM(G13:I13) -> 0 | K13: =ROUND(D13*E13,1) -> 0 | L13: =ROUND(D13*G13,2) -> 0 | M13: =ROUND(D13*H13,2) -> 0 | N13: =ROUND(D13*I13,2) -> 0 | O13: =SUM(L13:N13) -> 0
A14: 2 | B14: Lietus ūdeņu kanalizācijas caurule SN8 PP OD160, montāža ar 15 cm smilts pamatnes ierīkošanu un izbūvētā cauruļvada smilts apbēruma ierīkošanu 30 cm virs caurules virsas. Tai skaitā būvizstrādājumi | C14: m | D14: 6 | G14: =ROUND(F14*E14,2) -> 0 | J14: =SUM(G14:I14) -> 0 | K14: =ROUND(D14*E14,1) -> 0 | L14: =ROUND(D14*G14,2) -> 0 | M14: =ROUND(D14*H14,2) -> 0 | N14: =ROUND(D14*I14,2) -> 0 | O14: =SUM(L14:N14) -> 0
A15: 3 | B15: Lietus ūdeņu kanalizācijas caurule SN8 PP OD200, montāža ar 15 cm smilts pamatnes ierīkošanu un izbūvētā cauruļvada smilts apbēruma ierīkošanu 30 cm virs caurules virsas. Tai skaitā būvizstrādājumi | C15: m | D15: 105 | G15: =ROUND(F15*E15,2) -> 0 | J15: =SUM(G15:I15) -> 0 | K15: =ROUND(D15*E15,1) -> 0 | L15: =ROUND(D15*G15,2) -> 0 | M15: =ROUND(D15*H15,2) -> 0 | N15: =ROUND(D15*I15,2) -> 0 | O15: =SUM(L15:N15) -> 0
A16: 4 | B16: Lietus ūdeņu kanalizācijas caurule SN8 PP OD250, montāža ar 15 cm smilts pamatnes ierīkošanu un izbūvētā cauruļvada smilts apbēruma ierīkošanu 30 cm virs caurules virsas. Tai skaitā būvizstrādājumi | C16: m | D16: 67 | G16: =ROUND(F16*E16,2) -> 0 | J16: =ROUND(SUM(G16:I16),2) -> 0 | K16: =ROUND(E16*D16,2) -> 0 | L16: =ROUND(G16*D16,2) -> 0 | M16: =ROUND(H16*D16,2) -> 0 | N16: =ROUND(I16*D16,2) -> 0 | O16: =ROUND(SUM(L16:N16),2) -> 0
A17: 5 | B17: Lietus ūdeņu kanalizācijas caurule SN8 PP OD315, montāža ar 15 cm smilts pamatnes ierīkošanu un izbūvētā cauruļvada smilts apbēruma ierīkošanu 30 cm virs caurules virsas. Tai skaitā būvizstrādājumi | C17: m | D17: 8 | G17: =ROUND(F17*E17,2) -> 0 | J17: =ROUND(SUM(G17:I17),2) -> 0 | K17: =ROUND(E17*D17,2) -> 0 | L17: =ROUND(G17*D17,2) -> 0 | M17: =ROUND(H17*D17,2) -> 0 | N17: =ROUND(I17*D17,2) -> 0 | O17: =ROUND(SUM(L17:N17),2) -> 0
A18: 6 | B18: Teleskopiska skataka POLAR 160/400/315 (skatakas pamatne, blīvgumija akas pamatnei, augstuma regulēšanas šahta OD400, manžete teleskopiskajai caurulei, teleskopiskā caurule OD315 un ķeta rāmis ar slēgtu vāku R40-40t) H = 0.50-1.00m, izbūve un montāža. Tai skaitā būvizstrādājumi | C18: kompl. | D18: 1 | G18: =ROUND(E18*F18,2) -> 0 | J18: =SUM(G18:I18) -> 0 | K18: =ROUND(D18*E18,2) -> 0 | L18: =ROUND(D18*G18,2) -> 0 | M18: =ROUND(D18*H18,2) -> 0 | N18: =ROUND(D18*I18,2) -> 0 | O18: =SUM(L18:N18) -> 0
A19: 7 | B19: Teleskopiska skataka POLAR 200/400/315 (skatakas pamatne, blīvgumija akas pamatnei, augstuma regulēšanas šahta OD400, manžete teleskopiskajai caurulei, teleskopiskā caurule OD315 un ķeta rāmis ar slēgtu vāku R40-40t) H = 1.00-1.50m, izbūve un montāža. Tai skaitā būvizstrādājumi | C19: kompl. | D19: 5 | G19: =ROUND(E19*F19,2) -> 0 | J19: =SUM(G19:I19) -> 0 | K19: =ROUND(D19*E19,2) -> 0 | L19: =ROUND(D19*G19,2) -> 0 | M19: =ROUND(D19*H19,2) -> 0 | N19: =ROUND(D19*I19,2) -> 0 | O19: =SUM(L19:N19) -> 0
A20: 8 | B20: Individuāla pasūtījuma teleskopiska skataka POLAR 200/400/315 (skatakas pamatne, blīvgumija akas pamatnei, augstuma regulēšanas šahta OD400, manžete teleskopiskajai caurulei, teleskopiskā caurule OD315 un ķeta rāmis ar slēgtu vāku R40-40t) H = 1.00-1.50m, izbūve un montāža. Tai skaitā būvizstrādājumi | C20: kompl. | D20: 2 | G20: =ROUND(E20*F20,2) -> 0 | J20: =SUM(G20:I20) -> 0 | K20: =ROUND(D20*E20,2) -> 0 | L20: =ROUND(D20*G20,2) -> 0 | M20: =ROUND(D20*H20,2) -> 0 | N20: =ROUND(D20*I20,2) -> 0 | O20: =SUM(L20:N20) -> 0
A21: 9 | B21: Individuāla pasūtījuma teleskopiska skataka PRO 250/630/500 (akas pamatne, blīvgumija akas pamatnei, augstuma regulēšanas šahta PP OD630, manžete teleskopiskajai caurulei, teleskopiskā caurule OD500 un ķeta rāmis ar slēgtu vāku R40-40t) H = 1.00-1.50m, izbūve un montāža. Tai skaitā būvizstrādājumi | C21: kompl. | D21: 4 | G21: =ROUND(E21*F21,2) -> 0 | J21: =SUM(G21:I21) -> 0 | K21: =ROUND(D21*E21,2) -> 0 | L21: =ROUND(D21*G21,2) -> 0 | M21: =ROUND(D21*H21,2) -> 0 | N21: =ROUND(D21*I21,2) -> 0 | O21: =SUM(L21:N21) -> 0
A22: 10 | B22: Individuāla pasūtījuma teleskopiska skataka PRO 250/630/500 (akas pamatne, blīvgumija akas pamatnei, augstuma regulēšanas šahta PP OD630, manžete teleskopiskajai caurulei, teleskopiskā caurule OD500 un ķeta rāmis ar slēgtu vāku R40-40t) H = 1.50-2.00m, izbūve un montāža. Tai skaitā būvizstrādājumi | C22: kompl. | D22: 1 | G22: =ROUND(E22*F22,2) -> 0 | J22: =SUM(G22:I22) -> 0 | K22: =ROUND(D22*E22,2) -> 0 | L22: =ROUND(D22*G22,2) -> 0 | M22: =ROUND(D22*H22,2) -> 0 | N22: =ROUND(D22*I22,2) -> 0 | O22: =SUM(L22:N22) -> 0
A23: 11 | B23: Individuāla pasūtījuma teleskopiska skataka PRO 250/800/630 ar nosēddaļu 0.30m (akas pamatne, akas grodi, groda blīvgumija, konuss ar adapteri, teleskopiskā caurule, ķeta rāmis ar slēgtu vāku D400 ), H =1.00-1.50m, izbūve un montāža. Tai skaitā būvizstrādājumi | C23: kompl. | D23: 2 | G23: =ROUND(E23*F23,2) -> 0 | J23: =SUM(G23:I23) -> 0 | K23: =ROUND(D23*E23,2) -> 0 | L23: =ROUND(D23*G23,2) -> 0 | M23: =ROUND(D23*H23,2) -> 0 | N23: =ROUND(D23*I23,2) -> 0 | O23: =SUM(L23:N23) -> 0
A24: 12 | B24: Individuāla pasūtījuma teleskopiska skataka PRO 250/800/630 ar nosēddaļu 0.30m (akas pamatne, akas grodi, groda blīvgumija, konuss ar adapteri, teleskopiskā caurule, ķeta rāmis ar slēgtu vāku D400 ), H =1.00-1.50m, izbūve un montāža. Tai skaitā būvizstrādājumi | C24: kompl. | D24: 1 | G24: =ROUND(E24*F24,2) -> 0 | J24: =SUM(G24:I24) -> 0 | K24: =ROUND(D24*E24,2) -> 0 | L24: =ROUND(D24*G24,2) -> 0 | M24: =ROUND(D24*H24,2) -> 0 | N24: =ROUND(D24*I24,2) -> 0 | O24: =SUM(L24:N24) -> 0
A25: 13 | B25: Individuāla pasūtījuma teleskopiska skataka PRO 315/800/630 ar nosēddaļu 0.30m (akas pamatne, akas grodi, groda blīvgumija, konuss ar adapteri, teleskopiskā caurule, ķeta rāmis ar slēgtu vāku D400 ), H =2.00-2.50m, izbūve un montāža. Tai skaitā būvizstrādājumi | C25: kompl. | D25: 1 | G25: =ROUND(E25*F25,2) -> 0 | J25: =SUM(G25:I25) -> 0 | K25: =ROUND(D25*E25,2) -> 0 | L25: =ROUND(D25*G25,2) -> 0 | M25: =ROUND(D25*H25,2) -> 0 | N25: =ROUND(D25*I25,2) -> 0 | O25: =SUM(L25:N25) -> 0
A26: 14 | B26: Lietus ūdeņu nosēdakas komplekts (nosēdakas pamatne PP, augstuma regulēšanas caurule, manžete teleskopiskajai caurulei DW, teleskopiskā caurule, 40t kantains ķeta rāmis ar resti ) OD630/500 (piev. 200) H = 0.50-1.00m, nosēddaļa 0.5m, izbūve un montāža. Tai skaitā būvizstrādājumi | C26: kompl. | D26: 2 | G26: =ROUND(E26*F26,2) -> 0 | J26: =SUM(G26:I26) -> 0 | K26: =ROUND(D26*E26,2) -> 0 | L26: =ROUND(D26*G26,2) -> 0 | M26: =ROUND(D26*H26,2) -> 0 | N26: =ROUND(D26*I26,2) -> 0 | O26: =SUM(L26:N26) -> 0
A27: 15 | B27: ACO infiltrācijas gūlju OD250 ar pamatni, zaļajais zonai ar kaļamais čuguna kantainu resti, izbūve un montāža. Tai skaitā būvizstrādājumi | C27: kompl. | D27: 3 | G27: =ROUND(E27*F27,2) -> 0 | J27: =SUM(G27:I27) -> 0 | K27: =ROUND(D27*E27,2) -> 0 | L27: =ROUND(D27*G27,2) -> 0 | M27: =ROUND(D27*H27,2) -> 0 | N27: =ROUND(D27*I27,2) -> 0 | O27: =SUM(L27:N27) -> 0
A28: 16 | B28: ACO XtraPoint gūlija ar kantainu plastikāta režģi, izbūve un montāža. Tai skaitā būvizstrādājumi | C28: kompl. | D28: 13 | G28: =ROUND(E28*F28,2) -> 0 | J28: =SUM(G28:I28) -> 0 | K28: =ROUND(D28*E28,2) -> 0 | L28: =ROUND(D28*G28,2) -> 0 | M28: =ROUND(D28*H28,2) -> 0 | N28: =ROUND(D28*I28,2) -> 0 | O28: =SUM(L28:N28) -> 0
A29: 17 | B29: PVC līkums 110x30', izbūve un montāža. Tai skaitā būvizstrādājumi | C29: kompl. | D29: 1 | G29: =ROUND(E29*F29,2) -> 0 | J29: =SUM(G29:I29) -> 0 | K29: =ROUND(D29*E29,2) -> 0 | L29: =ROUND(D29*G29,2) -> 0 | M29: =ROUND(D29*H29,2) -> 0 | N29: =ROUND(D29*I29,2) -> 0 | O29: =SUM(L29:N29) -> 0
... A35: 23 | B35: Šķērsojumi ar kabeļiem (t.sk. to atšurfēšana) | C35: skaits | D35: 32 | G35: =ROUND(E35*F35,2) -> 0 | J35: =SUM(G35:I35) -> 0 | K35: =ROUND(D35*E35,2) -> 0 | L35: =ROUND(D35*G35,2) -> 0 | M35: =ROUND(D35*H35,2) -> 0 | N35: =ROUND(D35*I35,2) -> 0 | O35: =SUM(L35:N35) -> 0
A36: 24 | B36: Šķērsojumi ar komunikācijām, kuru diametrs <200mm (t.sk. to atšurfēšana) | C36: skaits | D36: 4 | G36: =ROUND(F36*E36,2) -> 0 | J36: =SUM(G36:I36) -> 0 | K36: =ROUND(D36*E36,1) -> 0 | L36: =ROUND(D36*G36,2) -> 0 | M36: =ROUND(D36*H36,2) -> 0 | N36: =ROUND(D36*I36,2) -> 0 | O36: =SUM(L36:N36) -> 0
A37: 25 | B37: Šķērsojumi ar komunikācijām, kuru diametrs >200mm (t.sk. to atšurfēšana) | C37: skaits | D37: 1 | G37: =ROUND(F37*E37,2) -> 0 | J37: =SUM(G37:I37) -> 0 | K37: =ROUND(D37*E37,1) -> 0 | L37: =ROUND(D37*G37,2) -> 0 | M37: =ROUND(D37*H37,2) -> 0 | N37: =ROUND(D37*I37,2) -> 0 | O37: =SUM(L37:N37) -> 0
A38: 26 | B38: Šķeltā kabeļu apvalkcaurules OD110 esošo kabeļu aizsardzībai montāža | C38: m | D38: 128 | G38: =ROUND(F38*E38,2) -> 0 | J38: =SUM(G38:I38) -> 0 | K38: =ROUND(D38*E38,1) -> 0 | L38: =ROUND(D38*G38,2) -> 0 | M38: =ROUND(D38*H38,2) -> 0 | N38: =ROUND(D38*I38,2) -> 0 | O38: =SUM(L38:N38) -> 0
A39: 27 | B39: Marķējuma lentas piegāde un ieklāšana kanalizācijai 0,5m no cauruļvada virsmas | C39: m | D39: 186 | G39: =ROUND(E39*F39,2) -> 0 | J39: =SUM(G39:I39) -> 0 | K39: =ROUND(D39*E39,2) -> 0 | L39: =ROUND(D39*G39,2) -> 0 | M39: =ROUND(D39*H39,2) -> 0 | N39: =ROUND(D39*I39,2) -> 0 | O39: =SUM(L39:N39) -> 0
A40: 28 | B40: CCTV pārbaude cauruļvada slīpuma un stāvokļa noteikšanai pēc būvdarbu pabeigšanas | C40: m | D40: 180 | G40: =ROUND(E40*F40,2) -> 0 | J40: =SUM(G40:I40) -> 0 | K40: =ROUND(D40*E40,2) -> 0 | L40: =ROUND(D40*G40,2) -> 0 | M40: =ROUND(D40*H40,2) -> 0 | N40: =ROUND(D40*I40,2) -> 0 | O40: =SUM(L40:N40) -> 0
A41: 29 | B41: Cauruļvadu hermētiskumu pārbaude izmantojot ūdeni | C41: m | D41: 256 | G41: =ROUND(E41*F41,2) -> 0 | J41: =SUM(G41:I41) -> 0 | K41: =ROUND(D41*E41,2) -> 0 | L41: =ROUND(D41*G41,2) -> 0 | M41: =ROUND(D41*H41,2) -> 0 | N41: =ROUND(D41*I41,2) -> 0 | O41: =SUM(L41:N41) -> 0
A42: 30 | B42: Cauruļvadu skalošana un tīrīšana | C42: m | D42: 256 | G42: =ROUND(E42*F42,2) -> 0 | J42: =SUM(G42:I42) -> 0 | K42: =ROUND(D42*E42,2) -> 0 | L42: =ROUND(D42*G42,2) -> 0 | M42: =ROUND(D42*H42,2) -> 0 | N42: =ROUND(D42*I42,2) -> 0 | O42: =SUM(L42:N42) -> 0
A43: Kopā | B43: =A2 -> Inženierrisinājumu daļa (LKT - Lietus ūdens kanalizācija) | K43: =SUM(K13:K42) -> 0 | L43: =SUM(L13:L42) -> 0 | M43: =SUM(M13:M42) -> 0 | N43: =SUM(N13:N42) -> 0 | O43: =SUM(O13:O42) -> 0
A44: Piezīmes:
B45: 1. Materiālu apjomi doti sablīvētā veidā.
...

Sheet Elektroapgāde-ārējā-ELT
A1: Lokālā tāme Nr. 1-4
A2: Inženierrisinājumu daļa (ELT - Elektroapgāde-ārējā (apgaismojums))
A3: (Darba veids vai konstruktīvā elementa nosaukums)
A4: Būves nosaukums | C4: ='Kopsavilkuma aprēķins'!D2 -> VSIA "Strenču psihoneiroloģiskā slimnīca" galvenās iebrauktuves un uzņemšanas un observācijas nodaļas teritorijas labiekārtojums. 1.kārta
A5: Objekta nosaukums | C5: ='Kopsavilkuma aprēķins'!D3 -> VSIA "Strenču psihoneiroloģiskā slimnīca" galvenās iebrauktuves un uzņemšanas un observācijas nodaļas teritorijas labiekārtojums.1.kārta
A6: Objekta adrese | C6: ='Būvniecības koptāme'!D11 -> Valkas iela 11, Strenči, Valmieras novads, LV-4730
A7: Tāme sastādīta _______. gada tirgus cenās pamatojoties uz projekta risinājumiem un rasējumiem.
L8: Tāmes izmaksa | N8: =O53 -> 0
L9: Tāme sastādīta | N9: ='Kopsavilkuma aprēķins'!D7 -> 0
A10: Nr. p.k. | B10: Darbu apraksts vai materiālu nosaukums | E10: Vienības izmaksas | K10: Kopā uz visu apjomu
C11: Mērvienība | D11: Daudzums | E11: Laika norma (c/h) | F11: Darba samaksas likme (EUR/h) | G11: Darba alga (EUR) | H11: Būvizstrādājumi (EUR) | I11: Mehānismi (EUR) | J11: Kopā (EUR) | K11: Darbietilpība (c/h) | L11: Darba alga (EUR) | M11: Būvizstrādājumi (EUR) | N11: Mehānismi (EUR) | O11: Summa (EUR)
A12: ELT materiāli
A13: 1. El.sadalnes skapji
A14: 1 | B14: El.sadalnes skapis KS-2-2 | C14: gb | D14: 1 | G14: =ROUND(E14*F14,2) -> 0 | J14: =SUM(G14:I14) -> 0 | K14: =ROUND(D14*E14,2) -> 0 | L14: =ROUND(D14*G14,2) -> 0 | M14: =ROUND(D14*H14,2) -> 0 | N14: =ROUND(D14*I14,2) -> 0 | O14: =SUM(L14:N14) -> 0
A15: 2. Gaismekļi
A16: 2 | B16: Sphere LED1x3300 G930 T840 OP PMMA, 21.4 W, 3251 lm | C16: gb | D16: 10 | G16: =ROUND(E16*F16,2) -> 0 | J16: =SUM(G16:I16) -> 0 | K16: =ROUND(D16*E16,2) -> 0 | L16: =ROUND(D16*G16,2) -> 0 | M16: =ROUND(D16*H16,2) -> 0 | N16: =ROUND(D16*I16,2) -> 0 | O16: =SUM(L16:N16) -> 0
A17: 3 | B17: BGP283 LED260-4S/740 DW10 BL1; 156.0 W; 17160 lm | C17: gb | D17: 2 | G17: =ROUND(E17*F17,2) -> 0 | J17: =SUM(G17:I17) -> 0 | K17: =ROUND(D17*E17,2) -> 0 | L17: =ROUND(D17*G17,2) -> 0 | M17: =ROUND(D17*H17,2) -> 0 | N17: =ROUND(D17*I17,2) -> 0 | O17: =SUM(L17:N17) -> 0
A18: 4 | B18: Sphere LED1x6400 G932 T840 OP PMMA, 42.6 W, 6359 lm | C18: gb | D18: 7 | G18: =ROUND(E18*F18,2) -> 0 | J18: =SUM(G18:I18) -> 0 | K18: =ROUND(D18*E18,2) -> 0 | L18: =ROUND(D18*G18,2) -> 0 | M18: =ROUND(D18*H18,2) -> 0 | N18: =ROUND(D18*I18,2) -> 0 | O18: =SUM(L18:N18) -> 0
A19: 5 | B19: BGP284 LED420-4S/740 DX10 BL1 PLS; 235.0 W; 24360 lm | C19: gb | D19: 3 | G19: =ROUND(E19*F19,2) -> 0 | J19: =SUM(G19:I19) -> 0 | K19: =ROUND(D19*E19,2) -> 0 | L19: =ROUND(D19*G19,2) -> 0 | M19: =ROUND(D19*H19,2) -> 0 | N19: =ROUND(D19*I19,2) -> 0 | O19: =SUM(L19:N19) -> 0
A20: 3. Kabeļi
A21: 6 | B21: Kabelis AXMK 4x35 | C21: m | D21: 40 | G21: =ROUND(E21*F21,2) -> 0 | J21: =SUM(G21:I21) -> 0 | K21: =ROUND(D21*E21,2) -> 0 | L21: =ROUND(D21*G21,2) -> 0 | M21: =ROUND(D21*H21,2) -> 0 | N21: =ROUND(D21*I21,2) -> 0 | O21: =SUM(L21:N21) -> 0
A22: 7 | B22: Kabelis NYY-J-5x6 | C22: m | D22: 550 | G22: =ROUND(E22*F22,2) -> 0 | J22: =SUM(G22:I22) -> 0 | K22: =ROUND(D22*E22,2) -> 0 | L22: =ROUND(D22*G22,2) -> 0 | M22: =ROUND(D22*H22,2) -> 0 | N22: =ROUND(D22*I22,2) -> 0 | O22: =SUM(L22:N22) -> 0
A23: 8 | B23: Kabelis NYY-J-5x4 | C23: m | D23: 50 | G23: =ROUND(E23*F23,2) -> 0 | J23: =SUM(G23:I23) -> 0 | K23: =ROUND(D23*E23,2) -> 0 | L23: =ROUND(D23*G23,2) -> 0 | M23: =ROUND(D23*H23,2) -> 0 | N23: =ROUND(D23*I23,2) -> 0 | O23: =SUM(L23:N23) -> 0
A24: 9 | B24: Kabelis NYY-J-5x2.5 | C24: m | D24: 15 | G24: =ROUND(E24*F24,2) -> 0 | J24: =SUM(G24:I24) -> 0 | K24: =ROUND(D24*E24,2) -> 0 | L24: =ROUND(D24*G24,2) -> 0 | M24: =ROUND(D24*H24,2) -> 0 | N24: =ROUND(D24*I24,2) -> 0 | O24: =SUM(L24:N24) -> 0
A25: 10 | B25: Kabelis NYY-J-3x2.5 | C25: m | D25: 100 | G25: =ROUND(E25*F25,2) -> 0 | J25: =SUM(G25:I25) -> 0 | K25: =ROUND(D25*E25,2) -> 0 | L25: =ROUND(D25*G25,2) -> 0 | M25: =ROUND(D25*H25,2) -> 0 | N25: =ROUND(D25*I25,2) -> 0 | O25: =SUM(L25:N25) -> 0
A26: 11 | B26: Kabelis NYY-J-3x1.5 | C26: m | D26: 200 | G26: =ROUND(E26*F26,2) -> 0 | J26: =SUM(G26:I26) -> 0 | K26: =ROUND(D26*E26,2) -> 0 | L26: =ROUND(D26*G26,2) -> 0 | M26: =ROUND(D26*H26,2) -> 0 | N26: =ROUND(D26*I26,2) -> 0 | O26: =SUM(L26:N26) -> 0
A27: 4. Instalācijas materiāli
A28: 12 | B28: Ielas stabs 8.6m (8m virs zemes) cinkots, konisks; CP8600-60_Socket | C28: gb | D28: 5 | G28: =ROUND(E28*F28,2) -> 0 | J28: =SUM(G28:I28) -> 0 | K28: =ROUND(D28*E28,2) -> 0 | L28: =ROUND(D28*G28,2) -> 0 | M28: =ROUND(D28*H28,2) -> 0 | N28: =ROUND(D28*I28,2) -> 0 | O28: =SUM(L28:N28) -> 0
A29: 13 | B29: Ielas stabs 4.6m (4m virs zemes) cinkots, konisks; STP45-10860_Socket | C29: gb | D29: 17 | G29: =ROUND(E29*F29,2) -> 0 | J29: =SUM(G29:I29) -> 0 | K29: =ROUND(D29*E29,2) -> 0 | L29: =ROUND(D29*G29,2) -> 0 | M29: =ROUND(D29*H29,2) -> 0 | N29: =ROUND(D29*I29,2) -> 0 | O29: =SUM(L29:N29) -> 0
A30: 14 | B30: Betona pamats 8m augstiem parka stabiem 300kg P-1.3 | C30: gb | D30: 5 | G30: =ROUND(E30*F30,2) -> 0 | J30: =SUM(G30:I30) -> 0 | K30: =ROUND(D30*E30,2) -> 0 | L30: =ROUND(D30*G30,2) -> 0 | M30: =ROUND(D30*H30,2) -> 0 | N30: =ROUND(D30*I30,2) -> 0 | O30: =SUM(L30:N30) -> 0
A31: 15 | B31: Betona pamats 4m augstiem stabiem 122kg P-1 | C31: gb | D31: 17 | G31: =ROUND(E31*F31,2) -> 0 | J31: =SUM(G31:I31) -> 0 | K31: =ROUND(D31*E31,2) -> 0 | L31: =ROUND(D31*G31,2) -> 0 | M31: =ROUND(D31*H31,2) -> 0 | N31: =ROUND(D31*I31,2) -> 0 | O31: =SUM(L31:N31) -> 0
A32: 16 | B32: Gumijas blīve 5-10m koniskam stabam GB-RG | C32: gb | D32: 5 | G32: =ROUND(E32*F32,2) -> 0 | J32: =SUM(G32:I32) -> 0 | K32: =ROUND(D32*E32,2) -> 0 | L32: =ROUND(D32*G32,2) -> 0 | M32: =ROUND(D32*H32,2) -> 0 | N32: =ROUND(D32*I32,2) -> 0 | O32: =SUM(L32:N32) -> 0
A33: 17 | B33: Gumijas blīve 3-6m parka stabam GB04N | C33: gb | D33: 17 | G33: =ROUND(E33*F33,2) -> 0 | J33: =SUM(G33:I33) -> 0 | K33: =ROUND(D33*E33,2) -> 0 | L33: =ROUND(D33*G33,2) -> 0 | M33: =ROUND(D33*H33,2) -> 0 | N33: =ROUND(D33*I33,2) -> 0 | O33: =SUM(L33:N33) -> 0
A34: 18 | B34: 1P "C" 10A automātslēdzis balstā (rozetei) | C34: gb | D34: 22 | G34: =ROUND(E34*F34,2) -> 0 | J34: =SUM(G34:I34) -> 0 | K34: =ROUND(D34*E34,2) -> 0 | L34: =ROUND(D34*G34,2) -> 0 | M34: =ROUND(D34*H34,2) -> 0 | N34: =ROUND(D34*I34,2) -> 0 | O34: =SUM(L34:N34) -> 0
A35: 19 | B35: 1P "C" 6A automātslēdzis balstā (Gaismeklim) | C35: gb | D35: 22 | G35: =ROUND(E35*F35,2) -> 0 | J35: =SUM(G35:I35) -> 0 | K35: =ROUND(D35*E35,2) -> 0 | L35: =ROUND(D35*G35,2) -> 0 | M35: =ROUND(D35*H35,2) -> 0 | N35: =ROUND(D35*I35,2) -> 0 | O35: =SUM(L35:N35) -> 0
A36: 20 | B36: PCE kontaktrozete, 105-0ss, IP54 (balstā) | C36: gb | D36: 22 | G36: =ROUND(E36*F36,2) -> 0 | J36: =SUM(G36:I36) -> 0 | K36: =ROUND(D36*E36,2) -> 0 | L36: =ROUND(D36*G36,2) -> 0 | M36: =ROUND(D36*H36,2) -> 0 | N36: =ROUND(D36*I36,2) -> 0 | O36: =SUM(L36:N36) -> 0
A37: 21 | B37: Kabeļu aizsardzības caurule, zemē guldāma d=110, 750N | C37: m | D37: 90 | G37: =ROUND(F37*E37,2) -> 0 | J37: =SUM(G37:I37) -> 0 | K37: =ROUND(D37*E37,1) -> 0 | L37: =ROUND(D37*G37,2) -> 0 | M37: =ROUND(D37*H37,2) -> 0 | N37: =ROUND(D37*I37,2) -> 0 | O37: =SUM(L37:N37) -> 0
A38: 22 | B38: Kabeļu aizsardzības caurule, zemē guldāma d=110, 450N | C38: m | D38: 300 | G38: =ROUND(E38*F38,2) -> 0 | J38: =SUM(G38:I38) -> 0 | K38: =ROUND(D38*E38,2) -> 0 | L38: =ROUND(D38*G38,2) -> 0 | M38: =ROUND(D38*H38,2) -> 0 | N38: =ROUND(D38*I38,2) -> 0 | O38: =SUM(L38:N38) -> 0
A39: 5. Citi darbi un materiāli
A40: 23 | B40: Tranšejas rakšana un aizbēršana 1 līdz 2 kabeļu (caurules) | C40: m | D40: 415 | G40: =ROUND(F40*E40,2) -> 0 | J40: =SUM(G40:I40) -> 0 | K40: =ROUND(D40*E40,2) -> 0 | L40: =ROUND(D40*G40,2) -> 0 | M40: =ROUND(D40*H40,2) -> 0 | N40: =ROUND(D40*I40,2) -> 0 | O40: =SUM(L40:N40) -> 0
...

Sheet Elektronisko sakaru tīkli-EST
A1: Lokālā tāme Nr. 1-5
A2: Inženierrisinājumu daļa (EST - Elektronisko sakaru sistēmas-ārējās)
A3: (Darba veids vai konstruktīvā elementa nosaukums)
A4: Būves nosaukums | C4: ='Kopsavilkuma aprēķins'!D2 -> VSIA "Strenču psihoneiroloģiskā slimnīca" galvenās iebrauktuves un uzņemšanas un observācijas nodaļas teritorijas labiekārtojums. 1.kārta
A5: Objekta nosaukums | C5: ='Kopsavilkuma aprēķins'!D3 -> VSIA "Strenču psihoneiroloģiskā slimnīca" galvenās iebrauktuves un uzņemšanas un observācijas nodaļas teritorijas labiekārtojums.1.kārta
A6: Objekta adrese | C6: ='Būvniecības koptāme'!D11 -> Valkas iela 11, Strenči, Valmieras novads, LV-4730
A7: Tāme sastādīta ________. gada tirgus cenās pamatojoties uz projekta risinājumiem un rasējumiem.
L8: Tāmes izmaksa | N8: =O32 -> 0
L9: Tāme sastādīta | N9: ='Kopsavilkuma aprēķins'!D7 -> 0
A10: Nr. p.k. | B10: Darbu apraksts vai materiālu nosaukums | E10: Vienības izmaksas | K10: Kopā uz visu apjomu
C11: Mērvienība | D11: Daudzums | E11: Laika norma (c/h) | F11: Darba samaksas likme (EUR/h) | G11: Darba alga (EUR) | H11: Būvizstrādājumi (EUR) | I11: Mehānismi (EUR) | J11: Kopā (EUR) | K11: Darbietilpība (c/h) | L11: Darba alga (EUR) | M11: Būvizstrādājumi (EUR) | N11: Mehānismi (EUR) | O11: Summa (EUR)
A12: EST-Darbi
A13: 1 | B13: Tranšejas rakšana un aizbēršana viena līdz divu caurules gūldīšanai 0.7m dziļumā | C13: m | D13: 25 | G13: =ROUND(E13*F13,2) -> 0 | J13: =SUM(G13:I13) -> 0 | K13: =ROUND(D13*E13,2) -> 0 | L13: =ROUND(D13*G13,2) -> 0 | M13: =ROUND(D13*H13,2) -> 0 | N13: =ROUND(D13*I13,2) -> 0 | O13: =SUM(L13:N13) -> 0
A14: 2 | B14: Kabeļu aizsargcaurules d=līdz 110 mm ieguldīšana gatavā tranšejā | C14: m | D14: 25 | G14: =ROUND(E14*F14,2) -> 0 | J14: =SUM(G14:I14) -> 0 | K14: =ROUND(D14*E14,2) -> 0 | L14: =ROUND(D14*G14,2) -> 0 | M14: =ROUND(D14*H14,2) -> 0 | N14: =ROUND(D14*I14,2) -> 0 | O14: =SUM(L14:N14) -> 0
A15: 3 | B15: Kabeļa ievēršana proj. caurulē līdz 3 kabeļiem | C15: m | D15: 25 | G15: =ROUND(E15*F15,2) -> 0 | J15: =SUM(G15:I15) -> 0 | K15: =ROUND(D15*E15,2) -> 0 | L15: =ROUND(D15*G15,2) -> 0 | M15: =ROUND(D15*H15,2) -> 0 | N15: =ROUND(D15*I15,2) -> 0 | O15: =SUM(L15:N15) -> 0
A16: 4 | B16: Signāllentas ieklāšana | C16: m | D16: 25 | G16: =ROUND(E16*F16,2) -> 0 | J16: =SUM(G16:I16) -> 0 | K16: =ROUND(D16*E16,1) -> 0 | L16: =ROUND(D16*G16,2) -> 0 | M16: =ROUND(D16*H16,2) -> 0 | N16: =ROUND(D16*I16,2) -> 0 | O16: =SUM(L16:N16) -> 0
A17: 5 | B17: Bedres rakšana un aizbēršana kanalizācijas lūkai | C17: gb | D17: 1 | G17: =ROUND(E17*F17,2) -> 0 | J17: =SUM(G17:I17) -> 0 | K17: =ROUND(D17*E17,2) -> 0 | L17: =ROUND(D17*G17,2) -> 0 | M17: =ROUND(D17*H17,2) -> 0 | N17: =ROUND(D17*I17,2) -> 0 | O17: =SUM(L17:N17) -> 0
A18: 6 | B18: Kabeļu akas PEH 906/800mm H800mm uzstādīšana | C18: gb | D18: 1 | G18: =ROUND(E18*F18,2) -> 0 | J18: =SUM(G18:I18) -> 0 | K18: =ROUND(D18*E18,2) -> 0 | L18: =ROUND(D18*G18,2) -> 0 | M18: =ROUND(D18*H18,2) -> 0 | N18: =ROUND(D18*I18,2) -> 0 | O18: =SUM(L18:N18) -> 0
A19: 7 | B19: Kabeļu testēšana, marķējums | C19: kpl | D19: 1 | G19: =ROUND(E19*F19,2) -> 0 | J19: =SUM(G19:I19) -> 0 | K19: =ROUND(D19*E19,1) -> 0 | L19: =ROUND(D19*G19,2) -> 0 | M19: =ROUND(D19*H19,2) -> 0 | N19: =ROUND(D19*I19,2) -> 0 | O19: =SUM(L19:N19) -> 0
A20: 8 | B20: Kases aparāta uzstādīšana | C20: gb | D20: 1 | G20: =ROUND(E20*F20,2) -> 0 | J20: =SUM(G20:I20) -> 0 | K20: =ROUND(D20*E20,1) -> 0 | L20: =ROUND(D20*G20,2) -> 0 | M20: =ROUND(D20*H20,2) -> 0 | N20: =ROUND(D20*I20,2) -> 0 | O20: =SUM(L20:N20) -> 0
A21: 9 | B21: Rakšanas darbu organizēšana | C21: objekts | D21: 1 | G21: =ROUND(E21*F21,2) -> 0 | J21: =SUM(G21:I21) -> 0 | K21: =ROUND(D21*E21,1) -> 0 | L21: =ROUND(D21*G21,2) -> 0 | M21: =ROUND(D21*H21,2) -> 0 | N21: =ROUND(D21*I21,2) -> 0 | O21: =SUM(L21:N21) -> 0
A22: 10 | B22: Izpilddokumentācijas sagatavošana | C22: kpl | D22: 1 | G22: =ROUND(E22*F22,2) -> 0 | J22: =SUM(G22:I22) -> 0 | K22: =ROUND(D22*E22,2) -> 0 | L22: =ROUND(D22*G22,2) -> 0 | M22: =ROUND(D22*H22,2) -> 0 | N22: =ROUND(D22*I22,2) -> 0 | O22: =SUM(L22:N22) -> 0
A23: EST-Materiāli
A24: 11 | B24: Kabeļu kanalizācijas caurule Ø110, 750N | C24: m | D24: 25 | G24: =ROUND(F24*E24,2) -> 0 | J24: =SUM(G24:I24) -> 0 | K24: =ROUND(D24*E24,1) -> 0 | L24: =ROUND(D24*G24,2) -> 0 | M24: =ROUND(D24*H24,2) -> 0 | N24: =ROUND(D24*I24,2) -> 0 | O24: =SUM(L24:N24) -> 0
A25: 12 | B25: Signāllenta kabeļlīnijai, platums 80 mm | C25: m | D25: 25 | G25: =ROUND(E25*F25,2) -> 0 | J25: =SUM(G25:I25) -> 0 | K25: =ROUND(D25*E25,1) -> 0 | L25: =ROUND(D25*G25,2) -> 0 | M25: =ROUND(D25*H25,2) -> 0 | N25: =ROUND(D25*I25,2) -> 0 | O25: =SUM(L25:N25) -> 0
A26: 13 | B26: Kabeļu aka KP-PEH 906/800mm H800mm (40t) ar pamatni | C26: kpl | D26: 1 | G26: =ROUND(E26*F26,2) -> 0 | J26: =SUM(G26:I26) -> 0 | K26: =ROUND(D26*E26,1) -> 0 | L26: =ROUND(D26*G26,2) -> 0 | M26: =ROUND(D26*H26,2) -> 0 | N26: =ROUND(D26*I26,2) -> 0 | O26: =SUM(L26:N26) -> 0
A27: 14 | B27: DN 610/750 Stacionāra tipa vāks ar betonu, B125 | C27: gb | D27: 1 | G27: =ROUND(E27*F27,2) -> 0 | J27: =SUM(G27:I27) -> 0 | K27: =ROUND(D27*E27,1) -> 0 | L27: =ROUND(D27*G27,2) -> 0 | M27: =ROUND(D27*H27,2) -> 0 | N27: =ROUND(D27*I27,2) -> 0 | O27: =SUM(L27:N27) -> 0
A28: 15 | B28: Kabeļu akas dzelzbetona riņķis | C28: gb | D28: 1 | G28: =ROUND(E28*F28,2) -> 0 | J28: =SUM(G28:I28) -> 0 | K28: =ROUND(D27*E28,1) -> 0 | L28: =ROUND(D27*G28,2) -> 0 | M28: =ROUND(D27*H28,2) -> 0 | N28: =ROUND(D27*I28,2) -> 0 | O28: =SUM(L28:N28) -> 0
A29: 16 | B29: Kabeļu cauruļu blīvēšanas materiāls Silikons N, neitrāls | C29: gb | D29: 1 | G29: =ROUND(E29*F29,2) -> 0 | J29: =SUM(G29:I29) -> 0 | K29: =ROUND(D29*E29,1) -> 0 | L29: =ROUND(D29*G29,2) -> 0 | M29: =ROUND(D29*H29,2) -> 0 | N29: =ROUND(D29*I29,2) -> 0 | O29: =SUM(L29:N29) -> 0
A30: 17 | B30: Stāvietas apmaksas aparāts, Paystation FP-KA700/710 | C30: kpl | D30: 1 | G30: =ROUND(E30*F30,2) -> 0 | J30: =SUM(G30:I30) -> 0 | K30: =ROUND(D30*E30,1) -> 0 | L30: =ROUND(D30*G30,2) -> 0 | M30: =ROUND(D30*H30,2) -> 0 | N30: =ROUND(D30*I30,2) -> 0 | O30: =SUM(L30:N30) -> 0
A31: 18 | B31: Kabelis F/UTP Cat6 4x2x0.5mm², ārtipa | C31: m | D31: 100 | G31: =ROUND(E31*F31,2) -> 0 | J31: =SUM(G31:I31) -> 0 | K31: =ROUND(D31*E31,1) -> 0 | L31: =ROUND(D31*G31,2) -> 0 | M31: =ROUND(D31*H31,2) -> 0 | N31: =ROUND(D31*I31,2) -> 0 | O31: =SUM(L31:N31) -> 0
A32: Kopā | B32: =A2 -> Inženierrisinājumu daļa (EST - Elektronisko sakaru sistēmas-ārējās) | K32: =SUM(K24:K31,K13:K22) -> 0 | L32: =SUM(L24:L31,L13:L22) -> 0 | M32: =SUM(M24:M31,M13:M22) -> 0 | N32: =SUM(N24:N31,N13:N22) -> 0 | O32: =SUM(O24:O31,O13:O22) -> 0
A33: Piezīmes:
B34: 1. Materiālu apjomi doti sablīvētā veidā.
B35: 2. Darbu daudzumu sarakstā minētos darbus veikt atbilstoši būvprojektam un Autoceļu būvdarbu specifikācijām ABS 2026.
B36: 3. Būvdarbu veicējam jāvērtē visi nepieciešamie darbi, materiāli, būvmašīnas un transports, bez kā nevarētu būt iespējama darba daudzumu sarakstā minēto darbu tehnoloģiski pareiza, Pasūtītāja prasībām atbilstoša izpilde pilnā apjomā.
B37: 4. Būvdarbu apjomus skatīt kopā rasējumiem, tehniskajiem risinājumiem, tehniskajām specifikācijām, skaidrojošo aprakstu un pielikumiem.
B38: 5. Izstrādājot piedāvājumu, būvdarbu veicējam rūpīgi pārskatīt projektu un apjomos jāiekļauj arī neuzrādītie darbi un materiāli, lai kvalitatīvi veiktu būvniecību atbilstoši konkrētā būvdarbu veicēja pielietotajai tehnoloģijai, un bez kuriem nebūtu iespējama būvdarbu tehnoloģiski pareiza un spēkā esošajiem normatīviem atbilstoša veikšana pilnā apjomā.
B39: 6. Šos darbu un materiālu apjomus skatīt kopā ar projekta dokumentāciju.
B40: 7. Materiālus ir iespējams nomainīt uz ekvivalentiem, ja būvdarbu veicējs uzņemas pilnu atbildību par nepieciešamo nestspējas un citu projektā ietverto rādītāju un parametru sasniegšanu.
...

Sheet Arhitektūra-AR
A1: Lokālā tāme Nr. 1-6
A2: Arhitektūras risinājumi (AR)
A3: (Darba veids vai konstruktīvā elementa nosaukums)
A4: Būves nosaukums | C4: ='Kopsavilkuma aprēķins'!D2 -> VSIA "Strenču psihoneiroloģiskā slimnīca" galvenās iebrauktuves un uzņemšanas un observācijas nodaļas teritorijas labiekārtojums. 1.kārta
A5: Objekta nosaukums | C5: ='Kopsavilkuma aprēķins'!D3 -> VSIA "Strenču psihoneiroloģiskā slimnīca" galvenās iebrauktuves un uzņemšanas un observācijas nodaļas teritorijas labiekārtojums.1.kārta
A6: Objekta adrese | C6: ='Būvniecības koptāme'!D11 -> Valkas iela 11, Strenči, Valmieras novads, LV-4730
A7: Tāme sastādīta _______. gada tirgus cenās pamatojoties uz projekta risinājumiem un rasējumiem.
L8: Tāmes izmaksa | N8: =O54 -> 0
L9: Tāme sastādīta | N9: ='Kopsavilkuma aprēķins'!D7 -> 0
A10: Nr. p.k. | B10: Darbu apraksts vai materiālu nosaukums | E10: Vienības izmaksas | K10: Kopā uz visu apjomu
C11: Mērvienība | D11: Daudzums | E11: Laika norma (c/h) | F11: Darba samaksas likme (EUR/h) | G11: Darba alga (EUR) | H11: Būvizstrādājumi (EUR) | I11: Mehānismi (EUR) | J11: Kopā (EUR) | K11: Darbietilpība (c/h) | L11: Darba alga (EUR) | M11: Būvizstrādājumi (EUR) | N11: Mehānismi (EUR) | O11: Summa (EUR)
A12: Ēka lit.039 (lapene)
A13: 1 | B13: Demontēt esošo tekņu fragmentu un notekas, kas atrodas demontējāmā apjomā. Demontāžas darbus veikt saudzīgi, saglabājot esošo lapenes koka konstrukciju un nebojājot saglabājamās būves daļas. Demontētās teknes un notekas saglabāt un izmantot pārbūvējamā jumta tekņu un noteku izbūvei. | C13: m | D13: 39.8 | G13: =ROUND(E13*F13,2) -> 0 | J13: =SUM(G13:I13) -> 0 | K13: =ROUND(D13*E13,2) -> 0 | L13: =ROUND(D13*G13,2) -> 0 | M13: =ROUND(D13*H13,2) -> 0 | N13: =ROUND(D13*I13,2) -> 0 | O13: =SUM(L13:N13) -> 0
A14: 2 | B14: Jumta daļas seguma un konstrukciju demontāža. Demontāžas darbus veikt saudzīgi, saglabājot esošo lapenes koka konstrukciju un nebojājot saglabājamās būves daļas. Jumta seguma materiālu saglabāt un izmantot pārbūvējamā jumta seguma izbūvei. | C14: m2 | D14: 132.1 | G14: =ROUND(E14*F14,2) -> 0 | J14: =SUM(G14:I14) -> 0 | K14: =ROUND(D14*E14,2) -> 0 | L14: =ROUND(D14*G14,2) -> 0 | M14: =ROUND(D14*H14,2) -> 0 | N14: =ROUND(D14*I14,2) -> 0 | O14: =SUM(L14:N14) -> 0
A15: 3 | B15: Ārsienu un starpsienu demontāža. Demontāžas darbus veikt saudzīgi, saglabājot esošo lapenes koka konstrukciju un nebojājot saglabājamās būves daļas. | C15: m3 | D15: 34.6 | G15: =ROUND(E15*F15,2) -> 0 | J15: =SUM(G15:I15) -> 0 | K15: =ROUND(D15*E15,2) -> 0 | L15: =ROUND(D15*G15,2) -> 0 | M15: =ROUND(D15*H15,2) -> 0 | N15: =ROUND(D15*I15,2) -> 0 | O15: =SUM(L15:N15) -> 0
A16: 4 | B16: Demontēt esošo skurstneni | C16: m3 | D16: 2.6 | G16: =ROUND(E16*F16,2) -> 0 | J16: =SUM(G16:I16) -> 0 | K16: =ROUND(D16*E16,2) -> 0 | L16: =ROUND(D16*G16,2) -> 0 | M16: =ROUND(D16*H16,2) -> 0 | N16: =ROUND(D16*I16,2) -> 0 | O16: =SUM(L16:N16) -> 0
A17: 5 | B17: Cokola un pamatu demontāža. Demontāžas darbus veikt saudzīgi, saglabājot esošo lapenes koka konstrukciju un nebojājot saglabājamās būves daļas. Pamatu izmēri ņemti balstoties uz esošā lapenes legalizācijas projekta BK daļā pieejamo informāciju. | C17: m3 | D17: 22.2 | G17: =ROUND(E17*F17,2) -> 0 | J17: =SUM(G17:I17) -> 0 | K17: =ROUND(D17*E17,2) -> 0 | L17: =ROUND(D17*G17,2) -> 0 | M17: =ROUND(D17*H17,2) -> 0 | N17: =ROUND(D17*I17,2) -> 0 | O17: =SUM(L17:N17) -> 0
B18: Jumta segums
