Workbook
Name ___xlnm.Print_Titles_10: #REF!
Name ___xlnm.Print_Titles_11: #REF!
Name ___xlnm.Print_Titles_4: #REF!
Name ___xlnm.Print_Titles_5: #REF!
Name ___xlnm.Print_Titles_6: #REF!
Name ___xlnm.Print_Titles_7: #REF!
Name ___xlnm.Print_Titles_8: #REF!
Name ___xlnm.Print_Titles_9: #REF!
Name __xlnm.Print_Titles_10: #REF!
Name __xlnm.Print_Titles_11: #REF!
Name __xlnm.Print_Titles_4: #REF!
Name __xlnm.Print_Titles_5: #REF!
Name __xlnm.Print_Titles_6: 'Arhitektūra-AR'!$11:$11
Name __xlnm.Print_Titles_6: 'Būvkonstrukcijas-BK'!$11:$11
Name __xlnm.Print_Titles_6: 'Ceļa darbi-TS-CD'!$11:$11
Name __xlnm.Print_Titles_6: 'Elektroapgāde-ārējā-ELT'!$11:$11
Name __xlnm.Print_Titles_6: 'Elektronisko sakaru tīkli-EST'!$11:$11
Name __xlnm.Print_Titles_6: 'Lietus ūdens kanalizācija '!$11:$11
Name __xlnm.Print_Titles_6: 'Ūdensapgāde un kanalizācija-UKT'!$11:$11
Name __xlnm.Print_Titles_6: #REF!
Name __xlnm.Print_Titles_7: #REF!
Name __xlnm.Print_Titles_8: #REF!
Name __xlnm.Print_Titles_9: #REF!
Name Excel_BuiltIn__FilterDatabase_1: #REF!
Name Excel_BuiltIn__FilterDatabase_1: 'Būvniecības koptāme'!$A$12:$P$97
Name Excel_BuiltIn_Print_Area_1: #REF!
Name Excel_BuiltIn_Print_Area_1: 'Būvniecības koptāme'!$A$1:$P$136
Name Excel_BuiltIn_Print_Titles_1: #REF!
Name Excel_BuiltIn_Print_Titles_1: 'Būvniecības koptāme'!$3:$4

Sheet Sk_r
A1: Skaidrojošais apraksts
A2: VSIA "Strenču psihoneiroloģiskā slimnīca" galvenās iebrauktuves un uzņemšanas un observācijas nodaļas teritorijas labiekārtojums. 1.kārta
A4: Būves nosaukums | C4: =A2 -> VSIA "Strenču psihoneiroloģiskā slimnīca" galvenās iebrauktuves un uzņemšanas un observācijas nodaļas teritorijas labiekārtojums. 1.kārta
A5: Objekta adrese | C5: Valkas iela 11, Strenči, Valmieras novads, LV-4730
A6: Izmaksu aprēķins sastādīts pamatojoties uz Noteikumi par Latvijas būvnormatīvu LBN 501-17 "Būvizmaksu noteikšanas kārtība", būvprojektu, tajā iekļautajām specifikācijām un dažādās sadaļās iekļautos būvdarbu izpildes visus apstākļu raksturojumus. Saskaņā ar Noteikumi par Latvijas būvnormatīvu LBN 501-17 "Būvizmaksu noteikšanas kārtība" noteikto kārtību noteikta kopējā darbietilpība.
A7: Būvizstrādājumu apjomi doti sablīvētā veidā. Lokālajā tāmē minētos darbus veikt atbilstoši būvprojektam un Autoceļu būvdarbu specifikācijām ABS 2023. Būvdarbu veicējam jāvērtē visi nepieciešamie darbi, materiāli, būvmašīnas un transports, bez kā nevarētu būt iespējama darba daudzumu sarakstā minēto darbu tehnoloģiski pareiza, Pasūtītāja prasībām atbilstoša izpilde pilnā apjomā. Darba apjomus skatīt kopā ar plānu, profiliem, tehniskajiem risinājumiem un pielikumiem. Izstrādājot piedāvājumu, būvdarbu veicējam rūpīgi pārskatīt projektu, un apjomos jāiekļauj arī neuzrādītie darbi un materiāli, lai kvalitatīvi veiktu būvniecību atbilstoši konkrētā būvdarbu veicēja pielietotajai tehnoloģijai, un bez kuriem nebūtu iespējama būvdarbu tehnoloģiski pareiza un spēkā esošajiem normatīviem atbilstoša veikšana pilnā apjomā.
A8: Visas atsauces uz iekārtu un būvizstrādājumu izgatavotāju firmām, kuras norādītas projektā liecina tikai par šo būvizstrādājumu un iekārtu kvalitātes un apkalpošanas līmeni. Norādīto iekārtu un būvizstrādājumu nomaiņa ir iespējama ar citām tehniski ekvivalentām vai labākām iekārtām un būvizstrādājumiem. Būvdarbu veicējs dod pilna apjoma cenu piedāvājumu ieskaitot darbus un būvizstrādājumus, kas nav uzrādīti un ir nepieciešami sistēmu montāžai, palaišanai un nodošanai.
A10: Būvdarbu kopējā darbietilpība sastāda c/h | E10: ='Kopsavilkuma aprēķins'!D6 -> 0
A14: Sastādīja | C14: __________________
C15: paraksts | E15: sertifikāta Nr. | H15: datums

Sheet Būvniecības koptāme
H1: Apstiprinu
H2: ___________________________________
H3: (pasūtītājs, paraksts un tā atšifrējums)
A7: Būvniecības koptāme
A8: ='Kopsavilkuma aprēķins'!D3 -> VSIA "Strenču psihoneiroloģiskā slimnīca" galvenās iebrauktuves un uzņemšanas un observācijas nodaļas teritorijas labiekārtojums.1.kārta
A10: Būves nosaukums | D10: VSIA "Strenču psihoneiroloģiskā slimnīca" galvenās iebrauktuves un uzņemšanas un observācijas nodaļas teritorijas labiekārtojums. 1.kārta
A11: Objekta adrese | D11: ='Kopsavilkuma aprēķins'!D4 -> Valkas iela 11, Strenči, Valmieras novads, LV-4730
A12: Pasūtījuma Nr. | D12: -
A15: N. p. k | C15: Objekta nosaukums | H15: Objekta izmaksas (EUR)
A16: 1 | C16: =A8 -> VSIA "Strenču psihoneiroloģiskā slimnīca" galvenās iebrauktuves un uzņemšanas un observācijas nodaļas teritorijas labiekārtojums.1.kārta | H16: ='Kopsavilkuma aprēķins'!G21 -> 0
A18: Pavisam būvniecības izmaksas | H18: =H16 -> 0
A19: PVN | G19: 0.21 | H19: =ROUND(H18*G19,2) -> 0
C20: Kopā | H20: =H19+H18 -> 0
A26: Sastādīja | C26: _______________ | I26: =J13 -> 0
C27: paraksts | E27: sertifikāta Nr. | I27: datums
A30: Pārbaudīja | C30: _______________ | I30: =J13 -> 0
C31: paraksts | E31: sertifikāta Nr. | I31: datums

Sheet Kopsavilkuma aprēķins
A1: Kopsavilkuma aprēķins par darbu vai konstruktīvo elementu veidiem
A2: Būves nosaukums | D2: VSIA "Strenču psihoneiroloģiskā slimnīca" galvenās iebrauktuves un uzņemšanas un observācijas nodaļas teritorijas labiekārtojums. 1.kārta
A3: Objekta nosaukums | D3: VSIA "Strenču psihoneiroloģiskā slimnīca" galvenās iebrauktuves un uzņemšanas un observācijas nodaļas teritorijas labiekārtojums.1.kārta
A4: Objekta adrese | D4: Valkas iela 11, Strenči, Valmieras novads, LV-4730
A5: Par kopējo summu | D5: =G21 -> 0
A6: Kopējā darbietilpība | D6: =SUM(K10:K14) -> 0
A7: Tāme sastādīta
A8: Nr. p.k | B8: Kods, tāme Nr. | C8: Būvdarbu veids vai konstruktīvā elementa nosaukums | G8: Tāmes izmaksa EUR | H8: Tai skaitā | K8: Darb-ietilpība c/h
H9: Darba alga EUR | I9: Būvizstrādājumi EUR | J9: Mehānismi EUR
A10: 1 | B10: 1-1 | C10: ='Ceļa darbi-TS-CD'!A2 -> Ceļa darbi (TS-CD) | G10: ='Ceļa darbi-TS-CD'!O198 -> 0 | H10: ='Ceļa darbi-TS-CD'!L198 -> 0 | I10: ='Ceļa darbi-TS-CD'!M198 -> 0 | J10: ='Ceļa darbi-TS-CD'!N198 -> 0 | K10: ='Ceļa darbi-TS-CD'!K198 -> 0
B11: 1-2 | C11: ='Ūdensapgāde un kanalizācija-UKT'!A2 -> Inženierrisinājumu daļa (UKT - Ūdensapgāde un kanalizācija-ārējā) | G11: ='Ūdensapgāde un kanalizācija-UKT'!O61 -> 0 | H11: ='Ūdensapgāde un kanalizācija-UKT'!L61 -> 0 | I11: ='Ūdensapgāde un kanalizācija-UKT'!M61 -> 0 | J11: ='Ūdensapgāde un kanalizācija-UKT'!N61 -> 0 | K11: ='Ūdensapgāde un kanalizācija-UKT'!K61 -> 0
B12: 1-3 | C12: ='Lietus ūdens kanalizācija '!A2 -> Inženierrisinājumu daļa (LKT - Lietus ūdens kanalizācija) | G12: ='Lietus ūdens kanalizācija '!O43 -> 0 | H12: ='Lietus ūdens kanalizācija '!L43 -> 0 | I12: ='Lietus ūdens kanalizācija '!M43 -> 0 | J12: ='Lietus ūdens kanalizācija '!N43 -> 0 | K12: ='Lietus ūdens kanalizācija '!K43 -> 0
B13: 1-4 | C13: ='Elektroapgāde-ārējā-ELT'!A2 -> Inženierrisinājumu daļa (ELT - Elektroapgāde-ārējā (apgaismojums)) | G13: ='Elektroapgāde-ārējā-ELT'!O53 -> 0 | H13: ='Elektroapgāde-ārējā-ELT'!L53 -> 0 | I13: ='Elektroapgāde-ārējā-ELT'!M53 -> 0 | J13: ='Elektroapgāde-ārējā-ELT'!N53 -> 0 | K13: ='Elektroapgāde-ārējā-ELT'!K53 -> 0
B14: 1-5 | C14: ='Elektronisko sakaru tīkli-EST'!A2 -> Inženierrisinājumu daļa (EST - Elektronisko sakaru sistēmas-ārējās) | G14: ='Elektronisko sakaru tīkli-EST'!O32 -> 0 | H14: ='Elektronisko sakaru tīkli-EST'!L32 -> 0 | I14: ='Elektronisko sakaru tīkli-EST'!M32 -> 0 | J14: ='Elektronisko sakaru tīkli-EST'!N32 -> 0 | K14: ='Elektronisko sakaru tīkli-EST'!K32 -> 0
B15: 1-6 | C15: ='Arhitektūra-AR'!A2 -> Arhitektūras risinājumi (AR) | G15: ='Arhitektūra-AR'!O54 -> 0 | H15: ='Arhitektūra-AR'!L54 -> 0 | I15: ='Arhitektūra-AR'!M54 -> 0 | J15: ='Arhitektūra-AR'!N54 -> 0 | K15: ='Arhitektūra-AR'!K54 -> 0
B16: 1-7 | C16: ='Būvkonstrukcijas-BK'!A2 -> Būvkonstrukcijas (BK) | G16: ='Būvkonstrukcijas-BK'!O33 -> 0 | H16: ='Būvkonstrukcijas-BK'!L33 -> 0 | I16: ='Būvkonstrukcijas-BK'!M33 -> 0 | J16: ='Būvkonstrukcijas-BK'!N33 -> 0 | K16: ='Būvkonstrukcijas-BK'!K33 -> 0
A17: Kopā | G17: =SUM(G10:G16) -> 0 | H17: =SUM(H10:H16) -> 0 | I17: =SUM(I10:I16) -> 0 | J17: =SUM(J10:J16) -> 0 | K17: =SUM(K10:K16) -> 0
A18: Virsizdevumi * | F18: 0 | G18: =ROUND(G17*F18,2) -> 0
A19: tajā skaitā darba aizsardzība * (0,00%) | G19: =ROUND(G18*0.1,2) -> 0
A20: Peļņa * | F20: 0 | G20: =ROUND(G17*F20,2) -> 0
A21: Kopā | G21: =G17+G18+G20 -> 0
B23: Sastādīja | C23: __________________ | I23: =D7 -> 0
C24: paraksts | E24: sertifikāta Nr. | I24: datums
B26: Pārbaudīja | C26: __________________ | I26: =D7 -> 0
C27: paraksts | E27: sertifikāta Nr. | I27: datums
B29: * Ierakstīt savu piedāvāto skaitli (%)

Sheet Ceļa darbi-TS-CD
A1: Lokālā tāme Nr. 1-1
A2: Ceļa darbi (TS-CD)
A3: (Darba veids vai konstruktīvā elementa nosaukums)
A4: Būves nosaukums | C4: ='Kopsavilkuma aprēķins'!D2 -> VSIA "Strenču psihoneiroloģiskā slimnīca" galvenās iebrauktuves un uzņemšanas un observācijas nodaļas teritorijas labiekārtojums. 1.kārta
A5: Objekta nosaukums | C5: ='Kopsavilkuma aprēķins'!D3 -> VSIA "Strenču psihoneiroloģiskā slimnīca" galvenās iebrauktuves un uzņemšanas un observācijas nodaļas teritorijas labiekārtojums.1.kārta
A6: Objekta adrese | C6: ='Būvniecības koptāme'!D11 -> Valkas iela 11, Strenči, Valmieras novads, LV-4730
A7: Tāme sastādīta 2026. gada tirgus cenās pamatojoties uz projekta risinājumiem un rasējumiem.
L8: Tāmes izmaksa | N8: =O198 -> 0
L9: Tāme sastādīta | N9: ='Kopsavilkuma aprēķins'!D7 -> 0
A10: Nr. p.k. | B10: Darbu apraksts vai materiālu nosaukums | E10: Vienības izmaksas | K10: Kopā uz visu apjomu
C11: Mērvienība | D11: Daudzums | E11: Laika norma (c/h) | F11: Darba samaksas likme (EUR/h) | G11: Darba alga (EUR) | H11: Būvizstrādājumi (EUR) | I11: Mehānismi (EUR) | J11: Kopā (EUR) | K11: Darbietilpība (c/h) | L11: Darba alga (EUR) | M11: Būvizstrādājumi (EUR) | N11: Mehānismi (EUR) | O11: Summa (EUR)
A12: SAGATAVOŠANAS DARBI
A13: 1 | B13: Izpilddokumentācijas sagatavošana | C13: kpl. | D13: 1 | G13: =ROUND(F13*E13,2) -> 0 | J13: =SUM(G13:I13) -> 0 | K13: =ROUND(D13*E13,1) -> 0 | L13: =ROUND(D13*G13,2) -> 0 | M13: =ROUND(D13*H13,2) -> 0 | N13: =ROUND(D13*I13,2) -> 0 | O13: =SUM(L13:N13) -> 0
A14: 2 | B14: Mobilizācija un sagatavošanās būvdarbu veikšanai | C14: kpl. | D14: 1 | G14: =ROUND(F14*E14,2) -> 0 | J14: =SUM(G14:I14) -> 0 | K14: =ROUND(D14*E14,1) -> 0 | L14: =ROUND(D14*G14,2) -> 0 | M14: =ROUND(D14*H14,2) -> 0 | N14: =ROUND(D14*I14,2) -> 0 | O14: =SUM(L14:N14) -> 0
A15: 3 | B15: Būvtāfeles uzstādīšana | C15: kpl. | D15: 1 | G15: =ROUND(E15*F15,2) -> 0 | J15: =SUM(G15:I15) -> 0 | K15: =ROUND(D15*E15,2) -> 0 | L15: =ROUND(D15*G15,2) -> 0 | M15: =ROUND(D15*H15,2) -> 0 | N15: =ROUND(D15*I15,2) -> 0 | O15: =SUM(L15:N15) -> 0
A16: 4 | B16: Teritorijas uzmērīšana un nospraušana | C16: kpl. | D16: 1 | G16: =ROUND(F16*E16,2) -> 0 | J16: =SUM(G16:I16) -> 0 | K16: =ROUND(D16*E16,1) -> 0 | L16: =ROUND(D16*G16,2) -> 0 | M16: =ROUND(D16*H16,2) -> 0 | N16: =ROUND(D16*I16,2) -> 0 | O16: =SUM(L16:N16) -> 0
A17: TERITORIJAS SAGATAVOŠANA UN DEMONTĀŽAS DARBI
A18: 5 | B18: Augu zemes noņemšana, hvid=40 cm, utilizējamo/noglabājamo grunti aizvedot uz būvdarbu veicēja norādīto atbērtni | C18: m3 | D18: 2763.77 | G18: =ROUND(F18*E18,2) -> 0 | J18: =SUM(G18:I18) -> 0 | K18: =ROUND(D18*E18,1) -> 0 | L18: =ROUND(D18*G18,2) -> 0 | M18: =ROUND(D18*H18,2) -> 0 | N18: =ROUND(D18*I18,2) -> 0 | O18: =SUM(L18:N18) -> 0
A19: 6 | B19: Ierakuma izbūve, izrakto grunti izmantojot uzbērumam zem zaļajām zonām, lieko grunti aizvedot uz atbērtni | C19: m3 | D19: =1164.48*1.05 -> 1222.704 | G19: =ROUND(F19*E19,2) -> 0 | J19: =SUM(G19:I19) -> 0 | K19: =ROUND(D19*E19,1) -> 0 | L19: =ROUND(D19*G19,2) -> 0 | M19: =ROUND(D19*H19,2) -> 0 | N19: =ROUND(D19*I19,2) -> 0 | O19: =SUM(L19:N19) -> 0
A20: 7 | B20: Uzbēruma izveide, izmantojot grunti atbilstošu "Autoceļu būvdarbu specifikācijām 2026" | C20: m3 | D20: =1014.54*1.1 -> 1115.994 | G20: =ROUND(E20*F20,2) -> 0 | J20: =SUM(G20:I20) -> 0 | K20: =ROUND(D20*E20,2) -> 0 | L20: =ROUND(D20*G20,2) -> 0 | M20: =ROUND(D20*H20,2) -> 0 | N20: =ROUND(D20*I20,2) -> 0 | O20: =SUM(L20:N20) -> 0
A21: 8 | B21: Esošu segumu demontāža (asfalts, h=8cm) | C21: m3 | D21: =0.08*949.79 -> 75.9832 | G21: =ROUND(F21*E21,2) -> 0 | J21: =SUM(G21:I21) -> 0 | K21: =ROUND(D21*E21,1) -> 0 | L21: =ROUND(D21*G21,2) -> 0 | M21: =ROUND(D21*H21,2) -> 0 | N21: =ROUND(D21*I21,2) -> 0 | O21: =SUM(L21:N21) -> 0
A22: 9 | B22: Esošu segumu demontāža (betona bruģis, betona plāksnes) | C22: m3 | D22: =0.1*425.58 -> 42.558 | G22: =ROUND(E22*F22,2) -> 0 | J22: =SUM(G22:I22) -> 0 | K22: =ROUND(D22*E22,2) -> 0 | L22: =ROUND(D22*G22,2) -> 0 | M22: =ROUND(D22*H22,2) -> 0 | N22: =ROUND(D22*I22,2) -> 0 | O22: =SUM(L22:N22) -> 0
A23: 10 | B23: Esoša betona seguma demontāža | C23: m2 | D23: 14.49 | G23: =ROUND(E23*F23,2) -> 0 | J23: =SUM(G23:I23) -> 0 | K23: =ROUND(D23*E23,2) -> 0 | L23: =ROUND(D23*G23,2) -> 0 | M23: =ROUND(D23*H23,2) -> 0 | N23: =ROUND(D23*I23,2) -> 0 | O23: =SUM(L23:N23) -> 0
A24: 11 | B24: Koku (kuru stumbra caurmērs ir lielāks par 20 cm) izciršana, celmu frēzēšana un aizvešana | C24: gb. | D24: 9 | G24: =ROUND(E24*F24,2) -> 0 | J24: =SUM(G24:I24) -> 0 | K24: =ROUND(D24*E24,2) -> 0 | L24: =ROUND(D24*G24,2) -> 0 | M24: =ROUND(D24*H24,2) -> 0 | N24: =ROUND(D24*I24,2) -> 0 | O24: =SUM(L24:N24) -> 0
A25: 12 | B25: Kokaugu (augļu koki, krūmi, koki, kuru stumbra caurmērs ir mazāks par 20 cm) izciršana, celmu frēzēšana un aizvešana | C25: gb. | D25: 28 | G25: =ROUND(E25*F25,2) -> 0 | J25: =SUM(G25:I25) -> 0 | K25: =ROUND(D25*E25,2) -> 0 | L25: =ROUND(D25*G25,2) -> 0 | M25: =ROUND(D25*H25,2) -> 0 | N25: =ROUND(D25*I25,2) -> 0 | O25: =SUM(L25:N25) -> 0
A26: 13 | B26: Esošu pandusu saudzīga demontāža un uzglabāšana pie Pasūtītāja | C26: kpl. | D26: 2 | G26: =ROUND(F26*E26,2) -> 0 | J26: =SUM(G26:I26) -> 0 | K26: =ROUND(D26*E26,1) -> 0 | L26: =ROUND(D26*G26,2) -> 0 | M26: =ROUND(D26*H26,2) -> 0 | N26: =ROUND(D26*I26,2) -> 0 | O26: =SUM(L26:N26) -> 0
A27: 14 | B27: Esoša sola demontāža un nodošana Pasūtītājam | C27: gb. | D27: 3 | G27: =ROUND(F27*E27,2) -> 0 | J27: =SUM(G27:I27) -> 0 | K27: =ROUND(D27*E27,1) -> 0 | L27: =ROUND(D27*G27,2) -> 0 | M27: =ROUND(D27*H27,2) -> 0 | N27: =ROUND(D27*I27,2) -> 0 | O27: =SUM(L27:N27) -> 0
A28: 15 | B28: Esošas atkritumu urnas demontāža un nodošana Pasūtītājam | C28: gb. | D28: 2 | G28: =ROUND(F28*E28,2) -> 0 | J28: =SUM(G28:I28) -> 0 | K28: =ROUND(D28*E28,1) -> 0 | L28: =ROUND(D28*G28,2) -> 0 | M28: =ROUND(D28*H28,2) -> 0 | N28: =ROUND(D28*I28,2) -> 0 | O28: =SUM(L28:N28) -> 0
A29: 16 | B29: Esošu velosipēdu statīvu demontāža un nodošana Pasūtītājam | C29: gb. | D29: 1 | G29: =ROUND(F29*E29,2) -> 0 | J29: =SUM(G29:I29) -> 0 | K29: =ROUND(D29*E29,1) -> 0 | L29: =ROUND(D29*G29,2) -> 0 | M29: =ROUND(D29*H29,2) -> 0 | N29: =ROUND(D29*I29,2) -> 0 | O29: =SUM(L29:N29) -> 0
A30: 17 | B30: Šūpoļu demontāža un nodošana Pasūtītājam | C30: kpl. | D30: 1 | G30: =ROUND(F30*E30,2) -> 0 | J30: =SUM(G30:I30) -> 0 | K30: =ROUND(D30*E30,1) -> 0 | L30: =ROUND(D30*G30,2) -> 0 | M30: =ROUND(D30*H30,2) -> 0 | N30: =ROUND(D30*I30,2) -> 0 | O30: =SUM(L30:N30) -> 0
A31: 18 | B31: Esoša mūra žoga demontāža | C31: t. m | D31: 23 | G31: =ROUND(E31*F31,2) -> 0 | J31: =SUM(G31:I31) -> 0 | K31: =ROUND(D31*E31,2) -> 0 | L31: =ROUND(D31*G31,2) -> 0 | M31: =ROUND(D31*H31,2) -> 0 | N31: =ROUND(D31*I31,2) -> 0 | O31: =SUM(L31:N31) -> 0
A32: 19 | B32: Esoša informatīvā stenda (Dž.Pītersona citāts) demontāža un uzglabāšana pie Pasūtītāja atkārtotai montāžai | C32: gb. | D32: 1 | G32: =ROUND(F32*E32,2) -> 0 | J32: =SUM(G32:I32) -> 0 | K32: =ROUND(D32*E32,1) -> 0 | L32: =ROUND(D32*G32,2) -> 0 | M32: =ROUND(D32*H32,2) -> 0 | N32: =ROUND(D32*I32,2) -> 0 | O32: =SUM(L32:N32) -> 0
A33: 20 | B33: Esoša norādes staba ar spoguli demontāža un uzglabāšana pie Pasūtītāja atkārtotai montāžai | C33: gb. | D33: 1 | G33: =ROUND(E33*F33,2) -> 0 | J33: =SUM(G33:I33) -> 0 | K33: =ROUND(D33*E33,2) -> 0 | L33: =ROUND(D33*G33,2) -> 0 | M33: =ROUND(D33*H33,2) -> 0 | N33: =ROUND(D33*I33,2) -> 0 | O33: =SUM(L33:N33) -> 0
A34: 21 | B34: Esošas norādes zīmes "Uzņemšana, administrācija" demontāža un utilizācija | C34: gb. | D34: 1 | G34: =ROUND(E34*F34,2) -> 0 | J34: =SUM(G34:I34) -> 0 | K34: =ROUND(D34*E34,2) -> 0 | L34: =ROUND(D34*G34,2) -> 0 | M34: =ROUND(D34*H34,2) -> 0 | N34: =ROUND(D34*I34,2) -> 0 | O34: =SUM(L34:N34) -> 0
A35: 22 | B35: Ievalkas izbūve | C35: m2 | D35: 50 | G35: =ROUND(F35*E35,2) -> 0 | J35: =SUM(G35:I35) -> 0 | K35: =ROUND(D35*E35,1) -> 0 | L35: =ROUND(D35*G35,2) -> 0 | M35: =ROUND(D35*H35,2) -> 0 | N35: =ROUND(D35*I35,2) -> 0 | O35: =SUM(L35:N35) -> 0
A36: 23 | B36: Aku vāku līmeņošana | C36: kpl. | D36: 5 | G36: =ROUND(E36*F36,2) -> 0 | J36: =SUM(G36:I36) -> 0 | K36: =ROUND(D36*E36,2) -> 0 | L36: =ROUND(D36*G36,2) -> 0 | M36: =ROUND(D36*H36,2) -> 0 | N36: =ROUND(D36*I36,2) -> 0 | O36: =SUM(L36:N36) -> 0
A37: 24 | B37: Inženierkomuniāciju ievietošana aizsargcaurulēs | C37: t. m | D37: 295 | G37: =ROUND(F37*E37,2) -> 0 | J37: =SUM(G37:I37) -> 0 | K37: =ROUND(D37*E37,1) -> 0 | L37: =ROUND(D37*G37,2) -> 0 | M37: =ROUND(D37*H37,2) -> 0 | N37: =ROUND(D37*I37,2) -> 0 | O37: =SUM(L37:N37) -> 0
A38: 25 | B38: Apzaļumošana
A39: 26 | B39: Atvestās auglīgās augsnes ielabošana ar pievestu organisko un minerālo mēslojumu, zāliena ierīkošana ar veltņošanu 15 cm dziļumā vienlaidus zonā. Zālienam izmantot Masterline zāliena sēklu maisījumu "ECO MASTER" vai ekvivalentu. Izsējas norma 3 kg/100 m² | C39: m2 | D39: =1657.3*1.03 -> 1707.019 | G39: =ROUND(F39*E39,2) -> 0 | J39: =SUM(G39:I39) -> 0 | K39: =ROUND(D39*E39,1) -> 0 | L39: =ROUND(D39*G39,2) -> 0 | M39: =ROUND(D39*H39,2) -> 0 | N39: =ROUND(D39*I39,2) -> 0 | O39: =SUM(L39:N39) -> 0
A40: 27 | B40: Zāliens - darba zonas sakārtošana | C40: m2 | D40: =291*1.03 -> 299.73 | G40: =ROUND(E40*F40,2) -> 0 | J40: =SUM(G40:I40) -> 0 | K40: =ROUND(D40*E40,2) -> 0 | L40: =ROUND(D40*G40,2) -> 0 | M40: =ROUND(D40*H40,2) -> 0 | N40: =ROUND(D40*I40,2) -> 0 | O40: =SUM(L40:N40) -> 0
A41: TERITORIJAS SEGUMU IZBŪVE
A42: Betona bruģa seguma (h=8cm) melnā, brūnā un baltā krāsā, gluda virsma izbūve
A43: 28 | B43: Drenējoša smilts slāņa izbūve, h=40 cm | C43: m3 | D43: =D45*0.4 -> 925.53572 | G43: =ROUND(E43*F43,2) -> 0 | J43: =SUM(G43:I43) -> 0 | K43: =ROUND(D43*E43,2) -> 0 | L43: =ROUND(D43*G43,2) -> 0 | M43: =ROUND(D43*H43,2) -> 0 | N43: =ROUND(D43*I43,2) -> 0 | O43: =SUM(L43:N43) -> 0
A44: 29 | B44: Minerālmateriālu maisījuma, fr. 5-40 mm, pamata izbūve h=10 cm | C44: m2 | D44: =D45 -> 2313.8393 | G44: =ROUND(F44*E44,2) -> 0 | J44: =SUM(G44:I44) -> 0 | K44: =ROUND(D44*E44,1) -> 0 | L44: =ROUND(D44*G44,2) -> 0 | M44: =ROUND(D44*H44,2) -> 0 | N44: =ROUND(D44*I44,2) -> 0 | O44: =SUM(L44:N44) -> 0
A45: 30 | B45: Minerālmateriālu maisījuma, fr.2-8 mm, pamata izbūve h(vid)=3 cm | C45: m2 | D45: =D52+D51+D50+D49+D48+D47+D46 -> 2313.8393 | G45: =ROUND(E45*F45,2) -> 0 | J45: =SUM(G45:I45) -> 0 | K45: =ROUND(D45*E45,2) -> 0 | L45: =ROUND(D45*G45,2) -> 0 | M45: =ROUND(D45*H45,2) -> 0 | N45: =ROUND(D45*I45,2) -> 0 | O45: =SUM(L45:N45) -> 0
A46: 31 | B46: Betona bruģa Troja plus, melna krāsa, gluda virsma, bez fāzes, 240x160x80mm izbūve (autotransporta ceļš uz uzņemšanu un uz ambulatora stāvvietām) | C46: m2 | D46: =1323.93*1.01 -> 1337.1693 | G46: =ROUND(E46*F46,2) -> 0 | J46: =SUM(G46:I46) -> 0 | K46: =ROUND(D46*E46,2) -> 0 | L46: =ROUND(D46*G46,2) -> 0 | M46: =ROUND(D46*H46,2) -> 0 | N46: =ROUND(D46*I46,2) -> 0 | O46: =SUM(L46:N46) -> 0
A47: 32 | B47: Betona bruģa Troja plus, brūna krāsa, gluda virsma, bez fāzes, 240x160x80mm izbūve (autotransporta ceļš uz ambulatora stāvvietām) | C47: m2 | D47: =211.8*1.01 -> 213.918 | G47: =ROUND(E47*F47,2) -> 0 | J47: =SUM(G47:I47) -> 0 | K47: =ROUND(D47*E47,2) -> 0 | L47: =ROUND(D47*G47,2) -> 0 | M47: =ROUND(D47*H47,2) -> 0 | N47: =ROUND(D47*I47,2) -> 0 | O47: =SUM(L47:N47) -> 0
A48: 33 | B48: Betona bruģa Troja, melna krāsa, gluda virsma, bez fāzes, 160x160x80mm izbūve (autostāvvietām) | C48: m2 | D48: =265.5*1.01 -> 268.155 | G48: =ROUND(E48*F48,2) -> 0 | J48: =SUM(G48:I48) -> 0 | K48: =ROUND(D48*E48,2) -> 0 | L48: =ROUND(D48*G48,2) -> 0 | M48: =ROUND(D48*H48,2) -> 0 | N48: =ROUND(D48*I48,2) -> 0 | O48: =SUM(L48:N48) -> 0
A49: 34 | B49: Betona bruģa Troja, brūna krāsa, gluda virsma, bez fāzes, 160x160x80mm izbūve (gājēju, saimn. transporta kustības celiņš uz ambulatoru (Osvalda māja)) | C49: m2 | D49: =228*1.01 -> 230.28 | G49: =ROUND(E49*F49,2) -> 0 | J49: =SUM(G49:I49) -> 0 | K49: =ROUND(D49*E49,2) -> 0 | L49: =ROUND(D49*G49,2) -> 0 | M49: =ROUND(D49*H49,2) -> 0 | N49: =ROUND(D49*I49,2) -> 0 | O49: =SUM(L49:N49) -> 0
A50: 35 | B50: Betona bruģa PLAZA 6x4, brūna krāsa, gluda virsma, bez fāzes, 600x400x80mm izbūve (Osvalda mājas priekšlaukums) | C50: m2 | D50: =246.5*1.01 -> 248.965 | G50: =ROUND(E50*F50,2) -> 0 | J50: =SUM(G50:I50) -> 0 | K50: =ROUND(D50*E50,2) -> 0 | L50: =ROUND(D50*G50,2) -> 0 | M50: =ROUND(D50*H50,2) -> 0 | N50: =ROUND(D50*I50,2) -> 0 | O50: =SUM(L50:N50) -> 0
A51: 36 | B51: Punktaina taktila betona bruģa Prizma 8D (pumpiņas), balta krāsa, 200x100x80mm izbūve | C51: m2 | D51: =2.02*1.01 -> 2.0402 | G51: =ROUND(F51*E51,2) -> 0 | J51: =SUM(G51:I51) -> 0 | K51: =ROUND(D51*E51,1) -> 0 | L51: =ROUND(D51*G51,2) -> 0 | M51: =ROUND(D51*H51,2) -> 0 | N51: =ROUND(D51*I51,2) -> 0 | O51: =SUM(L51:N51) -> 0
A52: 37 | B52: Punktaina taktila betona bruģa Prizma 8L (vadulas), balta krāsa, 200x100x80mm izbūve | C52: m2 | D52: =13.18*1.01 -> 13.3118 | G52: =ROUND(F52*E52,2) -> 0 | J52: =SUM(G52:I52) -> 0 | K52: =ROUND(D52*E52,1) -> 0 | L52: =ROUND(D52*G52,2) -> 0 | M52: =ROUND(D52*H52,2) -> 0 | N52: =ROUND(D52*I52,2) -> 0 | O52: =SUM(L52:N52) -> 0
A53: Betona bruģa seguma (h=6cm) brūnā, gluda virsma izbūve
A54: =A52+1 -> 38 | B54: Drenējoša smilts slāņa izbūve, h=40 cm | C54: m3 | D54: =D57*0.4 -> 105.3632 | G54: =ROUND(E54*F54,2) -> 0 | J54: =SUM(G54:I54) -> 0 | K54: =ROUND(D54*E54,2) -> 0 | L54: =ROUND(D54*G54,2) -> 0 | M54: =ROUND(D54*H54,2) -> 0 | N54: =ROUND(D54*I54,2) -> 0 | O54: =SUM(L54:N54) -> 0
A55: =A54+1 -> 39 | B55: Minerālmateriālu maisījuma, fr. 5-40 mm,pamata izbūve, h=10 cm | C55: m2 | D55: =D57 -> 263.408 | G55: =ROUND(F55*E55,2) -> 0 | J55: =SUM(G55:I55) -> 0 | K55: =ROUND(D55*E55,1) -> 0 | L55: =ROUND(D55*G55,2) -> 0 | M55: =ROUND(D55*H55,2) -> 0 | N55: =ROUND(D55*I55,2) -> 0 | O55: =SUM(L55:N55) -> 0
A56: =A55+1 -> 40 | B56: Minerālmateriālu maisījums, fr.2-8 mm, pamata izbūve, h(vid)=3 cm | C56: m2 | D56: =D57 -> 263.408 | G56: =ROUND(E56*F56,2) -> 0 | J56: =SUM(G56:I56) -> 0 | K56: =ROUND(D56*E56,2) -> 0 | L56: =ROUND(D56*G56,2) -> 0 | M56: =ROUND(D56*H56,2) -> 0 | N56: =ROUND(D56*I56,2) -> 0 | O56: =SUM(L56:N56) -> 0
A57: =A56+1 -> 41 | B57: Betona bruģa Troja, brūna krāsa, gluda virsma, bez fāzes, 160x160x60mm izbūve (gājēju kustības celiņi) | C57: m2 | D57: =260.8*1.01 -> 263.408 | G57: =ROUND(E57*F57,2) -> 0 | J57: =SUM(G57:I57) -> 0 | K57: =ROUND(D57*E57,2) -> 0 | L57: =ROUND(D57*G57,2) -> 0 | M57: =ROUND(D57*H57,2) -> 0 | N57: =ROUND(D57*I57,2) -> 0 | O57: =SUM(L57:N57) -> 0
A58: Granīta bruģakmens seguma (h=5 cm) izbūve
A59: =A57+1 -> 42 | B59: Drenējoša smilts slāņa izbūve, h=40 cm | C59: m3 | D59: =D62*0.4 -> 29.09204 | G59: =ROUND(E59*F59,2) -> 0 | J59: =SUM(G59:I59) -> 0 | K59: =ROUND(D59*E59,2) -> 0 | L59: =ROUND(D59*G59,2) -> 0 | M59: =ROUND(D59*H59,2) -> 0 | N59: =ROUND(D59*I59,2) -> 0 | O59: =SUM(L59:N59) -> 0
A60: =A59+1 -> 43 | B60: Minerālmateriālu maisījuma, fr. 5-40 mm, pamata izbūve, h=10 cm | C60: m2 | D60: =D62 -> 72.7301 | G60: =ROUND(F60*E60,2) -> 0 | J60: =SUM(G60:I60) -> 0 | K60: =ROUND(D60*E60,1) -> 0 | L60: =ROUND(D60*G60,2) -> 0 | M60: =ROUND(D60*H60,2) -> 0 | N60: =ROUND(D60*I60,2) -> 0 | O60: =SUM(L60:N60) -> 0
A61: =A60+1 -> 44 | B61: Minerālmateriālu maisījuma, fr.2-8 mm, pamata izbūve, h(vid)=3 cm | C61: m2 | D61: =D62 -> 72.7301 | G61: =ROUND(E61*F61,2) -> 0 | J61: =SUM(G61:I61) -> 0 | K61: =ROUND(D61*E61,2) -> 0 | L61: =ROUND(D61*G61,2) -> 0 | M61: =ROUND(D61*H61,2) -> 0 | N61: =ROUND(D61*I61,2) -> 0 | O61: =SUM(L61:N61) -> 0
A62: =A61+1 -> 45 | B62: Granīta bruģakmens, rozā krāsa, šķelta virsma, 100x100x50mm izbūve | C62: m2 | D62: =72.01*1.01 -> 72.7301 | G62: =ROUND(E62*F62,2) -> 0 | J62: =SUM(G62:I62) -> 0 | K62: =ROUND(D62*E62,2) -> 0 | L62: =ROUND(D62*G62,2) -> 0 | M62: =ROUND(D62*H62,2) -> 0 | N62: =ROUND(D62*I62,2) -> 0 | O62: =SUM(L62:N62) -> 0
A63: Betona seguma izbūve
A64: =A62+1 -> 46 | B64: Drenējoša smilts slāņa izbūve, h=40 cm | C64: m3 | D64: =D66*0.4 -> 14.56824 | G64: =ROUND(E64*F64,2) -> 0 | J64: =SUM(G64:I64) -> 0 | K64: =ROUND(D64*E64,2) -> 0 | L64: =ROUND(D64*G64,2) -> 0 | M64: =ROUND(D64*H64,2) -> 0 | N64: =ROUND(D64*I64,2) -> 0 | O64: =SUM(L64:N64) -> 0
A65: =A64+1 -> 47 | B65: Minerālmateriālu maisījuma, fr. 5-40 mm, pamata izbūve, h=20 cm | C65: m2 | D65: =D66 -> 36.4206 | G65: =ROUND(F65*E65,2) -> 0 | J65: =SUM(G65:I65) -> 0 | K65: =ROUND(D65*E65,1) -> 0 | L65: =ROUND(D65*G65,2) -> 0 | M65: =ROUND(D65*H65,2) -> 0 | N65: =ROUND(D65*I65,2) -> 0 | O65: =SUM(L65:N65) -> 0
A66: =A65+1 -> 48 | B66: Portlandcementa betona (t.sk.rukuma šuves zāģēšana un aizpildīšana) izbūve, h=18 cm | C66: m2 | D66: =36.06*1.01 -> 36.4206 | G66: =ROUND(F66*E66,2) -> 0 | J66: =SUM(G66:I66) -> 0 | K66: =ROUND(D66*E66,1) -> 0 | L66: =ROUND(D66*G66,2) -> 0 | M66: =ROUND(D66*H66,2) -> 0 | N66: =ROUND(D66*I66,2) -> 0 | O66: =SUM(L66:N66) -> 0
A67: Asfalta seguma izbūve
A68: =A66+1 -> 49 | B68: Drenējoša smilts slāņa izbūve, h=40 cm | C68: m3 | D68: =D72*0.4 -> 43.39896 | G68: =ROUND(E68*F68,2) -> 0 | J68: =SUM(G68:I68) -> 0 | K68: =ROUND(D68*E68,2) -> 0 | L68: =ROUND(D68*G68,2) -> 0 | M68: =ROUND(D68*H68,2) -> 0 | N68: =ROUND(D68*I68,2) -> 0 | O68: =SUM(L68:N68) -> 0
A69: =A68+1 -> 50 | B69: Minerālmateriālu maisījuma 0/56, N-III, pamata izbūve, h= 15 cm | C69: m2 | D69: =D72 -> 108.4974 | G69: =ROUND(F69*E69,2) -> 0 | J69: =SUM(G69:I69) -> 0 | K69: =ROUND(D69*E69,1) -> 0 | L69: =ROUND(D69*G69,2) -> 0 | M69: =ROUND(D69*H69,2) -> 0 | N69: =ROUND(D69*I69,2) -> 0 | O69: =SUM(L69:N69) -> 0
A70: =A69+1 -> 51 | B70: Minerālmateriālu maisījuma 0/45, N-II, pamata izbūve, h= 10 cm | C70: m2 | D70: =D72 -> 108.4974 | G70: =ROUND(F70*E70,2) -> 0 | J70: =SUM(G70:I70) -> 0 | K70: =ROUND(D70*E70,1) -> 0 | L70: =ROUND(D70*G70,2) -> 0 | M70: =ROUND(D70*H70,2) -> 0 | N70: =ROUND(D70*I70,2) -> 0 | O70: =SUM(L70:N70) -> 0
A71: =A70+1 -> 52 | B71: Karstais asfalts AC16 base, SIII, h=6 cm | C71: m2 | D71: =D72 -> 108.4974 | G71: =ROUND(E71*F71,2) -> 0 | J71: =SUM(G71:I71) -> 0 | K71: =ROUND(D71*E71,2) -> 0 | L71: =ROUND(D71*G71,2) -> 0 | M71: =ROUND(D71*H71,2) -> 0 | N71: =ROUND(D71*I71,2) -> 0 | O71: =SUM(L71:N71) -> 0
A72: =A71+1 -> 53 | B72: Karstais asfalts AC11 surf, SII, h=4 cm | C72: m2 | D72: =106.37*1.02 -> 108.4974 | G72: =ROUND(F72*E72,2) -> 0 | J72: =SUM(G72:I72) -> 0 | K72: =ROUND(D72*E72,1) -> 0 | L72: =ROUND(D72*G72,2) -> 0 | M72: =ROUND(D72*H72,2) -> 0 | N72: =ROUND(D72*I72,2) -> 0 | O72: =SUM(L72:N72) -> 0
A73: Oļu segums ievalkām
A74: 54 | B74: Dekoratīvu oļu segums ievalkās, d=2-5cm | C74: m2 | D74: 10 | G74: =ROUND(E74*F74,2) -> 0 | J74: =SUM(G74:I74) -> 0 | K74: =ROUND(D74*E74,2) -> 0 | L74: =ROUND(D74*G74,2) -> 0 | M74: =ROUND(D74*H74,2) -> 0 | N74: =ROUND(D74*I74,2) -> 0 | O74: =SUM(L74:N74) -> 0
A75: 55 | B75: Dekoratīvu akmeņu izkārtošana ievalkās, dekoratīvi laukakmeņi, d=60-100cm | C75: gb. | D75: 50 | G75: =ROUND(E75*F75,2) -> 0 | J75: =SUM(G75:I75) -> 0 | K75: =ROUND(D75*E75,2) -> 0 | L75: =ROUND(D75*G75,2) -> 0 | M75: =ROUND(D75*H75,2) -> 0 | N75: =ROUND(D75*I75,2) -> 0 | O75: =SUM(L75:N75) -> 0
A76: SEGUMU ATJAUNOŠANA
A77: 56 | B77: Darba zonas sakārtošana - betona bruģis | C77: m2 | D77: 2 | G77: =ROUND(E77*F77,2) -> 0 | J77: =SUM(G77:I77) -> 0 | K77: =ROUND(D77*E77,2) -> 0 | L77: =ROUND(D77*G77,2) -> 0 | M77: =ROUND(D77*H77,2) -> 0 | N77: =ROUND(D77*I77,2) -> 0 | O77: =SUM(L77:N77) -> 0
A78: 57 | B78: Darba zonas sakārtošana - asfalta segums | C78: m2 | D78: 27.5 | G78: =ROUND(F78*E78,2) -> 0 | J78: =SUM(G78:I78) -> 0 | K78: =ROUND(D78*E78,1) -> 0 | L78: =ROUND(D78*G78,2) -> 0 | M78: =ROUND(D78*H78,2) -> 0 | N78: =ROUND(D78*I78,2) -> 0 | O78: =SUM(L78:N78) -> 0
A79: APMAĻU IZBŪVE
A80: 58 | B80: Cementbetona apmaļu 15.22.100., betona C 30/37 un šķembu pamata izbūve, atbilstoši Izbūves plānam | C80: m | D80: =453*1.01 -> 457.53 | G80: =ROUND(E80*F80,2) -> 0 | J80: =SUM(G80:I80) -> 0 | K80: =ROUND(D80*E80,2) -> 0 | L80: =ROUND(D80*G80,2) -> 0 | M80: =ROUND(D80*H80,2) -> 0 | N80: =ROUND(D80*I80,2) -> 0 | O80: =SUM(L80:N80) -> 0
A81: 59 | B81: Cementbetona apmaļu 15.30/22.100., betona C 30/37 un šķembu pamata izbūve, atbilstoši Izbūves plānam | C81: m | D81: 2 | G81: =ROUND(F81*E81,2) -> 0 | J81: =SUM(G81:I81) -> 0 | K81: =ROUND(D81*E81,1) -> 0 | L81: =ROUND(D81*G81,2) -> 0 | M81: =ROUND(D81*H81,2) -> 0 | N81: =ROUND(D81*I81,2) -> 0 | O81: =SUM(L81:N81) -> 0
A82: 60 | B82: Cementbetona apmaļu 15.22.100., betona C 30/37 (low quadro) un šķembu pamata izbūve, atbilstoši Izbūves plānam | C82: m | D82: 6.5 | G82: =ROUND(E82*F82,2) -> 0 | J82: =SUM(G82:I82) -> 0 | K82: =ROUND(D82*E82,2) -> 0 | L82: =ROUND(D82*G82,2) -> 0 | M82: =ROUND(D82*H82,2) -> 0 | N82: =ROUND(D82*I82,2) -> 0 | O82: =SUM(L82:N82) -> 0
A83: 61 | B83: Cementbetona apmaļu 8.20.100., betona C 30/37 un šķembu pamata izbūve, atbilstoši Izbūves plānam | C83: m | D83: =637*1.01 -> 643.37 | G83: =ROUND(F83*E83,2) -> 0 | J83: =SUM(G83:I83) -> 0 | K83: =ROUND(D83*E83,1) -> 0 | L83: =ROUND(D83*G83,2) -> 0 | M83: =ROUND(D83*H83,2) -> 0 | N83: =ROUND(D83*I83,2) -> 0 | O83: =SUM(L83:N83) -> 0
A84: 62 | B84: Betona tekne, 10.25.100., betona C 30/37 un šķembu pamata izbūve atbilstoši izbūves plānam | C84: m | D84: 10 | G84: =ROUND(E84*F84,2) -> 0 | J84: =SUM(G84:I84) -> 0 | K84: =ROUND(D84*E84,2) -> 0 | L84: =ROUND(D84*G84,2) -> 0 | M84: =ROUND(D84*H84,2) -> 0 | N84: =ROUND(D84*I84,2) -> 0 | O84: =SUM(L84:N84) -> 0
A85: 63 | B85: Vāka izbūve virs ūdensvada aizbīdņa | C85: kpl. | D85: 1 | G85: =ROUND(E85*F85,2) -> 0 | J85: =SUM(G85:I85) -> 0 | K85: =ROUND(D85*E85,2) -> 0 | L85: =ROUND(D85*G85,2) -> 0 | M85: =ROUND(D85*H85,2) -> 0 | N85: =ROUND(D85*I85,2) -> 0 | O85: =SUM(L85:N85) -> 0
A86: 64 | B86: Gaismas akas nosegelementa izbūve pie Veļas mājas | C86: kpl. | D86: 1 | G86: =ROUND(E86*F86,2) -> 0 | J86: =SUM(G86:I86) -> 0 | K86: =ROUND(D86*E86,2) -> 0 | L86: =ROUND(D86*G86,2) -> 0 | M86: =ROUND(D86*H86,2) -> 0 | N86: =ROUND(D86*I86,2) -> 0 | O86: =SUM(L86:N86) -> 0
A87: CEĻA APRĪKOJUMS UN LABIEKĀRTOJUMS
A88: Ceļa zīmju uzstādīšana, atbilstoši LVS-77 (1.izmēra grupa, 1.atstarošanas klase)
A89: 65 | B89: Nr. 206 | C89: gb. | D89: 2 | G89: =ROUND(E89*F89,2) -> 0 | J89: =SUM(G89:I89) -> 0 | K89: =ROUND(D89*E89,2) -> 0 | L89: =ROUND(D89*G89,2) -> 0 | M89: =ROUND(D89*H89,2) -> 0 | N89: =ROUND(D89*I89,2) -> 0 | O89: =SUM(L89:N89) -> 0
A90: 66 | B90: Nr. 301 | C90: gb. | D90: 3 | G90: =ROUND(E90*F90,2) -> 0 | J90: =SUM(G90:I90) -> 0 | K90: =ROUND(D90*E90,2) -> 0 | L90: =ROUND(D90*G90,2) -> 0 | M90: =ROUND(D90*H90,2) -> 0 | N90: =ROUND(D90*I90,2) -> 0 | O90: =SUM(L90:N90) -> 0
A91: 67 | B91: Nr. 537 | C91: gb. | D91: 5 | G91: =ROUND(E91*F91,2) -> 0 | J91: =SUM(G91:I91) -> 0 | K91: =ROUND(D91*E91,2) -> 0 | L91: =ROUND(D91*G91,2) -> 0 | M91: =ROUND(D91*H91,2) -> 0 | N91: =ROUND(D91*I91,2) -> 0 | O91: =SUM(L91:N91) -> 0
A92: 68 | B92: Nr. 801 | C92: gb. | D92: 1 | G92: =ROUND(E92*F92,2) -> 0 | J92: =SUM(G92:I92) -> 0 | K92: =ROUND(D92*E92,2) -> 0 | L92: =ROUND(D92*G92,2) -> 0 | M92: =ROUND(D92*H92,2) -> 0 | N92: =ROUND(D92*I92,2) -> 0 | O92: =SUM(L92:N92) -> 0
A93: 69 | B93: Nr. 807 | C93: gb. | D93: 1 | G93: =ROUND(E93*F93,2) -> 0 | J93: =SUM(G93:I93) -> 0 | K93: =ROUND(D93*E93,2) -> 0 | L93: =ROUND(D93*G93,2) -> 0 | M93: =ROUND(D93*H93,2) -> 0 | N93: =ROUND(D93*I93,2) -> 0 | O93: =SUM(L93:N93) -> 0
A94: 70 | B94: Nr. 808 | C94: gb. | D94: 1 | G94: =ROUND(E94*F94,2) -> 0 | J94: =SUM(G94:I94) -> 0 | K94: =ROUND(D94*E94,2) -> 0 | L94: =ROUND(D94*G94,2) -> 0 | M94: =ROUND(D94*H94,2) -> 0 | N94: =ROUND(D94*I94,2) -> 0 | O94: =SUM(L94:N94) -> 0
A95: 71 | B95: Nr. 814 | C95: gb. | D95: 2 | G95: =ROUND(E95*F95,2) -> 0 | J95: =SUM(G95:I95) -> 0 | K95: =ROUND(D95*E95,2) -> 0 | L95: =ROUND(D95*G95,2) -> 0 | M95: =ROUND(D95*H95,2) -> 0 | N95: =ROUND(D95*I95,2) -> 0 | O95: =SUM(L95:N95) -> 0
A96: 72 | B96: Nr. 835 | C96: gb. | D96: 1 | G96: =ROUND(E96*F96,2) -> 0 | J96: =SUM(G96:I96) -> 0 | K96: =ROUND(D96*E96,2) -> 0 | L96: =ROUND(D96*G96,2) -> 0 | M96: =ROUND(D96*H96,2) -> 0 | N96: =ROUND(D96*I96,2) -> 0 | O96: =SUM(L96:N96) -> 0
A97: 73 | B97: Nr. 844 | C97: gb. | D97: 2 | G97: =ROUND(E97*F97,2) -> 0 | J97: =SUM(G97:I97) -> 0 | K97: =ROUND(D97*E97,2) -> 0 | L97: =ROUND(D97*G97,2) -> 0 | M97: =ROUND(D97*H97,2) -> 0 | N97: =ROUND(D97*I97,2) -> 0 | O97: =SUM(L97:N97) -> 0
A98: 74 | B98: Nr.849 (ar atšķirīgiem nosaukumiem) | C98: gb. | D98: 5 | G98: =ROUND(E98*F98,2) -> 0 | J98: =SUM(G98:I98) -> 0 | K98: =ROUND(D98*E98,2) -> 0 | L98: =ROUND(D98*G98,2) -> 0 | M98: =ROUND(D98*H98,2) -> 0 | N98: =ROUND(D98*I98,2) -> 0 | O98: =SUM(L98:N98) -> 0
A99: 75 | B99: Ceļa zīmju balstu uztādīšana, izskaitot betona C30/37 pamatus, min. 0.30x0.30x0.50m | C99: gb. | D99: 9 | G99: =ROUND(E99*F99,2) -> 0 | J99: =SUM(G99:I99) -> 0 | K99: =ROUND(D99*E99,2) -> 0 | L99: =ROUND(D99*G99,2) -> 0 | M99: =ROUND(D99*H99,2) -> 0 | N99: =ROUND(D99*I99,2) -> 0 | O99: =SUM(L99:N99) -> 0
A100: 76 | B100: Konsoļu uzstādīšana | C100: gb. | D100: 2 | G100: =ROUND(E100*F100,2) -> 0 | J100: =SUM(G100:I100) -> 0 | K100: =ROUND(D100*E100,2) -> 0 | L100: =ROUND(D100*G100,2) -> 0 | M100: =ROUND(D100*H100,2) -> 0 | N100: =ROUND(D100*I100,2) -> 0 | O100: =SUM(L100:N100) -> 0
...

Sheet Ūdensapgāde un kanalizācija-UKT
A1: Lokālā tāme Nr. 1-2
A2: Inženierrisinājumu daļa (UKT - Ūdensapgāde un kanalizācija-ārējā)
A3: (Darba veids vai konstruktīvā elementa nosaukums)
A4: Būves nosaukums | C4: ='Kopsavilkuma aprēķins'!D2 -> VSIA "Strenču psihoneiroloģiskā slimnīca" galvenās iebrauktuves un uzņemšanas un observācijas nodaļas teritorijas labiekārtojums. 1.kārta
A5: Objekta nosaukums | C5: ='Kopsavilkuma aprēķins'!D3 -> VSIA "Strenču psihoneiroloģiskā slimnīca" galvenās iebrauktuves un uzņemšanas un observācijas nodaļas teritorijas labiekārtojums.1.kārta
A6: Objekta adrese | C6: ='Būvniecības koptāme'!D11 -> Valkas iela 11, Strenči, Valmieras novads, LV-4730
A7: Tāme sastādīta _______. gada tirgus cenās pamatojoties uz projekta risinājumiem un rasējumiem.
L8: Tāmes izmaksa | N8: =O61 -> 0
L9: Tāme sastādīta | N9: ='Kopsavilkuma aprēķins'!D7 -> 0
A10: Nr. p.k. | B10: Darbu apraksts vai materiālu nosaukums | E10: Vienības izmaksas | K10: Kopā uz visu apjomu
C11: Mērvienība | D11: Daudzums | E11: Laika norma (c/h) | F11: Darba samaksas likme (EUR/h) | G11: Darba alga (EUR) | H11: Būvizstrādājumi (EUR) | I11: Mehānismi (EUR) | J11: Kopā (EUR) | K11: Darbietilpība (c/h) | L11: Darba alga (EUR) | M11: Būvizstrādājumi (EUR) | N11: Mehānismi (EUR) | O11: Summa (EUR)
A12: Zemes darbi projektētā ūdensvada un kanalizācijas tīklu darbu zonā
A13: 1 | B13: Tranšejas rakšana ar rokām un ekskavatoru projektēto cauruļvadu montāžai. Grunti noblīvēt līdz dabīgā blīvuma pakāpei | C13: m³ | D13: 818 | G13: =ROUND(E13*F13,2) -> 0 | J13: =SUM(G13:I13) -> 0 | K13: =ROUND(D13*E13,2) -> 0 | L13: =ROUND(D13*G13,2) -> 0 | M13: =ROUND(D13*H13,2) -> 0 | N13: =ROUND(D13*I13,2) -> 0 | O13: =SUM(L13:N13) -> 0
A14: 2 | B14: Izbrīvētās grunts iekraušana autopašizgāzējā un promvešana līdz pasūtītāja norādītai atbērtnei (ja nepieciešams) | C14: m³ | D14: 818 | G14: =ROUND(E14*F14,2) -> 0 | J14: =SUM(G14:I14) -> 0 | K14: =ROUND(D14*E14,2) -> 0 | L14: =ROUND(D14*G14,2) -> 0 | M14: =ROUND(D14*H14,2) -> 0 | N14: =ROUND(D14*I14,2) -> 0 | O14: =SUM(L14:N14) -> 0
A15: 3 | B15: Blietētas smilts (filtrācijas koeficients K>1 m/dnn) pamatnes un apbērums ierīkošana h=0,15/0.30 m | C15: m³ | D15: 329.35 | G15: =ROUND(E15*F15,2) -> 0 | J15: =SUM(G15:I15) -> 0 | K15: =ROUND(D15*E15,2) -> 0 | L15: =ROUND(D15*G15,2) -> 0 | M15: =ROUND(D15*H15,2) -> 0 | N15: =ROUND(D15*I15,2) -> 0 | O15: =SUM(L15:N15) -> 0
A16: 4 | B16: Graudaina grunts vai rupja smilts, Stormbox pamatnes un apbēruma ierikošanai | C16: m³ | D16: 26 | G16: =ROUND(E16*F16,2) -> 0 | J16: =SUM(G16:I16) -> 0 | K16: =ROUND(D16*E16,2) -> 0 | L16: =ROUND(D16*G16,2) -> 0 | M16: =ROUND(D16*H16,2) -> 0 | N16: =ROUND(D16*I16,2) -> 0 | O16: =SUM(L16:N16) -> 0
A17: 5 | B17: Virszemes ūdens atsūknēšana no tranšejas ar drenāžas sūkni (nepieciešamības gadījumā) | C17: m | D17: 342 | G17: =ROUND(F17*E17,2) -> 0 | J17: =SUM(G17:I17) -> 0 | K17: =ROUND(D17*E17,1) -> 0 | L17: =ROUND(D17*G17,2) -> 0 | M17: =ROUND(D17*H17,2) -> 0 | N17: =ROUND(D17*I17,2) -> 0 | O17: =SUM(L17:N17) -> 0
A18: 6 | B18: Grunts ūdens līmeņa pazemināšana ar adatfiltriem tīklu rakšanas zonā (nepieciešamības gadījumā) | C18: m | D18: 30 | G18: =ROUND(F18*E18,2) -> 0 | J18: =SUM(G18:I18) -> 0 | K18: =ROUND(D18*E18,1) -> 0 | L18: =ROUND(D18*G18,2) -> 0 | M18: =ROUND(D18*H18,2) -> 0 | N18: =ROUND(D18*I18,2) -> 0 | O18: =SUM(L18:N18) -> 0
A19: 7 | B19: Tranšejas sieniņu nostiprināšana ar metāla vairogiem pie dziļuma lielāka par 1,00m | C19: m | D19: 342 | G19: =ROUND(F19*E19,2) -> 0 | J19: =SUM(G19:I19) -> 0 | K19: =ROUND(D19*E19,1) -> 0 | L19: =ROUND(D19*G19,2) -> 0 | M19: =ROUND(D19*H19,2) -> 0 | N19: =ROUND(D19*I19,2) -> 0 | O19: =SUM(L19:N19) -> 0
A20: 8 | B20: Tranšeju aizbēršana ar pievesto smilti (filtrācijas koeficientu ≥ 1 m/dnn, smilts blīvums ne mazāks par 0,95 no dabīgā blīvuma) no ierīkotā apbēruma ap cauruļvadu līdz atjaunojamā seguma apakšējai kārtai, blietējot ik pa 30 cm. | C20: m³ | D20: 457.5 | G20: =ROUND(E20*F20,2) -> 0 | J20: =SUM(G20:I20) -> 0 | K20: =ROUND(D20*E20,2) -> 0 | L20: =ROUND(D20*G20,2) -> 0 | M20: =ROUND(D20*H20,2) -> 0 | N20: =ROUND(D20*I20,2) -> 0 | O20: =SUM(L20:N20) -> 0
A21: Ūdensvads
A22: =A20+1 -> 9 | B22: Spiedvada PE-100 caurule PN16, OD32x3.0, montāža ar 15 cm smilts pamatnes ierīkošanu un izbūvētā cauruļvada smilts apbēruma ierīkošanu 30 cm virs caurules virsas. Tai skaitā būvizstrādājumi | C22: m | D22: 3 | G22: =ROUND(F22*E22,2) -> 0 | J22: =SUM(G22:I22) -> 0 | K22: =ROUND(D22*E22,1) -> 0 | L22: =ROUND(D22*G22,2) -> 0 | M22: =ROUND(D22*H22,2) -> 0 | N22: =ROUND(D22*I22,2) -> 0 | O22: =SUM(L22:N22) -> 0
A23: 10 | B23: EM sedlu trejgabals PN10 OD63/32, montāža | C23: gb | D23: 1 | G23: =ROUND(E23*F23,2) -> 0 | J23: =SUM(G23:I23) -> 0 | K23: =ROUND(D23*E23,2) -> 0 | L23: =ROUND(D23*G23,2) -> 0 | M23: =ROUND(D23*H23,2) -> 0 | N23: =ROUND(D23*I23,2) -> 0 | O23: =SUM(L23:N23) -> 0
A24: 11 | B24: EM dubultuzmava PN10 OD32, montāža | C24: gb | D24: 1 | G24: =ROUND(E24*F24,2) -> 0 | J24: =SUM(G24:I24) -> 0 | K24: =ROUND(D24*E24,2) -> 0 | L24: =ROUND(D24*G24,2) -> 0 | M24: =ROUND(D24*H24,2) -> 0 | N24: =ROUND(D24*I24,2) -> 0 | O24: =SUM(L24:N24) -> 0
A25: 12 | B25: EM līknis PN10 OD32x90°, montāža | C25: gb | D25: 1 | G25: =ROUND(E25*F25,2) -> 0 | J25: =SUM(G25:I25) -> 0 | K25: =ROUND(D25*E25,2) -> 0 | L25: =ROUND(D25*G25,2) -> 0 | M25: =ROUND(D25*H25,2) -> 0 | N25: =ROUND(D25*I25,2) -> 0 | O25: =SUM(L25:N25) -> 0
A26: 13 | B26: Servisa aizbīdnis ar uzmavām PE caurulei, DCI DN 25, montāža | C26: gb | D26: 1 | G26: =ROUND(E26*F26,2) -> 0 | J26: =SUM(G26:I26) -> 0 | K26: =ROUND(D26*E26,2) -> 0 | L26: =ROUND(D26*G26,2) -> 0 | M26: =ROUND(D26*H26,2) -> 0 | N26: =ROUND(D26*I26,2) -> 0 | O26: =SUM(L26:N26) -> 0
A27: 14 | B27: Plastmasas ūdens aka ø400/315 h=0,6m, ar ķeta akas vāku 40t, PP pamata plāksni (800x800mm), lodveida ventili DN25 ar ārējo vītni pieslēgumam un stiprinājumiem; uzstādīšanai zaļajā zonā, montāža | C27: kompl. | D27: 1 | G27: =ROUND(F27*E27,2) -> 0 | J27: =ROUND(SUM(G27:I27),2) -> 0 | K27: =ROUND(E27*D27,2) -> 0 | L27: =ROUND(G27*D27,2) -> 0 | M27: =ROUND(H27*D27,2) -> 0 | N27: =ROUND(I27*D27,2) -> 0 | O27: =ROUND(SUM(L27:N27),2) -> 0
A28: 15 | B28: Balsti zem aizbīdņiem un veidgabaliem, betona marka B25, montāža | C28: gb | D28: 2 | G28: =ROUND(E28*F28,2) -> 0 | J28: =SUM(G28:I28) -> 0 | K28: =ROUND(D28*E28,2) -> 0 | L28: =ROUND(D28*G28,2) -> 0 | M28: =ROUND(D28*H28,2) -> 0 | N28: =ROUND(D28*I28,2) -> 0 | O28: =SUM(L28:N28) -> 0
A29: 16 | B29: Marķējuma lentas piegāde un ieklāšana ūdensvadam 0,5m no cauruļvada virsmas | C29: m | D29: 3 | G29: =ROUND(E29*F29,2) -> 0 | J29: =SUM(G29:I29) -> 0 | K29: =ROUND(D29*E29,2) -> 0 | L29: =ROUND(D29*G29,2) -> 0 | M29: =ROUND(D29*H29,2) -> 0 | N29: =ROUND(D29*I29,2) -> 0 | O29: =SUM(L29:N29) -> 0
A30: 17 | B30: Pievienojums esošajam ūdensvadam d63 | C30: vieta | D30: 1 | G30: =ROUND(F30*E30,2) -> 0 | J30: =SUM(G30:I30) -> 0 | K30: =ROUND(D30*E30,1) -> 0 | L30: =ROUND(D30*G30,2) -> 0 | M30: =ROUND(D30*H30,2) -> 0 | N30: =ROUND(D30*I30,2) -> 0 | O30: =SUM(L30:N30) -> 0
A31: 18 | B31: Cauruļvadu skalošana un hlorēšana | C31: m | D31: 3 | G31: =ROUND(E31*F31,2) -> 0 | J31: =SUM(G31:I31) -> 0 | K31: =ROUND(D31*E31,2) -> 0 | L31: =ROUND(D31*G31,2) -> 0 | M31: =ROUND(D31*H31,2) -> 0 | N31: =ROUND(D31*I31,2) -> 0 | O31: =SUM(L31:N31) -> 0
A32: 19 | B32: Cauruļvadu hidrauliskā pārbaude | C32: m | D32: 3 | G32: =ROUND(E32*F32,2) -> 0 | J32: =SUM(G32:I32) -> 0 | K32: =ROUND(D32*E32,2) -> 0 | L32: =ROUND(D32*G32,2) -> 0 | M32: =ROUND(D32*H32,2) -> 0 | N32: =ROUND(D32*I32,2) -> 0 | O32: =SUM(L32:N32) -> 0
A33: Sadzīves kanalizācija K1
A34: 20 | B34: PVC daudzslāņu kanalizācijas caurule ar uzmavu, SN8 OD110, montāža ar 15 cm smilts pamatnes ierīkošanu un izbūvētā cauruļvada smilts apbēruma ierīkošanu 30 cm virs caurules virsas. Tai skaitā būvizstrādājumi | C34: m | D34: 2 | G34: =ROUND(F34*E34,2) -> 0 | J34: =SUM(G34:I34) -> 0 | K34: =ROUND(D34*E34,1) -> 0 | L34: =ROUND(D34*G34,2) -> 0 | M34: =ROUND(D34*H34,2) -> 0 | N34: =ROUND(D34*I34,2) -> 0 | O34: =SUM(L34:N34) -> 0
A35: 21 | B35: PP kanalizācijas caurule ar uzmavu, SN8 OD160, montāža ar 15 cm smilts pamatnes ierīkošanu un izbūvētā cauruļvada smilts apbēruma ierīkošanu 30 cm virs caurules virsas. Tai skaitā būvizstrādājumi | C35: m | D35: 8 | G35: =ROUND(E35*F35,2) -> 0 | J35: =SUM(G35:I35) -> 0 | K35: =ROUND(D35*E35,2) -> 0 | L35: =ROUND(D35*G35,2) -> 0 | M35: =ROUND(D35*H35,2) -> 0 | N35: =ROUND(D35*I35,2) -> 0 | O35: =SUM(L35:N35) -> 0
A36: 22 | B36: PP kanalizācijas caurule ar uzmavu, SN8 OD250, montāža ar 15 cm smilts pamatnes ierīkošanu un izbūvētā cauruļvada smilts apbēruma ierīkošanu 30 cm virs caurules virsas. Tai skaitā būvizstrādājumi | C36: m | D36: 62 | G36: =ROUND(F36*E36,2) -> 0 | J36: =ROUND(SUM(G36:I36),2) -> 0 | K36: =ROUND(E36*D36,2) -> 0 | L36: =ROUND(G36*D36,2) -> 0 | M36: =ROUND(H36*D36,2) -> 0 | N36: =ROUND(I36*D36,2) -> 0 | O36: =ROUND(SUM(L36:N36),2) -> 0
A37: 23 | B37: Iebetonējama aizsargčaula DW DN250, montāža. Tai skaitā būvizstrādājumi | C37: gb | D37: 1 | G37: =ROUND(E37*F37,2) -> 0 | J37: =SUM(G37:I37) -> 0 | K37: =ROUND(D37*E37,2) -> 0 | L37: =ROUND(D37*G37,2) -> 0 | M37: =ROUND(D37*H37,2) -> 0 | N37: =ROUND(D37*I37,2) -> 0 | O37: =SUM(L37:N37) -> 0
A38: 24 | B38: Individuāla pasūtījuma teleskopiska skataka POLAR 160/400/315 (skatakas pamatne, blīvgumija akas pamatnei, augstuma regulēšanas šahta OD400, manžete teleskopiskajai caurulei, teleskopiskā caurule OD315 un ķeta rāmis ar slēgtu vāku R40-40t) H = 1.50-2.00m, izbūve un montāža. Tai skaitā būvizstrādājumi | C38: kompl. | D38: 1 | G38: =ROUND(E38*F38,2) -> 0 | J38: =SUM(G38:I38) -> 0 | K38: =ROUND(D38*E38,2) -> 0 | L38: =ROUND(D38*G38,2) -> 0 | M38: =ROUND(D38*H38,2) -> 0 | N38: =ROUND(D38*I38,2) -> 0 | O38: =SUM(L38:N38) -> 0
A39: 25 | B39: Individuāla pasūtījuma teleskopiska skataka PRO 250/630/500 (akas pamatne ar tekni, blīvgumija akas pamatnei, augstuma regulēšanas šahta PP OD630, manžete teleskopiskajai caurulei, teleskopiskā caurule OD500 un ķeta rāmis ar slēgtu vāku R40-40t) H = 1.50-2.00m, izbūve un montāža. Tai skaitā būvizstrādājumi | C39: kompl. | D39: 1 | G39: =ROUND(E39*F39,2) -> 0 | J39: =SUM(G39:I39) -> 0 | K39: =ROUND(D39*E39,2) -> 0 | L39: =ROUND(D39*G39,2) -> 0 | M39: =ROUND(D39*H39,2) -> 0 | N39: =ROUND(D39*I39,2) -> 0 | O39: =SUM(L39:N39) -> 0
A40: 26 | B40: Teleskopiska skataka PRO 250/630/500 (akas pamatne ar tekni, blīvgumija akas pamatnei, augstuma regulēšanas šahta PP OD630, manžete teleskopiskajai caurulei, teleskopiskā caurule OD500 un ķeta rāmis ar slēgtu vāku R40-40t) H = 2.00-2.50m, izbūve un montāža. Tai skaitā būvizstrādājumi | C40: kompl. | D40: 2 | G40: =ROUND(E40*F40,2) -> 0 | J40: =SUM(G40:I40) -> 0 | K40: =ROUND(D40*E40,2) -> 0 | L40: =ROUND(D40*G40,2) -> 0 | M40: =ROUND(D40*H40,2) -> 0 | N40: =ROUND(D40*I40,2) -> 0 | O40: =SUM(L40:N40) -> 0
A41: 27 | B41: Teleskopiska skataka PRO 250/630/500 (akas pamatne ar tekni, blīvgumija akas pamatnei, augstuma regulēšanas šahta PP OD630, manžete teleskopiskajai caurulei, teleskopiskā caurule OD500 un ķeta rāmis ar slēgtu vāku R40-40t) H = 2.50-3.00m, izbūve un montāža. Tai skaitā būvizstrādājumi | C41: kompl. | D41: 1 | G41: =ROUND(E41*F41,2) -> 0 | J41: =SUM(G41:I41) -> 0 | K41: =ROUND(D41*E41,2) -> 0 | L41: =ROUND(D41*G41,2) -> 0 | M41: =ROUND(D41*H41,2) -> 0 | N41: =ROUND(D41*I41,2) -> 0 | O41: =SUM(L41:N41) -> 0
A42: 28 | B42: Šķērsojumi ar kabeļiem (t.sk. to atšurfēšana) | C42: skaits | D42: 10 | G42: =ROUND(E42*F42,2) -> 0 | J42: =SUM(G42:I42) -> 0 | K42: =ROUND(D42*E42,2) -> 0 | L42: =ROUND(D42*G42,2) -> 0 | M42: =ROUND(D42*H42,2) -> 0 | N42: =ROUND(D42*I42,2) -> 0 | O42: =SUM(L42:N42) -> 0
A43: 29 | B43: Šķērsojumi ar komunikācijām, kuru diametrs <200mm (t.sk. to atšurfēšana) | C43: skaits | D43: 2 | G43: =ROUND(F43*E43,2) -> 0 | J43: =SUM(G43:I43) -> 0 | K43: =ROUND(D43*E43,1) -> 0 | L43: =ROUND(D43*G43,2) -> 0 | M43: =ROUND(D43*H43,2) -> 0 | N43: =ROUND(D43*I43,2) -> 0 | O43: =SUM(L43:N43) -> 0
A44: 30 | B44: Šķērsojumi ar komunikācijām, kuru diametrs >200mm (t.sk. to atšurfēšana) | C44: skaits | D44: 2 | G44: =ROUND(F44*E44,2) -> 0 | J44: =SUM(G44:I44) -> 0 | K44: =ROUND(D44*E44,1) -> 0 | L44: =ROUND(D44*G44,2) -> 0 | M44: =ROUND(D44*H44,2) -> 0 | N44: =ROUND(D44*I44,2) -> 0 | O44: =SUM(L44:N44) -> 0
A45: 31 | B45: Šķeltā kabeļu apvalkcaurules OD110 esošo kabeļu aizsardzībai montāža | C45: m | D45: 40 | G45: =ROUND(F45*E45,2) -> 0 | J45: =SUM(G45:I45) -> 0 | K45: =ROUND(D45*E45,1) -> 0 | L45: =ROUND(D45*G45,2) -> 0 | M45: =ROUND(D45*H45,2) -> 0 | N45: =ROUND(D45*I45,2) -> 0 | O45: =SUM(L45:N45) -> 0
A46: 32 | B46: Marķējuma lentas piegāde un ieklāšana kanalizācijai 0,5m no cauruļvada virsmas | C46: m | D46: 72 | G46: =ROUND(E46*F46,2) -> 0 | J46: =SUM(G46:I46) -> 0 | K46: =ROUND(D46*E46,2) -> 0 | L46: =ROUND(D46*G46,2) -> 0 | M46: =ROUND(D46*H46,2) -> 0 | N46: =ROUND(D46*I46,2) -> 0 | O46: =SUM(L46:N46) -> 0
A47: 33 | B47: CCTV pārbaude cauruļvada slīpuma un stāvokļa noteikšanai pēc būvdarbu pabeigšanas | C47: m | D47: 62 | G47: =ROUND(E47*F47,2) -> 0 | J47: =SUM(G47:I47) -> 0 | K47: =ROUND(D47*E47,2) -> 0 | L47: =ROUND(D47*G47,2) -> 0 | M47: =ROUND(D47*H47,2) -> 0 | N47: =ROUND(D47*I47,2) -> 0 | O47: =SUM(L47:N47) -> 0
A48: 34 | B48: Cauruļvadu hermētiskumu pārbaude izmantojot ūdeni | C48: m | D48: 72 | G48: =ROUND(E48*F48,2) -> 0 | J48: =SUM(G48:I48) -> 0 | K48: =ROUND(D48*E48,2) -> 0 | L48: =ROUND(D48*G48,2) -> 0 | M48: =ROUND(D48*H48,2) -> 0 | N48: =ROUND(D48*I48,2) -> 0 | O48: =SUM(L48:N48) -> 0
A49: 35 | B49: Cauruļvadu skalošana un tīrīšana | C49: m | D49: 72 | G49: =ROUND(E49*F49,2) -> 0 | J49: =SUM(G49:I49) -> 0 | K49: =ROUND(D49*E49,2) -> 0 | L49: =ROUND(D49*G49,2) -> 0 | M49: =ROUND(D49*H49,2) -> 0 | N49: =ROUND(D49*I49,2) -> 0 | O49: =SUM(L49:N49) -> 0
A50: Piesārņotie kanalizācijas ūdeņi K3
A51: 36 | B51: PP kanalizācijas caurule ar uzmavu, SN8 OD160, montāža ar 15 cm smilts pamatnes ierīkošanu un izbūvētā cauruļvada smilts apbēruma ierīkošanu 30 cm virs caurules virsas. Tai skaitā būvizstrādājumi | C51: m | D51: 9 | G51: =ROUND(E51*F51,2) -> 0 | J51: =SUM(G51:I51) -> 0 | K51: =ROUND(D51*E51,2) -> 0 | L51: =ROUND(D51*G51,2) -> 0 | M51: =ROUND(D51*H51,2) -> 0 | N51: =ROUND(D51*I51,2) -> 0 | O51: =SUM(L51:N51) -> 0
A52: 37 | B52: Individuāla pasūtījuma teleskopiska nosēdaka PRO 160/630/500 (akas pamatne, blīvgumija akas pamatnei, augstuma regulēšanas šahta PP OD630, manžete teleskopiskajai caurulei, teleskopiskā caurule OD500 un ķeta rāmis ar slēgtu vāku 40t) H = 1.28m, nosēddaļa 0.30m, izbūve un montāža. Tai skaitā būvizstrādājumi | C52: kompl. | D52: 1 | G52: =ROUND(E52*F52,2) -> 0 | J52: =SUM(G52:I52) -> 0 | K52: =ROUND(D52*E52,2) -> 0 | L52: =ROUND(D52*G52,2) -> 0 | M52: =ROUND(D52*H52,2) -> 0 | N52: =ROUND(D52*I52,2) -> 0 | O52: =SUM(L52:N52) -> 0
A53: 38 | B53: Augsta blīvuma polietilēna, PE100 rūpnieciski izgatavota krājtvertne V=5.00m³, izbūve un montāža. Tai skaitā būvizstrādājumi | C53: kompl. | D53: 1 | G53: =ROUND(E53*F53,2) -> 0 | J53: =SUM(G53:I53) -> 0 | K53: =ROUND(D53*E53,2) -> 0 | L53: =ROUND(D53*G53,2) -> 0 | M53: =ROUND(D53*H53,2) -> 0 | N53: =ROUND(D53*I53,2) -> 0 | O53: =SUM(L53:N53) -> 0
A54: 39 | B54: ACO Multiline Sealin V100S, H=500mm, lietus ūdens novadīšanas sistēma, atbilstoši EN1433. Materiāls polimērbetons, “V” formas šķērsgriezums. Kanāla malas aizsardzība no cinkota tērauda, un integrētu blīvējumu. Čuguna pārsegplātne, slodzes klase D400, Drainlock režģu fiksēšanas sistēma. Izvads caur gružu ķērāju, DN160. L=9.70m, izbūve un montāža. Tai skaitā būvizstrādājumi | C54: kompl. | D54: 9.7 | G54: =ROUND(E54*F54,2) -> 0 | J54: =SUM(G54:I54) -> 0 | K54: =ROUND(D54*E54,2) -> 0 | L54: =ROUND(D54*G54,2) -> 0 | M54: =ROUND(D54*H54,2) -> 0 | N54: =ROUND(D54*I54,2) -> 0 | O54: =SUM(L54:N54) -> 0
A55: 40 | B55: Šķērsojumi ar kabeļiem (t.sk. to atšurfēšana) | C55: skaits | D55: 2 | G55: =ROUND(E55*F55,2) -> 0 | J55: =SUM(G55:I55) -> 0 | K55: =ROUND(D55*E55,2) -> 0 | L55: =ROUND(D55*G55,2) -> 0 | M55: =ROUND(D55*H55,2) -> 0 | N55: =ROUND(D55*I55,2) -> 0 | O55: =SUM(L55:N55) -> 0
A56: 41 | B56: Šķeltā kabeļu apvalkcaurules OD110 esošo kabeļu aizsardzībai montāža | C56: m | D56: 8 | G56: =ROUND(F56*E56,2) -> 0 | J56: =SUM(G56:I56) -> 0 | K56: =ROUND(D56*E56,1) -> 0 | L56: =ROUND(D56*G56,2) -> 0 | M56: =ROUND(D56*H56,2) -> 0 | N56: =ROUND(D56*I56,2) -> 0 | O56: =SUM(L56:N56) -> 0
A57: 42 | B57: Marķējuma lentas piegāde un ieklāšana kanalizācijai 0,5m no cauruļvada virsmas | C57: m | D57: 9 | G57: =ROUND(E57*F57,2) -> 0 | J57: =SUM(G57:I57) -> 0 | K57: =ROUND(D57*E57,2) -> 0 | L57: =ROUND(D57*G57,2) -> 0 | M57: =ROUND(D57*H57,2) -> 0 | N57: =ROUND(D57*I57,2) -> 0 | O57: =SUM(L57:N57) -> 0
A58: 43 | B58: CCTV pārbaude cauruļvada slīpuma un stāvokļa noteikšanai pēc būvdarbu pabeigšanas | C58: m | D58: 7.2 | G58: =ROUND(E58*F58,2) -> 0 | J58: =SUM(G58:I58) -> 0 | K58: =ROUND(D58*E58,2) -> 0 | L58: =ROUND(D58*G58,2) -> 0 | M58: =ROUND(D58*H58,2) -> 0 | N58: =ROUND(D58*I58,2) -> 0 | O58: =SUM(L58:N58) -> 0
A59: 44 | B59: Cauruļvadu hermētiskumu pārbaude izmantojot ūdeni | C59: m | D59: 9 | G59: =ROUND(E59*F59,2) -> 0 | J59: =SUM(G59:I59) -> 0 | K59: =ROUND(D59*E59,2) -> 0 | L59: =ROUND(D59*G59,2) -> 0 | M59: =ROUND(D59*H59,2) -> 0 | N59: =ROUND(D59*I59,2) -> 0 | O59: =SUM(L59:N59) -> 0
A60: 45 | B60: Cauruļvadu skalošana un tīrīšana | C60: m | D60: 9 | G60: =ROUND(E60*F60,2) -> 0 | J60: =SUM(G60:I60) -> 0 | K60: =ROUND(D60*E60,2) -> 0 | L60: =ROUND(D60*G60,2) -> 0 | M60: =ROUND(D60*H60,2) -> 0 | N60: =ROUND(D60*I60,2) -> 0 | O60: =SUM(L60:N60) -> 0
A61: Kopā | B61: =A2 -> Inženierrisinājumu daļa (UKT - Ūdensapgāde un kanalizācija-ārējā) | K61: =SUM(K51:K60,K34:K49,K22:K32,K13:K20) -> 0 | L61: =SUM(L51:L60,L34:L49,L22:L32,L13:L20) -> 0 | M61: =SUM(M51:M60,M34:M49,M22:M32,M13:M20) -> 0 | N61: =SUM(N13:N20,N22:N32,N34:N49,N51:N60) -> 0 | O61: =SUM(O13:O20,O22:O32,O34:O48,O49,O51:O60) -> 0
A62: Piezīmes:
B63: 1. Materiālu apjomi doti sablīvētā veidā.
B64: 2. Darbu daudzumu sarakstā minētos darbus veikt atbilstoši būvprojektam un Autoceļu būvdarbu specifikācijām ABS 2026.
B65: 3. Būvdarbu veicējam jāvērtē visi nepieciešamie darbi, materiāli, būvmašīnas un transports, bez kā nevarētu būt iespējama darba daudzumu sarakstā minēto darbu tehnoloģiski pareiza, Pasūtītāja prasībām atbilstoša izpilde pilnā apjomā.
B66: 4. Būvdarbu apjomus skatīt kopā rasējumiem, tehniskajiem risinājumiem, tehniskajām specifikācijām, skaidrojošo aprakstu un pielikumiem.
B67: 5. Izstrādājot piedāvājumu, būvdarbu veicējam rūpīgi pārskatīt projektu un apjomos jāiekļauj arī neuzrādītie darbi un materiāli, lai kvalitatīvi veiktu būvniecību atbilstoši konkrētā būvdarbu veicēja pielietotajai tehnoloģijai, un bez kuriem nebūtu iespējama būvdarbu tehnoloģiski pareiza un spēkā esošajiem normatīviem atbilstoša veikšana pilnā apjomā.
B68: 6. Šos darbu un materiālu apjomus skatīt kopā ar projekta dokumentāciju.
B69: 7. Materiālus ir iespējams nomainīt uz ekvivalentiem, ja būvdarbu veicējs uzņemas pilnu atbildību par nepieciešamo nestspējas un citu projektā ietverto rādītāju un parametru sasniegšanu.
B70: Sastādīja | C70: __________________ | M70: =N9 -> 0
C71: paraksts | F71: sertifikāta Nr. | M71: datums
B73: Pārbaudīja | C73: __________________ | M73: =M70 -> 0
C74: paraksts | F74: sertifikāta Nr. | M74: datums

Sheet Lietus ūdens kanalizācija 
A1: Lokālā tāme Nr. 1-3
A2: Inženierrisinājumu daļa (LKT - Lietus ūdens kanalizācija)
A3: (Darba veids vai konstruktīvā elementa nosaukums)
A4: Būves nosaukums | C4: ='Kopsavilkuma aprēķins'!D2 -> VSIA "Strenču psihoneiroloģiskā slimnīca" galvenās iebrauktuves un uzņemšanas un observācijas nodaļas teritorijas labiekārtojums. 1.kārta
A5: Objekta nosaukums | C5: ='Kopsavilkuma aprēķins'!D3 -> VSIA "Strenču psihoneiroloģiskā slimnīca" galvenās iebrauktuves un uzņemšanas un observācijas nodaļas teritorijas labiekārtojums.1.kārta
A6: Objekta adrese | C6: ='Būvniecības koptāme'!D11 -> Valkas iela 11, Strenči, Valmieras novads, LV-4730
A7: Tāme sastādīta ________. gada tirgus cenās pamatojoties uz projekta risinājumiem un rasējumiem.
L8: Tāmes izmaksa | N8: =O43 -> 0
L9: Tāme sastādīta | N9: ='Kopsavilkuma aprēķins'!D7 -> 0
A10: Nr. p.k. | B10: Darbu apraksts vai materiālu nosaukums | E10: Vienības izmaksas | K10: Kopā uz visu apjomu
C11: Mērvienība | D11: Daudzums | E11: Laika norma (c/h) | F11: Darba samaksas likme (EUR/h) | G11: Darba alga (EUR) | H11: Būvizstrādājumi (EUR) | I11: Mehānismi (EUR) | J11: Kopā (EUR) | K11: Darbietilpība (c/h) | L11: Darba alga (EUR) | M11: Būvizstrādājumi (EUR) | N11: Mehānismi (EUR) | O11: Summa (EUR)
A12: Lietus ūdens kanalizācija K2
A13: 1 | B13: Lietus ūdeņu kanalizācijas caurule SN8 PVC OD110, montāža ar 15 cm smilts pamatnes ierīkošanu un izbūvētā cauruļvada smilts apbēruma ierīkošanu 30 cm virs caurules virsas. Tai skaitā būvizstrādājumi | C13: m | D13: 70 | G13: =ROUND(F13*E13,2) -> 0 | J13: =SUM(G13:I13) -> 0 | K13: =ROUND(D13*E13,1) -> 0 | L13: =ROUND(D13*G13,2) -> 0 | M13: =ROUND(D13*H13,2) -> 0 | N13: =ROUND(D13*I13,2) -> 0 | O13: =SUM(L13:N13) -> 0
A14: 2 | B14: Lietus ūdeņu kanalizācijas caurule SN8 PP OD160, montāža ar 15 cm smilts pamatnes ierīkošanu un izbūvētā cauruļvada smilts apbēruma ierīkošanu 30 cm virs caurules virsas. Tai skaitā būvizstrādājumi | C14: m | D14: 6 | G14: =ROUND(F14*E14,2) -> 0 | J14: =SUM(G14:I14) -> 0 | K14: =ROUND(D14*E14,1) -> 0 | L14: =ROUND(D14*G14,2) -> 0 | M14: =ROUND(D14*H14,2) -> 0 | N14: =ROUND(D14*I14,2) -> 0 | O14: =SUM(L14:N14) -> 0
A15: 3 | B15: Lietus ūdeņu kanalizācijas caurule SN8 PP OD200, montāža ar 15 cm smilts pamatnes ierīkošanu un izbūvētā cauruļvada smilts apbēruma ierīkošanu 30 cm virs caurules virsas. Tai skaitā būvizstrādājumi | C15: m | D15: 105 | G15: =ROUND(F15*E15,2) -> 0 | J15: =SUM(G15:I15) -> 0 | K15: =ROUND(D15*E15,1) -> 0 | L15: =ROUND(D15*G15,2) -> 0 | M15: =ROUND(D15*H15,2) -> 0 | N15: =ROUND(D15*I15,2) -> 0 | O15: =SUM(L15:N15) -> 0
A16: 4 | B16: Lietus ūdeņu kanalizācijas caurule SN8 PP OD250, montāža ar 15 cm smilts pamatnes ierīkošanu un izbūvētā cauruļvada smilts apbēruma ierīkošanu 30 cm virs caurules virsas. Tai skaitā būvizstrādājumi | C16: m | D16: 67 | G16: =ROUND(F16*E16,2) -> 0 | J16: =ROUND(SUM(G16:I16),2) -> 0 | K16: =ROUND(E16*D16,2) -> 0 | L16: =ROUND(G16*D16,2) -> 0 | M16: =ROUND(H16*D16,2) -> 0 | N16: =ROUND(I16*D16,2) -> 0 | O16: =ROUND(SUM(L16:N16),2) -> 0
A17: 5 | B17: Lietus ūdeņu kanalizācijas caurule SN8 PP OD315, montāža ar 15 cm smilts pamatnes ierīkošanu un izbūvētā cauruļvada smilts apbēruma ierīkošanu 30 cm virs caurules virsas. Tai skaitā būvizstrādājumi | C17: m | D17: 8 | G17: =ROUND(F17*E17,2) -> 0 | J17: =ROUND(SUM(G17:I17),2) -> 0 | K17: =ROUND(E17*D17,2) -> 0 | L17: =ROUND(G17*D17,2) -> 0 | M17: =ROUND(H17*D17,2) -> 0 | N17: =ROUND(I17*D17,2) -> 0 | O17: =ROUND(SUM(L17:N17),2) -> 0
A18: 6 | B18: Teleskopiska skataka POLAR 160/400/315 (skatakas pamatne, blīvgumija akas pamatnei, augstuma regulēšanas šahta OD400, manžete teleskopiskajai caurulei, teleskopiskā caurule OD315 un ķeta rāmis ar slēgtu vāku R40-40t) H = 0.50-1.00m, izbūve un montāža. Tai skaitā būvizstrādājumi | C18: kompl. | D18: 1 | G18: =ROUND(E18*F18,2) -> 0 | J18: =SUM(G18:I18) -> 0 | K18: =ROUND(D18*E18,2) -> 0 | L18: =ROUND(D18*G18,2) -> 0 | M18: =ROUND(D18*H18,2) -> 0 | N18: =ROUND(D18*I18,2) -> 0 | O18: =SUM(L18:N18) -> 0
A19: 7 | B19: Teleskopiska skataka POLAR 200/400/315 (skatakas pamatne, blīvgumija akas pamatnei, augstuma regulēšanas šahta OD400, manžete teleskopiskajai caurulei, teleskopiskā caurule OD315 un ķeta rāmis ar slēgtu vāku R40-40t) H = 1.00-1.50m, izbūve un montāža. Tai skaitā būvizstrādājumi | C19: kompl. | D19: 5 | G19: =ROUND(E19*F19,2) -> 0 | J19: =SUM(G19:I19) -> 0 | K19: =ROUND(D19*E19,2) -> 0 | L19: =ROUND(D19*G19,2) -> 0 | M19: =ROUND(D19*H19,2) -> 0 | N19: =ROUND(D19*I19,2) -> 0 | O19: =SUM(L19:N19) -> 0
A20: 8 | B20: Individuāla pasūtījuma teleskopiska skataka POLAR 200/400/315 (skatakas pamatne, blīvgumija akas pamatnei, augstuma regulēšanas šahta OD400, manžete teleskopiskajai caurulei, teleskopiskā caurule OD315 un ķeta rāmis ar slēgtu vāku R40-40t) H = 1.00-1.50m, izbūve un montāža. Tai skaitā būvizstrādājumi | C20: kompl. | D20: 2 | G20: =ROUND(E20*F20,2) -> 0 | J20: =SUM(G20:I20) -> 0 | K20: =ROUND(D20*E20,2) -> 0 | L20: =ROUND(D20*G20,2) -> 0 | M20: =ROUND(D20*H20,2) -> 0 | N20: =ROUND(D20*I20,2) -> 0 | O20: =SUM(L20:N20) -> 0
A21: 9 | B21: Individuāla pasūtījuma teleskopiska skataka PRO 250/630/500 (akas pamatne, blīvgumija akas pamatnei, augstuma regulēšanas šahta PP OD630, manžete teleskopiskajai caurulei, teleskopiskā caurule OD500 un ķeta rāmis ar slēgtu vāku R40-40t) H = 1.00-1.50m, izbūve un montāža. Tai skaitā būvizstrādājumi | C21: kompl. | D21: 4 | G21: =ROUND(E21*F21,2) -> 0 | J21: =SUM(G21:I21) -> 0 | K21: =ROUND(D21*E21,2) -> 0 | L21: =ROUND(D21*G21,2) -> 0 | M21: =ROUND(D21*H21,2) -> 0 | N21: =ROUND(D21*I21,2) -> 0 | O21: =SUM(L21:N21) -> 0
A22: 10 | B22: Individuāla pasūtījuma teleskopiska skataka PRO 250/630/500 (akas pamatne, blīvgumija akas pamatnei, augstuma regulēšanas šahta PP OD630, manžete teleskopiskajai caurulei, teleskopiskā caurule OD500 un ķeta rāmis ar slēgtu vāku R40-40t) H = 1.50-2.00m, izbūve un montāža. Tai skaitā būvizstrādājumi | C22: kompl. | D22: 1 | G22: =ROUND(E22*F22,2) -> 0 | J22: =SUM(G22:I22) -> 0 | K22: =ROUND(D22*E22,2) -> 0 | L22: =ROUND(D22*G22,2) -> 0 | M22: =ROUND(D22*H22,2) -> 0 | N22: =ROUND(D22*I22,2) -> 0 | O22: =SUM(L22:N22) -> 0
A23: 11 | B23: Individuāla pasūtījuma teleskopiska skataka PRO 250/800/630 ar nosēddaļu 0.30m (akas pamatne, akas grodi, groda blīvgumija, konuss ar adapteri, teleskopiskā caurule, ķeta rāmis ar slēgtu vāku D400 ), H =1.00-1.50m, izbūve un montāža. Tai skaitā būvizstrādājumi | C23: kompl. | D23: 2 | G23: =ROUND(E23*F23,2) -> 0 | J23: =SUM(G23:I23) -> 0 | K23: =ROUND(D23*E23,2) -> 0 | L23: =ROUND(D23*G23,2) -> 0 | M23: =ROUND(D23*H23,2) -> 0 | N23: =ROUND(D23*I23,2) -> 0 | O23: =SUM(L23:N23) -> 0
A24: 12 | B24: Individuāla pasūtījuma teleskopiska skataka PRO 250/800/630 ar nosēddaļu 0.30m (akas pamatne, akas grodi, groda blīvgumija, konuss ar adapteri, teleskopiskā caurule, ķeta rāmis ar slēgtu vāku D400 ), H =1.00-1.50m, izbūve un montāža. Tai skaitā būvizstrādājumi | C24: kompl. | D24: 1 | G24: =ROUND(E24*F24,2) -> 0 | J24: =SUM(G24:I24) -> 0 | K24: =ROUND(D24*E24,2) -> 0 | L24: =ROUND(D24*G24,2) -> 0 | M24: =ROUND(D24*H24,2) -> 0 | N24: =ROUND(D24*I24,2) -> 0 | O24: =SUM(L24:N24) -> 0
A25: 13 | B25: Individuāla pasūtījuma teleskopiska skataka PRO 315/800/630 ar nosēddaļu 0.30m (akas pamatne, akas grodi, groda blīvgumija, konuss ar adapteri, teleskopiskā caurule, ķeta rāmis ar slēgtu vāku D400 ), H =2.00-2.50m, izbūve un montāža. Tai skaitā būvizstrādājumi | C25: kompl. | D25: 1 | G25: =ROUND(E25*F25,2) -> 0 | J25: =SUM(G25:I25) -> 0 | K25: =ROUND(D25*E25,2) -> 0 | L25: =ROUND(D25*G25,2) -> 0 | M25: =ROUND(D25*H25,2) -> 0 | N25: =ROUND(D25*I25,2) -> 0 | O25: =SUM(L25:N25) -> 0
A26: 14 | B26: Lietus ūdeņu nosēdakas komplekts (nosēdakas pamatne PP, augstuma regulēšanas caurule, manžete teleskopiskajai caurulei DW, teleskopiskā caurule, 40t kantains ķeta rāmis ar resti ) OD630/500 (piev. 200) H = 0.50-1.00m, nosēddaļa 0.5m, izbūve un montāža. Tai skaitā būvizstrādājumi | C26: kompl. | D26: 2 | G26: =ROUND(E26*F26,2) -> 0 | J26: =SUM(G26:I26) -> 0 | K26: =ROUND(D26*E26,2) -> 0 | L26: =ROUND(D26*G26,2) -> 0 | M26: =ROUND(D26*H26,2) -> 0 | N26: =ROUND(D26*I26,2) -> 0 | O26: =SUM(L26:N26) -> 0
A27: 15 | B27: ACO infiltrācijas gūlju OD250 ar pamatni, zaļajais zonai ar kaļamais čuguna kantainu resti, izbūve un montāža. Tai skaitā būvizstrādājumi | C27: kompl. | D27: 3 | G27: =ROUND(E27*F27,2) -> 0 | J27: =SUM(G27:I27) -> 0 | K27: =ROUND(D27*E27,2) -> 0 | L27: =ROUND(D27*G27,2) -> 0 | M27: =ROUND(D27*H27,2) -> 0 | N27: =ROUND(D27*I27,2) -> 0 | O27: =SUM(L27:N27) -> 0
A28: 16 | B28: ACO XtraPoint gūlija ar kantainu plastikāta režģi, izbūve un montāža. Tai skaitā būvizstrādājumi | C28: kompl. | D28: 13 | G28: =ROUND(E28*F28,2) -> 0 | J28: =SUM(G28:I28) -> 0 | K28: =ROUND(D28*E28,2) -> 0 | L28: =ROUND(D28*G28,2) -> 0 | M28: =ROUND(D28*H28,2) -> 0 | N28: =ROUND(D28*I28,2) -> 0 | O28: =SUM(L28:N28) -> 0
A29: 17 | B29: PVC līkums 110x30', izbūve un montāža. Tai skaitā būvizstrādājumi | C29: kompl. | D29: 1 | G29: =ROUND(E29*F29,2) -> 0 | J29: =SUM(G29:I29) -> 0 | K29: =ROUND(D29*E29,2) -> 0 | L29: =ROUND(D29*G29,2) -> 0 | M29: =ROUND(D29*H29,2) -> 0 | N29: =ROUND(D29*I29,2) -> 0 | O29: =SUM(L29:N29) -> 0
... A35: 23 | B35: Šķērsojumi ar kabeļiem (t.sk. to atšurfēšana) | C35: skaits | D35: 32 | G35: =ROUND(E35*F35,2) -> 0 | J35: =SUM(G35:I35) -> 0 | K35: =ROUND(D35*E35,2) -> 0 | L35: =ROUND(D35*G35,2) -> 0 | M35: =ROUND(D35*H35,2) -> 0 | N35: =ROUND(D35*I35,2) -> 0 | O35: =SUM(L35:N35) -> 0
A36: 24 | B36: Šķērsojumi ar komunikācijām, kuru diametrs <200mm (t.sk. to atšurfēšana) | C36: skaits | D36: 4 | G36: =ROUND(F36*E36,2) -> 0 | J36: =SUM(G36:I36) -> 0 | K36: =ROUND(D36*E36,1) -> 0 | L36: =ROUND(D36*G36,2) -> 0 | M36: =ROUND(D36*H36,2) -> 0 | N36: =ROUND(D36*I36,2) -> 0 | O36: =SUM(L36:N36) -> 0
A37: 25 | B37: Šķērsojumi ar komunikācijām, kuru diametrs >200mm (t.sk. to atšurfēšana) | C37: skaits | D37: 1 | G37: =ROUND(F37*E37,2) -> 0 | J37: =SUM(G37:I37) -> 0 | K37: =ROUND(D37*E37,1) -> 0 | L37: =ROUND(D37*G37,2) -> 0 | M37: =ROUND(D37*H37,2) -> 0 | N37: =ROUND(D37*I37,2) -> 0 | O37: =SUM(L37:N37) -> 0
A38: 26 | B38: Šķeltā kabeļu apvalkcaurules OD110 esošo kabeļu aizsardzībai montāža | C38: m | D38: 128 | G38: =ROUND(F38*E38,2) -> 0 | J38: =SUM(G38:I38) -> 0 | K38: =ROUND(D38*E38,1) -> 0 | L38: =ROUND(D38*G38,2) -> 0 | M38: =ROUND(D38*H38,2) -> 0 | N38: =ROUND(D38*I38,2) -> 0 | O38: =SUM(L38:N38) -> 0
A39: 27 | B39: Marķējuma lentas piegāde un ieklāšana kanalizācijai 0,5m no cauruļvada virsmas | C39: m | D39: 186 | G39: =ROUND(E39*F39,2) -> 0 | J39: =SUM(G39:I39) -> 0 | K39: =ROUND(D39*E39,2) -> 0 | L39: =ROUND(D39*G39,2) -> 0 | M39: =ROUND(D39*H39,2) -> 0 | N39: =ROUND(D39*I39,2) -> 0 | O39: =SUM(L39:N39) -> 0
A40: 28 | B40: CCTV pārbaude cauruļvada slīpuma un stāvokļa noteikšanai pēc būvdarbu pabeigšanas | C40: m | D40: 180 | G40: =ROUND(E40*F40,2) -> 0 | J40: =SUM(G40:I40) -> 0 | K40: =ROUND(D40*E40,2) -> 0 | L40: =ROUND(D40*G40,2) -> 0 | M40: =ROUND(D40*H40,2) -> 0 | N40: =ROUND(D40*I40,2) -> 0 | O40: =SUM(L40:N40) -> 0
A41: 29 | B41: Cauruļvadu hermētiskumu pārbaude izmantojot ūdeni | C41: m | D41: 256 | G41: =ROUND(E41*F41,2) -> 0 | J41: =SUM(G41:I41) -> 0 | K41: =ROUND(D41*E41,2) -> 0 | L41: =ROUND(D41*G41,2) -> 0 | M41: =ROUND(D41*H41,2) -> 0 | N41: =ROUND(D41*I41,2) -> 0 | O41: =SUM(L41:N41) -> 0
A42: 30 | B42: Cauruļvadu skalošana un tīrīšana | C42: m | D42: 256 | G42: =ROUND(E42*F42,2) -> 0 | J42: =SUM(G42:I42) -> 0 | K42: =ROUND(D42*E42,2) -> 0 | L42: =ROUND(D42*G42,2) -> 0 | M42: =ROUND(D42*H42,2) -> 0 | N42: =ROUND(D42*I42,2) -> 0 | O42: =SUM(L42:N42) -> 0
A43: Kopā | B43: =A2 -> Inženierrisinājumu daļa (LKT - Lietus ūdens kanalizācija) | K43: =SUM(K13:K42) -> 0 | L43: =SUM(L13:L42) -> 0 | M43: =SUM(M13:M42) -> 0 | N43: =SUM(N13:N42) -> 0 | O43: =SUM(O13:O42) -> 0
A44: Piezīmes:
B45: 1. Materiālu apjomi doti sablīvētā veidā.
B46: 2. Darbu daudzumu sarakstā minētos darbus veikt atbilstoši būvprojektam un Autoceļu būvdarbu specifikācijām ABS 2026.
B47: 3. Būvdarbu veicējam jāvērtē visi nepieciešamie darbi, materiāli, būvmašīnas un transports, bez kā nevarētu būt iespējama darba daudzumu sarakstā minēto darbu tehnoloģiski pareiza, Pasūtītāja prasībām atbilstoša izpilde pilnā apjomā.
B48: 4. Būvdarbu apjomus skatīt kopā rasējumiem, tehniskajiem risinājumiem, tehniskajām specifikācijām, skaidrojošo aprakstu un pielikumiem.
B49: 5. Izstrādājot piedāvājumu, būvdarbu veicējam rūpīgi pārskatīt projektu un apjomos jāiekļauj arī neuzrādītie darbi un materiāli, lai kvalitatīvi veiktu būvniecību atbilstoši konkrētā būvdarbu veicēja pielietotajai tehnoloģijai, un bez kuriem nebūtu iespējama būvdarbu tehnoloģiski pareiza un spēkā esošajiem normatīviem atbilstoša veikšana pilnā apjomā.
B50: 6. Šos darbu un materiālu apjomus skatīt kopā ar projekta dokumentāciju.
B51: 7. Materiālus ir iespējams nomainīt uz ekvivalentiem, ja būvdarbu veicējs uzņemas pilnu atbildību par nepieciešamo nestspējas un citu projektā ietverto rādītāju un parametru sasniegšanu.
B52: Sastādīja | C52: __________________ | M52: =N9 -> 0
C53: paraksts | F53: sertifikāta Nr. | M53: datums
B55: Pārbaudīja | C55: __________________ | M55: =M52 -> 0
C56: paraksts | F56: sertifikāta Nr. | M56: datums

Sheet Elektroapgāde-ārējā-ELT
A1: Lokālā tāme Nr. 1-4
A2: Inženierrisinājumu daļa (ELT - Elektroapgāde-ārējā (apgaismojums))
A3: (Darba veids vai konstruktīvā elementa nosaukums)
A4: Būves nosaukums | C4: ='Kopsavilkuma aprēķins'!D2 -> VSIA "Strenču psihoneiroloģiskā slimnīca" galvenās iebrauktuves un uzņemšanas un observācijas nodaļas teritorijas labiekārtojums. 1.kārta
A5: Objekta nosaukums | C5: ='Kopsavilkuma aprēķins'!D3 -> VSIA "Strenču psihoneiroloģiskā slimnīca" galvenās iebrauktuves un uzņemšanas un observācijas nodaļas teritorijas labiekārtojums.1.kārta
A6: Objekta adrese | C6: ='Būvniecības koptāme'!D11 -> Valkas iela 11, Strenči, Valmieras novads, LV-4730
A7: Tāme sastādīta _______. gada tirgus cenās pamatojoties uz projekta risinājumiem un rasējumiem.
L8: Tāmes izmaksa | N8: =O53 -> 0
L9: Tāme sastādīta | N9: ='Kopsavilkuma aprēķins'!D7 -> 0
A10: Nr. p.k. | B10: Darbu apraksts vai materiālu nosaukums | E10: Vienības izmaksas | K10: Kopā uz visu apjomu
C11: Mērvienība | D11: Daudzums | E11: Laika norma (c/h) | F11: Darba samaksas likme (EUR/h) | G11: Darba alga (EUR) | H11: Būvizstrādājumi (EUR) | I11: Mehānismi (EUR) | J11: Kopā (EUR) | K11: Darbietilpība (c/h) | L11: Darba alga (EUR) | M11: Būvizstrādājumi (EUR) | N11: Mehānismi (EUR) | O11: Summa (EUR)
A12: ELT materiāli
A13: 1. El.sadalnes skapji
A14: 1 | B14: El.sadalnes skapis KS-2-2 | C14: gb | D14: 1 | G14: =ROUND(E14*F14,2) -> 0 | J14: =SUM(G14:I14) -> 0 | K14: =ROUND(D14*E14,2) -> 0 | L14: =ROUND(D14*G14,2) -> 0 | M14: =ROUND(D14*H14,2) -> 0 | N14: =ROUND(D14*I14,2) -> 0 | O14: =SUM(L14:N14) -> 0
A15: 2. Gaismekļi
A16: 2 | B16: Sphere LED1x3300 G930 T840 OP PMMA, 21.4 W, 3251 lm | C16: gb | D16: 10 | G16: =ROUND(E16*F16,2) -> 0 | J16: =SUM(G16:I16) -> 0 | K16: =ROUND(D16*E16,2) -> 0 | L16: =ROUND(D16*G16,2) -> 0 | M16: =ROUND(D16*H16,2) -> 0 | N16: =ROUND(D16*I16,2) -> 0 | O16: =SUM(L16:N16) -> 0
A17: 3 | B17: BGP283 LED260-4S/740 DW10 BL1; 156.0 W; 17160 lm | C17: gb | D17: 2 | G17: =ROUND(E17*F17,2) -> 0 | J17: =SUM(G17:I17) -> 0 | K17: =ROUND(D17*E17,2) -> 0 | L17: =ROUND(D17*G17,2) -> 0 | M17: =ROUND(D17*H17,2) -> 0 | N17: =ROUND(D17*I17,2) -> 0 | O17: =SUM(L17:N17) -> 0
A18: 4 | B18: Sphere LED1x6400 G932 T840 OP PMMA, 42.6 W, 6359 lm | C18: gb | D18: 7 | G18: =ROUND(E18*F18,2) -> 0 | J18: =SUM(G18:I18) -> 0 | K18: =ROUND(D18*E18,2) -> 0 | L18: =ROUND(D18*G18,2) -> 0 | M18: =ROUND(D18*H18,2) -> 0 | N18: =ROUND(D18*I18,2) -> 0 | O18: =SUM(L18:N18) -> 0
A19: 5 | B19: BGP284 LED420-4S/740 DX10 BL1 PLS; 235.0 W; 24360 lm | C19: gb | D19: 3 | G19: =ROUND(E19*F19,2) -> 0 | J19: =SUM(G19:I19) -> 0 | K19: =ROUND(D19*E19,2) -> 0 | L19: =ROUND(D19*G19,2) -> 0 | M19: =ROUND(D19*H19,2) -> 0 | N19: =ROUND(D19*I19,2) -> 0 | O19: =SUM(L19:N19) -> 0
A20: 3. Kabeļi
A21: 6 | B21: Kabelis AXMK 4x35 | C21: m | D21: 40 | G21: =ROUND(E21*F21,2) -> 0 | J21: =SUM(G21:I21) -> 0 | K21: =ROUND(D21*E21,2) -> 0 | L21: =ROUND(D21*G21,2) -> 0 | M21: =ROUND(D21*H21,2) -> 0 | N21: =ROUND(D21*I21,2) -> 0 | O21: =SUM(L21:N21) -> 0
A22: 7 | B22: Kabelis NYY-J-5x6 | C22: m | D22: 550 | G22: =ROUND(E22*F22,2) -> 0 | J22: =SUM(G22:I22) -> 0 | K22: =ROUND(D22*E22,2) -> 0 | L22: =ROUND(D22*G22,2) -> 0 | M22: =ROUND(D22*H22,2) -> 0 | N22: =ROUND(D22*I22,2) -> 0 | O22: =SUM(L22:N22) -> 0
A23: 8 | B23: Kabelis NYY-J-5x4 | C23: m | D23: 50 | G23: =ROUND(E23*F23,2) -> 0 | J23: =SUM(G23:I23) -> 0 | K23: =ROUND(D23*E23,2) -> 0 | L23: =ROUND(D23*G23,2) -> 0 | M23: =ROUND(D23*H23,2) -> 0 | N23: =ROUND(D23*I23,2) -> 0 | O23: =SUM(L23:N23) -> 0
A24: 9 | B24: Kabelis NYY-J-5x2.5 | C24: m | D24: 15 | G24: =ROUND(E24*F24,2) -> 0 | J24: =SUM(G24:I24) -> 0 | K24: =ROUND(D24*E24,2) -> 0 | L24: =ROUND(D24*G24,2) -> 0 | M24: =ROUND(D24*H24,2) -> 0 | N24: =ROUND(D24*I24,2) -> 0 | O24: =SUM(L24:N24) -> 0
A25: 10 | B25: Kabelis NYY-J-3x2.5 | C25: m | D25: 100 | G25: =ROUND(E25*F25,2) -> 0 | J25: =SUM(G25:I25) -> 0 | K25: =ROUND(D25*E25,2) -> 0 | L25: =ROUND(D25*G25,2) -> 0 | M25: =ROUND(D25*H25,2) -> 0 | N25: =ROUND(D25*I25,2) -> 0 | O25: =SUM(L25:N25) -> 0
A26: 11 | B26: Kabelis NYY-J-3x1.5 | C26: m | D26: 200 | G26: =ROUND(E26*F26,2) -> 0 | J26: =SUM(G26:I26) -> 0 | K26: =ROUND(D26*E26,2) -> 0 | L26: =ROUND(D26*G26,2) -> 0 | M26: =ROUND(D26*H26,2) -> 0 | N26: =ROUND(D26*I26,2) -> 0 | O26: =SUM(L26:N26) -> 0
A27: 4. Instalācijas materiāli
A28: 12 | B28: Ielas stabs 8.6m (8m virs zemes) cinkots, konisks; CP8600-60_Socket | C28: gb | D28: 5 | G28: =ROUND(E28*F28,2) -> 0 | J28: =SUM(G28:I28) -> 0 | K28: =ROUND(D28*E28,2) -> 0 | L28: =ROUND(D28*G28,2) -> 0 | M28: =ROUND(D28*H28,2) -> 0 | N28: =ROUND(D28*I28,2) -> 0 | O28: =SUM(L28:N28) -> 0
A29: 13 | B29: Ielas stabs 4.6m (4m virs zemes) cinkots, konisks; STP45-10860_Socket | C29: gb | D29: 17 | G29: =ROUND(E29*F29,2) -> 0 | J29: =SUM(G29:I29) -> 0 | K29: =ROUND(D29*E29,2) -> 0 | L29: =ROUND(D29*G29,2) -> 0 | M29: =ROUND(D29*H29,2) -> 0 | N29: =ROUND(D29*I29,2) -> 0 | O29: =SUM(L29:N29) -> 0
A30: 14 | B30: Betona pamats 8m augstiem parka stabiem 300kg P-1.3 | C30: gb | D30: 5 | G30: =ROUND(E30*F30,2) -> 0 | J30: =SUM(G30:I30) -> 0 | K30: =ROUND(D30*E30,2) -> 0 | L30: =ROUND(D30*G30,2) -> 0 | M30: =ROUND(D30*H30,2) -> 0 | N30: =ROUND(D30*I30,2) -> 0 | O30: =SUM(L30:N30) -> 0
A31: 15 | B31: Betona pamats 4m augstiem stabiem 122kg P-1 | C31: gb | D31: 17 | G31: =ROUND(E31*F31,2) -> 0 | J31: =SUM(G31:I31) -> 0 | K31: =ROUND(D31*E31,2) -> 0 | L31: =ROUND(D31*G31,2) -> 0 | M31: =ROUND(D31*H31,2) -> 0 | N31: =ROUND(D31*I31,2) -> 0 | O31: =SUM(L31:N31) -> 0
A32: 16 | B32: Gumijas blīve 5-10m koniskam stabam GB-RG | C32: gb | D32: 5 | G32: =ROUND(E32*F32,2) -> 0 | J32: =SUM(G32:I32) -> 0 | K32: =ROUND(D32*E32,2) -> 0 | L32: =ROUND(D32*G32,2) -> 0 | M32: =ROUND(D32*H32,2) -> 0 | N32: =ROUND(D32*I32,2) -> 0 | O32: =SUM(L32:N32) -> 0
A33: 17 | B33: Gumijas blīve 3-6m parka stabam GB04N | C33: gb | D33: 17 | G33: =ROUND(E33*F33,2) -> 0 | J33: =SUM(G33:I33) -> 0 | K33: =ROUND(D33*E33,2) -> 0 | L33: =ROUND(D33*G33,2) -> 0 | M33: =ROUND(D33*H33,2) -> 0 | N33: =ROUND(D33*I33,2) -> 0 | O33: =SUM(L33:N33) -> 0
A34: 18 | B34: 1P "C" 10A automātslēdzis balstā (rozetei) | C34: gb | D34: 22 | G34: =ROUND(E34*F34,2) -> 0 | J34: =SUM(G34:I34) -> 0 | K34: =ROUND(D34*E34,2) -> 0 | L34: =ROUND(D34*G34,2) -> 0 | M34: =ROUND(D34*H34,2) -> 0 | N34: =ROUND(D34*I34,2) -> 0 | O34: =SUM(L34:N34) -> 0
A35: 19 | B35: 1P "C" 6A automātslēdzis balstā (Gaismeklim) | C35: gb | D35: 22 | G35: =ROUND(E35*F35,2) -> 0 | J35: =SUM(G35:I35) -> 0 | K35: =ROUND(D35*E35,2) -> 0 | L35: =ROUND(D35*G35,2) -> 0 | M35: =ROUND(D35*H35,2) -> 0 | N35: =ROUND(D35*I35,2) -> 0 | O35: =SUM(L35:N35) -> 0
A36: 20 | B36: PCE kontaktrozete, 105-0ss, IP54 (balstā) | C36: gb | D36: 22 | G36: =ROUND(E36*F36,2) -> 0 | J36: =SUM(G36:I36) -> 0 | K36: =ROUND(D36*E36,2) -> 0 | L36: =ROUND(D36*G36,2) -> 0 | M36: =ROUND(D36*H36,2) -> 0 | N36: =ROUND(D36*I36,2) -> 0 | O36: =SUM(L36:N36) -> 0
A37: 21 | B37: Kabeļu aizsardzības caurule, zemē guldāma d=110, 750N | C37: m | D37: 90 | G37: =ROUND(F37*E37,2) -> 0 | J37: =SUM(G37:I37) -> 0 | K37: =ROUND(D37*E37,1) -> 0 | L37: =ROUND(D37*G37,2) -> 0 | M37: =ROUND(D37*H37,2) -> 0 | N37: =ROUND(D37*I37,2) -> 0 | O37: =SUM(L37:N37) -> 0
A38: 22 | B38: Kabeļu aizsardzības caurule, zemē guldāma d=110, 450N | C38: m | D38: 300 | G38: =ROUND(E38*F38,2) -> 0 | J38: =SUM(G38:I38) -> 0 | K38: =ROUND(D38*E38,2) -> 0 | L38: =ROUND(D38*G38,2) -> 0 | M38: =ROUND(D38*H38,2) -> 0 | N38: =ROUND(D38*I38,2) -> 0 | O38: =SUM(L38:N38) -> 0
A39: 5. Citi darbi un materiāli
A40: 23 | B40: Tranšejas rakšana un aizbēršana 1 līdz 2 kabeļu (caurules) | C40: m | D40: 415 | G40: =ROUND(F40*E40,2) -> 0 | J40: =SUM(G40:I40) -> 0 | K40: =ROUND(D40*E40,2) -> 0 | L40: =ROUND(D40*G40,2) -> 0 | M40: =ROUND(D40*H40,2) -> 0 | N40: =ROUND(D40*I40,2) -> 0 | O40: =SUM(L40:N40) -> 0
A41: 24 | B41: Tranšejas rakšana un aizbēršana 3 līdz 5 kabeļu (caurules) | C41: m | D41: 40 | G41: =ROUND(F41*E41,2) -> 0 | J41: =SUM(G41:I41) -> 0 | K41: =ROUND(D41*E41,2) -> 0 | L41: =ROUND(D41*G41,2) -> 0 | M41: =ROUND(D41*H41,2) -> 0 | N41: =ROUND(D41*I41,2) -> 0 | O41: =SUM(L41:N41) -> 0
A42: 25 | B42: Kabeļu aizsargcaurules ieguldīšana gatavā tranšejā | C42: m | D42: 600 | G42: =ROUND(F42*E42,2) -> 0 | J42: =SUM(G42:I42) -> 0 | K42: =ROUND(D42*E42,1) -> 0 | L42: =ROUND(D42*G42,2) -> 0 | M42: =ROUND(D42*H42,2) -> 0 | N42: =ROUND(D42*I42,2) -> 0 | O42: =SUM(L42:N42) -> 0
A43: 26 | B43: Kabeļa ievēršana caurulē | C43: m | D43: 600 | G43: =ROUND(F43*E43,2) -> 0 | J43: =SUM(G43:I43) -> 0 | K43: =ROUND(D43*E43,1) -> 0 | L43: =ROUND(D43*G43,2) -> 0 | M43: =ROUND(D43*H43,2) -> 0 | N43: =ROUND(D43*I43,2) -> 0 | O43: =SUM(L43:N43) -> 0
A44: 27 | B44: Kabeļsignāllentas ieguldīšāna | C44: m | D44: 455 | G44: =ROUND(F44*E44,2) -> 0 | J44: =SUM(G44:I44) -> 0 | K44: =ROUND(D44*E44,1) -> 0 | L44: =ROUND(D44*G44,2) -> 0 | M44: =ROUND(D44*H44,2) -> 0 | N44: =ROUND(D44*I44,2) -> 0 | O44: =SUM(L44:N44) -> 0
A45: 28 | B45: Bedres rakšana apgaismojuma balstam | C45: gb | D45: 22 | G45: =ROUND(F45*E45,2) -> 0 | J45: =SUM(G45:I45) -> 0 | K45: =ROUND(D45*E45,2) -> 0 | L45: =ROUND(D45*G45,2) -> 0 | M45: =ROUND(D45*H45,2) -> 0 | N45: =ROUND(D45*I45,2) -> 0 | O45: =SUM(L45:N45) -> 0
A46: 29 | B46: Apgaismojuma balsta pamata montāža gatavā bedrē | C46: gb | D46: 22 | G46: =ROUND(E46*F46,2) -> 0 | J46: =SUM(G46:I46) -> 0 | K46: =ROUND(D46*E46,2) -> 0 | L46: =ROUND(D46*G46,2) -> 0 | M46: =ROUND(D46*H46,2) -> 0 | N46: =ROUND(D46*I46,2) -> 0 | O46: =SUM(L46:N46) -> 0
A47: 30 | B47: Gaismekļa montāža uz balsta | C47: gb | D47: 22 | G47: =ROUND(E47*F47,2) -> 0 | J47: =SUM(G47:I47) -> 0 | K47: =ROUND(D47*E47,2) -> 0 | L47: =ROUND(D47*G47,2) -> 0 | M47: =ROUND(D47*H47,2) -> 0 | N47: =ROUND(D47*I47,2) -> 0 | O47: =SUM(L47:N47) -> 0
A48: 31 | B48: Automātslēdžu montāža apgaismojuma balstā | C48: gb | D48: 22 | G48: =ROUND(F48*E48,2) -> 0 | J48: =SUM(G48:I48) -> 0 | K48: =ROUND(D48*E48,1) -> 0 | L48: =ROUND(D48*G48,2) -> 0 | M48: =ROUND(D48*H48,2) -> 0 | N48: =ROUND(D48*I48,2) -> 0 | O48: =SUM(L48:N48) -> 0
A49: 32 | B49: Apgaismojuma staba demontāža | C49: gb | D49: 1 | G49: =ROUND(E49*F49,2) -> 0 | J49: =SUM(G49:I49) -> 0 | K49: =ROUND(D49*E49,2) -> 0 | L49: =ROUND(D49*G49,2) -> 0 | M49: =ROUND(D49*H49,2) -> 0 | N49: =ROUND(D49*I49,2) -> 0 | O49: =SUM(L49:N49) -> 0
A50: 33 | B50: Sadalnes KS-2-2 pārcelšana | C50: kpl | D50: 1 | G50: =ROUND(E50*F50,2) -> 0 | J50: =SUM(G50:I50) -> 0 | K50: =ROUND(D50*E50,2) -> 0 | L50: =ROUND(D50*G50,2) -> 0 | M50: =ROUND(D50*H50,2) -> 0 | N50: =ROUND(D50*I50,2) -> 0 | O50: =SUM(L50:N50) -> 0
A51: 34 | B51: Izpilddokumentācijas sagatavošana | C51: kpl | D51: 1 | G51: =ROUND(E51*F51,2) -> 0 | J51: =SUM(G51:I51) -> 0 | K51: =ROUND(D51*E51,2) -> 0 | L51: =ROUND(D51*G51,2) -> 0 | M51: =ROUND(D51*H51,2) -> 0 | N51: =ROUND(D51*I51,2) -> 0 | O51: =SUM(L51:N51) -> 0
A52: 35 | B52: Iekārtu un kabeļu marķēšana | C52: kpl | D52: 1 | G52: =ROUND(E52*F52,2) -> 0 | J52: =SUM(G52:I52) -> 0 | K52: =ROUND(D52*E52,2) -> 0 | L52: =ROUND(D52*G52,2) -> 0 | M52: =ROUND(D52*H52,2) -> 0 | N52: =ROUND(D52*I52,2) -> 0 | O52: =SUM(L52:N52) -> 0
A53: Kopā | B53: =A2 -> Inženierrisinājumu daļa (ELT - Elektroapgāde-ārējā (apgaismojums)) | K53: =SUM(K40:K52,K28:K38,K21:K26,K16:K19,K14) -> 0 | L53: =SUM(L40:L52,L28:L38,L21:L26,L16:L19,L14) -> 0 | M53: =SUM(M40:M52,M28:M38,M21:M26,M16:M19,M14) -> 0 | N53: =SUM(N40:N52,N28:N38,N21:N26,N16:N19,N14) -> 0 | O53: =SUM(O40:O52,O28:O38,O21:O26,O16:O19,O14) -> 0
A54: Piezīmes:
B55: 1. Materiālu apjomi doti sablīvētā veidā.
B56: 2. Darbu daudzumu sarakstā minētos darbus veikt atbilstoši būvprojektam un Autoceļu būvdarbu specifikācijām ABS 2026.
B57: 3. Būvdarbu veicējam jāvērtē visi nepieciešamie darbi, materiāli, būvmašīnas un transports, bez kā nevarētu būt iespējama darba daudzumu sarakstā minēto darbu tehnoloģiski pareiza, Pasūtītāja prasībām atbilstoša izpilde pilnā apjomā.
B58: 4. Būvdarbu apjomus skatīt kopā rasējumiem, tehniskajiem risinājumiem, tehniskajām specifikācijām, skaidrojošo aprakstu un pielikumiem.
B59: 5. Izstrādājot piedāvājumu, būvdarbu veicējam rūpīgi pārskatīt projektu un apjomos jāiekļauj arī neuzrādītie darbi un materiāli, lai kvalitatīvi veiktu būvniecību atbilstoši konkrētā būvdarbu veicēja pielietotajai tehnoloģijai, un bez kuriem nebūtu iespējama būvdarbu tehnoloģiski pareiza un spēkā esošajiem normatīviem atbilstoša veikšana pilnā apjomā.
B60: 6. Šos darbu un materiālu apjomus skatīt kopā ar projekta dokumentāciju.
B61: 7. Materiālus ir iespējams nomainīt uz ekvivalentiem, ja būvdarbu veicējs uzņemas pilnu atbildību par nepieciešamo nestspējas un citu projektā ietverto rādītāju un parametru sasniegšanu.
B63: Sastādīja | C63: __________________ | M63: =N9 -> 0
C64: paraksts | F64: sertifikāta Nr. | M64: datums
B66: Pārbaudīja | C66: __________________ | M66: =M63 -> 0
C67: paraksts | F67: sertifikāta Nr. | M67: datums

Sheet Elektronisko sakaru tīkli-EST
A1: Lokālā tāme Nr. 1-5
A2: Inženierrisinājumu daļa (EST - Elektronisko sakaru sistēmas-ārējās)
A3: (Darba veids vai konstruktīvā elementa nosaukums)
A4: Būves nosaukums | C4: ='Kopsavilkuma aprēķins'!D2 -> VSIA "Strenču psihoneiroloģiskā slimnīca" galvenās iebrauktuves un uzņemšanas un observācijas nodaļas teritorijas labiekārtojums. 1.kārta
A5: Objekta nosaukums | C5: ='Kopsavilkuma aprēķins'!D3 -> VSIA "Strenču psihoneiroloģiskā slimnīca" galvenās iebrauktuves un uzņemšanas un observācijas nodaļas teritorijas labiekārtojums.1.kārta
A6: Objekta adrese | C6: ='Būvniecības koptāme'!D11 -> Valkas iela 11, Strenči, Valmieras novads, LV-4730
A7: Tāme sastādīta ________. gada tirgus cenās pamatojoties uz projekta risinājumiem un rasējumiem.
L8: Tāmes izmaksa | N8: =O32 -> 0
L9: Tāme sastādīta | N9: ='Kopsavilkuma aprēķins'!D7 -> 0
A10: Nr. p.k. | B10: Darbu apraksts vai materiālu nosaukums | E10: Vienības izmaksas | K10: Kopā uz visu apjomu
C11: Mērvienība | D11: Daudzums | E11: Laika norma (c/h) | F11: Darba samaksas likme (EUR/h) | G11: Darba alga (EUR) | H11: Būvizstrādājumi (EUR) | I11: Mehānismi (EUR) | J11: Kopā (EUR) | K11: Darbietilpība (c/h) | L11: Darba alga (EUR) | M11: Būvizstrādājumi (EUR) | N11: Mehānismi (EUR) | O11: Summa (EUR)
A12: EST-Darbi
A13: 1 | B13: Tranšejas rakšana un aizbēršana viena līdz divu caurules gūldīšanai 0.7m dziļumā | C13: m | D13: 25 | G13: =ROUND(E13*F13,2) -> 0 | J13: =SUM(G13:I13) -> 0 | K13: =ROUND(D13*E13,2) -> 0 | L13: =ROUND(D13*G13,2) -> 0 | M13: =ROUND(D13*H13,2) -> 0 | N13: =ROUND(D13*I13,2) -> 0 | O13: =SUM(L13:N13) -> 0
A14: 2 | B14: Kabeļu aizsargcaurules d=līdz 110 mm ieguldīšana gatavā tranšejā | C14: m | D14: 25 | G14: =ROUND(E14*F14,2) -> 0 | J14: =SUM(G14:I14) -> 0 | K14: =ROUND(D14*E14,2) -> 0 | L14: =ROUND(D14*G14,2) -> 0 | M14: =ROUND(D14*H14,2) -> 0 | N14: =ROUND(D14*I14,2) -> 0 | O14: =SUM(L14:N14) -> 0
A15: 3 | B15: Kabeļa ievēršana proj. caurulē līdz 3 kabeļiem | C15: m | D15: 25 | G15: =ROUND(E15*F15,2) -> 0 | J15: =SUM(G15:I15) -> 0 | K15: =ROUND(D15*E15,2) -> 0 | L15: =ROUND(D15*G15,2) -> 0 | M15: =ROUND(D15*H15,2) -> 0 | N15: =ROUND(D15*I15,2) -> 0 | O15: =SUM(L15:N15) -> 0
A16: 4 | B16: Signāllentas ieklāšana | C16: m | D16: 25 | G16: =ROUND(E16*F16,2) -> 0 | J16: =SUM(G16:I16) -> 0 | K16: =ROUND(D16*E16,1) -> 0 | L16: =ROUND(D16*G16,2) -> 0 | M16: =ROUND(D16*H16,2) -> 0 | N16: =ROUND(D16*I16,2) -> 0 | O16: =SUM(L16:N16) -> 0
A17: 5 | B17: Bedres rakšana un aizbēršana kanalizācijas lūkai | C17: gb | D17: 1 | G17: =ROUND(E17*F17,2) -> 0 | J17: =SUM(G17:I17) -> 0 | K17: =ROUND(D17*E17,2) -> 0 | L17: =ROUND(D17*G17,2) -> 0 | M17: =ROUND(D17*H17,2) -> 0 | N17: =ROUND(D17*I17,2) -> 0 | O17: =SUM(L17:N17) -> 0
A18: 6 | B18: Kabeļu akas PEH 906/800mm H800mm uzstādīšana | C18: gb | D18: 1 | G18: =ROUND(E18*F18,2) -> 0 | J18: =SUM(G18:I18) -> 0 | K18: =ROUND(D18*E18,2) -> 0 | L18: =ROUND(D18*G18,2) -> 0 | M18: =ROUND(D18*H18,2) -> 0 | N18: =ROUND(D18*I18,2) -> 0 | O18: =SUM(L18:N18) -> 0
A19: 7 | B19: Kabeļu testēšana, marķējums | C19: kpl | D19: 1 | G19: =ROUND(E19*F19,2) -> 0 | J19: =SUM(G19:I19) -> 0 | K19: =ROUND(D19*E19,1) -> 0 | L19: =ROUND(D19*G19,2) -> 0 | M19: =ROUND(D19*H19,2) -> 0 | N19: =ROUND(D19*I19,2) -> 0 | O19: =SUM(L19:N19) -> 0
A20: 8 | B20: Kases aparāta uzstādīšana | C20: gb | D20: 1 | G20: =ROUND(E20*F20,2) -> 0 | J20: =SUM(G20:I20) -> 0 | K20: =ROUND(D20*E20,1) -> 0 | L20: =ROUND(D20*G20,2) -> 0 | M20: =ROUND(D20*H20,2) -> 0 | N20: =ROUND(D20*I20,2) -> 0 | O20: =SUM(L20:N20) -> 0
A21: 9 | B21: Rakšanas darbu organizēšana | C21: objekts | D21: 1 | G21: =ROUND(E21*F21,2) -> 0 | J21: =SUM(G21:I21) -> 0 | K21: =ROUND(D21*E21,1) -> 0 | L21: =ROUND(D21*G21,2) -> 0 | M21: =ROUND(D21*H21,2) -> 0 | N21: =ROUND(D21*I21,2) -> 0 | O21: =SUM(L21:N21) -> 0
A22: 10 | B22: Izpilddokumentācijas sagatavošana | C22: kpl | D22: 1 | G22: =ROUND(E22*F22,2) -> 0 | J22: =SUM(G22:I22) -> 0 | K22: =ROUND(D22*E22,2) -> 0 | L22: =ROUND(D22*G22,2) -> 0 | M22: =ROUND(D22*H22,2) -> 0 | N22: =ROUND(D22*I22,2) -> 0 | O22: =SUM(L22:N22) -> 0
A23: EST-Materiāli
A24: 11 | B24: Kabeļu kanalizācijas caurule Ø110, 750N | C24: m | D24: 25 | G24: =ROUND(F24*E24,2) -> 0 | J24: =SUM(G24:I24) -> 0 | K24: =ROUND(D24*E24,1) -> 0 | L24: =ROUND(D24*G24,2) -> 0 | M24: =ROUND(D24*H24,2) -> 0 | N24: =ROUND(D24*I24,2) -> 0 | O24: =SUM(L24:N24) -> 0
A25: 12 | B25: Signāllenta kabeļlīnijai, platums 80 mm | C25: m | D25: 25 | G25: =ROUND(E25*F25,2) -> 0 | J25: =SUM(G25:I25) -> 0 | K25: =ROUND(D25*E25,1) -> 0 | L25: =ROUND(D25*G25,2) -> 0 | M25: =ROUND(D25*H25,2) -> 0 | N25: =ROUND(D25*I25,2) -> 0 | O25: =SUM(L25:N25) -> 0
A26: 13 | B26: Kabeļu aka KP-PEH 906/800mm H800mm (40t) ar pamatni | C26: kpl | D26: 1 | G26: =ROUND(E26*F26,2) -> 0 | J26: =SUM(G26:I26) -> 0 | K26: =ROUND(D26*E26,1) -> 0 | L26: =ROUND(D26*G26,2) -> 0 | M26: =ROUND(D26*H26,2) -> 0 | N26: =ROUND(D26*I26,2) -> 0 | O26: =SUM(L26:N26) -> 0
A27: 14 | B27: DN 610/750 Stacionāra tipa vāks ar betonu, B125 | C27: gb | D27: 1 | G27: =ROUND(E27*F27,2) -> 0 | J27: =SUM(G27:I27) -> 0 | K27: =ROUND(D27*E27,1) -> 0 | L27: =ROUND(D27*G27,2) -> 0 | M27: =ROUND(D27*H27,2) -> 0 | N27: =ROUND(D27*I27,2) -> 0 | O27: =SUM(L27:N27) -> 0
A28: 15 | B28: Kabeļu akas dzelzbetona riņķis | C28: gb | D28: 1 | G28: =ROUND(E28*F28,2) -> 0 | J28: =SUM(G28:I28) -> 0 | K28: =ROUND(D27*E28,1) -> 0 | L28: =ROUND(D27*G28,2) -> 0 | M28: =ROUND(D27*H28,2) -> 0 | N28: =ROUND(D27*I28,2) -> 0 | O28: =SUM(L28:N28) -> 0
A29: 16 | B29: Kabeļu cauruļu blīvēšanas materiāls Silikons N, neitrāls | C29: gb | D29: 1 | G29: =ROUND(E29*F29,2) -> 0 | J29: =SUM(G29:I29) -> 0 | K29: =ROUND(D29*E29,1) -> 0 | L29: =ROUND(D29*G29,2) -> 0 | M29: =ROUND(D29*H29,2) -> 0 | N29: =ROUND(D29*I29,2) -> 0 | O29: =SUM(L29:N29) -> 0
A30: 17 | B30: Stāvietas apmaksas aparāts, Paystation FP-KA700/710 | C30: kpl | D30: 1 | G30: =ROUND(E30*F30,2) -> 0 | J30: =SUM(G30:I30) -> 0 | K30: =ROUND(D30*E30,1) -> 0 | L30: =ROUND(D30*G30,2) -> 0 | M30: =ROUND(D30*H30,2) -> 0 | N30: =ROUND(D30*I30,2) -> 0 | O30: =SUM(L30:N30) -> 0
A31: 18 | B31: Kabelis F/UTP Cat6 4x2x0.5mm², ārtipa | C31: m | D31: 100 | G31: =ROUND(E31*F31,2) -> 0 | J31: =SUM(G31:I31) -> 0 | K31: =ROUND(D31*E31,1) -> 0 | L31: =ROUND(D31*G31,2) -> 0 | M31: =ROUND(D31*H31,2) -> 0 | N31: =ROUND(D31*I31,2) -> 0 | O31: =SUM(L31:N31) -> 0
A32: Kopā | B32: =A2 -> Inženierrisinājumu daļa (EST - Elektronisko sakaru sistēmas-ārējās) | K32: =SUM(K24:K31,K13:K22) -> 0 | L32: =SUM(L24:L31,L13:L22) -> 0 | M32: =SUM(M24:M31,M13:M22) -> 0 | N32: =SUM(N24:N31,N13:N22) -> 0 | O32: =SUM(O24:O31,O13:O22) -> 0
A33: Piezīmes:
B34: 1. Materiālu apjomi doti sablīvētā veidā.
B35: 2. Darbu daudzumu sarakstā minētos darbus veikt atbilstoši būvprojektam un Autoceļu būvdarbu specifikācijām ABS 2026.
B36: 3. Būvdarbu veicējam jāvērtē visi nepieciešamie darbi, materiāli, būvmašīnas un transports, bez kā nevarētu būt iespējama darba daudzumu sarakstā minēto darbu tehnoloģiski pareiza, Pasūtītāja prasībām atbilstoša izpilde pilnā apjomā.
B37: 4. Būvdarbu apjomus skatīt kopā rasējumiem, tehniskajiem risinājumiem, tehniskajām specifikācijām, skaidrojošo aprakstu un pielikumiem.
B38: 5. Izstrādājot piedāvājumu, būvdarbu veicējam rūpīgi pārskatīt projektu un apjomos jāiekļauj arī neuzrādītie darbi un materiāli, lai kvalitatīvi veiktu būvniecību atbilstoši konkrētā būvdarbu veicēja pielietotajai tehnoloģijai, un bez kuriem nebūtu iespējama būvdarbu tehnoloģiski pareiza un spēkā esošajiem normatīviem atbilstoša veikšana pilnā apjomā.
B39: 6. Šos darbu un materiālu apjomus skatīt kopā ar projekta dokumentāciju.
B40: 7. Materiālus ir iespējams nomainīt uz ekvivalentiem, ja būvdarbu veicējs uzņemas pilnu atbildību par nepieciešamo nestspējas un citu projektā ietverto rādītāju un parametru sasniegšanu.
B42: Sastādīja | C42: __________________ | M42: =N9 -> 0
C43: paraksts | F43: sertifikāta Nr. | M43: datums
B45: Pārbaudīja | C45: __________________ | M45: =M42 -> 0
C46: paraksts | F46: sertifikāta Nr. | M46: datums

Sheet Arhitektūra-AR
A1: Lokālā tāme Nr. 1-6
A2: Arhitektūras risinājumi (AR)
A3: (Darba veids vai konstruktīvā elementa nosaukums)
A4: Būves nosaukums | C4: ='Kopsavilkuma aprēķins'!D2 -> VSIA "Strenču psihoneiroloģiskā slimnīca" galvenās iebrauktuves un uzņemšanas un observācijas nodaļas teritorijas labiekārtojums. 1.kārta
A5: Objekta nosaukums | C5: ='Kopsavilkuma aprēķins'!D3 -> VSIA "Strenču psihoneiroloģiskā slimnīca" galvenās iebrauktuves un uzņemšanas un observācijas nodaļas teritorijas labiekārtojums.1.kārta
A6: Objekta adrese | C6: ='Būvniecības koptāme'!D11 -> Valkas iela 11, Strenči, Valmieras novads, LV-4730
A7: Tāme sastādīta _______. gada tirgus cenās pamatojoties uz projekta risinājumiem un rasējumiem.
L8: Tāmes izmaksa | N8: =O54 -> 0
L9: Tāme sastādīta | N9: ='Kopsavilkuma aprēķins'!D7 -> 0
A10: Nr. p.k. | B10: Darbu apraksts vai materiālu nosaukums | E10: Vienības izmaksas | K10: Kopā uz visu apjomu
C11: Mērvienība | D11: Daudzums | E11: Laika norma (c/h) | F11: Darba samaksas likme (EUR/h) | G11: Darba alga (EUR) | H11: Būvizstrādājumi (EUR) | I11: Mehānismi (EUR) | J11: Kopā (EUR) | K11: Darbietilpība (c/h) | L11: Darba alga (EUR) | M11: Būvizstrādājumi (EUR) | N11: Mehānismi (EUR) | O11: Summa (EUR)
A12: Ēka lit.039 (lapene)
A13: 1 | B13: Demontēt esošo tekņu fragmentu un notekas, kas atrodas demontējāmā apjomā. Demontāžas darbus veikt saudzīgi, saglabājot esošo lapenes koka konstrukciju un nebojājot saglabājamās būves daļas. Demontētās teknes un notekas saglabāt un izmantot pārbūvējamā jumta tekņu un noteku izbūvei. | C13: m | D13: 39.8 | G13: =ROUND(E13*F13,2) -> 0 | J13: =SUM(G13:I13) -> 0 | K13: =ROUND(D13*E13,2) -> 0 | L13: =ROUND(D13*G13,2) -> 0 | M13: =ROUND(D13*H13,2) -> 0 | N13: =ROUND(D13*I13,2) -> 0 | O13: =SUM(L13:N13) -> 0
A14: 2 | B14: Jumta daļas seguma un konstrukciju demontāža. Demontāžas darbus veikt saudzīgi, saglabājot esošo lapenes koka konstrukciju un nebojājot saglabājamās būves daļas. Jumta seguma materiālu saglabāt un izmantot pārbūvējamā jumta seguma izbūvei. | C14: m2 | D14: 132.1 | G14: =ROUND(E14*F14,2) -> 0 | J14: =SUM(G14:I14) -> 0 | K14: =ROUND(D14*E14,2) -> 0 | L14: =ROUND(D14*G14,2) -> 0 | M14: =ROUND(D14*H14,2) -> 0 | N14: =ROUND(D14*I14,2) -> 0 | O14: =SUM(L14:N14) -> 0
A15: 3 | B15: Ārsienu un starpsienu demontāža. Demontāžas darbus veikt saudzīgi, saglabājot esošo lapenes koka konstrukciju un nebojājot saglabājamās būves daļas. | C15: m3 | D15: 34.6 | G15: =ROUND(E15*F15,2) -> 0 | J15: =SUM(G15:I15) -> 0 | K15: =ROUND(D15*E15,2) -> 0 | L15: =ROUND(D15*G15,2) -> 0 | M15: =ROUND(D15*H15,2) -> 0 | N15: =ROUND(D15*I15,2) -> 0 | O15: =SUM(L15:N15) -> 0
A16: 4 | B16: Demontēt esošo skurstneni | C16: m3 | D16: 2.6 | G16: =ROUND(E16*F16,2) -> 0 | J16: =SUM(G16:I16) -> 0 | K16: =ROUND(D16*E16,2) -> 0 | L16: =ROUND(D16*G16,2) -> 0 | M16: =ROUND(D16*H16,2) -> 0 | N16: =ROUND(D16*I16,2) -> 0 | O16: =SUM(L16:N16) -> 0
A17: 5 | B17: Cokola un pamatu demontāža. Demontāžas darbus veikt saudzīgi, saglabājot esošo lapenes koka konstrukciju un nebojājot saglabājamās būves daļas. Pamatu izmēri ņemti balstoties uz esošā lapenes legalizācijas projekta BK daļā pieejamo informāciju. | C17: m3 | D17: 22.2 | G17: =ROUND(E17*F17,2) -> 0 | J17: =SUM(G17:I17) -> 0 | K17: =ROUND(D17*E17,2) -> 0 | L17: =ROUND(D17*G17,2) -> 0 | M17: =ROUND(D17*H17,2) -> 0 | N17: =ROUND(D17*I17,2) -> 0 | O17: =SUM(L17:N17) -> 0
B18: Jumta segums
A19: 6 | B19: Profilēta metāla jumta segums (tonis: cinkots) jumta daļai, kas tiks pārbūvēta. Kā jumta seguma materiālu izmantot saglabāto demontētā jumta daļas segumu. | C19: m2 | D19: 36.7 | G19: =ROUND(E19*F19,2) -> 0 | J19: =SUM(G19:I19) -> 0 | K19: =ROUND(D19*E19,2) -> 0 | L19: =ROUND(D19*G19,2) -> 0 | M19: =ROUND(D19*H19,2) -> 0 | N19: =ROUND(D19*I19,2) -> 0 | O19: =SUM(L19:N19) -> 0
B20: Projektējamas koka margas
A21: 7 | B21: Jaunas koka margas, izbūvētas identiskā veidolā kā esošās koka margas | C21: m | D21: 6.1 | G21: =ROUND(E21*F21,2) -> 0 | J21: =SUM(G21:I21) -> 0 | K21: =ROUND(D21*E21,2) -> 0 | L21: =ROUND(D21*G21,2) -> 0 | M21: =ROUND(D21*H21,2) -> 0 | N21: =ROUND(D21*I21,2) -> 0 | O21: =SUM(L21:N21) -> 0
B22: Teknes, notekas
A23: 8 | B23: Ūdensnotekas tekne, materiāls/tonis: cinkots skārds. Tekņu izbūvei izmantot saudzīgi demontētās teknes. | C23: m | D23: 11.5 | G23: =ROUND(E23*F23,2) -> 0 | J23: =SUM(G23:I23) -> 0 | K23: =ROUND(D23*E23,2) -> 0 | L23: =ROUND(D23*G23,2) -> 0 | M23: =ROUND(D23*H23,2) -> 0 | N23: =ROUND(D23*I23,2) -> 0 | O23: =SUM(L23:N23) -> 0
A24: 9 | B24: Ūdensnotekcaurule (2 gab), materiāls/tonis: cinkots skārds. Noteku izbūvei izmantot saudzīgi demontētās teknes. | C24: m | D24: 5.8 | G24: =ROUND(E24*F24,2) -> 0 | J24: =SUM(G24:I24) -> 0 | K24: =ROUND(D24*E24,2) -> 0 | L24: =ROUND(D24*G24,2) -> 0 | M24: =ROUND(D24*H24,2) -> 0 | N24: =ROUND(D24*I24,2) -> 0 | O24: =SUM(L24:N24) -> 0
B25: Koka fasādes elementu apdare
A26: 10 | B26: Koka apstrāde ar tonētu beici. Ražotājs Paint ECO vai analogs; tonis: Stirna BB-4 (notīrīt esošās koka margas un kolonnas, nobeicēt gan esošās koka kolonnas un margas, gan projektējamo koka kolonnu un margas) | C26: m2 | D26: 117.4 | G26: =ROUND(E26*F26,2) -> 0 | J26: =SUM(G26:I26) -> 0 | K26: =ROUND(D26*E26,2) -> 0 | L26: =ROUND(D26*G26,2) -> 0 | M26: =ROUND(D26*H26,2) -> 0 | N26: =ROUND(D26*I26,2) -> 0 | O26: =SUM(L26:N26) -> 0
A27: Ēkas lit.036 ieejas mezgls nr.1
B28: Kāpņu un lieveņa atjaunošana
A29: 11 | B29: Esošo pakāpienu un lieveņa mūrjavas un apsūnojuma notīrīšana līdz stingrai, stabilai virsmai. Mazgāt ar augstspiediena strūklu, nožāvēt. | C29: m2 | D29: 3.7 | G29: =ROUND(E29*F29,2) -> 0 | J29: =SUM(G29:I29) -> 0 | K29: =ROUND(D29*E29,2) -> 0 | L29: =ROUND(D29*G29,2) -> 0 | M29: =ROUND(D29*H29,2) -> 0 | N29: =ROUND(D29*I29,2) -> 0 | O29: =SUM(L29:N29) -> 0
A30: 12 | B30: Pakāpienus un lieveni apstrādāt ar grunti (Ceresit CT19 vai analogs) | C30: m2 | D30: 3.7 | G30: =ROUND(E30*F30,2) -> 0 | J30: =SUM(G30:I30) -> 0 | K30: =ROUND(D30*E30,2) -> 0 | L30: =ROUND(D30*G30,2) -> 0 | M30: =ROUND(D30*H30,2) -> 0 | N30: =ROUND(D30*I30,2) -> 0 | O30: =SUM(L30:N30) -> 0
A31: 13 | B31: Pēc virsmas gruntēšanas bojātos pakāpienus pārklāt ar remontjavu (Planitop 400 vai analogs), veidojot vienmērīgu, gludu virsmu. | C31: m2 | D31: 3.7 | G31: =ROUND(E31*F31,2) -> 0 | J31: =SUM(G31:I31) -> 0 | K31: =ROUND(D31*E31,2) -> 0 | L31: =ROUND(D31*G31,2) -> 0 | M31: =ROUND(D31*H31,2) -> 0 | N31: =ROUND(D31*I31,2) -> 0 | O31: =SUM(L31:N31) -> 0
A32: 14 | B32: Pakāpienus un lieveni pārklāt ar epoksīda pārklājumu ar šķembām, piemērotu āra apstākļiem. Ražotājs: Epoxy Floor vai analogs. | C32: m2 | D32: 3.7 | G32: =ROUND(E32*F32,2) -> 0 | J32: =SUM(G32:I32) -> 0 | K32: =ROUND(D32*E32,2) -> 0 | L32: =ROUND(D32*G32,2) -> 0 | M32: =ROUND(D32*H32,2) -> 0 | N32: =ROUND(D32*I32,2) -> 0 | O32: =SUM(L32:N32) -> 0
A33: 15 | B33: Lieveņa pie koka ārsienas pieslēguma vietā veikt ārsienas ārējās plaknes nosegšanu ar ruļļu tipa hidroizolācijas materiālu, kuram ir gaisa šķirkārta. | C33: m | D33: 0.9 | G33: =ROUND(E33*F33,2) -> 0 | J33: =SUM(G33:I33) -> 0 | K33: =ROUND(D33*E33,2) -> 0 | L33: =ROUND(D33*G33,2) -> 0 | M33: =ROUND(D33*H33,2) -> 0 | N33: =ROUND(D33*I33,2) -> 0 | O33: =SUM(L33:N33) -> 0
B34: Lieveņa margu atjaunošana
A35: 16 | B35: Esošās koka dēlīšu margas attīrīt no apsūnojuma, mazgāt ar augstspiediena ūdens strūklu (ne karstāku par 45o temperatūru), nožāvēt | C35: m2 | D35: 5.1 | G35: =ROUND(E35*F35,2) -> 0 | J35: =SUM(G35:I35) -> 0 | K35: =ROUND(D35*E35,2) -> 0 | L35: =ROUND(D35*G35,2) -> 0 | M35: =ROUND(D35*H35,2) -> 0 | N35: =ROUND(D35*I35,2) -> 0 | O35: =SUM(L35:N35) -> 0
A36: 17 | B36: Dēlīšus pārklāt ar tonētu lineļļas beici Paint ECO vai analogs. Toni pielāgot dabā esošajam dēļu tonim. | C36: m2 | D36: 5.1 | G36: =ROUND(E36*F36,2) -> 0 | J36: =SUM(G36:I36) -> 0 | K36: =ROUND(D36*E36,2) -> 0 | L36: =ROUND(D36*G36,2) -> 0 | M36: =ROUND(D36*H36,2) -> 0 | N36: =ROUND(D36*I36,2) -> 0 | O36: =SUM(L36:N36) -> 0
A37: Ēkas lit.034 ieejas mezgls nr.2
B38: Kāpņu un lieveņa atjaunošana
A39: 18 | B39: Demontēt ~45mm no esošās 1.pakāpiena virsmas, lai iegūtu vienādu pakāpienu augstumu | C39: m3 | D39: 0.01 | G39: =ROUND(E39*F39,2) -> 0 | J39: =SUM(G39:I39) -> 0 | K39: =ROUND(D39*E39,2) -> 0 | L39: =ROUND(D39*G39,2) -> 0 | M39: =ROUND(D39*H39,2) -> 0 | N39: =ROUND(D39*I39,2) -> 0 | O39: =SUM(L39:N39) -> 0
A40: 19 | B40: Esošo pakāpienu un lieveņa mūrjavas un apsūnojuma notīrīšana līdz stingrai, stabilai virsmai. Mazgāt ar augstspiediena strūklu, nožāvēt. | C40: m2 | D40: 3.9 | G40: =ROUND(E40*F40,2) -> 0 | J40: =SUM(G40:I40) -> 0 | K40: =ROUND(D40*E40,2) -> 0 | L40: =ROUND(D40*G40,2) -> 0 | M40: =ROUND(D40*H40,2) -> 0 | N40: =ROUND(D40*I40,2) -> 0 | O40: =SUM(L40:N40) -> 0
A41: 20 | B41: Pakāpienus un lieveni apstrādāt ar grunti (Ceresit CT19 vai analogs) | C41: m2 | D41: 3.9 | G41: =ROUND(E41*F41,2) -> 0 | J41: =SUM(G41:I41) -> 0 | K41: =ROUND(D41*E41,2) -> 0 | L41: =ROUND(D41*G41,2) -> 0 | M41: =ROUND(D41*H41,2) -> 0 | N41: =ROUND(D41*I41,2) -> 0 | O41: =SUM(L41:N41) -> 0
A42: 21 | B42: Pēc virsmas gruntēšanas bojātos pakāpienus pārklāt ar remontjavu (Planitop 400 vai analogs), veidojot vienmērīgu, gludu virsmu. Pakāpienu augstumus veidot vienādus visiem trīs pakāpieniem | C42: m2 | D42: 3.9 | G42: =ROUND(E42*F42,2) -> 0 | J42: =SUM(G42:I42) -> 0 | K42: =ROUND(D42*E42,2) -> 0 | L42: =ROUND(D42*G42,2) -> 0 | M42: =ROUND(D42*H42,2) -> 0 | N42: =ROUND(D42*I42,2) -> 0 | O42: =SUM(L42:N42) -> 0
A43: 22 | B43: Pakāpienus un lieveni pārklāt ar epoksīda pārklājumu ar šķembām, piemērotu āra apstākļiem. Ražotājs: Epoxy Floor vai analogs. | C43: m2 | D43: 3.9 | G43: =ROUND(E43*F43,2) -> 0 | J43: =SUM(G43:I43) -> 0 | K43: =ROUND(D43*E43,2) -> 0 | L43: =ROUND(D43*G43,2) -> 0 | M43: =ROUND(D43*H43,2) -> 0 | N43: =ROUND(D43*I43,2) -> 0 | O43: =SUM(L43:N43) -> 0
A44: 23 | B44: Lieveņa pie koka ārsienas pieslēguma vietā veikt ārsienas ārējās plaknes nosegšanu ar ruļļu tipa hidroizolācijas materiālu, kuram ir gaisa šķirkārta. | C44: m | D44: 0.9 | G44: =ROUND(E44*F44,2) -> 0 | J44: =SUM(G44:I44) -> 0 | K44: =ROUND(D44*E44,2) -> 0 | L44: =ROUND(D44*G44,2) -> 0 | M44: =ROUND(D44*H44,2) -> 0 | N44: =ROUND(D44*I44,2) -> 0 | O44: =SUM(L44:N44) -> 0
A45: Ēkas lit.034 ieejas mezgls nr.3
B46: Kāpņu un lieveņa atjaunošana
A47: 24 | B47: Esošo pakāpienu un lieveņa mūrjavas un apsūnojuma notīrīšana līdz stingrai, stabilai virsmai. Mazgāt ar augstspiediena strūklu, nožāvēt. | C47: m2 | D47: 3.2 | G47: =ROUND(E47*F47,2) -> 0 | J47: =SUM(G47:I47) -> 0 | K47: =ROUND(D47*E47,2) -> 0 | L47: =ROUND(D47*G47,2) -> 0 | M47: =ROUND(D47*H47,2) -> 0 | N47: =ROUND(D47*I47,2) -> 0 | O47: =SUM(L47:N47) -> 0
A48: 25 | B48: Pakāpienus un lieveni apstrādāt ar grunti (Ceresit CT19 vai analogs) | C48: m2 | D48: 3.2 | G48: =ROUND(E48*F48,2) -> 0 | J48: =SUM(G48:I48) -> 0 | K48: =ROUND(D48*E48,2) -> 0 | L48: =ROUND(D48*G48,2) -> 0 | M48: =ROUND(D48*H48,2) -> 0 | N48: =ROUND(D48*I48,2) -> 0 | O48: =SUM(L48:N48) -> 0
A49: 26 | B49: Pēc virsmas gruntēšanas bojātos pakāpienus pārklāt ar remontjavu (Planitop 400 vai analogs), veidojot vienmērīgu, gludu virsmu | C49: m2 | D49: 3.2 | G49: =ROUND(E49*F49,2) -> 0 | J49: =SUM(G49:I49) -> 0 | K49: =ROUND(D49*E49,2) -> 0 | L49: =ROUND(D49*G49,2) -> 0 | M49: =ROUND(D49*H49,2) -> 0 | N49: =ROUND(D49*I49,2) -> 0 | O49: =SUM(L49:N49) -> 0
A50: 27 | B50: Pakāpienus un lieveni pārklāt ar epoksīda pārklājumu ar šķembām, piemērotu āra apstākļiem. Ražotājs: Epoxy Floor vai analogs. | C50: m2 | D50: 3.2 | G50: =ROUND(E50*F50,2) -> 0 | J50: =SUM(G50:I50) -> 0 | K50: =ROUND(D50*E50,2) -> 0 | L50: =ROUND(D50*G50,2) -> 0 | M50: =ROUND(D50*H50,2) -> 0 | N50: =ROUND(D50*I50,2) -> 0 | O50: =SUM(L50:N50) -> 0
A51: 28 | B51: Lieveņa pie koka ārsienas pieslēguma vietā veikt ārsienas ārējās plaknes nosegšanu ar ruļļu tipa hidroizolācijas materiālu, kuram ir gaisa šķirkārta. | C51: m | D51: 0.9 | G51: =ROUND(E51*F51,2) -> 0 | J51: =SUM(G51:I51) -> 0 | K51: =ROUND(D51*E51,2) -> 0 | L51: =ROUND(D51*G51,2) -> 0 | M51: =ROUND(D51*H51,2) -> 0 | N51: =ROUND(D51*I51,2) -> 0 | O51: =SUM(L51:N51) -> 0
A52: Atbalsta sienu un kāpņu margas
A53: 29 | B53: Cinkota tērauda margas, krāsotas ar pulverkrāsojumu tonī RAL 7015/NCS S 7005-R80B | C53: m | D53: 49.7 | G53: =ROUND(E53*F53,2) -> 0 | J53: =SUM(G53:I53) -> 0 | K53: =ROUND(D53*E53,2) -> 0 | L53: =ROUND(D53*G53,2) -> 0 | M53: =ROUND(D53*H53,2) -> 0 | N53: =ROUND(D53*I53,2) -> 0 | O53: =SUM(L53:N53) -> 0
A54: Kopā | B54: =A2 -> Arhitektūras risinājumi (AR) | K54: =SUM(K53,K47:K51,K39:K44,K29:K36,K13:K26) -> 0 | L54: =SUM(L53,L47:L51,L39:L44,L29:L36,L13:L26) -> 0 | M54: =SUM(M53,M47:M51,M39:M44,M29:M36,M13:M26) -> 0 | N54: =SUM(N53,N47:N51,N39:N44,N29:N36,N13:N26) -> 0 | O54: =SUM(O53,O47:O51,O39:O44,O29:O36,O13:O26) -> 0
A55: Piezīmes:
B56: 1. Materiālu apjomi doti sablīvētā veidā.
B57: 2. Darbu daudzumu sarakstā minētos darbus veikt atbilstoši būvprojektam un Autoceļu būvdarbu specifikācijām ABS 2026.
B58: 3. Būvdarbu veicējam jāvērtē visi nepieciešamie darbi, materiāli, būvmašīnas un transports, bez kā nevarētu būt iespējama darba daudzumu sarakstā minēto darbu tehnoloģiski pareiza, Pasūtītāja prasībām atbilstoša izpilde pilnā apjomā.
B59: 4. Būvdarbu apjomus skatīt kopā rasējumiem, tehniskajiem risinājumiem, tehniskajām specifikācijām, skaidrojošo aprakstu un pielikumiem.
B60: 5. Izstrādājot piedāvājumu, būvdarbu veicējam rūpīgi pārskatīt projektu un apjomos jāiekļauj arī neuzrādītie darbi un materiāli, lai kvalitatīvi veiktu būvniecību atbilstoši konkrētā būvdarbu veicēja pielietotajai tehnoloģijai, un bez kuriem nebūtu iespējama būvdarbu tehnoloģiski pareiza un spēkā esošajiem normatīviem atbilstoša veikšana pilnā apjomā.
B61: 6. Šos darbu un materiālu apjomus skatīt kopā ar projekta dokumentāciju.
B62: 7. Materiālus ir iespējams nomainīt uz ekvivalentiem, ja būvdarbu veicējs uzņemas pilnu atbildību par nepieciešamo nestspējas un citu projektā ietverto rādītāju un parametru sasniegšanu.
B64: Sastādīja | C64: __________________ | M64: =N9 -> 0
C65: paraksts | F65: sertifikāta Nr. | M65: datums
B67: Pārbaudīja | C67: __________________ | M67: =M64 -> 0
C68: paraksts | F68: sertifikāta Nr. | M68: datums

Sheet Būvkonstrukcijas-BK
A1: Lokālā tāme Nr. 1-7
A2: Būvkonstrukcijas (BK)
A3: (Darba veids vai konstruktīvā elementa nosaukums)
A4: Būves nosaukums | C4: ='Kopsavilkuma aprēķins'!D2 -> VSIA "Strenču psihoneiroloģiskā slimnīca" galvenās iebrauktuves un uzņemšanas un observācijas nodaļas teritorijas labiekārtojums. 1.kārta
A5: Objekta nosaukums | C5: ='Kopsavilkuma aprēķins'!D3 -> VSIA "Strenču psihoneiroloģiskā slimnīca" galvenās iebrauktuves un uzņemšanas un observācijas nodaļas teritorijas labiekārtojums.1.kārta
A6: Objekta adrese | C6: ='Būvniecības koptāme'!D11 -> Valkas iela 11, Strenči, Valmieras novads, LV-4730
A7: Tāme sastādīta _________. gada tirgus cenās pamatojoties uz projekta risinājumiem un rasējumiem.
L8: Tāmes izmaksa | N8: =O33 -> 0
L9: Tāme sastādīta | N9: ='Kopsavilkuma aprēķins'!D7 -> 0
A10: Nr. p.k. | B10: Darbu apraksts vai materiālu nosaukums | E10: Vienības izmaksas | K10: Kopā uz visu apjomu
C11: Mērvienība | D11: Daudzums | E11: Laika norma (c/h) | F11: Darba samaksas likme (EUR/h) | G11: Darba alga (EUR) | H11: Būvizstrādājumi (EUR) | I11: Mehānismi (EUR) | J11: Kopā (EUR) | K11: Darbietilpība (c/h) | L11: Darba alga (EUR) | M11: Būvizstrādājumi (EUR) | N11: Mehānismi (EUR) | O11: Summa (EUR)
A12: BŪVKONSTRUKCIJAS
A13: Atbalstsienu izbūve
A14: 1 | B14: Mobilizācija un būvlaukuma ierīkošana | C14: kpl. | D14: 1 | G14: =ROUND(F14*E14,2) -> 0 | J14: =SUM(G14:I14) -> 0 | K14: =ROUND(D14*E14,1) -> 0 | L14: =ROUND(D14*G14,2) -> 0 | M14: =ROUND(D14*H14,2) -> 0 | N14: =ROUND(D14*I14,2) -> 0 | O14: =SUM(L14:N14) -> 0
A15: 2 | B15: Konstrukciju nospraušana un uzmērīšana | C15: kpl. | D15: 1 | G15: =ROUND(F15*E15,2) -> 0 | J15: =SUM(G15:I15) -> 0 | K15: =ROUND(D15*E15,1) -> 0 | L15: =ROUND(D15*G15,2) -> 0 | M15: =ROUND(D15*H15,2) -> 0 | N15: =ROUND(D15*I15,2) -> 0 | O15: =SUM(L15:N15) -> 0
A16: 3 | B16: Atbalstsienu izbūve atbilstoši rasējumam BK-A-03. Tai skaitā visi nepieciešamie darbi un palīgmateriāli. Tai skaitā veidņu montāža un demontāža | C16: kpl. | D16: 1 | G16: =ROUND(F16*E16,2) -> 0 | J16: =SUM(G16:I16) -> 0 | K16: =ROUND(D16*E16,1) -> 0 | L16: =ROUND(D16*G16,2) -> 0 | M16: =ROUND(D16*H16,2) -> 0 | N16: =ROUND(D16*I16,2) -> 0 | O16: =SUM(L16:N16) -> 0
A17: 4 | B17: Blietētu šķembu pamata slāņa izbūve, fr.20-45, hvid= 10 cm | C17: m3 | D17: 8.56 | G17: =ROUND(F17*E17,2) -> 0 | J17: =SUM(G17:I17) -> 0 | K17: =ROUND(D17*E17,1) -> 0 | L17: =ROUND(D17*G17,2) -> 0 | M17: =ROUND(D17*H17,2) -> 0 | N17: =ROUND(D17*I17,2) -> 0 | O17: =SUM(L17:N17) -> 0
A18: 5 | B18: Stiegrojums B500B, d8 | C18: kg | D18: 72.2 | G18: =ROUND(E18*F18,2) -> 0 | J18: =I18+H18+G18 -> 0 | K18: =ROUND(D18*E18,2) -> 0 | L18: =ROUND(D18*G18,2) -> 0 | M18: =ROUND(D18*H18,2) -> 0 | N18: =ROUND(D18*I18,2) -> 0 | O18: =N18+M18+L18 -> 0
A19: 6 | B19: Stiegrojums B500B, d12 | C19: kg | D19: 4182.9 | G19: =ROUND(E19*F19,2) -> 0 | J19: =I19+H19+G19 -> 0 | K19: =ROUND(D19*E19,2) -> 0 | L19: =ROUND(D19*G19,2) -> 0 | M19: =ROUND(D19*H19,2) -> 0 | N19: =ROUND(D19*I19,2) -> 0 | O19: =N19+M19+L19 -> 0
A20: 7 | B20: Stiegrojuma siets B500B, d12, S=200 | C20: kg | D20: 2352.6 | G20: =ROUND(E20*F20,2) -> 0 | J20: =I20+H20+G20 -> 0 | K20: =ROUND(D20*E20,2) -> 0 | L20: =ROUND(D20*G20,2) -> 0 | M20: =ROUND(D20*H20,2) -> 0 | N20: =ROUND(D20*I20,2) -> 0 | O20: =N20+M20+L20 -> 0
A21: 8 | B21: Betons C30/37, XC2, | C21: m3 | D21: 41.96 | G21: =ROUND(E21*F21,2) -> 0 | J21: =I21+H21+G21 -> 0 | K21: =ROUND(D21*E21,2) -> 0 | L21: =ROUND(D21*G21,2) -> 0 | M21: =ROUND(D21*H21,2) -> 0 | N21: =ROUND(D21*I21,2) -> 0 | O21: =N21+M21+L21 -> 0
A22: Jumta koka konstrukciju izbūve
A23: 9 | B23: Koka kolonnu izbūve atbilstoši rasējumam BK-A-04. Tai skaitā visi nepieciešamie darbi un materiāli | C23: kpl. | D23: 1 | G23: =ROUND(F23*E23,2) -> 0 | J23: =SUM(G23:I23) -> 0 | K23: =ROUND(D23*E23,1) -> 0 | L23: =ROUND(D23*G23,2) -> 0 | M23: =ROUND(D23*H23,2) -> 0 | N23: =ROUND(D23*I23,2) -> 0 | O23: =SUM(L23:N23) -> 0
A24: 10 | B24: Koka kolonna, C18, L= 2580mm, b=190mm, h=190mm | C24: gb | D24: 3 | G24: =ROUND(F24*E24,2) -> 0 | J24: =SUM(G24:I24) -> 0 | K24: =ROUND(D24*E24,1) -> 0 | L24: =ROUND(D24*G24,2) -> 0 | M24: =ROUND(D24*H24,2) -> 0 | N24: =ROUND(D24*I24,2) -> 0 | O24: =SUM(L24:N24) -> 0
A25: 11 | B25: Koka atgāžņu izbūve atbilstoši rasējumam BK-A-04. Tai skaitā visi nepieciešamie darbi un materiāli | C25: kpl. | D25: 1 | G25: =ROUND(F25*E25,2) -> 0 | J25: =SUM(G25:I25) -> 0 | K25: =ROUND(D25*E25,1) -> 0 | L25: =ROUND(D25*G25,2) -> 0 | M25: =ROUND(D25*H25,2) -> 0 | N25: =ROUND(D25*I25,2) -> 0 | O25: =SUM(L25:N25) -> 0
A26: 12 | B26: Koka atgāznis, C18, L= 1605mm, b=190mm, h=190mm | C26: gb | D26: 12 | G26: =ROUND(F26*E26,2) -> 0 | J26: =SUM(G26:I26) -> 0 | K26: =ROUND(D26*E26,1) -> 0 | L26: =ROUND(D26*G26,2) -> 0 | M26: =ROUND(D26*H26,2) -> 0 | N26: =ROUND(D26*I26,2) -> 0 | O26: =SUM(L26:N26) -> 0
A27: 13 | B27: Jumta koka siju un spāru izbūve atbilstoši rasējumam BK-A-05. Tai skaitā visi nepieciešamie darbi un materiāli | C27: kpl. | D27: 1 | G27: =ROUND(F27*E27,2) -> 0 | J27: =SUM(G27:I27) -> 0 | K27: =ROUND(D27*E27,1) -> 0 | L27: =ROUND(D27*G27,2) -> 0 | M27: =ROUND(D27*H27,2) -> 0 | N27: =ROUND(D27*I27,2) -> 0 | O27: =SUM(L27:N27) -> 0
A28: 14 | B28: Koka statnis, C18, L= 1075mm, b=140mm, h=70mm | C28: gb | D28: 2 | G28: =ROUND(F28*E28,2) -> 0 | J28: =SUM(G28:I28) -> 0 | K28: =ROUND(D28*E28,1) -> 0 | L28: =ROUND(D28*G28,2) -> 0 | M28: =ROUND(D28*H28,2) -> 0 | N28: =ROUND(D28*I28,2) -> 0 | O28: =SUM(L28:N28) -> 0
A29: 15 | B29: Koka sija, C18, L= 2236mm, b=70mm, h=140mm | C29: gb | D29: 1 | G29: =ROUND(F29*E29,2) -> 0 | J29: =SUM(G29:I29) -> 0 | K29: =ROUND(D29*E29,1) -> 0 | L29: =ROUND(D29*G29,2) -> 0 | M29: =ROUND(D29*H29,2) -> 0 | N29: =ROUND(D29*I29,2) -> 0 | O29: =SUM(L29:N29) -> 0
A30: 16 | B30: Koka sija, C18, L= 3337mm, b=60mm, h=140mm | C30: gb | D30: 4 | G30: =ROUND(F30*E30,2) -> 0 | J30: =SUM(G30:I30) -> 0 | K30: =ROUND(D30*E30,1) -> 0 | L30: =ROUND(D30*G30,2) -> 0 | M30: =ROUND(D30*H30,2) -> 0 | N30: =ROUND(D30*I30,2) -> 0 | O30: =SUM(L30:N30) -> 0
A31: 17 | B31: Koka sija, C18, L= 6675mm, b=190mm, h=190mm | C31: gb | D31: 1 | G31: =ROUND(F31*E31,2) -> 0 | J31: =SUM(G31:I31) -> 0 | K31: =ROUND(D31*E31,1) -> 0 | L31: =ROUND(D31*G31,2) -> 0 | M31: =ROUND(D31*H31,2) -> 0 | N31: =ROUND(D31*I31,2) -> 0 | O31: =SUM(L31:N31) -> 0
A32: 18 | B32: Koka spāre, C18, L= 2975mm, b=45mm, h=140mm | C32: gb | D32: 1 | G32: =ROUND(F32*E32,2) -> 0 | J32: =SUM(G32:I32) -> 0 | K32: =ROUND(D32*E32,1) -> 0 | L32: =ROUND(D32*G32,2) -> 0 | M32: =ROUND(D32*H32,2) -> 0 | N32: =ROUND(D32*I32,2) -> 0 | O32: =SUM(L32:N32) -> 0
A33: Kopā | B33: =A2 -> Būvkonstrukcijas (BK) | K33: =SUM(K23:K32,K14:K21) -> 0 | L33: =SUM(L23:L32,L14:L21) -> 0 | M33: =SUM(M23:M32,M14:M21) -> 0 | N33: =SUM(N23:N32,N14:N21) -> 0 | O33: =SUM(O23:O32,O14:O21) -> 0
A34: Piezīmes:
B35: 1. Materiālu apjomi doti sablīvētā veidā.
B36: 2. Darbu daudzumu sarakstā minētos darbus veikt atbilstoši būvprojektam un Autoceļu būvdarbu specifikācijām ABS 2026.
B37: 3. Būvdarbu veicējam jāvērtē visi nepieciešamie darbi, materiāli, būvmašīnas un transports, bez kā nevarētu būt iespējama darba daudzumu sarakstā minēto darbu tehnoloģiski pareiza, Pasūtītāja prasībām atbilstoša izpilde pilnā apjomā.
B38: 4. Būvdarbu apjomus skatīt kopā rasējumiem, tehniskajiem risinājumiem, tehniskajām specifikācijām, skaidrojošo aprakstu un pielikumiem.
B39: 5. Izstrādājot piedāvājumu, būvdarbu veicējam rūpīgi pārskatīt projektu un apjomos jāiekļauj arī neuzrādītie darbi un materiāli, lai kvalitatīvi veiktu būvniecību atbilstoši konkrētā būvdarbu veicēja pielietotajai tehnoloģijai, un bez kuriem nebūtu iespējama būvdarbu tehnoloģiski pareiza un spēkā esošajiem normatīviem atbilstoša veikšana pilnā apjomā.
B40: 6. Šos darbu un materiālu apjomus skatīt kopā ar projekta dokumentāciju.
B41: 7. Materiālus ir iespējams nomainīt uz ekvivalentiem, ja būvdarbu veicējs uzņemas pilnu atbildību par nepieciešamo nestspējas un citu projektā ietverto rādītāju un parametru sasniegšanu.
B43: Sastādīja | C43: __________________ | M43: =N9 -> 0
C44: paraksts | F44: sertifikāta Nr. | M44: datums
B46: Pārbaudīja | C46: __________________ | M46: =M43 -> 0
C47: paraksts | F47: sertifikāta Nr. | M47: datums
