Workbook
Name __xlnm.Print_Titles_10: #REF!
Name __xlnm.Print_Titles_10: #REF!
Name __xlnm.Print_Titles_10: #REF!
Name __xlnm.Print_Titles_10: #REF!
Name __xlnm.Print_Titles_10: #REF!
Name __xlnm.Print_Titles_10: #REF!
Name __xlnm.Print_Titles_10: #REF!
Name __xlnm.Print_Titles_10: #REF!
Name __xlnm.Print_Titles_11: #REF!
Name __xlnm.Print_Titles_11: #REF!
Name __xlnm.Print_Titles_11: #REF!
Name __xlnm.Print_Titles_11: #REF!
Name __xlnm.Print_Titles_11: #REF!
Name __xlnm.Print_Titles_11: #REF!
Name __xlnm.Print_Titles_11: #REF!
Name __xlnm.Print_Titles_11: #REF!
Name __xlnm.Print_Titles_4: #REF!
Name __xlnm.Print_Titles_4: #REF!
Name __xlnm.Print_Titles_4: #REF!
Name __xlnm.Print_Titles_4: #REF!
Name __xlnm.Print_Titles_4: #REF!
Name __xlnm.Print_Titles_4: #REF!
Name __xlnm.Print_Titles_4: #REF!
Name __xlnm.Print_Titles_4: #REF!
Name __xlnm.Print_Titles_5: #REF!
Name __xlnm.Print_Titles_5: #REF!
Name __xlnm.Print_Titles_5: #REF!
Name __xlnm.Print_Titles_5: #REF!
Name __xlnm.Print_Titles_5: #REF!
Name __xlnm.Print_Titles_5: #REF!
Name __xlnm.Print_Titles_5: #REF!
Name __xlnm.Print_Titles_5: #REF!
Name __xlnm.Print_Titles_6: Apzaļumošana!$12:$12
Name __xlnm.Print_Titles_6: ELT!$12:$12
Name __xlnm.Print_Titles_6: EST!$12:$12
Name __xlnm.Print_Titles_6: LKT!$12:$12
Name __xlnm.Print_Titles_6: 'Parka ceļi un laukumi'!$12:$12
Name __xlnm.Print_Titles_6: 'Pump Track'!$12:$12
Name __xlnm.Print_Titles_6: 'TS-L'!$12:$12
Name __xlnm.Print_Titles_6: #REF!
Name __xlnm.Print_Titles_7: #REF!
Name __xlnm.Print_Titles_7: #REF!
Name __xlnm.Print_Titles_7: #REF!
Name __xlnm.Print_Titles_7: #REF!
Name __xlnm.Print_Titles_7: #REF!
Name __xlnm.Print_Titles_7: #REF!
Name __xlnm.Print_Titles_7: #REF!
Name __xlnm.Print_Titles_7: #REF!
Name __xlnm.Print_Titles_8: #REF!
Name __xlnm.Print_Titles_8: #REF!
Name __xlnm.Print_Titles_8: #REF!
Name __xlnm.Print_Titles_8: #REF!
Name __xlnm.Print_Titles_8: #REF!
Name __xlnm.Print_Titles_8: #REF!
Name __xlnm.Print_Titles_8: #REF!
Name __xlnm.Print_Titles_8: #REF!
Name __xlnm.Print_Titles_9: #REF!
Name __xlnm.Print_Titles_9: #REF!
Name __xlnm.Print_Titles_9: #REF!
Name __xlnm.Print_Titles_9: #REF!

Sheet Buvniecibas koptame
A1: 8.pielikums
A2: Pretendenta nosaukums___________________
A5: Būvniecības koptāme
A8: Būves nosaukums | D8: Aktīvās atpūtas parks Piņķos, multifunkcionālas asfaltētas trases būvniecība
A9: Būves adrese | D9: Rīgas iela 2D, Piņķi, Babītes pagasts, Mārupes novads.
G11: Tāme sastādīta
A13: N. p. k | C13: Objekta nosaukums | H13: Objekta izmaksas (EUR)
A14: 1 | C14: =D8 -> Aktīvās atpūtas parks Piņķos, multifunkcionālas asfaltētas trases būvniecība
A16: Pavisam būvniecības izmaksas
A17: PVN | G17: 0.21
C18: Kopā
A24: Sastādīja | C24: _______________________
C25: paraksts | E25: paraksta atšifrējums
A28: Pārbaudīja | C28: ___________________
C29: paraksts | E29: paraksta atšifrējums

Sheet Pasutit_buvn
H1: Apstiprinu
H2: ___________________________________
H3: (pasūtītājs, paraksts un tā atšifrējums)
A7: Pasūtītāja būvniecības koptāme
A8: Jūras ielas rekonstrukcija (pārbūve) un autostāvvietu būvniecība Liepājā
A10: Būves nosaukums | D10: =A8 -> Jūras ielas rekonstrukcija (pārbūve) un autostāvvietu būvniecība Liepājā
A11: Būves adrese | D11: Jūras iela, Jūras iela 16, Jūras iela 18, Dzirnavu iela 3, Dzirnavu iela 6, Liepāja
A12: Pasūtījuma Nr. | D12: 3.7.5.2./9
G13: Tāme sastādīta | J13: =$I$37 -> 2015.01.04.
A15: N. p. k | C15: Objekta nosaukums | H15: Objekta izmaksas (EUR)
A16: 1 | C16: Ceļu daļas darbi | H16: =Kopsavilkums!#REF! -> #REF!
A17: =A16+1 -> 2 | C17: Inženierrisinājumu daļas darbi (LKT) | H17: =Kopsavilkums!#REF! -> #REF!
A18: =A17+1 -> 3 | C18: Inženierrisinājumu daļas darbi (ELT, apgaismojums) | H18: =Kopsavilkums!#REF! -> #REF!
A19: =A18+1 -> 4 | C19: Inženierrisinājumu daļas darbi (ELT, elektroapgāde) | H19: =Kopsavilkums!#REF! -> #REF!
C20: Kopā | H20: =H16+H17+H18+H19 -> #REF!
A21: Peļņa | G21: 0.025 | H21: =H20*G21 -> #REF!
A22: Virsizdevumi | G22: 0.05 | H22: =H20*G22 -> #REF!
A23: Darba devēja sociālais nodoklis | G23: 0.2359 | H23: =Kopsavilkums!#REF! -> #REF!
A24: Kopā | H24: =H20+H21+H22+H23 -> #REF!
A25: Finanšu rezerve neparedzētiem darbiem | G25: 0.05 | H25: =H24*G25 -> #REF!
A26: Kopā | H26: =H24+H25 -> #REF!
A27: PVN | G27: 0.21 | H27: =(H26)*G27 -> #REF!
C28: Pavisam būvniecības izmaksas | H28: =SUM(H26+H27) -> #REF!
A29: Ar būvniecību saistītie pārējie izdevumi
A30: Izpētes un projektēšanas darbi (ieskaitot PVN) | H30: =7043.22+0.21*7043.22 -> 8522.2962
A31: Būvprojekta ekspertīze (ieskaitot PVN) | H31: =1484+0.21*1484 -> 1795.64
A32: Būvuzraudzība | G32: 0.015 | H32: =H28*G32 -> #REF!
A33: Autoruzraudzība | G33: 0.01 | H33: =H28*G33 -> #REF!
A34: Kopā | H34: =H28+H32+H33+H31+H30 -> #REF!
A37: Sastādīja | C37: _______________ | E37: Reinis Martinsons | I37: 2015.01.04.
C38: paraksts | E38: paraksta atšifrējums | I38: datums
A41: Pārbaudīja | C41: _______________ | E41: Didzis Dāle | I41: 2015.01.04.
C42: paraksts | E42: sertifikāta Nr. 20-6923 | I42: datums
A45: Būvprojekta vadītājs | C45: _______________ | E45: Didzis Dāle | I45: 2015.01.04.
C46: paraksts | E46: sertifikāta Nr. 20-6923 | I46: datums

Sheet Kopsavilkums
A1: Kopsavilkuma aprēķins Nr. 1
A3: Būves nosaukums | D3: ='Buvniecibas koptame'!D8 -> Aktīvās atpūtas parks Piņķos, multifunkcionālas asfaltētas trases būvniecība
A4: Objekta nosaukums | D4: =D3 -> Aktīvās atpūtas parks Piņķos, multifunkcionālas asfaltētas trases būvniecība
A5: Objekta adrese | D5: ='Buvniecibas koptame'!D9 -> Rīgas iela 2D, Piņķi, Babītes pagasts, Mārupes novads.
A6: Par kopējo summu | D6: =#REF! -> #REF!
A7: Kopējā darbietilpība | D7: =K17 -> 0
A8: Tāme sastādīta
A9: Nr. p.k | B9: Kods, tāme Nr. | C9: Darba veids vai konstruktīvā elementa nosaukums | G9: Tāmes izmaksa EUR | H9: Darba alga EUR | I9: Būvizstrādājumi EUR | J9: Mehānismi EUR | K9: Darb-ietilpība c/h
B10: 1-1 | C10: ='Parka ceļi un laukumi'!A2 -> Parka ietves un laukumi
B11: 1-2 | C11: ='Pump Track'!A2 -> Multifunkcionāla asfalta velotrase | D11: =#REF! -> #REF! | E11: =#REF! -> #REF! | F11: =#REF! -> #REF!
B12: 1-3 | C12: ='TS-L'!A2 -> Labiekārtojuma elementi
B13: 1-4 | C13: =Apzaļumošana!A2 -> Apzaļumošana un apstādījumi
B14: 1-5 | C14: =ELT!A2 -> Elektropagāde, apgaismojums (ELT daļa)
B15: 1-6 | C15: =EST!A2 -> Videonovērošana (EST tīkli)
B16: 1-7 | C16: =LKT!A2 -> Lietus ūdens savākšana un novadīšana (LKT)
A17: Kopā
A21: Sastādīja | B21: Sastādīja | C21: _____________________________
C22: paraksts | E22: paraksta atšifrējums | I22: datums
A26: Pārbaudīja | B26: Pārbaudīja | C26: ______________________________
C27: paraksts | E27: paraksta atšifrējums | I27: datums

Sheet Parka ceļi un laukumi
A1: Lokālā tāme Nr. 1-1
A2: Parka ietves un laukumi
A3: (Darba veids vai konstruktīvā elementa nosaukums)
A5: Būves nosaukums | D5: ='Buvniecibas koptame'!D8 -> Aktīvās atpūtas parks Piņķos, multifunkcionālas asfaltētas trases būvniecība
A6: Objekta nosaukums | D6: =D5 -> Aktīvās atpūtas parks Piņķos, multifunkcionālas asfaltētas trases būvniecība
A7: Objekta adrese | D7: ='Buvniecibas koptame'!D9 -> Rīgas iela 2D, Piņķi, Babītes pagasts, Mārupes novads.
M9: Tāmes izmaksa | O9: =P43 -> 0
M10: Tāme sastādīta
A11: Nr. p.k. | B11: Kods | C11: Darbu apraksts vai materiālu nosaukums | D11: Mērvienība | E11: Daudzums | F11: Vienības izmaksas | L11: Kopā uz visu apjomu
F12: Laika norma (c/h) | G12: Darba samaksas likme (EUR/h) | H12: Darba alga (EUR) | I12: Būvizstrādajumi (EUR) | J12: Mehānismi (EUR) | K12: Kopā (EUR) | L12: Darbietilpība (c/h) | M12: Darba alga (EUR) | N12: Būvizstrādajumi (EUR) | O12: Mehānismi (EUR) | P12: Summa (EUR) | R12: `
A13: 1 | C13: 2 | D13: 3 | E13: 4 | F13: 5 | G13: 6 | H13: 7 | I13: 8 | J13: 9 | K13: 10 | L13: 11 | M13: 12 | N13: 13 | O13: 14 | P13: 15
C14: Dažādi darbi
A15: 1 | B15: L.c. | C15: Objekta galveno punktu uzmērīšana un nospraušana | D15: kpl | E15: 1
C16: Zemes klātne
A17: 2 | B17: L.c. | C17: Grunts virskārtas noņemšana vidēji 0.5m biezumā un zemes klātnes ierakuma būvniecība. Piezīme: Daļu no noņemtās grunts/augu zemes apjoma paredzēts novietot krautnē un izmantot atkārtoti - nogāzes piebēršanā, apzaļumošanai un nogāžu nostiprināšanai. Liekais noņemtās grunts/augu zemes apjoms, ko neizmanto atkārtoti 1. kārtas ietvaros jānovieto atbērtnē izmantošanai turpmākajās projekta kārtās vai jātransportē vai jānovieto Pasūtītāja norādītajā vietā. | D17: m3 | E17: 1800
A18: 3 | B18: L.c. | C18: Zemes klātnes uzbēruma būvniecība no atgūtā grunts materiāla Apjoms precizējams būvdarbu laikā. | D18: m3 | E18: 1000
A19: =A18+1 -> 4 | B19: L.c. | C19: Zemes klātnes uzbēruma būvniecība no pievesta "Autoceļu būvdarbu specifikācijas ABS 2023/3" noteiktajām prasībām atbilstoša materiāla (lielākais pieļaujamais organisko piejaukumu daudzums uzbēruma veidošanā izmantojamajai gruntij - 2% no masas) Piezīme: Veicamo darbu apjoms precizējams būvdarbu laikā. | D19: m3 | E19: 400
C20: Ar saistvielām nesaistītas konstruktīvās kārtas
C21: Betona bruģakmens ietves segums (B-1)
A22: =A19+1 -> 5 | B22: L.c. | C22: PRISMA 6 COMFORT vai ekvivalents - 100x200x60mm; krāsa: PELĒKS - seguma izbūve 6cm biezumā. Bruģa raksts: atbilstoši TS-L daļas rasējumiem TS-L-2 | D22: m2 | E22: 392.2
A23: =A22+1 -> 6 | B23: L.c. | C23: PRISMA 6 COMFORT vai ekvivalents - 100x200x60mm; krāsa: MELNS - seguma izbūve 6cm biezumā. Bruģa raksts: atbilstoši TS-L daļas rasējumiem TS-L-2 | D23: m2 | E23: 79.5
A24: =A23+1 -> 7 | B24: L.c. | C24: Prizma 6 Guideline Classic vai ekvivalents - 100x200x60mm; krāsa: PELĒKS - seguma izbūve 6cm biezumā. Bruģa raksts: atbilstoši TS-L daļas rasējumiem TS-L-2 | D24: m2 | E24: 28.5
A25: =A24+1 -> 8 | B25: L.c. | C25: Prizma 6 Tactile Classic vai ekvivalents - 100x200x60mm; krāsa: PELĒKS - seguma izbūve 6cm biezumā. Bruģa raksts: atbilstoši TS-L daļas rasējumiem TS-L-3 | D25: m2 | E25: 6.7
A26: =A25+1 -> 9 | B26: L.c. | C26: Minerālmateriālu atsija, h=30mm - kārtas izbūve | D26: m2 | E26: 506.9
A27: =A26+1 -> 10 | B27: L.c. | C27: Nesaistītu minerālmateriālu pamata nesošā kārta (fr. 0/45), h(vid)=150mm (N-III klase) - kārtas izbūve | D27: m2 | E27: 506.9
A28: =A27+1 -> 11 | B28: L.c. | C28: Drenējošā kārta (filtrācijas koeficients ir > 1.0 m/dnn), h=300 mm - nepastiprinātas salizturīgās kārtas izbūve | D28: m3 | E28: 155
C29: Betona bruģakmens ietves segums (B-2)
A30: =A28+1 -> 12 | B30: L.c. | C30: Šķelts granīta bruģakmens, 100x100x100mm (tumši pelēks) guldīts smilts izlīdzinošajā slānī h>100mm - kārtas izbūve Bruģa raksts: atbilstoši TS-L daļas rasējumiem TS-L-2 | D30: m2 | E30: 4.5
A31: =A30+1 -> 13 | B31: L.c. | C31: Nesaistītu minerālmateriālu pamata nesošā kārta (fr. 0/45), h(vid)=150mm (N-III klase) - kārtas izbūve | D31: m2 | E31: 4.5
A32: =A31+1 -> 14 | B32: L.c. | C32: Drenējošā kārta (filtrācijas koeficients ir > 1.0 m/dnn), h=300 mm - nepastiprinātas salizturīgās kārtas izbūve | D32: m3 | E32: 1.35
C33: Nesaistītu minerālmateriālu stāvvietas segums (N-1)
A34: =A32+1 -> 15 | B34: L.c. | C34: Nesaistītu minerālmateriālu maisījums (fr.0-45), h=200mm (N-III klase) - seguma kārtas izbūve | D34: m2 | E34: 340
A35: =A34+1 -> 16 | B35: L.c. | C35: Drenējošā kārta (filtrācijas koeficients ir > 1.0 m/dnn), h=300 mm - nepastiprinātas salizturīgās kārtas izbūve | D35: m3 | E35: 103
C36: Nesaistītu minerālmateriālu stāvvietas segums (N-2)
A37: =A35+1 -> 17 | B37: L.c. | C37: Nesaistītu minerālmateriālu maisījums (fr.0-16), h=200mm (N-III klase) - seguma kārtas izbūve | D37: m2 | E37: 58.9
A38: =A37+1 -> 18 | B38: L.c. | C38: Drenējošā kārta (filtrācijas koeficients ir > 1.0 m/dnn), h=300 mm - nepastiprinātas salizturīgās kārtas izbūve | D38: m3 | E38: 18
C39: Betona apmaļu pamata izbūve
A40: =A38+1 -> 19 | B40: L.c. | C40: Minerālmateriālu maisījuma pamata būvniecība ietves betona apmalēm (BA-1), fr. 0/45, biezums = 10cm (N-III klase) | D40: m2 | E40: 245
C41: Satiksmes aprīkojums
A42: =A40+1 -> 20 | B42: L.c. | C42: Ietves betona apmales (BA-1) uzstādīšana uz betona C30/37 pamata, izmērs 1000x200x80mm | D42: m | E42: 406
...

Sheet Pump Track
A1: Lokālā tāme Nr. 1-2
A2: Multifunkcionāla asfalta velotrase
A3: (Darba veids vai konstruktīvā elementa nosaukums)
A5: Būves nosaukums | D5: ='Buvniecibas koptame'!D8 -> Aktīvās atpūtas parks Piņķos, multifunkcionālas asfaltētas trases būvniecība
A6: Objekta nosaukums | D6: =D5 -> Aktīvās atpūtas parks Piņķos, multifunkcionālas asfaltētas trases būvniecība
A7: Objekta adrese | D7: ='Buvniecibas koptame'!D9 -> Rīgas iela 2D, Piņķi, Babītes pagasts, Mārupes novads.
M9: Tāmes izmaksa | O9: =P25 -> 0
M10: Tāme sastādīta
A11: Nr. p.k. | B11: Kods | C11: Darbu apraksts vai materiālu nosaukums | F11: Vienības izmaksas | L11: Kopā uz visu apjomu
D12: Mērvienība | E12: Daudzums | F12: Laika norma (c/h) | G12: Darba samaksas likme (EUR/h) | H12: Darba alga (EUR) | I12: Būvizstrādajumi (EUR) | J12: Mehānismi (EUR) | K12: Kopā (EUR) | L12: Darbietilpība (c/h) | M12: Darba alga (EUR) | N12: Būvizstrādajumi (EUR) | O12: Mehānismi (EUR) | P12: Summa (EUR) | R12: `
A13: 1 | B13: L.c. | C13: Drenējošā smilts kārta, h=300 mm - nepastiprinātas salizturīgās kārtas izbūve | D13: m3 | E13: 720
A14: =A13+1 -> 2 | B14: L.c. | C14: Gūlijas izbūve - Iestrādājama ACO Europoint gūlija ar Microgrip resti vai ekvivalents, DN110 vertikāls izvads. Paredzamā gūlija ir ar neslidīgu resti, rūpīgi iestrādāta asfalta segumā bez kantēm un izbīdījumiem | D14: kompl | E14: 1
A15: =A14+1 -> 3 | B15: L.c. | C15: Nesaistītu minerālmateriālu maisījums (fr.0-32;0-16) / smilts, h=100-1400mm - pamatreljefa izbūve | D15: m2 | E15: 1336.2
A16: =A15+1 -> 4 | B16: L.c. | C16: Nesaistītu minerālmateriālu maisījums (fr.0-32;0-16) / smilts | D16: t | E16: 2160.64
A17: =A16+1 -> 5 | B17: L.c. | C17: Nesaistītu minerālmateriālu maisījums (fr.0-32;0-16), h=150 mm - izbūve kārtai zem asfalta | D17: m2 | E17: 1085.42
A18: =A17+1 -> 6 | B18: L.c. | C18: Nesaistītu minerālmateriālu maisījums (fr.0-32;0-16) | D18: t | E18: 410.29
A19: =A18+1 -> 7 | B19: L.c. | C19: Karstā asfalta klāšana velotrasei (h=60-80mm), dotais apjoms ir mērīts plaknē, bet segumu izklājot nogāzēs jāierēķina apjoma palielinājuma koeficients atkarībā no nogāžu slīpuma | D19: m2 | E19: 775.3
A20: =A19+1 -> 8 | B20: L.c. | C20: Asfalts AC8Surf+ (pielāgots velotrasei) (A-1) | D20: t | E20: 130.25
A21: =A20+1 -> 9 | B21: L.c. | C21: Velotrases elements - "FLAT BOX FL" (1.13), kods 6.011 | D21: gab | E21: 1
A22: =A21+1 -> 10 | B22: L.c. | C22: Velotrases elements - "RAINBOW RTR RAIL" (1.12), kods 6.026 | D22: gab | E22: 1
A23: =A22+1 -> 11 | B23: L.c. | C23: Asfalta velotrases marķējuma līniju krāsošana ar asfaltam piemērotu, neslidīgu krāsu, tonis RAL 3020 (Traffic red), līniju platums 20cm | D23: m | E23: 92
K25: Tiešās izmaksas kopā, t. sk. darba devēja sociālais nodoklis (23.59%)
C29: Sastādīja | D29: _________________________
D30: paraksts | G30: paraksta atšifrējums | N30: datums
C34: Pārbaudīja | D34: _________________________
D35: paraksts | G35: paraksta atšifrējums | N35: datums

Sheet TS-L
A1: Lokālā tāme Nr. 1-3
A2: Labiekārtojuma elementi
A3: (Darba veids vai konstruktīvā elementa nosaukums)
A5: Būves nosaukums | D5: ='Buvniecibas koptame'!D8 -> Aktīvās atpūtas parks Piņķos, multifunkcionālas asfaltētas trases būvniecība
A6: Objekta nosaukums | D6: =D5 -> Aktīvās atpūtas parks Piņķos, multifunkcionālas asfaltētas trases būvniecība
A7: Objekta adrese | D7: ='Buvniecibas koptame'!D9 -> Rīgas iela 2D, Piņķi, Babītes pagasts, Mārupes novads.
M9: Tāmes izmaksa | O9: =P22 -> 0
M10: Tāme sastādīta
A11: Nr. p.k. | B11: Kods | C11: Darbu apraksts vai materiālu nosaukums | F11: Vienības izmaksas | L11: Kopā uz visu apjomu
D12: Mērvienība | E12: Daudzums | F12: Laika norma (c/h) | G12: Darba samaksas likme (EUR/h) | H12: Darba alga (EUR) | I12: Būvizstrādajumi (EUR) | J12: Mehānismi (EUR) | K12: Kopā (EUR) | L12: Darbietilpība (c/h) | M12: Darba alga (EUR) | N12: Būvizstrādajumi (EUR) | O12: Mehānismi (EUR) | P12: Summa (EUR) | R12: `
A13: 1 | B13: L.c. | C13: Betona bloku soli ar koka sēdvirsmu (1.16), ar piegādi un uzstādīšanu | D13: gab | E13: 3
A14: =A13+1 -> 2 | B14: L.c. | C14: Atpūtas sols (1.1), ar atzveltni un roku balstiem, ar piegādi un uzstādīšanu, ieskaitot betona pamatus stiprināšanai | D14: gab | E14: 6
A15: =A14+1 -> 3 | B15: L.c. | C15: Atkritumu tvertne (1.7), 3 daļīga ar šķirošanas funkciju, ar piegādi un uzstādīšanu, ieskaitot betona pamatus stiprināšanai | D15: gab | E15: 1
A16: =A15+1 -> 4 | B16: L.c. | C16: Informācijas zīme (1.9), ar informācijas plāksnes dizaina izstrādi, piegādi un uzstādīšanu, ieskaitot betona pamatus. (TIPS-1) | D16: gab | E16: 1
A17: =A16+1 -> 5 | B17: L.c. | C17: Informācijas zīme (1.10), ar informācijas plāksnes dizaina izstrādi, piegādi un uzstādīšanu, ieskaitot betona pamatus. (TIPS-2) | D17: gab | E17: 1
A18: =A17+1 -> 6 | B18: L.c. | C18: Stāvsols (1.6), ar piegādi un uzstādīšanu, ieskaitot betona pamatus stiprināšanai | D18: gab | E18: 2
A19: =A18+1 -> 7 | B19: L.c. | C19: Velosipēdu novietne (1.8), izgatavošana, piegāde un uzstādīšana, ieskaitot betona pamatus stiprināšanai | D19: gab | E19: 5
A20: =A19+1 -> 8 | B20: L.c. | C20: Betona pakāpienu bloks Profils Nr. 4 (1.11), l=1500mm, uzstādīšana, ieskaitot pamatnes sagatavošanu *Pirmajam un pēdējam pakāpienam uzkrāsojama konstrastējoša līnija | D20: gab | E20: 7
A21: =A20+1 -> 9 | B21: L.c. | C21: Āra biotualešu norobežojoša koka sēta ar saimniecības telpu (1.17), izgatavošana, piegāde un uzstādīšana | D21: gab | E21: 1
K22: Tiešās izmaksas kopā, t. sk. darba devēja sociālais nodoklis (23.59%)
C26: Sastādīja | D26: _________________________
D27: paraksts | G27: paraksta atšifrējums | N27: datums
C31: Pārbaudīja | D31: _________________________
D32: paraksts | G32: paraksta atšifrējums | N32: datums

Sheet Apzaļumošana
A1: Lokālā tāme Nr. 1-4
A2: Apzaļumošana un apstādījumi
A3: (Darba veids vai konstruktīvā elementa nosaukums)
A5: Būves nosaukums | D5: ='Buvniecibas koptame'!D8 -> Aktīvās atpūtas parks Piņķos, multifunkcionālas asfaltētas trases būvniecība
A6: Objekta nosaukums | D6: =D5 -> Aktīvās atpūtas parks Piņķos, multifunkcionālas asfaltētas trases būvniecība
A7: Objekta adrese | D7: ='Buvniecibas koptame'!D9 -> Rīgas iela 2D, Piņķi, Babītes pagasts, Mārupes novads.
M9: Tāmes izmaksa | O9: =P41 -> 0
M10: Tāme sastādīta
A11: Nr. p.k. | B11: Kods | C11: Darbu apraksts vai materiālu nosaukums | F11: Vienības izmaksas | L11: Kopā uz visu apjomu
D12: Mērvienība | E12: Daudzums | F12: Laika norma (c/h) | G12: Darba samaksas likme (EUR/h) | H12: Darba alga (EUR) | I12: Būvizstrādajumi (EUR) | J12: Mehānismi (EUR) | K12: Kopā (EUR) | L12: Darbietilpība (c/h) | M12: Darba alga (EUR) | N12: Būvizstrādajumi (EUR) | O12: Mehānismi (EUR) | P12: Summa (EUR) | R12: `
C13: Apstādījumi un koku apdobes
A14: 1 | B14: L.c. | C14: Dobju sagatavošana/rakšana, ~800mm dziļumā ar izraktās grunts izmantošanu apzaļumošanā vai izvešanu līdz 10km attālumam | D14: m3 | E14: 73.2
A15: =A14+1 -> 2 | B15: L.c. | C15: Auglīga melnzeme ziemcietēm (Z-1), h≥400mm; krūmiem h≥800mm; kokiem h≥1000mm - iestrāde | D15: m3 | E15: 73.2
A16: =A15+1 -> 3 | B16: L.c. | C16: Priežu mizu mulča (Z-1), smalkā maluma (fr. 0.5/7mm) h=50mm ziemcietēm un graudzālēm; vidējā maluma (fr. 7/30mm) h=70mm krūmiem; vidējā maluma (fr. 7/30mm) h=100mm koku apdobēm | D16: m2 | E16: 91.5
A17: =A16+1 -> 4 | B17: L.c. | C17: Koka stumbru balstu ierīkošana atbilstoši "Koku stādīšanas shēmai" lapā TS-L-6 | D17: kompl | E17: 8
C18: Lietus ūdens svākšanas sistēma
A19: =A17+1 -> 5 | B19: L.c. | C19: Oļu infiltrācijas ievalkas ( Z-5) - izbūve | D19: m2 | E19: 52.4
C20: Stādi
A21: =A19+1 -> 6 | B21: L.c. | C21: Alnus glutinosa 'Imperialis' | D21: gab | E21: 3
A22: =A21+1 -> 7 | B22: L.c. | C22: Betula pendula 'Golden Cloud' | D22: gab | E22: 1
A23: =A22+1 -> 8 | B23: L.c. | C23: Betula utilis var. jacquemontii 'Doorenbos' | D23: gab | E23: 2
A24: =A23+1 -> 9 | B24: L.c. | C24: Cotoneaster lucidus | D24: gab | E24: 4
A25: =A24+1 -> 10 | B25: L.c. | C25: Fagus sylvatica | D25: gab | E25: 1
A26: =A25+1 -> 11 | B26: L.c. | C26: Padus maackii | D26: gab | E26: 1
A27: =A26+1 -> 12 | B27: L.c. | C27: Physocarpus opulifolius 'Nugget' | D27: gab | E27: 2
A28: =A27+1 -> 13 | B28: L.c. | C28: Spiraea japonica 'Albiflora' | D28: gab | E28: 13
A29: =A28+1 -> 14 | B29: L.c. | C29: Spiraea japonica 'Neon Flash' | D29: gab | E29: 24
A30: =A29+1 -> 15 | B30: L.c. | C30: Achillea millefolium 'Safran' | D30: gab | E30: 24
A31: =A30+1 -> 16 | B31: L.c. | C31: Amsonia hubrichtii | D31: gab | E31: 10
A32: =A31+1 -> 17 | B32: L.c. | C32: Salvia x superba 'Schneehügel'' | D32: gab | E32: 6
A33: =A32+1 -> 18 | B33: L.c. | C33: Calamagrostis x acutiflora 'Karl Foerster' | D33: gab | E33: 11
... A35: =A34+1 -> 20 | B35: L.c. | C35: Sesleria atumnalis | D35: gab | E35: 14
C36: Zāliens
A37: =A35+1 -> 21 | B37: L.c. | C37: Atjaunojams (sēts) zāliens (Z-2) - Iestrādāta melnzeme, h=100mm, apsēta ar daudzgadīga zāliena sēklām, ar auglīgas melnzemes pievešanu | D37: m2 | E37: 867.3
A38: =A37+1 -> 22 | B38: L.c. | C38: Atjaunojams zāliens ap asfalta velotrasi nogāzēs (Z-4) - Iestrādāta melnzeme, h=100mm, Paklājzāliens "Easygreen" vai ekvivalents , izmantojot atgūto vai pievesto augsni. *rēķinot paklājzāliena apjomu nogāzēs, jāņem vērā, ka dotais apjoms ir mērīts plaknē, bet paklājzālienu izklājot nogāzēs jāierēķina apjoma palielinājuma koeficients atkarībā no nogāžu slīpuma | D38: m2 | E38: 560.9
A39: =A38+1 -> 23 | B39: L.c. | C39: Atjaunojams zāliens ap asfalta velotrasi plaknēs (Z-3) - Iestrādāta melnzeme, h=100mm, Paklājzāliens "Easygreen" vai ekvivalents , izmantojot atgūto vai pievesto augsni | D39: m2 | E39: 588.6
K41: Tiešās izmaksas kopā, t. sk. darba devēja sociālais nodoklis (23.59%)
C45: Sastādīja | D45: _________________________
D46: paraksts | G46: paraksta atšifrējums | N46: datums
C50: Pārbaudīja | D50: _________________________
...

Sheet ELT
A1: Lokālā tāme Nr. 1-5
A2: Elektropagāde, apgaismojums (ELT daļa)
A3: (Darba veids vai konstruktīvā elementa nosaukums)
A5: Būves nosaukums | D5: ='Buvniecibas koptame'!D8 -> Aktīvās atpūtas parks Piņķos, multifunkcionālas asfaltētas trases būvniecība
A6: Objekta nosaukums | D6: =D5 -> Aktīvās atpūtas parks Piņķos, multifunkcionālas asfaltētas trases būvniecība
A7: Objekta adrese | D7: ='Buvniecibas koptame'!D9 -> Rīgas iela 2D, Piņķi, Babītes pagasts, Mārupes novads.
M9: Tāmes izmaksa | O9: =P58 -> 0
M10: Tāme sastādīta
A11: Nr. p.k. | B11: Kods | C11: Darbu apraksts vai materiālu nosaukums | D11: Mērvienība | E11: Daudzums | F11: Vienības izmaksas | L11: Kopā uz visu apjomu
F12: Laika norma (c/h) | G12: Darba samaksas likme (EUR/h) | H12: Darba alga (EUR) | I12: Būvizstrādajumi (EUR) | J12: Mehānismi (EUR) | K12: Kopā (EUR) | L12: Darbietilpība (c/h) | M12: Darba alga (EUR) | N12: Būvizstrādajumi (EUR) | O12: Mehānismi (EUR) | P12: Summa (EUR) | R12: `
C14: Materiālu izmaksas
A15: 1 | B15: L.c. | C15: El.sadalnes skapis GS-1 | D15: gb | E15: 1
A16: =A15+1 -> 2 | B16: L.c. | C16: El.sadalnes skapis SS-1 | D16: gb | E16: 1
A17: =A16+1 -> 3 | B17: L.c. | C17: BDP265 LED90-4S/740 PSD-SR DX50 DGR SL-P | D17: gb | E17: 5
A18: =A17+1 -> 4 | B18: L.c. | C18: BDP265 LED59-4S/740 PSD-SR DM12 DGR SL-P | D18: gb | E18: 5
A19: =A18+1 -> 5 | B19: L.c. | C19: BVP655 LED200-4S/740 PSD-SR A55-WB ALU N | D19: gb | E19: 20
A20: =A19+1 -> 6 | B20: L.c. | C20: Kabelis NYY-J-5x6 | D20: m | E20: 320
A21: =A20+1 -> 7 | B21: L.c. | C21: Kabelis NYY-J-5x2.5 | D21: m | E21: 65
A22: =A21+1 -> 8 | B22: L.c. | C22: Kabelis NYY-J-3x1.5 | D22: m | E22: 290
A23: =A22+1 -> 9 | B23: L.c. | C23: Ielas stabs 10.5m (10m virs zemes) cinkots, konisks | D23: gb | E23: 13
A24: =A23+1 -> 10 | B24: L.c. | C24: Ielas stabs 6.5m (6m virs zemes) cinkots, konisks | D24: gb | E24: 5
A25: =A24+1 -> 11 | B25: L.c. | C25: Ielas stabs 4.5m (4m virs zemes) cinkots, konisks | D25: gb | E25: 5
A26: =A25+1 -> 12 | B26: L.c. | C26: Betona pamats10m augstiem stabiem 380kg DBP-13 | D26: gb | E26: 13
A27: =A26+1 -> 13 | B27: L.c. | C27: Betona pamats 6m augstiem stabiem 122kg P-1 | D27: gb | E27: 5
... A39: =A38+1 -> 25 | B39: L.c. | C39: Ēkas pamatnes hermatizācijas materiāls | D39: kpl | E39: 1
C41: Darbu izmaksas
A42: =A39+1 -> 26 | B42: L.c. | C42: Tranšejas rakšana un aizbēršana 1 līdz 2 kabeļu (caurules) | D42: m | E42: 250
A43: =A42+1 -> 27 | B43: L.c. | C43: Tranšejas rakšana un aizbēršana 3 līdz 5 kabeļu (caurules) | D43: m | E43: 50
A44: =A43+1 -> 28 | B44: L.c. | C44: Kabeļu un aizsargcaurules ieguldīšana gatavā tranšejā | D44: m | E44: 420
A45: =A44+1 -> 29 | B45: L.c. | C45: Caurules montāža ēkas pamatos, sienā | D45: kpl | E45: 1
A46: =A45+1 -> 30 | B46: L.c. | C46: Ēkas kabeļu ievada blīvēšana | D46: kpl | E46: 1
A47: =A46+1 -> 31 | B47: L.c. | C47: Kabeļa ievēršana caurulē | D47: m | E47: 140
A48: =A47+1 -> 32 | B48: L.c. | C48: Kabeļsignāllentas ieguldīšāna | D48: m | E48: 300
A49: =A48+1 -> 33 | B49: L.c. | C49: Bedres rakšana apgaismojuma balstam | D49: gb | E49: 23
A50: =A49+1 -> 34 | B50: L.c. | C50: Apgaismojuma balsta pamata un balsta montāža | D50: gb | E50: 23
A51: =A50+1 -> 35 | B51: L.c. | C51: Citylight sistēmas savienošana un palaišana | D51: kpl | E51: 1
A52: =A51+1 -> 36 | B52: L.c. | C52: Gaismekļa montāža uz balsta | D52: gb | E52: 30
A53: =A52+1 -> 37 | B53: L.c. | C53: Automātslēdžu montāža apgaismojuma balstā | D53: gb | E53: 30
A54: =A53+1 -> 38 | B54: L.c. | C54: ZS kabeļa montāža apgaismojuma balstā | D54: m | E54: 250
... A56: =A55+1 -> 40 | B56: L.c. | C56: Iekārtu un kabeļu marķēšana | D56: kpl | E56: 1
...

Sheet EST
A1: Lokālā tāme Nr. 1-6
A2: Videonovērošana (EST tīkli)
A3: (Darba veids vai konstruktīvā elementa nosaukums)
A5: Būves nosaukums | D5: ='Buvniecibas koptame'!D8 -> Aktīvās atpūtas parks Piņķos, multifunkcionālas asfaltētas trases būvniecība
A6: Objekta nosaukums | D6: =D5 -> Aktīvās atpūtas parks Piņķos, multifunkcionālas asfaltētas trases būvniecība
A7: Objekta adrese | D7: ='Buvniecibas koptame'!D9 -> Rīgas iela 2D, Piņķi, Babītes pagasts, Mārupes novads.
M9: Tāmes izmaksa | O9: =P61 -> 0
M10: Tāme sastādīta
A11: Nr. p.k. | B11: Kods | C11: Darbu apraksts vai materiālu nosaukums | D11: Mērvienība | E11: Daudzums | F11: Vienības izmaksas | L11: Kopā uz visu apjomu
F12: Laika norma (c/h) | G12: Darba samaksas likme (EUR/h) | H12: Darba alga (EUR) | I12: Būvizstrādajumi (EUR) | J12: Mehānismi (EUR) | K12: Kopā (EUR) | L12: Darbietilpība (c/h) | M12: Darba alga (EUR) | N12: Būvizstrādajumi (EUR) | O12: Mehānismi (EUR) | P12: Summa (EUR)
C14: Darbu izmaksas
A15: 1 | B15: L.c. | C15: Tranšejas rakšana un aizbēršana viena līdz divu caurules gūldīšanai 0.7m dziļumā | D15: m | E15: 205
A16: =A15+1 -> 2 | B16: L.c. | C16: Kabeļu aizsargcaurules d=līdz 110 mm ieguldīšana gatavā tranšejā | D16: m | E16: 205
A17: =A16+1 -> 3 | B17: L.c. | C17: Kabeļa ievēršana proj. caurulē līdz 3 kabeļiem | D17: m | E17: 230
A18: =A17+1 -> 4 | B18: L.c. | C18: Signāllentas ieklāšana | D18: m | E18: 205
A19: =A18+1 -> 5 | B19: L.c. | C19: Bedres rakšana un aizbēršana kanalizācijas lūkai | D19: gb | E19: 6
A20: =A19+1 -> 6 | B20: L.c. | C20: Kabeļu akas PEH 906/800mm H800mm uzstādīšana | D20: gb | E20: 6
A21: =A20+1 -> 7 | B21: L.c. | C21: Proj. komutācijas skapja KS1, 15U, 19" 600x600 uzstādīšana saimniecības telpā | D21: gb | E21: 1
A22: =A21+1 -> 8 | B22: L.c. | C22: Komutācijas skapja savienošana | D22: objekts | E22: 1
A23: =A22+1 -> 9 | B23: L.c. | C23: Kameru uzstādīšana stabos | D23: gb | E23: 6
A24: =A23+1 -> 10 | B24: L.c. | C24: Sistēmas iestātījumi / palaišanas darbi | D24: kpl | E24: 1
A25: =A24+1 -> 11 | B25: L.c. | C25: Kabeļu testēšana, marķējums | D25: kpl | E25: 1
A26: =A25+1 -> 12 | B26: L.c. | C26: Rakšanas darbu organizēšana | D26: objekts | E26: 1
A27: =A26+1 -> 13 | B27: L.c. | C27: Izpilddokumentācijas sagatavošana | D27: kpl | E27: 1
C29: Materiālu izmaksas
A30: =A27+1 -> 14 | B30: L.c. | C30: Kabeļu kanalizācijas caurule Ø110, 750N, komplektā ar savienošanas uzmavu | D30: m | E30: 180
A31: =A30+1 -> 15 | B31: L.c. | C31: Kabeļu kanalizācijas caurule Ø50, 750N , gofrēta | D31: m | E31: 50
A32: =A31+1 -> 16 | B32: L.c. | C32: Signāllenta kabeļlīnijai, platums 80 mm | D32: m | E32: 210
A33: =A32+1 -> 17 | B33: L.c. | C33: Kabeļu aka KP-PEH 906/800mm H800mm (12t) ar pamatni | D33: kpl | E33: 6
A34: =A33+1 -> 18 | B34: L.c. | C34: DN 610/750 Stacionāra tipa vāks ar betonu, B125 | D34: gb | E34: 6
A35: =A34+1 -> 19 | B35: L.c. | C35: Kabeļu akas dzelzbetona riņķis | D35: gb | E35: 6
A36: =A35+1 -> 20 | B36: L.c. | C36: Kabeļu cauruļu blīvēšanas materiāls Silikons N, neitrāls | D36: gb | E36: 6
A37: =A36+1 -> 21 | B37: L.c. | C37: Proj. komutācijas skapis KS1, 15U, 19" 600x600 | D37: kpl | E37: 1
A38: =A37+1 -> 22 | B38: L.c. | C38: Telekomunikācijas skapja palīgmatreriāli | D38: kpl | E38: 1
A39: =A38+1 -> 23 | B39: L.c. | C39: Četru ventilātoru bloks sadales skapim, ar 4 ventilātoriem | D39: kpl | E39: 1
A40: =A39+1 -> 24 | B40: L.c. | C40: Zemējuma komplekts | D40: kpl | E40: 1
A41: =A40+1 -> 25 | B41: L.c. | C41: Elektronisko sakaru sistēmas skapja rozešu bloks ar 8 pieslēguma vietām, tipa "Schuko" | D41: kpl | E41: 1
A42: =A41+1 -> 26 | B42: L.c. | C42: Opt.komutācijas panelis 12SM duplex, 1U, 19" | D42: gb | E42: 1
... A58: =A57+1 -> 42 | B58: L.c. | C58: PVC aizsargcaurule d50mm, UV ar buksieri un stiprinājumiem, EVOPIPES | D58: m | E58: 5
A59: =A58+1 -> 43 | B59: L.c. | C59: Komutācijas vadi | D59: kpl | E59: 1
...

Sheet LKT
A1: Lokālā tāme Nr. 1-7
A2: Lietus ūdens savākšana un novadīšana (LKT)
A3: (Darba veids vai konstruktīvā elementa nosaukums)
A5: Būves nosaukums | D5: ='Buvniecibas koptame'!D8 -> Aktīvās atpūtas parks Piņķos, multifunkcionālas asfaltētas trases būvniecība
A6: Objekta nosaukums | D6: =D5 -> Aktīvās atpūtas parks Piņķos, multifunkcionālas asfaltētas trases būvniecība
A7: Objekta adrese | D7: ='Buvniecibas koptame'!D9 -> Rīgas iela 2D, Piņķi, Babītes pagasts, Mārupes novads.
M9: Tāmes izmaksa | O9: =P21 -> 0
M10: Tāme sastādīta
A11: Nr. p.k. | B11: Kods | C11: Darbu apraksts vai materiālu nosaukums | D11: Mērvienība | E11: Daudzums | F11: Vienības izmaksas | L11: Kopā uz visu apjomu
F12: Laika norma (c/h) | G12: Darba samaksas likme (EUR/h) | H12: Darba alga (EUR) | I12: Būvizstrādajumi (EUR) | J12: Mehānismi (EUR) | K12: Kopā (EUR) | L12: Darbietilpība (c/h) | M12: Darba alga (EUR) | N12: Būvizstrādajumi (EUR) | O12: Mehānismi (EUR) | P12: Summa (EUR) | R12: `
C13: LKT
A15: 1 | B15: L.c. | C15: Tranšejas rakšana dziļumā līdz 1,5m, drenāžas caurules guldīšana tranšejā un aizbēršana ar blietēšānu | D15: m | E15: 68
A16: =A15+1 -> 2 | B16: L.c. | C16: Tranšejas rakšana dziļumā līdz 3m, drenāžas caurules guldīšana tranšejā un aizbēršana ar blietēšānu | D16: m | E16: 23
A17: =A16+1 -> 3 | B17: L.c. | C17: PVC lietus ūdens kanalizācijas caurule ar kokosa filtru, ∅ 110mm | D17: m | E17: 91
A18: =A17+1 -> 4 | B18: L.c. | C18: PE skatakas D630 dziļumā 3m piegāde un montāža | D18: gab | E18: 1
A19: =A18+1 -> 5 | B19: L.c. | C19: Drenāžas caurules izvada grāvī stiprināšana, nogāze stiprināma ar laukakmens krāvumu vismaz 4m² (fr 100-250) cementbetona Havek C25 javā ar mūrējuma biezumu h≥100mm un skalotiem oļiem (fr. 40-100) h=150-200mm, laukums vismaz 4m² | D19: m2 | E19: 4.6
A20: 6 | B20: L.c. | C20: Esošo meliorācijas cauruļu galu aiztaisīšana, caurules paredzēt sadalīt gabalos, lai tās vairs nefunkcionētu. | D20: gab | E20: 5
K21: Tiešās izmaksas kopā, t. sk. darba devēja sociālais nodoklis (23.59%)
C25: Sastādīja | D25: _________________________
D26: paraksts | G26: paraksta atšifrējums | N26: datums
C30: Pārbaudīja | D30: _________________________
D31: paraksts | G31: paraksta atšifrējums | N31: datums
