Workbook

Sheet Darba efektivitāte
G1: 4.pielikums
A3: “Telpu uzkopšanas pakalpojumu nodrošināšana Cēsu novada Priekuļu apvienības pārvaldes ēkās”, Iepirkuma identifikācijas Nr. CN PAP/2026/15
A4: Telpu pamatuzkopšanas pakalpojuma darba efektivitāte objektos saskaņā ar Pasūtītāja noteikto uzkopšanas programmu
C5: Forma Nr.1
A7: Objekts | B7: Telpu pielietojums objektos | C7: Telpu uzkopjamās platības objektos (m2) (Pasūtītāja noteikti dati) | D7: Telpu pamat-uzkopšanas reizes nedēļā (Pasūtītāja noteikti dati) | E7: Plānotā uzkopšanas efektivitāte, m2/h (Aizpilda Pretendents) | F7: Darba stundas kopā mēnesī noteikto platību pamatuzkopšanai (Aizpildās automātiski) | G7: Pretendenta faktiskais darbinieku skaits noteikto platību uzkopšanai objektos (Aizpilda Pretendents)
A8: 1 | B8: 2 | C8: 3 | D8: 4 | E8: 5 | F8: 6 | G8: 7
A9: Cēsu prospekts 5, Priekuļi | B9: Biroja telpas I: standarta darba kabineti/ biroja telpas | C9: 247 | D9: 2 | F9: =D9*(C9/E9)*52/12 -> #DIV/0! | G9: 0
B10: Sanitārās telpas un atpūtas telpas/virtuves | C10: 38.6 | D10: 5 | F10: =D10*(C10/E10)*52/12 -> #DIV/0!
B11: Apspriežu telpas, konferenču telpas zāles | C11: 98.1 | D11: 1 | F11: =D11*(C11/E11)*52/12 -> #DIV/0!
B12: Kāpņu telpas, gaiteņi, koplietošanas telpas | C12: 224 | D12: 5 | F12: =D12*(C12/E12)*52/12 -> #DIV/0!
B13: Kopā: | C13: =SUM(C9:C12) -> 607.7 | F13: =SUM(F9:F12) -> #DIV/0!
A14: Cēsu prospekts 1, Priekuļi | B14: Sanitārās telpas un atpūtas telpas/virtuves | C14: 96.4 | D14: 5 | F14: =D14*(C14/E14)*52/12 -> #DIV/0! | G14: 0
B15: Kāpņu telpas, gaiteņi, koplietošanas telpas | C15: 463.2 | D15: 5 | F15: =D15*(C15/E15)*52/12 -> #DIV/0!
B16: Biroja telpas II: intensīvi lietoti darba kabineti un citas darba telpas | C16: 317.6 | D16: 5 | F16: =D16*(C16/E16)*52/12 -> #DIV/0!
B17: Mākslu skolas darba kabineti, zāles un nodarbību telpas | C17: 351.1 | D17: 5 | F17: =D17*(C17/E17)*52/12 -> #DIV/0!
B18: Kopā: | C18: =SUM(C14:C17) -> 1228.3 | F18: =SUM(F14:F17) -> #DIV/0!
A19: Raiņa iela 8, Priekuļi | B19: Biroja telpas I: standarta darba kabineti/ biroja telpas | C19: 66 | D19: 2 | F19: =D19*(C19/E19)*52/12 -> #DIV/0! | G19: 0
B20: Sanitārās telpas un atpūtas telpas/virtuves | C20: 76.5 | D20: 5 | F20: =D20*(C20/E20)*52/12 -> #DIV/0!
B21: Apspriežu telpas, konferenču telpas zāles | C21: 96 | D21: 1 | F21: =D21*(C21/E21)*52/12 -> #DIV/0!
B22: Kāpņu telpas, gaiteņi, koplietošanas telpas | C22: 573.8 | D22: 5 | F22: =D22*(C22/E22)*52/12 -> #DIV/0!
B23: Biroja telpas II: intensīvi lietoti darba kabineti un citas darba telpas | C23: 232.9 | D23: 5 | F23: =D23*(C23/E23)*52/12 -> #DIV/0!
B24: Kopā: | C24: =SUM(C19:C23) -> 1045.2 | F24: =SUM(F19:F23) -> #DIV/0!
A25: Dārza iela 11B, Priekuļi | B25: Biroja telpas I: standarta darba kabineti/ biroja telpas | C25: 69.9 | D25: 2 | F25: =D25*(C25/E25)*52/12 -> #DIV/0! | G25: 0
B26: Sanitārās telpas un atpūtas telpas/virtuves | C26: 3.8 | D26: 2 | F26: =D26*(C26/E26)*52/12 -> #DIV/0!
B27: Ģērbtuve | C27: 15.8 | D27: 2 | F27: =D27*(C27/E27)*52/12 -> #DIV/0!
B28: Kopā: | C28: =SUM(C25:C27) -> 89.5 | F28: =SUM(F25:F27) -> #DIV/0!
A29: Rūpnīcas iela 8, Liepa | B29: Biroja telpas I: standarta darba kabineti/ biroja telpas | C29: 92.4 | D29: 2 | F29: =D29*(C29/E29)*52/12 -> #DIV/0! | G29: 0
B30: Sanitārās telpas un atpūtas telpas/virtuves | C30: 51.1 | D30: 5 | F30: =D30*(C30/E30)*52/12 -> #DIV/0!
B31: Kāpņu telpas, gaiteņi, koplietošanas telpas | C31: 105.2 | D31: 5 | F31: =D31*(C31/E31)*52/12 -> #DIV/0!
B32: Biroja telpas II: intensīvi lietoti darba kabineti un citas darba telpas | C32: 95 | D32: 5 | F32: =D32*(C32/E32)*52/12 -> #DIV/0!
B33: Mākslu skolas darba kabineti, zāles un nodarbību telpas | C33: 114.7 | D33: 5 | F33: =D33*(C33/E33)*52/12 -> #DIV/0!
B34: Kopā: | C34: =SUM(C29:C33) -> 458.4 | F34: =SUM(F29:F33) -> #DIV/0!
A35: Rūpnīcas iela 18, Liepa | B35: Biroja telpas I: standarta darba kabineti/ biroja telpas | C35: 165.1 | D35: 2 | F35: =D35*(C35/E35)*52/12 -> #DIV/0! | G35: 0
B36: Sanitārās telpas un atpūtas telpas/virtuves | C36: 9 | D36: 5 | F36: =D36*(C36/E36)*52/12 -> #DIV/0!
B37: Apspriežu telpas, konferenču telpas zāles | C37: 51.9 | D37: 1 | F37: =D37*(C37/E37)*52/12 -> #DIV/0!
B38: Kāpņu telpas, gaiteņi, koplietošanas telpas | C38: 83.2 | D38: 5 | F38: =D38*(C38/E38)*52/12 -> #DIV/0!
B39: Biroja telpas II: intensīvi lietoti darba kabineti un citas darba telpas | C39: 26.7 | D39: 5 | F39: =D39*(C39/E39)*52/12 -> #DIV/0!
B40: Kopā: | C40: =SUM(C35:C39) -> 335.9 | F40: =SUM(F35:F39) -> #DIV/0!
A41: “Pagastnams”, Mārsnēnu pagasts | B41: Biroja telpas I: standarta darba kabineti/ biroja telpas | C41: 97.3 | D41: 2 | F41: =D41*(C41/E41)*52/12 -> #DIV/0! | G41: 0
B42: Sanitārās telpas un atpūtas telpas/virtuves | C42: 5.9 | D42: 5 | F42: =D42*(C42/E42)*52/12 -> #DIV/0!
...

Sheet Pakalp(h)_Darbn.likmes veidi
P1: 4.pielikums
A2: “Telpu uzkopšanas pakalpojumu nodrošināšana Cēsu novada Priekuļu apvienības pārvaldes ēkās”, Iepirkuma identifikācijas Nr. CN PAP/2026/15
A3: Pakalpojuma izpildei prognozējamās stundas un iesaistīto darbinieku prognozējamais* daudzums un atalgojums
H4: Forma Nr.2
A5: (Izvērsta forma - darbinieku atalgojums)
A6: Pretendents aizpilda tabulu, norādot plānoto darbinieku kopējo skaitu, lai nodrošinātu pakalpojuma izpildi
A8: Pretendenta noteiktais slimības naudas uzkrājums, %: | J8: 0
A9: Objekts | B9: Nr. | C9: Amats | D9: Stundas likme (bruto) EUR/h | E9: Darba stundas mēnesī, h (vienam cilvēkam) | F9: Cilvēku skaits | G9: Stundu skaits kopā (aizpildās automātiski) | H9: Darbinieka atalgojums | O9: Darbinieka izmaksas
H10: Darba alga (vienam darbiniekam) (bruto) | I10: Uzkrājums atvaļinājumam (1/12 daļa) (vienam darbiniekam) | J10: Noteiktais slimības naudas uzkrājums vienam darbiniekam | K10: Atalgojums vienam darbiniekam (bruto) | L10: Darba devēja soc.nodoklis | M10: Darba devēja soc.nodoklis vienam darbiniekam | N10: Riska nodeva vienam darbiniekam
H11: Mēnesī (EUR) | I11: Mēnesī (EUR) | J11: Mēnesī (EUR) | K11: Mēnesī kopā (EUR) | L11: % | M11: Aizpildās automātiski (EUR) | N11: Mēnesī (EUR) | O11: Viena darbinieka izmaksas mēnesī | P11: Visu darbinieku izmaksas mēnesī
A12: 1 | B12: 2 | C12: 3 | D12: 4 | E12: 5 | F12: 6 | G12: 7 | H12: 8 | I12: 9 | J12: 10 | K12: 11 | L12: 12 | M12: 12.1 | N12: 13 | O12: 14 | P12: 15
A13: 1. Telpu ikdienas pamatuzkopšana
A14: Cēsu prospekts 5, Priekuļi | B14: 1 | C14: Apkopēja | D14: 0 | E14: 0 | F14: 0 | G14: =E14*F14 -> 0 | H14: 0 | I14: =H14/12 -> 0 | J14: =H14*$J$8 -> 0 | K14: =H14+I14+J14 -> 0 | L14: 0.2359 | M14: =K14*L14 -> 0 | N14: 0 | O14: =N14+M14+K14 -> 0 | P14: =O14*F14 -> 0
G15: =SUM(G14:G14) -> 0 | P15: =SUM(P14:P14) -> 0
A16: Cēsu prospekts 1, Priekuļi | B16: 1 | C16: Apkopēja | D16: 0 | E16: 0 | F16: 0 | G16: =E16*F16 -> 0 | H16: =D16*E16 -> 0 | I16: =H16/12 -> 0 | J16: =H16*$J$8 -> 0 | K16: =H16+I16+J16 -> 0 | L16: 0.2359 | M16: =K16*L16 -> 0 | N16: 0 | O16: =N16+M16+K16 -> 0 | P16: =O16*F16 -> 0
G17: =SUM(G16:G16) -> 0 | P17: =SUM(P16:P16) -> 0
A18: Raiņa iela 8, Priekuļi | B18: 1 | C18: Apkopēja | D18: 0 | E18: 0 | F18: 0 | G18: =E18*F18 -> 0 | H18: =D18*E18 -> 0 | I18: =H18/12 -> 0 | J18: =H18*$J$8 -> 0 | K18: =H18+I18+J18 -> 0 | L18: 0.2359 | M18: =K18*L18 -> 0 | N18: 0 | O18: =N18+M18+K18 -> 0 | P18: =O18*F18 -> 0
G19: =SUM(G18:G18) -> 0 | P19: =SUM(P18:P18) -> 0
A20: Dārza iela 11B, Priekuļi | B20: 1 | C20: Apkopēja | D20: 0 | E20: 0 | F20: 0 | G20: =E20*F20 -> 0 | H20: =D20*E20 -> 0 | I20: =H20/12 -> 0 | J20: =H20*$J$8 -> 0 | K20: =H20+I20+J20 -> 0 | L20: 0.2359 | M20: =K20*L20 -> 0 | N20: 0 | O20: =N20+M20+K20 -> 0 | P20: =O20*F20 -> 0
G21: =SUM(G20:G20) -> 0 | P21: =SUM(P20:P20) -> 0
A22: Rūpnīcas iela 8, Liepa | B22: 1 | C22: Apkopēja | D22: 0 | E22: 0 | F22: 0 | G22: =E22*F22 -> 0 | H22: =D22*E22 -> 0 | I22: =H22/12 -> 0 | J22: =H22*$J$8 -> 0 | K22: =H22+I22+J22 -> 0 | L22: 0.2359 | M22: =K22*L22 -> 0 | N22: 0 | O22: =N22+M22+K22 -> 0 | P22: =O22*F22 -> 0
G23: =SUM(G22:G22) -> 0 | P23: =SUM(P22:P22) -> 0
A24: Rūpnīcas iela 18, Liepa | B24: 1 | C24: Apkopēja | D24: 0 | E24: 0 | F24: 0 | G24: =E24*F24 -> 0 | H24: =D24*E24 -> 0 | I24: =H24/12 -> 0 | J24: =H24*$J$8 -> 0 | K24: =H24+I24+J24 -> 0 | L24: 0.2359 | M24: =K24*L24 -> 0 | N24: 0 | O24: =N24+M24+K24 -> 0 | P24: =O24*F24 -> 0
G25: =SUM(G24:G24) -> 0 | P25: =SUM(P24:P24) -> 0
A26: “Pagastnams”, Mārsnēnu pagasts | B26: 1 | C26: Apkopēja | D26: 0 | E26: 0 | F26: 0 | G26: =E26*F26 -> 0 | H26: =D26*E26 -> 0 | I26: =H26/12 -> 0 | J26: =H26*$J$8 -> 0 | K26: =H26+I26+J26 -> 0 | L26: 0.2359 | M26: =K26*L26 -> 0 | N26: 0 | O26: =N26+M26+K26 -> 0 | P26: =O26*F26 -> 0
G27: =SUM(G26:G26) -> 0 | P27: =SUM(P26:P26) -> 0
A28: Telpu ikdienas pamatuzkopšana kopā mēnesī (h): | G28: =SUM(G14:G27) -> 0 | P28: =SUM(P14:P27) -> 0
A29: Vidējā stundas tarifa likme, EUR: | E29: =P28/G28 -> #DIV/0!
A30: Skaidrojumi:
A31: 1. kolonna: Konkrētā Objekta adrese
A32: 2. kolonna: Posteņa Nr.
A33: 3. kolonna: Pretendents norāda pakalpojuma izpildē prognozējamo Servisa darbinieku daudzumu, katrā Objektā, pēc amatiem: apkopējas, darbu vadītājs
A34: 4. kolonna: Pretendents norāda darbinieka bruto stundas likmi (EUR/h)
A35: 5. kolonna: Pretendents norāda viena darbinieka plānotās darba stundas mēnesī
A36: 6. kolonna: Pretendents norāda darbinieku (posteņu) skaitu atbilstoši stundu skaitam/stundas likmei
A37: 7. kolonna: Kopējās darba stundas objektā mēnesī (jāsakrīt ar darba stundām katrā objektā saskaņā ar darba lapu Darba efektivitāte)
A38: 8. kolonna: Pretendents norāda viena darbinieka (posteņa) bruto darba algu mēnesī
A39: 9. kolonna: Pretendents norāda ikmēneša uzkrājumu viena darbinieka (posteņa) atvaļinājumam
A40: 10. kolonna: Pretendents norāda ikmēneša slimības naudas uzkrājumu vienam darbiniekam (postenim) slimības gadījumā
A41: 11. kolonna: Pretendents norāda viena darbinieka (posteņa) atalgojumu (bruto) mēnesī kopā
...

Sheet Tāme
J1: 4.pielikums
A3: “Telpu uzkopšanas pakalpojumu nodrošināšana Cēsu novada Priekuļu apvienības pārvaldes ēkās”, Iepirkuma identifikācijas Nr. CN PAP/2026/15
A4: TĀME
A5: Forma Nr.3
A6: Pamatpakalpojuma izmaksu sadalījums pa objektiem.
A7: Nr.p.k. | B7: Pakalpojums | C7: Kopējā platība objektos (m2) (aizpildās automātiski) | D7: Darbaspēka izmaksas kopā, mēnesī (aizpildās automātiski) | E7: Materiālu izmaksas (uzkopšanas līdzekļi, dezinfekcijas līdzekļi, atkritumu maisi, u.c.), mēnesī (aizpilda Pretendents) | F7: Inventārs, pamatlīdzekļu amortizācija, darba apģērbs, mēnesī (aizpilda Pretendents) | G7: Citas izmaksas (transporta un administratīvās izmaksas u.c.), mēnesī (aizpilda Pretendents) | H7: Cena par pakalpojumu mēnesī kopā (aizpildās automātiski) | I7: Cena par pakalpojumu mēnesī, EUR/m2 (aizpildās automātiski) | J7: Cena par pakalpojumu 36 mēnešos (aizpildās automātiski)
A8: 1. | B8: Telpu ikdienas uzkopšana
A9: 1.1. | B9: Cēsu prospekts 5, Priekuļi, Priekuļu pag., Cēsu novads | C9: ='Darba efektivitāte'!C13 -> 607.7 | D9: ='Pakalp(h)_Darbn.likmes veidi'!P15 -> 0 | H9: =SUM(D9:G9) -> 0 | I9: =H9/C9 -> 0 | J9: =H9*36 -> 0
A10: 1.2. | B10: Cēsu prospekts 1, Priekuļi, Priekuļu pag., Cēsu novads | C10: ='Darba efektivitāte'!C18 -> 1228.3 | D10: ='Pakalp(h)_Darbn.likmes veidi'!P17 -> 0 | H10: =SUM(D10:G10) -> 0 | I10: =H10/C10 -> 0 | J10: =H10*36 -> 0
A11: 1.3. | B11: Raiņa iela 8, Priekuļi, Priekuļu pag., Cēsu novads | C11: ='Darba efektivitāte'!C24 -> 1045.2 | D11: ='Pakalp(h)_Darbn.likmes veidi'!P19 -> 0 | H11: =SUM(D11:G11) -> 0 | I11: =H11/C11 -> 0 | J11: =H11*36 -> 0
A12: 1.4. | B12: Dārza iela 11B, Priekuļi, Priekuļu pag., Cēsu novads | C12: ='Darba efektivitāte'!C28 -> 89.5 | D12: ='Pakalp(h)_Darbn.likmes veidi'!P20 -> 0 | H12: =SUM(D12:G12) -> 0 | I12: =H12/C12 -> 0 | J12: =H12*36 -> 0
A13: 1.5. | B13: Rūpnīcas iela 8, Liepa, Liepas pag., Cēsu novads | C13: ='Darba efektivitāte'!C34 -> 458.4 | D13: ='Pakalp(h)_Darbn.likmes veidi'!P23 -> 0 | H13: =SUM(D13:G13) -> 0 | I13: =H13/C13 -> 0 | J13: =H13*36 -> 0
A14: 1.6. | B14: Rūpnīcas iela 18, Liepa, Liepas pag., Cēsu novads | C14: ='Darba efektivitāte'!C40 -> 335.9 | D14: ='Pakalp(h)_Darbn.likmes veidi'!P25 -> 0 | H14: =SUM(D14:G14) -> 0 | I14: =H14/C14 -> 0 | J14: =H14*36 -> 0
A15: 1.7. | B15: “Pagastnams”, Mārsnēnu pagasts, Cēsu novads | C15: ='Darba efektivitāte'!C45 -> 228.7 | D15: ='Pakalp(h)_Darbn.likmes veidi'!P27 -> 0 | H15: =SUM(D15:G15) -> 0 | I15: =H15/C15 -> 0 | J15: =H15*36 -> 0
A16: Kopā: | C16: =SUM(C9:C15) -> 3993.7 | D16: =SUM(D9:D15) -> 0 | E16: =SUM(E9:E15) -> 0 | F16: =SUM(F9:F15) -> 0 | G16: =SUM(G9:G15) -> 0 | H16: =SUM(H9:H15) -> 0 | I16: =H16/C16 -> 0 | J16: =H16*36 -> 0

Sheet Finanšu piedāvājums
F1: 4.pielikums
A2: “Telpu uzkopšanas pakalpojumu nodrošināšana Cēsu novada Priekuļu apvienības pārvaldes ēkās”, Iepirkuma identifikācijas Nr. CN PAP/2026/15
A3: FINANŠU PIEDĀVĀJUMS
D4: Forma Nr.4
A8: Nr. | B8: Sadaļa | D8: Cena mēnesī, EUR bez PVN (aizpildās automātiski) | E8: Cena 36 mēnešiem, EUR bez PVN (aizpildās automātiski)
A9: 1 | B9: Telpu uzkopšana _Pamatpakalpojums (VĒRTĒJAMAIS KRITĒRIJS A) | D9: =Tāme!H16 -> 0 | E9: =Tāme!J16 -> 0
A10: PVN, 21%, EUR: | D10: =D9*21% -> 0 | E10: =E9*21% -> 0
A11: Kopā ar PVN: | D11: =D9+D10 -> 0 | E11: =E9+E10 -> 0
A13: 2. Papildpakalpojums_tiek sniegts pēc Pasūtītāja pieprasījuma
A15: Nr.p.k. | B15: Nosaukums/Darba apraksts | C15: Rezultāts | D15: Mērvienība | E15: Nosacītais apjoms 36 mēnešos | F15: Cena EUR bez PVN par vienu vienību | G15: Cena EUR bez PVN par visu apjomu (aizpildās automātiski)
A16: 2.1. | B16: Telpu uzkopšanas ārpus specifikācijā noteiktā grafika | C16: Atbilstošs “Tehniskajā specifikācijā” noteiktajām kopējām prasībām telpu uzkopšanai. | D16: 1 stunda (vienam darbiniekam) | E16: 100 | G16: =E16*F16 -> 0
A17: 2.2. | B17: Sienu tīrīšanas/ mazgāšanas pakalpojumi ārpus specifikācijā noteiktā grafika | C17: Virsma bez piesārņojuma uzkrājumiem, traipiem, mazgāšanas pēdām. | D17: 1 kvadrātmetrs | E17: 300 | G17: =E17*F17 -> 0
A18: 2.3. | B18: Vaska notīrīšana | C18: Visas vaska kārtas ir nomazgātas, notīrīti sliekšņi un grīdlīstes, pirms vaskošanas novāktas visas pārvietojamās mēbeles, vasks notīrīts arī zem tām un novietotas atpakaļ. | D18: 1 kvadrātmetrs | E18: 3500 | G18: =E18*F18 -> 0
A19: 2.4. | B19: Logu mazgāšana (no iekšpuses) | C19: Logu stikli, rāmji, palodzes, bez piesārņojuma uzkrājumiem un mazgāšanas līdzekļa pēdām, uz palodzēm esošie priekšmeti atlikti sākotnējās vietās. | D19: 1 kvadrātmetrs | E19: 3730 | G19: =E19*F19 -> 0
A20: 2.5. | B20: Logu mazgāšana (no ārpuses) | C20: Logu stikli, rāmji, palodzes, bez piesārņojuma uzkrājumiem un mazgāšanas līdzekļa pēdām. | D20: 1 kvadrātmetrs | E20: 3730 | G20: =E20*F20 -> 0
A21: 2.6. | B21: Linoleja grīdas segumu vaskošana | C21: Uzklātas vismaz 2 vaska kārtas un nodrošināta atbilstība pasūtītāja prasībām – (matēta, pusmatēta, spīdīga virsma) un vaska veidam. | D21: 1 kvadrātmetrs | E21: 3500 | G21: =E21*F21 -> 0
A22: 2.7. | B22: Parketa grīdas segumu vaskošana | C22: Uzklātas vismaz 2 vaska kārtas un nodrošināta atbilstība pasūtītāja prasībām – (matēta, pusmatēta, spīdīga virsma) un vaska veidam. | D22: 1 kvadrātmetrs | E22: 4000 | G22: =E22*F22 -> 0
A23: 2.8. | B23: Mīksto grīdas segumu dziļā tīrīšana | C23: Pirms tīrīšanas segumi kvalitatīvi iztīrīti ar putekļu sūcēju. Traipi (izņemot traipus, kas neatgriezeniski mainījuši seguma struktūru, krāsu un kvalitāti) ir iztīrīti. Pēc tīrīšanas virsma ir vienmērīgi tīra izskata. | D23: 1 kvadrātmetrs | E23: 450 | G23: =E23*F23 -> 0
A24: 2.9. | B24: Flīžu grīdas ģenerāltīrīšana | C24: Tīras virsmas, grīdlīstes, sliekšņi, Flīžu grīdas izskats (izņemot traipus, kas neatgriezeniski mainījuši šuvju struktūru, krāsu un kvalitāti) pēc tīrīšanas vienmērīgi tīra izskata, šuves vienmērīgi tīras un bez mazgāšanas pēdām. | D24: 1 kvadrātmetrs | E24: 1500 | G24: =E24*F24 -> 0
A25: 2.10. | B25: Telpās esošo mīksto mēbeļu ģenerāltīrīšana | C25: Pirms tīrīšanas segumi kvalitatīvi iztīrīti ar putekļu sūcēju. Traipi ir iztīrīti. Pēc tīrīšanas virsma ir vienmērīgi tīra izskata. | D25: 1 stunda (vienam darbiniekam) | E25: 200 | G25: =E25*F25 -> 0
A26: 2.11. | B26: Ģenerālā tīrīšana pēc būvdarbiem | C26: Visas virsmas telpā ir bez celtniecības materiālu atlikumiem, bez mazgāšanas pēdām. Ģenerālās tīrīšanas veicējs nav atbildīgs par nekvalitatīvi veiktiem būvniecības darbiem, kā rezultātā ir radušies virsmu defekti. | D26: 1 stunda (vienam darbiniekam) | E26: 100 | G26: =E26*F26 -> 0
A27: Kopā EUR bez PVN, (VĒRTĒJAMAIS KRITĒRIJS B): | G27: =SUM(G16:G26) -> 0
A29: Papildus veicamie darbi: Pretendents norāda cenu par 1 stundu vai 1m2 (EUR bez PVN). Papildus veicamie darbi tiks veikti pēc Pasūtītāja pieprasījuma, iepriekš vienojoties ar Izpildītāju. Samaksa par noteiktajiem darbiem tiks veikta atsevišķi saskaņā ar Pretendenta norādīto cenu (EUR/1m2 vai EUR/h.) bez PVN.
A31: Vērtējamā vidējā svērtā cena (aizpildās automātiski) | C31: =(E9*0.75)+(G27*0.25) -> 0
A33: Finanšu piedāvājumā ierēķinātas visas izmaksas (darbaspēks, higiēnas preces, materiāli, tīrāmie līdzekļi, piegāde u.c.), kas nepieciešamas pakalpojuma izpildei
A34: Ar šo apstiprinām un garantējam sniegto ziņu patiesumu un precizitāti, kā arī atbilstību atklātā konkursa (identifikācijas Nr.CN PAP 2023/6) nolikumam.
B37: Datums______________
C38: Paraksts, atšifrējums
