Workbook

Sheet B_KT
C2: APSTIPRINU
C3: ________________________________________
C4: (pasūtītāja paraksts un tā atšifrējums)
C5: Z.v.
C6: ______.gada ____.____________
A8: Būvniecības koptāme
B9: Vilkmuižas ezera apkārtnes labiekārtošana, Talsi, Talsu novads, LV-3201, kad.nr.88010110038
A11: Objekta nosaukums | B11: Vilkmuižas ezera apkārtnes labiekārtošana
A12: Būves nosaukums: | B12: Vilkmuižas ezera apkārtnes labiekārtošana
A13: Objekta adrese: | B13: Vilkmuižas ezera apkārtne, Talsi, Talsu novads, LV-3201, kad.nr.88010110038
A14: Pasūtījuma Nr.
A16: Kopsav.tāmes Nr | B16: Objekta nosaukums | C16: Objekta izmaksas (euro)
A17: 1 | B17: 1. kārta, pievadceļa un apgaismojuma izbūve, pontonu konstrukcijas | C17: =KS_1!D26 -> 0
B18: Kopā | C18: =ROUND(SUM(C17:C17),2) -> 0
A20: PVN 21 % | C20: =ROUND(21%*C18,2) -> 0
A23: Sastādija: | C23: 2026.gada .
B24: (paraksts un tā atšifrējums, datums)
A26: Sertifikāta Nr.
B28: Tāme sastādīta 2026.gada .

Sheet KS_1
D2: Kopsavilkuma aprēķins Nr.1
D4: 1. kārta, pievadceļa un apgaismojuma izbūve
D5: (būvdarbu veids vai konstruktīvā elementa nosaukums)
A7: Objekta nosaukums | C7: Vilkmuižas ezera apkārtnes labiekārtošana
A8: Būves nosaukums: | C8: Vilkmuižas ezera apkārtnes labiekārtošana
A9: Objekta adrese: | C9: Vilkmuižas ezera apkārtne, Talsi, Talsu novads, LV-3201, kad.nr.88010110038
A10: Pasūtījuma Nr.
C12: Par kopējo summu, euro | D12: =D26 -> 0
C13: Kopēja darbietilpība, c/h | D13: =H22 -> 0
A15: Nr.p.k. | B15: Kods tāmes Nr. | C15: Darba veids vai konstruktīvā elementa nosaukums | D15: Tāmes izmaksas | E15: Tai skaitā | H15: Darbietilpība (c/h)
E16: darba alga | F16: būvizstrādājumi | G16: mehānismi
A17: 1 | B17: 1-1 | C17: Pievadceļš, TS-CD | D17: =TS_CD!P55 -> 0 | E17: =TS_CD!M55 -> 0 | F17: =TS_CD!N55 -> 0 | G17: =TS_CD!O55 -> 0 | H17: =TS_CD!L55 -> 0
A18: 2 | B18: 1-2 | C18: Ārējie ūdensapgādes tīkli, UKT | D18: =UKT!P49 -> 0 | E18: =UKT!M49 -> 0 | F18: =UKT!N49 -> 0 | G18: =UKT!O49 -> 0 | H18: =UKT!L49 -> 0
A19: 3 | B19: 1-3 | C19: Ārējie apgaismojuma tīkli, ELT | D19: =ELT!P105 -> 0 | E19: =ELT!M105 -> 0 | F19: =ELT!N105 -> 0 | G19: =ELT!O105 -> 0 | H19: =ELT!L105 -> 0
A20: 4 | B20: 1-4 | C20: Teritorijas labiekārtošana, 1. kārta, TS-L | D20: =TS_L_1!P58 -> 0 | E20: =TS_L_1!M58 -> 0 | F20: =TS_L_1!N58 -> 0 | G20: =TS_L_1!O58 -> 0 | H20: =TS_L_1!L58 -> 0
A21: 5 | B21: 1-5 | C21: Pontonu konstrukcijas | D21: =LAIPAS!P29 -> 0 | E21: =LAIPAS!M29 -> 0 | F21: =LAIPAS!N29 -> 0 | G21: =LAIPAS!O29 -> 0 | H21: =LAIPAS!L29 -> 0
A22: Kopā: | D22: =ROUND(SUM(D17:D21),2) -> 0 | E22: =ROUND(SUM(E17:E21),2) -> 0 | F22: =ROUND(SUM(F17:F21),2) -> 0 | G22: =ROUND(SUM(G17:G21),2) -> 0 | H22: =ROUND(SUM(H17:H21),2) -> 0
A23: Virsizdevumi 0% | D23: =ROUND(D22*0%,2) -> 0
A24: t.sk. darba aizsardzība | D24: =ROUND(5%*D23,2) -> 0
A25: Peļņa % | D25: =ROUND(0%*D22,2) -> 0
A26: Pavisam kopā | D26: =ROUND(D22+D23+D25,2) -> 0
B29: Sastādija: | F29: , 2026.gada .
C30: (paraksts un tā atšifrējums, datums)
B31: Sertifikāta Nr.
B33: Tāme sastādīta 2026.gada
B35: Pārbaudīja: | F35: , 2026.gada .
C36: (paraksts un tā atšifrējums, datums)
B37: Sertifikāta Nr.

Sheet TS_CD
G2: Lokālā tāme Nr. 1-1
G4: Pievadceļš, TS-CD
G5: (Darba veids vai konstruktīvā elementa nosaukums)
A8: Objekta nosaukums | C8: Vilkmuižas ezera apkārtnes labiekārtošana
A9: Būves nosaukums | C9: Vilkmuižas ezera apkārtnes labiekārtošana
A10: Objekta adrese | C10: Vilkmuižas ezera apkārtne, Talsi, Talsu novads, LV-3201, kad.nr.88010110038
A11: Pasūtījuma Nr.
B13: Tāme sastādīta 2026. gada tirgus cenās, pamatojoties uz TS-CD daļas rasējumem. | H13: Tāmes izmaksas: | I13: =P55 -> 0 | K13: euro
M14: Tāme sastādīta 2026.gada .
A16: N. p.k. | B16: Kods* | C16: Darbu nosaukums | D16: Mērvienība | E16: Daudzums | F16: Vienības izmaksas | L16: Kopā uz visu apjomu
F17: Laika norma (c/h) | G17: Darba samaksas likme * (euro/h) | H17: Darba alga | I17: Būvizstrā- dājumi | J17: Mehānismi | K17: Kopā | L17: Darbietilpība (c/h) | M17: Darba alga | N17: Būvizstrā- dājumi | O17: Mehānismi | P17: Summa
A18: 1 | C18: Vispārējie darbi
A19: 1.01 | B19: 03-00000 | C19: Visa objekta uzmērīšana un izpilduzmērījuma sagatavošana | D19: gab | E19: 1 | K19: =ROUND(SUM(H19:J19),2) -> 0 | L19: =ROUND(E19*F19,2) -> 0 | M19: =ROUND(E19*H19,2) -> 0 | N19: =ROUND(E19*I19,2) -> 0 | O19: =ROUND(E19*J19,2) -> 0 | P19: =ROUND(SUM(M19:O19),2) -> 0
A20: 1.02 | B20: 03-00000 | C20: Augu zemes noņemšana, hvid=20cm, aizvešana un izlīdzināšana. | D20: m3 | E20: 0 | K20: =ROUND(SUM(H20:J20),2) -> 0 | L20: =ROUND(E20*F20,2) -> 0 | M20: =ROUND(E20*H20,2) -> 0 | N20: =ROUND(E20*I20,2) -> 0 | O20: =ROUND(E20*J20,2) -> 0 | P20: =ROUND(SUM(M20:O20),2) -> 0
A21: 2 | C21: Zemes klātne
C22: Grāvju rakšana un tīrīšana
A23: 2.01 | B23: 03-00000 | C23: Ievalkas izveide izmantojot atgūto grunti, t.sk. grants pamatnes izbūve 10cm biezumā un laukakmeņu d12-15cm izbūve cementa javā | D23: m | E23: 0 | K23: =ROUND(SUM(H23:J23),2) -> 0 | L23: =ROUND(E23*F23,2) -> 0 | M23: =ROUND(E23*H23,2) -> 0 | N23: =ROUND(E23*I23,2) -> 0 | O23: =ROUND(E23*J23,2) -> 0 | P23: =ROUND(SUM(M23:O23),2) -> 0
B24: Jauna pozīcija | C24: Papildus laukakmeņu d12-15cm izbūve cementa javā posmā starp projektēto ievalku un taciņas metāla apmali | D24: m2 | E24: 0
B25: Jauna pozīcija | C25: Frakcionētas šķembas bērums ievalkas galā | D25: m2 | E25: 0
C26: Zemes klātnes būvniecība
A27: 2.02 | B27: 03-00000 | C27: Zemes klātnes uzbēruma būvniecība t.sk darba zonas sakārtošana (no atgūtā materiāla). | D27: m3 | E27: 0 | K27: =ROUND(SUM(H27:J27),2) -> 0 | L27: =ROUND(E27*F27,2) -> 0 | M27: =ROUND(E27*H27,2) -> 0 | N27: =ROUND(E27*I27,2) -> 0 | O27: =ROUND(E27*J27,2) -> 0 | P27: =ROUND(SUM(M27:O27),2) -> 0
A28: 2.03 | B28: 03-00000 | C28: Zemes klātnes ierakuma izbūve | D28: m3 | E28: 0 | K28: =ROUND(SUM(H28:J28),2) -> 0 | L28: =ROUND(E28*F28,2) -> 0 | M28: =ROUND(E28*H28,2) -> 0 | N28: =ROUND(E28*I28,2) -> 0 | O28: =ROUND(E28*J28,2) -> 0 | P28: =ROUND(SUM(M28:O28),2) -> 0
A29: 2.04 | B29: 03-00000 | C29: Izraktās grunts nogādāšana uz būvdarbu veicēja atbērtni | D29: m3 | E29: 0 | K29: =ROUND(SUM(H29:J29),2) -> 0 | L29: =ROUND(E29*F29,2) -> 0 | M29: =ROUND(E29*H29,2) -> 0 | N29: =ROUND(E29*I29,2) -> 0 | O29: =ROUND(E29*J29,2) -> 0 | P29: =ROUND(SUM(M29:O29),2) -> 0
C30: Ar saistvielām nesaistītu kārtu armēšana vai atdalīšana
A31: 2.05 | B31: 35-00000 | C31: Armēšana ar ģeosintētiskajiem materiāliem, Combigrid 40/40 Q1 vai ekvivalents | D31: m2 | E31: 0 | K31: =ROUND(SUM(H31:J31),2) -> 0 | L31: =ROUND(E31*F31,2) -> 0 | M31: =ROUND(E31*H31,2) -> 0 | N31: =ROUND(E31*I31,2) -> 0 | O31: =ROUND(E31*J31,2) -> 0 | P31: =ROUND(SUM(M31:O31),2) -> 0
C32: Apzaļumošana un nogāžu nostiprināšana
A33: 2.06 | B33: 31-00000 | C33: Apzaļumošana ar augu zemi, kas apsēta ar daudzgadīga zāliena sēklu maisījumu, 10 cm biezumā. | D33: m2 | E33: 200 | K33: =ROUND(SUM(H33:J33),2) -> 0 | L33: =ROUND(E33*F33,2) -> 0 | M33: =ROUND(E33*H33,2) -> 0 | N33: =ROUND(E33*I33,2) -> 0 | O33: =ROUND(E33*J33,2) -> 0 | P33: =ROUND(SUM(M33:O33),2) -> 0
A34: 3 | C34: Segumu būvniecība
C35: Bruģa segumi
C36: DAB1 Tips, AADTj,smagie ≤ 0, AADTj, pievestā ≤ 50:
A37: 3.01 | B37: 35-00000 | C37: Šķeltais granīta bruģakmens 10x10x10cm(tumši pelēks) segums, h=10 cm | D37: m2 | E37: 0 | K37: =ROUND(SUM(H37:J37),2) -> 0 | L37: =ROUND(E37*F37,2) -> 0 | M37: =ROUND(E37*H37,2) -> 0 | N37: =ROUND(E37*I37,2) -> 0 | O37: =ROUND(E37*J37,2) -> 0 | P37: =ROUND(SUM(M37:O37),2) -> 0
A38: 3.02 | B38: 35-00000 | C38: Dolomīta šķembu izsiju fr.2/8 izlīdzinošās starpkārtas būvniecība 5 cm biezumā | D38: m2 | E38: 0 | K38: =ROUND(SUM(H38:J38),2) -> 0 | L38: =ROUND(E38*F38,2) -> 0 | M38: =ROUND(E38*H38,2) -> 0 | N38: =ROUND(E38*I38,2) -> 0 | O38: =ROUND(E38*J38,2) -> 0 | P38: =ROUND(SUM(M38:O38),2) -> 0
A39: 3.03 | B39: 35-00000 | C39: Nesaistītu minerālmateriālu 0/45 pamata nesošās kārtas būvniecība 22 cm biezumā. | D39: m2 | E39: 0 | K39: =ROUND(SUM(H39:J39),2) -> 0 | L39: =ROUND(E39*F39,2) -> 0 | M39: =ROUND(E39*H39,2) -> 0 | N39: =ROUND(E39*I39,2) -> 0 | O39: =ROUND(E39*J39,2) -> 0 | P39: =ROUND(SUM(M39:O39),2) -> 0
A40: 3.04 | B40: 35-00000 | C40: Salizturīgās kārtas būvniecība 35 cm biezumā | D40: m3 | E40: 0 | K40: =ROUND(SUM(H40:J40),2) -> 0 | L40: =ROUND(E40*F40,2) -> 0 | M40: =ROUND(E40*H40,2) -> 0 | N40: =ROUND(E40*I40,2) -> 0 | O40: =ROUND(E40*J40,2) -> 0 | P40: =ROUND(SUM(M40:O40),2) -> 0
C41: EKO segumi
C42: SZ1 Tips, AADTj,smagie ≤ 0, AADTj, pievestā ≤ 50:
A43: 3.05 | B43: 35-00000 | C43: Zālienšūnas (paredzētas transporta slodzei), pildītas ar granītašķembām (tumši pelēkas) fr.2-5 (veikt laukuma apsekošanu un nepieciešamības gadījumā labošanu) | D43: m2 | E43: 227 | K43: =ROUND(SUM(H43:J43),2) -> 0 | L43: =ROUND(E43*F43,2) -> 0 | M43: =ROUND(E43*H43,2) -> 0 | N43: =ROUND(E43*I43,2) -> 0 | O43: =ROUND(E43*J43,2) -> 0 | P43: =ROUND(SUM(M43:O43),2) -> 0
A44: 3.06 | B44: 35-00000 | C44: Nesaistītu minerālmateriālu 0/45 pamata nesošās kārtas būvniecība 18 cm biezumā. | D44: m2 | E44: 0 | K44: =ROUND(SUM(H44:J44),2) -> 0 | L44: =ROUND(E44*F44,2) -> 0 | M44: =ROUND(E44*H44,2) -> 0 | N44: =ROUND(E44*I44,2) -> 0 | O44: =ROUND(E44*J44,2) -> 0 | P44: =ROUND(SUM(M44:O44),2) -> 0
A45: 3.07 | B45: 35-00000 | C45: Salizturīgās kārtas būvniecība 25 cm biezumā | D45: m3 | E45: 0 | K45: =ROUND(SUM(H45:J45),2) -> 0 | L45: =ROUND(E45*F45,2) -> 0 | M45: =ROUND(E45*H45,2) -> 0 | N45: =ROUND(E45*I45,2) -> 0 | O45: =ROUND(E45*J45,2) -> 0 | P45: =ROUND(SUM(M45:O45),2) -> 0
A46: 3.08 | B46: 35-00000 | C46: Armēšana ar ģeorežģi, Combigrid 40/40(vājas nestspējas pamatnei) vai ekvivalentu | D46: m2 | E46: 0 | K46: =ROUND(SUM(H46:J46),2) -> 0 | L46: =ROUND(E46*F46,2) -> 0 | M46: =ROUND(E46*H46,2) -> 0 | N46: =ROUND(E46*I46,2) -> 0 | O46: =ROUND(E46*J46,2) -> 0 | P46: =ROUND(SUM(M46:O46),2) -> 0
C47: Nesaistīti segumi
C48: Gājēju celiņa seguma salaiduma zonas izbūve:
A49: 3.08 | B49: 35-00000 | C49: Nesaistītu minerālmateriālu 0/32s seguma kārtas būvniecība | D49: m3 | E49: 30 | K49: =ROUND(SUM(H49:J49),2) -> 0 | L49: =ROUND(E49*F49,2) -> 0 | M49: =ROUND(E49*H49,2) -> 0 | N49: =ROUND(E49*I49,2) -> 0 | O49: =ROUND(E49*J49,2) -> 0 | P49: =ROUND(SUM(M49:O49),2) -> 0
A50: 3.09 | B50: 35-00000 | C50: Salizturīgās kārtas būvniecība 30-50 cm biezumā | D50: m3 | E50: 21 | K50: =ROUND(SUM(H50:J50),2) -> 0 | L50: =ROUND(E50*F50,2) -> 0 | M50: =ROUND(E50*H50,2) -> 0 | N50: =ROUND(E50*I50,2) -> 0 | O50: =ROUND(E50*J50,2) -> 0 | P50: =ROUND(SUM(M50:O50),2) -> 0
A51: 4 | C51: Satiksmes aprīkojums
A52: 4.01 | B52: 35-00000 | C52: Metāla apmales KINLEY EXELEDGE vai ekvivalenta(H=150mm,B=3mm, L=2000mm, Rūsināta) uzstādīšana | D52: m | E52: 0 | K52: =ROUND(SUM(H52:J52),2) -> 0 | L52: =ROUND(E52*F52,2) -> 0 | M52: =ROUND(E52*H52,2) -> 0 | N52: =ROUND(E52*I52,2) -> 0 | O52: =ROUND(E52*J52,2) -> 0 | P52: =ROUND(SUM(M52:O52),2) -> 0
A53: 4.02 | B53: 35-00000 | C53: Transporta kustības bloķējošas barjeras uzstādīšanas (nolokāms un aizslēdzams metāla stabiņš) | D53: gb. | E53: 0 | K53: =ROUND(SUM(H53:J53),2) -> 0 | L53: =ROUND(E53*F53,2) -> 0 | M53: =ROUND(E53*H53,2) -> 0 | N53: =ROUND(E53*I53,2) -> 0 | O53: =ROUND(E53*J53,2) -> 0 | P53: =ROUND(SUM(M53:O53),2) -> 0
A54: jauna | C54: Pievadceļa izbūve materiālu piegādēm, uzturēšana, demontāža, seguma atjaunošana (S=500m2) | D54: kompl. | E54: 1
C55: Tiešās izmaksas kopā, t. sk. darba devēja sociālais nodoklis (23,59%) | L55: =ROUND(SUM(L19:L53),2) -> 0 | M55: =ROUND(SUM(M19:M53),2) -> 0 | N55: =ROUND(SUM(N19:N53),2) -> 0 | O55: =ROUND(SUM(O19:O53),2) -> 0 | P55: =ROUND(SUM(M55:O55),2) -> 0
B59: Sastādija: | M59: , 2026.gada .
C60: (paraksts un tā atšifrējums, datums)
B61: Sertifikāta Nr.
B63: Tāme sastādīta 2026.gada .
B65: Pārbaudīja: | M65: , 2026.gada .
C66: (paraksts un tā atšifrējums, datums)
B67: Sertifikāta Nr.
C92: Būvdarbi jāveic atbilstoši Autoceļu būvdarbu specifikācijas 2023, ja tie nav aprakstīti būvniecības dokumentācijā vai tos nedefinē kādi citi standarti. Darbu veidiem, kuriem uzrādīta tilpuma mērvienība, tilpums ir materiāliem blīvā veidā. Izraktās grunts izlīdzināšanu pieļaujama uz vietas, ja tas saskaņots ar Pasūtītāju. Grunts jāizlīdzina un jānoplanē laideni savienojot ar esošo reljefu. Izlīdzinātā grunts nedrīkst pasliktināt ūdensatvadi ceļa nodalījum joslā un pieguļošā īpašumā, nepieciešamības gadījumā izveidot ūdens noteces vagas. Darbu veidiem, kuriem uzrādīta garuma vai laukuma mērvienība, norādīts gatava - uzmērāma darba daudzums. Būvuzņēmējam katra konkrēta darba izmaksās jāparedz visi ar darba izpildi saistītie izdevumi, to skaitā papildu materiāla daudzums, kas nepieciešams tehnoloģiski pareizai materiālu iestrādei, piemēram, pārlaidumu veidošanai ģeorežģim Būvuzņēmējam jāievērtē Darbu apjomu tabulā minēto darbu veikšanai nepieciešamie materiāli un papildus darbi, kas nav minēti šajā sarakstā, bet bez kuriem nebūtu iespējama būvdarbu tehnoloģiski pareiza un spēkā esošajiem normatīviem atbilstoša veikšana pilnā apjomā. Sīkāk skatīt "Autoceļu būvdarbu specifikācijas 2023" vispārējo nodaļu. Aprīkojums būvdarbu laikā atbilstoši MK noteikumiem Nr.421 „Noteikumi par darba vietu aprīkošanu uz ceļiem”. Materiālu komplektāciju veikt atbilstoši izstrādātājam būvprojektam, ražotājfirmu un LR normatīvo aktu nosacījumiem. Katrs darbu apjomu tabulā minētais darbs ietver arī visus nepieciešamos materiālus minētā darba izpildei. Šos darbu un materiālu apjomus skatīt kopā ar būvprojekta dokumentāciju. Apmaksa veicama pēc faktiskā, dabā uzmērītā, padarītā darba. Zemes klātnes ierakuma būvniecība ietver visu nesaistīto minerālmateriālu kārtu izrakšanu, kā arī apmaļu, akmeņu, betona (dzelzsbetona) elementu un citu līdzīgu elementu, kas atrodas paredzētajā ierakuma zonā, demontāžu tai skaitā utilizāciju atbilstoši pastāvošajai likumdošanai, ja nav norādīts savādāk.
A94: Sastādīja | B94: 20.12.2022 (paraksts un tā atšifrējums, datums)
A95: Sertifikāta Nr. 3-02241

Sheet UKT
G2: Lokālā tāme Nr. 1-2
G4: Ārējie ūdensapgādes tīkli, UKT
G5: (būvdarbu veids vai konstruktīvā elementa nosaukums)
A8: Objekta nosaukums | C8: Vilkmuižas ezera apkārtnes labiekārtošana
A9: Būves nosaukums | C9: Vilkmuižas ezera apkārtnes labiekārtošana
A10: Objekta adrese | C10: =KS_1!C9 -> Vilkmuižas ezera apkārtne, Talsi, Talsu novads, LV-3201, kad.nr.88010110038
A11: Pasūtījuma Nr.
B13: Tāme sastādīta 2026. gada tirgus cenās, pamatojoties uz UKT daļas rasējumem. | H13: Tāmes izmaksas: | I13: =P49 -> 0 | K13: euro
M14: Tāme sastādīta 2026.gada .
A16: N. p.k. | B16: Kods* | C16: Darbu nosaukums | D16: Mērvienība | E16: Daudzums | F16: Vienības izmaksas | L16: Kopā uz visu apjomu
F17: Laika norma (c/h) | G17: Darba samaksas likme * (euro/h) | H17: Darba alga | I17: Būvizstrā- dājumi | J17: Mehānismi | K17: Kopā | L17: Darbietilpība (c/h) | M17: Darba alga | N17: Būvizstrā- dājumi | O17: Mehānismi | P17: Summa
C18: Ārējie tīkli Ū1 ūdensvads
A19: 1 | C19: Ūdensvada spiedvadu caurules PE100 OD25, PN100, Uponor vai analogs, montāža sagatavotā tranšejā, iekaitot cauruļu savienojošos veidgabalus (līkumi, dubultuzmavas un tml.) | D19: m | E19: 0 | K19: =ROUND(SUM(H19:J19),2) -> 0 | L19: =ROUND(E19*F19,2) -> 0 | M19: =ROUND(E19*H19,2) -> 0 | N19: =ROUND(E19*I19,2) -> 0 | O19: =ROUND(E19*J19,2) -> 0 | P19: =ROUND(SUM(M19:O19),2) -> 0
A20: 2 | C20: Uponor vai analogu elektrometināmo veidgabalu montāža:
A21: 2.1 | C21: EM trejgabals 32/32 | D21: gb. | E21: 0 | K21: =ROUND(SUM(H21:J21),2) -> 0 | L21: =ROUND(E21*F21,2) -> 0 | M21: =ROUND(E21*H21,2) -> 0 | N21: =ROUND(E21*I21,2) -> 0 | O21: =ROUND(E21*J21,2) -> 0 | P21: =ROUND(SUM(M21:O21),2) -> 0
A22: 2.2 | C22: EM pāreja 32-25 | D22: gb. | E22: 0 | K22: =ROUND(SUM(H22:J22),2) -> 0 | L22: =ROUND(E22*F22,2) -> 0 | M22: =ROUND(E22*H22,2) -> 0 | N22: =ROUND(E22*I22,2) -> 0 | O22: =ROUND(E22*J22,2) -> 0 | P22: =ROUND(SUM(M22:O22),2) -> 0
A23: 3 | C23: Hawle vai analoga pazemes tipa ķīlveida servisa aizbīdņa DN25 montāža komplektā ar fiksēta garuma atslēgstieni un standartam LVS EN-124 :2002 atbilstošu stacionāru ielas kapi ar atbalsta gerdzenu, kapes iekšējais diametrsne mazāks par 160 mm | D23: kpl. | E23: 0 | K23: =ROUND(SUM(H23:J23),2) -> 0 | L23: =ROUND(E23*F23,2) -> 0 | M23: =ROUND(E23*H23,2) -> 0 | N23: =ROUND(E23*I23,2) -> 0 | O23: =ROUND(E23*J23,2) -> 0 | P23: =ROUND(SUM(M23:O23),2) -> 0
A24: 4 | C24: Rūpnieciski izgatavotas siltinātas ūdens mērītāja akas (iekšējais diametrs 500mm), ar vāku, pamatni un nokomplektētu ūdensskaitītāja mezglu, montāža | D24: kpl. | E24: 0 | K24: =ROUND(SUM(H24:J24),2) -> 0 | L24: =ROUND(E24*F24,2) -> 0 | M24: =ROUND(E24*H24,2) -> 0 | N24: =ROUND(E24*I24,2) -> 0 | O24: =ROUND(E24*J24,2) -> 0 | P24: =ROUND(SUM(M24:O24),2) -> 0
C25: akas komplektācijā un cenā iekļauts:
C26: komercuzskaites mēraparāts ( ūdens patēriņa skaitītājs) DN15; L=165* mm | D26: kpl. | E26: 1
C27: metāla Īscaurule DN15 L1=5DN | D27: m | E27: 0.75
C28: metāla Īscaurule DN15 L1=3DN | D28: m | E28: 0.45
C29: PE caurule OD25 PN10 | D29: m | E29: 1
C30: EM līknis 90°, PE OD25 | D30: gb. | E30: 2
C31: uzmavu pāreja PE/MET OD25/DN20 | D31: gb. | E31: 1
C32: DN20/DN15 | D32: gb. | E32: 1
C33: lodveida ventilis DN15 | D33: gb. | E33: 1
C34: plūsmas filtrs* MET DN15 | D34: gb. | E34: 1
C35: līknis 90° DN15 | D35: gb. | E35: 2
C36: metāla trejgabals DN15 | D36: gb. | E36: 1
C37: Lodveida ventilis MET DN15 (tukšošana) | D37: gb. | E37: 1
... C39: pāreja PE/MET DN20/OD25 | D39: gb. | E39: 1
A40: 5 | C40: Aizsargčaulas d110, 750N guldīšana gatavā tranšejā | D40: m | E40: 0 | K40: =ROUND(SUM(H40:J40),2) -> 0 | L40: =ROUND(E40*F40,2) -> 0 | M40: =ROUND(E40*H40,2) -> 0 | N40: =ROUND(E40*I40,2) -> 0 | O40: =ROUND(E40*J40,2) -> 0 | P40: =ROUND(SUM(M40:O40),2) -> 0
A41: 6 | C41: Brīvstāvoša dzeramā ūdens brīvkrāna montāža, Elkay Outdoor ezH2O Upper Bottle Filling Station, Bi-Level Pedestal , Non-Filtered Non-Refrigerated Freeze Resistant, Model LK4420BF1UFRKEVG | D41: kpl. | E41: 0 | K41: =ROUND(SUM(H41:J41),2) -> 0 | L41: =ROUND(E41*F41,2) -> 0 | M41: =ROUND(E41*H41,2) -> 0 | N41: =ROUND(E41*I41,2) -> 0 | O41: =ROUND(E41*J41,2) -> 0 | P41: =ROUND(SUM(M41:O41),2) -> 0
A42: 7 | C42: Ūdensvada dezinfekcija un hidrauliskās pārbaudes darbi | D42: m | E42: 1 | K42: =ROUND(SUM(H42:J42),2) -> 0 | L42: =ROUND(E42*F42,2) -> 0 | M42: =ROUND(E42*H42,2) -> 0 | N42: =ROUND(E42*I42,2) -> 0 | O42: =ROUND(E42*J42,2) -> 0 | P42: =ROUND(SUM(M42:O42),2) -> 0
C43: Atjaunojamie segumi
A44: 8 | C44: Atjaunojams grants segums - ceļa nomale | D44: m2 | E44: 0 | K44: =ROUND(SUM(H44:J44),2) -> 0 | L44: =ROUND(E44*F44,2) -> 0 | M44: =ROUND(E44*H44,2) -> 0 | N44: =ROUND(E44*I44,2) -> 0 | O44: =ROUND(E44*J44,2) -> 0 | P44: =ROUND(SUM(M44:O44),2) -> 0
C45: Zemes darbi
A46: 9 | C46: Tranšejas rakšana un aizbēršana projektētā cauruļvada motažai | D46: m3 | E46: 0 | K46: =ROUND(SUM(H46:J46),2) -> 0 | L46: =ROUND(E46*F46,2) -> 0 | M46: =ROUND(E46*H46,2) -> 0 | N46: =ROUND(E46*I46,2) -> 0 | O46: =ROUND(E46*J46,2) -> 0 | P46: =ROUND(SUM(M46:O46),2) -> 0
A47: 10 | C47: Smilts pamatnes ierīkošana zem cauruļvadiem, h=15cm | D47: m3 | E47: 0 | K47: =ROUND(SUM(H47:J47),2) -> 0 | L47: =ROUND(E47*F47,2) -> 0 | M47: =ROUND(E47*H47,2) -> 0 | N47: =ROUND(E47*I47,2) -> 0 | O47: =ROUND(E47*J47,2) -> 0 | P47: =ROUND(SUM(M47:O47),2) -> 0
A48: 11 | C48: Izraktās grunti nogādāšana uz būvdarbu veicēja atbērtni | D48: m3 | E48: 0 | K48: =ROUND(SUM(H48:J48),2) -> 0 | L48: =ROUND(E48*F48,2) -> 0 | M48: =ROUND(E48*H48,2) -> 0 | N48: =ROUND(E48*I48,2) -> 0 | O48: =ROUND(E48*J48,2) -> 0 | P48: =ROUND(SUM(M48:O48),2) -> 0
C49: Tiešās izmaksas kopā, t. sk. darba devēja sociālais nodoklis (23,59%) | L49: =ROUND(SUM(L19:L48),2) -> 0 | M49: =ROUND(SUM(M19:M48),2) -> 0 | N49: =ROUND(SUM(N19:N48),2) -> 0 | O49: =ROUND(SUM(O19:O48),2) -> 0 | P49: =ROUND(SUM(M49:O49),2) -> 0
B53: Sastādija: | M53: , 2026.gada .
C54: (paraksts un tā atšifrējums, datums)
B55: Sertifikāta Nr.
B57: Tāme sastādīta 2026.gada .
B59: Pārbaudīja: | M59: , 2026.gada .
C60: (paraksts un tā atšifrējums, datums)
B61: Sertifikāta Nr.

Sheet ELT
G2: Lokālā tāme Nr. 1-3
G4: Ārējie apgaismojuma tīkli, ELT
G5: (būvdarbu veids vai konstruktīvā elementa nosaukums)
A8: Objekta nosaukums | C8: Vilkmuižas ezera apkārtnes labiekārtošana
A9: Būves nosaukums | C9: Vilkmuižas ezera apkārtnes labiekārtošana
A10: Objekta adrese | C10: =B_KT!B13 -> Vilkmuižas ezera apkārtne, Talsi, Talsu novads, LV-3201, kad.nr.88010110038
A11: Pasūtījuma Nr.
B13: Tāme sastādīta 2026. gada tirgus cenās, pamatojoties uz ELT daļas rasējumem. | H13: Tāmes izmaksas: | I13: =P105 -> 0 | K13: euro
M14: Tāme sastādīta 2026.gada .
A16: N. p.k. | B16: Kods* | C16: Darbu nosaukums | D16: Mērvienība | E16: Daudzums | F16: Vienības izmaksas | L16: Kopā uz visu apjomu
F17: Laika norma (c/h) | G17: Darba samaksas likme * (euro/h) | H17: Darba alga | I17: Būvizstrā- dājumi | J17: Mehānismi | K17: Kopā | L17: Darbietilpība (c/h) | M17: Darba alga | N17: Būvizstrā- dājumi | O17: Mehānismi | P17: Summa
A18: 1. | C18: 1. Materiāli
A19: 1.1 | C19: Kabelis NYY-J-5x16mm2 vai analogs | D19: m | E19: 0 | K19: =ROUND(SUM(H19:J19),2) -> 0 | N19: =ROUND(E19*I19,2) -> 0 | O19: =ROUND(E19*J19,2) -> 0 | P19: =ROUND(SUM(M19:O19),2) -> 0
A20: 1.2 | C20: Kabelis Cu-3x1.5mm2 (NYY-J tips vai analogs) | D20: m | E20: 40 | K20: =ROUND(SUM(H20:J20),2) -> 0 | N20: =ROUND(E20*I20,2) -> 0 | O20: =ROUND(E20*J20,2) -> 0 | P20: =ROUND(SUM(M20:O20),2) -> 0
A21: 1.3 | C21: Kabelis Cu-3x2.5mm2 (NYY-J tips vai analogs) | D21: m | E21: 96 | K21: =ROUND(SUM(H21:J21),2) -> 0 | N21: =ROUND(E21*I21,2) -> 0 | O21: =ROUND(E21*J21,2) -> 0 | P21: =ROUND(SUM(M21:O21),2) -> 0
A22: 1.4 | C22: Elektroda stienis L=1.5m d20 cinkots - komplektā ar savienojumiem/dzīšanas uzgaļiem | D22: gb. | E22: 0 | K22: =ROUND(SUM(H22:J22),2) -> 0 | N22: =ROUND(E22*I22,2) -> 0 | O22: =ROUND(E22*J22,2) -> 0 | P22: =ROUND(SUM(M22:O22),2) -> 0
A23: 1.5 | C23: Spaile elektroda savienošanai ar apaļvadu | D23: gb. | E23: 0 | K23: =ROUND(SUM(H23:J23),2) -> 0 | N23: =ROUND(E23*I23,2) -> 0 | O23: =ROUND(E23*J23,2) -> 0 | P23: =ROUND(SUM(M23:O23),2) -> 0
A24: 1.6 | C24: Zemējuma apaļvads d=10mm | D24: m | E24: 0 | K24: =ROUND(SUM(H24:J24),2) -> 0 | N24: =ROUND(E24*I24,2) -> 0 | O24: =ROUND(E24*J24,2) -> 0 | P24: =ROUND(SUM(M24:O24),2) -> 0
A25: 1.7 | C25: Gala apdare 1kV, piecdzīslu kabelim | D25: gb. | E25: 0 | K25: =ROUND(SUM(H25:J25),2) -> 0 | N25: =ROUND(E25*I25,2) -> 0 | O25: =ROUND(E25*J25,2) -> 0 | P25: =ROUND(SUM(M25:O25),2) -> 0
A26: 1.8 | C26: Caurule, gofrēta 1250N, d=110 | D26: m | E26: 0 | K26: =ROUND(SUM(H26:J26),2) -> 0 | N26: =ROUND(E26*I26,2) -> 0 | O26: =ROUND(E26*J26,2) -> 0 | P26: =ROUND(SUM(M26:O26),2) -> 0
A27: 1.9 | C27: Caurule, gofrēta 750N, d=75 ar UV noturību | D27: m | E27: 14 | K27: =ROUND(SUM(H27:J27),2) -> 0 | N27: =ROUND(E27*I27,2) -> 0 | O27: =ROUND(E27*J27,2) -> 0 | P27: =ROUND(SUM(M27:O27),2) -> 0
A28: 1.10 | C28: Caurule, gofrēta 450N, d=75 | D28: m | E28: 0 | K28: =ROUND(SUM(H28:J28),2) -> 0 | N28: =ROUND(E28*I28,2) -> 0 | O28: =ROUND(E28*J28,2) -> 0 | P28: =ROUND(SUM(M28:O28),2) -> 0
A29: 1.11 | C29: Caurule, caurdures 1250N d=110 | D29: m | E29: 0 | K29: =ROUND(SUM(H29:J29),2) -> 0 | N29: =ROUND(E29*I29,2) -> 0 | O29: =ROUND(E29*J29,2) -> 0 | P29: =ROUND(SUM(M29:O29),2) -> 0
A30: 1.11 | C30: Caurule, DALĪTĀ 1250N, d=110mm | D30: m | E30: 0 | K30: =ROUND(SUM(H30:J30),2) -> 0 | N30: =ROUND(E30*I30,2) -> 0 | O30: =ROUND(E30*J30,2) -> 0 | P30: =ROUND(SUM(M30:O30),2) -> 0
... A59: 1.40 | C59: Papildmateriāli | D59: objekts | E59: 1 | K59: =ROUND(SUM(H59:J59),2) -> 0 | N59: =ROUND(E59*I59,2) -> 0 | O59: =ROUND(E59*J59,2) -> 0 | P59: =ROUND(SUM(M59:O59),2) -> 0
A60: 2. | C60: 2. Darbi
A61: 2.1 | C61: Tranšejas rakšana un aizbēršana viena līdz divu kabeļu (caurules) un optisko tīklu guldīšanai 0.7m dziļumā | D61: m | E61: 0 | K61: =ROUND(SUM(H61:J61),2) -> 0 | L61: =ROUND(E61*F61,2) -> 0 | M61: =ROUND(E61*H61,2) -> 0 | N61: =ROUND(E61*I61,2) -> 0 | O61: =ROUND(E61*J61,2) -> 0 | P61: =ROUND(SUM(M61:O61),2) -> 0
A62: 2.2 | C62: Tranšejas rakšana un aizbēršana viena līdz divu kabeļu (caurules)un optisko tīklu guldīšanai 1m dziļumā | D62: m | E62: 0 | K62: =ROUND(SUM(H62:J62),2) -> 0 | L62: =ROUND(E62*F62,2) -> 0 | M62: =ROUND(E62*H62,2) -> 0 | N62: =ROUND(E62*I62,2) -> 0 | O62: =ROUND(E62*J62,2) -> 0 | P62: =ROUND(SUM(M62:O62),2) -> 0
A63: 2.3 | C63: Tranšeja zemējuma kontūram | D63: m | E63: 0 | K63: =ROUND(SUM(H63:J63),2) -> 0 | L63: =ROUND(E63*F63,2) -> 0 | M63: =ROUND(E63*H63,2) -> 0 | N63: =ROUND(E63*I63,2) -> 0 | O63: =ROUND(E63*J63,2) -> 0 | P63: =ROUND(SUM(M63:O63),2) -> 0
A64: 2.4 | C64: Skatrakums - esošo komunikāciju ieguldīšanas dziļuma precizēšana, veicot rakšanas darbus ar rokām | D64: gb. | E64: 1 | K64: =ROUND(SUM(H64:J64),2) -> 0 | L64: =ROUND(E64*F64,2) -> 0 | M64: =ROUND(E64*H64,2) -> 0 | N64: =ROUND(E64*I64,2) -> 0 | O64: =ROUND(E64*J64,2) -> 0 | P64: =ROUND(SUM(M64:O64),2) -> 0
A65: 2.5 | C65: Kabeļu aizsargcaurules d=līdz 110 mm ieguldīšana gatavā tranšejā | D65: m | E65: 423 | K65: =ROUND(SUM(H65:J65),2) -> 0 | L65: =ROUND(E65*F65,2) -> 0 | M65: =ROUND(E65*H65,2) -> 0 | O65: =ROUND(E65*J65,2) -> 0 | P65: =ROUND(SUM(M65:O65),2) -> 0
A66: 2.6 | C66: Kabeļu aizsargcaurules d=līdz 110 mm ieguldīšana un nostiprināšana ūdens gultnē | D66: m | E66: 14 | K66: =ROUND(SUM(H66:J66),2) -> 0 | L66: =ROUND(E66*F66,2) -> 0 | M66: =ROUND(E66*H66,2) -> 0 | O66: =ROUND(E66*J66,2) -> 0 | P66: =ROUND(SUM(M66:O66),2) -> 0
A67: 2.7 | C67: Esošas kabeļu līnijas mehāniskā aizsardzība, iekļaujot tranšejas rakšanu ar rokām | D67: m | K67: =ROUND(SUM(H67:J67),2) -> 0 | L67: =ROUND(E67*F67,2) -> 0 | M67: =ROUND(E67*H67,2) -> 0 | O67: =ROUND(E67*J67,2) -> 0 | P67: =ROUND(SUM(M67:O67),2) -> 0
A68: 2.8 | C68: ZS kabeļa līdz 35 mm2 ievēršana caurulē | D68: m | E68: 114 | K68: =ROUND(SUM(H68:J68),2) -> 0 | L68: =ROUND(E68*F68,2) -> 0 | M68: =ROUND(E68*H68,2) -> 0 | O68: =ROUND(E68*J68,2) -> 0 | P68: =ROUND(SUM(M68:O68),2) -> 0
A69: 2.9 | C69: ZS plastmasas izolācijas kabeļa līdz 35 mm2 gala apdare | D69: kpl. | K69: =ROUND(SUM(H69:J69),2) -> 0 | L69: =ROUND(E69*F69,2) -> 0 | M69: =ROUND(E69*H69,2) -> 0 | O69: =ROUND(E69*J69,2) -> 0 | P69: =ROUND(SUM(M69:O69),2) -> 0
A70: 2.10 | C70: Apgaismojuma sadalnes montāža | D70: gb. | K70: =ROUND(SUM(H70:J70),2) -> 0 | L70: =ROUND(E70*F70,2) -> 0 | M70: =ROUND(E70*H70,2) -> 0 | O70: =ROUND(E70*J70,2) -> 0 | P70: =ROUND(SUM(M70:O70),2) -> 0
A71: 2.11 | C71: Pieslēguma izveidošana pie esošās apgaismojuma vadības sadalnes, iekļaujot materiālu | D71: kpl. | E71: 1 | K71: =ROUND(SUM(H71:J71),2) -> 0 | L71: =ROUND(E71*F71,2) -> 0 | M71: =ROUND(E71*H71,2) -> 0 | O71: =ROUND(E71*J71,2) -> 0 | P71: =ROUND(SUM(M71:O71),2) -> 0
A72: 2.12 | C72: Vertikālā zemētāja dziļumā līdz 3 m montāža | D72: gb. | K72: =ROUND(SUM(H72:J72),2) -> 0 | L72: =ROUND(E72*F72,2) -> 0 | M72: =ROUND(E72*H72,2) -> 0 | O72: =ROUND(E72*J72,2) -> 0 | P72: =ROUND(SUM(M72:O72),2) -> 0
A73: 2.13 | C73: Horizontālā zemētāja montāža tranšejā | D73: m | K73: =ROUND(SUM(H73:J73),2) -> 0 | L73: =ROUND(E73*F73,2) -> 0 | M73: =ROUND(E73*H73,2) -> 0 | O73: =ROUND(E73*J73,2) -> 0 | P73: =ROUND(SUM(M73:O73),2) -> 0
A74: 2.14 | C74: Kameru, raidītāja un to nozarkārbu montāža balstā | D74: kpl. | E74: 1 | K74: =ROUND(SUM(H74:J74),2) -> 0 | L74: =ROUND(E74*F74,2) -> 0 | M74: =ROUND(E74*H74,2) -> 0 | O74: =ROUND(E74*J74,2) -> 0 | P74: =ROUND(SUM(M74:O74),2) -> 0
A75: 2.15 | C75: Apgaismojuma balsta montāža komplektā ar pamatni, gaismekļiem, instalāciju | D75: kpl. | E75: 1 | K75: =ROUND(SUM(H75:J75),2) -> 0 | L75: =ROUND(E75*F75,2) -> 0 | M75: =ROUND(E75*H75,2) -> 0 | O75: =ROUND(E75*J75,2) -> 0 | P75: =ROUND(SUM(M75:O75),2) -> 0
A76: 2.16 | C76: Craudures veikšana cen peibraucamā ceļa un pie ceļa uz zemesgabalu Nr. 88010110059 kopā 25m | D76: kpl. | K76: =ROUND(SUM(H76:J76),2) -> 0 | L76: =ROUND(E76*F76,2) -> 0 | M76: =ROUND(E76*H76,2) -> 0 | O76: =ROUND(E76*J76,2) -> 0 | P76: =ROUND(SUM(M76:O76),2) -> 0
A77: 3. | C77: 3. Citi darbi/materiāli
A78: 3.1 | C78: EPL digitālā uzmērīšana/trases nospraušana | D78: m | E78: 1 | K78: =ROUND(SUM(H78:J78),2) -> 0 | L78: =ROUND(E78*F78,2) -> 0 | M78: =ROUND(E78*H78,2) -> 0 | N78: =ROUND(E78*I78,2) -> 0 | O78: =ROUND(E78*J78,2) -> 0 | P78: =ROUND(SUM(M78:O78),2) -> 0
A79: 3.2 | C79: Rakšanas atļaujas saņemšana | D79: objekts | E79: 1 | K79: =ROUND(SUM(H79:J79),2) -> 0 | L79: =ROUND(E79*F79,2) -> 0 | M79: =ROUND(E79*H79,2) -> 0 | N79: =ROUND(E79*I79,2) -> 0 | O79: =ROUND(E79*J79,2) -> 0 | P79: =ROUND(SUM(M79:O79),2) -> 0
A80: 3.3 | C80: Tehniskās dokumentācijas sagatavošana objekta nodošanai | D80: objekts | E80: 1 | K80: =ROUND(SUM(H80:J80),2) -> 0 | L80: =ROUND(E80*F80,2) -> 0 | M80: =ROUND(E80*H80,2) -> 0 | N80: =ROUND(E80*I80,2) -> 0 | O80: =ROUND(E80*J80,2) -> 0 | P80: =ROUND(SUM(M80:O80),2) -> 0
C81: Faktiskā situācija Videokameras pievienošanas darbi
B82: Jauna pozīcija | C82: Optiskie dubultie LC "pigtail" (0.5-1m) (SM) | D82: gb | E82: 0 | K82: =ROUND(SUM(H82:J82),2) -> 0 | L82: =ROUND(E82*F82,2) -> 0 | M82: =ROUND(E82*H82,2) -> 0 | N82: =ROUND(E82*I82,2) -> 0 | O82: =ROUND(E82*J82,2) -> 0 | P82: =ROUND(SUM(M82:O82),2) -> 0
B83: Jauna pozīcija | C83: Optiskie SFP 2xLC moduļi,1.25G SFP optiskais modulis,2xLC (SM) | D83: gb | E83: 0 | K83: =ROUND(SUM(H83:J83),2) -> 0 | L83: =ROUND(E83*F83,2) -> 0 | M83: =ROUND(E83*H83,2) -> 0 | N83: =ROUND(E83*I83,2) -> 0 | O83: =ROUND(E83*J83,2) -> 0 | P83: =ROUND(SUM(M83:O83),2) -> 0
B84: Jauna pozīcija | C84: RJ 45 pačkordi (2m) | D84: gb | E84: 0 | K84: =ROUND(SUM(H84:J84),2) -> 0 | L84: =ROUND(E84*F84,2) -> 0 | M84: =ROUND(E84*H84,2) -> 0 | N84: =ROUND(E84*I84,2) -> 0 | O84: =ROUND(E84*J84,2) -> 0 | P84: =ROUND(SUM(M84:O84),2) -> 0
B85: Jauna pozīcija | C85: UV gofrētā caurule D20 | D85: m | E85: 0 | K85: =ROUND(SUM(H85:J85),2) -> 0 | L85: =ROUND(E85*F85,2) -> 0 | M85: =ROUND(E85*H85,2) -> 0 | N85: =ROUND(E85*I85,2) -> 0 | O85: =ROUND(E85*J85,2) -> 0 | P85: =ROUND(SUM(M85:O85),2) -> 0
B86: Jauna pozīcija | C86: Mērījumu veikšana Pieņemšanas testēšana un mērījumi; 1. šķiedra vienā piekļuves punktā (Pigtail) | D86: škiedra | E86: 0 | K86: =ROUND(SUM(H86:J86),2) -> 0 | L86: =ROUND(E86*F86,2) -> 0 | M86: =ROUND(E86*H86,2) -> 0 | N86: =ROUND(E86*I86,2) -> 0 | O86: =ROUND(E86*J86,2) -> 0 | P86: =ROUND(SUM(M86:O86),2) -> 0
B87: Jauna pozīcija | C87: 8F optiskā kabeļa iestrādāšana optisko savienojumu un sadales skapjos, kastēs, statnēs, ODF-os, rozetēs ievēršana,pārvēršanas | D87: Kabelis | E87: 0 | K87: =ROUND(SUM(H87:J87),2) -> 0 | L87: =ROUND(E87*F87,2) -> 0 | M87: =ROUND(E87*H87,2) -> 0 | N87: =ROUND(E87*I87,2) -> 0 | O87: =ROUND(E87*J87,2) -> 0 | P87: =ROUND(SUM(M87:O87),2) -> 0
B88: Jauna pozīcija | C88: Optiskā kabeļa montāža gala iekārtā (ODF, statne, sadales skapis, rozete), kabelis bez konektoriem, 1. šķiedra (Pigtail) | D88: Šķiedra | E88: 0 | K88: =ROUND(SUM(H88:J88),2) -> 0 | L88: =ROUND(E88*F88,2) -> 0 | M88: =ROUND(E88*H88,2) -> 0 | N88: =ROUND(E88*I88,2) -> 0 | O88: =ROUND(E88*J88,2) -> 0 | P88: =ROUND(SUM(M88:O88),2) -> 0
C89: Apgaismojumma staba pārcelšana un apbēršana
B90: 1. | C90: 1. Materiāli | K90: =ROUND(SUM(H90:J90),2) -> 0 | L90: =ROUND(E90*F90,2) -> 0 | M90: =ROUND(E90*H90,2) -> 0 | N90: =ROUND(E90*I90,2) -> 0 | O90: =ROUND(E90*J90,2) -> 0 | P90: =ROUND(SUM(M90:O90),2) -> 0
B91: 1.1 | C91: Kabelis NYY-J-5x16mm2 vai analogs | D91: m | E91: 0 | K91: =ROUND(SUM(H91:J91),2) -> 0 | L91: =ROUND(E91*F91,2) -> 0 | M91: =ROUND(E91*H91,2) -> 0 | N91: =ROUND(E91*I91,2) -> 0 | O91: =ROUND(E91*J91,2) -> 0 | P91: =ROUND(SUM(M91:O91),2) -> 0
B92: 1.7 | C92: Gala apdare 1kV, piecdzīslu kabelim | D92: gb. | E92: 0 | K92: =ROUND(SUM(H92:J92),2) -> 0 | L92: =ROUND(E92*F92,2) -> 0 | M92: =ROUND(E92*H92,2) -> 0 | N92: =ROUND(E92*I92,2) -> 0 | O92: =ROUND(E92*J92,2) -> 0 | P92: =ROUND(SUM(M92:O92),2) -> 0
B93: 1.17 | C93: Signāllenta kabeļlīnijai - DZELTENA | D93: m | E93: 0 | K93: =ROUND(SUM(H93:J93),2) -> 0 | L93: =ROUND(E93*F93,2) -> 0 | M93: =ROUND(E93*H93,2) -> 0 | N93: =ROUND(E93*I93,2) -> 0 | O93: =ROUND(E93*J93,2) -> 0 | P93: =ROUND(SUM(M93:O93),2) -> 0
B94: Jauna pozīcija | C94: Savienojuma uzmava 5x16 NYY-J kabelim | D94: gb. | E94: 0 | K94: =ROUND(SUM(H94:J94),2) -> 0 | L94: =ROUND(E94*F94,2) -> 0 | M94: =ROUND(E94*H94,2) -> 0 | N94: =ROUND(E94*I94,2) -> 0 | O94: =ROUND(E94*J94,2) -> 0 | P94: =ROUND(SUM(M94:O94),2) -> 0
B95: 1.40 | C95: Papildmateriāli | D95: objekts | E95: 0 | K95: =ROUND(SUM(H95:J95),2) -> 0 | L95: =ROUND(E95*F95,2) -> 0 | M95: =ROUND(E95*H95,2) -> 0 | N95: =ROUND(E95*I95,2) -> 0 | O95: =ROUND(E95*J95,2) -> 0 | P95: =ROUND(SUM(M95:O95),2) -> 0
B96: 2. | C96: 2. Darbi
B97: 2.1 | C97: Tranšejas rakšana un aizbēršana viena līdz divu kabeļu (caurules) un optisko tīklu guldīšanai 0.7m dziļumā | D97: m | E97: 0 | K97: =ROUND(SUM(H97:J97),2) -> 0 | L97: =ROUND(E97*F97,2) -> 0 | M97: =ROUND(E97*H97,2) -> 0 | N97: =ROUND(E97*I97,2) -> 0 | O97: =ROUND(E97*J97,2) -> 0 | P97: =ROUND(SUM(M97:O97),2) -> 0
B98: 2.8 | C98: ZS kabeļa līdz 35 mm2 ievēršana caurulē,guldīšana tranšejā | D98: m | E98: 0 | K98: =ROUND(SUM(H98:J98),2) -> 0 | L98: =ROUND(E98*F98,2) -> 0 | M98: =ROUND(E98*H98,2) -> 0 | N98: =ROUND(E98*I98,2) -> 0 | O98: =ROUND(E98*J98,2) -> 0 | P98: =ROUND(SUM(M98:O98),2) -> 0
B99: 2.9 | C99: ZS plastmasas izolācijas kabeļa līdz 35 mm2 gala apdare | D99: kpl. | E99: 0 | K99: =ROUND(SUM(H99:J99),2) -> 0 | L99: =ROUND(E99*F99,2) -> 0 | M99: =ROUND(E99*H99,2) -> 0 | N99: =ROUND(E99*I99,2) -> 0 | O99: =ROUND(E99*J99,2) -> 0 | P99: =ROUND(SUM(M99:O99),2) -> 0
B100: Jauna pozīcija | C100: savienojuma uzmavas montāža NYY-J 5x16 kabelim | D100: gb. | E100: 0 | K100: =ROUND(SUM(H100:J100),2) -> 0 | L100: =ROUND(E100*F100,2) -> 0 | M100: =ROUND(E100*H100,2) -> 0 | N100: =ROUND(E100*I100,2) -> 0 | O100: =ROUND(E100*J100,2) -> 0 | P100: =ROUND(SUM(M100:O100),2) -> 0
B101: Jauna pozīcija | C101: Apgaismojuma balsta apbēršana | D101: kpl. | E101: 0 | K101: =ROUND(SUM(H101:J101),2) -> 0 | L101: =ROUND(E101*F101,2) -> 0 | M101: =ROUND(E101*H101,2) -> 0 | N101: =ROUND(E101*I101,2) -> 0 | O101: =ROUND(E101*J101,2) -> 0 | P101: =ROUND(SUM(M101:O101),2) -> 0
B102: 3. | C102: 3. Citi darbi/materiāli
B103: 3.1 | C103: EPL digitālā uzmērīšana/trases nospraušana | D103: m | E103: 0 | K103: =ROUND(SUM(H103:J103),2) -> 0 | L103: =ROUND(E103*F103,2) -> 0 | M103: =ROUND(E103*H103,2) -> 0 | N103: =ROUND(E103*I103,2) -> 0 | O103: =ROUND(E103*J103,2) -> 0 | P103: =ROUND(SUM(M103:O103),2) -> 0
B104: 3.3 | C104: Tehniskās dokumentācijas sagatavošana objekta nodošanai | D104: objekts | E104: 0 | K104: =ROUND(SUM(H104:J104),2) -> 0 | L104: =ROUND(E104*F104,2) -> 0 | M104: =ROUND(E104*H104,2) -> 0 | N104: =ROUND(E104*I104,2) -> 0 | O104: =ROUND(E104*J104,2) -> 0 | P104: =ROUND(SUM(M104:O104),2) -> 0
C105: Tiešās izmaksas kopā, t. sk. darba devēja sociālais nodoklis (23,59%) | L105: =ROUND(SUM(L19:L80),2) -> 0 | M105: =ROUND(SUM(M19:M80),2) -> 0 | N105: =ROUND(SUM(N19:N80),2) -> 0 | O105: =ROUND(SUM(O19:O80),2) -> 0 | P105: =ROUND(SUM(M105:O105),2) -> 0
B109: Sastādija: | M109: , 2026.gada .
C110: (paraksts un tā atšifrējums, datums)
B111: Sertifikāta Nr.
B113: Tāme sastādīta 2026.gada .
B115: Pārbaudīja: | M115: , 2026.gada .
C116: (paraksts un tā atšifrējums, datums)
B117: Sertifikāta Nr.

Sheet TS_L_1
G2: Lokālā tāme Nr. 1-4
G4: Teritorijas labiekārtošana, 1. kārta, TS-L
G5: (Darba veids vai konstruktīvā elementa nosaukums)
A8: Objekta nosaukums | C8: Vilkmuižas ezera apkārtnes labiekārtošana
A9: Būves nosaukums | C9: Vilkmuižas ezera apkārtnes labiekārtošana
A10: Objekta adrese | C10: Vilkmuižas ezera apkārtne, Talsi, Talsu novads, LV-3201, kad.nr.88010110038
A11: Pasūtījuma Nr.
B13: Tāme sastādīta 2026. gada tirgus cenās, pamatojoties uz TS-L daļas rasējumem. | H13: Tāmes izmaksas: | I13: =P58 -> 0 | K13: euro
M14: Tāme sastādīta 2026.gada .
A16: N. p.k. | B16: Kods* | C16: Darbu nosaukums | D16: Mērvienība | E16: Daudzums | F16: Vienības izmaksas | L16: Kopā uz visu apjomu
F17: Laika norma (c/h) | G17: Darba samaksas likme * (euro/h) | H17: Darba alga | I17: Būvizstrā- dājumi | J17: Mehānismi | K17: Kopā | L17: Darbietilpība (c/h) | M17: Darba alga | N17: Būvizstrā- dājumi | O17: Mehānismi | P17: Summa
A18: 1. | C18: Smilts segums (pludmales volejbolām), 180m2
A19: 1.1 | C19: grunts izņemšana zem seguma | D19: m3 | E19: 0 | K19: =ROUND(SUM(H19:J19),2) -> 0 | L19: =ROUND(E19*F19,2) -> 0 | M19: =ROUND(E19*H19,2) -> 0 | N19: =ROUND(E19*I19,2) -> 0 | O19: =ROUND(E19*J19,2) -> 0 | P19: =ROUND(SUM(M19:O19),2) -> 0
A20: 1.2 | C20: seguma pamatnes grunts izlīdzināšanaun blietēšana | D20: m2 | E20: 0 | K20: =ROUND(SUM(H20:J20),2) -> 0 | L20: =ROUND(E20*F20,2) -> 0 | M20: =ROUND(E20*H20,2) -> 0 | N20: =ROUND(E20*I20,2) -> 0 | O20: =ROUND(E20*J20,2) -> 0 | P20: =ROUND(SUM(M20:O20),2) -> 0
A21: 1.3 | C21: rupja minerālmateriālu maisījuma (22/ 45) ieklāšana, h=15cm | D21: m2 | E21: 0 | K21: =ROUND(SUM(H21:J21),2) -> 0 | L21: =ROUND(E21*F21,2) -> 0 | M21: =ROUND(E21*H21,2) -> 0 | N21: =ROUND(E21*I21,2) -> 0 | O21: =ROUND(E21*J21,2) -> 0 | P21: =ROUND(SUM(M21:O21),2) -> 0
A22: 1.4 | C22: vidēji rupja minerālmateriālu maisījuma (8 /32) ieklāšana, h=6cm | D22: m2 | E22: 0 | K22: =ROUND(SUM(H22:J22),2) -> 0 | L22: =ROUND(E22*F22,2) -> 0 | M22: =ROUND(E22*H22,2) -> 0 | N22: =ROUND(E22*I22,2) -> 0 | O22: =ROUND(E22*J22,2) -> 0 | P22: =ROUND(SUM(M22:O22),2) -> 0
A23: 1.5 | C23: smalka minerālmateriālu maisījuma (0/16) ieklāšana, h=3cm | D23: m2 | E23: 0 | K23: =ROUND(SUM(H23:J23),2) -> 0 | L23: =ROUND(E23*F23,2) -> 0 | M23: =ROUND(E23*H23,2) -> 0 | N23: =ROUND(E23*I23,2) -> 0 | O23: =ROUND(E23*J23,2) -> 0 | P23: =ROUND(SUM(M23:O23),2) -> 0
B24: Jauna pozīcija | C24: Smilts kārtas atdalīšana ar ģeotekstilu | D24: m2 | E24: 0 | L24: =ROUND(E24*F24,2) -> 0 | M24: =ROUND(E24*H24,2) -> 0 | N24: =ROUND(E24*I24,2) -> 0 | O24: =ROUND(E24*J24,2) -> 0 | P24: =ROUND(SUM(M24:O24),2) -> 0
B25: Jauna pozīcija | C25: skalotas upes smiltis (0/2) ieklāšana, h=24cm | D25: m2 | E25: 0 | L25: =ROUND(E25*F25,2) -> 0 | M25: =ROUND(E25*H25,2) -> 0 | N25: =ROUND(E25*I25,2) -> 0 | O25: =ROUND(E25*J25,2) -> 0 | P25: =ROUND(SUM(M25:O25),2) -> 0
A26: 1.6 | C26: skalotas upes smiltis (0/2) virskārtas ieklāšana, h=30cm | D26: m2 | E26: 0 | K26: =ROUND(SUM(H26:J26),2) -> 0 | L26: =ROUND(E26*F26,2) -> 0 | M26: =ROUND(E26*H26,2) -> 0 | N26: =ROUND(E26*I26,2) -> 0 | O26: =ROUND(E26*J26,2) -> 0 | P26: =ROUND(SUM(M26:O26),2) -> 0
A27: 1.7 | C27: izraktās grunts nogādāšana uz būvdarbu veicēja atbērtni | D27: m3 | E27: 0 | K27: =ROUND(SUM(H27:J27),2) -> 0 | L27: =ROUND(E27*F27,2) -> 0 | M27: =ROUND(E27*H27,2) -> 0 | N27: 0 | O27: =ROUND(E27*J27,2) -> 0 | P27: =ROUND(SUM(M27:O27),2) -> 0
A28: 2. | C28: Smilts segums (pludmalei), 1050m2
A29: 2.1 | C29: grunts izņemšana zem seguma | D29: m3 | E29: 150 | K29: =ROUND(SUM(H29:J29),2) -> 0 | L29: =ROUND(E29*F29,2) -> 0 | M29: =ROUND(E29*H29,2) -> 0 | N29: =ROUND(E29*I29,2) -> 0 | O29: =ROUND(E29*J29,2) -> 0 | P29: =ROUND(SUM(M29:O29),2) -> 0
A30: 2.2 | C30: seguma pamatnes grunts izlīdzināšanaun blietēšana | D30: m2 | E30: 60 | K30: =ROUND(SUM(H30:J30),2) -> 0 | L30: =ROUND(E30*F30,2) -> 0 | M30: =ROUND(E30*H30,2) -> 0 | N30: =ROUND(E30*I30,2) -> 0 | O30: =ROUND(E30*J30,2) -> 0 | P30: =ROUND(SUM(M30:O30),2) -> 0
A31: 2.3 | C31: skalotas upes smiltis (0/2) ieklāšana, h=40cm | D31: m3 | E31: 150 | K31: =ROUND(SUM(H31:J31),2) -> 0 | L31: =ROUND(E31*F31,2) -> 0 | M31: =ROUND(E31*H31,2) -> 0 | N31: =ROUND(E31*I31,2) -> 0 | O31: =ROUND(E31*J31,2) -> 0 | P31: =ROUND(SUM(M31:O31),2) -> 0
A32: 2.4 | C32: izraktās grunts nogādāšana uz būvdarbu veicēja atbērtni | D32: m3 | E32: 150 | K32: =ROUND(SUM(H32:J32),2) -> 0 | L32: =ROUND(E32*F32,2) -> 0 | M32: =ROUND(E32*H32,2) -> 0 | N32: =ROUND(E32*I32,2) -> 0 | O32: =ROUND(E32*J32,2) -> 0 | P32: =ROUND(SUM(M32:O32),2) -> 0
A33: 3. | C33: Koka klājs (zem ģerbtuves un zona starp pludmali un celiņu), 52,2m2 | D33: m2 | E33: 0
A34: 3.1 | C34: seguma pamatnes grunts izlīdzināšanaun blietēšana | D34: m2 | E34: 0 | K34: =ROUND(SUM(H34:J34),2) -> 0 | L34: =ROUND(E34*F34,2) -> 0 | M34: =ROUND(E34*H34,2) -> 0 | N34: =ROUND(E34*I34,2) -> 0 | O34: =ROUND(E34*J34,2) -> 0 | P34: =ROUND(SUM(M34:O34),2) -> 0
A35: 3.2 | C35: blietētas smilts salizturīgās kārtas ieklāšana, h=30cm | D35: m2 | E35: 0 | K35: =ROUND(SUM(H35:J35),2) -> 0 | L35: =ROUND(E35*F35,2) -> 0 | M35: =ROUND(E35*H35,2) -> 0 | N35: =ROUND(E35*I35,2) -> 0 | O35: =ROUND(E35*J35,2) -> 0 | P35: =ROUND(SUM(M35:O35),2) -> 0
A36: 3.3 | C36: nesaistītu minerālmateriālu maisījuma (0-32) ieklāšana, h=20cm | D36: m2 | E36: 0 | K36: =ROUND(SUM(H36:J36),2) -> 0 | L36: =ROUND(E36*F36,2) -> 0 | M36: =ROUND(E36*H36,2) -> 0 | N36: =ROUND(E36*I36,2) -> 0 | O36: =ROUND(E36*J36,2) -> 0 | P36: =ROUND(SUM(M36:O36),2) -> 0
A37: 3.4 | C37: mazgātas smilts( 0/11) 65% un dolomīta izsiju 35% (0-11) maisījuma virskārtas ieklāšana, h=-5cm | D37: m2 | E37: 0 | K37: =ROUND(SUM(H37:J37),2) -> 0 | L37: =ROUND(E37*F37,2) -> 0 | M37: =ROUND(E37*H37,2) -> 0 | N37: =ROUND(E37*I37,2) -> 0 | O37: =ROUND(E37*J37,2) -> 0 | P37: =ROUND(SUM(M37:O37),2) -> 0
A38: 3.5 | C38: impregnētu terases dēļu t= 28mm ieklāšana uz 10cm biezu keramzītbloku pamatnes, imprignēta koka brusa 70x200mm | D38: m2 | E38: 0 | K38: =ROUND(SUM(H38:J38),2) -> 0 | L38: =ROUND(E38*F38,2) -> 0 | M38: =ROUND(E38*H38,2) -> 0 | N38: =ROUND(E38*I38,2) -> 0 | O38: =ROUND(E38*J38,2) -> 0 | P38: =ROUND(SUM(M38:O38),2) -> 0
A39: 4. | C39: Atbalstsiena no gabioniem:
A40: 4.1 | C40: metināta cinkota gabiona režģa 500x500x1000mm, stieple d4mm, acs izmēri 76x76mm, uzstādīšana | D40: m | E40: 0 | K40: =ROUND(SUM(H40:J40),2) -> 0 | L40: =ROUND(E40*F40,2) -> 0 | M40: =ROUND(E40*H40,2) -> 0 | N40: =ROUND(E40*I40,2) -> 0 | O40: =ROUND(E40*J40,2) -> 0 | P40: =ROUND(SUM(M40:O40),2) -> 0
A41: 4.2 | C41: gabiona režģa aizpildīšana ar laukakmeņiem diam. 250-350 mm | D41: m3 | E41: 0 | K41: =ROUND(SUM(H41:J41),2) -> 0 | L41: =ROUND(E41*F41,2) -> 0 | M41: =ROUND(E41*H41,2) -> 0 | N41: =ROUND(E41*I41,2) -> 0 | O41: =ROUND(E41*J41,2) -> 0 | P41: =ROUND(SUM(M41:O41),2) -> 0
A42: 5. | C42: Pārģērbšanās kabīne 2,10x3,26x4,20m. Atbilstoši rasējumiem lapā TS-L-11 izgatavota divvietīga pārģērbšanās kabīne, stiprinot ar skrūvem pie koka seguma | D42: gb. | E42: 1 | K42: =ROUND(SUM(H42:J42),2) -> 0 | L42: =ROUND(E42*F42,2) -> 0 | M42: =ROUND(E42*H42,2) -> 0 | N42: =ROUND(E42*I42,2) -> 0 | O42: =ROUND(E42*J42,2) -> 0 | P42: =ROUND(SUM(M42:O42),2) -> 0
A43: 6. | C43: Pludmales volejbola laukuma aprīkojums Tīkls, polipropilēna lentas un enkuri (teritorijas iezīmēšanai). 2 metāla stabi, betonēta pamatne | D43: kpl. | E43: 1 | K43: =ROUND(SUM(H43:J43),2) -> 0 | L43: =ROUND(E43*F43,2) -> 0 | M43: =ROUND(E43*H43,2) -> 0 | N43: =ROUND(E43*I43,2) -> 0 | O43: =ROUND(E43*J43,2) -> 0 | P43: =ROUND(SUM(M43:O43),2) -> 0
A44: 7.1 | C44: Labiekārtojuma elementi
A45: 7.1.1 | C45: Soliņi, urnas, velostatīvi:
C46: Soliņš ZANO Flash Bench 02.025 (cietkoks) Ar betonētu pamatni vai stiprinās ar skrūvēm pie koka seguma konstrukcijas | D46: gb. | E46: 11 | K46: =ROUND(SUM(H43:J43),2) -> 0 | L46: =ROUND(E43*F43,2) -> 0 | M46: =ROUND(E43*H43,2) -> 0 | N46: =ROUND(E43*I43,2) -> 0 | O46: =ROUND(E43*J43,2) -> 0 | P46: =ROUND(SUM(M46:O46),2) -> 0
A47: 7.1.2 | C47: Soliņš ZANO Flash Bench 02.225 (cietkoks) Ar betonētu pamatni vai stiprinās ar skrūvēm pie koka seguma konstrukcijas | D47: gb. | E47: 5 | K47: =ROUND(SUM(H47:J47),2) -> 0 | L47: =ROUND(E47*F47,2) -> 0 | M47: =ROUND(E47*H47,2) -> 0 | N47: =ROUND(E47*I47,2) -> 0 | O47: =ROUND(E47*J47,2) -> 0 | P47: =ROUND(SUM(M47:O47),2) -> 0
A48: 7.1.3 | C48: Soliņš ZANO Flash Bench 02.725 (cietkoks) Stiprinās pie gabioniem | D48: gb. | E48: 8 | K48: =ROUND(SUM(H48:J48),2) -> 0 | L48: =ROUND(E48*F48,2) -> 0 | M48: =ROUND(E48*H48,2) -> 0 | N48: =ROUND(E48*I48,2) -> 0 | O48: =ROUND(E48*J48,2) -> 0 | P48: =ROUND(SUM(M48:O48),2) -> 0
A49: 7.1.4 | C49: Šķiroto atkritumu urna ZANO Pavo Recycling bin 15.063 Ar betonētu pamatni vai stiprinās ar skrūvēm pie koka seguma konstrukcijas | D49: gb. | E49: 6 | K49: =ROUND(SUM(H49:J49),2) -> 0 | L49: =ROUND(E49*F49,2) -> 0 | M49: =ROUND(E49*H49,2) -> 0 | N49: =ROUND(E49*I49,2) -> 0 | O49: =ROUND(E49*J49,2) -> 0 | P49: =ROUND(SUM(M49:O49),2) -> 0
A50: 7.1.5 | C50: Velostatīvs ZANO Flat Bicycle Rack 05.025 Ar betonētu pamatni vai stiprinās ar skrūvēm pie koka seguma konstrukcijas | D50: gb. | E50: 9 | K50: =ROUND(SUM(H50:J50),2) -> 0 | L50: =ROUND(E50*F50,2) -> 0 | M50: =ROUND(E50*H50,2) -> 0 | N50: =ROUND(E50*I50,2) -> 0 | O50: =ROUND(E50*J50,2) -> 0 | P50: =ROUND(SUM(M50:O50),2) -> 0
A51: 7.1.6 | C51: Zvilnis Odukalns Design ODK058-16 (cietkoks) Ar skrūvem pie betonētas pamatnes | D51: gb. | E51: 3 | K51: =ROUND(SUM(H51:J51),2) -> 0 | L51: =ROUND(E51*F51,2) -> 0 | M51: =ROUND(E51*H51,2) -> 0 | N51: =ROUND(E51*I51,2) -> 0 | O51: =ROUND(E51*J51,2) -> 0 | P51: =ROUND(SUM(M51:O51),2) -> 0
A52: 7.1.7 | C52: Zvilnis Odukalns Design ODK058-14 (cietkoks) vai ZANO Stilo lounger 02.548. Ar skrūvem pie betonētas pamatnes | D52: gb. | E52: 6 | K52: =ROUND(SUM(H52:J52),2) -> 0 | L52: =ROUND(E52*F52,2) -> 0 | M52: =ROUND(E52*H52,2) -> 0 | N52: =ROUND(E52*I52,2) -> 0 | O52: =ROUND(E52*J52,2) -> 0 | P52: =ROUND(SUM(M52:O52),2) -> 0
A53: 7.1.8 | C53: Informācijas stends Odukalns Design ODK067 vai ZANO Simple Information Board 08.024 (pret koroziju apstrādāta metāla informācijas plāksne 1200x1400mm ar pret laika apstākļiem un UV starojumu noturīgu līmplēvi, stiprinot ar skrūvem pie betonētas pamatnes) | D53: gb. | E53: 1 | K53: =ROUND(SUM(H53:J53),2) -> 0 | L53: =ROUND(E53*F53,2) -> 0 | M53: =ROUND(E53*H53,2) -> 0 | N53: =ROUND(E53*I53,2) -> 0 | O53: =ROUND(E53*J53,2) -> 0 | P53: =ROUND(SUM(M53:O53),2) -> 0
A54: 7.1.9 | C54: Takas posms 2m plats, pa sauszemi uz skrūvpāļiem | D54: m2 | E54: 54 | K54: =ROUND(SUM(H54:J54),2) -> 0 | L54: =ROUND(E54*F54,2) -> 0 | M54: =ROUND(E54*H54,2) -> 0 | N54: =ROUND(E54*I54,2) -> 0 | O54: =ROUND(E54*J54,2) -> 0 | P54: =ROUND(SUM(M54:O54),2) -> 0
A55: 7.1.10 | C55: Takas posms 3m plats, pa sauszemi uz skrūvpāļiem | D55: m2 | E55: 15 | K55: =ROUND(SUM(H55:J55),2) -> 0 | L55: =ROUND(E55*F55,2) -> 0 | M55: =ROUND(E55*H55,2) -> 0 | N55: =ROUND(E55*I55,2) -> 0 | O55: =ROUND(E55*J55,2) -> 0 | P55: =ROUND(SUM(M55:O55),2) -> 0
A56: 7.1.11 | C56: Takas posms 4m plats, pa sauszemi uz skrūvpāļiem | D56: m2 | E56: 181.2 | K56: =ROUND(SUM(H56:J56),2) -> 0 | L56: =ROUND(E56*F56,2) -> 0 | M56: =ROUND(E56*H56,2) -> 0 | N56: =ROUND(E56*I56,2) -> 0 | O56: =ROUND(E56*J56,2) -> 0 | P56: =ROUND(SUM(M56:O56),2) -> 0
A57: jauna | C57: Uzbēruma izbūve no pievesta materiāla gar taku posmiem | D57: m3 | E57: 200 | K57: =ROUND(SUM(H57:J57),2) -> 0 | L57: =ROUND(E57*F57,2) -> 0 | M57: =ROUND(E57*H57,2) -> 0 | N57: =ROUND(E57*I57,2) -> 0 | O57: =ROUND(E57*J57,2) -> 0 | P57: =ROUND(SUM(M57:O57),2) -> 0
C58: Tiešās izmaksas kopā, t. sk. darba devēja sociālais nodoklis (23,59%) | L58: =ROUND(SUM(L19:L53),2) -> 0 | M58: =ROUND(SUM(M19:M53),2) -> 0 | N58: =ROUND(SUM(N19:N53),2) -> 0 | O58: =ROUND(SUM(O19:O53),2) -> 0 | P58: =ROUND(SUM(P19:P53),2) -> 0
B62: Sastādija: | M62: , 2026.gada .
C63: (paraksts un tā atšifrējums, datums)
B64: Sertifikāta Nr.
B66: Tāme sastādīta 2026.gada .
B68: Pārbaudīja: | M68: , 2026.gada .
C69: (paraksts un tā atšifrējums, datums)
B70: Sertifikāta Nr.

Sheet LAIPAS
G2: Lokālā tāme Nr. 1-5
G4: Pontonu konstrukcijas
G5: (Darba veids vai konstruktīvā elementa nosaukums)
A8: Objekta nosaukums | C8: Vilkmuižas ezera apkārtnes labiekārtošana
A9: Būves nosaukums | C9: Vilkmuižas ezera apkārtnes labiekārtošana
A10: Objekta adrese | C10: Vilkmuižas ezera apkārtne, Talsi, Talsu novads, LV-3201, kad.nr.88010110038
A11: Pasūtījuma Nr.
B13: Tāme sastādīta 2026. gada tirgus cenās, pamatojoties uz pontonu detalizācijas daļas rasējumem. | H13: Tāmes izmaksas: | I13: =P29 -> 0 | K13: euro
M14: Tāme sastādīta 2026.gada .
A16: N. p.k. | B16: Kods* | C16: Darbu nosaukums | D16: Mērvienība | E16: Daudzums | F16: Vienības izmaksas | L16: Kopā uz visu apjomu
F17: Laika norma (c/h) | G17: Darba samaksas likme * (euro/h) | H17: Darba alga | I17: Būvizstrā- dājumi | J17: Mehānismi | K17: Kopā | L17: Darbietilpība (c/h) | M17: Darba alga | N17: Būvizstrā- dājumi | O17: Mehānismi | P17: Summa
A18: 1. | C18: Atpūtas platforma ar iestrādātu peldbaseinu
A19: 1.1 | C19: Koka karkass, dubult-rāmis, C24, egle, imp HC3 | D19: kpl. | E19: 1 | K19: =ROUND(SUM(H19:J19),2) -> 0 | L19: =ROUND(E19*F19,2) -> 0 | M19: =ROUND(E19*H19,2) -> 0 | N19: =ROUND(E19*I19,2) -> 0 | O19: =ROUND(E19*J19,2) -> 0 | P19: =ROUND(SUM(M19:O19),2) -> 0
A20: 1.2 | C20: Koka klājs, 28mm, egle, imp HC3 | D20: kpl. | E20: 1 | K20: =ROUND(SUM(H20:J20),2) -> 0 | L20: =ROUND(E20*F20,2) -> 0 | M20: =ROUND(E20*H20,2) -> 0 | N20: =ROUND(E20*I20,2) -> 0 | O20: =ROUND(E20*J20,2) -> 0 | P20: =ROUND(SUM(M20:O20),2) -> 0
A21: 1.3 | C21: Negrimstības modulis, 4,5kN/m2 | D21: kpl. | E21: 1 | K21: =ROUND(SUM(H21:J21),2) -> 0 | L21: =ROUND(E21*F21,2) -> 0 | M21: =ROUND(E21*H21,2) -> 0 | N21: =ROUND(E21*I21,2) -> 0 | O21: =ROUND(E21*J21,2) -> 0 | P21: =ROUND(SUM(M21:O21),2) -> 0
A22: 1.4 | C22: Bērnu baseina izbūve - WPC klāja dēļi uz nerūsējošā tērauda karkasa | D22: kpl. | E22: 1 | K22: =ROUND(SUM(H22:J22),2) -> 0 | L22: =ROUND(E22*F22,2) -> 0 | M22: =ROUND(E22*H22,2) -> 0 | N22: =ROUND(E22*I22,2) -> 0 | O22: =ROUND(E22*J22,2) -> 0 | P22: =ROUND(SUM(M22:O22),2) -> 0
A23: 1.5 | C23: GSPillar HDG skrūvpāļu pamati | D23: kpl. | E23: 1 | K23: =ROUND(SUM(H23:J23),2) -> 0 | L23: =ROUND(E23*F23,2) -> 0 | M23: =ROUND(E23*H23,2) -> 0 | N23: =ROUND(E23*I23,2) -> 0 | O23: =ROUND(E23*J23,2) -> 0 | P23: =ROUND(SUM(M23:O23),2) -> 0
A24: 1.6 | C24: Aksesuāri. Nerūsējošā tērauda kāpnes, 7 koka pakāpieni | D24: gb. | E24: 10 | K24: =ROUND(SUM(H24:J24),2) -> 0 | L24: =ROUND(E24*F24,2) -> 0 | M24: =ROUND(E24*H24,2) -> 0 | N24: =ROUND(E24*I24,2) -> 0 | O24: =ROUND(E24*J24,2) -> 0 | P24: =ROUND(SUM(M24:O24),2) -> 0
A25: 1.7 | C25: HDG tērauda slips 3.0x6.0m, uz skrūvpāļiem | D25: gb. | E25: 1 | K25: =ROUND(SUM(H25:J25),2) -> 0 | L25: =ROUND(E25*F25,2) -> 0 | M25: =ROUND(E25*H25,2) -> 0 | N25: =ROUND(E25*I25,2) -> 0 | O25: =ROUND(E25*J25,2) -> 0 | P25: =ROUND(SUM(M25:O25),2) -> 0
A26: 1.8 | C26: Pontona laipa 2x10m | D26: kpl. | E26: 1 | K26: =ROUND(SUM(H26:J26),2) -> 0 | L26: =ROUND(E26*F26,2) -> 0 | M26: =ROUND(E26*H26,2) -> 0 | N26: =ROUND(E26*I26,2) -> 0 | O26: =ROUND(E26*J26,2) -> 0 | P26: =ROUND(SUM(M26:O26),2) -> 0
A27: 1.9 | C27: Pontons / platforma makšķerniekiem 5.0x10.0m uz 700l pludiem | D27: kpl. | E27: 0 | K27: =ROUND(SUM(H27:J27),2) -> 0 | L27: =ROUND(E27*F27,2) -> 0 | M27: =ROUND(E27*H27,2) -> 0 | N27: =ROUND(E27*I27,2) -> 0 | O27: =ROUND(E27*J27,2) -> 0 | P27: =ROUND(SUM(M27:O27),2) -> 0
A28: 1.10 | C28: HDG tērauda slips 3.0x6.0m, uz skrūvpāļiem | D28: kpl. | E28: 0 | K28: =ROUND(SUM(H28:J28),2) -> 0 | L28: =ROUND(E28*F28,2) -> 0 | M28: =ROUND(E28*H28,2) -> 0 | N28: =ROUND(E28*I28,2) -> 0 | O28: =ROUND(E28*J28,2) -> 0 | P28: =ROUND(SUM(M28:O28),2) -> 0
C29: Tiešās izmaksas kopā, t. sk. darba devēja sociālais nodoklis (23,59%) | L29: =ROUND(SUM(L18:L24),2) -> 0 | M29: =ROUND(SUM(M18:M24),2) -> 0 | N29: =ROUND(SUM(N18:N24),2) -> 0 | O29: =ROUND(SUM(O18:O24),2) -> 0 | P29: =ROUND(SUM(M29:O29),2) -> 0
B33: Sastādija: | M33: , 2026.gada .
C34: (paraksts un tā atšifrējums, datums)
B35: Sertifikāta Nr.
B37: Tāme sastādīta 2026.gada .
B39: Pārbaudīja: | M39: , 2026.gada .
C40: (paraksts un tā atšifrējums, datums)
B41: Sertifikāta Nr.
