Workbook

Sheet Būvn. Koptāme
C2: APSTIPRINU
A4: _____________________________________________________________
A5: (pasūtītāja paraksts un tā atšifrējums)
C6: Z.v.
A8: __________.gada ______.________________
A10: Būvniecības koptāme
A13: Objekta nosaukums: Daudzdzīvokļu dzīvojamās mājas pieguļošās teritorijas labiekārtošana
A14: Būves nosaukums: Daudzdzīvokļu dzīvojamā
A15: Objekta adrese: O.Kalpaka iela 17A, Gulbene, Gulbenes novads
A16: Pasūtījuma Nr. :
A19: Nr.p.k. | B19: Objekta nosaukums | C19: Objekta izmaksas (euro)
A20: 1 | B20: Daudzdzīvokļu dzīvojamās mājas pieguļošās teritorijas labiekārtošana | C20: =Kopsavilkums!D21 -> 0
B21: kopā | C21: =SUM(C20) -> 0
A23: PVN (21%) | C23: =C21*21% -> 0
B26: Sastādija ___________________________________
B27: (paraksts un tā atšifrējums,datums)
B29: Sertifikāta Nr.
B32: Tāme sastādīta

Sheet Kopsavilkums
C1: Kopsavilkuma aprēķins
A3: Vispārējie būvdarbi. Specializētie darbi.
A4: (darba veids vai konstruktīvā elementa nosaukums)
A6: Objekta nosaukums: Daudzdzīvokļu dzīvojamās mājas pieguļošās teritorijas labiekārtošana
A7: Būves nosaukums: Daudzdzīvokļu dzīvojamā māja
A8: Objekta adrese: O.Kalpaka iela 17A, Gulbene, Gulbenes novads
A9: Pasūtījuma Nr.:
C10: Par kopējo summu, euro | D10: =D21 -> 0
C11: Kopējā darbietilpība, c/h | D11: =H17 -> 0
A13: Nr.p.k. | B13: Kods, tāmes Nr. | C13: Būvdarbu veids vai konstruktīvā elementa nosaukums | D13: Tāmes izmaksas (euro) | E13: Tai skaitā | H13: Darbietilpība (c/h)
E14: darba alga (euro) | F14: būvizstrādājumi (euro) | G14: mehānismi (euro)
A15: 1 | B15: LT-1 | C15: Vispārējie būvdarbi. | D15: ='LT1 AR_TS'!P102 -> 0 | E15: ='LT1 AR_TS'!M102 -> 0 | F15: ='LT1 AR_TS'!N102 -> 0 | G15: ='LT1 AR_TS'!O102 -> 0 | H15: ='LT1 AR_TS'!L102 -> 0
A16: 2 | B16: LT-2 | C16: Lietus ūdens kanalizācijas tīkli | D16: =E16+F16+G16 -> 0 | E16: ='LT2 lkt'!M58 -> 0 | F16: ='LT2 lkt'!N58 -> 0 | G16: ='LT2 lkt'!O58 -> 0 | H16: ='LT2 lkt'!L58 -> 0
C17: Kopā : | D17: =SUM(D15:D16) -> 0 | E17: =SUM(E15:E16) -> 0 | F17: =SUM(F15:F16) -> 0 | G17: =SUM(G15:G16) -> 0 | H17: =SUM(H15:H16) -> 0
C18: Virsizdevumi (______%) | D18: =D17*0% -> 0 | E18: pievērst uzmanību formulai, pēc tam šo komentāru izdzdēst
C19: t.sk.darba aizsardzība
C20: Peļņa (_______%) | D20: =D17*0% -> 0 | E20: pievērst uzmanību formulai, pēc tam šo komentāru izdzdēst
C21: Pavisam kopā: | D21: =D17+D18+D20 -> 0
C23: Sastādīja _________________________________________________
C24: (paraksts un tā atšifrējums,datums)
C25: ='Būvn. Koptāme'!B32 -> Tāme sastādīta
C28: Pārbaudīja _________________________________________________
C29: (paraksts un tā atšifrējums,datums)
C31: ='Būvn. Koptāme'!B29 -> Sertifikāta Nr.

Sheet LT1 AR_TS
A2: Lokālā tāme Nr.1
A4: Vispārējie būvdarbi
A5: (būvdarbu veids vai konstruktīvā elementa nosaukums)
C7: Objekta nosaukums: Daudzdzīvokļu dzīvojamās mājas pieguļošās teritorijas labiekārtošana
C8: Būves nosaukums: Daudzdzīvokļu dzīvojamā māja
C9: Objekta adrese: O.Kalpaka iela 17A, Gulbene, Gulbenes novads
C10: Pasūtījuma Nr.:
C11: Tāme sastādīta 2026.gada tirgus cenās,pamatojoties uz AR; TS, DOP daļas rasējumiem. | K11: Tāmes izmaksas: | M11: Eur | N11: =P102 -> 0
F13: =Kopsavilkums!C25 -> Tāme sastādīta
A15: Nr.p.k. | B15: Kods | C15: Būvdarbu nosaukums | D15: Mērvienība | E15: Daudzums | F15: Vienības izmaksas | L15: Kopā uz visu apjomu
F16: Laika norma (c/h) | G16: darba samaksas likme* (euro/h) | H16: darba alga | I16: būvizstrādājumi | J16: mehānismi | K16: kopā | L16: darbietilpība (c/h) | M16: darba alga | N16: būvizstrādājumi | O16: mehānismi | P16: summa
A17: 1 | B17: 2 | C17: 3 | D17: 4 | E17: 5 | F17: 6 | G17: 7 | H17: 8 | I17: 9 | J17: 10 | K17: 11 | L17: 12 | M17: 13 | N17: 14 | O17: 15 | P17: 16
A18: 1-1 | C18: DEMONTĀŽA
A19: 1-1-1 | B19: Līgumc. | C19: Ēkas betona apmales demontāža, pārvietojot uz Pasūtītāja atbērtni attālumā līdz 5km. | D19: m² | E19: 92.41
A20: 1-1-2 | B20: Līgumc. | C20: Dzelzsbetona plātņu seguma demontāža, pārvietojot uz Pasūtītāja atbērtni attālumā līdz 5km. | D20: m² | E20: 176
A21: 1-1-3 | B21: Līgumc. | C21: Esošā bruģa seguma un ceļa apmales pie ieejām demontāža, pārvietojot uz Pasūtītāja atbērtni attālumā līdz 5km. | D21: m² | E21: 34
A22: 1-1-4 | B22: Līgumc. | C22: Esošo betona lietus ūdnes tekņu demontāža | D22: m | E22: 13.2
A23: 1-1-5 | B23: Līgumc. | C23: Esošā žoga demontāža | D23: m | E23: 168
A24: 1-1-6 | B24: Līgumc. | C24: Esošās betona ceļa apmles gar žogu demontāža | D24: m | E24: 162
A25: 1-1-7 | B25: Līgumc. | C25: Siltumtrases dzelzsbetona konstrukciju demontāža | D25: kpl | E25: 1
A26: 1-1-8 | B26: Līgumc. | C26: Betona pakāpienu un seguma demontāža | D26: m2 | E26: 20.7
A27: 1-1-9 | B27: Līgumc. | C27: Asfalta seguma demontāža un utilizācija, hvid 10cm, pārvietojot uz Pasūtītāja atbērtni attālumā līdz 5km. | D27: m3 | E27: 8.1
A28: 1-1-10 | B28: Līgumc. | C28: Ietves bruģa seguma demontāža | D28: m² | E28: 3.3
A29: 1-1-11 | B29: Līgumc. | C29: Nefunkcionējošo siltumtrases kanālu demontāža | D29: kpl | E29: 1
A30: 1-1-12 | B30: Līgumc. | C30: Esošo ieejas durvju demontāža | D30: kpl | E30: 2
... A33: 1-1-15 | B33: Līgumc. | C33: Teritorijas attīrīšana no krūmiem | D33: m2 | E33: 16
A34: 1-2 | C34: PAMATI, APMALE
A35: 1-2-1 | B35: Līgumc. | C35: Pamatu atrakšana mehanizēti, grunti pārvietojot uz Pasūtītāja atbērtni attālumā līdz 5km. | D35: m³ | E35: 90.4
A36: 1-2-2 | B36: Līgumc. | C36: Pamatu atrakšana izmantojot roku darbu, grunti pārvietojot uz Pasūtītāja atbērtni attālumā līdz 5km. | D36: m³ | E36: 25
A37: 1-2-3 | B37: Līgumc. | C37: Nokrišņu ūdens līmeņa pazemināšana tranšejās | D37: kpl. | E37: 1
A38: 1-2-4 | B38: Līgumc. | C38: Pamatu attīrīšana no nenoturīgā apmetuma, sūnām, zemes atliekām, u.c. | D38: m² | E38: 120.8
A39: 1-2-5 | B39: Līgumc. | C39: Pamatu izlīdzinošais apmetums un remonts ar cementa bāzes remontjavu, plaisu hermetizēšana (zemapmetuma grunts minerālām virsmām ārdarbiem, cementa bāzes remontjava, hermētiķi, palīgmateriāli) | D39: m² | E39: 120.8
A40: 1-2-6 | B40: Līgumc. | C40: Pamatu gruntēšana ar bitumena emulsiju (šķīdinātājus nesaturoša bitumena emulsija, palīgmateriāli) | D40: m² | E40: 101
A41: 1-2-7 | B41: Līgumc. | C41: Pamatu vertikālā hidroizolācija ar divkomponentu sastāvu (divkomponentu hidroizolācija uz bituma-kaučuka bāzes, palīgmateriāli) | D41: m² | E41: 101
A42: 1-2-8 | B42: Līgumc. | C42: Pamatu siltināšana ar ekstrudēta putupolistorola siltumizolācijas plāksnēm 100mm (ekstrudēta putupolistirola siltumizolācija 100mm XPS, λD≤0,034 (W/mK), PU līme ; palīgmateriāli) | D42: m² | E42: 101
A43: 1-2-9 | B43: Līgumc. | C43: Siltumizolācijas vertikālā hidroizolācija ar divkomponentu sastāvu (divkomponentu hidroizolācija uz bituma-kaučuka bāzes, palīgmateriāli) | D43: m² | E43: 118.17
A44: 1-2-10 | B44: Līgumc. | C44: Pamatu aizbēršana ar vidēji rupju smilti blīvējot pa kārtām (vidēji rupja smilts) | D44: m³ | E44: 50.9
A45: 1-2-11 | B45: Līgumc. | C45: Pamatu aizbēršana un apmales pamatnes izbūve ar salizturīgo slāni, h=30cm | D45: m3 | E45: 29.66
A46: 1-2-12 | B46: Līgumc. | C46: Dubulta armējošā stiklšķiedras sieta iestrāde līmjavā pamatu virszemes (cokola) daļā un 200mm zem apmales (armējošais stiklšķiedras siets 165g/m2; līmjava) | D46: m² | E46: 67.8
... A52: 1-2-18 | B52: Līgumc. | C52: Betona bruģa seguma izbūve 100x200mm, pelēka prizma, h=6cm | D52: m2 | E52: 79.1
A53: 1-3 | C53: LAUKUMS, PIEBRAUCAMAIS CEĻŠ
A54: 1-3-1 | C54: Zemes darbi
A55: 1-3-2 | B55: Līgumc. | C55: Zemes klātnes ierakuma būvniecība ( arī Augu zemes noņemšana), t.sk. Materiāli būvbedru sienu nostiprināšanai (ja nepieciešams), grunti aizvedot uz Būvuzņēmēja atbērtni | D55: m3 | E55: 778
A56: 1-3-3 | C56: Brauktuves seguma izbūve - betona bruģakmens
A57: 1-3-4 | B57: Līgumc. | C57: Betona bruģa seguma izbūve, h=8cm | D57: m2 | E57: 1006.5
A58: 1-3-5 | B58: Līgumc. | C58: Minerālmateriālu izsiju izlīdzinošais slānis fr.(2/8), h(vid)=3...5cm | D58: m3 | E58: 40.26
A59: 1-3-6 | B59: Līgumc. | C59: Minerālmateriālu maisījums 0/45, h=10cm, AADT j,smagie <100 | D59: m3 | E59: 100.65
A60: 1-3-7 | B60: Līgumc. | C60: Minerālmateriālu maisījums 0/56, h=15cm, AADT j,smagie <100, izbūvēt vairākās kartās | D60: m3 | E60: 150.98
A61: 1-3-8 | B61: Līgumc. | C61: Drenējošā kārta, kf>1m/dnn, h=30cm (≥60MPa) | D61: m3 | E61: 353.9
A62: 1-3-9 | C62: Atjaunojamais asfaltebona laukums
A63: 1-3-10 | B63: Līgumc. | C63: Karstā asfalta dilumkārtas AC11 surf, S-II, h=40mm izbūve | D63: m² | E63: 90.4
A64: 1-3-11 | B64: Līgumc. | C64: Karstā asfalta apakškārtas AC16 base/bin, SIV base, h=60mm izbūve | D64: m² | E64: 90.4
A65: 1-3-12 | B65: Līgumc. | C65: Nesaistītu minerālmateriālu pamata nesošā kārtas (0/45) (dolomīta šķembas vai granīta šķembas), N-II klase, h=12cm) izbūve | D65: m² | E65: 90.4
A66: 1-3-13 | B66: Līgumc. | C66: Nesaistītu minerālmateriālu pamata nesošā kārtas (0/56) (dolomīta šķembas vai granīta šķembas),N-III klase) izbūve, h=16cm | D66: m² | E66: 90.4
A67: 1-3-14 | B67: Līgumc. | C67: Drenējošā kārta, kf>1m/dnn, h=40cm (≥60MPa) | D67: m3 | E67: 36.16
A68: 1-3-15 | C68: Atjaunojamās ietve - betona bruģa segums
A69: 1-3-16 | B69: Līgumc. | C69: Esošā betona bruģa izbūve | D69: m2 | E69: 3.1
A70: 1-3-17 | B70: Līgumc. | C70: Minerālmateriālu izsiju izlīdzinošais slānis fr.(2/8), h(vid)=3...5cm | D70: m3 | E70: 0.15
A71: 1-3-18 | B71: Līgumc. | C71: Minerālmateriālu maisījums 0/45, h=10cm | D71: m3 | E71: 0.32
A72: 1-3-19 | B72: Līgumc. | C72: Minerālmateriālu maisījums 0/56, h=15cm, izbūvēt vairākās kartās | D72: m3 | E72: 0.46
A73: 1-3-20 | B73: Līgumc. | C73: Drenējošā kārta, kf>1m/dnn, h=30cm | D73: m3 | E73: 1.2
A74: 1-3-21 | C74: Atjaunojamās ietve - šķelto akmeņu
A75: 1-3-22 | B75: Līgumc. | C75: Esošā bruģa izbūve | D75: m2 | E75: 1.74
A76: 1-3-23 | B76: Līgumc. | C76: Minerālmateriālu maisījums 0/56, h=15cm, izbūvēt vairākās kartās | D76: m3 | E76: 0.34
A77: 1-3-24 | B77: Līgumc. | C77: Drenējošā kārta, kf>1m/dnn, h=30cm | D77: m3 | E77: 0.65
A78: 1-3-25 | C78: Konstrukcijas
A79: 1-3-26 | B79: Līgumc. | C79: Cementbetona apmaļu 100x20x8 izbūve uz betona C30/37 un šķembu pamata h=15cm | D79: m | E79: 91.1
A80: 1-3-27 | B80: Līgumc. | C80: Cementbetona apmaļu 100x30x15 izbūve uz betona C30/37 un šķembu pamata h=15cm | D80: m | E80: 278.7
A81: 1-3-28 | B81: Līgumc. | C81: Cementbetona apmaļu 100x30/22x15 izbūve uz betona C30/37 un šķembu pamata h=15cm | D81: m | E81: 2
A82: 1-3-29 | B82: Līgumc. | C82: Cementbetona apmaļu 100x22x15 izbūve uz betona C30/37 un šķembu pamata h=15cm | D82: m | E82: 10
A83: 1-3-30 | C83: Zālāja seguma izbūve
A84: 1-3-31 | B84: Līgumc. | C84: Zaļās zonas ierīkošana, izmantojot pievestu augu zemi (h=20cm) apsētu ar zālāja sēklām ieskaitot veltņošanu | D84: m2 | E84: 184.5
A85: 1-3-32 | C85: Horizontālais apzīmējums
A86: 1-3-33 | B86: Līgumc. | C86: Horizontālo apzīmējuma ieklāšana | D86: m | E86: 109
A87: 1-4 | C87: ŽOGS
A88: 1-4-1 | B88: Līgumc. | C88: Žoga ierīkošana, stabu betonēšana (3D žoga panelis 2,5(L)x1,73(h) – Acs izmērs 50x200mm, cinkots+poliestera pārklājums, Žoga stabi h=2,4m, staba izmērs 60x40mm, cinkots+poliestera pārklājums, atsaišu stabi, stabu cepures, stiprinājumi, betons C20/25, palīgmateriāli) | D88: m | E88: 168
A89: 1-5 | C89: PAKĀPIENU ATJAUNOŠANA
A90: 1-5-1 | B90: Līgumc. | C90: Veidņu montāža demontāža (saliekamie inventārveidņi; palīgmateriāli) | D90: m² | E90: 1.8
A91: 1-5-2 | B91: Līgumc. | C91: Stiegrošana ar armatūru (armatūra B500B ; siešanas stieple, distanceri; palīgmateriāli) | D91: kg | E91: 111.6
A92: 1-5-3 | B92: Līgumc. | C92: Virsmas atjaunošana ar betonu C30/37 XC4+XF1, F100 (betons C30/37 XC4+XF1, F100, betona sūknis; betonēšanas palīgmateriāli) | D92: m³ | E92: 1.26
A93: 1-5-4 | B93: Līgumc. | C93: Saliekamā dzelzsbetona pakāpienu montāža (rūpnieciski izgatavoti saliekamā dzelzsbetona pakāpieni 330*145(h), L=kop. 36m, java M100, montāžas palīgmateriāli) | D93: m | E93: 36
A94: 1-5-5 | B94: Līgumc. | C94: Pakāpienu atbalsta detaļas montāža (krāsots leņķis L40*80*6, L kop.-9,0m, ķīļenkuri M10*80 30gb, palīgmateriāli | D94: kg | E94: 48.7
A95: 1-6 | C95: DURVIS
A96: 1-6-1 | B96: Līgumc. | C96: Ārdurvju 2gb.(990*2070(h)mm) montāža (Metāla konstrukcijas vienviru durvis ar stiklojumu; Durvis ar siltuma caurlaidības koef. U≤ 1,20 W/(m2K); Ar zemo slieksni (maks. sliekšņa h-15mm); Ar stiklojumu; Durvju furnitūru saskaņot autoruzraudzības kārtībā. Ar mehānisko durvju aizvērēju; paredzēt durvju atduras izbūvi; piekļuves kontroli (slēgšanu) saskaņot ar pasūtītāju projekta realizācijas laikā. . Nodrošināt kontrastējošu marķējumu 0,10 m platā joslā visā stiklotās norobežojošās konstrukcijas platumā trīs augstumos no grīdas līmeņa - 1,60 m, 1,40 m un 0,35m. Montāžas putas, hermētiķi, stiprinājumu komplekts, palīgmateriāli) | D96: m² | E96: 4.1
A97: 1-7 | C97: CAURULE 750N d-110
A98: 1-7-1 | B98: Līgumc. | C98: Kabeļu aizsargcaurules Ø110 mm montāža (t.sk. aizsargcaurule Ø110, Evocab Hard, PE, 750N un savienojuma elementi) | D98: m. | E98: 125
A99: 1-8 | C99: BŪVGRUŽI
A100: 1-8-1 | B100: Līgumc. | C100: Būvgružu savākšana | D100: obj. | E100: 1
A101: 1-8-2 | B101: Līgumc. | C101: Būvgružu utilizācija atkritumu poligonā, ieskaitot dabas resursu nodokli | D101: obj. | E101: 1
C102: Tiešās izmaksas kopā, t.sk. darba devēja sociālais nodoklis (23,59%) | L102: =SUM(L34:L101) -> 0 | M102: =SUM(M34:M101) -> 0 | N102: =SUM(N34:N101) -> 0 | O102: =SUM(O34:O101) -> 0 | P102: =ROUND(O102+N102+M102,2) -> 0
C105: =Kopsavilkums!C23:G23 -> Sastādīja _________________________________________________
C106: (paraksts un tā atšifrējums,datums)
C107: =Kopsavilkums!C25 -> Tāme sastādīta
C110: =Kopsavilkums!C28:G28 -> Pārbaudīja _________________________________________________
C111: (paraksts un tā atšifrējums,datums)
C113: =Kopsavilkums!C31 -> Sertifikāta Nr.

Sheet LT2 lkt
A1: Lokālā tāme Nr.2
A3: Lietus ūdens kanalizācijas tīkli
A4: (darba veids vai konstruktīvā elementa nosaukums)
C6: Objekta nosaukums: Daudzdzīvokļu dzīvojamās mājas pieguļošās teritorijas labiekārtošana
C7: Būves nosaukums: Daudzdzīvokļu dzīvojamā māja
C8: Objekta adrese: O.Kalpaka iela 17A, Gulbene, Gulbenes novads
C9: Pasūtījuma Nr.:
C10: Tāme sastādīta 2026.gada tirgus cenās,pamatojoties uz LKT daļas rasējumiem. | K10: Tāmes izmaksas: | M10: Eur | N10: =P58 -> 0
F12: ='LT1 AR_TS'!F13:O13 -> Tāme sastādīta
A14: Nr.p.k. | B14: Kods | C14: Būvdarbu nosaukums | D14: Mērvienība | E14: Daudzums | F14: Vienības izmaksas | L14: Kopā uz visu apjomu
F15: Laika norma (c/h) | G15: darba samaksas likme* (euro/h) | H15: darba alga | I15: būvizstrādājumi | J15: mehānismi | K15: kopā | L15: darbietilpība (c/h) | M15: darba alga | N15: būvizstrādājumi | O15: mehānismi | P15: summa
A16: 1 | B16: 2 | C16: 3 | D16: 4 | E16: 5 | F16: 6 | G16: 7 | H16: 8 | I16: 9 | J16: 10 | K16: 11 | L16: 12 | M16: 13 | N16: 14 | O16: 15 | P16: 16
A17: 2-1 | C17: SAGATAVOŠANAS DARBI | H17: =ROUND(F17*G17,2) -> 0 | K17: =ROUND(J17+I17+H17,2) -> 0 | L17: =ROUND(F17*E17,2) -> 0 | M17: =ROUND(H17*E17,2) -> 0 | N17: =ROUND(I17*E17,2) -> 0 | O17: =ROUND(J17*E17,2) -> 0 | P17: =SUM(O17+N17+M17) -> 0
A18: 2-1-1 | B18: Līgumc. | C18: Trases un pievienojuma vietu nospraušana | D18: m | E18: =E30 -> 229
A19: 2-1-2 | B19: Līgumc. | C19: Pievienojuma vietas un šķērsojuma ar esošajām komunikācijām atšurfēšana (roku darbs) | D19: vieta | E19: =28+3 -> 31
A20: 2-1-3 | B20: Līgumc. | C20: Augu zemes noņemšana, aizvešana uz atbērtni | D20: m3 | E20: =(103.8+4.1+4.1+3.9)*2.5*0.1 -> 28.975
A21: 2-1-4 | B21: Līgumc. | C21: Grants seguma noņemšana, aizvešana uz atbērtni | D21: m2 | E21: =71.8*2.5 -> 179.5
A22: 2-1-5 | B22: Līgumc. | C22: Asfaltbetona seguma frēzēšana ar demontētā materiāla aizvešanu uz Pasūtītāja norādītu atbērtni attālumā līdz 10km | D22: m2 | E22: =(6.7+12+19.4)*2.5 -> 95.25
A23: 2-1-6 | B23: Līgumc. | C23: Bruģa seguma/betona plākšņu noņemšana, nodošana Pasūtītājam | D23: m2 | E23: =3.2*2.5 -> 8
A24: 2-1-7 | B24: Līgumc. | C24: Kanalizācijas cauruļvadu DN100 demontāža, ieskaitot būvgružu savākšanu, transportēšanu, utilizēšanu | D24: m | E24: =3.9+4.1+4.1 -> 12.1
A25: 2-2 | C25: TRANŠEJU RAKŠANA IZMANTOJOT AIZSARDZĪBAS MEHĀNISMUS
A26: 2-2-1 | B26: Līgumc. | C26: Esošo elektrības kabeļu un aizsardzība tos šķērsojot, vietu atšurfējot ar rokām, vid.1,5m garumā x 1,5m dziļumā x 1,5m platumā, kabeļa ievietošana dalītajā aizsargčaulā OD110, L=4m, 750N | D26: vieta | E26: 3
A27: 2-2-2 | B27: Līgumc. | C27: Tranšeju rakšana un pēc cauruļvadu ieguldes to aizbēršana | D27: m | E27: =E18 -> 229
A28: 2-2-3 | B28: Līgumc. | C28: Virszemes ūdens atsūknēšana, līmeņa pazemināšana | D28: h | E28: 48
A29: 2-3 | B29: Līgumc. | C29: CAURUĻU IEGULDE
A30: 2-3-1 | B30: Līgumc. | C30: Tranšejas pamatnes izbūve, smilts slāņa biezums h=15cm un cauruļvadu apbēršana,smilts slāņa biezums h=0,3m+caurules diametrs un signāllentas ar uzrakstu "Kanalizācija" uzstādīšana | D30: t.m | E30: =E33+E38 -> 229
A31: 2-3-2 | B31: Līgumc. | C31: Signāllenta ar uzrakstu "Kanalizācija" | D31: m | E31: =E33+E38 -> 229
A32: 2-3-3 | B32: Līgumc. | C32: Smilts, max frakcija 15mm | D32: m3 | E32: =(E33*1.5*0.15)+((0.3+0.25)*1.5*E36)+((0.3+0.2)*1.5*E35)+((0.3+0.16)*1.5*E34)-(E36*0.049)-(E35*0.03)-(E34*0.02) -> 201.8902
A33: 2-3-4 | B33: Līgumc. | C33: PP lietus kanalizācijas caurule ar uzmavu RAINEO, SN8 Pipelife vai ekvivalents guldīšana gatavā tranšejā | D33: t.m | E33: =SUM(E34:E36) -> 216.6
A34: 2-3-5 | B34: Līgumc. | C34: Caurules PP OD160 SN8 | D34: m | E34: =13.4+3+2+3+3.7+4.5+2+3.1+5+7.5+1.3+0.7+7.1+0.7+7.3+6.6+7.1 -> 78
A35: 2-3-6 | B35: Līgumc. | C35: Caurules PP OD200 SN8 | D35: m | E35: =6.4+16.1+12.5+10.3+9+16.7+3.7+3+15.4+15.4+10.4 -> 118.9
A36: 2-3-7 | B36: Līgumc. | C36: Caurules PP OD250 SN8 | D36: m | E36: =5.2+14.5 -> 19.7
A37: 2-3-8 | B37: Līgumc. | C37: Finnfoam FI vai ekvivalents siltumizolācijas plākšņu (ārējiem cauruļvadiem) 50mm biezumā uzstādīšana 100mm virs caurules un 300mm gar abiem caurules sāniem | D37: m | E37: 7.1
A38: 2-3-9 | B38: Līgumc. | C38: PP saimnieciskās kanalizācijas caurule ar uzmavu PRAGMA, SN8 Pipelife vai ekvivalents guldīšana gatavā tranšejā | D38: t.m | E38: =4.4+4.1+3.9 -> 12.4
A39: 2-3-10 | B39: Līgumc. | C39: Caurules PP OD110 SN8 | D39: m | E39: =E38 -> 12.4
A40: 2-3-11 | B40: Līgumc. | C40: Jumta noteku pievienošana pie lietus kanalizācijas sistēmas - gūlijas-lietus ūdens trapa uzstādīšana un pievienošana pie lietus ūdens caurules PP OD160 | D40: gb | E40: 8
A41: 2-3-12 | B41: Līgumc. | C41: Revīzija OD160 ar skrūvēm | D41: gb | E41: 8
A42: 2-3-13 | B42: Līgumc. | C42: Lietus kanalizācijas caurule PP OD160, SN8 | D42: m | E42: =8+1.26+1.01+0.73+1.38+1.7+1.46+1.5+1.38 -> 18.42
A43: 2-3-14 | B43: Līgumc. | C43: Līkums PP OD160, 45° | D43: gb | E43: =2*8 -> 16
A44: 2-3-15 | B44: Līgumc. | C44: Pievienojumu ar T-gabalu montāža tranšejā | D44: gb | E44: 2
A45: 2-3-16 | B45: Līgumc. | C45: Trejgabals Dn200/160 45° | D45: gb | E45: 2
A46: 2-3-17 | B46: Līgumc. | C46: Līkums PP OD160, 45° | D46: gb | E46: 2
A47: 2-3-18 | B47: Līgumc. | C47: Pievienojums pie esošās akas, ieskaitot pievienojuma vietas izveidi, aizsargčaulas OD110 caurulei uzstādīšanu, hermetizāciju un aizdari | D47: vieta | E47: 4
A48: 2-4 | C48: SKATAKU UN GŪLIJU IZBŪVE
A49: 2-4-1 | B49: Līgumc. | C49: Plastmasas skataku izbūve ar akas lūkām. Akas lūkas peldošā tipa kaļamā ķeta ar slodzes klasi D400. Vākam jābūt piestiprinātam pie rāmja ar enģes palīdzību (jābūt arī iespējai pilnībā atvienot vāku no rāmja, akas vākam aizvērtā pozīcijā ir jāfiksējas pie akas rāmja).Rāmja augstums ne mazāk kā 190mm, lūkas pārsedzes atvērums ne mazāks kā 600mm, rāmja kakla ārējais diametrs ne mazāks kā 610mm. Betona regulācijas gredzena iekšējais diametrs nedrīkst būt vairāk kā 1cm lielāks par lūkas pārsedzes rāmja kalka ārējo diametru. | D49: kpl. | E49: 11
A50: 2-4-2 | B50: Līgumc. | C50: Individuāla pasūtījuma plastmasas aka DN400, h=līdz 2m, komplektā ar pievienojumiem Dn200mm, augstuma regulēšanas cauruli, teleskopisko cauruli un peldošā tipa akas vāka konstrukcija ar nestspēju 40t, iebūve asfaltbetona/bruģa segumā uz smilšu spilvena | D50: kompl | E50: 9
A51: 2-4-3 | B51: Līgumc. | C51: Individuāla pasūtījuma plastmasas aka DN400, h=2-2,5m, komplektā ar pievienojumiem Dn250mm, augstuma regulēšanas cauruli, teleskopisko cauruli peldošā tipa akas vāka konstrukcija ar nestspēju 40t, iebūve asfaltbetona/bruģa segumā uz smilšu spilvena | D51: kompl | E51: 2
A52: 2-4-4 | B52: Līgumc. | C52: Diametru pāreja PP OD160/200 | D52: gb | E52: 14
A53: 2-4-5 | B53: Līgumc. | C53: Diametru pāreja PP OD200/250 | D53: gb | E53: 3
A54: 2-4-6 | B54: Līgumc. | C54: Plastmasas gūliju izbūve | D54: gb | E54: 9
A55: 2-4-7 | B55: Līgumc. | C55: Individuāla pasūtījuma plastmasas gūlija Ø400mm, h=līdz1,5m, ieskaitot nosēddaļu 70dm3, komplektā ar pievienojumiem Dn160mm, augstuma regulēšanas cauruli, teleskopisko cauruli un 40 t rāmi un kvadrātveida resti 40t, iebūve asfaltbetona segumā uz smilšu spilvena | D55: kpl | E55: 10
A56: 2-4-8 | B56: Līgumc. | C56: Liekās grunts pārvietošana līdz 2km - pārpalikušais apjoms jāizvērtē no izvēlētā cauruļvada iebūves tehnoloģijas un veida | D56: m3 | E56: =E32 -> 201.8902
A57: 2-4-9 | B57: Līgumc. | C57: Pārbaude uz infiltrāciju, CCTV, pašteces kanalizācijas izpildmērījumi un dokumentācijas sgatavošana | D57: kpl. | E57: 1
C58: Tiešās izmaksas kopā, t.sk. darba devēja sociālais nodoklis (23,59%) | L58: =SUM(L18:L57) -> 0 | M58: =SUM(M18:M57) -> 0 | N58: =SUM(N18:N57) -> 0 | O58: =SUM(O18:O57) -> 0 | P58: =ROUND(O58+N58+M58,2) -> 0
C61: ='LT1 AR_TS'!C105:P105 -> Sastādīja _________________________________________________
C62: (paraksts un tā atšifrējums,datums)
C63: ='LT1 AR_TS'!C107:P107 -> Tāme sastādīta
C66: ='LT1 AR_TS'!C110:P110 -> Pārbaudīja _________________________________________________
C67: (paraksts un tā atšifrējums,datums)
C69: ='LT1 AR_TS'!C113:N113 -> Sertifikāta Nr.
