Workbook

Sheet Būvn. Koptāme
C2: APSTIPRINU
A4: _____________________________________________________________
A5: (pasūtītāja paraksts un tā atšifrējums)
C6: Z.v.
A8: __________.gada ______.________________
A10: Būvniecības koptāme
A13: Objekta nosaukums: Daudzdzīvokļu dzīvojamās mājas pieguļošās teritorijas labiekārtošana
A14: Būves nosaukums: Daudzdzīvokļu dzīvojamā
A15: Objekta adrese: O.Kalpaka iela 17A, Gulbene, Gulbenes novads
A16: Pasūtījuma Nr. :
A19: Nr.p.k. | B19: Objekta nosaukums | C19: Objekta izmaksas (euro)
A20: 1 | B20: Daudzdzīvokļu dzīvojamās mājas pieguļošās teritorijas labiekārtošana | C20: =Kopsavilkums!D21 -> 0
B21: kopā | C21: =SUM(C20) -> 0
A23: PVN (21%) | C23: =C21*21% -> 0
B26: Sastādija ___________________________________
B27: (paraksts un tā atšifrējums,datums)
B29: Sertifikāta Nr.
B32: Tāme sastādīta

Sheet Kopsavilkums
C1: Kopsavilkuma aprēķins
A3: Vispārējie būvdarbi. Specializētie darbi.
A4: (darba veids vai konstruktīvā elementa nosaukums)
A6: Objekta nosaukums: Daudzdzīvokļu dzīvojamās mājas pieguļošās teritorijas labiekārtošana
A7: Būves nosaukums: Daudzdzīvokļu dzīvojamā māja
A8: Objekta adrese: O.Kalpaka iela 17A, Gulbene, Gulbenes novads
A9: Pasūtījuma Nr.:
C10: Par kopējo summu, euro | D10: =D21 -> 0
C11: Kopējā darbietilpība, c/h | D11: =H17 -> 0
A13: Nr.p.k. | B13: Kods, tāmes Nr. | C13: Būvdarbu veids vai konstruktīvā elementa nosaukums | D13: Tāmes izmaksas (euro) | E13: Tai skaitā | H13: Darbietilpība (c/h)
E14: darba alga (euro) | F14: būvizstrādājumi (euro) | G14: mehānismi (euro)
A15: 1 | B15: LT-1 | C15: Vispārējie būvdarbi. | D15: ='LT1 AR_TS'!P102 -> 0 | E15: ='LT1 AR_TS'!M102 -> 0 | F15: ='LT1 AR_TS'!N102 -> 0 | G15: ='LT1 AR_TS'!O102 -> 0 | H15: ='LT1 AR_TS'!L102 -> 0
A16: 2 | B16: LT-2 | C16: Lietus ūdens kanalizācijas tīkli | D16: =E16+F16+G16 -> 0 | E16: ='LT2 lkt'!M58 -> 0 | F16: ='LT2 lkt'!N58 -> 0 | G16: ='LT2 lkt'!O58 -> 0 | H16: ='LT2 lkt'!L58 -> 0
C17: Kopā : | D17: =SUM(D15:D16) -> 0 | E17: =SUM(E15:E16) -> 0 | F17: =SUM(F15:F16) -> 0 | G17: =SUM(G15:G16) -> 0 | H17: =SUM(H15:H16) -> 0
C18: Virsizdevumi (______%) | D18: =D17*0% -> 0 | E18: pievērst uzmanību formulai, pēc tam šo komentāru izdzdēst
C19: t.sk.darba aizsardzība
C20: Peļņa (_______%) | D20: =D17*0% -> 0 | E20: pievērst uzmanību formulai, pēc tam šo komentāru izdzdēst
C21: Pavisam kopā: | D21: =D17+D18+D20 -> 0
C23: Sastādīja _________________________________________________
C24: (paraksts un tā atšifrējums,datums)
C25: ='Būvn. Koptāme'!B32 -> Tāme sastādīta
C28: Pārbaudīja _________________________________________________
C29: (paraksts un tā atšifrējums,datums)
C31: ='Būvn. Koptāme'!B29 -> Sertifikāta Nr.

Sheet LT1 AR_TS
A2: Lokālā tāme Nr.1
A4: Vispārējie būvdarbi
A5: (būvdarbu veids vai konstruktīvā elementa nosaukums)
C7: Objekta nosaukums: Daudzdzīvokļu dzīvojamās mājas pieguļošās teritorijas labiekārtošana
C8: Būves nosaukums: Daudzdzīvokļu dzīvojamā māja
C9: Objekta adrese: O.Kalpaka iela 17A, Gulbene, Gulbenes novads
C10: Pasūtījuma Nr.:
C11: Tāme sastādīta 2026.gada tirgus cenās,pamatojoties uz AR; TS, DOP daļas rasējumiem. | K11: Tāmes izmaksas: | M11: Eur | N11: =P102 -> 0
F13: =Kopsavilkums!C25 -> Tāme sastādīta
A15: Nr.p.k. | B15: Kods | C15: Būvdarbu nosaukums | D15: Mērvienība | E15: Daudzums | F15: Vienības izmaksas | L15: Kopā uz visu apjomu
F16: Laika norma (c/h) | G16: darba samaksas likme* (euro/h) | H16: darba alga | I16: būvizstrādājumi | J16: mehānismi | K16: kopā | L16: darbietilpība (c/h) | M16: darba alga | N16: būvizstrādājumi | O16: mehānismi | P16: summa
A17: 1 | B17: 2 | C17: 3 | D17: 4 | E17: 5 | F17: 6 | G17: 7 | H17: 8 | I17: 9 | J17: 10 | K17: 11 | L17: 12 | M17: 13 | N17: 14 | O17: 15 | P17: 16
A18: 1-1 | C18: DEMONTĀŽA
A19: 1-1-1 | B19: Līgumc. | C19: Ēkas betona apmales demontāža, pārvietojot uz Pasūtītāja atbērtni attālumā līdz 5km. | D19: m² | E19: 92.41
A20: 1-1-2 | B20: Līgumc. | C20: Dzelzsbetona plātņu seguma demontāža, pārvietojot uz Pasūtītāja atbērtni attālumā līdz 5km. | D20: m² | E20: 176
A21: 1-1-3 | B21: Līgumc. | C21: Esošā bruģa seguma un ceļa apmales pie ieejām demontāža, pārvietojot uz Pasūtītāja atbērtni attālumā līdz 5km. | D21: m² | E21: 34
A22: 1-1-4 | B22: Līgumc. | C22: Esošo betona lietus ūdnes tekņu demontāža | D22: m | E22: 13.2
A23: 1-1-5 | B23: Līgumc. | C23: Esošā žoga demontāža | D23: m | E23: 168
A24: 1-1-6 | B24: Līgumc. | C24: Esošās betona ceļa apmles gar žogu demontāža | D24: m | E24: 162
A25: 1-1-7 | B25: Līgumc. | C25: Siltumtrases dzelzsbetona konstrukciju demontāža | D25: kpl | E25: 1
A26: 1-1-8 | B26: Līgumc. | C26: Betona pakāpienu un seguma demontāža | D26: m2 | E26: 20.7
A27: 1-1-9 | B27: Līgumc. | C27: Asfalta seguma demontāža un utilizācija, hvid 10cm, pārvietojot uz Pasūtītāja atbērtni attālumā līdz 5km. | D27: m3 | E27: 8.1
A28: 1-1-10 | B28: Līgumc. | C28: Ietves bruģa seguma demontāža | D28: m² | E28: 3.3
A29: 1-1-11 | B29: Līgumc. | C29: Nefunkcionējošo siltumtrases kanālu demontāža | D29: kpl | E29: 1
A30: 1-1-12 | B30: Līgumc. | C30: Esošo ieejas durvju demontāža | D30: kpl | E30: 2
... A33: 1-1-15 | B33: Līgumc. | C33: Teritorijas attīrīšana no krūmiem | D33: m2 | E33: 16
A34: 1-2 | C34: PAMATI, APMALE
A35: 1-2-1 | B35: Līgumc. | C35: Pamatu atrakšana mehanizēti, grunti pārvietojot uz Pasūtītāja atbērtni attālumā līdz 5km. | D35: m³ | E35: 90.4
A36: 1-2-2 | B36: Līgumc. | C36: Pamatu atrakšana izmantojot roku darbu, grunti pārvietojot uz Pasūtītāja atbērtni attālumā līdz 5km. | D36: m³ | E36: 25
A37: 1-2-3 | B37: Līgumc. | C37: Nokrišņu ūdens līmeņa pazemināšana tranšejās | D37: kpl. | E37: 1
A38: 1-2-4 | B38: Līgumc. | C38: Pamatu attīrīšana no nenoturīgā apmetuma, sūnām, zemes atliekām, u.c. | D38: m² | E38: 120.8
A39: 1-2-5 | B39: Līgumc. | C39: Pamatu izlīdzinošais apmetums un remonts ar cementa bāzes remontjavu, plaisu hermetizēšana (zemapmetuma grunts minerālām virsmām ārdarbiem, cementa bāzes remontjava, hermētiķi, palīgmateriāli) | D39: m² | E39: 120.8
A40: 1-2-6 | B40: Līgumc. | C40: Pamatu gruntēšana ar bitumena emulsiju (šķīdinātājus nesaturoša bitumena emulsija, palīgmateriāli) | D40: m² | E40: 101
A41: 1-2-7 | B41: Līgumc. | C41: Pamatu vertikālā hidroizolācija ar divkomponentu sastāvu (divkomponentu hidroizolācija uz bituma-kaučuka bāzes, palīgmateriāli) | D41: m² | E41: 101
A42: 1-2-8 | B42: Līgumc. | C42: Pamatu siltināšana ar ekstrudēta putupolistorola siltumizolācijas plāksnēm 100mm (ekstrudēta putupolistirola siltumizolācija 100mm XPS, λD≤0,034 (W/mK), PU līme ; palīgmateriāli) | D42: m² | E42: 101
A43: 1-2-9 | B43: Līgumc. | C43: Siltumizolācijas vertikālā hidroizolācija ar divkomponentu sastāvu (divkomponentu hidroizolācija uz bituma-kaučuka bāzes, palīgmateriāli) | D43: m² | E43: 118.17
A44: 1-2-10 | B44: Līgumc. | C44: Pamatu aizbēršana ar vidēji rupju smilti blīvējot pa kārtām (vidēji rupja smilts) | D44: m³ | E44: 50.9
A45: 1-2-11 | B45: Līgumc. | C45: Pamatu aizbēršana un apmales pamatnes izbūve ar salizturīgo slāni, h=30cm | D45: m3 | E45: 29.66
A46: 1-2-12 | B46: Līgumc. | C46: Dubulta armējošā stiklšķiedras sieta iestrāde līmjavā pamatu virszemes (cokola) daļā un 200mm zem apmales (armējošais stiklšķiedras siets 165g/m2; līmjava) | D46: m² | E46: 67.8
... A52: 1-2-18 | B52: Līgumc. | C52: Betona bruģa seguma izbūve 100x200mm, pelēka prizma, h=6cm | D52: m2 | E52: 79.1
...

Sheet LT2 lkt
A1: Lokālā tāme Nr.2
A3: Lietus ūdens kanalizācijas tīkli
A4: (darba veids vai konstruktīvā elementa nosaukums)
C6: Objekta nosaukums: Daudzdzīvokļu dzīvojamās mājas pieguļošās teritorijas labiekārtošana
C7: Būves nosaukums: Daudzdzīvokļu dzīvojamā māja
C8: Objekta adrese: O.Kalpaka iela 17A, Gulbene, Gulbenes novads
C9: Pasūtījuma Nr.:
C10: Tāme sastādīta 2026.gada tirgus cenās,pamatojoties uz LKT daļas rasējumiem. | K10: Tāmes izmaksas: | M10: Eur | N10: =P58 -> 0
F12: ='LT1 AR_TS'!F13:O13 -> Tāme sastādīta
A14: Nr.p.k. | B14: Kods | C14: Būvdarbu nosaukums | D14: Mērvienība | E14: Daudzums | F14: Vienības izmaksas | L14: Kopā uz visu apjomu
F15: Laika norma (c/h) | G15: darba samaksas likme* (euro/h) | H15: darba alga | I15: būvizstrādājumi | J15: mehānismi | K15: kopā | L15: darbietilpība (c/h) | M15: darba alga | N15: būvizstrādājumi | O15: mehānismi | P15: summa
A16: 1 | B16: 2 | C16: 3 | D16: 4 | E16: 5 | F16: 6 | G16: 7 | H16: 8 | I16: 9 | J16: 10 | K16: 11 | L16: 12 | M16: 13 | N16: 14 | O16: 15 | P16: 16
A17: 2-1 | C17: SAGATAVOŠANAS DARBI | H17: =ROUND(F17*G17,2) -> 0 | K17: =ROUND(J17+I17+H17,2) -> 0 | L17: =ROUND(F17*E17,2) -> 0 | M17: =ROUND(H17*E17,2) -> 0 | N17: =ROUND(I17*E17,2) -> 0 | O17: =ROUND(J17*E17,2) -> 0 | P17: =SUM(O17+N17+M17) -> 0
A18: 2-1-1 | B18: Līgumc. | C18: Trases un pievienojuma vietu nospraušana | D18: m | E18: =E30 -> 229
A19: 2-1-2 | B19: Līgumc. | C19: Pievienojuma vietas un šķērsojuma ar esošajām komunikācijām atšurfēšana (roku darbs) | D19: vieta | E19: =28+3 -> 31
A20: 2-1-3 | B20: Līgumc. | C20: Augu zemes noņemšana, aizvešana uz atbērtni | D20: m3 | E20: =(103.8+4.1+4.1+3.9)*2.5*0.1 -> 28.975
A21: 2-1-4 | B21: Līgumc. | C21: Grants seguma noņemšana, aizvešana uz atbērtni | D21: m2 | E21: =71.8*2.5 -> 179.5
A22: 2-1-5 | B22: Līgumc. | C22: Asfaltbetona seguma frēzēšana ar demontētā materiāla aizvešanu uz Pasūtītāja norādītu atbērtni attālumā līdz 10km | D22: m2 | E22: =(6.7+12+19.4)*2.5 -> 95.25
A23: 2-1-6 | B23: Līgumc. | C23: Bruģa seguma/betona plākšņu noņemšana, nodošana Pasūtītājam | D23: m2 | E23: =3.2*2.5 -> 8
A24: 2-1-7 | B24: Līgumc. | C24: Kanalizācijas cauruļvadu DN100 demontāža, ieskaitot būvgružu savākšanu, transportēšanu, utilizēšanu | D24: m | E24: =3.9+4.1+4.1 -> 12.1
A25: 2-2 | C25: TRANŠEJU RAKŠANA IZMANTOJOT AIZSARDZĪBAS MEHĀNISMUS
A26: 2-2-1 | B26: Līgumc. | C26: Esošo elektrības kabeļu un aizsardzība tos šķērsojot, vietu atšurfējot ar rokām, vid.1,5m garumā x 1,5m dziļumā x 1,5m platumā, kabeļa ievietošana dalītajā aizsargčaulā OD110, L=4m, 750N | D26: vieta | E26: 3
A27: 2-2-2 | B27: Līgumc. | C27: Tranšeju rakšana un pēc cauruļvadu ieguldes to aizbēršana | D27: m | E27: =E18 -> 229
A28: 2-2-3 | B28: Līgumc. | C28: Virszemes ūdens atsūknēšana, līmeņa pazemināšana | D28: h | E28: 48
A29: 2-3 | B29: Līgumc. | C29: CAURUĻU IEGULDE
A30: 2-3-1 | B30: Līgumc. | C30: Tranšejas pamatnes izbūve, smilts slāņa biezums h=15cm un cauruļvadu apbēršana,smilts slāņa biezums h=0,3m+caurules diametrs un signāllentas ar uzrakstu "Kanalizācija" uzstādīšana | D30: t.m | E30: =E33+E38 -> 229
A31: 2-3-2 | B31: Līgumc. | C31: Signāllenta ar uzrakstu "Kanalizācija" | D31: m | E31: =E33+E38 -> 229
A32: 2-3-3 | B32: Līgumc. | C32: Smilts, max frakcija 15mm | D32: m3 | E32: =(E33*1.5*0.15)+((0.3+0.25)*1.5*E36)+((0.3+0.2)*1.5*E35)+((0.3+0.16)*1.5*E34)-(E36*0.049)-(E35*0.03)-(E34*0.02) -> 201.8902
A33: 2-3-4 | B33: Līgumc. | C33: PP lietus kanalizācijas caurule ar uzmavu RAINEO, SN8 Pipelife vai ekvivalents guldīšana gatavā tranšejā | D33: t.m | E33: =SUM(E34:E36) -> 216.6
A34: 2-3-5 | B34: Līgumc. | C34: Caurules PP OD160 SN8 | D34: m | E34: =13.4+3+2+3+3.7+4.5+2+3.1+5+7.5+1.3+0.7+7.1+0.7+7.3+6.6+7.1 -> 78
A35: 2-3-6 | B35: Līgumc. | C35: Caurules PP OD200 SN8 | D35: m | E35: =6.4+16.1+12.5+10.3+9+16.7+3.7+3+15.4+15.4+10.4 -> 118.9
A36: 2-3-7 | B36: Līgumc. | C36: Caurules PP OD250 SN8 | D36: m | E36: =5.2+14.5 -> 19.7
A37: 2-3-8 | B37: Līgumc. | C37: Finnfoam FI vai ekvivalents siltumizolācijas plākšņu (ārējiem cauruļvadiem) 50mm biezumā uzstādīšana 100mm virs caurules un 300mm gar abiem caurules sāniem | D37: m | E37: 7.1
A38: 2-3-9 | B38: Līgumc. | C38: PP saimnieciskās kanalizācijas caurule ar uzmavu PRAGMA, SN8 Pipelife vai ekvivalents guldīšana gatavā tranšejā | D38: t.m | E38: =4.4+4.1+3.9 -> 12.4
A39: 2-3-10 | B39: Līgumc. | C39: Caurules PP OD110 SN8 | D39: m | E39: =E38 -> 12.4
A40: 2-3-11 | B40: Līgumc. | C40: Jumta noteku pievienošana pie lietus kanalizācijas sistēmas - gūlijas-lietus ūdens trapa uzstādīšana un pievienošana pie lietus ūdens caurules PP OD160 | D40: gb | E40: 8
A41: 2-3-12 | B41: Līgumc. | C41: Revīzija OD160 ar skrūvēm | D41: gb | E41: 8
A42: 2-3-13 | B42: Līgumc. | C42: Lietus kanalizācijas caurule PP OD160, SN8 | D42: m | E42: =8+1.26+1.01+0.73+1.38+1.7+1.46+1.5+1.38 -> 18.42
A43: 2-3-14 | B43: Līgumc. | C43: Līkums PP OD160, 45° | D43: gb | E43: =2*8 -> 16
A44: 2-3-15 | B44: Līgumc. | C44: Pievienojumu ar T-gabalu montāža tranšejā | D44: gb | E44: 2
...
