Workbook

Sheet Būvniecības koptāme
D1: Apstiprinu
D2: ___________________________________
D3: (pasūtītājs, paraksts un tā atšifrējums)
A5: Būvniecības koptāme
A7: Būves nosaukums | D7: Rūdolfa Blaumaņa ielas no Baznīcas ielas līdz Ceriņu ielai un Ceriņu ielas no Rūdolfa Blaumaņa ielas līdz Ievu ielai pārbūve
A8: Objekta nosaukums | D8: Rūdolfa Blaumaņa ielas no Baznīcas ielas līdz Ceriņu ielai un Ceriņu ielas no Rūdolfa Blaumaņa ielas līdz Ievu ielai pārbūve
A9: Objekta adrese | D9: Rūdolfa Blaumaņa un Ceriņu iela, Jūrmalā
A10: Iepirkuma Nr. | D10: JVA 2026/70
B12: Tāme sastādīta 2026.gada __
A13: Nr. p. k. | B13: Objekta nosaukums | F13: Objekta izmaksas (euro)
A15: 1 | B15: 2 | F15: 3
A16: 1 | B16: =D7 -> Rūdolfa Blaumaņa ielas no Baznīcas ielas līdz Ceriņu ielai un Ceriņu ielas no Rūdolfa Blaumaņa ielas līdz Ievu ielai pārbūve | F16: =Kopsavilkums!F20 -> 0
B17: Kopā: | F17: =+F16 -> 0
A19: Finanšu rezerve neparedzētiem darbiem | E19: 0.05 | F19: =ROUND(F17*5%,2) -> 0
A20: Kopā ar finanšu rezervi neparedzētiem darbiem : | F20: =+F19+F17 -> 0
A21: PVN | E21: 0.21 | F21: =ROUND(F20*21%,2) -> 0
A22: Pavisam būvniecības izmaksas | F22: =+F21+F20 -> 0
A26: Sastādija _____________2026. gada __________
A28: Sertifikāta Nr. _____________

Sheet Kopsavilkums
A2: Kopsavilkuma aprēķini par darbu vai konstruktīvo elementu veidiem
A4: Būves nosaukums | D4: ='Būvniecības koptāme'!D7 -> Rūdolfa Blaumaņa ielas no Baznīcas ielas līdz Ceriņu ielai un Ceriņu ielas no Rūdolfa Blaumaņa ielas līdz Ievu ielai pārbūve
A5: Objekta nosaukums | D5: ='Būvniecības koptāme'!D8 -> Rūdolfa Blaumaņa ielas no Baznīcas ielas līdz Ceriņu ielai un Ceriņu ielas no Rūdolfa Blaumaņa ielas līdz Ievu ielai pārbūve
A6: Objekta adrese | D6: ='Būvniecības koptāme'!D9 -> Rūdolfa Blaumaņa un Ceriņu iela, Jūrmalā
A7: Iepirkuma Nr. | D7: ='Būvniecības koptāme'!D10 -> JVA 2026/70
G8: Kopējā darbietilpība, c/h | I8: =+J16 -> 0
C9: Tāme sastādīta 2026.gada __
A11: Nr. p. k. | B11: Lokālā tāmes Nr. | C11: Darba veids vai konstruktīvā elementa nosaukums | F11: Tāmes izmaksas (euro) | G11: Tai skaitā | J11: Darbietilpība (c/h)
G12: darba alga (euro) | H12: materiāli (euro) | I12: mehānismi (euro)
A13: 1 | B13: 1 | C13: ='1_CD'!A2 -> TS-CD - Ceļa darbi | F13: ='1_CD'!O161 -> 0 | G13: ='1_CD'!L161 -> 0 | H13: ='1_CD'!M161 -> 0 | I13: ='1_CD'!N161 -> 0 | J13: ='1_CD'!K161 -> 0
A14: 2 | B14: 2 | C14: ='2_LKT'!A2 -> LKT - Lietus ūdens kanalizācijas tīkli | F14: ='2_LKT'!O74 -> 0 | G14: ='2_LKT'!L74 -> 0 | H14: ='2_LKT'!M74 -> 0 | I14: ='2_LKT'!N74 -> 0 | J14: ='2_LKT'!K74 -> 0
A15: 3 | B15: 3 | C15: ='3_ELT'!A2 -> ELT - Elektroapgāde (ārējā) - apgaismojums | F15: ='3_ELT'!O87 -> 0 | G15: ='3_ELT'!L87 -> 0 | H15: ='3_ELT'!M87 -> 0 | I15: ='3_ELT'!N87 -> 0 | J15: ='3_ELT'!K87 -> 0
A16: Kopā | F16: =SUM(F13:F15) -> 0 | G16: =SUM(G13:G15) -> 0 | H16: =SUM(H13:H15) -> 0 | I16: =SUM(I13:I15) -> 0 | J16: =SUM(J13:J15) -> 0
A17: Virsizdevumi % | E17: 0 | F17: =ROUND(F16*E17,2) -> 0
A18: t.sk. darba aizsardzība | E18: 0 | F18: =+ROUND(F17*E18,2) -> 0
A19: Peļņa % | E19: 0 | F19: =ROUND(F16*E19,2) -> 0
A20: Pavisam kopā | F20: =+F16+F17+F19 -> 0
A25: Sastādija _______________________________2026. gada __________
A27: Sertifikāta Nr. _____________

Sheet 1_CD
A1: Lokālā tāme Nr. 1
A2: TS-CD - Ceļa darbi
A4: Būves nosaukums | C4: ='Būvniecības koptāme'!D7 -> Rūdolfa Blaumaņa ielas no Baznīcas ielas līdz Ceriņu ielai un Ceriņu ielas no Rūdolfa Blaumaņa ielas līdz Ievu ielai pārbūve
A5: Objekta nosaukums | C5: ='Būvniecības koptāme'!D8 -> Rūdolfa Blaumaņa ielas no Baznīcas ielas līdz Ceriņu ielai un Ceriņu ielas no Rūdolfa Blaumaņa ielas līdz Ievu ielai pārbūve
A6: Objekta adrese | C6: ='Būvniecības koptāme'!D9 -> Rūdolfa Blaumaņa un Ceriņu iela, Jūrmalā
A7: Iepirkuma Nr. | C7: ='Būvniecības koptāme'!D10 -> JVA 2026/70
K8: Tāmes izmaksas | M8: =O161 -> 0
A9: Tāme sastādīta 2026. gada tirgus cenās | K9: Tāme sastādīta 2026. gada _______
A10: Kods | B10: Būvdarbu nosaukums | C10: Mērvienība | D10: Daudzums | E10: Vienības izmaksas | K10: Kopā uz visu apjomu
E11: laika norma (c/h) | F11: darba samaksas likme (euro/h) | G11: darba alga | H11: būvizstrādājumi | I11: mehānismi | J11: Kopā | K11: darbietilpība (c/h) | L11: darba alga | M11: būvizstrā-dājumi | N11: mehānismi | O11: Summa
A13: 1 | B13: 2 | C13: 3 | D13: 4 | E13: 5 | F13: 6 | G13: 7 | H13: 8 | I13: 9 | J13: 10 | K13: 11 | L13: 12 | M13: 13 | N13: 14 | O13: 15
A14: SAGATAVOŠANAS DARBI
A15: 1 | B15: Mobilizācija un sagatavošanās būvdarbu veikšanai | C15: kpl. | D15: 1 | G15: =ROUND(E15*F15,2) -> 0 | J15: =SUM(G15+H15+I15) -> 0 | K15: =ROUND(D15*E15,2) -> 0 | L15: =ROUND(D15*G15,2) -> 0 | M15: =ROUND(D15*H15,2) -> 0 | N15: =ROUND(D15*I15,2) -> 0 | O15: =SUM(L15+M15+N15) -> 0
A16: 2 | B16: Satiksmes organizācija būvdarbu laikā (ieskaitot pievadceļu uzturēšanu, bedrīšu lāpīšanu pirms būvniecības un būvniecības laikā) | C16: kpl. | D16: 1 | G16: =ROUND(E16*F16,2) -> 0 | J16: =SUM(G16+H16+I16) -> 0 | K16: =ROUND(D16*E16,2) -> 0 | L16: =ROUND(D16*G16,2) -> 0 | M16: =ROUND(D16*H16,2) -> 0 | N16: =ROUND(D16*I16,2) -> 0 | O16: =SUM(L16+M16+N16) -> 0
A17: 3 | B17: Informācijas stenda (būvtāfeles) izgatavošana un uzstādīšana | C17: gb. | D17: 2 | G17: =ROUND(E17*F17,2) -> 0 | J17: =SUM(G17+H17+I17) -> 0 | K17: =ROUND(D17*E17,2) -> 0 | L17: =ROUND(D17*G17,2) -> 0 | M17: =ROUND(D17*H17,2) -> 0 | N17: =ROUND(D17*I17,2) -> 0 | O17: =SUM(L17+M17+N17) -> 0
A18: 4 | B18: Trases uzmērīšana un nospraušana | C18: m | D18: 930 | G18: =ROUND(E18*F18,2) -> 0 | J18: =SUM(G18+H18+I18) -> 0 | K18: =ROUND(D18*E18,2) -> 0 | L18: =ROUND(D18*G18,2) -> 0 | M18: =ROUND(D18*H18,2) -> 0 | N18: =ROUND(D18*I18,2) -> 0 | O18: =SUM(L18+M18+N18) -> 0
A19: 5 | B19: Brauktuves asfaltbetona seguma frēzēšana hvid=13 cm ar materiāla aizvešanu uz Būvdarbu veicēja atbērtni | C19: m² | D19: 5631 | G19: =ROUND(E19*F19,2) -> 0 | J19: =SUM(G19+H19+I19) -> 0 | K19: =ROUND(D19*E19,2) -> 0 | L19: =ROUND(D19*G19,2) -> 0 | M19: =ROUND(D19*H19,2) -> 0 | N19: =ROUND(D19*I19,2) -> 0 | O19: =SUM(L19+M19+N19) -> 0
A20: 6 | B20: Gājēju ietves asfaltbetona seguma demontāža hvid=5 cm, tai skaitā ietves betona apmaļu demontāža, ar materiāla aizvešanu uz Būvdarbu veicēja atbērtni | C20: m² | D20: 155 | G20: =ROUND(E20*F20,2) -> 0 | J20: =SUM(G20+H20+I20) -> 0 | K20: =ROUND(D20*E20,2) -> 0 | L20: =ROUND(D20*G20,2) -> 0 | M20: =ROUND(D20*H20,2) -> 0 | N20: =ROUND(D20*I20,2) -> 0 | O20: =SUM(L20+M20+N20) -> 0
A21: 7 | B21: Gājēju ietves betona bruģakmens demontāža h=6 cm, tai skaitā ietves betona apmaļu demontāža, ar materiāla aizvešanu uz Būvdarbu veicēja atbērtni | C21: m² | D21: 396 | G21: =ROUND(E21*F21,2) -> 0 | J21: =SUM(G21+H21+I21) -> 0 | K21: =ROUND(D21*E21,2) -> 0 | L21: =ROUND(D21*G21,2) -> 0 | M21: =ROUND(D21*H21,2) -> 0 | N21: =ROUND(D21*I21,2) -> 0 | O21: =SUM(L21+M21+N21) -> 0
A22: 8 | B22: Betona plātņu seguma demontāža h=5 cm, ar materiāla aizvešanu uz Būvdarbu veicēja atbērtni | C22: m² | D22: 636 | G22: =ROUND(E22*F22,2) -> 0 | J22: =SUM(G22+H22+I22) -> 0 | K22: =ROUND(D22*E22,2) -> 0 | L22: =ROUND(D22*G22,2) -> 0 | M22: =ROUND(D22*H22,2) -> 0 | N22: =ROUND(D22*I22,2) -> 0 | O22: =SUM(L22+M22+N22) -> 0
A23: 9 | B23: Betona seguma demontāža, hvid=15cm, ar materiāla aizvešanu uz Būvdarbu veicēja atbērtni | C23: m² | D23: 60 | G23: =ROUND(E23*F23,2) -> 0 | J23: =SUM(G23+H23+I23) -> 0 | K23: =ROUND(D23*E23,2) -> 0 | L23: =ROUND(D23*G23,2) -> 0 | M23: =ROUND(D23*H23,2) -> 0 | N23: =ROUND(D23*I23,2) -> 0 | O23: =SUM(L23+M23+N23) -> 0
A24: 10 | B24: Nobrauktuvju betona bruģakmens seguma demontāža h=8 cm, tai skaitā betona apmaļu demontāža, ar materiāla aizvešanu uz Būvdarbu veicēja atbērtni | C24: m² | D24: 212 | G24: =ROUND(E24*F24,2) -> 0 | J24: =SUM(G24+H24+I24) -> 0 | K24: =ROUND(D24*E24,2) -> 0 | L24: =ROUND(D24*G24,2) -> 0 | M24: =ROUND(D24*H24,2) -> 0 | N24: =ROUND(D24*I24,2) -> 0 | O24: =SUM(L24+M24+N24) -> 0
A25: 11 | B25: Šķembu un grants seguma demontāža, hvid=20 cm, ar materiāla aizvešanu uz Būvdarbu veicēja atbērtni | C25: m² | D25: 68 | G25: =ROUND(E25*F25,2) -> 0 | J25: =SUM(G25+H25+I25) -> 0 | K25: =ROUND(D25*E25,2) -> 0 | L25: =ROUND(D25*G25,2) -> 0 | M25: =ROUND(D25*H25,2) -> 0 | N25: =ROUND(D25*I25,2) -> 0 | O25: =SUM(L25+M25+N25) -> 0
A26: 12 | B26: Betona ceļa apmaļu demontāža un nogādāšana uz Būvdarbu veicēja atbērtni | C26: m | D26: 470 | G26: =ROUND(E26*F26,2) -> 0 | J26: =SUM(G26+H26+I26) -> 0 | K26: =ROUND(D26*E26,2) -> 0 | L26: =ROUND(D26*G26,2) -> 0 | M26: =ROUND(D26*H26,2) -> 0 | N26: =ROUND(D26*I26,2) -> 0 | O26: =SUM(L26+M26+N26) -> 0
... A36: 22 | B36: Esošā ģeodēziskā tīkla punkta saglabāšana un aizsardzība būvdarbu laikā | C36: kpl. | D36: 6 | G36: =ROUND(E36*F36,2) -> 0 | J36: =SUM(G36+H36+I36) -> 0 | K36: =ROUND(D36*E36,2) -> 0 | L36: =ROUND(D36*G36,2) -> 0 | M36: =ROUND(D36*H36,2) -> 0 | N36: =ROUND(D36*I36,2) -> 0 | O36: =SUM(L36+M36+N36) -> 0
A37: KOMUNIKĀCIJU PĀRBŪVE
A38: 23 | B38: Esošo (brauktuvē un nobrauktuvēs) aku inspekcija, vāka līmeņošana, izmantojot 40t "peldoša" tipa vākus, nepieciešamības gadījumā rekonstruējot aku, lai būtu iespējams veikt vāka uzstādīšanu un pazemināšanu | C38: gab. | D38: 74 | G38: =ROUND(E38*F38,2) -> 0 | J38: =SUM(G38+H38+I38) -> 0 | K38: =ROUND(D38*E38,2) -> 0 | L38: =ROUND(D38*G38,2) -> 0 | M38: =ROUND(D38*H38,2) -> 0 | N38: =ROUND(D38*I38,2) -> 0 | O38: =SUM(L38+M38+N38) -> 0
A39: 24 | B39: Esošo (ietvēs un zaļajā zonā) aku inspekcija, vāka līmeņošana, izmantojot 12t "peldoša" tipa vākus, nepieciešamības gadījumā rekonstruējot aku, lai būtu iespējams veikt vāka uzstādīšanu un pazemināšanu | C39: gab. | D39: 13 | G39: =ROUND(E39*F39,2) -> 0 | J39: =SUM(G39+H39+I39) -> 0 | K39: =ROUND(D39*E39,2) -> 0 | L39: =ROUND(D39*G39,2) -> 0 | M39: =ROUND(D39*H39,2) -> 0 | N39: =ROUND(D39*I39,2) -> 0 | O39: =SUM(L39+M39+N39) -> 0
A40: 25 | B40: Esošu gāzes vada aizbīdņu (brauktuvē un nobrauktuvēs esošo) kapju inspekcija, vāka līmeņošana, izmantojot 40t "peldoša" tipa vākus, nepieciešamības gadījumā rekonstruējot, lai būtu iespējams veikt vāka uzstādīšanu | C40: gab. | D40: 18 | G40: =ROUND(E40*F40,2) -> 0 | J40: =SUM(G40+H40+I40) -> 0 | K40: =ROUND(D40*E40,2) -> 0 | L40: =ROUND(D40*G40,2) -> 0 | M40: =ROUND(D40*H40,2) -> 0 | N40: =ROUND(D40*I40,2) -> 0 | O40: =SUM(L40+M40+N40) -> 0
A41: 26 | B41: Esošu gāzes vada aizbīdņu ietvēs un zaļajā zonā) kapju inspekcija, vāka līmeņošana, izmantojot 12t "peldoša" tipa vākus, nepieciešamības gadījumā rekonstruējot lai, lai būtu iespējams veikt vāka uzstādīšanu | C41: gab. | D41: 9 | G41: =ROUND(E41*F41,2) -> 0 | J41: =SUM(G41+H41+I41) -> 0 | K41: =ROUND(D41*E41,2) -> 0 | L41: =ROUND(D41*G41,2) -> 0 | M41: =ROUND(D41*H41,2) -> 0 | N41: =ROUND(D41*I41,2) -> 0 | O41: =SUM(L41+M41+N41) -> 0
A42: 27 | B42: Kabeļu iečaulošana dalīta tipa plastmasas caurules, d=110, 750N | C42: m | D42: 335 | G42: =ROUND(E42*F42,2) -> 0 | J42: =SUM(G42+H42+I42) -> 0 | K42: =ROUND(D42*E42,2) -> 0 | L42: =ROUND(D42*G42,2) -> 0 | M42: =ROUND(D42*H42,2) -> 0 | N42: =ROUND(D42*I42,2) -> 0 | O42: =SUM(L42+M42+N42) -> 0
A43: 28 | B43: Kabeļu iečaulošana dalīta tipa plastmasas caurules, d=160, 750N | C43: m | D43: 218 | G43: =ROUND(E43*F43,2) -> 0 | J43: =SUM(G43+H43+I43) -> 0 | K43: =ROUND(D43*E43,2) -> 0 | L43: =ROUND(D43*G43,2) -> 0 | M43: =ROUND(D43*H43,2) -> 0 | N43: =ROUND(D43*I43,2) -> 0 | O43: =SUM(L43+M43+N43) -> 0
A44: 29 | B44: Optiskās šķiedras specializētās aizsargcaurules ar trosi kabeļa ievilkšanai izbūve (plastmasas caurules, d40, 750N) | C44: m | D44: 554 | G44: =ROUND(E44*F44,2) -> 0 | J44: =SUM(G44+H44+I44) -> 0 | K44: =ROUND(D44*E44,2) -> 0 | L44: =ROUND(D44*G44,2) -> 0 | M44: =ROUND(D44*H44,2) -> 0 | N44: =ROUND(D44*I44,2) -> 0 | O44: =SUM(L44+M44+N44) -> 0
A45: 30 | B45: Optiskās šķiedras specializētās aizsargcaurules ar trosi kabeļa ievilkšanai izbūve ar beztranšejas metodi-caurduri (plastmasas caurules, d40, 750N) | C45: m | D45: 311 | G45: =ROUND(E45*F45,2) -> 0 | J45: =SUM(G45+H45+I45) -> 0 | K45: =ROUND(D45*E45,2) -> 0 | L45: =ROUND(D45*G45,2) -> 0 | M45: =ROUND(D45*H45,2) -> 0 | N45: =ROUND(D45*I45,2) -> 0 | O45: =SUM(L45+M45+N45) -> 0
A46: 31 | B46: Plastmasas akas KP-PEH 800x650 ar 12t "peldošā" tipa vāku izbūve | C46: gab. | D46: 14 | G46: =ROUND(E46*F46,2) -> 0 | J46: =SUM(G46+H46+I46) -> 0 | K46: =ROUND(D46*E46,2) -> 0 | L46: =ROUND(D46*G46,2) -> 0 | M46: =ROUND(D46*H46,2) -> 0 | N46: =ROUND(D46*I46,2) -> 0 | O46: =SUM(L46+M46+N46) -> 0
A47: 32 | B47: KKS-1 akas PEH 800, h=900mm, ar 40t "peldošā" tipa vāku izbūve | C47: gab. | D47: 1 | G47: =ROUND(E47*F47,2) -> 0 | J47: =SUM(G47+H47+I47) -> 0 | K47: =ROUND(D47*E47,2) -> 0 | L47: =ROUND(D47*G47,2) -> 0 | M47: =ROUND(D47*H47,2) -> 0 | N47: =ROUND(D47*I47,2) -> 0 | O47: =SUM(L47+M47+N47) -> 0
A48: ZEMES DARBI
A49: 33 | B49: Augu zemes slāņa noņemšana, h(vid)=30 cm, izrakto grunti aizvedot uz būvdarbu veicēja atbērtni | C49: m² | D49: 2880 | G49: =ROUND(E49*F49,2) -> 0 | J49: =SUM(G49+H49+I49) -> 0 | K49: =ROUND(D49*E49,2) -> 0 | L49: =ROUND(D49*G49,2) -> 0 | M49: =ROUND(D49*H49,2) -> 0 | N49: =ROUND(D49*I49,2) -> 0 | O49: =SUM(L49+M49+N49) -> 0
A50: 34 | B50: Ierakuma izbūve izrakto grunti aizvedot uz būvdarbu veicēja atbērtni | C50: m³ | D50: 6605 | G50: =ROUND(E50*F50,2) -> 0 | J50: =SUM(G50+H50+I50) -> 0 | K50: =ROUND(D50*E50,2) -> 0 | L50: =ROUND(D50*G50,2) -> 0 | M50: =ROUND(D50*H50,2) -> 0 | N50: =ROUND(D50*I50,2) -> 0 | O50: =SUM(L50+M50+N50) -> 0
A51: 35 | B51: Apzaļumošana - Zaļās zonas ierīkošana, izmantojot augu zemi, h=10 cm, apsētu ar zālāja sēklām, ieskaitot darba zonas sakārtošanu zem zaļās zonas, h(vid) = 30cm | C51: m² | D51: 2595 | G51: =ROUND(E51*F51,2) -> 0 | J51: =SUM(G51+H51+I51) -> 0 | K51: =ROUND(D51*E51,2) -> 0 | L51: =ROUND(D51*G51,2) -> 0 | M51: =ROUND(D51*H51,2) -> 0 | N51: =ROUND(D51*I51,2) -> 0 | O51: =SUM(L51+M51+N51) -> 0
...

Sheet 2_LKT
A1: Lokālā tāme Nr. 2
A2: LKT - Lietus ūdens kanalizācijas tīkli
A4: Būves nosaukums | C4: ='Būvniecības koptāme'!D7 -> Rūdolfa Blaumaņa ielas no Baznīcas ielas līdz Ceriņu ielai un Ceriņu ielas no Rūdolfa Blaumaņa ielas līdz Ievu ielai pārbūve
A5: Objekta nosaukums | C5: ='Būvniecības koptāme'!D8 -> Rūdolfa Blaumaņa ielas no Baznīcas ielas līdz Ceriņu ielai un Ceriņu ielas no Rūdolfa Blaumaņa ielas līdz Ievu ielai pārbūve
A6: Objekta adrese | C6: ='Būvniecības koptāme'!D9 -> Rūdolfa Blaumaņa un Ceriņu iela, Jūrmalā
A7: Iepirkuma Nr. | C7: ='Būvniecības koptāme'!D10 -> JVA 2026/70
K8: Tāmes izmaksas | M8: =O74 -> 0
A9: Tāme sastādīta 2026. gada tirgus cenās | K9: Tāme sastādīta 2026. gada _______
A10: Kods | B10: Būvdarbu nosaukums | C10: Mērvienība | D10: Daudzums | E10: Vienības izmaksas | K10: Kopā uz visu apjomu
E11: laika norma (c/h) | F11: darba samaksas likme (euro/h) | G11: darba alga | H11: būvizstrādājumi | I11: mehānismi | J11: Kopā | K11: darbietilpība (c/h) | L11: darba alga | M11: būvizstrā-dājumi | N11: mehānismi | O11: Summa
A13: 1 | B13: 2 | C13: 3 | D13: 4 | E13: 5 | F13: 6 | G13: 7 | H13: 8 | I13: 9 | J13: 10 | K13: 11 | L13: 12 | M13: 13 | N13: 14 | O13: 15
A14: Lietus ūdens kanalizācija K2
A15: 1 | B15: Lietus ūdens kanalizācijas gludsienu caurule PP SN8 ø110 ar uzmavu un blīvgredzenu, (SN8, RF30, -10⁰, EN13476-2 - marķējums uz caurules), montāža ar 15 cm smilts ((blietēta) k>1,0m/dnn) pamatnes ierīkošanu un izbūvētā cauruļvada smilts apbēruma ierīkošanu 30 cm virs caurules virsas. | C15: m | D15: 1.8 | G15: =ROUND(E15*F15,2) -> 0 | J15: =SUM(G15+H15+I15) -> 0 | K15: =ROUND(D15*E15,2) -> 0 | L15: =ROUND(D15*G15,2) -> 0 | M15: =ROUND(D15*H15,2) -> 0 | N15: =ROUND(D15*I15,2) -> 0 | O15: =SUM(L15+M15+N15) -> 0
A16: 2 | B16: Lietus ūdens kanalizācijas gludsienu caurule PP SN8 ø160 ar uzmavu un blīvgredzenu, (SN8, RF30, -10⁰, EN13476-2 - marķējums uz caurules), montāža ar 15 cm smilts ((blietēta) k>1,0m/dnn) pamatnes ierīkošanu un izbūvētā cauruļvada smilts apbēruma ierīkošanu 30 cm virs caurules virsas. | C16: m | D16: 3.3 | G16: =ROUND(E16*F16,2) -> 0 | J16: =SUM(G16+H16+I16) -> 0 | K16: =ROUND(D16*E16,2) -> 0 | L16: =ROUND(D16*G16,2) -> 0 | M16: =ROUND(D16*H16,2) -> 0 | N16: =ROUND(D16*I16,2) -> 0 | O16: =SUM(L16+M16+N16) -> 0
A17: 3 | B17: Lietus ūdens kanalizācijas gludsienu caurule PP SN8 ø200 ar uzmavu un blīvgredzenu, (SN8, RF30, -10⁰, EN13476-2 - marķējums uz caurules), montāža ar 15 cm smilts ((blietēta) k>1,0m/dnn) pamatnes ierīkošanu un izbūvētā cauruļvada smilts apbēruma ierīkošanu 30 cm virs caurules virsas. | C17: m | D17: 84.6 | G17: =ROUND(E17*F17,2) -> 0 | J17: =SUM(G17+H17+I17) -> 0 | K17: =ROUND(D17*E17,2) -> 0 | L17: =ROUND(D17*G17,2) -> 0 | M17: =ROUND(D17*H17,2) -> 0 | N17: =ROUND(D17*I17,2) -> 0 | O17: =SUM(L17+M17+N17) -> 0
A18: 4 | B18: Lietus ūdeņu uztvērējakas (gūlijas) komplekts PP ID600mm (1.0-1.5m dziļumā, nosēdakas pamatne, augstuma regulēšanas dubultsienu caurule SN8, EN13476-3 , manžete teleskopiskajai caurulei, teleskopiskā caurule, 40t ķeta rāmis ar resti 520 x 300mm, D 400 klases sertificētu atbilstoši EN 124/ RAL-GZ692 / DIN 1229 un polimērmateriālu uztvērējspaini), piev. Ø200, nosēddaļa 0,6m(185l), izbūve un montāža, t.sk. 15 cm smilts ((blietēta) k>1,0m/dnn) pamatnes ierīkošanu un apbetonējums ap akas vāku (betons C25/30). | C18: kpl. | D18: 8 | G18: =ROUND(E18*F18,2) -> 0 | J18: =SUM(G18+H18+I18) -> 0 | K18: =ROUND(D18*E18,2) -> 0 | L18: =ROUND(D18*G18,2) -> 0 | M18: =ROUND(D18*H18,2) -> 0 | N18: =ROUND(D18*I18,2) -> 0 | O18: =SUM(L18+M18+N18) -> 0
A19: 5 | B19: Lietus ūdeņu uztvērējakas (gūlijas) komplekts PP ID600mm (1.5-2.0m dziļumā, nosēdakas pamatne, augstuma regulēšanas dubultsienu caurule SN8, EN13476-3 , manžete teleskopiskajai caurulei, teleskopiskā caurule, 40t ķeta rāmis ar resti 520 x 300mm, D 400 klases sertificētu atbilstoši EN 124/ RAL-GZ692 / DIN 1229 un polimērmateriālu uztvērējspaini), piev. Ø200, nosēddaļa 0,6m(185l), izbūve un montāža, t.sk 15 cm smilts ((blietēta) k>1,0m/dnn) pamatnes ierīkošanu un apbetonējums ap akas vāku (betons C25/30). | C19: kpl. | D19: 7 | G19: =ROUND(E19*F19,2) -> 0 | J19: =SUM(G19+H19+I19) -> 0 | K19: =ROUND(D19*E19,2) -> 0 | L19: =ROUND(D19*G19,2) -> 0 | M19: =ROUND(D19*H19,2) -> 0 | N19: =ROUND(D19*I19,2) -> 0 | O19: =SUM(L19+M19+N19) -> 0
A20: 6 | B20: Lietus ūdeņu uztvērējakas (gūlijas) komplekts PP ID600mm (2.0-2.5m dziļumā, nosēdakas pamatne, augstuma regulēšanas dubultsienu caurule SN8, EN13476-3 , manžete teleskopiskajai caurulei, teleskopiskā caurule, 40t ķeta rāmis ar resti 520 x 300mm, D 400 klases sertificētu atbilstoši EN 124/ RAL-GZ692 / DIN 1229 un polimērmateriālu uztvērējspaini), piev. Ø200, nosēddaļa 0,6m(185l), izbūve un montāža, t.sk 15 cm smilts ((blietēta) k>1,0m/dnn) pamatnes ierīkošanu un apbetonējums ap akas vāku (betons C25/30). | C20: kpl. | D20: 1 | G20: =ROUND(E20*F20,2) -> 0 | J20: =SUM(G20+H20+I20) -> 0 | K20: =ROUND(D20*E20,2) -> 0 | L20: =ROUND(D20*G20,2) -> 0 | M20: =ROUND(D20*H20,2) -> 0 | N20: =ROUND(D20*I20,2) -> 0 | O20: =SUM(L20+M20+N20) -> 0
A21: 7 | B21: Lietus kanalizācijas aka PP ID600mm, 40,0 t vāku RAL-GZ692 sertifikāciju, atvērumu ≥600mm, dubulstsienu šahtu SN8 ar ribojumu; EN13598-2 sertifikāciju (1,0-1,5 m dziļumā, ieskaitot dzelzsbetona atbalsta gredzenu) izbūve un montāža t.sk. 15 cm smilts ((blietēta) k>1,0m/dnn) pamatnes ierīkošanu un apbetonējums ap akas vāku (betons C25/30). | C21: kpl. | D21: 1 | G21: =ROUND(E21*F21,2) -> 0 | J21: =SUM(G21+H21+I21) -> 0 | K21: =ROUND(D21*E21,2) -> 0 | L21: =ROUND(D21*G21,2) -> 0 | M21: =ROUND(D21*H21,2) -> 0 | N21: =ROUND(D21*I21,2) -> 0 | O21: =SUM(L21+M21+N21) -> 0
A22: 8 | B22: Lietus kanalizācijas aka PP ID600mm, 40,0 t vāku RAL-GZ692 sertifikāciju, atvērumu ≥600mm, dubulstsienu šahtu SN8 ar ribojumu; EN13598-2 sertifikāciju (1,5-2.0 m dziļumā, ieskaitot dzelzsbetona atbalsta gredzenu) izbūve un montāža t.sk. 15 cm smilts ((blietēta) k>1,0m/dnn) pamatnes ierīkošanu un apbetonējums ap akas vāku (betons C25/30). | C22: kpl. | D22: 1 | G22: =ROUND(E22*F22,2) -> 0 | J22: =SUM(G22+H22+I22) -> 0 | K22: =ROUND(D22*E22,2) -> 0 | L22: =ROUND(D22*G22,2) -> 0 | M22: =ROUND(D22*H22,2) -> 0 | N22: =ROUND(D22*I22,2) -> 0 | O22: =SUM(L22+M22+N22) -> 0
A23: 9 | B23: Lietus kanalizācijas aka PP ID600mm, 40,0 t vāku RAL-GZ692 sertifikāciju, atvērumu ≥600mm, dubulstsienu šahtu SN8 ar ribojumu; EN13598-2 sertifikāciju (2.0-2.5 m dziļumā, ieskaitot dzelzsbetona atbalsta gredzenu) izbūve un montāža t.sk.15 cm smilts ((blietēta) k>1,0m/dnn) pamatnes ierīkošanu un apbetonējums ap akas vāku (betons C25/30). | C23: kpl. | D23: 1 | G23: =ROUND(E23*F23,2) -> 0 | J23: =SUM(G23+H23+I23) -> 0 | K23: =ROUND(D23*E23,2) -> 0 | L23: =ROUND(D23*G23,2) -> 0 | M23: =ROUND(D23*H23,2) -> 0 | N23: =ROUND(D23*I23,2) -> 0 | O23: =SUM(L23+M23+N23) -> 0
A24: 10 | B24: Tranšejas rakšana ar rokām un ekskavatoru pie caurules iebūves dziļuma līdz 1.0 m un minimālā tranšejas platuma 1,5 m, nepieciešamības gadījumā dolomīta izstrāde | C24: m | D24: 38.5 | G24: =ROUND(E24*F24,2) -> 0 | J24: =SUM(G24+H24+I24) -> 0 | K24: =ROUND(D24*E24,2) -> 0 | L24: =ROUND(D24*G24,2) -> 0 | M24: =ROUND(D24*H24,2) -> 0 | N24: =ROUND(D24*I24,2) -> 0 | O24: =SUM(L24+M24+N24) -> 0
A25: 11 | B25: Tranšejas rakšana ar rokām un ekskavatoru pie caurules iebūves dziļuma 1.0-1.5 m un minimālā tranšejas platuma 1,5 m, nepieciešamības gadījumā dolomīta izstrāde | C25: m | D25: 37.7 | G25: =ROUND(E25*F25,2) -> 0 | J25: =SUM(G25+H25+I25) -> 0 | K25: =ROUND(D25*E25,2) -> 0 | L25: =ROUND(D25*G25,2) -> 0 | M25: =ROUND(D25*H25,2) -> 0 | N25: =ROUND(D25*I25,2) -> 0 | O25: =SUM(L25+M25+N25) -> 0
A26: 12 | B26: Tranšejas rakšana ar rokām un ekskavatoru pie caurules iebūves dziļuma 1,5-2,0 m un minimālā tranšejas platuma 1,5 m, nepieciešamības gadījumā dolomīta izstrāde | C26: m | D26: 13.5 | G26: =ROUND(E26*F26,2) -> 0 | J26: =SUM(G26+H26+I26) -> 0 | K26: =ROUND(D26*E26,2) -> 0 | L26: =ROUND(D26*G26,2) -> 0 | M26: =ROUND(D26*H26,2) -> 0 | N26: =ROUND(D26*I26,2) -> 0 | O26: =SUM(L26+M26+N26) -> 0
... A37: 23 | B37: Esošā lietus ūdens kanalizācijas tīkla d150 demontāža un utilizācija | C37: m | D37: 9 | G37: =ROUND(E37*F37,2) -> 0 | J37: =SUM(G37+H37+I37) -> 0 | K37: =ROUND(D37*E37,2) -> 0 | L37: =ROUND(D37*G37,2) -> 0 | M37: =ROUND(D37*H37,2) -> 0 | N37: =ROUND(D37*I37,2) -> 0 | O37: =SUM(L37+M37+N37) -> 0
A38: Šķērsojumi:
A39: 24 | B39: Šķērsojumi ar kabeļiem t.sk. atšurfēšana | C39: kpl. | D39: 7 | G39: =ROUND(E39*F39,2) -> 0 | J39: =SUM(G39+H39+I39) -> 0 | K39: =ROUND(D39*E39,2) -> 0 | L39: =ROUND(D39*G39,2) -> 0 | M39: =ROUND(D39*H39,2) -> 0 | N39: =ROUND(D39*I39,2) -> 0 | O39: =SUM(L39+M39+N39) -> 0
A40: 25 | B40: Dalītā aizsargcaurule EVOCAB SPLIT Ø110mm kabeļu šķērsojuma vietās | C40: m | D40: 28 | G40: =ROUND(E40*F40,2) -> 0 | J40: =SUM(G40+H40+I40) -> 0 | K40: =ROUND(D40*E40,2) -> 0 | L40: =ROUND(D40*G40,2) -> 0 | M40: =ROUND(D40*H40,2) -> 0 | N40: =ROUND(D40*I40,2) -> 0 | O40: =SUM(L40+M40+N40) -> 0
A41: 26 | B41: Brīdinājuma lente 20-40 cm virs kabeļa, guldīšana smiltī | C41: m | D41: 28 | G41: =ROUND(E41*F41,2) -> 0 | J41: =SUM(G41+H41+I41) -> 0 | K41: =ROUND(D41*E41,2) -> 0 | L41: =ROUND(D41*G41,2) -> 0 | M41: =ROUND(D41*H41,2) -> 0 | N41: =ROUND(D41*I41,2) -> 0 | O41: =SUM(L41+M41+N41) -> 0
A42: 27 | B42: Šķērsojumi ar nedarbojošiem kabeļiem t.sk. atšurfēšana | C42: kpl. | D42: 3 | G42: =ROUND(E42*F42,2) -> 0 | J42: =SUM(G42+H42+I42) -> 0 | K42: =ROUND(D42*E42,2) -> 0 | L42: =ROUND(D42*G42,2) -> 0 | M42: =ROUND(D42*H42,2) -> 0 | N42: =ROUND(D42*I42,2) -> 0 | O42: =SUM(L42+M42+N42) -> 0
A43: 28 | B43: Šķērsojumi ar cauruļvadiem d≤200 (t.sk. to atšurfēšana) | C43: vietas | D43: 22 | G43: =ROUND(E43*F43,2) -> 0 | J43: =SUM(G43+H43+I43) -> 0 | K43: =ROUND(D43*E43,2) -> 0 | L43: =ROUND(D43*G43,2) -> 0 | M43: =ROUND(D43*H43,2) -> 0 | N43: =ROUND(D43*I43,2) -> 0 | O43: =SUM(L43+M43+N43) -> 0
A44: 29 | B44: CCTV pārbaude cauruļvada slīpuma un stāvokļa noteikšanai pēc būvdarbu pabeigšanas | C44: m | D44: 84.6 | G44: =ROUND(E44*F44,2) -> 0 | J44: =SUM(G44+H44+I44) -> 0 | K44: =ROUND(D44*E44,2) -> 0 | L44: =ROUND(D44*G44,2) -> 0 | M44: =ROUND(D44*H44,2) -> 0 | N44: =ROUND(D44*I44,2) -> 0 | O44: =SUM(L44+M44+N44) -> 0
A45: 30 | B45: Cauruļvadu skalošana un tīrīšana | C45: m | D45: 89.7 | G45: =ROUND(E45*F45,2) -> 0 | J45: =SUM(G45+H45+I45) -> 0 | K45: =ROUND(D45*E45,2) -> 0 | L45: =ROUND(D45*G45,2) -> 0 | M45: =ROUND(D45*H45,2) -> 0 | N45: =ROUND(D45*I45,2) -> 0 | O45: =SUM(L45+M45+N45) -> 0
A46: 31 | B46: Cauruļvadu hermētiskuma pārbaude | C46: m | D46: 89.7 | G46: =ROUND(E46*F46,2) -> 0 | J46: =SUM(G46+H46+I46) -> 0 | K46: =ROUND(D46*E46,2) -> 0 | L46: =ROUND(D46*G46,2) -> 0 | M46: =ROUND(D46*H46,2) -> 0 | N46: =ROUND(D46*I46,2) -> 0 | O46: =SUM(L46+M46+N46) -> 0
A47: Infiltrācijas aka
A48: 33 | B48: Saliekamo dzelzbetona elementu grodu aka DN1500 (2,5-3,0m dziļumā),grodiem, blīvgumiju grodu savienojumu vietās, grodu pārseguma vāku, hidroizolāciju, ķeta akas vāku 40 t, izbūve un montāža | C48: kpl. | D48: 1 | G48: =ROUND(E48*F48,2) -> 0 | J48: =SUM(G48+H48+I48) -> 0 | K48: =ROUND(D48*E48,2) -> 0 | L48: =ROUND(D48*G48,2) -> 0 | M48: =ROUND(D48*H48,2) -> 0 | N48: =ROUND(D48*I48,2) -> 0 | O48: =SUM(L48+M48+N48) -> 0
A49: Groda akas pamatnes un nosēddļaļas izbūve:
A50: 34 | B50: Maza izmēra laukakmeņi fr. 70-150 mm, h=20 cm | C50: m3 | D50: 0.4 | G50: =ROUND(E50*F50,2) -> 0 | J50: =SUM(G50+H50+I50) -> 0 | K50: =ROUND(D50*E50,2) -> 0 | L50: =ROUND(D50*G50,2) -> 0 | M50: =ROUND(D50*H50,2) -> 0 | N50: =ROUND(D50*I50,2) -> 0 | O50: =SUM(L50+M50+N50) -> 0
A51: 35 | B51: Šķembas fr. 21-63 mm, h=30 cm | C51: m3 | D51: 0.5 | G51: =ROUND(E51*F51,2) -> 0 | J51: =SUM(G51+H51+I51) -> 0 | K51: =ROUND(D51*E51,2) -> 0 | L51: =ROUND(D51*G51,2) -> 0 | M51: =ROUND(D51*H51,2) -> 0 | N51: =ROUND(D51*I51,2) -> 0 | O51: =SUM(L51+M51+N51) -> 0
A52: 36 | B52: Rupjgraudaina filtrējoša smilts K>3 m/dnn, h=20 cm | C52: m3 | D52: 0.4 | G52: =ROUND(E52*F52,2) -> 0 | J52: =SUM(G52+H52+I52) -> 0 | K52: =ROUND(D52*E52,2) -> 0 | L52: =ROUND(D52*G52,2) -> 0 | M52: =ROUND(D52*H52,2) -> 0 | N52: =ROUND(D52*I52,2) -> 0 | O52: =SUM(L52+M52+N52) -> 0
...

Sheet 3_ELT
A1: Lokālā tāme Nr. 3
A2: ELT - Elektroapgāde (ārējā) - apgaismojums
A4: Būves nosaukums | C4: ='Būvniecības koptāme'!D7 -> Rūdolfa Blaumaņa ielas no Baznīcas ielas līdz Ceriņu ielai un Ceriņu ielas no Rūdolfa Blaumaņa ielas līdz Ievu ielai pārbūve
A5: Objekta nosaukums | C5: ='Būvniecības koptāme'!D8 -> Rūdolfa Blaumaņa ielas no Baznīcas ielas līdz Ceriņu ielai un Ceriņu ielas no Rūdolfa Blaumaņa ielas līdz Ievu ielai pārbūve
A6: Objekta adrese | C6: ='Būvniecības koptāme'!D9 -> Rūdolfa Blaumaņa un Ceriņu iela, Jūrmalā
A7: Iepirkuma Nr. | C7: ='Būvniecības koptāme'!D10 -> JVA 2026/70
K8: Tāmes izmaksas | M8: =O87 -> 0
A9: Tāme sastādīta 2026. gada tirgus cenās | K9: Tāme sastādīta 2026. gada _______
A10: Kods | B10: Būvdarbu nosaukums | C10: Mērvienība | D10: Daudzums | E10: Vienības izmaksas | K10: Kopā uz visu apjomu
E11: laika norma (c/h) | F11: darba samaksas likme (euro/h) | G11: darba alga | H11: būvizstrādājumi | I11: mehānismi | J11: Kopā | K11: darbietilpība (c/h) | L11: darba alga | M11: būvizstrā-dājumi | N11: mehānismi | O11: Summa
A13: 1 | B13: 2 | C13: 3 | D13: 4 | E13: 5 | F13: 6 | G13: 7 | H13: 8 | I13: 9 | J13: 10 | K13: 11 | L13: 12 | M13: 13 | N13: 14 | O13: 15
A14: Darbi
A15: 1 | B15: Tranšejas rakšana un aizbēršana ar blietēšanu | C15: m | D15: 800 | G15: =ROUND(E15*F15,2) -> 0 | J15: =SUM(G15+H15+I15) -> 0 | K15: =ROUND(D15*E15,2) -> 0 | L15: =ROUND(D15*G15,2) -> 0 | M15: =ROUND(D15*H15,2) -> 0 | N15: =ROUND(D15*I15,2) -> 0 | O15: =SUM(L15+M15+N15) -> 0
A16: 2 | B16: Gultnes sagatavošana | C16: m | D16: 800 | G16: =ROUND(E16*F16,2) -> 0 | J16: =SUM(G16+H16+I16) -> 0 | K16: =ROUND(D16*E16,2) -> 0 | L16: =ROUND(D16*G16,2) -> 0 | M16: =ROUND(D16*H16,2) -> 0 | N16: =ROUND(D16*I16,2) -> 0 | O16: =SUM(L16+M16+N16) -> 0
A17: 3 | B17: Bedres rakšana un aizbēršana savienojuma uzmavai | C17: gab. | D17: 4 | G17: =ROUND(E17*F17,2) -> 0 | J17: =SUM(G17+H17+I17) -> 0 | K17: =ROUND(D17*E17,2) -> 0 | L17: =ROUND(D17*G17,2) -> 0 | M17: =ROUND(D17*H17,2) -> 0 | N17: =ROUND(D17*I17,2) -> 0 | O17: =SUM(L17+M17+N17) -> 0
A18: 4 | B18: Caurdūriena bedru rakšana | C18: gab. | D18: 10 | G18: =ROUND(E18*F18,2) -> 0 | J18: =SUM(G18+H18+I18) -> 0 | K18: =ROUND(D18*E18,2) -> 0 | L18: =ROUND(D18*G18,2) -> 0 | M18: =ROUND(D18*H18,2) -> 0 | N18: =ROUND(D18*I18,2) -> 0 | O18: =SUM(L18+M18+N18) -> 0
A19: 5 | B19: Caurules EVOCAB FLEX Ø75 guldīšana tranšejā | C19: m | D19: 753 | G19: =ROUND(E19*F19,2) -> 0 | J19: =SUM(G19+H19+I19) -> 0 | K19: =ROUND(D19*E19,2) -> 0 | L19: =ROUND(D19*G19,2) -> 0 | M19: =ROUND(D19*H19,2) -> 0 | N19: =ROUND(D19*I19,2) -> 0 | O19: =SUM(L19+M19+N19) -> 0
A20: 6 | B20: Caurules EVOCAB HARD Ø75 guldīšana tranšejā | C20: m | D20: 342 | G20: =ROUND(E20*F20,2) -> 0 | J20: =SUM(G20+H20+I20) -> 0 | K20: =ROUND(D20*E20,2) -> 0 | L20: =ROUND(D20*G20,2) -> 0 | M20: =ROUND(D20*H20,2) -> 0 | N20: =ROUND(D20*I20,2) -> 0 | O20: =SUM(L20+M20+N20) -> 0
A21: 7 | B21: Caurules EVOCAB STING Ø75 izbūve ar caurdūrienu | C21: m | D21: 153 | G21: =ROUND(E21*F21,2) -> 0 | J21: =SUM(G21+H21+I21) -> 0 | K21: =ROUND(D21*E21,2) -> 0 | L21: =ROUND(D21*G21,2) -> 0 | M21: =ROUND(D21*H21,2) -> 0 | N21: =ROUND(D21*I21,2) -> 0 | O21: =SUM(L21+M21+N21) -> 0
A22: 8 | B22: Kabeļa AXPK 4x25 mm² ievēršana caurulē | C22: m | D22: 1290 | G22: =ROUND(E22*F22,2) -> 0 | J22: =SUM(G22+H22+I22) -> 0 | K22: =ROUND(D22*E22,2) -> 0 | L22: =ROUND(D22*G22,2) -> 0 | M22: =ROUND(D22*H22,2) -> 0 | N22: =ROUND(D22*I22,2) -> 0 | O22: =SUM(L22+M22+N22) -> 0
A23: 9 | B23: Signāllentas uzklāšana | C23: m | D23: 1095 | G23: =ROUND(E23*F23,2) -> 0 | J23: =SUM(G23+H23+I23) -> 0 | K23: =ROUND(D23*E23,2) -> 0 | L23: =ROUND(D23*G23,2) -> 0 | M23: =ROUND(D23*H23,2) -> 0 | N23: =ROUND(D23*I23,2) -> 0 | O23: =SUM(L23+M23+N23) -> 0
A24: 10 | B24: Bedres rakšana apgaismojuma balstiem ar blietēšanu | C24: gab. | D24: 29 | G24: =ROUND(E24*F24,2) -> 0 | J24: =SUM(G24+H24+I24) -> 0 | K24: =ROUND(D24*E24,2) -> 0 | L24: =ROUND(D24*G24,2) -> 0 | M24: =ROUND(D24*H24,2) -> 0 | N24: =ROUND(D24*I24,2) -> 0 | O24: =SUM(L24+M24+N24) -> 0
A25: 11 | B25: Apgaismojuma balsta 8m montāža | C25: kompl. | D25: 29 | G25: =ROUND(E25*F25,2) -> 0 | J25: =SUM(G25+H25+I25) -> 0 | K25: =ROUND(D25*E25,2) -> 0 | L25: =ROUND(D25*G25,2) -> 0 | M25: =ROUND(D25*H25,2) -> 0 | N25: =ROUND(D25*I25,2) -> 0 | O25: =SUM(L25+M25+N25) -> 0
A26: 12 | B26: Termorūkošās caurules montāža apgaismojuma balstam | C26: m | D26: 15 | G26: =ROUND(E26*F26,2) -> 0 | J26: =SUM(G26+H26+I26) -> 0 | K26: =ROUND(D26*E26,2) -> 0 | L26: =ROUND(D26*G26,2) -> 0 | M26: =ROUND(D26*H26,2) -> 0 | N26: =ROUND(D26*I26,2) -> 0 | O26: =SUM(L26+M26+N26) -> 0
... A56: 42 | B56: Dokumentācijas sagatavošana | C56: kompl. | D56: 1 | G56: =ROUND(E56*F56,2) -> 0 | J56: =SUM(G56+H56+I56) -> 0 | K56: =ROUND(D56*E56,2) -> 0 | L56: =ROUND(D56*G56,2) -> 0 | M56: =ROUND(D56*H56,2) -> 0 | N56: =ROUND(D56*I56,2) -> 0 | O56: =SUM(L56+M56+N56) -> 0
A57: Materiāli
A58: 43 | B58: Gaismeklis Micro Martin 60W 16 LEDs, MRUE 060 730 L22 A016_Bin-L_TH ar C NODE10 un DALI draiveri | C58: kompl. | D58: 29 | G58: =ROUND(E58*F58,2) -> 0 | J58: =SUM(G58+H58+I58) -> 0 | K58: =ROUND(D58*E58,2) -> 0 | L58: =ROUND(D58*G58,2) -> 0 | M58: =ROUND(D58*H58,2) -> 0 | N58: =ROUND(D58*I58,2) -> 0 | O58: =SUM(L58+M58+N58) -> 0
A59: 44 | B59: Gaismeklis Micro Martin 37W 16 LEDs, MRUE 037 730 L22 A016_Bin-L_TH ar C NODE10 un DALI draiveri | C59: kompl. | D59: 5 | G59: =ROUND(E59*F59,2) -> 0 | J59: =SUM(G59+H59+I59) -> 0 | K59: =ROUND(D59*E59,2) -> 0 | L59: =ROUND(D59*G59,2) -> 0 | M59: =ROUND(D59*H59,2) -> 0 | N59: =ROUND(D59*I59,2) -> 0 | O59: =SUM(L59+M59+N59) -> 0
A60: 45 | B60: Ielas stabs 8m (6,5m virs zemes) cinkots, konisks, tiešai montāžai zemē | C60: gab. | D60: 29 | G60: =ROUND(E60*F60,2) -> 0 | J60: =SUM(G60+H60+I60) -> 0 | K60: =ROUND(D60*E60,2) -> 0 | L60: =ROUND(D60*G60,2) -> 0 | M60: =ROUND(D60*H60,2) -> 0 | N60: =ROUND(D60*I60,2) -> 0 | O60: =SUM(L60+M60+N60) -> 0
A61: 46 | B61: Konsole L-veida 1.5/1.5/5 (Hv/V/leņķis) cinkota | C61: gab. | D61: 24 | G61: =ROUND(E61*F61,2) -> 0 | J61: =SUM(G61+H61+I61) -> 0 | K61: =ROUND(D61*E61,2) -> 0 | L61: =ROUND(D61*G61,2) -> 0 | M61: =ROUND(D61*H61,2) -> 0 | N61: =ROUND(D61*I61,2) -> 0 | O61: =SUM(L61+M61+N61) -> 0
A62: 47 | B62: Konsole T-veida 1.5/1.5/5 (Hv/V/leņķis) cinkota | C62: gab. | D62: 5 | G62: =ROUND(E62*F62,2) -> 0 | J62: =SUM(G62+H62+I62) -> 0 | K62: =ROUND(D62*E62,2) -> 0 | L62: =ROUND(D62*G62,2) -> 0 | M62: =ROUND(D62*H62,2) -> 0 | N62: =ROUND(D62*I62,2) -> 0 | O62: =SUM(L62+M62+N62) -> 0
A63: 48 | B63: Termorūkošā caurule apgaismojuma balstam | C63: m | D63: 15 | G63: =ROUND(E63*F63,2) -> 0 | J63: =SUM(G63+H63+I63) -> 0 | K63: =ROUND(D63*E63,2) -> 0 | L63: =ROUND(D63*G63,2) -> 0 | M63: =ROUND(D63*H63,2) -> 0 | N63: =ROUND(D63*I63,2) -> 0 | O63: =SUM(L63+M63+N63) -> 0
A64: 49 | B64: Apgaismojuma balsta spaiļu komplekts SV15 | C64: kompl. | D64: 29 | G64: =ROUND(E64*F64,2) -> 0 | J64: =SUM(G64+H64+I64) -> 0 | K64: =ROUND(D64*E64,2) -> 0 | L64: =ROUND(D64*G64,2) -> 0 | M64: =ROUND(D64*H64,2) -> 0 | N64: =ROUND(D64*I64,2) -> 0 | O64: =SUM(L64+M64+N64) -> 0
A65: 50 | B65: Automātiskais slēdzis ~1; 3A "C" mont.uz DIN sliedes | C65: gab. | D65: 34 | G65: =ROUND(E65*F65,2) -> 0 | J65: =SUM(G65+H65+I65) -> 0 | K65: =ROUND(D65*E65,2) -> 0 | L65: =ROUND(D65*G65,2) -> 0 | M65: =ROUND(D65*H65,2) -> 0 | N65: =ROUND(D65*I65,2) -> 0 | O65: =SUM(L65+M65+N65) -> 0
A66: 51 | B66: Kabelis AXPK 4x25 mm² | C66: m | D66: 1397 | G66: =ROUND(E66*F66,2) -> 0 | J66: =SUM(G66+H66+I66) -> 0 | K66: =ROUND(D66*E66,2) -> 0 | L66: =ROUND(D66*G66,2) -> 0 | M66: =ROUND(D66*H66,2) -> 0 | N66: =ROUND(D66*I66,2) -> 0 | O66: =SUM(L66+M66+N66) -> 0
A67: 52 | B67: Kabelis NYM-J 3x1,5 mm² | C67: m | D67: 306 | G67: =ROUND(E67*F67,2) -> 0 | J67: =SUM(G67+H67+I67) -> 0 | K67: =ROUND(D67*E67,2) -> 0 | L67: =ROUND(D67*G67,2) -> 0 | M67: =ROUND(D67*H67,2) -> 0 | N67: =ROUND(D67*I67,2) -> 0 | O67: =SUM(L67+M67+N67) -> 0
A68: 53 | B68: Kabeļa gala apdare EPKT-0015 | C68: kompl. | D68: 78 | G68: =ROUND(E68*F68,2) -> 0 | J68: =SUM(G68+H68+I68) -> 0 | K68: =ROUND(D68*E68,2) -> 0 | L68: =ROUND(D68*G68,2) -> 0 | M68: =ROUND(D68*H68,2) -> 0 | N68: =ROUND(D68*I68,2) -> 0 | O68: =SUM(L68+M68+N68) -> 0
A69: 54 | B69: Caurule EVOCAB FLEX Ø75, 450N | C69: m | D69: 753 | G69: =ROUND(E69*F69,2) -> 0 | J69: =SUM(G69+H69+I69) -> 0 | K69: =ROUND(D69*E69,2) -> 0 | L69: =ROUND(D69*G69,2) -> 0 | M69: =ROUND(D69*H69,2) -> 0 | N69: =ROUND(D69*I69,2) -> 0 | O69: =SUM(L69+M69+N69) -> 0
... A86: 71 | B86: Smilts | C86: m3 | D86: 80 | G86: =ROUND(E86*F86,2) -> 0 | J86: =SUM(G86+H86+I86) -> 0 | K86: =ROUND(D86*E86,2) -> 0 | L86: =ROUND(D86*G86,2) -> 0 | M86: =ROUND(D86*H86,2) -> 0 | N86: =ROUND(D86*I86,2) -> 0 | O86: =SUM(L86+M86+N86) -> 0
A87: Tiešās izmaksas kopā, t.sk. darba devēja sociālais nodoklis 23,59% | K87: =SUM(K15:K86) -> 0 | L87: =SUM(L15:L86) -> 0 | M87: =SUM(M15:M86) -> 0 | N87: =SUM(N15:N86) -> 0 | O87: =SUM(O15:O86) -> 0
...
