Workbook

Sheet Būvniecības koptāme
D1: Apstiprinu
D2: ___________________________________
D3: (pasūtītājs, paraksts un tā atšifrējums)
A5: Būvniecības koptāme
A7: Būves nosaukums | D7: Rūdolfa Blaumaņa ielas no Baznīcas ielas līdz Ceriņu ielai un Ceriņu ielas no Rūdolfa Blaumaņa ielas līdz Ievu ielai pārbūve
A8: Objekta nosaukums | D8: Rūdolfa Blaumaņa ielas no Baznīcas ielas līdz Ceriņu ielai un Ceriņu ielas no Rūdolfa Blaumaņa ielas līdz Ievu ielai pārbūve
A9: Objekta adrese | D9: Rūdolfa Blaumaņa un Ceriņu iela, Jūrmalā
A10: Iepirkuma Nr. | D10: JVA 2026/70
B12: Tāme sastādīta 2026.gada __
A13: Nr. p. k. | B13: Objekta nosaukums | F13: Objekta izmaksas (euro)
A15: 1 | B15: 2 | F15: 3
A16: 1 | B16: =D7 -> Rūdolfa Blaumaņa ielas no Baznīcas ielas līdz Ceriņu ielai un Ceriņu ielas no Rūdolfa Blaumaņa ielas līdz Ievu ielai pārbūve | F16: =Kopsavilkums!F20 -> 0
B17: Kopā: | F17: =+F16 -> 0
A19: Finanšu rezerve neparedzētiem darbiem | E19: 0.05 | F19: =ROUND(F17*5%,2) -> 0
A20: Kopā ar finanšu rezervi neparedzētiem darbiem : | F20: =+F19+F17 -> 0
A21: PVN | E21: 0.21 | F21: =ROUND(F20*21%,2) -> 0
A22: Pavisam būvniecības izmaksas | F22: =+F21+F20 -> 0
A26: Sastādija _____________2026. gada __________
A28: Sertifikāta Nr. _____________

Sheet Kopsavilkums
A2: Kopsavilkuma aprēķini par darbu vai konstruktīvo elementu veidiem
A4: Būves nosaukums | D4: ='Būvniecības koptāme'!D7 -> Rūdolfa Blaumaņa ielas no Baznīcas ielas līdz Ceriņu ielai un Ceriņu ielas no Rūdolfa Blaumaņa ielas līdz Ievu ielai pārbūve
A5: Objekta nosaukums | D5: ='Būvniecības koptāme'!D8 -> Rūdolfa Blaumaņa ielas no Baznīcas ielas līdz Ceriņu ielai un Ceriņu ielas no Rūdolfa Blaumaņa ielas līdz Ievu ielai pārbūve
A6: Objekta adrese | D6: ='Būvniecības koptāme'!D9 -> Rūdolfa Blaumaņa un Ceriņu iela, Jūrmalā
A7: Iepirkuma Nr. | D7: ='Būvniecības koptāme'!D10 -> JVA 2026/70
G8: Kopējā darbietilpība, c/h | I8: =+J16 -> 0
C9: Tāme sastādīta 2026.gada __
A11: Nr. p. k. | B11: Lokālā tāmes Nr. | C11: Darba veids vai konstruktīvā elementa nosaukums | F11: Tāmes izmaksas (euro) | G11: Tai skaitā | J11: Darbietilpība (c/h)
G12: darba alga (euro) | H12: materiāli (euro) | I12: mehānismi (euro)
A13: 1 | B13: 1 | C13: ='1_CD'!A2 -> TS-CD - Ceļa darbi | F13: ='1_CD'!O161 -> 0 | G13: ='1_CD'!L161 -> 0 | H13: ='1_CD'!M161 -> 0 | I13: ='1_CD'!N161 -> 0 | J13: ='1_CD'!K161 -> 0
A14: 2 | B14: 2 | C14: ='2_LKT'!A2 -> LKT - Lietus ūdens kanalizācijas tīkli | F14: ='2_LKT'!O74 -> 0 | G14: ='2_LKT'!L74 -> 0 | H14: ='2_LKT'!M74 -> 0 | I14: ='2_LKT'!N74 -> 0 | J14: ='2_LKT'!K74 -> 0
A15: 3 | B15: 3 | C15: ='3_ELT'!A2 -> ELT - Elektroapgāde (ārējā) - apgaismojums | F15: ='3_ELT'!O87 -> 0 | G15: ='3_ELT'!L87 -> 0 | H15: ='3_ELT'!M87 -> 0 | I15: ='3_ELT'!N87 -> 0 | J15: ='3_ELT'!K87 -> 0
A16: Kopā | F16: =SUM(F13:F15) -> 0 | G16: =SUM(G13:G15) -> 0 | H16: =SUM(H13:H15) -> 0 | I16: =SUM(I13:I15) -> 0 | J16: =SUM(J13:J15) -> 0
A17: Virsizdevumi % | E17: 0 | F17: =ROUND(F16*E17,2) -> 0
A18: t.sk. darba aizsardzība | E18: 0 | F18: =+ROUND(F17*E18,2) -> 0
A19: Peļņa % | E19: 0 | F19: =ROUND(F16*E19,2) -> 0
A20: Pavisam kopā | F20: =+F16+F17+F19 -> 0
A25: Sastādija _______________________________2026. gada __________
A27: Sertifikāta Nr. _____________

Sheet 1_CD
A1: Lokālā tāme Nr. 1
A2: TS-CD - Ceļa darbi
A4: Būves nosaukums | C4: ='Būvniecības koptāme'!D7 -> Rūdolfa Blaumaņa ielas no Baznīcas ielas līdz Ceriņu ielai un Ceriņu ielas no Rūdolfa Blaumaņa ielas līdz Ievu ielai pārbūve
A5: Objekta nosaukums | C5: ='Būvniecības koptāme'!D8 -> Rūdolfa Blaumaņa ielas no Baznīcas ielas līdz Ceriņu ielai un Ceriņu ielas no Rūdolfa Blaumaņa ielas līdz Ievu ielai pārbūve
A6: Objekta adrese | C6: ='Būvniecības koptāme'!D9 -> Rūdolfa Blaumaņa un Ceriņu iela, Jūrmalā
A7: Iepirkuma Nr. | C7: ='Būvniecības koptāme'!D10 -> JVA 2026/70
K8: Tāmes izmaksas | M8: =O161 -> 0
A9: Tāme sastādīta 2026. gada tirgus cenās | K9: Tāme sastādīta 2026. gada _______
A10: Kods | B10: Būvdarbu nosaukums | C10: Mērvienība | D10: Daudzums | E10: Vienības izmaksas | K10: Kopā uz visu apjomu
E11: laika norma (c/h) | F11: darba samaksas likme (euro/h) | G11: darba alga | H11: būvizstrādājumi | I11: mehānismi | J11: Kopā | K11: darbietilpība (c/h) | L11: darba alga | M11: būvizstrā-dājumi | N11: mehānismi | O11: Summa
A13: 1 | B13: 2 | C13: 3 | D13: 4 | E13: 5 | F13: 6 | G13: 7 | H13: 8 | I13: 9 | J13: 10 | K13: 11 | L13: 12 | M13: 13 | N13: 14 | O13: 15
A14: SAGATAVOŠANAS DARBI
A15: 1 | B15: Mobilizācija un sagatavošanās būvdarbu veikšanai | C15: kpl. | D15: 1 | G15: =ROUND(E15*F15,2) -> 0 | J15: =SUM(G15+H15+I15) -> 0 | K15: =ROUND(D15*E15,2) -> 0 | L15: =ROUND(D15*G15,2) -> 0 | M15: =ROUND(D15*H15,2) -> 0 | N15: =ROUND(D15*I15,2) -> 0 | O15: =SUM(L15+M15+N15) -> 0
A16: 2 | B16: Satiksmes organizācija būvdarbu laikā (ieskaitot pievadceļu uzturēšanu, bedrīšu lāpīšanu pirms būvniecības un būvniecības laikā) | C16: kpl. | D16: 1 | G16: =ROUND(E16*F16,2) -> 0 | J16: =SUM(G16+H16+I16) -> 0 | K16: =ROUND(D16*E16,2) -> 0 | L16: =ROUND(D16*G16,2) -> 0 | M16: =ROUND(D16*H16,2) -> 0 | N16: =ROUND(D16*I16,2) -> 0 | O16: =SUM(L16+M16+N16) -> 0
A17: 3 | B17: Informācijas stenda (būvtāfeles) izgatavošana un uzstādīšana | C17: gb. | D17: 2 | G17: =ROUND(E17*F17,2) -> 0 | J17: =SUM(G17+H17+I17) -> 0 | K17: =ROUND(D17*E17,2) -> 0 | L17: =ROUND(D17*G17,2) -> 0 | M17: =ROUND(D17*H17,2) -> 0 | N17: =ROUND(D17*I17,2) -> 0 | O17: =SUM(L17+M17+N17) -> 0
A18: 4 | B18: Trases uzmērīšana un nospraušana | C18: m | D18: 930 | G18: =ROUND(E18*F18,2) -> 0 | J18: =SUM(G18+H18+I18) -> 0 | K18: =ROUND(D18*E18,2) -> 0 | L18: =ROUND(D18*G18,2) -> 0 | M18: =ROUND(D18*H18,2) -> 0 | N18: =ROUND(D18*I18,2) -> 0 | O18: =SUM(L18+M18+N18) -> 0
A19: 5 | B19: Brauktuves asfaltbetona seguma frēzēšana hvid=13 cm ar materiāla aizvešanu uz Būvdarbu veicēja atbērtni | C19: m² | D19: 5631 | G19: =ROUND(E19*F19,2) -> 0 | J19: =SUM(G19+H19+I19) -> 0 | K19: =ROUND(D19*E19,2) -> 0 | L19: =ROUND(D19*G19,2) -> 0 | M19: =ROUND(D19*H19,2) -> 0 | N19: =ROUND(D19*I19,2) -> 0 | O19: =SUM(L19+M19+N19) -> 0
A20: 6 | B20: Gājēju ietves asfaltbetona seguma demontāža hvid=5 cm, tai skaitā ietves betona apmaļu demontāža, ar materiāla aizvešanu uz Būvdarbu veicēja atbērtni | C20: m² | D20: 155 | G20: =ROUND(E20*F20,2) -> 0 | J20: =SUM(G20+H20+I20) -> 0 | K20: =ROUND(D20*E20,2) -> 0 | L20: =ROUND(D20*G20,2) -> 0 | M20: =ROUND(D20*H20,2) -> 0 | N20: =ROUND(D20*I20,2) -> 0 | O20: =SUM(L20+M20+N20) -> 0
A21: 7 | B21: Gājēju ietves betona bruģakmens demontāža h=6 cm, tai skaitā ietves betona apmaļu demontāža, ar materiāla aizvešanu uz Būvdarbu veicēja atbērtni | C21: m² | D21: 396 | G21: =ROUND(E21*F21,2) -> 0 | J21: =SUM(G21+H21+I21) -> 0 | K21: =ROUND(D21*E21,2) -> 0 | L21: =ROUND(D21*G21,2) -> 0 | M21: =ROUND(D21*H21,2) -> 0 | N21: =ROUND(D21*I21,2) -> 0 | O21: =SUM(L21+M21+N21) -> 0
A22: 8 | B22: Betona plātņu seguma demontāža h=5 cm, ar materiāla aizvešanu uz Būvdarbu veicēja atbērtni | C22: m² | D22: 636 | G22: =ROUND(E22*F22,2) -> 0 | J22: =SUM(G22+H22+I22) -> 0 | K22: =ROUND(D22*E22,2) -> 0 | L22: =ROUND(D22*G22,2) -> 0 | M22: =ROUND(D22*H22,2) -> 0 | N22: =ROUND(D22*I22,2) -> 0 | O22: =SUM(L22+M22+N22) -> 0
A23: 9 | B23: Betona seguma demontāža, hvid=15cm, ar materiāla aizvešanu uz Būvdarbu veicēja atbērtni | C23: m² | D23: 60 | G23: =ROUND(E23*F23,2) -> 0 | J23: =SUM(G23+H23+I23) -> 0 | K23: =ROUND(D23*E23,2) -> 0 | L23: =ROUND(D23*G23,2) -> 0 | M23: =ROUND(D23*H23,2) -> 0 | N23: =ROUND(D23*I23,2) -> 0 | O23: =SUM(L23+M23+N23) -> 0
A24: 10 | B24: Nobrauktuvju betona bruģakmens seguma demontāža h=8 cm, tai skaitā betona apmaļu demontāža, ar materiāla aizvešanu uz Būvdarbu veicēja atbērtni | C24: m² | D24: 212 | G24: =ROUND(E24*F24,2) -> 0 | J24: =SUM(G24+H24+I24) -> 0 | K24: =ROUND(D24*E24,2) -> 0 | L24: =ROUND(D24*G24,2) -> 0 | M24: =ROUND(D24*H24,2) -> 0 | N24: =ROUND(D24*I24,2) -> 0 | O24: =SUM(L24+M24+N24) -> 0
A25: 11 | B25: Šķembu un grants seguma demontāža, hvid=20 cm, ar materiāla aizvešanu uz Būvdarbu veicēja atbērtni | C25: m² | D25: 68 | G25: =ROUND(E25*F25,2) -> 0 | J25: =SUM(G25+H25+I25) -> 0 | K25: =ROUND(D25*E25,2) -> 0 | L25: =ROUND(D25*G25,2) -> 0 | M25: =ROUND(D25*H25,2) -> 0 | N25: =ROUND(D25*I25,2) -> 0 | O25: =SUM(L25+M25+N25) -> 0
A26: 12 | B26: Betona ceļa apmaļu demontāža un nogādāšana uz Būvdarbu veicēja atbērtni | C26: m | D26: 470 | G26: =ROUND(E26*F26,2) -> 0 | J26: =SUM(G26+H26+I26) -> 0 | K26: =ROUND(D26*E26,2) -> 0 | L26: =ROUND(D26*G26,2) -> 0 | M26: =ROUND(D26*H26,2) -> 0 | N26: =ROUND(D26*I26,2) -> 0 | O26: =SUM(L26+M26+N26) -> 0
... A36: 22 | B36: Esošā ģeodēziskā tīkla punkta saglabāšana un aizsardzība būvdarbu laikā | C36: kpl. | D36: 6 | G36: =ROUND(E36*F36,2) -> 0 | J36: =SUM(G36+H36+I36) -> 0 | K36: =ROUND(D36*E36,2) -> 0 | L36: =ROUND(D36*G36,2) -> 0 | M36: =ROUND(D36*H36,2) -> 0 | N36: =ROUND(D36*I36,2) -> 0 | O36: =SUM(L36+M36+N36) -> 0
A37: KOMUNIKĀCIJU PĀRBŪVE
A38: 23 | B38: Esošo (brauktuvē un nobrauktuvēs) aku inspekcija, vāka līmeņošana, izmantojot 40t "peldoša" tipa vākus, nepieciešamības gadījumā rekonstruējot aku, lai būtu iespējams veikt vāka uzstādīšanu un pazemināšanu | C38: gab. | D38: 74 | G38: =ROUND(E38*F38,2) -> 0 | J38: =SUM(G38+H38+I38) -> 0 | K38: =ROUND(D38*E38,2) -> 0 | L38: =ROUND(D38*G38,2) -> 0 | M38: =ROUND(D38*H38,2) -> 0 | N38: =ROUND(D38*I38,2) -> 0 | O38: =SUM(L38+M38+N38) -> 0
A39: 24 | B39: Esošo (ietvēs un zaļajā zonā) aku inspekcija, vāka līmeņošana, izmantojot 12t "peldoša" tipa vākus, nepieciešamības gadījumā rekonstruējot aku, lai būtu iespējams veikt vāka uzstādīšanu un pazemināšanu | C39: gab. | D39: 13 | G39: =ROUND(E39*F39,2) -> 0 | J39: =SUM(G39+H39+I39) -> 0 | K39: =ROUND(D39*E39,2) -> 0 | L39: =ROUND(D39*G39,2) -> 0 | M39: =ROUND(D39*H39,2) -> 0 | N39: =ROUND(D39*I39,2) -> 0 | O39: =SUM(L39+M39+N39) -> 0
A40: 25 | B40: Esošu gāzes vada aizbīdņu (brauktuvē un nobrauktuvēs esošo) kapju inspekcija, vāka līmeņošana, izmantojot 40t "peldoša" tipa vākus, nepieciešamības gadījumā rekonstruējot, lai būtu iespējams veikt vāka uzstādīšanu | C40: gab. | D40: 18 | G40: =ROUND(E40*F40,2) -> 0 | J40: =SUM(G40+H40+I40) -> 0 | K40: =ROUND(D40*E40,2) -> 0 | L40: =ROUND(D40*G40,2) -> 0 | M40: =ROUND(D40*H40,2) -> 0 | N40: =ROUND(D40*I40,2) -> 0 | O40: =SUM(L40+M40+N40) -> 0
A41: 26 | B41: Esošu gāzes vada aizbīdņu ietvēs un zaļajā zonā) kapju inspekcija, vāka līmeņošana, izmantojot 12t "peldoša" tipa vākus, nepieciešamības gadījumā rekonstruējot lai, lai būtu iespējams veikt vāka uzstādīšanu | C41: gab. | D41: 9 | G41: =ROUND(E41*F41,2) -> 0 | J41: =SUM(G41+H41+I41) -> 0 | K41: =ROUND(D41*E41,2) -> 0 | L41: =ROUND(D41*G41,2) -> 0 | M41: =ROUND(D41*H41,2) -> 0 | N41: =ROUND(D41*I41,2) -> 0 | O41: =SUM(L41+M41+N41) -> 0
A42: 27 | B42: Kabeļu iečaulošana dalīta tipa plastmasas caurules, d=110, 750N | C42: m | D42: 335 | G42: =ROUND(E42*F42,2) -> 0 | J42: =SUM(G42+H42+I42) -> 0 | K42: =ROUND(D42*E42,2) -> 0 | L42: =ROUND(D42*G42,2) -> 0 | M42: =ROUND(D42*H42,2) -> 0 | N42: =ROUND(D42*I42,2) -> 0 | O42: =SUM(L42+M42+N42) -> 0
A43: 28 | B43: Kabeļu iečaulošana dalīta tipa plastmasas caurules, d=160, 750N | C43: m | D43: 218 | G43: =ROUND(E43*F43,2) -> 0 | J43: =SUM(G43+H43+I43) -> 0 | K43: =ROUND(D43*E43,2) -> 0 | L43: =ROUND(D43*G43,2) -> 0 | M43: =ROUND(D43*H43,2) -> 0 | N43: =ROUND(D43*I43,2) -> 0 | O43: =SUM(L43+M43+N43) -> 0
A44: 29 | B44: Optiskās šķiedras specializētās aizsargcaurules ar trosi kabeļa ievilkšanai izbūve (plastmasas caurules, d40, 750N) | C44: m | D44: 554 | G44: =ROUND(E44*F44,2) -> 0 | J44: =SUM(G44+H44+I44) -> 0 | K44: =ROUND(D44*E44,2) -> 0 | L44: =ROUND(D44*G44,2) -> 0 | M44: =ROUND(D44*H44,2) -> 0 | N44: =ROUND(D44*I44,2) -> 0 | O44: =SUM(L44+M44+N44) -> 0
A45: 30 | B45: Optiskās šķiedras specializētās aizsargcaurules ar trosi kabeļa ievilkšanai izbūve ar beztranšejas metodi-caurduri (plastmasas caurules, d40, 750N) | C45: m | D45: 311 | G45: =ROUND(E45*F45,2) -> 0 | J45: =SUM(G45+H45+I45) -> 0 | K45: =ROUND(D45*E45,2) -> 0 | L45: =ROUND(D45*G45,2) -> 0 | M45: =ROUND(D45*H45,2) -> 0 | N45: =ROUND(D45*I45,2) -> 0 | O45: =SUM(L45+M45+N45) -> 0
A46: 31 | B46: Plastmasas akas KP-PEH 800x650 ar 12t "peldošā" tipa vāku izbūve | C46: gab. | D46: 14 | G46: =ROUND(E46*F46,2) -> 0 | J46: =SUM(G46+H46+I46) -> 0 | K46: =ROUND(D46*E46,2) -> 0 | L46: =ROUND(D46*G46,2) -> 0 | M46: =ROUND(D46*H46,2) -> 0 | N46: =ROUND(D46*I46,2) -> 0 | O46: =SUM(L46+M46+N46) -> 0
A47: 32 | B47: KKS-1 akas PEH 800, h=900mm, ar 40t "peldošā" tipa vāku izbūve | C47: gab. | D47: 1 | G47: =ROUND(E47*F47,2) -> 0 | J47: =SUM(G47+H47+I47) -> 0 | K47: =ROUND(D47*E47,2) -> 0 | L47: =ROUND(D47*G47,2) -> 0 | M47: =ROUND(D47*H47,2) -> 0 | N47: =ROUND(D47*I47,2) -> 0 | O47: =SUM(L47+M47+N47) -> 0
A48: ZEMES DARBI
A49: 33 | B49: Augu zemes slāņa noņemšana, h(vid)=30 cm, izrakto grunti aizvedot uz būvdarbu veicēja atbērtni | C49: m² | D49: 2880 | G49: =ROUND(E49*F49,2) -> 0 | J49: =SUM(G49+H49+I49) -> 0 | K49: =ROUND(D49*E49,2) -> 0 | L49: =ROUND(D49*G49,2) -> 0 | M49: =ROUND(D49*H49,2) -> 0 | N49: =ROUND(D49*I49,2) -> 0 | O49: =SUM(L49+M49+N49) -> 0
A50: 34 | B50: Ierakuma izbūve izrakto grunti aizvedot uz būvdarbu veicēja atbērtni | C50: m³ | D50: 6605 | G50: =ROUND(E50*F50,2) -> 0 | J50: =SUM(G50+H50+I50) -> 0 | K50: =ROUND(D50*E50,2) -> 0 | L50: =ROUND(D50*G50,2) -> 0 | M50: =ROUND(D50*H50,2) -> 0 | N50: =ROUND(D50*I50,2) -> 0 | O50: =SUM(L50+M50+N50) -> 0
A51: 35 | B51: Apzaļumošana - Zaļās zonas ierīkošana, izmantojot augu zemi, h=10 cm, apsētu ar zālāja sēklām, ieskaitot darba zonas sakārtošanu zem zaļās zonas, h(vid) = 30cm | C51: m² | D51: 2595 | G51: =ROUND(E51*F51,2) -> 0 | J51: =SUM(G51+H51+I51) -> 0 | K51: =ROUND(D51*E51,2) -> 0 | L51: =ROUND(D51*G51,2) -> 0 | M51: =ROUND(D51*H51,2) -> 0 | N51: =ROUND(D51*I51,2) -> 0 | O51: =SUM(L51+M51+N51) -> 0
A52: SEGUMU IZBŪVE
A53: Brauktuves asfaltbetona segas konstrukcijas izbūve
A54: 36 | B54: Minerālmateriālu maisījuma 0/45, N IV, RA, RA 30%, pamata pastiprinošās kārtas izbūve, h=10 cm | C54: m² | D54: 1760 | G54: =ROUND(E54*F54,2) -> 0 | J54: =SUM(G54+H54+I54) -> 0 | K54: =ROUND(D54*E54,2) -> 0 | L54: =ROUND(D54*G54,2) -> 0 | M54: =ROUND(D54*H54,2) -> 0 | N54: =ROUND(D54*I54,2) -> 0 | O54: =SUM(L54+M54+N54) -> 0
A55: 37 | B55: Drenējošā slāņa izbūve no smilts, h=40 cm, kf>1m/dnn | C55: m3 | D55: 760 | G55: =ROUND(E55*F55,2) -> 0 | J55: =SUM(G55+H55+I55) -> 0 | K55: =ROUND(D55*E55,2) -> 0 | L55: =ROUND(D55*G55,2) -> 0 | M55: =ROUND(D55*H55,2) -> 0 | N55: =ROUND(D55*I55,2) -> 0 | O55: =SUM(L55+M55+N55) -> 0
A56: 38 | B56: Minerālmateriālu maisījuma 0/56, N III, pamata izbūve, h= 15 cm | C56: m² | D56: 1580 | G56: =ROUND(E56*F56,2) -> 0 | J56: =SUM(G56+H56+I56) -> 0 | K56: =ROUND(D56*E56,2) -> 0 | L56: =ROUND(D56*G56,2) -> 0 | M56: =ROUND(D56*H56,2) -> 0 | N56: =ROUND(D56*I56,2) -> 0 | O56: =SUM(L56+M56+N56) -> 0
A57: 39 | B57: Minerālmateriālu maisījuma 0/45, N III, pamata izbūve h=10 cm | C57: m² | D57: 1655 | G57: =ROUND(E57*F57,2) -> 0 | J57: =SUM(G57+H57+I57) -> 0 | K57: =ROUND(D57*E57,2) -> 0 | L57: =ROUND(D57*G57,2) -> 0 | M57: =ROUND(D57*H57,2) -> 0 | N57: =ROUND(D57*I57,2) -> 0 | O57: =SUM(L57+M57+N57) -> 0
A58: 40 | B58: Karstā asfalta AC 16 base 70/100 izbūve, S IV, h=6 cm | C58: m² | D58: 1562 | G58: =ROUND(E58*F58,2) -> 0 | J58: =SUM(G58+H58+I58) -> 0 | K58: =ROUND(D58*E58,2) -> 0 | L58: =ROUND(D58*G58,2) -> 0 | M58: =ROUND(D58*H58,2) -> 0 | N58: =ROUND(D58*I58,2) -> 0 | O58: =SUM(L58+M58+N58) -> 0
A59: 41 | B59: Karstā asfalta AC 11 surf 70/100 izbūve, S III, h=4 cm | C59: m² | D59: 1562 | G59: =ROUND(E59*F59,2) -> 0 | J59: =SUM(G59+H59+I59) -> 0 | K59: =ROUND(D59*E59,2) -> 0 | L59: =ROUND(D59*G59,2) -> 0 | M59: =ROUND(D59*H59,2) -> 0 | N59: =ROUND(D59*I59,2) -> 0 | O59: =SUM(L59+M59+N59) -> 0
A60: 42 | B60: Minerālmateriālu maisījuma 0/32s nomales uzpildīšana, N III, h=10 cm | C60: m² | D60: 20 | G60: =ROUND(E60*F60,2) -> 0 | J60: =SUM(G60+H60+I60) -> 0 | K60: =ROUND(D60*E60,2) -> 0 | L60: =ROUND(D60*G60,2) -> 0 | M60: =ROUND(D60*H60,2) -> 0 | N60: =ROUND(D60*I60,2) -> 0 | O60: =SUM(L60+M60+N60) -> 0
A61: Brauktuves betona bruģakmens segas konstrukcijas izbūve
A62: 43 | B62: Minerālmateriālu maisījuma 0/45, N IV, RA, RA 30%, pamata pastiprinošās kārtas izbūve, h=10 cm | C62: m² | D62: 4825 | G62: =ROUND(E62*F62,2) -> 0 | J62: =SUM(G62+H62+I62) -> 0 | K62: =ROUND(D62*E62,2) -> 0 | L62: =ROUND(D62*G62,2) -> 0 | M62: =ROUND(D62*H62,2) -> 0 | N62: =ROUND(D62*I62,2) -> 0 | O62: =SUM(L62+M62+N62) -> 0
A63: 44 | B63: Drenējošā slāņa izbūve no smilts vai citiem atļautiem materiāliem, h=40 cm, kf>1m/dnn | C63: m3 | D63: 1845 | G63: =ROUND(E63*F63,2) -> 0 | J63: =SUM(G63+H63+I63) -> 0 | K63: =ROUND(D63*E63,2) -> 0 | L63: =ROUND(D63*G63,2) -> 0 | M63: =ROUND(D63*H63,2) -> 0 | N63: =ROUND(D63*I63,2) -> 0 | O63: =SUM(L63+M63+N63) -> 0
A64: 45 | B64: Minerālmateriālu maisījuma 0/56, N III, pamata izbūve, h= 15 cm | C64: m² | D64: 3712 | G64: =ROUND(E64*F64,2) -> 0 | J64: =SUM(G64+H64+I64) -> 0 | K64: =ROUND(D64*E64,2) -> 0 | L64: =ROUND(D64*G64,2) -> 0 | M64: =ROUND(D64*H64,2) -> 0 | N64: =ROUND(D64*I64,2) -> 0 | O64: =SUM(L64+M64+N64) -> 0
A65: 46 | B65: Minerālmateriālu maisījuma 0/45, N III, pamata izbūve h=10 cm | C65: m² | D65: 3712 | G65: =ROUND(E65*F65,2) -> 0 | J65: =SUM(G65+H65+I65) -> 0 | K65: =ROUND(D65*E65,2) -> 0 | L65: =ROUND(D65*G65,2) -> 0 | M65: =ROUND(D65*H65,2) -> 0 | N65: =ROUND(D65*I65,2) -> 0 | O65: =SUM(L65+M65+N65) -> 0
A66: 47 | B66: Minerālmateriālu izsijas (fr. 2/8), h=3 cm | C66: m² | D66: 3712 | G66: =ROUND(E66*F66,2) -> 0 | J66: =SUM(G66+H66+I66) -> 0 | K66: =ROUND(D66*E66,2) -> 0 | L66: =ROUND(D66*G66,2) -> 0 | M66: =ROUND(D66*H66,2) -> 0 | N66: =ROUND(D66*I66,2) -> 0 | O66: =SUM(L66+M66+N66) -> 0
A67: 48 | B67: Betona bruģakmens, Prizma 8 (200x100x80 mm, melns, bez fāzes), h=8 cm | C67: m² | D67: 2210 | G67: =ROUND(E67*F67,2) -> 0 | J67: =SUM(G67+H67+I67) -> 0 | K67: =ROUND(D67*E67,2) -> 0 | L67: =ROUND(D67*G67,2) -> 0 | M67: =ROUND(D67*H67,2) -> 0 | N67: =ROUND(D67*I67,2) -> 0 | O67: =SUM(L67+M67+N67) -> 0
A68: 49 | B68: Betona bruģakmens, Prizma 8 (200x100x80 mm, sarkans, bez fāzes), h=8 cm | C68: m² | D68: 1502 | G68: =ROUND(E68*F68,2) -> 0 | J68: =SUM(G68+H68+I68) -> 0 | K68: =ROUND(D68*E68,2) -> 0 | L68: =ROUND(D68*G68,2) -> 0 | M68: =ROUND(D68*H68,2) -> 0 | N68: =ROUND(D68*I68,2) -> 0 | O68: =SUM(L68+M68+N68) -> 0
A69: Velosipēdu ceļa segas konstrukcijas izbūve
A70: 50 | B70: Drenējošā slāņa izbūve no smilts , h=30 cm, kf>1m/dnn | C70: m3 | D70: 52 | G70: =ROUND(E70*F70,2) -> 0 | J70: =SUM(G70+H70+I70) -> 0 | K70: =ROUND(D70*E70,2) -> 0 | L70: =ROUND(D70*G70,2) -> 0 | M70: =ROUND(D70*H70,2) -> 0 | N70: =ROUND(D70*I70,2) -> 0 | O70: =SUM(L70+M70+N70) -> 0
A71: 51 | B71: Minerālmateriālu maisījuma 0/56, N III, pamata izbūve, h= 15 cm | C71: m² | D71: 135 | G71: =ROUND(E71*F71,2) -> 0 | J71: =SUM(G71+H71+I71) -> 0 | K71: =ROUND(D71*E71,2) -> 0 | L71: =ROUND(D71*G71,2) -> 0 | M71: =ROUND(D71*H71,2) -> 0 | N71: =ROUND(D71*I71,2) -> 0 | O71: =SUM(L71+M71+N71) -> 0
A72: 52 | B72: Minerālmateriālu maisījuma 0/45, N III, pamata izbūve h=10 cm | C72: m² | D72: 135 | G72: =ROUND(E72*F72,2) -> 0 | J72: =SUM(G72+H72+I72) -> 0 | K72: =ROUND(D72*E72,2) -> 0 | L72: =ROUND(D72*G72,2) -> 0 | M72: =ROUND(D72*H72,2) -> 0 | N72: =ROUND(D72*I72,2) -> 0 | O72: =SUM(L72+M72+N72) -> 0
A73: 53 | B73: Minerālmateriālu izsijas (fr. 2/8), h=3 cm | C73: m² | D73: 135 | G73: =ROUND(E73*F73,2) -> 0 | J73: =SUM(G73+H73+I73) -> 0 | K73: =ROUND(D73*E73,2) -> 0 | L73: =ROUND(D73*G73,2) -> 0 | M73: =ROUND(D73*H73,2) -> 0 | N73: =ROUND(D73*I73,2) -> 0 | O73: =SUM(L73+M73+N73) -> 0
A74: 54 | B74: Betona bruģakmens, Prizma 8 (200x100x60 mm, sarkans, bez fāzes), h=6 cm | C74: m² | D74: 125 | G74: =ROUND(E74*F74,2) -> 0 | J74: =SUM(G74+H74+I74) -> 0 | K74: =ROUND(D74*E74,2) -> 0 | L74: =ROUND(D74*G74,2) -> 0 | M74: =ROUND(D74*H74,2) -> 0 | N74: =ROUND(D74*I74,2) -> 0 | O74: =SUM(L74+M74+N74) -> 0
A75: 55 | B75: Betona bruģakmens, Prizma 8 (200x100x80 mm, sarkans, bez fāzes), h=8 cm | C75: m² | D75: 10 | G75: =ROUND(E75*F75,2) -> 0 | J75: =SUM(G75+H75+I75) -> 0 | K75: =ROUND(D75*E75,2) -> 0 | L75: =ROUND(D75*G75,2) -> 0 | M75: =ROUND(D75*H75,2) -> 0 | N75: =ROUND(D75*I75,2) -> 0 | O75: =SUM(L75+M75+N75) -> 0
A76: Gājēju ietves segas konstrukcijas izbūve
A77: 56 | B77: Drenējošā slāņa izbūve no smilts , h=30 cm, kf>1m/dnn | C77: m3 | D77: 371 | G77: =ROUND(E77*F77,2) -> 0 | J77: =SUM(G77+H77+I77) -> 0 | K77: =ROUND(D77*E77,2) -> 0 | L77: =ROUND(D77*G77,2) -> 0 | M77: =ROUND(D77*H77,2) -> 0 | N77: =ROUND(D77*I77,2) -> 0 | O77: =SUM(L77+M77+N77) -> 0
A78: 57 | B78: Minerālmateriālu maisījuma 0/45, N III, pamata izbūve h=15 cm | C78: m² | D78: 887 | G78: =ROUND(E78*F78,2) -> 0 | J78: =SUM(G78+H78+I78) -> 0 | K78: =ROUND(D78*E78,2) -> 0 | L78: =ROUND(D78*G78,2) -> 0 | M78: =ROUND(D78*H78,2) -> 0 | N78: =ROUND(D78*I78,2) -> 0 | O78: =SUM(L78+M78+N78) -> 0
A79: 58 | B79: Minerālmateriālu izsijas (fr. 2/8), h= 3 cm | C79: m² | D79: 887 | G79: =ROUND(E79*F79,2) -> 0 | J79: =SUM(G79+H79+I79) -> 0 | K79: =ROUND(D79*E79,2) -> 0 | L79: =ROUND(D79*G79,2) -> 0 | M79: =ROUND(D79*H79,2) -> 0 | N79: =ROUND(D79*I79,2) -> 0 | O79: =SUM(L79+M79+N79) -> 0
A80: 59 | B80: Betona bruģakmens, Prizma 6 (200x100x60 mm, pelēks), h=6 cm | C80: m² | D80: 858 | G80: =ROUND(E80*F80,2) -> 0 | J80: =SUM(G80+H80+I80) -> 0 | K80: =ROUND(D80*E80,2) -> 0 | L80: =ROUND(D80*G80,2) -> 0 | M80: =ROUND(D80*H80,2) -> 0 | N80: =ROUND(D80*I80,2) -> 0 | O80: =SUM(L80+M80+N80) -> 0
A81: 60 | B81: Taktilā betona bruģa seguma 200x100 (dzeltens, punktots) izbūve, h=6 cm | C81: m² | D81: 29 | G81: =ROUND(E81*F81,2) -> 0 | J81: =SUM(G81+H81+I81) -> 0 | K81: =ROUND(D81*E81,2) -> 0 | L81: =ROUND(D81*G81,2) -> 0 | M81: =ROUND(D81*H81,2) -> 0 | N81: =ROUND(D81*I81,2) -> 0 | O81: =SUM(L81+M81+N81) -> 0
A82: Nobrauktuves segas konstrukcijas izbūve. 1. Tips
A83: 61 | B83: Drenējošā slāņa izbūve no smilts, h=30 cm, kf>1m/dnn | C83: m3 | D83: 28 | G83: =ROUND(E83*F83,2) -> 0 | J83: =SUM(G83+H83+I83) -> 0 | K83: =ROUND(D83*E83,2) -> 0 | L83: =ROUND(D83*G83,2) -> 0 | M83: =ROUND(D83*H83,2) -> 0 | N83: =ROUND(D83*I83,2) -> 0 | O83: =SUM(L83+M83+N83) -> 0
A84: 62 | B84: Minerālmateriālu maisījuma 0/56, N III, pamata izbūve, h= 15 cm | C84: m² | D84: 65 | G84: =ROUND(E84*F84,2) -> 0 | J84: =SUM(G84+H84+I84) -> 0 | K84: =ROUND(D84*E84,2) -> 0 | L84: =ROUND(D84*G84,2) -> 0 | M84: =ROUND(D84*H84,2) -> 0 | N84: =ROUND(D84*I84,2) -> 0 | O84: =SUM(L84+M84+N84) -> 0
A85: 63 | B85: Minerālmateriālu maisījuma 0/45, N III, pamata izbūve, h= 10 cm | C85: m² | D85: 65 | G85: =ROUND(E85*F85,2) -> 0 | J85: =SUM(G85+H85+I85) -> 0 | K85: =ROUND(D85*E85,2) -> 0 | L85: =ROUND(D85*G85,2) -> 0 | M85: =ROUND(D85*H85,2) -> 0 | N85: =ROUND(D85*I85,2) -> 0 | O85: =SUM(L85+M85+N85) -> 0
A86: 64 | B86: Karstā asfalta AC 11 surf izbūve, S III, h=6 cm | C86: m² | D86: 65 | G86: =ROUND(E86*F86,2) -> 0 | J86: =SUM(G86+H86+I86) -> 0 | K86: =ROUND(D86*E86,2) -> 0 | L86: =ROUND(D86*G86,2) -> 0 | M86: =ROUND(D86*H86,2) -> 0 | N86: =ROUND(D86*I86,2) -> 0 | O86: =SUM(L86+M86+N86) -> 0
A87: Nobrauktuves segas konstrukcijas izbūve. 2. Tips
A88: 65 | B88: Drenējošā slāņa izbūve no smilts , h=30 cm, kf>1m/dnn | C88: m3 | D88: 345 | G88: =ROUND(E88*F88,2) -> 0 | J88: =SUM(G88+H88+I88) -> 0 | K88: =ROUND(D88*E88,2) -> 0 | L88: =ROUND(D88*G88,2) -> 0 | M88: =ROUND(D88*H88,2) -> 0 | N88: =ROUND(D88*I88,2) -> 0 | O88: =SUM(L88+M88+N88) -> 0
A89: 66 | B89: Minerālmateriālu maisījuma 0/56, N III, pamata izbūve, h= 15 cm | C89: m3 | D89: 818 | G89: =ROUND(E89*F89,2) -> 0 | J89: =SUM(G89+H89+I89) -> 0 | K89: =ROUND(D89*E89,2) -> 0 | L89: =ROUND(D89*G89,2) -> 0 | M89: =ROUND(D89*H89,2) -> 0 | N89: =ROUND(D89*I89,2) -> 0 | O89: =SUM(L89+M89+N89) -> 0
A90: 67 | B90: Minerālmateriālu maisījuma 0/45, N III, pamata izbūve, h= 10 cm | C90: m² | D90: 818 | G90: =ROUND(E90*F90,2) -> 0 | J90: =SUM(G90+H90+I90) -> 0 | K90: =ROUND(D90*E90,2) -> 0 | L90: =ROUND(D90*G90,2) -> 0 | M90: =ROUND(D90*H90,2) -> 0 | N90: =ROUND(D90*I90,2) -> 0 | O90: =SUM(L90+M90+N90) -> 0
A91: 68 | B91: Minerālmateriālu izsijas (fr. 2/8), h= 3 cm | C91: m² | D91: 818 | G91: =ROUND(E91*F91,2) -> 0 | J91: =SUM(G91+H91+I91) -> 0 | K91: =ROUND(D91*E91,2) -> 0 | L91: =ROUND(D91*G91,2) -> 0 | M91: =ROUND(D91*H91,2) -> 0 | N91: =ROUND(D91*I91,2) -> 0 | O91: =SUM(L91+M91+N91) -> 0
A92: 69 | B92: Betona bruģakmens, Prizma 8 (200x100x80 mm, pelēks), h=8 cm; | C92: m² | D92: 818 | G92: =ROUND(E92*F92,2) -> 0 | J92: =SUM(G92+H92+I92) -> 0 | K92: =ROUND(D92*E92,2) -> 0 | L92: =ROUND(D92*G92,2) -> 0 | M92: =ROUND(D92*H92,2) -> 0 | N92: =ROUND(D92*I92,2) -> 0 | O92: =SUM(L92+M92+N92) -> 0
A93: Gājēju ietves segas konstrukcijas atjaunošana (Gar Dubultu prospektu)
A94: 70 | B94: Esošās virsmas profilēšana un sablīvēšana | C94: m² | D94: 105 | G94: =ROUND(E94*F94,2) -> 0 | J94: =SUM(G94+H94+I94) -> 0 | K94: =ROUND(D94*E94,2) -> 0 | L94: =ROUND(D94*G94,2) -> 0 | M94: =ROUND(D94*H94,2) -> 0 | N94: =ROUND(D94*I94,2) -> 0 | O94: =SUM(L94+M94+N94) -> 0
A95: 71 | B95: Minerālmateriālu izsijas (fr. 2/8), h= 3 cm | C95: m² | D95: 105 | G95: =ROUND(E95*F95,2) -> 0 | J95: =SUM(G95+H95+I95) -> 0 | K95: =ROUND(D95*E95,2) -> 0 | L95: =ROUND(D95*G95,2) -> 0 | M95: =ROUND(D95*H95,2) -> 0 | N95: =ROUND(D95*I95,2) -> 0 | O95: =SUM(L95+M95+N95) -> 0
A96: 72 | B96: Betona bruģakmens izbūve, (Prizma 6, 200x100x60 mm, pelēks), h=6 cm; | C96: m² | D96: 105 | G96: =ROUND(E96*F96,2) -> 0 | J96: =SUM(G96+H96+I96) -> 0 | K96: =ROUND(D96*E96,2) -> 0 | L96: =ROUND(D96*G96,2) -> 0 | M96: =ROUND(D96*H96,2) -> 0 | N96: =ROUND(D96*I96,2) -> 0 | O96: =SUM(L96+M96+N96) -> 0
A97: Dabīgā akmens bruģa seguma izbūve
A98: 73 | B98: Drenējošā slāņa izbūve no smilts , h=30 cm, kf>1m/dnn | C98: m3 | D98: 12 | G98: =ROUND(E98*F98,2) -> 0 | J98: =SUM(G98+H98+I98) -> 0 | K98: =ROUND(D98*E98,2) -> 0 | L98: =ROUND(D98*G98,2) -> 0 | M98: =ROUND(D98*H98,2) -> 0 | N98: =ROUND(D98*I98,2) -> 0 | O98: =SUM(L98+M98+N98) -> 0
A99: 74 | B99: Minerālmateriālu maisījuma 0/45, N III, pamata izbūve, h= 15 cm | C99: m² | D99: 28 | G99: =ROUND(E99*F99,2) -> 0 | J99: =SUM(G99+H99+I99) -> 0 | K99: =ROUND(D99*E99,2) -> 0 | L99: =ROUND(D99*G99,2) -> 0 | M99: =ROUND(D99*H99,2) -> 0 | N99: =ROUND(D99*I99,2) -> 0 | O99: =SUM(L99+M99+N99) -> 0
A100: 75 | B100: Minerālmateriālu izsijas (fr. 2/8), h=5 cm | C100: m² | D100: 28 | G100: =ROUND(E100*F100,2) -> 0 | J100: =SUM(G100+H100+I100) -> 0 | K100: =ROUND(D100*E100,2) -> 0 | L100: =ROUND(D100*G100,2) -> 0 | M100: =ROUND(D100*H100,2) -> 0 | N100: =ROUND(D100*I100,2) -> 0 | O100: =SUM(L100+M100+N100) -> 0
A101: 76 | B101: Dabīgā akmens seguma izbūve d=10-15 cm, betonā C 20/25, h=15 cm | C101: m² | D101: 28 | G101: =ROUND(E101*F101,2) -> 0 | J101: =SUM(G101+H101+I101) -> 0 | K101: =ROUND(D101*E101,2) -> 0 | L101: =ROUND(D101*G101,2) -> 0 | M101: =ROUND(D101*H101,2) -> 0 | N101: =ROUND(D101*I101,2) -> 0 | O101: =SUM(L101+M101+N101) -> 0
A102: Šķelta granīta bruģakmens joslas izbūve
A103: 77 | B103: Drenējošā slāņa izbūve no smilts , h=30 cm, kf>1m/dnn | C103: m3 | D103: 8 | G103: =ROUND(E103*F103,2) -> 0 | J103: =SUM(G103+H103+I103) -> 0 | K103: =ROUND(D103*E103,2) -> 0 | L103: =ROUND(D103*G103,2) -> 0 | M103: =ROUND(D103*H103,2) -> 0 | N103: =ROUND(D103*I103,2) -> 0 | O103: =SUM(L103+M103+N103) -> 0
A104: 78 | B104: Minerālmateriālu maisījuma 0/45, N III, pamata izbūve, h= 15 cm | C104: m² | D104: 18 | G104: =ROUND(E104*F104,2) -> 0 | J104: =SUM(G104+H104+I104) -> 0 | K104: =ROUND(D104*E104,2) -> 0 | L104: =ROUND(D104*G104,2) -> 0 | M104: =ROUND(D104*H104,2) -> 0 | N104: =ROUND(D104*I104,2) -> 0 | O104: =SUM(L104+M104+N104) -> 0
A105: 79 | B105: Minerālmateriālu izsijas (fr. 2/8), h=3 cm | C105: m² | D105: 18 | G105: =ROUND(E105*F105,2) -> 0 | J105: =SUM(G105+H105+I105) -> 0 | K105: =ROUND(D105*E105,2) -> 0 | L105: =ROUND(D105*G105,2) -> 0 | M105: =ROUND(D105*H105,2) -> 0 | N105: =ROUND(D105*I105,2) -> 0 | O105: =SUM(L105+M105+N105) -> 0
A106: 80 | B106: Škelts granīta bruģakmens (dažādas krāsas), h=10 cm | C106: m² | D106: 18 | G106: =ROUND(E106*F106,2) -> 0 | J106: =SUM(G106+H106+I106) -> 0 | K106: =ROUND(D106*E106,2) -> 0 | L106: =ROUND(D106*G106,2) -> 0 | M106: =ROUND(D106*H106,2) -> 0 | N106: =ROUND(D106*I106,2) -> 0 | O106: =SUM(L106+M106+N106) -> 0
A107: Asfalta segas salaiduma posmu izbūve
A108: 81 | B108: Asfalta seguma frēzēšana, h=4cm ar materiāla aizvešanu uz Būvniecības ierosinātāja norādītu atbērtni | C108: m² | D108: 175 | G108: =ROUND(E108*F108,2) -> 0 | J108: =SUM(G108+H108+I108) -> 0 | K108: =ROUND(D108*E108,2) -> 0 | L108: =ROUND(D108*G108,2) -> 0 | M108: =ROUND(D108*H108,2) -> 0 | N108: =ROUND(D108*I108,2) -> 0 | O108: =SUM(L108+M108+N108) -> 0
A109: 82 | B109: Karstā asfalta AC11 surf 70/100 izbūve, S III, h=4 cm | C109: m² | D109: 175 | G109: =ROUND(E109*F109,2) -> 0 | J109: =SUM(G109+H109+I109) -> 0 | K109: =ROUND(D109*E109,2) -> 0 | L109: =ROUND(D109*G109,2) -> 0 | M109: =ROUND(D109*H109,2) -> 0 | N109: =ROUND(D109*I109,2) -> 0 | O109: =SUM(L109+M109+N109) -> 0
A110: Cerinu ielas posma brauktuves asfaltbetona seguma atjaunošana (Izlīdzinošā frēzēšana)
A111: 83 | B111: Brauktuves asfaltbetona seguma izlīdzinošā frēzēšana, hvid=4 cm un nogādāšana uz būvdarbu veicēja atbērtni | C111: m² | D111: 1150 | G111: =ROUND(E111*F111,2) -> 0 | J111: =SUM(G111+H111+I111) -> 0 | K111: =ROUND(D111*E111,2) -> 0 | L111: =ROUND(D111*G111,2) -> 0 | M111: =ROUND(D111*H111,2) -> 0 | N111: =ROUND(D111*I111,2) -> 0 | O111: =SUM(L111+M111+N111) -> 0
...

Sheet 2_LKT
A1: Lokālā tāme Nr. 2
A2: LKT - Lietus ūdens kanalizācijas tīkli
A4: Būves nosaukums | C4: ='Būvniecības koptāme'!D7 -> Rūdolfa Blaumaņa ielas no Baznīcas ielas līdz Ceriņu ielai un Ceriņu ielas no Rūdolfa Blaumaņa ielas līdz Ievu ielai pārbūve
A5: Objekta nosaukums | C5: ='Būvniecības koptāme'!D8 -> Rūdolfa Blaumaņa ielas no Baznīcas ielas līdz Ceriņu ielai un Ceriņu ielas no Rūdolfa Blaumaņa ielas līdz Ievu ielai pārbūve
A6: Objekta adrese | C6: ='Būvniecības koptāme'!D9 -> Rūdolfa Blaumaņa un Ceriņu iela, Jūrmalā
A7: Iepirkuma Nr. | C7: ='Būvniecības koptāme'!D10 -> JVA 2026/70
K8: Tāmes izmaksas | M8: =O74 -> 0
A9: Tāme sastādīta 2026. gada tirgus cenās | K9: Tāme sastādīta 2026. gada _______
A10: Kods | B10: Būvdarbu nosaukums | C10: Mērvienība | D10: Daudzums | E10: Vienības izmaksas | K10: Kopā uz visu apjomu
E11: laika norma (c/h) | F11: darba samaksas likme (euro/h) | G11: darba alga | H11: būvizstrādājumi | I11: mehānismi | J11: Kopā | K11: darbietilpība (c/h) | L11: darba alga | M11: būvizstrā-dājumi | N11: mehānismi | O11: Summa
A13: 1 | B13: 2 | C13: 3 | D13: 4 | E13: 5 | F13: 6 | G13: 7 | H13: 8 | I13: 9 | J13: 10 | K13: 11 | L13: 12 | M13: 13 | N13: 14 | O13: 15
A14: Lietus ūdens kanalizācija K2
A15: 1 | B15: Lietus ūdens kanalizācijas gludsienu caurule PP SN8 ø110 ar uzmavu un blīvgredzenu, (SN8, RF30, -10⁰, EN13476-2 - marķējums uz caurules), montāža ar 15 cm smilts ((blietēta) k>1,0m/dnn) pamatnes ierīkošanu un izbūvētā cauruļvada smilts apbēruma ierīkošanu 30 cm virs caurules virsas. | C15: m | D15: 1.8 | G15: =ROUND(E15*F15,2) -> 0 | J15: =SUM(G15+H15+I15) -> 0 | K15: =ROUND(D15*E15,2) -> 0 | L15: =ROUND(D15*G15,2) -> 0 | M15: =ROUND(D15*H15,2) -> 0 | N15: =ROUND(D15*I15,2) -> 0 | O15: =SUM(L15+M15+N15) -> 0
A16: 2 | B16: Lietus ūdens kanalizācijas gludsienu caurule PP SN8 ø160 ar uzmavu un blīvgredzenu, (SN8, RF30, -10⁰, EN13476-2 - marķējums uz caurules), montāža ar 15 cm smilts ((blietēta) k>1,0m/dnn) pamatnes ierīkošanu un izbūvētā cauruļvada smilts apbēruma ierīkošanu 30 cm virs caurules virsas. | C16: m | D16: 3.3 | G16: =ROUND(E16*F16,2) -> 0 | J16: =SUM(G16+H16+I16) -> 0 | K16: =ROUND(D16*E16,2) -> 0 | L16: =ROUND(D16*G16,2) -> 0 | M16: =ROUND(D16*H16,2) -> 0 | N16: =ROUND(D16*I16,2) -> 0 | O16: =SUM(L16+M16+N16) -> 0
A17: 3 | B17: Lietus ūdens kanalizācijas gludsienu caurule PP SN8 ø200 ar uzmavu un blīvgredzenu, (SN8, RF30, -10⁰, EN13476-2 - marķējums uz caurules), montāža ar 15 cm smilts ((blietēta) k>1,0m/dnn) pamatnes ierīkošanu un izbūvētā cauruļvada smilts apbēruma ierīkošanu 30 cm virs caurules virsas. | C17: m | D17: 84.6 | G17: =ROUND(E17*F17,2) -> 0 | J17: =SUM(G17+H17+I17) -> 0 | K17: =ROUND(D17*E17,2) -> 0 | L17: =ROUND(D17*G17,2) -> 0 | M17: =ROUND(D17*H17,2) -> 0 | N17: =ROUND(D17*I17,2) -> 0 | O17: =SUM(L17+M17+N17) -> 0
A18: 4 | B18: Lietus ūdeņu uztvērējakas (gūlijas) komplekts PP ID600mm (1.0-1.5m dziļumā, nosēdakas pamatne, augstuma regulēšanas dubultsienu caurule SN8, EN13476-3 , manžete teleskopiskajai caurulei, teleskopiskā caurule, 40t ķeta rāmis ar resti 520 x 300mm, D 400 klases sertificētu atbilstoši EN 124/ RAL-GZ692 / DIN 1229 un polimērmateriālu uztvērējspaini), piev. Ø200, nosēddaļa 0,6m(185l), izbūve un montāža, t.sk. 15 cm smilts ((blietēta) k>1,0m/dnn) pamatnes ierīkošanu un apbetonējums ap akas vāku (betons C25/30). | C18: kpl. | D18: 8 | G18: =ROUND(E18*F18,2) -> 0 | J18: =SUM(G18+H18+I18) -> 0 | K18: =ROUND(D18*E18,2) -> 0 | L18: =ROUND(D18*G18,2) -> 0 | M18: =ROUND(D18*H18,2) -> 0 | N18: =ROUND(D18*I18,2) -> 0 | O18: =SUM(L18+M18+N18) -> 0
A19: 5 | B19: Lietus ūdeņu uztvērējakas (gūlijas) komplekts PP ID600mm (1.5-2.0m dziļumā, nosēdakas pamatne, augstuma regulēšanas dubultsienu caurule SN8, EN13476-3 , manžete teleskopiskajai caurulei, teleskopiskā caurule, 40t ķeta rāmis ar resti 520 x 300mm, D 400 klases sertificētu atbilstoši EN 124/ RAL-GZ692 / DIN 1229 un polimērmateriālu uztvērējspaini), piev. Ø200, nosēddaļa 0,6m(185l), izbūve un montāža, t.sk 15 cm smilts ((blietēta) k>1,0m/dnn) pamatnes ierīkošanu un apbetonējums ap akas vāku (betons C25/30). | C19: kpl. | D19: 7 | G19: =ROUND(E19*F19,2) -> 0 | J19: =SUM(G19+H19+I19) -> 0 | K19: =ROUND(D19*E19,2) -> 0 | L19: =ROUND(D19*G19,2) -> 0 | M19: =ROUND(D19*H19,2) -> 0 | N19: =ROUND(D19*I19,2) -> 0 | O19: =SUM(L19+M19+N19) -> 0
A20: 6 | B20: Lietus ūdeņu uztvērējakas (gūlijas) komplekts PP ID600mm (2.0-2.5m dziļumā, nosēdakas pamatne, augstuma regulēšanas dubultsienu caurule SN8, EN13476-3 , manžete teleskopiskajai caurulei, teleskopiskā caurule, 40t ķeta rāmis ar resti 520 x 300mm, D 400 klases sertificētu atbilstoši EN 124/ RAL-GZ692 / DIN 1229 un polimērmateriālu uztvērējspaini), piev. Ø200, nosēddaļa 0,6m(185l), izbūve un montāža, t.sk 15 cm smilts ((blietēta) k>1,0m/dnn) pamatnes ierīkošanu un apbetonējums ap akas vāku (betons C25/30). | C20: kpl. | D20: 1 | G20: =ROUND(E20*F20,2) -> 0 | J20: =SUM(G20+H20+I20) -> 0 | K20: =ROUND(D20*E20,2) -> 0 | L20: =ROUND(D20*G20,2) -> 0 | M20: =ROUND(D20*H20,2) -> 0 | N20: =ROUND(D20*I20,2) -> 0 | O20: =SUM(L20+M20+N20) -> 0
A21: 7 | B21: Lietus kanalizācijas aka PP ID600mm, 40,0 t vāku RAL-GZ692 sertifikāciju, atvērumu ≥600mm, dubulstsienu šahtu SN8 ar ribojumu; EN13598-2 sertifikāciju (1,0-1,5 m dziļumā, ieskaitot dzelzsbetona atbalsta gredzenu) izbūve un montāža t.sk. 15 cm smilts ((blietēta) k>1,0m/dnn) pamatnes ierīkošanu un apbetonējums ap akas vāku (betons C25/30). | C21: kpl. | D21: 1 | G21: =ROUND(E21*F21,2) -> 0 | J21: =SUM(G21+H21+I21) -> 0 | K21: =ROUND(D21*E21,2) -> 0 | L21: =ROUND(D21*G21,2) -> 0 | M21: =ROUND(D21*H21,2) -> 0 | N21: =ROUND(D21*I21,2) -> 0 | O21: =SUM(L21+M21+N21) -> 0
A22: 8 | B22: Lietus kanalizācijas aka PP ID600mm, 40,0 t vāku RAL-GZ692 sertifikāciju, atvērumu ≥600mm, dubulstsienu šahtu SN8 ar ribojumu; EN13598-2 sertifikāciju (1,5-2.0 m dziļumā, ieskaitot dzelzsbetona atbalsta gredzenu) izbūve un montāža t.sk. 15 cm smilts ((blietēta) k>1,0m/dnn) pamatnes ierīkošanu un apbetonējums ap akas vāku (betons C25/30). | C22: kpl. | D22: 1 | G22: =ROUND(E22*F22,2) -> 0 | J22: =SUM(G22+H22+I22) -> 0 | K22: =ROUND(D22*E22,2) -> 0 | L22: =ROUND(D22*G22,2) -> 0 | M22: =ROUND(D22*H22,2) -> 0 | N22: =ROUND(D22*I22,2) -> 0 | O22: =SUM(L22+M22+N22) -> 0
A23: 9 | B23: Lietus kanalizācijas aka PP ID600mm, 40,0 t vāku RAL-GZ692 sertifikāciju, atvērumu ≥600mm, dubulstsienu šahtu SN8 ar ribojumu; EN13598-2 sertifikāciju (2.0-2.5 m dziļumā, ieskaitot dzelzsbetona atbalsta gredzenu) izbūve un montāža t.sk.15 cm smilts ((blietēta) k>1,0m/dnn) pamatnes ierīkošanu un apbetonējums ap akas vāku (betons C25/30). | C23: kpl. | D23: 1 | G23: =ROUND(E23*F23,2) -> 0 | J23: =SUM(G23+H23+I23) -> 0 | K23: =ROUND(D23*E23,2) -> 0 | L23: =ROUND(D23*G23,2) -> 0 | M23: =ROUND(D23*H23,2) -> 0 | N23: =ROUND(D23*I23,2) -> 0 | O23: =SUM(L23+M23+N23) -> 0
A24: 10 | B24: Tranšejas rakšana ar rokām un ekskavatoru pie caurules iebūves dziļuma līdz 1.0 m un minimālā tranšejas platuma 1,5 m, nepieciešamības gadījumā dolomīta izstrāde | C24: m | D24: 38.5 | G24: =ROUND(E24*F24,2) -> 0 | J24: =SUM(G24+H24+I24) -> 0 | K24: =ROUND(D24*E24,2) -> 0 | L24: =ROUND(D24*G24,2) -> 0 | M24: =ROUND(D24*H24,2) -> 0 | N24: =ROUND(D24*I24,2) -> 0 | O24: =SUM(L24+M24+N24) -> 0
A25: 11 | B25: Tranšejas rakšana ar rokām un ekskavatoru pie caurules iebūves dziļuma 1.0-1.5 m un minimālā tranšejas platuma 1,5 m, nepieciešamības gadījumā dolomīta izstrāde | C25: m | D25: 37.7 | G25: =ROUND(E25*F25,2) -> 0 | J25: =SUM(G25+H25+I25) -> 0 | K25: =ROUND(D25*E25,2) -> 0 | L25: =ROUND(D25*G25,2) -> 0 | M25: =ROUND(D25*H25,2) -> 0 | N25: =ROUND(D25*I25,2) -> 0 | O25: =SUM(L25+M25+N25) -> 0
A26: 12 | B26: Tranšejas rakšana ar rokām un ekskavatoru pie caurules iebūves dziļuma 1,5-2,0 m un minimālā tranšejas platuma 1,5 m, nepieciešamības gadījumā dolomīta izstrāde | C26: m | D26: 13.5 | G26: =ROUND(E26*F26,2) -> 0 | J26: =SUM(G26+H26+I26) -> 0 | K26: =ROUND(D26*E26,2) -> 0 | L26: =ROUND(D26*G26,2) -> 0 | M26: =ROUND(D26*H26,2) -> 0 | N26: =ROUND(D26*I26,2) -> 0 | O26: =SUM(L26+M26+N26) -> 0
... A37: 23 | B37: Esošā lietus ūdens kanalizācijas tīkla d150 demontāža un utilizācija | C37: m | D37: 9 | G37: =ROUND(E37*F37,2) -> 0 | J37: =SUM(G37+H37+I37) -> 0 | K37: =ROUND(D37*E37,2) -> 0 | L37: =ROUND(D37*G37,2) -> 0 | M37: =ROUND(D37*H37,2) -> 0 | N37: =ROUND(D37*I37,2) -> 0 | O37: =SUM(L37+M37+N37) -> 0
A38: Šķērsojumi:
A39: 24 | B39: Šķērsojumi ar kabeļiem t.sk. atšurfēšana | C39: kpl. | D39: 7 | G39: =ROUND(E39*F39,2) -> 0 | J39: =SUM(G39+H39+I39) -> 0 | K39: =ROUND(D39*E39,2) -> 0 | L39: =ROUND(D39*G39,2) -> 0 | M39: =ROUND(D39*H39,2) -> 0 | N39: =ROUND(D39*I39,2) -> 0 | O39: =SUM(L39+M39+N39) -> 0
A40: 25 | B40: Dalītā aizsargcaurule EVOCAB SPLIT Ø110mm kabeļu šķērsojuma vietās | C40: m | D40: 28 | G40: =ROUND(E40*F40,2) -> 0 | J40: =SUM(G40+H40+I40) -> 0 | K40: =ROUND(D40*E40,2) -> 0 | L40: =ROUND(D40*G40,2) -> 0 | M40: =ROUND(D40*H40,2) -> 0 | N40: =ROUND(D40*I40,2) -> 0 | O40: =SUM(L40+M40+N40) -> 0
A41: 26 | B41: Brīdinājuma lente 20-40 cm virs kabeļa, guldīšana smiltī | C41: m | D41: 28 | G41: =ROUND(E41*F41,2) -> 0 | J41: =SUM(G41+H41+I41) -> 0 | K41: =ROUND(D41*E41,2) -> 0 | L41: =ROUND(D41*G41,2) -> 0 | M41: =ROUND(D41*H41,2) -> 0 | N41: =ROUND(D41*I41,2) -> 0 | O41: =SUM(L41+M41+N41) -> 0
A42: 27 | B42: Šķērsojumi ar nedarbojošiem kabeļiem t.sk. atšurfēšana | C42: kpl. | D42: 3 | G42: =ROUND(E42*F42,2) -> 0 | J42: =SUM(G42+H42+I42) -> 0 | K42: =ROUND(D42*E42,2) -> 0 | L42: =ROUND(D42*G42,2) -> 0 | M42: =ROUND(D42*H42,2) -> 0 | N42: =ROUND(D42*I42,2) -> 0 | O42: =SUM(L42+M42+N42) -> 0
A43: 28 | B43: Šķērsojumi ar cauruļvadiem d≤200 (t.sk. to atšurfēšana) | C43: vietas | D43: 22 | G43: =ROUND(E43*F43,2) -> 0 | J43: =SUM(G43+H43+I43) -> 0 | K43: =ROUND(D43*E43,2) -> 0 | L43: =ROUND(D43*G43,2) -> 0 | M43: =ROUND(D43*H43,2) -> 0 | N43: =ROUND(D43*I43,2) -> 0 | O43: =SUM(L43+M43+N43) -> 0
A44: 29 | B44: CCTV pārbaude cauruļvada slīpuma un stāvokļa noteikšanai pēc būvdarbu pabeigšanas | C44: m | D44: 84.6 | G44: =ROUND(E44*F44,2) -> 0 | J44: =SUM(G44+H44+I44) -> 0 | K44: =ROUND(D44*E44,2) -> 0 | L44: =ROUND(D44*G44,2) -> 0 | M44: =ROUND(D44*H44,2) -> 0 | N44: =ROUND(D44*I44,2) -> 0 | O44: =SUM(L44+M44+N44) -> 0
A45: 30 | B45: Cauruļvadu skalošana un tīrīšana | C45: m | D45: 89.7 | G45: =ROUND(E45*F45,2) -> 0 | J45: =SUM(G45+H45+I45) -> 0 | K45: =ROUND(D45*E45,2) -> 0 | L45: =ROUND(D45*G45,2) -> 0 | M45: =ROUND(D45*H45,2) -> 0 | N45: =ROUND(D45*I45,2) -> 0 | O45: =SUM(L45+M45+N45) -> 0
A46: 31 | B46: Cauruļvadu hermētiskuma pārbaude | C46: m | D46: 89.7 | G46: =ROUND(E46*F46,2) -> 0 | J46: =SUM(G46+H46+I46) -> 0 | K46: =ROUND(D46*E46,2) -> 0 | L46: =ROUND(D46*G46,2) -> 0 | M46: =ROUND(D46*H46,2) -> 0 | N46: =ROUND(D46*I46,2) -> 0 | O46: =SUM(L46+M46+N46) -> 0
A47: Infiltrācijas aka
A48: 33 | B48: Saliekamo dzelzbetona elementu grodu aka DN1500 (2,5-3,0m dziļumā),grodiem, blīvgumiju grodu savienojumu vietās, grodu pārseguma vāku, hidroizolāciju, ķeta akas vāku 40 t, izbūve un montāža | C48: kpl. | D48: 1 | G48: =ROUND(E48*F48,2) -> 0 | J48: =SUM(G48+H48+I48) -> 0 | K48: =ROUND(D48*E48,2) -> 0 | L48: =ROUND(D48*G48,2) -> 0 | M48: =ROUND(D48*H48,2) -> 0 | N48: =ROUND(D48*I48,2) -> 0 | O48: =SUM(L48+M48+N48) -> 0
A49: Groda akas pamatnes un nosēddļaļas izbūve:
A50: 34 | B50: Maza izmēra laukakmeņi fr. 70-150 mm, h=20 cm | C50: m3 | D50: 0.4 | G50: =ROUND(E50*F50,2) -> 0 | J50: =SUM(G50+H50+I50) -> 0 | K50: =ROUND(D50*E50,2) -> 0 | L50: =ROUND(D50*G50,2) -> 0 | M50: =ROUND(D50*H50,2) -> 0 | N50: =ROUND(D50*I50,2) -> 0 | O50: =SUM(L50+M50+N50) -> 0
A51: 35 | B51: Šķembas fr. 21-63 mm, h=30 cm | C51: m3 | D51: 0.5 | G51: =ROUND(E51*F51,2) -> 0 | J51: =SUM(G51+H51+I51) -> 0 | K51: =ROUND(D51*E51,2) -> 0 | L51: =ROUND(D51*G51,2) -> 0 | M51: =ROUND(D51*H51,2) -> 0 | N51: =ROUND(D51*I51,2) -> 0 | O51: =SUM(L51+M51+N51) -> 0
A52: 36 | B52: Rupjgraudaina filtrējoša smilts K>3 m/dnn, h=20 cm | C52: m3 | D52: 0.4 | G52: =ROUND(E52*F52,2) -> 0 | J52: =SUM(G52+H52+I52) -> 0 | K52: =ROUND(D52*E52,2) -> 0 | L52: =ROUND(D52*G52,2) -> 0 | M52: =ROUND(D52*H52,2) -> 0 | N52: =ROUND(D52*I52,2) -> 0 | O52: =SUM(L52+M52+N52) -> 0
A53: 37 | B53: Skalotas šķembas fr. 16-32 mm | C53: m3 | D53: 6.2 | G53: =ROUND(E53*F53,2) -> 0 | J53: =SUM(G53+H53+I53) -> 0 | K53: =ROUND(D53*E53,2) -> 0 | L53: =ROUND(D53*G53,2) -> 0 | M53: =ROUND(D53*H53,2) -> 0 | N53: =ROUND(D53*I53,2) -> 0 | O53: =SUM(L53+M53+N53) -> 0
A54: 38 | B54: Velts, neausts ģeotekstils - Svars - ≥400 g/kvm pēc EN 9864, Biezums pie 2 kPa - ≥3,0 mm pēc EN 9863-1, CBR pārduršanas stiprība - ≥5000Npēc EN 12236 Ūdens caurlaidība - ≥50 x 10-3m/spēc EN 11058 | C54: m2 | D54: 31 | G54: =ROUND(E54*F54,2) -> 0 | J54: =SUM(G54+H54+I54) -> 0 | K54: =ROUND(D54*E54,2) -> 0 | L54: =ROUND(D54*G54,2) -> 0 | M54: =ROUND(D54*H54,2) -> 0 | N54: =ROUND(D54*I54,2) -> 0 | O54: =SUM(L54+M54+N54) -> 0
A55: 39 | B55: Rūpnieciski ražota aizsargčaula DN200, kas paredzēta ø200 caurules iebūvei dzelzsb. grodu akā, montāža | C55: gb. | D55: 1 | G55: =ROUND(E55*F55,2) -> 0 | J55: =SUM(G55+H55+I55) -> 0 | K55: =ROUND(D55*E55,2) -> 0 | L55: =ROUND(D55*G55,2) -> 0 | M55: =ROUND(D55*H55,2) -> 0 | N55: =ROUND(D55*I55,2) -> 0 | O55: =SUM(L55+M55+N55) -> 0
A56: 40 | B56: Saliekamo dzelzbetona elementu grodu aka DN1500 (2,0-2.5m dziļumā),grodiem, blīvgumiju grodu savienojumu vietās, grodu pārseguma vāku, hidroizolāciju, ķeta akas vāku 40 t, izbūve un montāža | C56: kpl. | D56: 8 | G56: =ROUND(E56*F56,2) -> 0 | J56: =SUM(G56+H56+I56) -> 0 | K56: =ROUND(D56*E56,2) -> 0 | L56: =ROUND(D56*G56,2) -> 0 | M56: =ROUND(D56*H56,2) -> 0 | N56: =ROUND(D56*I56,2) -> 0 | O56: =SUM(L56+M56+N56) -> 0
A57: Grodu aku pamatnes un nosēddļaļas izbūve:
A58: 41 | B58: Maza izmēra laukakmeņi fr. 70-150 mm, h=20 cm | C58: m3 | D58: 3.2 | G58: =ROUND(E58*F58,2) -> 0 | J58: =SUM(G58+H58+I58) -> 0 | K58: =ROUND(D58*E58,2) -> 0 | L58: =ROUND(D58*G58,2) -> 0 | M58: =ROUND(D58*H58,2) -> 0 | N58: =ROUND(D58*I58,2) -> 0 | O58: =SUM(L58+M58+N58) -> 0
A59: 42 | B59: Šķembas fr. 21-63 mm, h=30 cm | C59: m3 | D59: 4 | G59: =ROUND(E59*F59,2) -> 0 | J59: =SUM(G59+H59+I59) -> 0 | K59: =ROUND(D59*E59,2) -> 0 | L59: =ROUND(D59*G59,2) -> 0 | M59: =ROUND(D59*H59,2) -> 0 | N59: =ROUND(D59*I59,2) -> 0 | O59: =SUM(L59+M59+N59) -> 0
A60: 43 | B60: Rupjgraudaina filtrējoša smilts K>3 m/dnn, h=20 cm | C60: m3 | D60: 3.2 | G60: =ROUND(E60*F60,2) -> 0 | J60: =SUM(G60+H60+I60) -> 0 | K60: =ROUND(D60*E60,2) -> 0 | L60: =ROUND(D60*G60,2) -> 0 | M60: =ROUND(D60*H60,2) -> 0 | N60: =ROUND(D60*I60,2) -> 0 | O60: =SUM(L60+M60+N60) -> 0
A61: 44 | B61: Skalotas šķembas fr. 16-32 mm | C61: m3 | D61: 49.6 | G61: =ROUND(E61*F61,2) -> 0 | J61: =SUM(G61+H61+I61) -> 0 | K61: =ROUND(D61*E61,2) -> 0 | L61: =ROUND(D61*G61,2) -> 0 | M61: =ROUND(D61*H61,2) -> 0 | N61: =ROUND(D61*I61,2) -> 0 | O61: =SUM(L61+M61+N61) -> 0
A62: 45 | B62: Velts, neausts ģeotekstils - Svars - ≥400 g/kvm pēc EN 9864, Biezums pie 2 kPa - ≥3,0 mm pēc EN 9863-1, CBR pārduršanas stiprība - ≥5000Npēc EN 12236 Ūdens caurlaidība - ≥50 x 10-3m/spēc EN 11058 | C62: m2 | D62: 248 | G62: =ROUND(E62*F62,2) -> 0 | J62: =SUM(G62+H62+I62) -> 0 | K62: =ROUND(D62*E62,2) -> 0 | L62: =ROUND(D62*G62,2) -> 0 | M62: =ROUND(D62*H62,2) -> 0 | N62: =ROUND(D62*I62,2) -> 0 | O62: =SUM(L62+M62+N62) -> 0
A63: 46 | B63: Rūpnieciski ražota aizsargčaula DN200, kas paredzēta ø200 caurules iebūvei dzelzsb. grodu akā, montāža | C63: gb. | D63: 7 | G63: =ROUND(E63*F63,2) -> 0 | J63: =SUM(G63+H63+I63) -> 0 | K63: =ROUND(D63*E63,2) -> 0 | L63: =ROUND(D63*G63,2) -> 0 | M63: =ROUND(D63*H63,2) -> 0 | N63: =ROUND(D63*I63,2) -> 0 | O63: =SUM(L63+M63+N63) -> 0
A64: 47 | B64: Rūpnieciski ražota aizsargčaula DN110, kas paredzēta ø110 caurules iebūvei dzelzsb. grodu akā, montāža | C64: gb. | D64: 1 | G64: =ROUND(E64*F64,2) -> 0 | J64: =SUM(G64+H64+I64) -> 0 | K64: =ROUND(D64*E64,2) -> 0 | L64: =ROUND(D64*G64,2) -> 0 | M64: =ROUND(D64*H64,2) -> 0 | N64: =ROUND(D64*I64,2) -> 0 | O64: =SUM(L64+M64+N64) -> 0
A65: Lietus ūdens uztveršanas kanāls , L=21m
A66: 48 | B66: Poilimērbetona Monoblock RD100V kanāls 1m, F900, montāža | C66: m | D66: 20 | G66: =ROUND(E66*F66,2) -> 0 | J66: =SUM(G66+H66+I66) -> 0 | K66: =ROUND(D66*E66,2) -> 0 | L66: =ROUND(D66*G66,2) -> 0 | M66: =ROUND(D66*H66,2) -> 0 | N66: =ROUND(D66*I66,2) -> 0 | O66: =SUM(L66+M66+N66) -> 0
A67: 49 | B67: Polimērbetona Monoblock RD100V revīzijas elem,0,5m, DN100, F900, montāža | C67: gb. | D67: 1 | G67: =ROUND(E67*F67,2) -> 0 | J67: =SUM(G67+H67+I67) -> 0 | K67: =ROUND(D67*E67,2) -> 0 | L67: =ROUND(D67*G67,2) -> 0 | M67: =ROUND(D67*H67,2) -> 0 | N67: =ROUND(D67*I67,2) -> 0 | O67: =SUM(L67+M67+N67) -> 0
A68: 50 | B68: Monoblock RD100V F900 DN150 smilšķērājs, montāža | C68: gb. | D68: 1 | G68: =ROUND(E68*F68,2) -> 0 | J68: =SUM(G68+H68+I68) -> 0 | K68: =ROUND(D68*E68,2) -> 0 | L68: =ROUND(D68*G68,2) -> 0 | M68: =ROUND(D68*H68,2) -> 0 | N68: =ROUND(D68*I68,2) -> 0 | O68: =SUM(L68+M68+N68) -> 0
A69: 51 | B69: Monoblock RD100V gala noslēgs sākumam, montāža | C69: gb. | D69: 2 | G69: =ROUND(E69*F69,2) -> 0 | J69: =SUM(G69+H69+I69) -> 0 | K69: =ROUND(D69*E69,2) -> 0 | L69: =ROUND(D69*G69,2) -> 0 | M69: =ROUND(D69*H69,2) -> 0 | N69: =ROUND(D69*I69,2) -> 0 | O69: =SUM(L69+M69+N69) -> 0
A70: 52 | B70: Minerālmateriālu maisījuma fr. 20/40 izbūve zem kanāliem | C70: m3 | D70: 7.4 | G70: =ROUND(E70*F70,2) -> 0 | J70: =SUM(G70+H70+I70) -> 0 | K70: =ROUND(D70*E70,2) -> 0 | L70: =ROUND(D70*G70,2) -> 0 | M70: =ROUND(D70*H70,2) -> 0 | N70: =ROUND(D70*I70,2) -> 0 | O70: =SUM(L70+M70+N70) -> 0
A71: 53 | B71: Betona pamatnes zem kanālu sistēmas, betons C30/37 XC4+XF3 izbūve un montāža | C71: m3 | D71: 7.4 | G71: =ROUND(E71*F71,2) -> 0 | J71: =SUM(G71+H71+I71) -> 0 | K71: =ROUND(D71*E71,2) -> 0 | L71: =ROUND(D71*G71,2) -> 0 | M71: =ROUND(D71*H71,2) -> 0 | N71: =ROUND(D71*I71,2) -> 0 | O71: =SUM(L71+M71+N71) -> 0
A72: Labiekārtošanas darbi
A73: 54 | B73: Tranšeju aizbēršana ar pievesto smilti (filtrācijas koeficientu ≥ 1 m/dnn, smilts blīvums ne mazāks par 0,95 no dabīgā blīvuma) no ierīkotā apbēruma ap cauruļvadu līdz atjaunojamā seguma apakšējai kārtai, blietējot ik pa 30 cm. | C73: m3 | D73: 98.798354 | G73: =ROUND(E73*F73,2) -> 0 | J73: =SUM(G73+H73+I73) -> 0 | K73: =ROUND(D73*E73,2) -> 0 | L73: =ROUND(D73*G73,2) -> 0 | M73: =ROUND(D73*H73,2) -> 0 | N73: =ROUND(D73*I73,2) -> 0 | O73: =SUM(L73+M73+N73) -> 0
A74: Tiešās izmaksas kopā, t.sk. darba devēja sociālais nodoklis 23,59% | K74: =SUM(K15:K73) -> 0 | L74: =SUM(L15:L73) -> 0 | M74: =SUM(M15:M73) -> 0 | N74: =SUM(N15:N73) -> 0 | O74: =SUM(O15:O73) -> 0
A76: Izmaksu aprēķins sastādīts pamatojoties uz Noteikumi par Latvijas būvnormatīvu LBN 501-17 "Būvizmaksu noteikšanas kārtība", būvprojektu, tajā iekļautajām specifikācijām un dažādās sadaļās iekļautos būvdarbu izpildes visus apstākļu raksturojumus. Saskaņā ar Noteikumi par Latvijas būvnormatīvu LBN 501-17 "Būvizmaksu noteikšanas kārtība" noteikto kārtību noteikta kopējā darbietilpība.
A77: Būvizstrādājumu apjomi doti sablīvētā veidā. Lokālajā tāmē minētos darbus veikt atbilstoši būvprojektam un VSIA "Latvijas valts ceļi" aktuālajām - Ceļu specifikācijām 2026. Būvdarbu veicējam jāvērtē visi nepieciešamie darbi, materiāli, būvmašīnas un transports, bez kā nevarētu būt iespējama darba daudzumu sarakstā minēto darbu tehnoloģiski pareiza, Pasūtītāja prasībām atbilstoša izpilde pilnā apjomā. Darba apjomus skatīt kopā ar plānu, profiliem, tehniskajiem risinājumiem un pielikumiem. Izstrādājot piedāvājumu, būvdarbu veicējam rūpīgi pārskatīt projektu, un apjomos jāiekļauj arī neuzrādītie darbi un materiāli, lai kvalitatīvi veiktu būvniecību atbilstoši konkrētā būvdarbu veicēja pielietotajai tehnoloģijai, un bez kuriem nebūtu iespējama būvdarbu tehnoloģiski pareiza un spēkā esošajiem normatīviem atbilstoša veikšana pilnā apjomā.
A78: Visas atsauces uz iekārtu un būvizstrādājumu izgatavotāju firmām, kuras norādītas projektā liecina tikai par šo būvizstrādājumu un iekārtu kvalitātes un apkalpošanas līmeni. Norādīto iekārtu un būvizstrādājumu nomaiņa ir iespējama ar citām tehniski ekvivalentām vai labākām iekārtām un būvizstrādājumiem, atbilstoši 1. pielikuma "Tehniskās specifikācijas" 5. daļā "Nosacījumi materiālu izvēlei, apstiprināšanai un nomaiņai/aizstāšanai" noteiktajam. Būvdarbu veicējs dod pilna apjoma cenu piedāvājumu ieskaitot darbus un būvizstrādājumus, kas nav uzrādīti un ir nepieciešami sistēmu montāžai, palaišanai un nodošanai.
A81: Sastādija _______________________________2026. gada __________
A83: Sertifikāta Nr. _____________

Sheet 3_ELT
A1: Lokālā tāme Nr. 3
A2: ELT - Elektroapgāde (ārējā) - apgaismojums
A4: Būves nosaukums | C4: ='Būvniecības koptāme'!D7 -> Rūdolfa Blaumaņa ielas no Baznīcas ielas līdz Ceriņu ielai un Ceriņu ielas no Rūdolfa Blaumaņa ielas līdz Ievu ielai pārbūve
A5: Objekta nosaukums | C5: ='Būvniecības koptāme'!D8 -> Rūdolfa Blaumaņa ielas no Baznīcas ielas līdz Ceriņu ielai un Ceriņu ielas no Rūdolfa Blaumaņa ielas līdz Ievu ielai pārbūve
A6: Objekta adrese | C6: ='Būvniecības koptāme'!D9 -> Rūdolfa Blaumaņa un Ceriņu iela, Jūrmalā
A7: Iepirkuma Nr. | C7: ='Būvniecības koptāme'!D10 -> JVA 2026/70
K8: Tāmes izmaksas | M8: =O87 -> 0
A9: Tāme sastādīta 2026. gada tirgus cenās | K9: Tāme sastādīta 2026. gada _______
A10: Kods | B10: Būvdarbu nosaukums | C10: Mērvienība | D10: Daudzums | E10: Vienības izmaksas | K10: Kopā uz visu apjomu
E11: laika norma (c/h) | F11: darba samaksas likme (euro/h) | G11: darba alga | H11: būvizstrādājumi | I11: mehānismi | J11: Kopā | K11: darbietilpība (c/h) | L11: darba alga | M11: būvizstrā-dājumi | N11: mehānismi | O11: Summa
A13: 1 | B13: 2 | C13: 3 | D13: 4 | E13: 5 | F13: 6 | G13: 7 | H13: 8 | I13: 9 | J13: 10 | K13: 11 | L13: 12 | M13: 13 | N13: 14 | O13: 15
A14: Darbi
A15: 1 | B15: Tranšejas rakšana un aizbēršana ar blietēšanu | C15: m | D15: 800 | G15: =ROUND(E15*F15,2) -> 0 | J15: =SUM(G15+H15+I15) -> 0 | K15: =ROUND(D15*E15,2) -> 0 | L15: =ROUND(D15*G15,2) -> 0 | M15: =ROUND(D15*H15,2) -> 0 | N15: =ROUND(D15*I15,2) -> 0 | O15: =SUM(L15+M15+N15) -> 0
A16: 2 | B16: Gultnes sagatavošana | C16: m | D16: 800 | G16: =ROUND(E16*F16,2) -> 0 | J16: =SUM(G16+H16+I16) -> 0 | K16: =ROUND(D16*E16,2) -> 0 | L16: =ROUND(D16*G16,2) -> 0 | M16: =ROUND(D16*H16,2) -> 0 | N16: =ROUND(D16*I16,2) -> 0 | O16: =SUM(L16+M16+N16) -> 0
A17: 3 | B17: Bedres rakšana un aizbēršana savienojuma uzmavai | C17: gab. | D17: 4 | G17: =ROUND(E17*F17,2) -> 0 | J17: =SUM(G17+H17+I17) -> 0 | K17: =ROUND(D17*E17,2) -> 0 | L17: =ROUND(D17*G17,2) -> 0 | M17: =ROUND(D17*H17,2) -> 0 | N17: =ROUND(D17*I17,2) -> 0 | O17: =SUM(L17+M17+N17) -> 0
A18: 4 | B18: Caurdūriena bedru rakšana | C18: gab. | D18: 10 | G18: =ROUND(E18*F18,2) -> 0 | J18: =SUM(G18+H18+I18) -> 0 | K18: =ROUND(D18*E18,2) -> 0 | L18: =ROUND(D18*G18,2) -> 0 | M18: =ROUND(D18*H18,2) -> 0 | N18: =ROUND(D18*I18,2) -> 0 | O18: =SUM(L18+M18+N18) -> 0
A19: 5 | B19: Caurules EVOCAB FLEX Ø75 guldīšana tranšejā | C19: m | D19: 753 | G19: =ROUND(E19*F19,2) -> 0 | J19: =SUM(G19+H19+I19) -> 0 | K19: =ROUND(D19*E19,2) -> 0 | L19: =ROUND(D19*G19,2) -> 0 | M19: =ROUND(D19*H19,2) -> 0 | N19: =ROUND(D19*I19,2) -> 0 | O19: =SUM(L19+M19+N19) -> 0
A20: 6 | B20: Caurules EVOCAB HARD Ø75 guldīšana tranšejā | C20: m | D20: 342 | G20: =ROUND(E20*F20,2) -> 0 | J20: =SUM(G20+H20+I20) -> 0 | K20: =ROUND(D20*E20,2) -> 0 | L20: =ROUND(D20*G20,2) -> 0 | M20: =ROUND(D20*H20,2) -> 0 | N20: =ROUND(D20*I20,2) -> 0 | O20: =SUM(L20+M20+N20) -> 0
A21: 7 | B21: Caurules EVOCAB STING Ø75 izbūve ar caurdūrienu | C21: m | D21: 153 | G21: =ROUND(E21*F21,2) -> 0 | J21: =SUM(G21+H21+I21) -> 0 | K21: =ROUND(D21*E21,2) -> 0 | L21: =ROUND(D21*G21,2) -> 0 | M21: =ROUND(D21*H21,2) -> 0 | N21: =ROUND(D21*I21,2) -> 0 | O21: =SUM(L21+M21+N21) -> 0
A22: 8 | B22: Kabeļa AXPK 4x25 mm² ievēršana caurulē | C22: m | D22: 1290 | G22: =ROUND(E22*F22,2) -> 0 | J22: =SUM(G22+H22+I22) -> 0 | K22: =ROUND(D22*E22,2) -> 0 | L22: =ROUND(D22*G22,2) -> 0 | M22: =ROUND(D22*H22,2) -> 0 | N22: =ROUND(D22*I22,2) -> 0 | O22: =SUM(L22+M22+N22) -> 0
A23: 9 | B23: Signāllentas uzklāšana | C23: m | D23: 1095 | G23: =ROUND(E23*F23,2) -> 0 | J23: =SUM(G23+H23+I23) -> 0 | K23: =ROUND(D23*E23,2) -> 0 | L23: =ROUND(D23*G23,2) -> 0 | M23: =ROUND(D23*H23,2) -> 0 | N23: =ROUND(D23*I23,2) -> 0 | O23: =SUM(L23+M23+N23) -> 0
A24: 10 | B24: Bedres rakšana apgaismojuma balstiem ar blietēšanu | C24: gab. | D24: 29 | G24: =ROUND(E24*F24,2) -> 0 | J24: =SUM(G24+H24+I24) -> 0 | K24: =ROUND(D24*E24,2) -> 0 | L24: =ROUND(D24*G24,2) -> 0 | M24: =ROUND(D24*H24,2) -> 0 | N24: =ROUND(D24*I24,2) -> 0 | O24: =SUM(L24+M24+N24) -> 0
A25: 11 | B25: Apgaismojuma balsta 8m montāža | C25: kompl. | D25: 29 | G25: =ROUND(E25*F25,2) -> 0 | J25: =SUM(G25+H25+I25) -> 0 | K25: =ROUND(D25*E25,2) -> 0 | L25: =ROUND(D25*G25,2) -> 0 | M25: =ROUND(D25*H25,2) -> 0 | N25: =ROUND(D25*I25,2) -> 0 | O25: =SUM(L25+M25+N25) -> 0
A26: 12 | B26: Termorūkošās caurules montāža apgaismojuma balstam | C26: m | D26: 15 | G26: =ROUND(E26*F26,2) -> 0 | J26: =SUM(G26+H26+I26) -> 0 | K26: =ROUND(D26*E26,2) -> 0 | L26: =ROUND(D26*G26,2) -> 0 | M26: =ROUND(D26*H26,2) -> 0 | N26: =ROUND(D26*I26,2) -> 0 | O26: =SUM(L26+M26+N26) -> 0
... A56: 42 | B56: Dokumentācijas sagatavošana | C56: kompl. | D56: 1 | G56: =ROUND(E56*F56,2) -> 0 | J56: =SUM(G56+H56+I56) -> 0 | K56: =ROUND(D56*E56,2) -> 0 | L56: =ROUND(D56*G56,2) -> 0 | M56: =ROUND(D56*H56,2) -> 0 | N56: =ROUND(D56*I56,2) -> 0 | O56: =SUM(L56+M56+N56) -> 0
A57: Materiāli
A58: 43 | B58: Gaismeklis Micro Martin 60W 16 LEDs, MRUE 060 730 L22 A016_Bin-L_TH ar C NODE10 un DALI draiveri | C58: kompl. | D58: 29 | G58: =ROUND(E58*F58,2) -> 0 | J58: =SUM(G58+H58+I58) -> 0 | K58: =ROUND(D58*E58,2) -> 0 | L58: =ROUND(D58*G58,2) -> 0 | M58: =ROUND(D58*H58,2) -> 0 | N58: =ROUND(D58*I58,2) -> 0 | O58: =SUM(L58+M58+N58) -> 0
A59: 44 | B59: Gaismeklis Micro Martin 37W 16 LEDs, MRUE 037 730 L22 A016_Bin-L_TH ar C NODE10 un DALI draiveri | C59: kompl. | D59: 5 | G59: =ROUND(E59*F59,2) -> 0 | J59: =SUM(G59+H59+I59) -> 0 | K59: =ROUND(D59*E59,2) -> 0 | L59: =ROUND(D59*G59,2) -> 0 | M59: =ROUND(D59*H59,2) -> 0 | N59: =ROUND(D59*I59,2) -> 0 | O59: =SUM(L59+M59+N59) -> 0
A60: 45 | B60: Ielas stabs 8m (6,5m virs zemes) cinkots, konisks, tiešai montāžai zemē | C60: gab. | D60: 29 | G60: =ROUND(E60*F60,2) -> 0 | J60: =SUM(G60+H60+I60) -> 0 | K60: =ROUND(D60*E60,2) -> 0 | L60: =ROUND(D60*G60,2) -> 0 | M60: =ROUND(D60*H60,2) -> 0 | N60: =ROUND(D60*I60,2) -> 0 | O60: =SUM(L60+M60+N60) -> 0
A61: 46 | B61: Konsole L-veida 1.5/1.5/5 (Hv/V/leņķis) cinkota | C61: gab. | D61: 24 | G61: =ROUND(E61*F61,2) -> 0 | J61: =SUM(G61+H61+I61) -> 0 | K61: =ROUND(D61*E61,2) -> 0 | L61: =ROUND(D61*G61,2) -> 0 | M61: =ROUND(D61*H61,2) -> 0 | N61: =ROUND(D61*I61,2) -> 0 | O61: =SUM(L61+M61+N61) -> 0
A62: 47 | B62: Konsole T-veida 1.5/1.5/5 (Hv/V/leņķis) cinkota | C62: gab. | D62: 5 | G62: =ROUND(E62*F62,2) -> 0 | J62: =SUM(G62+H62+I62) -> 0 | K62: =ROUND(D62*E62,2) -> 0 | L62: =ROUND(D62*G62,2) -> 0 | M62: =ROUND(D62*H62,2) -> 0 | N62: =ROUND(D62*I62,2) -> 0 | O62: =SUM(L62+M62+N62) -> 0
A63: 48 | B63: Termorūkošā caurule apgaismojuma balstam | C63: m | D63: 15 | G63: =ROUND(E63*F63,2) -> 0 | J63: =SUM(G63+H63+I63) -> 0 | K63: =ROUND(D63*E63,2) -> 0 | L63: =ROUND(D63*G63,2) -> 0 | M63: =ROUND(D63*H63,2) -> 0 | N63: =ROUND(D63*I63,2) -> 0 | O63: =SUM(L63+M63+N63) -> 0
A64: 49 | B64: Apgaismojuma balsta spaiļu komplekts SV15 | C64: kompl. | D64: 29 | G64: =ROUND(E64*F64,2) -> 0 | J64: =SUM(G64+H64+I64) -> 0 | K64: =ROUND(D64*E64,2) -> 0 | L64: =ROUND(D64*G64,2) -> 0 | M64: =ROUND(D64*H64,2) -> 0 | N64: =ROUND(D64*I64,2) -> 0 | O64: =SUM(L64+M64+N64) -> 0
A65: 50 | B65: Automātiskais slēdzis ~1; 3A "C" mont.uz DIN sliedes | C65: gab. | D65: 34 | G65: =ROUND(E65*F65,2) -> 0 | J65: =SUM(G65+H65+I65) -> 0 | K65: =ROUND(D65*E65,2) -> 0 | L65: =ROUND(D65*G65,2) -> 0 | M65: =ROUND(D65*H65,2) -> 0 | N65: =ROUND(D65*I65,2) -> 0 | O65: =SUM(L65+M65+N65) -> 0
A66: 51 | B66: Kabelis AXPK 4x25 mm² | C66: m | D66: 1397 | G66: =ROUND(E66*F66,2) -> 0 | J66: =SUM(G66+H66+I66) -> 0 | K66: =ROUND(D66*E66,2) -> 0 | L66: =ROUND(D66*G66,2) -> 0 | M66: =ROUND(D66*H66,2) -> 0 | N66: =ROUND(D66*I66,2) -> 0 | O66: =SUM(L66+M66+N66) -> 0
A67: 52 | B67: Kabelis NYM-J 3x1,5 mm² | C67: m | D67: 306 | G67: =ROUND(E67*F67,2) -> 0 | J67: =SUM(G67+H67+I67) -> 0 | K67: =ROUND(D67*E67,2) -> 0 | L67: =ROUND(D67*G67,2) -> 0 | M67: =ROUND(D67*H67,2) -> 0 | N67: =ROUND(D67*I67,2) -> 0 | O67: =SUM(L67+M67+N67) -> 0
A68: 53 | B68: Kabeļa gala apdare EPKT-0015 | C68: kompl. | D68: 78 | G68: =ROUND(E68*F68,2) -> 0 | J68: =SUM(G68+H68+I68) -> 0 | K68: =ROUND(D68*E68,2) -> 0 | L68: =ROUND(D68*G68,2) -> 0 | M68: =ROUND(D68*H68,2) -> 0 | N68: =ROUND(D68*I68,2) -> 0 | O68: =SUM(L68+M68+N68) -> 0
A69: 54 | B69: Caurule EVOCAB FLEX Ø75, 450N | C69: m | D69: 753 | G69: =ROUND(E69*F69,2) -> 0 | J69: =SUM(G69+H69+I69) -> 0 | K69: =ROUND(D69*E69,2) -> 0 | L69: =ROUND(D69*G69,2) -> 0 | M69: =ROUND(D69*H69,2) -> 0 | N69: =ROUND(D69*I69,2) -> 0 | O69: =SUM(L69+M69+N69) -> 0
... A86: 71 | B86: Smilts | C86: m3 | D86: 80 | G86: =ROUND(E86*F86,2) -> 0 | J86: =SUM(G86+H86+I86) -> 0 | K86: =ROUND(D86*E86,2) -> 0 | L86: =ROUND(D86*G86,2) -> 0 | M86: =ROUND(D86*H86,2) -> 0 | N86: =ROUND(D86*I86,2) -> 0 | O86: =SUM(L86+M86+N86) -> 0
A87: Tiešās izmaksas kopā, t.sk. darba devēja sociālais nodoklis 23,59% | K87: =SUM(K15:K86) -> 0 | L87: =SUM(L15:L86) -> 0 | M87: =SUM(M15:M86) -> 0 | N87: =SUM(N15:N86) -> 0 | O87: =SUM(O15:O86) -> 0
A89: Izmaksu aprēķins sastādīts pamatojoties uz Noteikumi par Latvijas būvnormatīvu LBN 501-17 "Būvizmaksu noteikšanas kārtība", būvprojektu, tajā iekļautajām specifikācijām un dažādās sadaļās iekļautos būvdarbu izpildes visus apstākļu raksturojumus. Saskaņā ar Noteikumi par Latvijas būvnormatīvu LBN 501-17 "Būvizmaksu noteikšanas kārtība" noteikto kārtību noteikta kopējā darbietilpība.
A90: Būvizstrādājumu apjomi doti sablīvētā veidā. Lokālajā tāmē minētos darbus veikt atbilstoši būvprojektam un VSIA "Latvijas valts ceļi" aktuālajām - Ceļu specifikācijām 2026. Būvdarbu veicējam jāvērtē visi nepieciešamie darbi, materiāli, būvmašīnas un transports, bez kā nevarētu būt iespējama darba daudzumu sarakstā minēto darbu tehnoloģiski pareiza, Pasūtītāja prasībām atbilstoša izpilde pilnā apjomā. Darba apjomus skatīt kopā ar plānu, profiliem, tehniskajiem risinājumiem un pielikumiem. Izstrādājot piedāvājumu, būvdarbu veicējam rūpīgi pārskatīt projektu, un apjomos jāiekļauj arī neuzrādītie darbi un materiāli, lai kvalitatīvi veiktu būvniecību atbilstoši konkrētā būvdarbu veicēja pielietotajai tehnoloģijai, un bez kuriem nebūtu iespējama būvdarbu tehnoloģiski pareiza un spēkā esošajiem normatīviem atbilstoša veikšana pilnā apjomā.
A91: Visas atsauces uz iekārtu un būvizstrādājumu izgatavotāju firmām, kuras norādītas projektā liecina tikai par šo būvizstrādājumu un iekārtu kvalitātes un apkalpošanas līmeni. Norādīto iekārtu un būvizstrādājumu nomaiņa ir iespējama ar citām tehniski ekvivalentām vai labākām iekārtām un būvizstrādājumiem, atbilstoši 1. pielikuma "Tehniskās specifikācijas" 5. daļā "Nosacījumi materiālu izvēlei, apstiprināšanai un nomaiņai/aizstāšanai" noteiktajam. Būvdarbu veicējs dod pilna apjoma cenu piedāvājumu ieskaitot darbus un būvizstrādājumus, kas nav uzrādīti un ir nepieciešami sistēmu montāžai, palaišanai un nodošanai.
A94: Sastādija _______________________________2026. gada __________
A96: Sertifikāta Nr. _____________
