Workbook

Sheet Būvniecības koptāme
D1: Apstiprinu
D2: ___________________________________
D3: (pasūtītājs, paraksts un tā atšifrējums)
A5: Būvniecības koptāme
A7: Būves nosaukums | D7: Slokas ielas posma pārbūve no Dubultu prospekta līdz izejai uz jūru, Jūrmalā
A8: Objekta nosaukums | D8: Slokas ielas posma pārbūve no Dubultu prospekta līdz izejai uz jūru, Jūrmalā
A9: Objekta adrese | D9: Slokas iela, Jūrmala
A10: Iepirkuma Nr. | D10: JVA 2026/70
B12: Tāme sastādīta 2026.gada __
A13: Nr. p. k. | B13: Objekta nosaukums | F13: Objekta izmaksas (euro)
A15: 1 | B15: 2 | F15: 3
A16: 1 | B16: =D7 -> Slokas ielas posma pārbūve no Dubultu prospekta līdz izejai uz jūru, Jūrmalā | F16: =Kopsavilkums!F19 -> 0
B17: Kopā: | F17: =+F16 -> 0
A19: Finanšu rezerve neparedzētiem darbiem | E19: 0.05 | F19: =ROUND(F17*5%,2) -> 0
A20: Kopā ar finanšu rezervi neparedzētiem darbiem : | F20: =+F19+F17 -> 0
A21: PVN | E21: 0.21 | F21: =ROUND(F20*21%,2) -> 0
A22: Pavisam būvniecības izmaksas | F22: =+F21+F20 -> 0
A26: Sastādija _____________2026. gada __________
A28: Sertifikāta Nr. _____________

Sheet Kopsavilkums
A2: Kopsavilkuma aprēķini par darbu vai konstruktīvo elementu veidiem
A4: Būves nosaukums | D4: ='Būvniecības koptāme'!D7 -> Slokas ielas posma pārbūve no Dubultu prospekta līdz izejai uz jūru, Jūrmalā
A5: Objekta nosaukums | D5: ='Būvniecības koptāme'!D8 -> Slokas ielas posma pārbūve no Dubultu prospekta līdz izejai uz jūru, Jūrmalā
A6: Objekta adrese | D6: ='Būvniecības koptāme'!D9 -> Slokas iela, Jūrmala
A7: Iepirkuma Nr. | D7: ='Būvniecības koptāme'!D10 -> JVA 2026/70
G8: Kopējā darbietilpība, c/h | I8: =+J15 -> 0
C9: Tāme sastādīta 2026.gada __
A11: Nr. p. k. | B11: Lokālā tāmes Nr. | C11: Darba veids vai konstruktīvā elementa nosaukums | F11: Tāmes izmaksas (euro) | G11: Tai skaitā | J11: Darbietilpība (c/h)
G12: darba alga (euro) | H12: materiāli (euro) | I12: mehānismi (euro)
A13: 1 | B13: 1 | C13: ='1_CD'!A2 -> TS-CD - Ceļa darbi | F13: ='1_CD'!P57 -> 0 | G13: ='1_CD'!M57 -> 0 | H13: ='1_CD'!N57 -> 0 | I13: ='1_CD'!O57 -> 0 | J13: ='1_CD'!L57 -> 0
A14: 2 | B14: 2 | C14: ='2_ELT'!A2 -> ELT - Elektroapgāde (ārējā) - apgaismojums | F14: ='2_ELT'!P54 -> 0 | G14: ='2_ELT'!M54 -> 0 | H14: ='2_ELT'!N54 -> 0 | I14: ='2_ELT'!O54 -> 0 | J14: ='2_ELT'!L54 -> 0
A15: Kopā | F15: =SUM(F13:F14) -> 0 | G15: =SUM(G13:G14) -> 0 | H15: =SUM(H13:H14) -> 0 | I15: =SUM(I13:I14) -> 0 | J15: =SUM(J13:J14) -> 0
A16: Virsizdevumi % | E16: 0 | F16: =ROUND(F15*E16,2) -> 0
A17: t.sk. darba aizsardzība | E17: 0 | F17: =+ROUND(F16*E17,2) -> 0
A18: Peļņa % | E18: 0 | F18: =ROUND(F15*E18,2) -> 0
A19: Pavisam kopā | F19: =+F15+F16+F18 -> 0
A24: Sastādija _______________________________2026. gada __________
A26: Sertifikāta Nr. _____________

Sheet 1_CD
A1: Lokālā tāme Nr. 1
A2: TS-CD - Ceļa darbi
A4: Būves nosaukums | D4: ='Būvniecības koptāme'!D7 -> Slokas ielas posma pārbūve no Dubultu prospekta līdz izejai uz jūru, Jūrmalā
A5: Objekta nosaukums | D5: ='Būvniecības koptāme'!D8 -> Slokas ielas posma pārbūve no Dubultu prospekta līdz izejai uz jūru, Jūrmalā
A6: Objekta adrese | D6: ='Būvniecības koptāme'!D9 -> Slokas iela, Jūrmala
A7: Iepirkuma Nr. | D7: ='Būvniecības koptāme'!D10 -> JVA 2026/70
L8: Tāmes izmaksas | N8: =P57 -> 0
A9: Tāme sastādīta 2026. gada tirgus cenās | L9: Tāme sastādīta 2026. gada _______
A10: N.P.K. | B10: Kods | C10: Būvdarbu nosaukums | D10: Mērvienība | E10: Daudzums | F10: Vienības izmaksas | L10: Kopā uz visu apjomu
F11: laika norma (c/h) | G11: darba samaksas likme (euro/h) | H11: darba alga | I11: būvizstrādājumi | J11: mehānismi | K11: Kopā | L11: darbietilpība (c/h) | M11: darba alga | N11: būvizstrā-dājumi | O11: mehānismi | P11: Summa
A13: 1 | B13: 2 | C13: 3 | D13: 4 | E13: 5 | F13: 6 | G13: 7 | H13: 8 | I13: 9 | J13: 10 | K13: 11 | L13: 12 | M13: 13 | N13: 14 | O13: 15 | P13: 16
A14: 1 | B14: 35-00000 | C14: Uzmērīšana un nospraušana | D14: m | E14: 276 | H14: =ROUND(F14*G14,2) -> 0 | K14: =SUM(H14+I14+J14) -> 0 | L14: =ROUND(E14*F14,2) -> 0 | M14: =ROUND(E14*H14,2) -> 0 | N14: =ROUND(E14*I14,2) -> 0 | O14: =ROUND(E14*J14,2) -> 0 | P14: =SUM(M14+N14+O14) -> 0
A15: 2 | B15: 35-00000 | C15: Betona apmaļu demontāža un deponēšana | D15: m | E15: 100 | H15: =ROUND(F15*G15,2) -> 0 | K15: =SUM(H15+I15+J15) -> 0 | L15: =ROUND(E15*F15,2) -> 0 | M15: =ROUND(E15*H15,2) -> 0 | N15: =ROUND(E15*I15,2) -> 0 | O15: =ROUND(E15*J15,2) -> 0 | P15: =SUM(M15+N15+O15) -> 0
A16: 3 | B16: 35-00000 | C16: Betona plātņu demontāža un deponēšana | D16: m2 | E16: 205 | H16: =ROUND(F16*G16,2) -> 0 | K16: =SUM(H16+I16+J16) -> 0 | L16: =ROUND(E16*F16,2) -> 0 | M16: =ROUND(E16*H16,2) -> 0 | N16: =ROUND(E16*I16,2) -> 0 | O16: =ROUND(E16*J16,2) -> 0 | P16: =SUM(M16+N16+O16) -> 0
A17: 4 | B17: 35-00000 | C17: Šķerltā laukakmens demontāža | D17: m2 | E17: 75 | H17: =ROUND(F17*G17,2) -> 0 | K17: =SUM(H17+I17+J17) -> 0 | L17: =ROUND(E17*F17,2) -> 0 | M17: =ROUND(E17*H17,2) -> 0 | N17: =ROUND(E17*I17,2) -> 0 | O17: =ROUND(E17*J17,2) -> 0 | P17: =SUM(M17+N17+O17) -> 0
A18: 5 | B18: 35-00000 | C18: Asfaltbetona segas frēzēšana, hvid = 10cm un nogādāšana uz būvuzņēmēja atbērtni | D18: m2 | E18: 15 | H18: =ROUND(F18*G18,2) -> 0 | K18: =SUM(H18+I18+J18) -> 0 | L18: =ROUND(E18*F18,2) -> 0 | M18: =ROUND(E18*H18,2) -> 0 | N18: =ROUND(E18*I18,2) -> 0 | O18: =ROUND(E18*J18,2) -> 0 | P18: =SUM(M18+N18+O18) -> 0
A19: 6 | B19: 35-00000 | C19: Asfaltbetona segas nojaukšana, h=vid 10cm un deponēšana | D19: m2 | E19: 1575 | H19: =ROUND(F19*G19,2) -> 0 | K19: =SUM(H19+I19+J19) -> 0 | L19: =ROUND(E19*F19,2) -> 0 | M19: =ROUND(E19*H19,2) -> 0 | N19: =ROUND(E19*I19,2) -> 0 | O19: =ROUND(E19*J19,2) -> 0 | P19: =SUM(M19+N19+O19) -> 0
A20: 7 | B20: 35-00000 | C20: Komunikāciju aku vāku pārbūve un regulēšana seguma līmenī (aku vāku pārbūve uz peldošā tipa vākiem (transporta slodzei atbilstošo) | D20: gab. | E20: 22 | H20: =ROUND(F20*G20,2) -> 0 | K20: =SUM(H20+I20+J20) -> 0 | L20: =ROUND(E20*F20,2) -> 0 | M20: =ROUND(E20*H20,2) -> 0 | N20: =ROUND(E20*I20,2) -> 0 | O20: =ROUND(E20*J20,2) -> 0 | P20: =SUM(M20+N20+O20) -> 0
A21: 8 | B21: 35-00000 | C21: Gāzu kapu nomaiņa un līmeņošana, izmantojot "peldoša" tipa kapi | D21: gab. | E21: 3 | H21: =ROUND(F21*G21,2) -> 0 | K21: =SUM(H21+I21+J21) -> 0 | L21: =ROUND(E21*F21,2) -> 0 | M21: =ROUND(E21*H21,2) -> 0 | N21: =ROUND(E21*I21,2) -> 0 | O21: =ROUND(E21*J21,2) -> 0 | P21: =SUM(M21+N21+O21) -> 0
A22: 9 | B22: 35-00000 | C22: Koku ciršana un celmu raušana | D22: gab. | E22: 11 | H22: =ROUND(F22*G22,2) -> 0 | K22: =SUM(H22+I22+J22) -> 0 | L22: =ROUND(E22*F22,2) -> 0 | M22: =ROUND(E22*H22,2) -> 0 | N22: =ROUND(E22*I22,2) -> 0 | O22: =ROUND(E22*J22,2) -> 0 | P22: =SUM(M22+N22+O22) -> 0
A23: 10 | B23: 35-00000 | C23: Liekās grunts aizvešana un izlīdzināšana | D23: m3 | E23: 1025 | H23: =ROUND(F23*G23,2) -> 0 | K23: =SUM(H23+I23+J23) -> 0 | L23: =ROUND(E23*F23,2) -> 0 | M23: =ROUND(E23*H23,2) -> 0 | N23: =ROUND(E23*I23,2) -> 0 | O23: =ROUND(E23*J23,2) -> 0 | P23: =SUM(M23+N23+O23) -> 0
A24: 11 | B24: 35-00000 | C24: Zemes klātnes būvniecība | D24: m2 | E24: 1575 | H24: =ROUND(F24*G24,2) -> 0 | K24: =SUM(H24+I24+J24) -> 0 | L24: =ROUND(E24*F24,2) -> 0 | M24: =ROUND(E24*H24,2) -> 0 | N24: =ROUND(E24*I24,2) -> 0 | O24: =ROUND(E24*J24,2) -> 0 | P24: =SUM(M24+N24+O24) -> 0
A25: 12 | B25: 35-00000 | C25: Apzaļumošana un nogāžu nostiprināšana (10cm) | D25: m2 | E25: 730 | H25: =ROUND(F25*G25,2) -> 0 | K25: =SUM(H25+I25+J25) -> 0 | L25: =ROUND(E25*F25,2) -> 0 | M25: =ROUND(E25*H25,2) -> 0 | N25: =ROUND(E25*I25,2) -> 0 | O25: =ROUND(E25*J25,2) -> 0 | P25: =SUM(M25+N25+O25) -> 0
... A56: 89 | B56: 35-00000 | C56: Digitālā uzmērīšana un izpilddokumentācijas sagatavošana | D56: kompl. | E56: 1 | H56: =ROUND(F56*G56,2) -> 0 | K56: =SUM(H56+I56+J56) -> 0 | L56: =ROUND(E56*F56,2) -> 0 | M56: =ROUND(E56*H56,2) -> 0 | N56: =ROUND(E56*I56,2) -> 0 | O56: =ROUND(E56*J56,2) -> 0 | P56: =SUM(M56+N56+O56) -> 0
A57: Tiešās izmaksas kopā, t.sk. darba devēja sociālais nodoklis 23,59% | L57: =SUM(L14:L56) -> 0 | M57: =SUM(M14:M56) -> 0 | N57: =SUM(N14:N56) -> 0 | O57: =SUM(O14:O56) -> 0 | P57: =SUM(P14:P56) -> 0
A59: Izmaksu aprēķins sastādīts pamatojoties uz Noteikumi par Latvijas būvnormatīvu LBN 501-17 "Būvizmaksu noteikšanas kārtība", būvprojektu, tajā iekļautajām specifikācijām un dažādās sadaļās iekļautos būvdarbu izpildes visus apstākļu raksturojumus. Saskaņā ar Noteikumi par Latvijas būvnormatīvu LBN 501-17 "Būvizmaksu noteikšanas kārtība" noteikto kārtību noteikta kopējā darbietilpība.
A60: Būvizstrādājumu apjomi doti sablīvētā veidā. Lokālajā tāmē minētos darbus veikt atbilstoši būvprojektam un VSIA "Latvijas valts ceļi" aktuālajām - Ceļu specifikācijām 2026. Būvdarbu veicējam jāvērtē visi nepieciešamie darbi, materiāli, būvmašīnas un transports, bez kā nevarētu būt iespējama darba daudzumu sarakstā minēto darbu tehnoloģiski pareiza, Pasūtītāja prasībām atbilstoša izpilde pilnā apjomā. Darba apjomus skatīt kopā ar plānu, profiliem, tehniskajiem risinājumiem un pielikumiem. Izstrādājot piedāvājumu, būvdarbu veicējam rūpīgi pārskatīt projektu, un apjomos jāiekļauj arī neuzrādītie darbi un materiāli, lai kvalitatīvi veiktu būvniecību atbilstoši konkrētā būvdarbu veicēja pielietotajai tehnoloģijai, un bez kuriem nebūtu iespējama būvdarbu tehnoloģiski pareiza un spēkā esošajiem normatīviem atbilstoša veikšana pilnā apjomā.
A61: Visas atsauces uz iekārtu un būvizstrādājumu izgatavotāju firmām, kuras norādītas projektā liecina tikai par šo būvizstrādājumu un iekārtu kvalitātes un apkalpošanas līmeni. Norādīto iekārtu un būvizstrādājumu nomaiņa ir iespējama ar citām tehniski ekvivalentām vai labākām iekārtām un būvizstrādājumiem, atbilstoši 1. pielikuma "Tehniskās specifikācijas" 5. daļā "Nosacījumi materiālu izvēlei, apstiprināšanai un nomaiņai/aizstāšanai" noteiktajam. Būvdarbu veicējs dod pilna apjoma cenu piedāvājumu ieskaitot darbus un būvizstrādājumus, kas nav uzrādīti un ir nepieciešami sistēmu montāžai, palaišanai un nodošanai.
A63: Sastādija _______________________________2026. gada __________
A65: Sertifikāta Nr. _____________

Sheet 2_ELT
A1: Lokālā tāme Nr. 2
A2: ELT - Elektroapgāde (ārējā) - apgaismojums
A4: Būves nosaukums | D4: ='Būvniecības koptāme'!D7 -> Slokas ielas posma pārbūve no Dubultu prospekta līdz izejai uz jūru, Jūrmalā
A5: Objekta nosaukums | D5: ='Būvniecības koptāme'!D8 -> Slokas ielas posma pārbūve no Dubultu prospekta līdz izejai uz jūru, Jūrmalā
A6: Objekta adrese | D6: ='Būvniecības koptāme'!D9 -> Slokas iela, Jūrmala
A7: Iepirkuma Nr. | D7: ='Būvniecības koptāme'!D10 -> JVA 2026/70
L8: Tāmes izmaksas | N8: =P54 -> 0
A9: Tāme sastādīta 2026. gada tirgus cenās | L9: Tāme sastādīta 2026. gada _______
A10: N.P.K. | B10: Kods | C10: Būvdarbu nosaukums | D10: Mērvienība | E10: Daudzums | F10: Vienības izmaksas | L10: Kopā uz visu apjomu
F11: laika norma (c/h) | G11: darba samaksas likme (euro/h) | H11: darba alga | I11: būvizstrādājumi | J11: mehānismi | K11: Kopā | L11: darbietilpība (c/h) | M11: darba alga | N11: būvizstrā-dājumi | O11: mehānismi | P11: Summa
A13: 1 | B13: 2 | C13: 3 | D13: 4 | E13: 5 | F13: 6 | G13: 7 | H13: 8 | I13: 9 | J13: 10 | K13: 11 | L13: 12 | M13: 13 | N13: 14 | O13: 15 | P13: 16
A14: Darbs
A15: 1 | B15: 22-00000 | C15: Kabeļu trases nospraušana | D15: m | E15: 291 | H15: =ROUND(F15*G15,2) -> 0 | K15: =SUM(H15+I15+J15) -> 0 | L15: =ROUND(E15*F15,2) -> 0 | M15: =ROUND(E15*H15,2) -> 0 | N15: =ROUND(E15*I15,2) -> 0 | O15: =ROUND(E15*J15,2) -> 0 | P15: =SUM(M15+N15+O15) -> 0
A16: 2 | B16: 22-00000 | C16: Tranšejas rakšana un aizbēršana 1-3 kabeļu (caurules) guldīšanai 0,7m | D16: m | E16: 299 | H16: =ROUND(F16*G16,2) -> 0 | K16: =SUM(H16+I16+J16) -> 0 | L16: =ROUND(E16*F16,2) -> 0 | M16: =ROUND(E16*H16,2) -> 0 | N16: =ROUND(E16*I16,2) -> 0 | O16: =ROUND(E16*J16,2) -> 0 | P16: =SUM(M16+N16+O16) -> 0
A17: 3 | B17: 22-00000 | C17: Kabeļu aizsargcaurules d līdz110mm iegūldīšana gatavā tranšejā | D17: m | E17: 326 | H17: =ROUND(F17*G17,2) -> 0 | K17: =SUM(H17+I17+J17) -> 0 | L17: =ROUND(E17*F17,2) -> 0 | M17: =ROUND(E17*H17,2) -> 0 | N17: =ROUND(E17*I17,2) -> 0 | O17: =ROUND(E17*J17,2) -> 0 | P17: =SUM(M17+N17+O17) -> 0
A18: 4 | B18: 22-00000 | C18: Dubultās konsoles uzstādīšana | D18: gab. | E18: 1 | H18: =ROUND(F18*G18,2) -> 0 | K18: =SUM(H18+I18+J18) -> 0 | L18: =ROUND(E18*F18,2) -> 0 | M18: =ROUND(E18*H18,2) -> 0 | N18: =ROUND(E18*I18,2) -> 0 | O18: =ROUND(E18*J18,2) -> 0 | P18: =SUM(M18+N18+O18) -> 0
A19: 5 | B19: 22-00000 | C19: Kabeļu ievēršana caurulē | D19: m | E19: 332 | H19: =ROUND(F19*G19,2) -> 0 | K19: =SUM(H19+I19+J19) -> 0 | L19: =ROUND(E19*F19,2) -> 0 | M19: =ROUND(E19*H19,2) -> 0 | N19: =ROUND(E19*I19,2) -> 0 | O19: =ROUND(E19*J19,2) -> 0 | P19: =SUM(M19+N19+O19) -> 0
A20: 6 | B20: 22-00000 | C20: ZS kabeļu līdz 25mm2 gala apdare | D20: gab. | E20: 17 | H20: =ROUND(F20*G20,2) -> 0 | K20: =SUM(H20+I20+J20) -> 0 | L20: =ROUND(E20*F20,2) -> 0 | M20: =ROUND(E20*H20,2) -> 0 | N20: =ROUND(E20*I20,2) -> 0 | O20: =ROUND(E20*J20,2) -> 0 | P20: =SUM(M20+N20+O20) -> 0
A21: 7 | B21: 22-00000 | C21: Apgaismojuma staba montāža (ieskaitot bedres izrakšana un aizbēršana, staba un konsoles montāža, staba un konsoles vietas hermetizācija, staba hermetizācija) | D21: gab. | E21: 8 | H21: =ROUND(F21*G21,2) -> 0 | K21: =SUM(H21+I21+J21) -> 0 | L21: =ROUND(E21*F21,2) -> 0 | M21: =ROUND(E21*H21,2) -> 0 | N21: =ROUND(E21*I21,2) -> 0 | O21: =ROUND(E21*J21,2) -> 0 | P21: =SUM(M21+N21+O21) -> 0
A22: 8 | B22: 22-00000 | C22: Gaismekļu LED ar C NODE 10 montāža stabos | D22: gab. | E22: 9 | H22: =ROUND(F22*G22,2) -> 0 | K22: =SUM(H22+I22+J22) -> 0 | L22: =ROUND(E22*F22,2) -> 0 | M22: =ROUND(E22*H22,2) -> 0 | N22: =ROUND(E22*I22,2) -> 0 | O22: =ROUND(E22*J22,2) -> 0 | P22: =SUM(M22+N22+O22) -> 0
A23: 9 | B23: 22-00000 | C23: Kabeļu 3x1,5 montāža stabos | D23: kompl. | E23: 9 | H23: =ROUND(F23*G23,2) -> 0 | K23: =SUM(H23+I23+J23) -> 0 | L23: =ROUND(E23*F23,2) -> 0 | M23: =ROUND(E23*H23,2) -> 0 | N23: =ROUND(E23*I23,2) -> 0 | O23: =ROUND(E23*J23,2) -> 0 | P23: =SUM(M23+N23+O23) -> 0
A24: 10 | B24: 22-00000 | C24: Spailes SV15 montāža stabos | D24: kompl. | E24: 9 | H24: =ROUND(F24*G24,2) -> 0 | K24: =SUM(H24+I24+J24) -> 0 | L24: =ROUND(E24*F24,2) -> 0 | M24: =ROUND(E24*H24,2) -> 0 | N24: =ROUND(E24*I24,2) -> 0 | O24: =ROUND(E24*J24,2) -> 0 | P24: =SUM(M24+N24+O24) -> 0
A25: 11 | B25: 22-00000 | C25: Automātslēdža montāža stabos | D25: kompl. | E25: 9 | H25: =ROUND(F25*G25,2) -> 0 | K25: =SUM(H25+I25+J25) -> 0 | L25: =ROUND(E25*F25,2) -> 0 | M25: =ROUND(E25*H25,2) -> 0 | N25: =ROUND(E25*I25,2) -> 0 | O25: =ROUND(E25*J25,2) -> 0 | P25: =SUM(M25+N25+O25) -> 0
A26: 12 | B26: 22-00000 | C26: Apgaismes koka balstu demontāža 7 | D26: gab. | E26: 7 | H26: =ROUND(F26*G26,2) -> 0 | K26: =SUM(H26+I26+J26) -> 0 | L26: =ROUND(E26*F26,2) -> 0 | M26: =ROUND(E26*H26,2) -> 0 | N26: =ROUND(E26*I26,2) -> 0 | O26: =ROUND(E26*J26,2) -> 0 | P26: =SUM(M26+N26+O26) -> 0
A27: 13 | B27: 22-00000 | C27: Kabeļu uzmavas montāža | D27: gab. | E27: 1 | H27: =ROUND(F27*G27,2) -> 0 | K27: =SUM(H27+I27+J27) -> 0 | L27: =ROUND(E27*F27,2) -> 0 | M27: =ROUND(E27*H27,2) -> 0 | N27: =ROUND(E27*I27,2) -> 0 | O27: =ROUND(E27*J27,2) -> 0 | P27: =SUM(M27+N27+O27) -> 0
B28: 22-00000 | C28: Atsaites montāža | D28: gab. | E28: 1 | H28: =ROUND(F28*G28,2) -> 0 | K28: =SUM(H28+I28+J28) -> 0 | L28: =ROUND(E28*F28,2) -> 0 | M28: =ROUND(E28*H28,2) -> 0 | N28: =ROUND(E28*I28,2) -> 0 | O28: =ROUND(E28*J28,2) -> 0 | P28: =SUM(M28+N28+O28) -> 0
A29: 14 | B29: 22-00000 | C29: EPL nospraušana | D29: m | E29: 291 | H29: =ROUND(F29*G29,2) -> 0 | K29: =SUM(H29+I29+J29) -> 0 | L29: =ROUND(E29*F29,2) -> 0 | M29: =ROUND(E29*H29,2) -> 0 | N29: =ROUND(E29*I29,2) -> 0 | O29: =ROUND(E29*J29,2) -> 0 | P29: =SUM(M29+N29+O29) -> 0
A30: 15 | B30: 22-00000 | C30: EPL digitālā uzmērīšana un izpilddokumentācijas sagatavošana | D30: obj. | E30: 1 | H30: =ROUND(F30*G30,2) -> 0 | K30: =SUM(H30+I30+J30) -> 0 | L30: =ROUND(E30*F30,2) -> 0 | M30: =ROUND(E30*H30,2) -> 0 | N30: =ROUND(E30*I30,2) -> 0 | O30: =ROUND(E30*J30,2) -> 0 | P30: =SUM(M30+N30+O30) -> 0
A31: Materiāli
A32: 15 | B32: 22-00000 | C32: Gaismeklis TAKTON VIKING LED 54W 4000K IP66, DKS752 740I | D32: gab. | E32: 9 | H32: =ROUND(F32*G32,2) -> 0 | K32: =SUM(H32+I32+J32) -> 0 | L32: =ROUND(E32*F32,2) -> 0 | M32: =ROUND(E32*H32,2) -> 0 | N32: =ROUND(E32*I32,2) -> 0 | O32: =ROUND(E32*J32,2) -> 0 | P32: =SUM(M32+N32+O32) -> 0
A33: 16 | B33: 22-00000 | C33: Iekārta vadības bloks C NODE 10RF | D33: gab. | E33: 9 | H33: =ROUND(F33*G33,2) -> 0 | K33: =SUM(H33+I33+J33) -> 0 | L33: =ROUND(E33*F33,2) -> 0 | M33: =ROUND(E33*H33,2) -> 0 | N33: =ROUND(E33*I33,2) -> 0 | O33: =ROUND(E33*J33,2) -> 0 | P33: =SUM(M33+N33+O33) -> 0
A34: 17 | B34: 22-00000 | C34: Apgaismes stabs cinkots konisks H=8m | D34: gab. | E34: 8 | H34: =ROUND(F34*G34,2) -> 0 | K34: =SUM(H34+I34+J34) -> 0 | L34: =ROUND(E34*F34,2) -> 0 | M34: =ROUND(E34*H34,2) -> 0 | N34: =ROUND(E34*I34,2) -> 0 | O34: =ROUND(E34*J34,2) -> 0 | P34: =SUM(M34+N34+O34) -> 0
A35: 18 | B35: 22-00000 | C35: Cinkota konsole stabam vienžubura h=1,5m r=1,5m | D35: gab. | E35: 8 | H35: =ROUND(F35*G35,2) -> 0 | K35: =SUM(H35+I35+J35) -> 0 | L35: =ROUND(E35*F35,2) -> 0 | M35: =ROUND(E35*H35,2) -> 0 | N35: =ROUND(E35*I35,2) -> 0 | O35: =ROUND(E35*J35,2) -> 0 | P35: =SUM(M35+N35+O35) -> 0
A36: 19 | B36: 22-00000 | C36: Cinkota konsole stabam divžubura h=1,5m r=1,5m | D36: gab. | E36: 1 | H36: =ROUND(F36*G36,2) -> 0 | K36: =SUM(H36+I36+J36) -> 0 | L36: =ROUND(E36*F36,2) -> 0 | M36: =ROUND(E36*H36,2) -> 0 | N36: =ROUND(E36*I36,2) -> 0 | O36: =ROUND(E36*J36,2) -> 0 | P36: =SUM(M36+N36+O36) -> 0
A37: 20 | B37: 22-00000 | C37: Kabelis AXPK-4x25 | D37: m | E37: 163 | H37: =ROUND(F37*G37,2) -> 0 | K37: =SUM(H37+I37+J37) -> 0 | L37: =ROUND(E37*F37,2) -> 0 | M37: =ROUND(E37*H37,2) -> 0 | N37: =ROUND(E37*I37,2) -> 0 | O37: =ROUND(E37*J37,2) -> 0 | P37: =SUM(M37+N37+O37) -> 0
A38: 21 | B38: 22-00000 | C38: Kabelis AXPK-4x10 | D38: m | E38: 181 | H38: =ROUND(F38*G38,2) -> 0 | K38: =SUM(H38+I38+J38) -> 0 | L38: =ROUND(E38*F38,2) -> 0 | M38: =ROUND(E38*H38,2) -> 0 | N38: =ROUND(E38*I38,2) -> 0 | O38: =ROUND(E38*J38,2) -> 0 | P38: =SUM(M38+N38+O38) -> 0
A39: 22 | B39: 22-00000 | C39: Kabelis MMJ-3x1,5 | D39: m | E39: 90 | H39: =ROUND(F39*G39,2) -> 0 | K39: =SUM(H39+I39+J39) -> 0 | L39: =ROUND(E39*F39,2) -> 0 | M39: =ROUND(E39*H39,2) -> 0 | N39: =ROUND(E39*I39,2) -> 0 | O39: =ROUND(E39*J39,2) -> 0 | P39: =SUM(M39+N39+O39) -> 0
A40: 23 | B40: 22-00000 | C40: Caurule, gofrēta , 450N,d=75 | D40: m | E40: 164 | H40: =ROUND(F40*G40,2) -> 0 | K40: =SUM(H40+I40+J40) -> 0 | L40: =ROUND(E40*F40,2) -> 0 | M40: =ROUND(E40*H40,2) -> 0 | N40: =ROUND(E40*I40,2) -> 0 | O40: =ROUND(E40*J40,2) -> 0 | P40: =SUM(M40+N40+O40) -> 0
A41: 24 | B41: 22-00000 | C41: Caurule, gofrēta , 750N,d=75 | D41: m | E41: 24 | H41: =ROUND(F41*G41,2) -> 0 | K41: =SUM(H41+I41+J41) -> 0 | L41: =ROUND(E41*F41,2) -> 0 | M41: =ROUND(E41*H41,2) -> 0 | N41: =ROUND(E41*I41,2) -> 0 | O41: =ROUND(E41*J41,2) -> 0 | P41: =SUM(M41+N41+O41) -> 0
A42: 25 | B42: 22-00000 | C42: Caurule, gofrēta , 750N,d=110 | D42: m | E42: 134 | H42: =ROUND(F42*G42,2) -> 0 | K42: =SUM(H42+I42+J42) -> 0 | L42: =ROUND(E42*F42,2) -> 0 | M42: =ROUND(E42*H42,2) -> 0 | N42: =ROUND(E42*I42,2) -> 0 | O42: =ROUND(E42*J42,2) -> 0 | P42: =SUM(M42+N42+O42) -> 0
A43: 26 | B43: 22-00000 | C43: Caurule, gofrēta , 750N,d=160 | D43: m | E43: 4 | H43: =ROUND(F43*G43,2) -> 0 | K43: =SUM(H43+I43+J43) -> 0 | L43: =ROUND(E43*F43,2) -> 0 | M43: =ROUND(E43*H43,2) -> 0 | N43: =ROUND(E43*I43,2) -> 0 | O43: =ROUND(E43*J43,2) -> 0 | P43: =SUM(M43+N43+O43) -> 0
... A46: 29 | B46: 22-00000 | C46: Termonosēdcaurule d=66 | D46: m | E46: 1 | H46: =ROUND(F46*G46,2) -> 0 | K46: =SUM(H46+I46+J46) -> 0 | L46: =ROUND(E46*F46,2) -> 0 | M46: =ROUND(E46*H46,2) -> 0 | N46: =ROUND(E46*I46,2) -> 0 | O46: =ROUND(E46*J46,2) -> 0 | P46: =SUM(M46+N46+O46) -> 0
B47: 22-00000 | C47: Termonosēdcaurule d=180 | D47: m | E47: 3 | H47: =ROUND(F47*G47,2) -> 0 | K47: =SUM(H47+I47+J47) -> 0 | L47: =ROUND(E47*F47,2) -> 0 | M47: =ROUND(E47*H47,2) -> 0 | N47: =ROUND(E47*I47,2) -> 0 | O47: =ROUND(E47*J47,2) -> 0 | P47: =SUM(M47+N47+O47) -> 0
A48: 30 | B48: 22-00000 | C48: Brīdinājuma lenta | D48: m | E48: 300 | H48: =ROUND(F48*G48,2) -> 0 | K48: =SUM(H48+I48+J48) -> 0 | L48: =ROUND(E48*F48,2) -> 0 | M48: =ROUND(E48*H48,2) -> 0 | N48: =ROUND(E48*I48,2) -> 0 | O48: =ROUND(E48*J48,2) -> 0 | P48: =SUM(M48+N48+O48) -> 0
A49: 31 | B49: 22-00000 | C49: Automātslēdzis 1C4A/ 230V | D49: gab. | E49: 9 | H49: =ROUND(F49*G49,2) -> 0 | K49: =SUM(H49+I49+J49) -> 0 | L49: =ROUND(E49*F49,2) -> 0 | M49: =ROUND(E49*H49,2) -> 0 | N49: =ROUND(E49*I49,2) -> 0 | O49: =ROUND(E49*J49,2) -> 0 | P49: =SUM(M49+N49+O49) -> 0
A50: 32 | B50: 22-00000 | C50: Kabeļgala apdare | D50: gab. | E50: 17 | H50: =ROUND(F50*G50,2) -> 0 | K50: =SUM(H50+I50+J50) -> 0 | L50: =ROUND(E50*F50,2) -> 0 | M50: =ROUND(E50*H50,2) -> 0 | N50: =ROUND(E50*I50,2) -> 0 | O50: =ROUND(E50*J50,2) -> 0 | P50: =SUM(M50+N50+O50) -> 0
A51: 33 | B51: 22-00000 | C51: Atsiate stabam | D51: kompl. | E51: 1 | H51: =ROUND(F51*G51,2) -> 0 | K51: =SUM(H51+I51+J51) -> 0 | L51: =ROUND(E51*F51,2) -> 0 | M51: =ROUND(E51*H51,2) -> 0 | N51: =ROUND(E51*I51,2) -> 0 | O51: =ROUND(E51*J51,2) -> 0 | P51: =SUM(M51+N51+O51) -> 0
A52: 34 | B52: 22-00000 | C52: Distances naglas SO-71 | D52: gab. | E52: 7 | H52: =ROUND(F52*G52,2) -> 0 | K52: =SUM(H52+I52+J52) -> 0 | L52: =ROUND(E52*F52,2) -> 0 | M52: =ROUND(E52*H52,2) -> 0 | N52: =ROUND(E52*I52,2) -> 0 | O52: =ROUND(E52*J52,2) -> 0 | P52: =SUM(M52+N52+O52) -> 0
A53: 35 | B53: 22-00000 | C53: Kabeļu uzmava SMH4 16-50 | D53: kompl. | E53: 1 | H53: =ROUND(F53*G53,2) -> 0 | K53: =SUM(H53+I53+J53) -> 0 | L53: =ROUND(E53*F53,2) -> 0 | M53: =ROUND(E53*H53,2) -> 0 | N53: =ROUND(E53*I53,2) -> 0 | O53: =ROUND(E53*J53,2) -> 0 | P53: =SUM(M53+N53+O53) -> 0
A54: Tiešās izmaksas kopā, t.sk. darba devēja sociālais nodoklis 23,59% | L54: =SUM(L15:L53) -> 0 | M54: =SUM(M15:M53) -> 0 | N54: =SUM(N15:N53) -> 0 | O54: =SUM(O15:O53) -> 0 | P54: =SUM(P15:P53) -> 0
A56: Izmaksu aprēķins sastādīts pamatojoties uz Noteikumi par Latvijas būvnormatīvu LBN 501-17 "Būvizmaksu noteikšanas kārtība", būvprojektu, tajā iekļautajām specifikācijām un dažādās sadaļās iekļautos būvdarbu izpildes visus apstākļu raksturojumus. Saskaņā ar Noteikumi par Latvijas būvnormatīvu LBN 501-17 "Būvizmaksu noteikšanas kārtība" noteikto kārtību noteikta kopējā darbietilpība.
A57: Būvizstrādājumu apjomi doti sablīvētā veidā. Lokālajā tāmē minētos darbus veikt atbilstoši būvprojektam un VSIA "Latvijas valts ceļi" aktuālajām - Ceļu specifikācijām 2026. Būvdarbu veicējam jāvērtē visi nepieciešamie darbi, materiāli, būvmašīnas un transports, bez kā nevarētu būt iespējama darba daudzumu sarakstā minēto darbu tehnoloģiski pareiza, Pasūtītāja prasībām atbilstoša izpilde pilnā apjomā. Darba apjomus skatīt kopā ar plānu, profiliem, tehniskajiem risinājumiem un pielikumiem. Izstrādājot piedāvājumu, būvdarbu veicējam rūpīgi pārskatīt projektu, un apjomos jāiekļauj arī neuzrādītie darbi un materiāli, lai kvalitatīvi veiktu būvniecību atbilstoši konkrētā būvdarbu veicēja pielietotajai tehnoloģijai, un bez kuriem nebūtu iespējama būvdarbu tehnoloģiski pareiza un spēkā esošajiem normatīviem atbilstoša veikšana pilnā apjomā.
A58: Visas atsauces uz iekārtu un būvizstrādājumu izgatavotāju firmām, kuras norādītas projektā liecina tikai par šo būvizstrādājumu un iekārtu kvalitātes un apkalpošanas līmeni. Norādīto iekārtu un būvizstrādājumu nomaiņa ir iespējama ar citām tehniski ekvivalentām vai labākām iekārtām un būvizstrādājumiem, atbilstoši 1. pielikuma "Tehniskās specifikācijas" 5. daļā "Nosacījumi materiālu izvēlei, apstiprināšanai un nomaiņai/aizstāšanai" noteiktajam. Būvdarbu veicējs dod pilna apjoma cenu piedāvājumu ieskaitot darbus un būvizstrādājumus, kas nav uzrādīti un ir nepieciešami sistēmu montāžai, palaišanai un nodošanai.
A60: Sastādija _______________________________2026. gada __________
A62: Sertifikāta Nr. _____________
