Workbook

Sheet Koptame
D1: APSTIPRINU
C4: (pasūtītājs, paraksts un tā atšifrējums)
D6: Z.v.
C8: 2023. gada ______ . ______________________
A10: Koptāme
A12: Būves nosaukums: | C12: Ūdensvada izbūvē Rīgā, Kalvenes ielā, Kursīšu ielā, Kurmenes ielā
A13: Būves adrese: | C13: Ūdensvada izbūvē Rīgā, Kalvenes ielā, Kursīšu ielā, Kurmenes ielā
A14: Pasūtījuma Nr.
A17: Nr.p.k. | B17: Objekta Nr. | C17: Objekta nosaukums | D17: Objekta izmaksas (euro)
A19: 1 | B19: 1 | C19: Ūdensvada izbūvē Rīgā, Kabiles ielā un Kurmales ielā | D19: =Kops!D20 -> 0
A20: 2 | B20: 2 | C20: Maksa par transporta būvju izmantošanu saskaņā ar Rīgas domes 12.07.2023. lēmumu Nr.RD-23-2771-lē "Par nomas maksas noteikšanu par ceļa elementu lietošanu Rīgas valstspilsētas pašvaldības administratīvajā teritorijā".
C21: Kopā | D21: =D20+D19 -> 0
C22: PVN 21% | D22: =ROUND(D21*21%,2) -> 0
C24: KOPĀ AR PVN | D24: =D21+D22 -> 0
B28: Sastādīja
C29: (paraksts un tā atšifrējums, datums)
B32: Pārbaudīja
C33: (paraksts un tā atšifrējums, datums)
B34: Sertifikāta Nr.

Sheet Kops
A1: Kopsavilkuma aprēķins pa darbu veidiem
A3: Būves nosaukums: | C3: Ūdensvada tīkla izbūves Rīgā, Kabiles ielā no Sīpeles ielas līdz Kabiles ielai 23, Kabiles ielā no Kabiles ielas 14 līdz Cēres ielai, Kabiles ielā no Bramberģes ielas 19 līdz Codes ielai, Kurmales ielā no Kurmales ielas 18 līdz Sārtes ielai, Kurmales ielā no Kurmales ielas 12 līdz Sējas ielai, Kurmales ielā no Kurmales ielas 3 līdz Cēres ielai
A4: Objekta nosaukums: | C4: Ūdensvada tīkla izbūves Rīgā, Kabiles ielā no Sīpeles ielas līdz Kabiles ielai 23, Kabiles ielā no Kabiles ielas 14 līdz Cēres ielai, Kabiles ielā no Bramberģes ielas 19 līdz Codes ielai, Kurmales ielā no Kurmales ielas 18 līdz Sārtes ielai, Kurmales ielā no Kurmales ielas 12 līdz Sējas ielai, Kurmales ielā no Kurmales ielas 3 līdz Cēres ielai
A5: Objekta adrese: | C5: Ūdensvada izbūvē Rīgā, Kabiles ielā, Kurmales ielā
A6: Pasūtījuma Nr.
A7: Par kopējo summu, euro | D7: =D20 -> 0
A8: Kopējā darbietilpība, c/st | D8: =H16 -> 0
A11: Nr.p.k. | B11: Kods, tāmes Nr. | C11: Būvdarbu veids vai konstruktīvā elementa nosaukums | D11: Tāmes izmaksas (euro) | E11: Tai skaitā | H11: Darbietilpība (c/h)
E12: Darba alga (euro) | F12: Būvizstrādājumi (euro) | G12: Mehānismi (euro)
A14: 1 | B14: 1-3 posms | C14: UKT - Kabiles iela | D14: =E14+F14+G14 -> 0 | E14: ='2212_BA_UKT 1-3.posmi_Kabiles'!L118 -> 0 | F14: ='2212_BA_UKT 1-3.posmi_Kabiles'!M118 -> 0 | G14: ='2212_BA_UKT 1-3.posmi_Kabiles'!N118 -> 0 | H14: ='2212_BA_UKT 1-3.posmi_Kabiles'!K118 -> 0
A15: 2 | B15: 4-6 posms | C15: UKT - Kurmales iela | D15: =E15+F15+G15 -> 0 | E15: ='2212_BA_UKT 4-6.posmi_Kurmales'!L77 -> 0 | F15: ='2212_BA_UKT 4-6.posmi_Kurmales'!M77 -> 0 | G15: ='2212_BA_UKT 4-6.posmi_Kurmales'!N77 -> 0 | H15: ='2212_BA_UKT 4-6.posmi_Kurmales'!K77 -> 0
C16: Kopā | D16: =D15+D14 -> 0 | E16: =E14+E15 -> 0 | F16: =F14+F15 -> 0 | G16: =G14+G15 -> 0 | H16: =H14+H15 -> 0
C17: Virsizdevumi____ % | D17: =ROUND(D16*B17,2) -> 0
C18: t.sk. darba aizsardzībai | D18: =ROUND(D17*B18,2) -> 0
C19: Peļņa____ % | D19: =ROUND(D16*B19,2) -> 0
C20: PAVISAM KOPĀ | D20: =D19+D17+D16 -> 0
B23: Sastādīja
C24: (paraksts un tā atšifrējums, datums)
B27: Pārbaudīja
C28: (paraksts un tā atšifrējums, datums)
B29: Sertifikāta Nr.
A33: Piezīmes: 1. Finanšu piedāvājumā aprēķinus jāveic formulās ar noapaļojumu divi cipari aiz komata (jāizmanto funkcija “round”). 2. Finanšu piedāvājumā vienības cenas darba algas izmaksas aprēķinu jāveic pēc formulas “laika norma x stundas likme = alga”. 3. Finanšu piedāvājumā katras pozīcijas darba algas, būvizstrādājumu un mehānismu kopējās izmaksas aprēķinu jāveic pēc formulas “kopējais apjoms x vienības izmaksas”. 4. Finanšu piedāvājumā jāiekļauj darbaspēka, būvizstrādājumu, mehānismu un visu citu iespējamo Darbu izpildes izdevumu izmaksas. Pretendents nav tiesīgs Finanšu piedāvājuma tāmi papildināt ar jaunām izmaksu pozīcijām vai dzēst esošās izmaksu pozīcijas. 5. Sagatavojot Finanšu piedāvājumu, Pretendentam ir jāņem vērā, ka būvdarbu izpildei nepieciešamos materiālus (būvizstrādājumus) – lūku pārsedzes (tikai ķeta elementus) un kapes (komplektā ar apakšējo atbalsta plātni) ar SIA “Rīgas ūdens” logo – nodrošina Pasūtītājs. Pretendentam Finanšu piedāvājumā šo materiālu izmaksas jāparedz EUR 0,00 vērtībā.

Sheet 2212_BA_UKT 1-3.posmi_Kabiles
A1: Lokālā tāme Nr. 1
A2: Būvdarbu apjomi - Kabiles iela (1.-3. posms)
A3: Objekts: | C3: Ūdensvada tīkla izbūves Rīgā, Kabiles ielā no Sīpeles ielas līdz Kabiles ielai 23, Kabiles ielā no Kabiles ielas 14 līdz Cēres ielai, Kabiles ielā no Bramberģes ielas 19 līdz Codes ielai, Kurmales ielā no Kurmales ielas 18 līdz Sārtes ielai, Kurmales ielā no Kurmales ielas 12 līdz Sējas ielai, Kurmales ielā no Kurmales ielas 3 līdz Cēres ielai
A4: Objekta adrese: | C4: Rīgā, Kabiles ielā no Sīpeles ielas līdz Kabiles ielai 23, Kabiles ielā no Kabiles ielas 14 līdz Cēres ielai un Kabiles ielā no Bramberģes ielas 19 līdz Codes ielai
A5: Pasūtījuma Nr.:
A7: Nr.p.k. | B7: Darba nosaukums | C7: Mērvienība | D7: Daudzums | E7: Vienības izmaksas | K7: Kopā uz visu apjomu
E8: Laika norma (c/h) | F8: Darba samaksas likme (EUR/h) | G8: Darba alga (EUR) | H8: Būvizstrādājumi (EUR) | I8: Mehānismi (EUR) | J8: Kopā (EUR) | K8: Laika norma (c/h) | L8: Darba alga (EUR) | M8: Būvizstrādājumi (EUR) | N8: Mehānismi (EUR) | O8: Summa (EUR)
B9: BŪVLAUKUMA SAGATAVOŠANA
A10: 1 | B10: Būvlaukuma aprīkošana, uzturēšana un satiksmes organizācija (saskaņā ar BP DOP daļu) | C10: kpl. | D10: 3
B11: ŪDENSVADS
B12: CAURUĻVADI
B13: Polietilēna PE100-RC elektrometināmas ūdensvada caurules OD160 (PN10, atbilstošas LVS EN 12201-2, ar integrētu aizsargslāni, ar iestrādātu signāl-stiepli identifikācijai) montāža un iebūve būvgrāvī - ieskaitot spiediena pārbaudi, skalošanu un dezinfekciju
A14: =A10+1 -> 2 | B14: Dziļums 0 - 2.0 m | C14: m | D14: 58.7
B15: Polietilēna PE100-RC elektrometināmas ūdensvada caurules OD110 (PN10, atbilstošas LVS EN 12201-2, ar integrētu aizsargslāni, ar iestrādātu signāl-stiepli identifikācijai) montāža un iebūve būvgrāvī - ieskaitot spiediena pārbaudi, skalošanu un dezinfekciju
A16: =1+A14 -> 3 | B16: Dziļums 0 - 2.0 m | C16: m | D16: 89.3
B17: Polietilēna PE100 elektrometināmas ūdensvada caurules OD32 (PN10, atbilstošas LVS EN 12201-2) montāža un iebūve būvgrāvī - ieskaitot spiediena pārbaudi, skalošanu un dezinfekciju
A18: =1+A16 -> 4 | B18: Dziļums 0 - 2.0 m | C18: m | D18: 3.4
B19: ARMATŪRA UN VEIDGABALI
B20: Pazemes tipa atloku aizbīdnis (PN10) ar peldošo kapi, montāža
A21: =A18+1 -> 5 | B21: DN250 mm | C21: gb. | D21: 1
A22: =A21+1 -> 6 | B22: DN200 mm | C22: gb. | D22: 3
A23: =A22+1 -> 7 | B23: DN150 mm | C23: gb. | D23: 1
A24: =A23+1 -> 8 | B24: DN100 mm | C24: gb. | D24: 5
B25: Pazemes tipa apkalpes ventīlis ar vienu galu noturīgu uz stiepi PE caurules pievienojumam, otru - ar ārējo vītni, , fiksēta garuma pagarinātājkātu un peldošu kapi(PN10), montāža
A26: =A24+1 -> 9 | B26: DN25 mm | C26: gb. | D26: 1
B27: Kaļamā ķeta atloku trejgabals, PN10, montāža
A28: =A26+1 -> 10 | B28: DN250/150 mm | C28: gb. | D28: 1
A29: =A28+1 -> 11 | B29: DN200/100 mm | C29: gb. | D29: 2
A30: =A29+1 -> 12 | B30: DN100/100 mm | C30: gb. | D30: 1
B31: Izjaucams atloku savienojums, PN10, montāža
A32: =A30+1 -> 13 | B32: DN250 | C32: gb. | D32: 2
A33: =A32+1 -> 14 | B33: DN200 | C33: gb. | D33: 2
B34: Enkurojoša pievienojuma un remonta dubultuzmava (dažādu un/vai vienādu materiālu cauruļu savienošanai), PN10, montāža
A35: =A33+1 -> 15 | B35: DN250 mm | C35: gb. | D35: 2
A36: =A35+1 -> 16 | B36: DN200 mm | C36: gb. | D36: 2
A37: =A36+1 -> 17 | B37: DN150 mm | C37: gb. | D37: 1
A38: =A37+1 -> 18 | B38: DN100 mm | C38: gb. | D38: 4
B39: Kaļamā ķeta īscaurule ar atloku, PN10, montāža
A40: =A38+1 -> 19 | B40: DN250 | C40: gb. | D40: 2
A41: =A40+1 -> 20 | B41: DN200 | C41: gb. | D41: 2
A42: =A41+1 -> 21 | B42: DN100 | C42: gb. | D42: 2
B43: PE īscaurule ar atloka pamatni un tērauda rotējošu atloku, PN10, montāža
A44: =A42+1 -> 22 | B44: OD160 | C44: gb. | D44: 1
A45: =A44+1 -> 23 | B45: OD110 | C45: gb. | D45: 5
B46: Elektrometināma dubultuzmava, PN10, montāža
A47: =A45+1 -> 24 | B47: OD110 | C47: gb. | D47: 2
B48: PE elektrometināms līknis, PN10, montāža
A49: =A47+1 -> 25 | B49: OD110, 45° | C49: gb. | D49: 2
B50: PE segmentveida līknis, PN10, montāža
A51: =A49+1 -> 26 | B51: OD110, 20° | C51: gb. | D51: 1
B52: Elektrometināms PE sedls PE caurulēm ar iekšējo vītni apkalpes ventīļa pievienošanai, PN10, montāža
A53: =A51+1 -> 27 | B53: OD110/DN25 mm | C53: gb. | D53: 1
A54: =A53+1 -> 28 | B54: PE noslēgtapa OD32, PN10, montāža | C54: gb. | D54: 1
B55: ZEMES DARBI
A56: =A54+1 -> 29 | B56: Tranšejas rakšana | C56: m³ | D56: 333.6
A57: =A56+1 -> 30 | B57: Cauruļvada izlīdzinošās kārtas izbūve | C57: m³ | D57: 7
A58: =A57+1 -> 31 | B58: Cauruļvada apbēruma izbūve | C58: m³ | D58: 54.9
A59: =A58+1 -> 32 | B59: Tranšejas aizbēršana ar pievestu grunti, blietējot pa kārtām | C59: m³ | D59: 172.8
A60: =A59+1 -> 33 | B60: Liekās grunts transports uz atbērtni | C60: m³ | D60: 333.6
B61: DAŽĀDI
A62: =A60+1 -> 34 | B62: Tranšejas sienu stiprināšana | C62: m | D62: 151.4
A63: =A62+1 -> 35 | B63: Gruntsūdens līmeņa pazemināšana | C63: m | D63: 151.4
A64: =A63+1 -> 36 | B64: Esošā atloku aizbīdņa DN250 pārbūve (izrakšana un pārvietošana pie projektējamā trejgabala) | C64: gb. | D64: 1
B65: Šķērsojumi ar esošajām inženierkomunikācijām:
A66: =A64+1 -> 37 | B66: Vidēja sprieguma elektrokabeli aizsargcaurulē | C66: vieta | D66: 4
A67: =A66+1 -> 38 | B67: Zemsprieguma elektrokabeli aizsargcaurulē | C67: vieta | D67: 3
A68: =A67+1 -> 39 | B68: Nedarbojošu zemsprieguma elektrokabeli aizsargcaurulē | C68: vieta | D68: 2
A69: =A68+1 -> 40 | B69: Tukšu aizsargcauruli | C69: vieta | D69: 3
A70: =A69+1 -> 41 | B70: Vidēja spiediena gāzes vadu | C70: vieta | D70: 4
A71: =A70+1 -> 42 | B71: Esošo kanalizācijas vadu | C71: vieta | D71: 1
B72: Demontāža
A73: =A71+1 -> 43 | B73: Esošā ūdensvada d150mm noslēgatloka demontāža | C73: gb. | D73: 1
A74: =A73+1 -> 44 | B74: Esošā ūdensvada d100mm noslēgatloka demontāža | C74: gb. | D74: 2
A75: =A74+1 -> 45 | B75: Esošā ūdensvada d250mm demontāža | C75: m | D75: 1.5
A76: =A75+1 -> 46 | B76: Esošā ūdensvada d200mm demontāža | C76: m | D76: 2
A77: =A76+1 -> 47 | B77: Esošā ūdensvada d100mm demontāža | C77: m | D77: 2
A78: =A77+1 -> 48 | B78: Esošā ūdensvada aizbīdņa un ta kapes demontāža | C78: gb. | D78: 3
B79: Pieslēgumi esošām komunikācijām
A80: =A78+1 -> 49 | B80: Pieslēgums esošajam ūdensvadam d250 ar projektējamo OD160 cauruļvadu | C80: vieta | D80: 1
A81: =A80+1 -> 50 | B81: Pieslēgums esošajam ūdensvadam d200 ar projektējamo OD110 cauruļvadu | C81: vieta | D81: 2
A82: =A81+1 -> 51 | B82: Pieslēgums esošajam ūdensvadam d150 ar projektējamo OD160 cauruļvadu | C82: vieta | D82: 1
A83: =A82+1 -> 52 | B83: Pieslēgums esošajam ūdensvadam d100 ar projektējamo OD110 cauruļvadu | C83: vieta | D83: 4
B84: Citi materiāli
A85: =A83+1 -> 53 | B85: Betona C25/30 balsta izbūve | C85: m³ | D85: 2.43
A86: =A85+1 -> 54 | B86: Brīdinājuma lentas izbūve virs ūdensvada | C86: m | D86: 151.4
A87: =A86+1 -> 55 | B87: Signālkabeļa ar piekļuves punktiem zem aizbīdņu kapēm izbūve | C87: m | D87: =3.4+7*4 -> 31.4
A88: =A87+1 -> 56 | B88: PE caurules OD 110 mm posma siltumizolācijas montāža. Divdaļīga putupolistirola čaula 50 mm biezums. L=3x1.2m. | C88: m | D88: 3.6
A89: =A88+1 -> 57 | B89: Signālstabiņa uzstādīšana | C89: gb. | D89: 1
A90: =A89+1 -> 58 | B90: Aizbīdņu plāksnīšu uzstādīšana | C90: gb. | D90: 10
A91: =A90+1 -> 59 | B91: Izpildmērījumu un izpilddokumentācijas sagatavošana | C91: kpl. | D91: 1
B92: CEĻA DARBI
B93: DAŽĀDI DARBI
A94: =A91+1 -> 60 | B94: Trases izspraušana un nostiprināšana dabā | C94: m | D94: 151.4
A95: =A94+1 -> 61 | B95: Asfalta seguma frēzēšana vidēji 4cm biezumā 2A. SEGAS TIPAM un transportēšana uz būvdarbu veicēja atbērtni | C95: m² | D95: 80
A96: =A95+1 -> 62 | B96: Asfalta seguma frēzēšana vidēji 6cm biezumā 2A. SEGAS TIPAM un transportēšana uz būvdarbu veicēja atbērtni (pēc dilumkārtas frēzēšanas) | C96: m² | D96: 32.4
A97: =A96+1 -> 63 | B97: Asfalta seguma frēzēšana vai nojaukšana tranšejas platumā 2A. SEGAS TIPAM un transportēšana uz būvdarbu veicēja atbērtni (pēc dilumkārtas un saistes kārtas frēzēšanas) | C97: m² | D97: 11.3
A98: =A97+1 -> 64 | B98: Asfalta seguma frēzēšana vai nojaukšana vidēji 5cm biezumā 3B. SEGAS TIPAM un transportēšana uz būvdarbu veicēja atbērtni | C98: m² | D98: 702.8
B100: ZEMES KLĀTNE
A101: =A98+1 -> 65 | B101: Augu zemes noņemšana vidēji 20cm biezumā un transportēšana uz būvdarbu veicēja atbērtni | C101: m2 | D101: 4
A102: =A101+1 -> 66 | B102: Apzaļumošana ar augu zemi 20cm biezumā | C102: m2 | D102: 4
...

Sheet 2212_BA_UKT 4-6.posmi_Kurmales
A1: Lokālā tāme Nr. 2
A2: Būvdarbu apjomi - Kurmales iela (4.-6. posms)
A3: Objekts: | C3: Ūdensvada tīkla izbūves Rīgā, Kabiles ielā no Sīpeles ielas līdz Kabiles ielai 23, Kabiles ielā no Kabiles ielas 14 līdz Cēres ielai, Kabiles ielā no Bramberģes ielas 19 līdz Codes ielai, Kurmales ielā no Kurmales ielas 18 līdz Sārtes ielai, Kurmales ielā no Kurmales ielas 12 līdz Sējas ielai, Kurmales ielā no Kurmales ielas 3 līdz Cēres ielai
A4: Objekta adrese: | C4: Rīgā, Kurmales ielā no Kurmales ielas 18 līdz Sārtes ielai, Kurmales ielā no Kurmales ielas 12 līdz Sējas ielai un Kurmales ielā no Kurmales ielas 3 līdz Cēres ielai
A5: Pasūtījuma Nr.:
A7: Nr.p.k. | B7: Darba nosaukums | C7: Mērvienība | D7: Daudzums | E7: Vienības izmaksas | K7: Kopā uz visu apjomu
E8: Laika norma (c/h) | F8: Darba samaksas likme (EUR/h) | G8: Darba alga (EUR) | H8: Būvizstrādājumi (EUR) | I8: Mehānismi (EUR) | J8: Kopā (EUR) | K8: Laika norma (c/h) | L8: Darba alga (EUR) | M8: Būvizstrādājumi (EUR) | N8: Mehānismi (EUR) | O8: Summa (EUR)
B9: BŪVLAUKUMA SAGATAVOŠANA
A10: 1 | B10: Būvlaukuma aprīkošana, uzturēšana un satiksmes organizācija (saskaņā ar BP DOP daļu) | C10: kpl. | D10: 3
B11: ŪDENSVADS
B12: CAURUĻVADI
A13: =A10+1 -> 2 | B13: Polietilēna PE100-RC elektrometināmas ūdensvada caurules OD110 (PN10, atbilstošas LVS EN 12201-2, ar integrētu aizsargslāni, ar iestrādātu signāl-stiepli identifikācijai) montāža un iebūve būvgrāvī - ieskaitot spiediena pārbaudi, skalošanu un dezinfekciju | C13: m | D13: 95.6
A14: =A13+1 -> 3 | B14: Polietilēna PE100 elektrometināmas ūdensvada caurules OD32 (PN10, atbilstošas LVS EN 12201-2)montāža un iebūve būvgrāvī - ieskaitot spiediena pārbaudi, skalošanu un dezinfekciju | C14: m | D14: 4.9
B15: ARMATŪRA UN VEIDGABALI
B16: Pazemes tipa atloku aizbīdnis (PN10) ar peldošo kapi, montāža
A17: =A14+1 -> 4 | B17: DN200 mm | C17: gb. | D17: 3
A18: =A17+1 -> 5 | B18: DN100 mm | C18: gb. | D18: 2
B19: Pazemes tipa apkalpes ventīlis ar vienu galu noturīgu uz stiepi PE caurules pievienojumam, otru - ar ārējo vītni, , fiksēta garuma pagarinātājkātu un peldošu kapi(PN10) , montāža
A20: =A18+1 -> 6 | B20: DN25 mm | C20: gb. | D20: 1
B21: Kaļamā ķeta atloku trejgabals, PN10, montāža
A22: =A20+1 -> 7 | B22: DN200/100 mm | C22: gb. | D22: 2
B23: Izjaucams atloku savienojums, PN10, montāža
A24: =A22+1 -> 8 | B24: DN200 | C24: gb. | D24: 3
B25: Enkurojoša pievienojuma un remonta dubultuzmava (dažādu un/vai vienādu materiālu cauruļu savienošanai), PN10, montāža
A26: =A24+1 -> 9 | B26: DN200 mm | C26: gb. | D26: 4
A27: =A26+1 -> 10 | B27: DN100 mm | C27: gb. | D27: 3
B28: Kaļamā ķeta īscaurule ar atloku, PN10, montāža
A29: =A27+1 -> 11 | B29: DN200 | C29: gb. | D29: 4
B30: PE īscaurule ar atloka pamatni un tērauda rotējošu atloku, PN10, montāža
A31: =A29+1 -> 12 | B31: OD110 | C31: gb. | D31: 3
B32: PE elektrometināms līknis, PN10, montāža
A33: =A31+1 -> 13 | B33: OD110, 45° | C33: gb. | D33: 4
B34: Elektrometināms PE sedls PE caurulēm ar iekšējo vītni apkalpes ventīļa pievienošanai, PN10, montāža
A35: =A33+1 -> 14 | B35: OD110/DN25 mm | C35: gb. | D35: 1
A36: =A35+1 -> 15 | B36: PE noslēgtapa OD32, PN10, montāža | C36: gb. | D36: 1
B37: ZEMES DARBI
A38: =A36+1 -> 16 | B38: Tranšejas rakšana | C38: m³ | D38: 230.1
A39: =A38+1 -> 17 | B39: Cauruļvada izlīdzinošās kārtas izbūve | C39: m³ | D39: 4.7
A40: =A39+1 -> 18 | B40: Cauruļvada apbēruma izbūve | C40: m³ | D40: 37.2
A41: =A40+1 -> 19 | B41: Tranšejas aizbēršana ar pievestu grunti, blietējot pa kārtām | C41: m³ | D41: 127.7
A42: =A41+1 -> 20 | B42: Liekās grunts transportēšana uz atbērtni | C42: m³ | D42: 230.1
B43: DAŽĀDI
A44: =A42+1 -> 21 | B44: Tranšejas sienu stiprināšana | C44: m | D44: 100.5
A45: =A44+1 -> 22 | B45: Gruntsūdens līmeņa pazemināšana | C45: m | D45: 100.5
B46: Šķērsojumi ar esošajām inženierkomunikācijām:
A47: =A45+1 -> 23 | B47: Zemsprieguma elektrokabeli aizsargcaurulē | C47: vieta | D47: 3
A48: =A47+1 -> 24 | B48: Tukšu aizsargcauruli | C48: vieta | D48: 2
A49: =A48+1 -> 25 | B49: Vidēja spiediena gāzes vadu | C49: vieta | D49: 2
B50: Demontāža
A51: =A49+1 -> 26 | B51: Esošā ūdensvada d100mm noslēgatloka demontāža | C51: gb. | D51: 4
A52: =A51+1 -> 27 | B52: Esošā ūdensvada d200mm demontāža | C52: m | D52: 3
B53: Pieslēgumi esošām komunikācijām
A54: =A52+1 -> 28 | B54: Pieslēgums esošajam ūdensvadam d200 ar projektējamo DN200 cauruļvadu | C54: vieta | D54: 2
A55: =A54+1 -> 29 | B55: Pieslēgums esošajam ūdensvadam d100 ar projektējamo OD110 cauruļvadu | C55: vieta | D55: 4
B56: Citi materiāli
A57: =A55+1 -> 30 | B57: Betona C25/30 balsta izbūve | C57: m³ | D57: 1.22
A58: =A57+1 -> 31 | B58: Dalītās plastikāta caurules OD110, 750N esošā "Sadales Tīkls" kabeļa aizsardzībai izbūve | C58: m | D58: 4
A59: =A58+1 -> 32 | B59: Brīdinājuma lentas izbūve virs ūdensvada | C59: m | D59: 100.5
A60: =A59+1 -> 33 | B60: Signālkabeļa ar piekļuves punktiem zem aizbīdņu kapēm izbūve | C60: m | D60: =5*4 -> 20
A61: =A60+1 -> 34 | B61: Signālstabiņa uzstādīšana | C61: gb. | D61: 1
A62: =A61+1 -> 35 | B62: Aizbīdņu plāksnīšu uzstādīšana | C62: gb. | D62: 5
A63: =A62+1 -> 36 | B63: Izpildmērījumu un izpilddokumentācijas sagatavošana | C63: kpl. | D63: 1
B64: CEĻA DARBI
B65: DAŽĀDI DARBI
A66: =A63+1 -> 37 | B66: Trases izspraušana un nostiprināšana dabā | C66: m | D66: =D44 -> 100.5
A67: =A66+1 -> 38 | B67: Asfalta seguma frēzēšana vai nojaukšana vidēji 5cm biezumā 3B. SEGAS TIPAM un transportēšana uz būvdarbu veicēja atbērtni | C67: m² | D67: 536.1
B68: AR SAISTVIELĀM NESAISTĪTAS KONSTRUKTĪVĀS KĀRTAS
A69: =A67+1 -> 39 | B69: Salizturīgās kārtas būvniecība 30cm biezumā (nestspēja ≥60MPa) | C69: m2 | D69: 110.4
A70: =A69+1 -> 40 | B70: Nesaistītu minerālmateriālu maisījuma 0/56 pamata nesošās apakškārtas būvniecība 10cm biezumā (N-IV klase) | C70: m2 | D70: 110.4
A71: =A70+1 -> 41 | B71: Nesaistītu minerālmateriālu maisījuma 0/45 pamata nesošās virskārtas būvniecība 10cm biezumā (N-III klase) | C71: m2 | D71: 110.4
A72: =A71+1 -> 42 | B72: Nesaistītu Minerālmateriālu maisījuma 0/32s vai 0/16 grants nomales būvniecība 10cm biezumā | C72: m2 | D72: 64
A73: =A72+1 -> 43 | B73: Esošā nesaistītu minerālmateriālu maisījuma 0/32s seguma profilešāna un planēšana 10cm biezumā | C73: m2 | D73: 8.2
B74: AR SAISTVIELĀM SAISTĪTAS KONSTRUKTĪVĀS KĀRTAS
A75: =A73+1 -> 44 | B75: Karstā asfalta dilumkārtas AC 11 surf būvniecība 5cm biezumā | C75: m2 | D75: 536.1
B77: Tiešās izmaksas kopā, t. sk. darba devēja sociālais nodoklis 23.59% | J77: =SUM(J10:J76) -> 0 | K77: =SUM(K10:K76) -> 0 | L77: =SUM(L10:L76) -> 0 | M77: =SUM(M10:M76) -> 0 | N77: =SUM(N10:N76) -> 0 | O77: =SUM(L77:N77) -> 0
A79: Piezīmes: 1. Finanšu piedāvājumā aprēķinus jāveic formulās ar noapaļojumu divi cipari aiz komata (jāizmanto funkcija “round”). 2. Finanšu piedāvājumā vienības cenas darba algas izmaksas aprēķinu jāveic pēc formulas “laika norma x stundas likme = alga”. 3. Finanšu piedāvājumā katras pozīcijas darba algas, būvizstrādājumu un mehānismu kopējās izmaksas aprēķinu jāveic pēc formulas “kopējais apjoms x vienības izmaksas”. 4. Finanšu piedāvājumā jāiekļauj darbaspēka, būvizstrādājumu, mehānismu un visu citu iespējamo Darbu izpildes izdevumu izmaksas. Pretendents nav tiesīgs Finanšu piedāvājuma tāmi papildināt ar jaunām izmaksu pozīcijām vai dzēst esošās izmaksu pozīcijas. 5. Sagatavojot Finanšu piedāvājumu, Pretendentam ir jāņem vērā, ka būvdarbu izpildei nepieciešamos materiālus (būvizstrādājumus) – lūku pārsedzes (tikai ķeta elementus) un kapes (komplektā ar apakšējo atbalsta plātni) ar SIA “Rīgas ūdens” logo – nodrošina Pasūtītājs. Pretendentam Finanšu piedāvājumā šo materiālu izmaksas jāparedz EUR 0,00 vērtībā.
A81: Sastādīja
B82: (paraksts un tā atšifrējums, datums)
A85: Pārbaudīja
B86: (paraksts un tā atšifrējums, datums)
A87: Sertifikāta Nr.
