Workbook

Sheet Koptame
D1: APSTIPRINU
C4: (pasūtītājs, paraksts un tā atšifrējums)
D6: Z.v.
C8: 2023. gada ______ . ______________________
A10: Koptāme
A12: Būves nosaukums: | C12: Ūdensvada izbūvē Rīgā, Kalvenes ielā, Kursīšu ielā, Kurmenes ielā
A13: Būves adrese: | C13: Ūdensvada izbūvē Rīgā, Kalvenes ielā, Kursīšu ielā, Kurmenes ielā
A14: Pasūtījuma Nr.
A17: Nr.p.k. | B17: Objekta Nr. | C17: Objekta nosaukums | D17: Objekta izmaksas (euro)
A19: 1 | B19: 1 | C19: Ūdensvada izbūvē Rīgā, Kabiles ielā un Kurmales ielā | D19: =Kops!D20 -> 0
A20: 2 | B20: 2 | C20: Maksa par transporta būvju izmantošanu saskaņā ar Rīgas domes 12.07.2023. lēmumu Nr.RD-23-2771-lē "Par nomas maksas noteikšanu par ceļa elementu lietošanu Rīgas valstspilsētas pašvaldības administratīvajā teritorijā".
C21: Kopā | D21: =D20+D19 -> 0
C22: PVN 21% | D22: =ROUND(D21*21%,2) -> 0
C24: KOPĀ AR PVN | D24: =D21+D22 -> 0
B28: Sastādīja
C29: (paraksts un tā atšifrējums, datums)
B32: Pārbaudīja
C33: (paraksts un tā atšifrējums, datums)
B34: Sertifikāta Nr.

Sheet Kops
A1: Kopsavilkuma aprēķins pa darbu veidiem
A3: Būves nosaukums: | C3: Ūdensvada tīkla izbūves Rīgā, Kabiles ielā no Sīpeles ielas līdz Kabiles ielai 23, Kabiles ielā no Kabiles ielas 14 līdz Cēres ielai, Kabiles ielā no Bramberģes ielas 19 līdz Codes ielai, Kurmales ielā no Kurmales ielas 18 līdz Sārtes ielai, Kurmales ielā no Kurmales ielas 12 līdz Sējas ielai, Kurmales ielā no Kurmales ielas 3 līdz Cēres ielai
A4: Objekta nosaukums: | C4: Ūdensvada tīkla izbūves Rīgā, Kabiles ielā no Sīpeles ielas līdz Kabiles ielai 23, Kabiles ielā no Kabiles ielas 14 līdz Cēres ielai, Kabiles ielā no Bramberģes ielas 19 līdz Codes ielai, Kurmales ielā no Kurmales ielas 18 līdz Sārtes ielai, Kurmales ielā no Kurmales ielas 12 līdz Sējas ielai, Kurmales ielā no Kurmales ielas 3 līdz Cēres ielai
A5: Objekta adrese: | C5: Ūdensvada izbūvē Rīgā, Kabiles ielā, Kurmales ielā
A6: Pasūtījuma Nr.
A7: Par kopējo summu, euro | D7: =D20 -> 0
A8: Kopējā darbietilpība, c/st | D8: =H16 -> 0
A11: Nr.p.k. | B11: Kods, tāmes Nr. | C11: Būvdarbu veids vai konstruktīvā elementa nosaukums | D11: Tāmes izmaksas (euro) | E11: Tai skaitā | H11: Darbietilpība (c/h)
E12: Darba alga (euro) | F12: Būvizstrādājumi (euro) | G12: Mehānismi (euro)
A14: 1 | B14: 1-3 posms | C14: UKT - Kabiles iela | D14: =E14+F14+G14 -> 0 | E14: ='2212_BA_UKT 1-3.posmi_Kabiles'!L118 -> 0 | F14: ='2212_BA_UKT 1-3.posmi_Kabiles'!M118 -> 0 | G14: ='2212_BA_UKT 1-3.posmi_Kabiles'!N118 -> 0 | H14: ='2212_BA_UKT 1-3.posmi_Kabiles'!K118 -> 0
A15: 2 | B15: 4-6 posms | C15: UKT - Kurmales iela | D15: =E15+F15+G15 -> 0 | E15: ='2212_BA_UKT 4-6.posmi_Kurmales'!L77 -> 0 | F15: ='2212_BA_UKT 4-6.posmi_Kurmales'!M77 -> 0 | G15: ='2212_BA_UKT 4-6.posmi_Kurmales'!N77 -> 0 | H15: ='2212_BA_UKT 4-6.posmi_Kurmales'!K77 -> 0
C16: Kopā | D16: =D15+D14 -> 0 | E16: =E14+E15 -> 0 | F16: =F14+F15 -> 0 | G16: =G14+G15 -> 0 | H16: =H14+H15 -> 0
C17: Virsizdevumi____ % | D17: =ROUND(D16*B17,2) -> 0
C18: t.sk. darba aizsardzībai | D18: =ROUND(D17*B18,2) -> 0
C19: Peļņa____ % | D19: =ROUND(D16*B19,2) -> 0
C20: PAVISAM KOPĀ | D20: =D19+D17+D16 -> 0
B23: Sastādīja
C24: (paraksts un tā atšifrējums, datums)
B27: Pārbaudīja
C28: (paraksts un tā atšifrējums, datums)
B29: Sertifikāta Nr.
A33: Piezīmes: 1. Finanšu piedāvājumā aprēķinus jāveic formulās ar noapaļojumu divi cipari aiz komata (jāizmanto funkcija “round”). 2. Finanšu piedāvājumā vienības cenas darba algas izmaksas aprēķinu jāveic pēc formulas “laika norma x stundas likme = alga”. 3. Finanšu piedāvājumā katras pozīcijas darba algas, būvizstrādājumu un mehānismu kopējās izmaksas aprēķinu jāveic pēc formulas “kopējais apjoms x vienības izmaksas”. 4. Finanšu piedāvājumā jāiekļauj darbaspēka, būvizstrādājumu, mehānismu un visu citu iespējamo Darbu izpildes izdevumu izmaksas. Pretendents nav tiesīgs Finanšu piedāvājuma tāmi papildināt ar jaunām izmaksu pozīcijām vai dzēst esošās izmaksu pozīcijas. 5. Sagatavojot Finanšu piedāvājumu, Pretendentam ir jāņem vērā, ka būvdarbu izpildei nepieciešamos materiālus (būvizstrādājumus) – lūku pārsedzes (tikai ķeta elementus) un kapes (komplektā ar apakšējo atbalsta plātni) ar SIA “Rīgas ūdens” logo – nodrošina Pasūtītājs. Pretendentam Finanšu piedāvājumā šo materiālu izmaksas jāparedz EUR 0,00 vērtībā.

Sheet 2212_BA_UKT 1-3.posmi_Kabiles
A1: Lokālā tāme Nr. 1
A2: Būvdarbu apjomi - Kabiles iela (1.-3. posms)
A3: Objekts: | C3: Ūdensvada tīkla izbūves Rīgā, Kabiles ielā no Sīpeles ielas līdz Kabiles ielai 23, Kabiles ielā no Kabiles ielas 14 līdz Cēres ielai, Kabiles ielā no Bramberģes ielas 19 līdz Codes ielai, Kurmales ielā no Kurmales ielas 18 līdz Sārtes ielai, Kurmales ielā no Kurmales ielas 12 līdz Sējas ielai, Kurmales ielā no Kurmales ielas 3 līdz Cēres ielai
A4: Objekta adrese: | C4: Rīgā, Kabiles ielā no Sīpeles ielas līdz Kabiles ielai 23, Kabiles ielā no Kabiles ielas 14 līdz Cēres ielai un Kabiles ielā no Bramberģes ielas 19 līdz Codes ielai
A5: Pasūtījuma Nr.:
A7: Nr.p.k. | B7: Darba nosaukums | C7: Mērvienība | D7: Daudzums | E7: Vienības izmaksas | K7: Kopā uz visu apjomu
E8: Laika norma (c/h) | F8: Darba samaksas likme (EUR/h) | G8: Darba alga (EUR) | H8: Būvizstrādājumi (EUR) | I8: Mehānismi (EUR) | J8: Kopā (EUR) | K8: Laika norma (c/h) | L8: Darba alga (EUR) | M8: Būvizstrādājumi (EUR) | N8: Mehānismi (EUR) | O8: Summa (EUR)
B9: BŪVLAUKUMA SAGATAVOŠANA
A10: 1 | B10: Būvlaukuma aprīkošana, uzturēšana un satiksmes organizācija (saskaņā ar BP DOP daļu) | C10: kpl. | D10: 3
B11: ŪDENSVADS
B12: CAURUĻVADI
B13: Polietilēna PE100-RC elektrometināmas ūdensvada caurules OD160 (PN10, atbilstošas LVS EN 12201-2, ar integrētu aizsargslāni, ar iestrādātu signāl-stiepli identifikācijai) montāža un iebūve būvgrāvī - ieskaitot spiediena pārbaudi, skalošanu un dezinfekciju
A14: =A10+1 -> 2 | B14: Dziļums 0 - 2.0 m | C14: m | D14: 58.7
B15: Polietilēna PE100-RC elektrometināmas ūdensvada caurules OD110 (PN10, atbilstošas LVS EN 12201-2, ar integrētu aizsargslāni, ar iestrādātu signāl-stiepli identifikācijai) montāža un iebūve būvgrāvī - ieskaitot spiediena pārbaudi, skalošanu un dezinfekciju
A16: =1+A14 -> 3 | B16: Dziļums 0 - 2.0 m | C16: m | D16: 89.3
B17: Polietilēna PE100 elektrometināmas ūdensvada caurules OD32 (PN10, atbilstošas LVS EN 12201-2) montāža un iebūve būvgrāvī - ieskaitot spiediena pārbaudi, skalošanu un dezinfekciju
A18: =1+A16 -> 4 | B18: Dziļums 0 - 2.0 m | C18: m | D18: 3.4
B19: ARMATŪRA UN VEIDGABALI
B20: Pazemes tipa atloku aizbīdnis (PN10) ar peldošo kapi, montāža
A21: =A18+1 -> 5 | B21: DN250 mm | C21: gb. | D21: 1
A22: =A21+1 -> 6 | B22: DN200 mm | C22: gb. | D22: 3
A23: =A22+1 -> 7 | B23: DN150 mm | C23: gb. | D23: 1
A24: =A23+1 -> 8 | B24: DN100 mm | C24: gb. | D24: 5
B25: Pazemes tipa apkalpes ventīlis ar vienu galu noturīgu uz stiepi PE caurules pievienojumam, otru - ar ārējo vītni, , fiksēta garuma pagarinātājkātu un peldošu kapi(PN10), montāža
A26: =A24+1 -> 9 | B26: DN25 mm | C26: gb. | D26: 1
B27: Kaļamā ķeta atloku trejgabals, PN10, montāža
A28: =A26+1 -> 10 | B28: DN250/150 mm | C28: gb. | D28: 1
A29: =A28+1 -> 11 | B29: DN200/100 mm | C29: gb. | D29: 2
A30: =A29+1 -> 12 | B30: DN100/100 mm | C30: gb. | D30: 1
B31: Izjaucams atloku savienojums, PN10, montāža
A32: =A30+1 -> 13 | B32: DN250 | C32: gb. | D32: 2
A33: =A32+1 -> 14 | B33: DN200 | C33: gb. | D33: 2
B34: Enkurojoša pievienojuma un remonta dubultuzmava (dažādu un/vai vienādu materiālu cauruļu savienošanai), PN10, montāža
A35: =A33+1 -> 15 | B35: DN250 mm | C35: gb. | D35: 2
A36: =A35+1 -> 16 | B36: DN200 mm | C36: gb. | D36: 2
A37: =A36+1 -> 17 | B37: DN150 mm | C37: gb. | D37: 1
A38: =A37+1 -> 18 | B38: DN100 mm | C38: gb. | D38: 4
B39: Kaļamā ķeta īscaurule ar atloku, PN10, montāža
A40: =A38+1 -> 19 | B40: DN250 | C40: gb. | D40: 2
A41: =A40+1 -> 20 | B41: DN200 | C41: gb. | D41: 2
...

Sheet 2212_BA_UKT 4-6.posmi_Kurmales
A1: Lokālā tāme Nr. 2
A2: Būvdarbu apjomi - Kurmales iela (4.-6. posms)
A3: Objekts: | C3: Ūdensvada tīkla izbūves Rīgā, Kabiles ielā no Sīpeles ielas līdz Kabiles ielai 23, Kabiles ielā no Kabiles ielas 14 līdz Cēres ielai, Kabiles ielā no Bramberģes ielas 19 līdz Codes ielai, Kurmales ielā no Kurmales ielas 18 līdz Sārtes ielai, Kurmales ielā no Kurmales ielas 12 līdz Sējas ielai, Kurmales ielā no Kurmales ielas 3 līdz Cēres ielai
A4: Objekta adrese: | C4: Rīgā, Kurmales ielā no Kurmales ielas 18 līdz Sārtes ielai, Kurmales ielā no Kurmales ielas 12 līdz Sējas ielai un Kurmales ielā no Kurmales ielas 3 līdz Cēres ielai
A5: Pasūtījuma Nr.:
A7: Nr.p.k. | B7: Darba nosaukums | C7: Mērvienība | D7: Daudzums | E7: Vienības izmaksas | K7: Kopā uz visu apjomu
E8: Laika norma (c/h) | F8: Darba samaksas likme (EUR/h) | G8: Darba alga (EUR) | H8: Būvizstrādājumi (EUR) | I8: Mehānismi (EUR) | J8: Kopā (EUR) | K8: Laika norma (c/h) | L8: Darba alga (EUR) | M8: Būvizstrādājumi (EUR) | N8: Mehānismi (EUR) | O8: Summa (EUR)
B9: BŪVLAUKUMA SAGATAVOŠANA
A10: 1 | B10: Būvlaukuma aprīkošana, uzturēšana un satiksmes organizācija (saskaņā ar BP DOP daļu) | C10: kpl. | D10: 3
B11: ŪDENSVADS
B12: CAURUĻVADI
A13: =A10+1 -> 2 | B13: Polietilēna PE100-RC elektrometināmas ūdensvada caurules OD110 (PN10, atbilstošas LVS EN 12201-2, ar integrētu aizsargslāni, ar iestrādātu signāl-stiepli identifikācijai) montāža un iebūve būvgrāvī - ieskaitot spiediena pārbaudi, skalošanu un dezinfekciju | C13: m | D13: 95.6
A14: =A13+1 -> 3 | B14: Polietilēna PE100 elektrometināmas ūdensvada caurules OD32 (PN10, atbilstošas LVS EN 12201-2)montāža un iebūve būvgrāvī - ieskaitot spiediena pārbaudi, skalošanu un dezinfekciju | C14: m | D14: 4.9
B15: ARMATŪRA UN VEIDGABALI
B16: Pazemes tipa atloku aizbīdnis (PN10) ar peldošo kapi, montāža
A17: =A14+1 -> 4 | B17: DN200 mm | C17: gb. | D17: 3
A18: =A17+1 -> 5 | B18: DN100 mm | C18: gb. | D18: 2
B19: Pazemes tipa apkalpes ventīlis ar vienu galu noturīgu uz stiepi PE caurules pievienojumam, otru - ar ārējo vītni, , fiksēta garuma pagarinātājkātu un peldošu kapi(PN10) , montāža
A20: =A18+1 -> 6 | B20: DN25 mm | C20: gb. | D20: 1
B21: Kaļamā ķeta atloku trejgabals, PN10, montāža
A22: =A20+1 -> 7 | B22: DN200/100 mm | C22: gb. | D22: 2
B23: Izjaucams atloku savienojums, PN10, montāža
A24: =A22+1 -> 8 | B24: DN200 | C24: gb. | D24: 3
B25: Enkurojoša pievienojuma un remonta dubultuzmava (dažādu un/vai vienādu materiālu cauruļu savienošanai), PN10, montāža
A26: =A24+1 -> 9 | B26: DN200 mm | C26: gb. | D26: 4
A27: =A26+1 -> 10 | B27: DN100 mm | C27: gb. | D27: 3
B28: Kaļamā ķeta īscaurule ar atloku, PN10, montāža
A29: =A27+1 -> 11 | B29: DN200 | C29: gb. | D29: 4
B30: PE īscaurule ar atloka pamatni un tērauda rotējošu atloku, PN10, montāža
A31: =A29+1 -> 12 | B31: OD110 | C31: gb. | D31: 3
B32: PE elektrometināms līknis, PN10, montāža
A33: =A31+1 -> 13 | B33: OD110, 45° | C33: gb. | D33: 4
B34: Elektrometināms PE sedls PE caurulēm ar iekšējo vītni apkalpes ventīļa pievienošanai, PN10, montāža
A35: =A33+1 -> 14 | B35: OD110/DN25 mm | C35: gb. | D35: 1
A36: =A35+1 -> 15 | B36: PE noslēgtapa OD32, PN10, montāža | C36: gb. | D36: 1
B37: ZEMES DARBI
A38: =A36+1 -> 16 | B38: Tranšejas rakšana | C38: m³ | D38: 230.1
A39: =A38+1 -> 17 | B39: Cauruļvada izlīdzinošās kārtas izbūve | C39: m³ | D39: 4.7
A40: =A39+1 -> 18 | B40: Cauruļvada apbēruma izbūve | C40: m³ | D40: 37.2
A41: =A40+1 -> 19 | B41: Tranšejas aizbēršana ar pievestu grunti, blietējot pa kārtām | C41: m³ | D41: 127.7
...
