Workbook

Sheet Kopsavilkums
A3: 3. pielikums Valsts kases atklāta konkursa “Budžeta plānošanas un finanšu vadības risinājuma izstrāde un uzturēšana” (iepirkuma identifikācijas Nr. VK 2023/03/ANM) nolikumam
A4: Finanšu piedāvājums
C6: 1.tabula
A7: Finanšu piedāvājuma kopsavilkums
A8: Nr. | B8: Pozīcija | C8: Piedāvātā līgumcena, EUR bez PVN
A9: 1. | B9: Licenču nomas cena | C9: =Licences!F16 -> 0
A10: 2. | B10: Sistēmas uzturēšanas maksa | C10: ='Ieviešana un uzturēšana'!G13 -> 0
A11: 3. | B11: Ieviešanas maksa | C11: ='Ieviešana un uzturēšana'!C13 -> 0
A12: 4 | B12: Izmaiņu pieprasījumi | C12: ='Izmaiņu pieprasījumi'!E4 -> 0
B13: Līgumcena, kopā | C13: =SUM(C9:C12) -> 0
A16: (pretendenta/ vadītāja vai pilnvarotās personas amats) | D16: (paraksts*) | F16: (V. Uzvārds)
A18: *Dokuments ir parakstīts ar drošu elektronisko parakstu

Sheet Licences
E1: 2.tabula
A2: Licenču nomas cena
A3: Nr. | B3: Licences nosaukums | C3: Skaits | D3: Cena, EUR bez PVN gadā par 1 licenci | E3: Gadu skaits | F3: Summa, EUR bez PVN
A4: 1 | F4: =C4*D4*E4 -> 0
A5: 2 | F5: =C5*D5*E5 -> 0
A6: 3 | F6: =C6*D6*E6 -> 0
A7: 4 | F7: =C7*D7*E7 -> 0
A8: 5 | F8: =C8*D8*E8 -> 0
A9: 6 | F9: =C9*D9*E9 -> 0
A10: 7 | F10: =C10*D10*E10 -> 0
A11: 8 | F11: =C11*D11*E11 -> 0
A12: 9 | F12: =C12*D12*E12 -> 0
A13: 10 | F13: =C13*D13*E13 -> 0
A14: 11 | F14: =C14*D14*E14 -> 0
A15: 12 | F15: =C15*D15*E15 -> 0
A16: Kopā, licenču noma | F16: =SUM(F4:F15) -> 0

Sheet Ieviešana un uzturēšana
G1: 3.tabula
A2: Izstrādes (ieviešanas) un uzturēšanas cena
A4: Nr. | B4: Nosaukums | C4: Izstrādes un ieviešanas cena, EUR bez PVN | D4: Ieviešanas termiņš, mēneši | E4: Uzturēšanas termiņš, mēneši | F4: Uzturēšanas mēnešmaksa, EUR bez PVN | G4: Uzturēšanas cena, EUR bez PVN
A5: 1 | B5: Sistēmas pamatfunkcionalitāte | E5: =60-D5 -> 60 | G5: =E5*F5 -> 0
A6: 2 | B6: Vidējā termiņa budžeta plānošana un ilgtermiņa saistību uzskaites funkcionalitāte | E6: =60-D6 -> 60 | G6: =E6*F6 -> 0
A7: 3 | B7: Gadskārtējā budžeta ietvaros veicamo izmaiņu (finansēšanas plānu un apropriācijas izmaiņu) funkcionalitāte | E7: =60-D7 -> 60 | G7: =E7*F7 -> 0
A8: 4 | B8: Prioritāro pasākumu iesniegšanas funkcionalitāte | E8: =60-D8 -> 60 | G8: =E8*F8 -> 0
A9: 5 | B9: Iestādes līmeņa plānošanas funkcionalitāte. | E9: =60-D9 -> 60 | G9: =E9*F9 -> 0
A10: 6 | B10: Budžeta paskaidrojumu funkcionalitāte | E10: =60-D10 -> 60 | G10: =E10*F10 -> 0
A11: 7 | B11: Izpildes analīzes funkcionalitāte | E11: =60-D11 -> 60 | G11: =E11*F11 -> 0
A12: 8 | B12: Priekšlikumu iesniegšana 2.lasījumam funkcionalitāte | E12: =60-D12 -> 60 | G12: =E12*F12 -> 0
B13: Izstrādes un ieviešanas līgumcena | C13: =SUM(C5:C12) -> 0 | E13: Uzturēšanas līgumcena | G13: =SUM(G5:G12) -> 0

Sheet Izmaiņu pieprasījumi
E1: 4.tabula
A2: Izmaiņu pieprasījumu realizācijas līgumcena
A3: Nr. | B3: Pozīcija | C3: Cena, EUR bez PVN | D3: Skaits | E3: Summa, EUR bez PVN
A4: 1 | B4: Izmaiņu pieprasījumu realizācija, cilvēkstunda | D4: 5000 | E4: =C4*D4 -> 0

Sheet Darbietilpības novērtējums
G1: 5.tabula
A2: Darbietilpības novērtējums
A3: Nr. | B3: Elementa nosaukums | C3: Svars grupā | D3: Grupas svars | E3: Darbietilpība stundās | F3: Cilvēkstundas likme, EUR bez PVN | G3: Cena, EUR bez PVN | H3: Svērums
A4: 1 | B4: Formas | D4: 0.2 | H4: =D4*(C5*G5+C6*G6+C7*G7+C8*G8) -> 0
A5: 1.1 | B5: Viena formas elementa pievienošana/maiņa | C5: 0.4 | F5: ='Izmaiņu pieprasījumi'!C4 -> 0 | G5: =E5*F5 -> 0
A6: 1.2 | B6: Vienkārša forma | C6: 0.3 | F6: ='Izmaiņu pieprasījumi'!C4 -> 0 | G6: =E6*F6 -> 0
A7: 1.3 | B7: Vidēji sarežģīta forma | C7: 0.2 | F7: ='Izmaiņu pieprasījumi'!C4 -> 0 | G7: =E7*F7 -> 0
A8: 1.4 | B8: Sarežģīta forma | C8: 0.1 | F8: ='Izmaiņu pieprasījumi'!C4 -> 0 | G8: =E8*F8 -> 0
A9: 2 | B9: Datu pārbaude, pielasīšana vai atlase | D9: 0.15 | H9: =D9*(C10*G10+C11*G11+C12*G12) -> 0
A10: 2.1 | B10: Vienkārša datu pārbaude, pielasīšana vai atlase | C10: 0.5 | F10: ='Izmaiņu pieprasījumi'!C4 -> 0 | G10: =E10*F10 -> 0
A11: 2.2 | B11: Vidēji sarežģīta datu pārbaude, pielasīšana vai atlase | C11: 0.3 | F11: ='Izmaiņu pieprasījumi'!C4 -> 0 | G11: =E11*F11 -> 0
A12: 2.3 | B12: Sarežģīta datu pārbaude, pielasīšana vai atlase | C12: 0.2 | F12: ='Izmaiņu pieprasījumi'!C4 -> 0 | G12: =E12*F12 -> 0
A13: 3 | B13: Algoritms | D13: 0.15 | H13: =D13*(C14*G14+C15*G15+C16*G16) -> 0
A14: 3.1 | B14: Vienkāršs algoritms | C14: 0.4 | F14: ='Izmaiņu pieprasījumi'!C4 -> 0 | G14: =E14*F14 -> 0
A15: 3.2 | B15: Vidēji sarežģīts algoritms | C15: 0.4 | F15: ='Izmaiņu pieprasījumi'!C4 -> 0 | G15: =E15*F15 -> 0
A16: 3.3 | B16: Sarežģīts algoritms | C16: 0.2 | F16: ='Izmaiņu pieprasījumi'!C4 -> 0 | G16: =E16*F16 -> 0
A17: 4 | B17: Darba plūsma | D17: 0.15 | H17: =D17*(C18*G18+C19*G19+C20*G20) -> 0
A18: 4.1 | B18: Vienkārša darba plūsma | C18: 0.4 | F18: ='Izmaiņu pieprasījumi'!C4 -> 0 | G18: =E18*F18 -> 0
A19: 4.2 | B19: Vidēji sarežģīta darba plūsma | C19: 0.4 | F19: ='Izmaiņu pieprasījumi'!C4 -> 0 | G19: =E19*F19 -> 0
A20: 4.3 | B20: Sarežģīta darba plūsma | C20: 0.2 | F20: ='Izmaiņu pieprasījumi'!C4 -> 0 | G20: =E20*F20 -> 0
A21: 5 | B21: Klasifikatori | D21: 0.1 | H21: =D21*(C22*G22+C23*G23+C24*G24+C25*G25) -> 0
A22: 5.1 | B22: Jaunas pozīcijas pievienošana esošam klasifikatoram | C22: 0.3 | F22: ='Izmaiņu pieprasījumi'!C4 -> 0 | G22: =E22*F22 -> 0
A23: 5.2 | B23: Vienkāršs klasifikators | C23: 0.2 | F23: ='Izmaiņu pieprasījumi'!C4 -> 0 | G23: =E23*F23 -> 0
A24: 5.3 | B24: Vidēji sarežģīts klasifikators | C24: 0.3 | F24: ='Izmaiņu pieprasījumi'!C4 -> 0 | G24: =E24*F24 -> 0
A25: 5.4 | B25: Sarežģīts klasifikators | C25: 0.2 | F25: ='Izmaiņu pieprasījumi'!C4 -> 0 | G25: =E25*F25 -> 0
A26: 6 | B26: Atskaite | D26: 0.1 | H26: =D26*(C27*G27+C28*G28+C29*G29) -> 0
A27: 6.1 | B27: Vienkārša atskaite | C27: 0.4 | F27: ='Izmaiņu pieprasījumi'!C4 -> 0 | G27: =E27*F27 -> 0
A28: 6.2 | B28: Vidēji sarežģīta atskaite | C28: 0.4 | F28: ='Izmaiņu pieprasījumi'!C4 -> 0 | G28: =E28*F28 -> 0
A29: 6.3 | B29: Sarežģīta atskaite | C29: 0.2 | F29: ='Izmaiņu pieprasījumi'!C4 -> 0 | G29: =E29*F29 -> 0
A30: 7 | B30: Datu bāze | D30: 0.15 | H30: =D30*(C31*G31+C32*G32+C33*G33+C34*G34) -> 0
A31: 7.1 | B31: Datu bāzes tabulas pievienošana | C31: 0.3 | F31: ='Izmaiņu pieprasījumi'!C4 -> 0 | G31: =E31*F31 -> 0
A32: 7.2 | B32: Vienkārša izstrāde | C32: 0.3 | F32: ='Izmaiņu pieprasījumi'!C4 -> 0 | G32: =E32*F32 -> 0
A33: 7.3 | B33: Vidēji sarežģīta izstrāde | C33: 0.2 | F33: ='Izmaiņu pieprasījumi'!C4 -> 0 | G33: =E33*F33 -> 0
A34: 7.4 | B34: Sarežģīta izstrāde | C34: 0.2 | F34: ='Izmaiņu pieprasījumi'!C4 -> 0 | G34: =E34*F34 -> 0
A35: Vidēji svērtais darbietilpības novērtējums, kopā: | H35: =H4+H9+H13+H17+H21+H26+H30 -> 0

Sheet Darbietilpības skaidrojums
B1: 6.tabula
A2: Darbietilpības elementu skaidrojums
A3: Nr.p.k. | B3: Nosaukums, apraksts
A4: 1 | B4: Forma
B5: Patstāvīga vai citas formas sastāvā kā apakšforma esoša datu izvades vai ievades forma ar fiksēta skaita statiskiem vai sarakstā atkārtotiem (tabula) ekrāna elementiem (ievadlauks, izvadlauks, radiopoga, izvēles rūtiņa, izkrītošais saraksts, izvēle no klasifikatora u.c.). Datu sintaktiskās kvalitātes pārbaude, veicot katra atsevišķā datu ievades vai izvades elementa vērtību pārbaudi, paziņojot par nepareizi ievadītām vērtībām (piemēram - nepareizs datuma formāts vai nepareizs personas koda formāts) vai par trūkstošajiem obligāti aizpildāmajiem laukiem. Formu, kuras sastāv no vairākām apakšformām (piemēram - lapiņas vai pielikumi), gadījumā katra apakšforma ir vērtējama atsevišķi kā attiecīgā sarežģītības līmeņa forma. Ja formas vai apakšformas ekrāna elementu skaits pārsniedz sarežģītas formas elementu skaitu, tā ir vērtējama kā vairāku formu kombinācija.
A6: 1.1. | B6: Vienkārša forma | C6: Forma līdz 10 laukiem
A7: 1.2. | B7: Vidēji sarežģīta forma | C7: Forma no 11 līdz 20 laukiem
A8: 1.3. | B8: Sarežģīta forma | C8: Forma no 21 līdz 40 laukiem
A9: 2 | B9: Datu pārbaude, pielasīšana vai atlase
B10: Algoritms, kura izpildes rezultātā var tikt veikta:
B11: • formas ekrāna elementu vērtību pārbaude, tos salīdzinot ar kontrolvērtību, citu elementu vērtībām vai uzkrātajām datu kopām (piemēram – lauka vērtības atbilstība matemātiskai izteiksmei vai formulai);
B12: • datu atlase, kuras rezultātā lietotājam tiek izvadīti atlasītie dati vai formas ekrāna elementu vērtības tiek aizvietotas ar atlasītajiem datiem.
B13: Ja datu pielasīšanas vai atlases rezultātā atgriezto datu vienumu skaits pārsniedz sarežģītas datu atlases vienumu skaitu, tā ir vērtējama kā vairākas datu atlases.
A14: 2.1. | B14: Vienkārša datu pārbaude, pielasīšana vai atlase | C14: Vienkārša datu pārbaude vienam ekrāna elementam.
C15: Datu izsaukums, kura rezultātā tiek atgriezti dati ar ne vairāk par 5 datu vienumiem.
A16: 2.2. | B16: Vidēji sarežģīta datu pārbaude, pielasīšana vai atlase | C16: Savstarpējā ekrāna elementu vērtības pārbaude vienas formas ietvaros.
C17: Datu izsaukums, kura rezultātā tiek atgriezti dati vai aizvietotas formas ekrāna elementu vērtības ar 6 līdz 15 datu vienumiem.
A18: 2.3. | B18: Sarežģīta datu pārbaude, pielasīšana vai atlase | C18: Savstarpējā ekrāna elementu vērtības pārbaude starp vairākām formām, vienas formas apakšformām vai vērtības pārbaude citās uzkrātajās datu kopās vai integrētajās sistēmās.
C19: Datu izsaukums, kura rezultātā tiek atgriezti dati vai aizvietotas formas ekrāna elementu vērtības ar 16 līdz 30 datu vienumiem.
A20: 3 | B20: Algoritms
B21: Programmatūras vienums, kurš nodrošina datu apstrādi un konkrēta rezultāta saņemšana. Ja algoritma sarežģītība pārsniedz sarežģīta algoritma aprakstā definētās robežvērtības, tas ir vērtējams, kā vairāki algoritmi.
A22: 3.1. | B22: Vienkāršs algoritms | C22: Lineārs algoritms ar secīgi izpildāmu darbību virkni, bez zarošanās un cikliem
A23: 3.2. | B23: Vidēji sarežģīts algoritms | C23: Algoritms ar zarošanos, līdz 15 lēmumu zariem.
C24: Ciklisks algoritms ar ne vairāk par 3 atkārtošanas cikliem.
A25: 3.3. | B25: Sarežģīts algoritms | C25: Algoritms ar zarošanos, 16 līdz 30 lēmumu zariem.
C26: Ciklisks algoritms ar maksimums 10 atkārtošanas cikliem.
A27: 4 | B27: Darba plūsma
B28: Sakārtota notikumu virkne, kurā ietilpst cilvēku darbības un IS darbības lai sasniegtu noteiktu biznesa rezultātu. Darba plūsma sastāv no atsevišķām savstarpēji sakārtotām darbībām jeb soļiem. Ja darba plūsmas soļu skaits pārsniedz sarežģītās darba plūsmas aprakstā definētos vai tas ietver pakārtotās darba plūsmas, tā ir vērtējama kā vairākas darba plūsmas.
A29: 4.1. | B29: Vienkārša darba plūsma | C29: Līdz 10 darba plūsmas vadības grafa šķautnēm
A30: 4.2. | B30: Vidēji sarežģīta darba plūsma | C30: No 11 līdz 20 darba plūsmas vadības grafa šķautnēm
A31: 4.3. | B31: Sarežģīta darba plūsma | C31: No 21 līdz 40 darba plūsmas vadības grafa šķautnēm
A32: 5 | B32: Klasifikators
B33: Sistematizēts objektu saraksts, kurā katram objektam ir noteikts kods, kas aizvieto tā nosaukumu un tiek lietots objekta identificēšanai.
A34: 5.1. | B34: Vienkāršs klasifikators | C34: klasifikators bez hierarhijas līdz 20 ierakstiem
A35: 5.2. | B35: Vidēji sarežģīts klasifikators | C35: klasifikators līdz 3 hierarhijas līmeņiem vai nehierarhisks klasifikators ar ierakstu skaitu līdz 1000 ierakstiem
A36: 5.3. | B36: Sarežģīts klasifikators | C36: klasifikators ar hierarhijas līmeņu skaitu virs 3 vai ierakstu skaitu no 1000 līdz 10000
A37: 6 | B37: Atskaite
B38: Datu vizuāls attēlojums, kurš sakārtots pēc lietotāja definētiem parametriem.
A39: 6.1. | B39: Vienkārša atskaite | C39: Atskaite paredz līdz 5 filtriem, līdz 10 datu laukiem
A40: 6.2. | B40: Vidēji sarežģīta atskaite | C40: Atskaite paredz 6 – 10 filtrus, no 11 līdz 20 datu laukiem
...
