Workbook

Sheet KOPSAVILKUMS
E1: 4.pielikums
D2: iepirkuma “Tehniskā apsardze, apsardzes tehnisko sistemu apkope un remonts” Nr. ŠN 2023/17-TAN nolikumam
B5: FINANŠU PIEDĀVĀJUMS
B6: iepirkuma 1. daļai - Rīga un Rīgas reģions
B7: ŠN 2023/17-TAN “TEHNISKĀS APSARDZES NODROŠINĀŠANA, APSARDZES TEHNISKO SISTĒMU APKOPE UN REMONTS”
B8: Nr.p.k. | C8: Pakalpojuma sniegšanas vietas | D8: Piedāvātā kopējā vērtējamā cena par Tehniskās apsardzes pakalpojumiem EUR bez PVN | E8: Piedāvātā kopējā vērtējamā cena par Apsardzes tehnisko sistēmu apkopes un remonta pakalpojumiem EUR bez PVN
B10: 1 | C10: Nodarbinātības valsts aģentūra | D10: =NVA!H11 -> 0 | E10: =NVA!E23 -> 0
B11: 2 | C11: Valsts sociālās aprūpes centrs "Rīga" | D11: =VSAC_RIGA!H11 -> 0 | E11: =VSAC_RIGA!E30 -> 0
B12: 3 | C12: VSIA "Šampetera nams" | D12: =ŠN!I10 -> 0 | E12: =ŠN!F29 -> 0
B13: 4 | C13: Sociālās integrācijas valsts aģentūra | D13: nav nepieciešams | E13: =SIVA!H11 -> 0
B14: Vērtējamā cena kopā EUR bez PVN | D14: =SUM(D10:D13) -> 0 | E14: =SUM(E10:E13) -> 0
B15: KOPĒJĀ VĒRTĒJAMĀ CENA 1. DAĻAI | D15: =D14+E14 -> 0
A17: Vārds, uzvārds, amats
A18: Paraksts, datums | C18: DOKUMENTS IR PARAKSTĪTS AR EIS SISTĒMAS PARAKSTU, VAI DROŠU ELEKTRONISKO PARAKSTU UN SATUR LAIKA ZĪMOGU

Sheet NVA
B5: FINANŠU PIEDĀVĀJUMS
B6: Iepirkuma 1. daļa Rīga un Rīgas reģions
B7: Nodarbinātības valsts aģentūra
B8: “TEHNISKĀS APSARDZES NODROŠINĀŠANA, APSARDZES TEHNISKO SISTĒMU APKOPE UN REMONTS”
B9: PRETENDENTA PIEDĀVĀJUMS | E9: Tehniskās apsardzes pakalpojums | H9: PRETENDENTA KOPĒJĀIS PIEDĀVĀJUMS IEPIRKUMA DAĻAI (vērtējamā cena)
B10: Daļas | C10: Pakalpojumu sniegšanas vietas | D10: Adreses | E10: Pretendenta piedāvātā cena mēnesī EUR bez PVN | F10: Maksa par mobilās grupas ierašanos objektā, pec trauksmes pogas signāla saņemšanas (par 1 izsaukuma reizi) | G10: Maksa par fizisko apsardzi ārkartas gadījumos (sākot ar trešo stundu)
B11: 1 | C11: NVA Rīgas un Rīgas reģiona filiāles | D11: Jūrmala, Viestura iela 6 | H11: =E14+F14+G14 -> 0
D12: Sigulda, Dārza 2a
D13: Limbaži, Vecās Sārmes iela 10
B14: Piedāvātā cena par norādītajiem objektiem | E14: =SUM(E11:E13) -> 0 | F14: =SUM(F11:F13) -> 0 | G14: =SUM(G11:G13) -> 0
B17: PRETENDENTA PIEDĀVĀJUMS | E17: Apsardzes tehnisko sistēmu apkope un remonts
B18: Daļas | C18: Pakalpojumu sniegšanas vietas | D18: Adreses | E18: Apsardzes signalizācijas apkope EUR bez PVN (mēnesī) | F18: Ugunsdrošības signalizācija apkope EUR bez PVN (mēnesī) | G18: Maksa par remontdarbiem (1 cilvēkstunda) EUR bez PVN ( pakalpojums tiek nodrošīnāts pēc pieprasījuma) | H18: Papildus trauksmes pogas uzstādīšana. Pretendenta piedāvātā cena par 1 trauksmes pogas uzstādīšanu EUR bez PVN ( pakalpojums tiek nodrošīnāts pēc pieprasījuma)
B19: 1 | C19: NVA Rīgas un Rīgas reģiona filiāles | D19: Jūrmala, Viestura iela 6 | F19: nav nepieciešams
D20: Sigulda, Dārza 2a | F20: nav nepieciešams
D21: Limbaži, Vecās Sārmes iela 10 | F21: nav nepieciešams
B22: Piedāvātā cena par norādītajiem objektiem | E22: =SUM(E19:E21) -> 0 | F22: =SUM(F19:F21) -> 0 | G22: =SUM(G19:G21) -> 0 | H22: =SUM(H19:H21) -> 0
B23: PRETENDENTA KOPĒJĀIS PIEDĀVĀJUMS IEPIRKUMA DAĻAI (vērtējamā cena) | E23: =E22+F22+G22+H22 -> 0
B26: Pakalpojums tiek nodrošināts saskaņā ar Tehnisko specifikāciju. Pretendenta piedāvājumā jābūt iekļautām visām izmaksām, kas saistitas ar tehniskajā specifikācijā noteikto darbu izpildi, nodokļiem, nodevām, uzņēmējdarbības riskiem, transporta izmaksām un citiem faktoriem minēto darbu kvalitatīvai izpildei. Pretendents piedāvātās cenas līguma darbības laikā nedrīkst mainit.
C28: Pretendenta uzņēmuma vadītājs vai vadītāja pilnvarota persona:
B29: Vārds, uzvārds, amats
B30: Paraksts | D30: DOKUMENTS IR PARAKSTĪTS AR EIS SISTĒMAS PARAKSTU, VAI DROŠU ELEKTRONISKO PARAKSTU UN SATUR LAIKA ZĪMOGU

Sheet VSAC_RIGA
B5: FINANŠU PIEDĀVĀJUMS
B6: Iepirkuma 1. daļa Rīga un Rīgas reģions
B7: Valsts sociālās aprūpes centrs "Rīga"
B8: “TEHNISKĀS APSARDZES NODROŠINĀŠANA, APSARDZES TEHNISKO SISTĒMU APKOPE UN REMONTS”
B9: PRETENDENTA PIEDĀVĀJUMS | E9: Tehniskās apsardzes pakalpojums | H9: PRETENDENTA KOPĒJĀIS PIEDĀVĀJUMS IEPIRKUMA DAĻAI (vērtējamā cena)
B10: Daļas | C10: Pakalpojumu sniegšanas vietas | D10: Adreses | E10: Pretendenta piedāvātā cena mēnesī EUR bez PVN | F10: Maksa par mobilās grupas ierašanos objektā, pec trauksmes pogas signāla saņemšanas (par 1 izsaukuma reizi) | G10: Maksa par fizisko apsardzi ārkartas gadījumos (sākot ar trešo stundu)
B11: 1 | C11: VSAC "Rīga" filiāles | D11: „Jugla”, Braila iela 2, Rīga | H11: =E17+F17+G17 -> 0
D12: „Teika”, Stāmerienas iela 4, Rīga
D13: „Ezerkrasti”, Berģu iela 142 un Berģu iela 160, Rīga
D14: „Rīga”, Kapseļu iela 31 un Kapseļu iela 18, Rīga,
D15: „Kalnciems”, Kalnciema iela 93, Rīga
D16: „Pļavnieki”, Zebiekstes iela 12, Rīga,
B17: Piedāvātā cena par norādītajiem objektiem | E17: =SUM(E11:E16) -> 0 | F17: =SUM(F11:F16) -> 0 | G17: =SUM(G11:G16) -> 0
B21: PRETENDENTA PIEDĀVĀJUMS | E21: Apsardzes tehnisko sistēmu apkope un remonts
B22: Daļas | C22: Pakalpojumu sniegšanas vietas | D22: Adreses | E22: Apsardzes signalizācijas apkope EUR bez PVN (mēnesī) | F22: Videonovērošanas sistēmas apkope (apkope) | G22: Ugunsdrošības signalizācija apkope EUR bez PVN (mēnesī) | H22: Maksa par remontdarbiem (1 cilvēkstunda) EUR bez PVN ( pakalpojums tiek nodrošīnāts pēc pieprasījuma) | I22: Papildus trauksmes pogas uzstādīšana. Pretendenta piedāvātā cena par 1 trauksmes pogas uzstādīšanu EUR bez PVN ( pakalpojums tiek nodrošīnāts pēc pieprasījuma)
B23: 1 | C23: VSAC "Rīga" filiāles | D23: „Jugla”, Braila iela 2, Rīga
D24: „Teika”, Stāmerienas iela 4, Rīga
D25: „Ezerkrasti”, Berģu iela 142 un Berģu iela 160, Rīga
D26: „Rīga”, Kapseļu iela 31 un Kapseļu iela 18, Rīga,
D27: „Kalnciems”, Kalnciema iela 93, Rīga
D28: „Pļavnieki”, Zebiekstes iela 12, Rīga,
B29: Piedāvātā cena par norādītajiem objektiem | E29: =SUM(E23:E28) -> 0 | F29: =SUM(F23:F28) -> 0 | G29: =SUM(G23:G28) -> 0 | H29: =SUM(H23:H28) -> 0 | I29: =SUM(I23:I28) -> 0
B30: PRETENDENTA KOPĒJĀIS PIEDĀVĀJUMS IEPIRKUMA DAĻAI (vērtējamā cena) | E30: =E29+F29+G29+H29+I29 -> 0
B33: Pakalpojums tiek nodrošināts saskaņā ar Tehnisko specifikāciju. Pretendenta piedāvājumā jābūt iekļautām visām izmaksām, kas saistitas ar tehniskajā specifikācijā noteikto darbu izpildi, nodokļiem, nodevām, uzņēmējdarbības riskiem, transporta izmaksām un citiem faktoriem minēto darbu kvalitatīvai izpildei. Pretendents piedāvātās cenas līguma darbības laikā nedrīkst mainit.
C35: Pretendenta uzņēmuma vadītājs vai vadītāja pilnvarota persona:
B36: Vārds, uzvārds, amats
B37: Paraksts | D37: DOKUMENTS IR PARAKSTĪTS AR EIS SISTĒMAS PARAKSTU, VAI DROŠU ELEKTRONISKO PARAKSTU UN SATUR LAIKA ZĪMOGU

Sheet ŠN
B4: FINANŠU PIEDĀVĀJUMS
B5: Iepirkuma 1. daļa Rīga un Rīgas reģions
B6: VSIA "Šampetera nams"
B7: “TEHNISKĀS APSARDZES NODROŠINĀŠANA, APSARDZES TEHNISKO SISTĒMU APKOPE UN REMONTS”
B8: PRETENDENTA PIEDĀVĀJUMS | F8: Tehniskās apsardzes pakalpojums | I8: PRETENDENTA KOPĒJĀIS PIEDĀVĀJUMS IEPIRKUMA DAĻAI (vērtējamā cena)
B9: Daļas | C9: Pakalpojumu sniegšanas vietas | D9: Adreses | E9: Ēku kadastra nummuri | F9: Pretendenta piedāvātā cena mēnesī EUR bez PVN | G9: Maksa par mobilās grupas ierašanos objektā, pec trauksmes pogas signāla saņemšanas (par 1 izsaukuma reizi) | H9: Maksa par fizisko apsardzi ārkartas gadījumos (sākot ar trešo stundu)
B10: 1 | C10: VSIA "Šampētera nams" objekti | D10: Mārupes iela 1, Rīga | E10: Administratīvā ēka ar kadastra apzīmējumu 01000560043001 | I10: =F17+G17+H17 -> 0
E11: Administratīvā ēka ar kadastra apzīmējumu 01000560043003
E12: Katlu telpa ēka ar kadastra apzīmējumu 01000560043008
D13: Tilta iela 9, Rīga | E13: Administratīvā ēka ar kadastra apzīmējumu 01000160071001
D14: K. Valdemāra iela 17-17, Rīga | E14: Telpu grupa ar kadastra apzīmējumu 01000102018002017
D15: Citadeles iela7, Rīga | E15: Administratīvā ēka ar kadastra apzīmējumu 01000102004069
D16: Šveices iela 12, Sigulda | E16: Administratīvā ēka ar kadastra apzīmējumu 80150023307001
B17: Piedāvātā cena par norādītajiem objektiem | F17: =SUM(F10:F16) -> 0 | G17: =SUM(G10:G16) -> 0 | H17: =SUM(H10:H16) -> 0
B19: PRETENDENTA PIEDĀVĀJUMS | F19: Apsardzes tehnisko sistēmu apkope un remonts
B20: Daļas | C20: Pakalpojumu sniegšanas vietas | D20: Adreses | E20: Ēku kadastra nummuri | F20: Apsardzes signalizācijas apkope EUR bez PVN (mēnesī) | G20: Ugunsdrošības signalizācija apkope EUR bez PVN (mēnesī) | H20: Maksa par remontdarbiem (1 cilvēkstunda) EUR bez PVN ( pakalpojums tiek nodrošīnāts pēc pieprasījuma) | I20: Papildus trauksmes pogas uzstādīšana. Pretendenta piedāvātā cena par 1 trauksmes pogas uzstādīšanu EUR bez PVN ( pakalpojums tiek nodrošīnāts pēc pieprasījuma)
B21: 1 | C21: VSIA "Šampētera nams" objekti | D21: Mārupes iela 1, Rīga | E21: Administratīvā ēka ar kadastra apzīmējumu 01000560043001
E22: Administratīvā ēka ar kadastra apzīmējumu 01000560043003
E23: Katlu telpa ēka ar kadastra apzīmējumu 01000560043008
D24: Tilta iela 9, Rīga | E24: Administratīvā ēka ar kadastra apzīmējumu 01000160071001
D25: K. Valdemāra iela 17-17, Rīga | E25: Telpu grupa ar kadastra apzīmējumu 01000102018002017
D26: Citadeles iela7, Rīga | E26: Administratīvā ēka ar kadastra apzīmējumu 01000102004069
D27: Šveices iela 12, Sigulda | E27: Administratīvā ēka ar kadastra apzīmējumu 80150023307001
B28: Piedāvātā cena par norādītajiem objektiem | F28: =SUM(F21:F27) -> 0 | G28: =SUM(G21:G27) -> 0 | H28: =SUM(H21:H27) -> 0 | I28: =SUM(I21:I27) -> 0
C29: PRETENDENTA KOPĒJĀIS PIEDĀVĀJUMS IEPIRKUMA DAĻAI (vērtējamā cena) | F29: =F28+G28+H28+I28+J28 -> 0
B31: Pakalpojums tiek nodrošināts saskaņā ar Tehnisko specifikāciju. Pretendenta piedāvājumā jābūt iekļautām visām izmaksām, kas saistitas ar tehniskajā specifikācijā noteikto darbu izpildi, nodokļiem, nodevām, uzņēmējdarbības riskiem, transporta izmaksām un citiem faktoriem minēto darbu kvalitatīvai izpildei. Pretendents piedāvātās cenas līguma darbības laikā nedrīkst mainit.
C33: Pretendenta uzņēmuma vadītājs vai vadītāja pilnvarota persona:
B34: Vārds, uzvārds, amats
B35: Paraksts | D35: DOKUMENTS IR PARAKSTĪTS AR EIS SISTĒMAS PARAKSTU, VAI DROŠU ELEKTRONISKO PARAKSTU UN SATUR LAIKA ZĪMOGU

Sheet SIVA
B5: FINANŠU PIEDĀVĀJUMS
B6: Iepirkuma 1. daļa Rīga un Rīgas reģions
B7: Sociālās integrācijas valsts aģentūra
B8: “APSARDZES TEHNISKO SISTĒMU APKOPE UN REMONTS”
B9: PRETENDENTA PIEDĀVĀJUMS | E9: Apsardzes tehnisko sistēmu apkope un remonts | H9: PRETENDENTA KOPĒJĀIS PIEDĀVĀJUMS IEPIRKUMA DAĻAI (vērtējamā cena)
B10: Daļas | C10: Pakalpojumu sniegšanas vietas | D10: Adreses | E10: Apsardzes un ugunsdrošības signalizācijas apkope EUR bez PVN (mēnesī) | F10: Maksa par remontdarbiem (1 cilvēkstunda) EUR bez PVN ( pakalpojums tiek nodrošīnāts pēc pieprasījuma) | G10: Papildus trauksmes pogas uzstādīšana. Pretendenta piedāvātā cena par 1 trauksmes pogas uzstādīšanu EUR bez PVN ( pakalpojums tiek nodrošīnāts pēc pieprasījuma)
B11: 1 | C11: Valsts sociālās integrācijas aģentūra | D11: Dubultu prospektā 71/Līgatnes iela 5, Jūrmalā | H11: =E19+F19+G19 -> 0
D12: Dubultu prospektā 59, Jūrmalā,
D13: Slokas ielā 68, Jūrmalā
D14: Amulas iela 6, Jūrmalā
D15: Slokas ielā 61, Jūrmalā | E15: =SUM(E16:E18) -> 0 | F15: =SUM(F16:F18) -> 0
D16: 1. korpuss
D17: 2. korpuss
D18: 3. korpuss
B19: Piedāvātā cena par norādītajiem objektiem | E19: =SUM(E11:E15) -> 0 | F19: =SUM(F11:F15) -> 0 | G19: =SUM(G11) -> 0
B21: Pakalpojums tiek nodrošināts saskaņā ar Tehnisko specifikāciju. Pretendenta piedāvājumā jābūt iekļautām visām izmaksām, kas saistitas ar tehniskajā specifikācijā noteikto darbu izpildi, nodokļiem, nodevām, uzņēmējdarbības riskiem, transporta izmaksām un citiem faktoriem minēto darbu kvalitatīvai izpildei. Pretendents piedāvātās cenas līguma darbības laikā nedrīkst mainit.
C23: Pretendenta uzņēmuma vadītājs vai vadītāja pilnvarota persona:
B24: Vārds, uzvārds, amats
B25: Paraksts | D25: DOKUMENTS IR PARAKSTĪTS AR EIS SISTĒMAS PARAKSTU, VAI DROŠU ELEKTRONISKO PARAKSTU UN SATUR LAIKA ZĪMOGU
