Workbook

Sheet RAKUS_2024_2K
J1: Pielikums Nr.1 Atklāta konkursa „Medicīnisko preču un materiālu piegāde ārstnieciskās un diagnostiskās darbības nodrošināšanai” ID Nr. RAKUS 2021/70K, Nolikumam
I2: Tehniskās specifikācijas pēdējās aktuālizācijas datums: 2024.gada 2.februāris
B3: Tehniskā specifikācija / Tehniskais - finanšu piedāvājums (FORMA)
B4: Atklāts konkurss “Medicīniskās preces un materiāli ārstnieciskās un diagnostiskās darbības nodrošināšanai”
A6: Pozīcijas Nr. | B6: Medicīniskā materiāla apraksts | C6: Mērvienība/ viena vienība | D6: Plānotais daudzums 2 gadiem | E6: Ražotājs | F6: Ražotāja dotais nosaukums | G6: Preces kataloga Nr. | H6: Medicīnas ierīces klase | I6: Sertifikāta un/vai atbilstības deklarācijas reģistrācijas Nr. | J6: Atsauce uz ražotāja tehnisko dokumentāciju, lpp. | K6: Vienību skaits oriģinālā | L6: Cena par vienu vienību EUR bez PVN | M6: Cena kopā EUR bez PVN (4*12) | N6: Preces svītrkods
A7: 1 | B7: 2 | C7: 3 | D7: 4 | E7: 5 | F7: 6 | G7: 7 | H7: 8 | I7: 9 | J7: 10 | K7: 11 | L7: 12 | M7: 13
A8: 1. ENDOSKOPIJA
A9: 1. | B9: Vienreizlietojamās standziņas biopsijas materiāla paņemšanai no žultsvadiem pie biliārām struktūrām. Tehniskās prasības: vienreizlietojama, garums 230 cm. Katetra diametrs 2,1 mm, saderīgas ar 035' vadstiegru. | C9: gab. | D9: 40 | M9: =D9*L9 -> 0
A10: Kopā par pozīciju: | M10: =SUM(M9) -> 0
A11: 2. | B11: Biopsiju standziņas atkārtoti lietojamas (autoklavējamas) distālā daļa ar palielinātu elasticitāti, lai sekotu endoskopa distālā gala maksimālam saliekumam nebojājot endoskopa kanālu. Ovālās biopsijas standziņas (kausiņi ar "lodziņiem" un garāka tipa, ievadāmā daļa ir rievota ar palielinātu elasticitāti).
A12: 2.1. | B12: 1500 - 1650mm x 2.8 mm | C12: gab. | D12: 100 | M12: =D12*L12 -> 0
A13: 2.2. | B13: 2200 - 2400mm x 2.8 mm | C13: gab. | D13: 10 | M13: =D13*L13 -> 0
A14: Kopā par pozīciju: | M14: =SUM(M12:M13) -> 0
A15: 3. | B15: Elipsveida standziņas (kausiņi ar "lodziņiem", garāka tipa un "žurkas" zobu, ievadāmā daļa ir rievota ar palielinātu elasticitāti).
A16: 3.1. | B16: 1500 - 1650mm x 2.8 mm | C16: gab. | D16: 100 | M16: =D16*L16 -> 0
A17: 3.2. | B17: 2200 - 2400mm x 2.8 mm | C17: gab. | D17: 10 | M17: =D17*L17 -> 0
A18: Kopā par pozīciju: | M18: =SUM(M16:M17) -> 0
A19: 4. | B19: Apaļās biopsiju standziņas (kausiņi ar "lodziņiem", garāka tipa un "žurkas" zobu, rotējoša ievadāmā daļa ir rievota ar palielinātu elasticitāti).
A20: 4.1. | B20: 1500 - 1650mm x 2.8 mm | C20: gab. | D20: 20 | M20: =D20*L20 -> 0
A21: 4.2. | B21: 2200 - 2400mm x 2.8 mm | C21: gab. | D21: 10 | M21: =D21*L21 -> 0
A22: Kopā par pozīciju: | M22: =SUM(M20:M21) -> 0
A23: 5. | B23: Rotējošās biopsiju standziņas (kausiņi ar "lodziņiem", zobiņiem un "žurkas" zobu, iespēja paņemt biopsiju arī tangensiāli, ievadāmā daļa ir rievota ar palielinātu elasticitāti).
A24: 5.1. | B24: 1500 - 1650mm x 2.8 mm | C24: gab. | D24: 40 | M24: =D24*L24 -> 0
A25: 5.2. | B25: 2200 - 2400mm x 2.8 mm | C25: gab. | D25: 10 | M25: =D25*L25 -> 0
A26: Kopā par pozīciju: | M26: =SUM(M24:M25) -> 0
A27: 6. | B27: «Karstās» biopsijas standziņas (ovāli kausiņi, ar plastikātu apklāts ievadāmās daļas apvalks).
A28: 6.1. | B28: 1500 - 1750mm x 2.8 mm | C28: gab. | D28: 25 | M28: =D28*L28 -> 0
A29: 6.2. | B29: 2200 - 2400mm x 2.8 mm | C29: gab. | D29: 20 | M29: =D29*L29 -> 0
A30: 6.3. | B30: Rokturis priekš karstajām biopsiju standziņām | C30: gab. | D30: 6 | M30: =D30*L30 -> 0
A31: Kopā par pozīciju: | M31: =SUM(M28:M30) -> 0
A32: 7. | B32: Vienreizlietojamās biopsijas standziņas (ievadāmā daļa pārklāta ar rievotu plastikāta apvalku un palielinātu elasticitāti, kausiņi ar "lodziņiem", dažādas modifikācijas (gludas, zobainas, ar un bez adatas), iespēja paņemt biopsiju tangensiālā virzienā, integrēts rokturis)).
A33: 7.1. | B33: 1500-1650mm x 2.8 mm | C33: gab. | D33: 14000 | M33: =D33*L33 -> 0
A34: 7.2. | B34: 1500-1560 x 2,0mm | C34: gab. | D34: 20 | M34: =D34*L34 -> 0
A35: 7.3. | B35: 2200-2400mm x 2.8 mm | C35: gab. | D35: 3000 | M35: =D35*L35 -> 0
A36: Kopā par pozīciju: | M36: =SUM(M33:M35) -> 0
A37: 8. | B37: Vienreizlietojamās karstās biopsiju standziņas (ievadāmā daļa pārklāta ar rievotu plastikāta apvalku un palielinātu elasticitāti, kausiņi ar "lodziņiem", gludi un zobaini, iespēja paņemt biopsiju tangensiālā virzienā, droša un precīza koagulācija, integrēts rokturis).
A38: 8.1. | B38: 1500-1650mm x 2.8 mm | C38: gab. | D38: 200 | M38: =D38*L38 -> 0
A39: 8.2. | B39: 2200-2400mm x 2.8 mm | C39: gab. | D39: 50 | M39: =D39*L39 -> 0
A40: Kopā par pozīciju: | M40: =SUM(M38:M39) -> 0
A41: 9. | B41: Skalojamās kanulas
A42: 9.1. | B42: 1600-1700 mm x 2.8 mm | C42: gab. | D42: 40 | M42: =D42*L42 -> 0
A43: 9.2. | B43: 2300-2400 mm x 2.8 mm | C43: gab. | D43: 20 | M43: =D43*L43 -> 0
A44: Kopā par pozīciju: | M44: =SUM(M42:M43) -> 0
A45: 10. | B45: Citoloģijas birstes vienreizēji lietojamās (komplektā birste un rokturis)
A46: 10.1. | B46: 1600-1700 mm x 2.8 mm | C46: gab. | D46: 40 | M46: =D46*L46 -> 0
A47: 10.2. | B47: 2300-2400 mm x 2.8 mm | C47: gab. | D47: 10 | M47: =D47*L47 -> 0
A48: 10.3. | B48: Multifunkcionālas standziņas nelielu polipu noņemšanai. Standziņām dubultlodziņi, rotējošas, kausiņš ar zobiņiem. Garums 2300mm, diametrs 2,3mm, savietojams ar 2,8mm endoskopa darba kanālu. Centrālā kausiņa diametrs no 2,6mm. | C48: gab. | D48: 100 | M48: =D48*L48 -> 0
A49: Kopā par pozīciju: | M49: =SUM(M46:M48) -> 0
A50: 1.1. Hemostāzei
A51: 11. | B51: Barības vada varikozo vēnu liģēšanas ierīce. Iespēja uzlikt ne mazāk kā 6 cilpas vienā endoskopu ievietošanas reizē. Ir papildus skalošanas ports ar Luer-Lock savienojumu. Gatavs lietošanai. Savietojams ar endoskopiem, kuru distālā gala ārējais diametrs ir no 9.5 - 11.5 mm un darba kanāls 2.8mm. Krāsaina kontroles piektā cilpa. | C51: kompl. | D51: 100 | M51: =D51*L51 -> 0
A52: Kopā par pozīciju: | M52: =SUM(M51) -> 0
A53: 12. | B53: Endoskopiskie injektori vienreizējās lietošanas (adatas garums no 4-6 mm/diametrs 23-25G, ar precīzu adatas fiksēšanas iespēju, apvalka izturība pret adatas caurduršanu un pārliekšanos izgatavots Star Catheter Techology).
A54: 12.1. | B54: 2000 mm garums x 1.8 mm ārējais diametrs | C54: gab. | D54: 1500 | M54: =D54*L54 -> 0
A55: 12.2. | B55: 2000 mm garums x 2.8 mm ārējais diametrs | C55: gab. | D55: 2500 | M55: =D55*L55 -> 0
A56: 12.3. | B56: 2400 mm garums x 2.3 mm ārējais diametrs | C56: gab. | D56: 2500 | M56: =D56*L56 -> 0
A57: Kopā par pozīciju: | M57: =SUM(M54:M56) -> 0
A58: 13. | B58: Vienreizējās lietošanas klipatori (hemostāzei) ar rotējošo klipsi, ar vismaz 5mm garām skavām un atvērumu vismaz 12.5mm, gatavi lietošanai, sterilā iepakojumā, integrēts rokturis. Jābūt iespējai pārpozicionēt un atvērt aizvērtas skavas. Savietojamība ar endoskopu darba kanāliem 2,8 - 4,2mm.
A59: 13.1. | B59: 1600-1700 mm x 2.8 mm | C59: gab. | D59: 1500 | M59: =D59*L59 -> 0
A60: 13.2. | B60: 2300-2700 mm x 2.8 mm | C60: gab. | D60: 100 | M60: =D60*L60 -> 0
A61: Kopā par pozīciju: | M61: =SUM(M59:M60) -> 0
A62: 14. | B62: Triklipi hemostāzei. Izmērs 1600-1700 mm x 2.8 mm | C62: gab. | D62: 40 | M62: =D62*L62 -> 0
A63: Kopā par pozīciju: | M63: =SUM(M62) -> 0
A64: 15. | B64: Hemostāzes satveršanas standziņas, vienreizlietojamas, rievotas skavas precīzai satveršanai, skavu atvērums 4-5mm, rotējošas, piemērotas gastro- un kolonoskopijām
A65: 15.1. | B65: 1600-1700 mm x 2.8 mm | C65: gab. | D65: 60 | M65: =D65*L65 -> 0
A66: 15.2. | B66: 1900-2300 mm x 3.2mm | C66: gab. | D66: 10 | M66: =D66*L66 -> 0
A67: Kopā par pozīciju: | M67: =SUM(M65:M66) -> 0
A68: 16. | B68: Adatas tipa koagulators hemostāzei
A69: 16.1. | B69: Adatas tipa koagulators hemostāzei, adatas garums 3mm. Izmērs 1600-1700mm x 2.8 mm | C69: kompl. | D69: 10 | M69: =D69*L69 -> 0
A70: 16.2. | B70: Rokturis adatas tipa koagulatora | C70: gab. | D70: 5 | M70: =D70*L70 -> 0
A71: Kopā par pozīciju: | M71: =SUM(M69:M70) -> 0
A72: 17. | B72: Heet probe koagulācijas komplekts. Izmērs 1650-1800 mm x 2.8 mm | C72: kompl. | D72: 4 | M72: =D72*L72 -> 0
A73: Kopā par pozīciju: | M73: =SUM(M72) -> 0
A74: 18. | B74: Bipolārās koagulācijas zondes. Vienreizējās lietošanas; savietojamība ar koagulatoriem ERBE; iespēja vienlaicīgi skalot objektu; savietojamība ar endoskopa darba kanālu 2.8-3,7 mm; Apaļš zelta distālais gals nodošina efektīvu vadītspēju, vienmērīgu piededzināšanu un efektīvu koagulāciju dažādās gala pozīcijās. Zonde ir pasargā no pārliekšanās.Instrumenta garums ne mazāk kā 3000mm | C74: gab. | D74: 200 | M74: =D74*L74 -> 0
A75: Kopā par pozīciju: | M75: =SUM(M74) -> 0
A76: 1.2. Svešķermeņu satvērēji
A77: 19. | B77: Svešķermeņu satvērēji atkārtoti lietojamie
A78: 19.1. | B78: Basketveida svešķermeņu satvērēji (ar 4 stieplēm, atvērums 35mm, lodveida galu)
A79: 19.1.1. | B79: 1600-1700 mm x 1.8 mm | C79: gab. | D79: 10 | M79: =D79*L79 -> 0
A80: 19.1.2. | B80: 1600-1700 mm x 2.8 mm | C80: gab. | D80: 30 | M80: =D80*L80 -> 0
A81: 19.1.3. | B81: 2300-2400 mm x 3.2mm | C81: gab. | D81: 10 | M81: =D81*L81 -> 0
A82: 19.1.4. | B82: Rokturis basketveida satvērējiem | C82: gab. | D82: 10 | M82: =D82*L82 -> 0
A83: 19.2. | B83: Divzobju svešķermeņu satvērēji ("žurkas un aligatora žokļu kombinācija", stingrs satvēriens, skavu atvērums 11,0-19,5mm rievots ar plastikātu apklāts apvalks). 1600-1700 mm x 2.8 mm. | C83: gab. | D83: 30 | M83: =D83*L83 -> 0
A84: 19.3. | B84: Trīszaru svešķermeņu satvērēji (riņķveida zaru gali, atvērums 20mm, ar plastikātu apklāts apvalks). 2300-2400 mm x 2.8 mm. | C84: gab. | D84: 30 | M84: =D84*L84 -> 0
A85: 19.4. | B85: Pieczaru svešķermeņu satvērēji (riņķveida zaru gali, atvērums 20mm, ar plastikātu apklāts apvalks). 2300-2400 mm x 2.8 mm. | C85: gab. | D85: 30 | M85: =D85*L85 -> 0
A86: Kopā par pozīciju: | M86: =SUM(M79:M85) -> 0
A87: 20. | B87: Svešķermeņu satvērēji vienreizlietojamie - divzobju svešķermeņu satvērēji ("žurkas un aligatora žokļu kombinācija", stingrs satvēriens, skavu atvērums 11,0-19,5mm rievots ar plastikātu apklāts apvalks) | C87: gab. | D87: 50 | M87: =D87*L87 -> 0
A88: Kopā par pozīciju: | M88: =SUM(M87) -> 0
A89: 21. | B89: Virscaurules barības vada aizsardzībai evakuējot svešķermeņus: vienreizlietojamas, smaila gala.
A90: 21.1. | B90: Standarta garums 50cm +/- 5 cm, terapeitiskais garums 50cm +/-5 cm | C90: gab. | D90: 30 | M90: =D90*L90 -> 0
A91: 21.2. | B91: Standarta garums 25cm +/- 5 cm, terapeitiskais garums 25 +/- 5 cm | C91: gab. | D91: 30 | M91: =D91*L91 -> 0
A92: Kopā par pozīciju: | M92: =SUM(M90:M91) -> 0
A93: 22. | B93: Vienreizējās lietošanas polipu satvērējs (3-zaru tipa, atvērums 20mm, riņķveida zaru gali). Izmērs 2300-2400 mm x 2.8 mm | C93: gab. | D93: 50 | M93: =D93*L93 -> 0
A94: Kopā par pozīciju: | M94: =SUM(M93) -> 0
A95: 1.3. Polipektomija
A96: 23. | B96: Polipektomijas cilpas - atkārtoti lietojamas.
A97: 23.1. | B97: Ovāla cilpa (komplekts:cilpa (gluda un ar, cilpas vadītājs, ar plasikātu apklāts apvalks, cilpas stieple vīta tipa, cilpas atvērums 15-25mm). Izmērs 2300-2400 mm x 2.8 mm. | C97: gab. | D97: 20 | M97: =D97*L97 -> 0
A98: 23.2. | B98: Asimetriskā cilpa (komplekts:cilpa, cilpas vadītājs, ar plasikātu apklāts apvalks, cilpas stieple vīta tipa, cilpas atvērums 13-23mm):
A99: 23.2.1. | B99: 2300-2400 mm x 2.0 mm | C99: gab. | D99: 20 | M99: =D99*L99 -> 0
A100: 23.2.2. | B100: 2300-2400 mm x 2.8 mm | C100: gab. | D100: 20 | M100: =D100*L100 -> 0
A101: 23.3. | B101: Heksagonālās (komplekts:cilpa, cilpas vadītājs, ar plasikātu apklāts apvalks,cilpas stieple vīta tipa, cilpas atvērums līdz 22mm). Izmērs 2300-2400 mm x 2.8 mm. | C101: gab. | D101: 20 | M101: =D101*L101 -> 0
...

Sheet Vecā pozīcija, pret jauno
A1: Tehniskā specifikācija | B1: Jaunā numerācija
A2: 1 | B2: 1
A3: 2 | B3: 2
A4: 3 | B4: 3
A5: 4 | B5: 4
A6: 5 | B6: 5
A7: 6 | B7: 6
A8: 7 | B8: 7
A9: 8 | B9: 8
A10: 9 | B10: 9
A11: 10 | B11: 10
A12: 11 | B12: 11
A13: 12 | B13: 12
... A591: 600 | B591: 590
A592: 601 | B592: 591 | D592: 591 | F592: 591 | J592: =VLOOKUP(F592,Sheet4!A:B,2,0) -> 595 | K592: =CONCATENATE(J592,".",E592) -> 595.
A593: 602 | B593: 592 | D593: 591 | E593: 1 | F593: 591 | J593: =VLOOKUP(F593,Sheet4!A:B,2,0) -> 595 | K593: =CONCATENATE(J593,".",E593,".") -> 595.1.
A594: 603 | B594: 593 | D594: 591 | E594: 2 | F594: 591 | J594: =VLOOKUP(F594,Sheet4!A:B,2,0) -> 595 | K594: =CONCATENATE(J594,".",E594,".") -> 595.2.
A595: 604 | B595: 594 | D595: 591 | E595: 3 | F595: 591 | J595: =VLOOKUP(F595,Sheet4!A:B,2,0) -> 595 | K595: =CONCATENATE(J595,".",E595,".") -> 595.3.
A596: 605 | B596: 595 | D596: 591 | E596: 4 | F596: 591 | J596: =VLOOKUP(F596,Sheet4!A:B,2,0) -> 595 | K596: =CONCATENATE(J596,".",E596,".") -> 595.4.
A597: 606 | B597: 596 | D597: Kopā par pozīciju: | F597: Kopā par pozīciju: | J597: =VLOOKUP(F597,Sheet4!A:B,2,0) -> #N/A | K597: =CONCATENATE(J597,".",E597,".") -> #N/A
A598: 607 | B598: 597 | D598: 592 | F598: 592 | J598: =VLOOKUP(F598,Sheet4!A:B,2,0) -> 596 | K598: =CONCATENATE(J598,".",E598,".") -> 596..
A599: 608 | B599: 598 | D599: 592 | E599: 1 | F599: 592 | J599: =VLOOKUP(F599,Sheet4!A:B,2,0) -> 596 | K599: =CONCATENATE(J599,".",E599,".") -> 596.1.
A600: 609 | B600: 599 | D600: 592 | E600: 2 | F600: 592 | J600: =VLOOKUP(F600,Sheet4!A:B,2,0) -> 596 | K600: =CONCATENATE(J600,".",E600,".") -> 596.2.
A601: 610 | B601: 600 | D601: Kopā par pozīciju: | F601: Kopā par pozīciju: | J601: =VLOOKUP(F601,Sheet4!A:B,2,0) -> #N/A | K601: =CONCATENATE(J601,".",E601,".") -> #N/A
A602: 611 | B602: 601 | D602: 14 | E602: FORMALĪNA KONTEINERI | F602: 14 | J602: =VLOOKUP(F602,Sheet4!A:B,2,0) -> #N/A | K602: =CONCATENATE(J602,".",E602,".") -> #N/A
A603: 612 | B603: 602 | D603: 593 | F603: 593 | J603: =VLOOKUP(F603,Sheet4!A:B,2,0) -> 597 | K603: =CONCATENATE(J603,".",E603,".") -> 597..
A604: 613 | B604: 603 | D604: 593 | E604: 1 | F604: 593 | J604: =VLOOKUP(F604,Sheet4!A:B,2,0) -> 597 | K604: =CONCATENATE(J604,".",E604,".") -> 597.1.
A605: 614 | B605: 604 | D605: 593 | E605: 2 | F605: 593 | J605: =VLOOKUP(F605,Sheet4!A:B,2,0) -> 597 | K605: =CONCATENATE(J605,".",E605,".") -> 597.2.
A606: 615 | B606: 605 | D606: 593 | E606: 3 | F606: 593 | J606: =VLOOKUP(F606,Sheet4!A:B,2,0) -> 597 | K606: =CONCATENATE(J606,".",E606,".") -> 597.3.
A607: 616 | B607: 606 | D607: 593 | E607: 4 | F607: 593 | J607: =VLOOKUP(F607,Sheet4!A:B,2,0) -> 597 | K607: =CONCATENATE(J607,".",E607,".") -> 597.4.
A608: 617 | B608: 607 | D608: 593 | E608: 5 | F608: 593 | J608: =VLOOKUP(F608,Sheet4!A:B,2,0) -> 597 | K608: =CONCATENATE(J608,".",E608,".") -> 597.5.
A609: 618 | B609: 608 | D609: 593 | E609: 6 | F609: 593 | J609: =VLOOKUP(F609,Sheet4!A:B,2,0) -> 597 | K609: =CONCATENATE(J609,".",E609,".") -> 597.6.
A610: 619 | B610: 609 | D610: 593 | E610: 7 | F610: 593 | J610: =VLOOKUP(F610,Sheet4!A:B,2,0) -> 597 | K610: =CONCATENATE(J610,".",E610,".") -> 597.7.
A611: 620 | B611: 610 | D611: 593 | E611: 8 | F611: 593 | J611: =VLOOKUP(F611,Sheet4!A:B,2,0) -> 597 | K611: =CONCATENATE(J611,".",E611,".") -> 597.8.
A612: 621 | B612: 611 | D612: 593 | E612: 9 | F612: 593 | J612: =VLOOKUP(F612,Sheet4!A:B,2,0) -> 597 | K612: =CONCATENATE(J612,".",E612,".") -> 597.9.
A613: 622 | B613: 612 | D613: 593 | E613: 10 | F613: 593 | J613: =VLOOKUP(F613,Sheet4!A:B,2,0) -> 597 | K613: =CONCATENATE(J613,".",E613,".") -> 597.10.
A614: 623 | B614: 613 | D614: Kopā par pozīciju: | F614: Kopā par pozīciju: | J614: =VLOOKUP(F614,Sheet4!A:B,2,0) -> #N/A | K614: =CONCATENATE(J614,".",E614,".") -> #N/A
A615: 624 | B615: 614 | D615: 15 | E615: STOMATOLOĢIJA | F615: 15 | J615: =VLOOKUP(F615,Sheet4!A:B,2,0) -> #N/A | K615: =CONCATENATE(J615,".",E615,".") -> #N/A
A616: 625 | B616: 615 | D616: 594 | F616: 594 | J616: =VLOOKUP(F616,Sheet4!A:B,2,0) -> 598 | K616: =CONCATENATE(J616,".",E616,".") -> 598..
A617: 626 | B617: 616 | D617: 594 | E617: 1 | F617: 594 | J617: =VLOOKUP(F617,Sheet4!A:B,2,0) -> 598 | K617: =CONCATENATE(J617,".",E617,".") -> 598.1.
A618: 627 | B618: 617 | D618: 594 | E618: 2 | F618: 594 | J618: =VLOOKUP(F618,Sheet4!A:B,2,0) -> 598 | K618: =CONCATENATE(J618,".",E618,".") -> 598.2.
A619: 628 | B619: 618 | D619: Kopā par pozīciju: | F619: Kopā par pozīciju: | J619: =VLOOKUP(F619,Sheet4!A:B,2,0) -> #N/A | K619: =CONCATENATE(J619,".",E619,".") -> #N/A
A620: 629 | B620: 619 | D620: 595 | F620: 595 | J620: =VLOOKUP(F620,Sheet4!A:B,2,0) -> 599 | K620: =CONCATENATE(J620,".",E620,".") -> 599..
A621: 630 | B621: 620 | D621: 595 | E621: 1 | F621: 595 | J621: =VLOOKUP(F621,Sheet4!A:B,2,0) -> 599 | K621: =CONCATENATE(J621,".",E621,".") -> 599.1.
A622: 631 | B622: 621 | D622: 595 | E622: 2 | F622: 595 | J622: =VLOOKUP(F622,Sheet4!A:B,2,0) -> 599 | K622: =CONCATENATE(J622,".",E622,".") -> 599.2.
A623: 632 | B623: 622 | D623: Kopā par pozīciju: | F623: Kopā par pozīciju: | J623: =VLOOKUP(F623,Sheet4!A:B,2,0) -> #N/A | K623: =CONCATENATE(J623,".",E623,".") -> #N/A
A624: 633 | B624: 623 | D624: 596 | F624: 596 | J624: =VLOOKUP(F624,Sheet4!A:B,2,0) -> 600 | K624: =CONCATENATE(J624,".",E624,".") -> 600..
A625: 634 | B625: 624 | D625: 596 | E625: 1 | F625: 596 | J625: =VLOOKUP(F625,Sheet4!A:B,2,0) -> 600 | K625: =CONCATENATE(J625,".",E625,".") -> 600.1.
A626: 635 | B626: 625 | D626: 596 | E626: 2 | F626: 596 | J626: =VLOOKUP(F626,Sheet4!A:B,2,0) -> 600 | K626: =CONCATENATE(J626,".",E626,".") -> 600.2.
A627: 636 | B627: 626 | D627: 596 | E627: 3 | F627: 596 | J627: =VLOOKUP(F627,Sheet4!A:B,2,0) -> 600 | K627: =CONCATENATE(J627,".",E627,".") -> 600.3.
A628: 637 | B628: 627 | D628: 596 | E628: 4 | F628: 596 | J628: =VLOOKUP(F628,Sheet4!A:B,2,0) -> 600 | K628: =CONCATENATE(J628,".",E628,".") -> 600.4.
A629: 638 | B629: 628 | D629: Kopā par pozīciju: | F629: Kopā par pozīciju: | J629: =VLOOKUP(F629,Sheet4!A:B,2,0) -> #N/A | K629: =CONCATENATE(J629,".",E629,".") -> #N/A
A630: 639 | B630: 629 | D630: 597 | F630: 597 | J630: =VLOOKUP(F630,Sheet4!A:B,2,0) -> 601 | K630: =CONCATENATE(J630,".",E630,".") -> 601..
A631: 640 | B631: 630 | D631: Kopā par pozīciju: | F631: Kopā par pozīciju: | J631: =VLOOKUP(F631,Sheet4!A:B,2,0) -> #N/A | K631: =CONCATENATE(J631,".",E631,".") -> #N/A
A632: 641 | B632: 631 | D632: 598 | F632: 598 | J632: =VLOOKUP(F632,Sheet4!A:B,2,0) -> 602 | K632: =CONCATENATE(J632,".",E632,".") -> 602..
A633: 642 | B633: 632 | D633: Kopā par pozīciju: | F633: Kopā par pozīciju: | J633: =VLOOKUP(F633,Sheet4!A:B,2,0) -> #N/A | K633: =CONCATENATE(J633,".",E633,".") -> #N/A
A634: 643 | B634: 633 | D634: 599 | F634: 599 | J634: =VLOOKUP(F634,Sheet4!A:B,2,0) -> 603 | K634: =CONCATENATE(J634,".",E634,".") -> 603..
A635: 644 | B635: 634 | D635: Kopā par pozīciju: | F635: Kopā par pozīciju: | J635: =VLOOKUP(F635,Sheet4!A:B,2,0) -> #N/A | K635: =CONCATENATE(J635,".",E635,".") -> #N/A
A636: 645 | B636: 635 | D636: 600 | F636: 600 | J636: =VLOOKUP(F636,Sheet4!A:B,2,0) -> 604 | K636: =CONCATENATE(J636,".",E636,".") -> 604..
A637: 646 | B637: 636 | D637: 600 | E637: 1 | F637: 600 | J637: =VLOOKUP(F637,Sheet4!A:B,2,0) -> 604 | K637: =CONCATENATE(J637,".",E637,".") -> 604.1.
A638: 647 | B638: 637 | D638: Kopā par pozīciju: | F638: Kopā par pozīciju: | J638: =VLOOKUP(F638,Sheet4!A:B,2,0) -> #N/A | K638: =CONCATENATE(J638,".",E638,".") -> #N/A
A639: 648 | B639: 638 | D639: 601 | F639: 601 | J639: =VLOOKUP(F639,Sheet4!A:B,2,0) -> 605 | K639: =CONCATENATE(J639,".",E639,".") -> 605..
A640: 649 | B640: 639 | D640: 601 | E640: 1 | F640: 601 | J640: =VLOOKUP(F640,Sheet4!A:B,2,0) -> 605 | K640: =CONCATENATE(J640,".",E640,".") -> 605.1.
A641: 650 | B641: 640 | D641: 601 | E641: 2 | F641: 601 | J641: =VLOOKUP(F641,Sheet4!A:B,2,0) -> 605 | K641: =CONCATENATE(J641,".",E641,".") -> 605.2.
A642: 651 | B642: 641 | D642: Kopā par pozīciju: | F642: Kopā par pozīciju: | J642: =VLOOKUP(F642,Sheet4!A:B,2,0) -> #N/A | K642: =CONCATENATE(J642,".",E642,".") -> #N/A
A643: 652 | B643: 642 | D643: 602 | F643: 602 | J643: =VLOOKUP(F643,Sheet4!A:B,2,0) -> 606 | K643: =CONCATENATE(J643,".",E643,".") -> 606..
A644: 653 | B644: 643 | D644: 602 | E644: 1 | F644: 602 | J644: =VLOOKUP(F644,Sheet4!A:B,2,0) -> 606 | K644: =CONCATENATE(J644,".",E644,".") -> 606.1.
A645: 654 | B645: 644 | D645: 602 | E645: 2 | F645: 602 | J645: =VLOOKUP(F645,Sheet4!A:B,2,0) -> 606 | K645: =CONCATENATE(J645,".",E645,".") -> 606.2.
A646: 656 | B646: 645 | D646: 602 | E646: 3 | F646: 602 | J646: =VLOOKUP(F646,Sheet4!A:B,2,0) -> 606 | K646: =CONCATENATE(J646,".",E646,".") -> 606.3.
A647: 657 | B647: 646 | D647: 602 | E647: 4 | F647: 602 | J647: =VLOOKUP(F647,Sheet4!A:B,2,0) -> 606 | K647: =CONCATENATE(J647,".",E647,".") -> 606.4.
A648: 658 | B648: 647 | D648: 602 | E648: 5 | F648: 602 | J648: =VLOOKUP(F648,Sheet4!A:B,2,0) -> 606 | K648: =CONCATENATE(J648,".",E648,".") -> 606.5.
A649: 659 | B649: 648 | D649: 602 | E649: 6 | F649: 602 | J649: =VLOOKUP(F649,Sheet4!A:B,2,0) -> 606 | K649: =CONCATENATE(J649,".",E649,".") -> 606.6.
A650: 660 | B650: 649 | D650: Kopā par pozīciju: | F650: Kopā par pozīciju: | J650: =VLOOKUP(F650,Sheet4!A:B,2,0) -> #N/A | K650: =CONCATENATE(J650,".",E650,".") -> #N/A
A651: 661 | B651: 650 | D651: 603 | F651: 603 | J651: =VLOOKUP(F651,Sheet4!A:B,2,0) -> 607 | K651: =CONCATENATE(J651,".",E651,".") -> 607..
A652: 662 | B652: 651 | D652: 603 | E652: 1 | F652: 603 | J652: =VLOOKUP(F652,Sheet4!A:B,2,0) -> 607 | K652: =CONCATENATE(J652,".",E652,".") -> 607.1.
A653: 663 | B653: 652 | D653: 603 | E653: 2 | F653: 603 | J653: =VLOOKUP(F653,Sheet4!A:B,2,0) -> 607 | K653: =CONCATENATE(J653,".",E653,".") -> 607.2.
A654: 664 | B654: 653 | D654: 603 | E654: 3 | F654: 603 | J654: =VLOOKUP(F654,Sheet4!A:B,2,0) -> 607 | K654: =CONCATENATE(J654,".",E654,".") -> 607.3.
A655: 665 | B655: 654 | D655: 603 | E655: 4 | F655: 603 | J655: =VLOOKUP(F655,Sheet4!A:B,2,0) -> 607 | K655: =CONCATENATE(J655,".",E655,".") -> 607.4.
A656: 666 | B656: 655 | D656: 603 | E656: 4 | F656: 603 | J656: =VLOOKUP(F656,Sheet4!A:B,2,0) -> 607 | K656: =CONCATENATE(J656,".",E656,".") -> 607.4.
A657: 667 | B657: 656 | D657: 603 | E657: 5 | F657: 603 | J657: =VLOOKUP(F657,Sheet4!A:B,2,0) -> 607 | K657: =CONCATENATE(J657,".",E657,".") -> 607.5.
A658: 668 | B658: 657 | D658: 603 | E658: 6 | F658: 603 | J658: =VLOOKUP(F658,Sheet4!A:B,2,0) -> 607 | K658: =CONCATENATE(J658,".",E658,".") -> 607.6.
A659: 669 | B659: 658 | D659: 603 | E659: 7 | F659: 603 | J659: =VLOOKUP(F659,Sheet4!A:B,2,0) -> 607 | K659: =CONCATENATE(J659,".",E659,".") -> 607.7.
A660: 670 | B660: 659 | D660: 603 | E660: 8 | F660: 603 | J660: =VLOOKUP(F660,Sheet4!A:B,2,0) -> 607 | K660: =CONCATENATE(J660,".",E660,".") -> 607.8.
A661: 671 | B661: 660 | D661: 603 | E661: 9 | F661: 603 | J661: =VLOOKUP(F661,Sheet4!A:B,2,0) -> 607 | K661: =CONCATENATE(J661,".",E661,".") -> 607.9.
A662: 672 | B662: 661 | D662: 603 | E662: 10 | F662: 603 | J662: =VLOOKUP(F662,Sheet4!A:B,2,0) -> 607 | K662: =CONCATENATE(J662,".",E662,".") -> 607.10.
A663: 673 | B663: 662 | D663: 603 | E663: 11 | F663: 603 | J663: =VLOOKUP(F663,Sheet4!A:B,2,0) -> 607 | K663: =CONCATENATE(J663,".",E663,".") -> 607.11.
A664: 674 | B664: 663 | D664: Kopā par pozīciju: | F664: Kopā par pozīciju: | J664: =VLOOKUP(F664,Sheet4!A:B,2,0) -> #N/A | K664: =CONCATENATE(J664,".",E664,".") -> #N/A
A665: 675 | B665: 664 | D665: 604 | F665: 604 | J665: =VLOOKUP(F665,Sheet4!A:B,2,0) -> 608 | K665: =CONCATENATE(J665,".",E665,".") -> 608..
A666: 676 | B666: 665 | D666: 604 | E666: 1 | F666: 604 | J666: =VLOOKUP(F666,Sheet4!A:B,2,0) -> 608 | K666: =CONCATENATE(J666,".",E666,".") -> 608.1.
A667: 677 | B667: 666 | D667: 604 | E667: 2 | F667: 604 | J667: =VLOOKUP(F667,Sheet4!A:B,2,0) -> 608 | K667: =CONCATENATE(J667,".",E667,".") -> 608.2.
A668: 678 | B668: 667 | D668: Kopā par pozīciju: | F668: Kopā par pozīciju: | J668: =VLOOKUP(F668,Sheet4!A:B,2,0) -> #N/A | K668: =CONCATENATE(J668,".",E668,".") -> #N/A
A669: 679 | B669: 668 | D669: 605 | F669: 605 | J669: =VLOOKUP(F669,Sheet4!A:B,2,0) -> 609 | K669: =CONCATENATE(J669,".",E669,".") -> 609..
A670: 680 | B670: 669 | D670: 605 | E670: 1 | F670: 605 | J670: =VLOOKUP(F670,Sheet4!A:B,2,0) -> 609 | K670: =CONCATENATE(J670,".",E670,".") -> 609.1.
A671: 681 | B671: 670 | D671: 605 | E671: 2 | F671: 605 | J671: =VLOOKUP(F671,Sheet4!A:B,2,0) -> 609 | K671: =CONCATENATE(J671,".",E671,".") -> 609.2.
A672: 682 | B672: 671 | D672: 605 | E672: 3 | F672: 605 | J672: =VLOOKUP(F672,Sheet4!A:B,2,0) -> 609 | K672: =CONCATENATE(J672,".",E672,".") -> 609.3.
A673: 683 | B673: 672 | D673: 605 | E673: 4 | F673: 605 | J673: =VLOOKUP(F673,Sheet4!A:B,2,0) -> 609 | K673: =CONCATENATE(J673,".",E673,".") -> 609.4.
A674: 684 | B674: 673 | D674: 605 | E674: 5 | F674: 605 | J674: =VLOOKUP(F674,Sheet4!A:B,2,0) -> 609 | K674: =CONCATENATE(J674,".",E674,".") -> 609.5.
A675: 685 | B675: 674 | D675: 605 | E675: 6 | F675: 605 | J675: =VLOOKUP(F675,Sheet4!A:B,2,0) -> 609 | K675: =CONCATENATE(J675,".",E675,".") -> 609.6.
A676: 723 | B676: 675 | D676: 605 | E676: 7 | F676: 605 | J676: =VLOOKUP(F676,Sheet4!A:B,2,0) -> 609 | K676: =CONCATENATE(J676,".",E676,".") -> 609.7.
A677: 724 | B677: 676 | D677: Kopā par pozīciju: | F677: Kopā par pozīciju: | J677: =VLOOKUP(F677,Sheet4!A:B,2,0) -> #N/A | K677: =CONCATENATE(J677,".",E677,".") -> #N/A
...

Sheet Sheet4
A1: 591 | B1: 595
A2: 592 | B2: 596
A3: 593 | B3: 597
A4: 594 | B4: 598
A5: 595 | B5: 599
A6: 596 | B6: 600
A7: 597 | B7: 601
A8: 598 | B8: 602
A9: 599 | B9: 603
A10: 600 | B10: 604
A11: 601 | B11: 605
A12: 602 | B12: 606
... A17: 607 | B17: 611
A18: 604z | B18: 612
A19: 605z | B19: 613
A20: 606z | B20: 614
A21: 607z | B21: 615
A22: 608 | B22: 616
A23: 609 | B23: 617
A24: 610 | B24: 618
A25: 611 | B25: 619
A26: 612 | B26: 620
A27: 613 | B27: 621
A28: 614 | B28: 622
A29: 615 | B29: 623
A30: 616 | B30: 624
A31: 617 | B31: 625
A32: 618 | B32: 626
A33: 619 | B33: 627
... A131: 717 | B131: 725
B132: 726
B133: 727
