Workbook

Sheet RAKUS_2024_2K
J1: Pielikums Nr.1 Atklāta konkursa „Medicīnisko preču un materiālu piegāde ārstnieciskās un diagnostiskās darbības nodrošināšanai” ID Nr. RAKUS 2021/70K, Nolikumam
I2: Tehniskās specifikācijas pēdējās aktuālizācijas datums: 2024.gada 2.februāris
B3: Tehniskā specifikācija / Tehniskais - finanšu piedāvājums (FORMA)
B4: Atklāts konkurss “Medicīniskās preces un materiāli ārstnieciskās un diagnostiskās darbības nodrošināšanai”
A6: Pozīcijas Nr. | B6: Medicīniskā materiāla apraksts | C6: Mērvienība/ viena vienība | D6: Plānotais daudzums 2 gadiem | E6: Ražotājs | F6: Ražotāja dotais nosaukums | G6: Preces kataloga Nr. | H6: Medicīnas ierīces klase | I6: Sertifikāta un/vai atbilstības deklarācijas reģistrācijas Nr. | J6: Atsauce uz ražotāja tehnisko dokumentāciju, lpp. | K6: Vienību skaits oriģinālā | L6: Cena par vienu vienību EUR bez PVN | M6: Cena kopā EUR bez PVN (4*12) | N6: Preces svītrkods
A7: 1 | B7: 2 | C7: 3 | D7: 4 | E7: 5 | F7: 6 | G7: 7 | H7: 8 | I7: 9 | J7: 10 | K7: 11 | L7: 12 | M7: 13
A8: 1. ENDOSKOPIJA
A9: 1. | B9: Vienreizlietojamās standziņas biopsijas materiāla paņemšanai no žultsvadiem pie biliārām struktūrām. Tehniskās prasības: vienreizlietojama, garums 230 cm. Katetra diametrs 2,1 mm, saderīgas ar 035' vadstiegru. | C9: gab. | D9: 40 | M9: =D9*L9 -> 0
A10: Kopā par pozīciju: | M10: =SUM(M9) -> 0
A11: 2. | B11: Biopsiju standziņas atkārtoti lietojamas (autoklavējamas) distālā daļa ar palielinātu elasticitāti, lai sekotu endoskopa distālā gala maksimālam saliekumam nebojājot endoskopa kanālu. Ovālās biopsijas standziņas (kausiņi ar "lodziņiem" un garāka tipa, ievadāmā daļa ir rievota ar palielinātu elasticitāti).
A12: 2.1. | B12: 1500 - 1650mm x 2.8 mm | C12: gab. | D12: 100 | M12: =D12*L12 -> 0
A13: 2.2. | B13: 2200 - 2400mm x 2.8 mm | C13: gab. | D13: 10 | M13: =D13*L13 -> 0
A14: Kopā par pozīciju: | M14: =SUM(M12:M13) -> 0
A15: 3. | B15: Elipsveida standziņas (kausiņi ar "lodziņiem", garāka tipa un "žurkas" zobu, ievadāmā daļa ir rievota ar palielinātu elasticitāti).
A16: 3.1. | B16: 1500 - 1650mm x 2.8 mm | C16: gab. | D16: 100 | M16: =D16*L16 -> 0
A17: 3.2. | B17: 2200 - 2400mm x 2.8 mm | C17: gab. | D17: 10 | M17: =D17*L17 -> 0
A18: Kopā par pozīciju: | M18: =SUM(M16:M17) -> 0
A19: 4. | B19: Apaļās biopsiju standziņas (kausiņi ar "lodziņiem", garāka tipa un "žurkas" zobu, rotējoša ievadāmā daļa ir rievota ar palielinātu elasticitāti).
A20: 4.1. | B20: 1500 - 1650mm x 2.8 mm | C20: gab. | D20: 20 | M20: =D20*L20 -> 0
A21: 4.2. | B21: 2200 - 2400mm x 2.8 mm | C21: gab. | D21: 10 | M21: =D21*L21 -> 0
A22: Kopā par pozīciju: | M22: =SUM(M20:M21) -> 0
A23: 5. | B23: Rotējošās biopsiju standziņas (kausiņi ar "lodziņiem", zobiņiem un "žurkas" zobu, iespēja paņemt biopsiju arī tangensiāli, ievadāmā daļa ir rievota ar palielinātu elasticitāti).
A24: 5.1. | B24: 1500 - 1650mm x 2.8 mm | C24: gab. | D24: 40 | M24: =D24*L24 -> 0
A25: 5.2. | B25: 2200 - 2400mm x 2.8 mm | C25: gab. | D25: 10 | M25: =D25*L25 -> 0
A26: Kopā par pozīciju: | M26: =SUM(M24:M25) -> 0
A27: 6. | B27: «Karstās» biopsijas standziņas (ovāli kausiņi, ar plastikātu apklāts ievadāmās daļas apvalks).
A28: 6.1. | B28: 1500 - 1750mm x 2.8 mm | C28: gab. | D28: 25 | M28: =D28*L28 -> 0
A29: 6.2. | B29: 2200 - 2400mm x 2.8 mm | C29: gab. | D29: 20 | M29: =D29*L29 -> 0
A30: 6.3. | B30: Rokturis priekš karstajām biopsiju standziņām | C30: gab. | D30: 6 | M30: =D30*L30 -> 0
A31: Kopā par pozīciju: | M31: =SUM(M28:M30) -> 0
A32: 7. | B32: Vienreizlietojamās biopsijas standziņas (ievadāmā daļa pārklāta ar rievotu plastikāta apvalku un palielinātu elasticitāti, kausiņi ar "lodziņiem", dažādas modifikācijas (gludas, zobainas, ar un bez adatas), iespēja paņemt biopsiju tangensiālā virzienā, integrēts rokturis)).
A33: 7.1. | B33: 1500-1650mm x 2.8 mm | C33: gab. | D33: 14000 | M33: =D33*L33 -> 0
A34: 7.2. | B34: 1500-1560 x 2,0mm | C34: gab. | D34: 20 | M34: =D34*L34 -> 0
A35: 7.3. | B35: 2200-2400mm x 2.8 mm | C35: gab. | D35: 3000 | M35: =D35*L35 -> 0
A36: Kopā par pozīciju: | M36: =SUM(M33:M35) -> 0
A37: 8. | B37: Vienreizlietojamās karstās biopsiju standziņas (ievadāmā daļa pārklāta ar rievotu plastikāta apvalku un palielinātu elasticitāti, kausiņi ar "lodziņiem", gludi un zobaini, iespēja paņemt biopsiju tangensiālā virzienā, droša un precīza koagulācija, integrēts rokturis).
A38: 8.1. | B38: 1500-1650mm x 2.8 mm | C38: gab. | D38: 200 | M38: =D38*L38 -> 0
A39: 8.2. | B39: 2200-2400mm x 2.8 mm | C39: gab. | D39: 50 | M39: =D39*L39 -> 0
A40: Kopā par pozīciju: | M40: =SUM(M38:M39) -> 0
A41: 9. | B41: Skalojamās kanulas
...

Sheet Vecā pozīcija, pret jauno
A1: Tehniskā specifikācija | B1: Jaunā numerācija
A2: 1 | B2: 1
A3: 2 | B3: 2
A4: 3 | B4: 3
A5: 4 | B5: 4
A6: 5 | B6: 5
A7: 6 | B7: 6
A8: 7 | B8: 7
A9: 8 | B9: 8
A10: 9 | B10: 9
A11: 10 | B11: 10
A12: 11 | B12: 11
A13: 12 | B13: 12
... A591: 600 | B591: 590
A592: 601 | B592: 591 | D592: 591 | F592: 591 | J592: =VLOOKUP(F592,Sheet4!A:B,2,0) -> 595 | K592: =CONCATENATE(J592,".",E592) -> 595.
A593: 602 | B593: 592 | D593: 591 | E593: 1 | F593: 591 | J593: =VLOOKUP(F593,Sheet4!A:B,2,0) -> 595 | K593: =CONCATENATE(J593,".",E593,".") -> 595.1.
A594: 603 | B594: 593 | D594: 591 | E594: 2 | F594: 591 | J594: =VLOOKUP(F594,Sheet4!A:B,2,0) -> 595 | K594: =CONCATENATE(J594,".",E594,".") -> 595.2.
A595: 604 | B595: 594 | D595: 591 | E595: 3 | F595: 591 | J595: =VLOOKUP(F595,Sheet4!A:B,2,0) -> 595 | K595: =CONCATENATE(J595,".",E595,".") -> 595.3.
A596: 605 | B596: 595 | D596: 591 | E596: 4 | F596: 591 | J596: =VLOOKUP(F596,Sheet4!A:B,2,0) -> 595 | K596: =CONCATENATE(J596,".",E596,".") -> 595.4.
A597: 606 | B597: 596 | D597: Kopā par pozīciju: | F597: Kopā par pozīciju: | J597: =VLOOKUP(F597,Sheet4!A:B,2,0) -> #N/A | K597: =CONCATENATE(J597,".",E597,".") -> #N/A
A598: 607 | B598: 597 | D598: 592 | F598: 592 | J598: =VLOOKUP(F598,Sheet4!A:B,2,0) -> 596 | K598: =CONCATENATE(J598,".",E598,".") -> 596..
A599: 608 | B599: 598 | D599: 592 | E599: 1 | F599: 592 | J599: =VLOOKUP(F599,Sheet4!A:B,2,0) -> 596 | K599: =CONCATENATE(J599,".",E599,".") -> 596.1.
A600: 609 | B600: 599 | D600: 592 | E600: 2 | F600: 592 | J600: =VLOOKUP(F600,Sheet4!A:B,2,0) -> 596 | K600: =CONCATENATE(J600,".",E600,".") -> 596.2.
A601: 610 | B601: 600 | D601: Kopā par pozīciju: | F601: Kopā par pozīciju: | J601: =VLOOKUP(F601,Sheet4!A:B,2,0) -> #N/A | K601: =CONCATENATE(J601,".",E601,".") -> #N/A
A602: 611 | B602: 601 | D602: 14 | E602: FORMALĪNA KONTEINERI | F602: 14 | J602: =VLOOKUP(F602,Sheet4!A:B,2,0) -> #N/A | K602: =CONCATENATE(J602,".",E602,".") -> #N/A
A603: 612 | B603: 602 | D603: 593 | F603: 593 | J603: =VLOOKUP(F603,Sheet4!A:B,2,0) -> 597 | K603: =CONCATENATE(J603,".",E603,".") -> 597..
A604: 613 | B604: 603 | D604: 593 | E604: 1 | F604: 593 | J604: =VLOOKUP(F604,Sheet4!A:B,2,0) -> 597 | K604: =CONCATENATE(J604,".",E604,".") -> 597.1.
A605: 614 | B605: 604 | D605: 593 | E605: 2 | F605: 593 | J605: =VLOOKUP(F605,Sheet4!A:B,2,0) -> 597 | K605: =CONCATENATE(J605,".",E605,".") -> 597.2.
A606: 615 | B606: 605 | D606: 593 | E606: 3 | F606: 593 | J606: =VLOOKUP(F606,Sheet4!A:B,2,0) -> 597 | K606: =CONCATENATE(J606,".",E606,".") -> 597.3.
A607: 616 | B607: 606 | D607: 593 | E607: 4 | F607: 593 | J607: =VLOOKUP(F607,Sheet4!A:B,2,0) -> 597 | K607: =CONCATENATE(J607,".",E607,".") -> 597.4.
A608: 617 | B608: 607 | D608: 593 | E608: 5 | F608: 593 | J608: =VLOOKUP(F608,Sheet4!A:B,2,0) -> 597 | K608: =CONCATENATE(J608,".",E608,".") -> 597.5.
A609: 618 | B609: 608 | D609: 593 | E609: 6 | F609: 593 | J609: =VLOOKUP(F609,Sheet4!A:B,2,0) -> 597 | K609: =CONCATENATE(J609,".",E609,".") -> 597.6.
A610: 619 | B610: 609 | D610: 593 | E610: 7 | F610: 593 | J610: =VLOOKUP(F610,Sheet4!A:B,2,0) -> 597 | K610: =CONCATENATE(J610,".",E610,".") -> 597.7.
A611: 620 | B611: 610 | D611: 593 | E611: 8 | F611: 593 | J611: =VLOOKUP(F611,Sheet4!A:B,2,0) -> 597 | K611: =CONCATENATE(J611,".",E611,".") -> 597.8.
A612: 621 | B612: 611 | D612: 593 | E612: 9 | F612: 593 | J612: =VLOOKUP(F612,Sheet4!A:B,2,0) -> 597 | K612: =CONCATENATE(J612,".",E612,".") -> 597.9.
A613: 622 | B613: 612 | D613: 593 | E613: 10 | F613: 593 | J613: =VLOOKUP(F613,Sheet4!A:B,2,0) -> 597 | K613: =CONCATENATE(J613,".",E613,".") -> 597.10.
A614: 623 | B614: 613 | D614: Kopā par pozīciju: | F614: Kopā par pozīciju: | J614: =VLOOKUP(F614,Sheet4!A:B,2,0) -> #N/A | K614: =CONCATENATE(J614,".",E614,".") -> #N/A
A615: 624 | B615: 614 | D615: 15 | E615: STOMATOLOĢIJA | F615: 15 | J615: =VLOOKUP(F615,Sheet4!A:B,2,0) -> #N/A | K615: =CONCATENATE(J615,".",E615,".") -> #N/A
A616: 625 | B616: 615 | D616: 594 | F616: 594 | J616: =VLOOKUP(F616,Sheet4!A:B,2,0) -> 598 | K616: =CONCATENATE(J616,".",E616,".") -> 598..
A617: 626 | B617: 616 | D617: 594 | E617: 1 | F617: 594 | J617: =VLOOKUP(F617,Sheet4!A:B,2,0) -> 598 | K617: =CONCATENATE(J617,".",E617,".") -> 598.1.
...

Sheet Sheet4
A1: 591 | B1: 595
A2: 592 | B2: 596
A3: 593 | B3: 597
A4: 594 | B4: 598
A5: 595 | B5: 599
A6: 596 | B6: 600
A7: 597 | B7: 601
A8: 598 | B8: 602
A9: 599 | B9: 603
A10: 600 | B10: 604
A11: 601 | B11: 605
A12: 602 | B12: 606
... A17: 607 | B17: 611
A18: 604z | B18: 612
A19: 605z | B19: 613
A20: 606z | B20: 614
A21: 607z | B21: 615
A22: 608 | B22: 616
A23: 609 | B23: 617
A24: 610 | B24: 618
A25: 611 | B25: 619
A26: 612 | B26: 620
A27: 613 | B27: 621
A28: 614 | B28: 622
A29: 615 | B29: 623
A30: 616 | B30: 624
A31: 617 | B31: 625
A32: 618 | B32: 626
A33: 619 | B33: 627
... A131: 717 | B131: 725
B132: 726
B133: 727
