Workbook

Sheet Psihotropie
A1: Psihotropie līdzekļi
A3: Nosaukums | B3: Oriģinālu skaits | C3: Cena bez PVN | D3: KOPĀ
A4: Lexotanil 3 mg tabl. | B4: 20 | D4: =C4*B4 -> 0
A5: Bromazepam 3 mg tabl. | B5: 20 | D5: =C5*B5 -> 0
A6: Stilnox 10 mg tabl. | B6: 40 | D6: =C6*B6 -> 0
D7: =SUM(D4:D6) -> 0

Sheet Pretklepus
A1: Pretklepus līdzekļi
A3: Nosaukums | B3: Oriģinālu skaits | C3: Cena bez PVN | D3: KOPĀ
A4: ACC 100 mg/ml N5 | B4: 20 | D4: =C4*B4 -> 0
A5: ACC 200 put.tabl. | B5: 40 | D5: =C5*B5 -> 0
A6: ACC long put.tabl. 600 mg N10 | B6: 80 | D6: =C6*B6 -> 0
A7: Ambroxol Sandoz 30 mg tabl. N20 | B7: 20 | D7: =C7*B7 -> 0
A8: Bronchial Balsam šķīdums iekšķīgai lietošanai | B8: 20 | D8: =C8*B8 -> 0
A9: Brontex tabl. N20 | B9: 60 | D9: =C9*B9 -> 0
A10: Brontex sīrups 3 mg/ml 100 ml | B10: 60 | D10: =C10*B10 -> 0
A11: Easy Breathe Pini Plus syrup Dr.Pakalns 120 ml | B11: 20 | D11: =C11*B11 -> 0
A12: Euphyllin 150 mg tabl. N30 | B12: 4 | D12: =C12*B12 -> 0
A13: Flavamed put.tabl. | B13: 20 | D13: =C13*B13 -> 0
A14: Iceland Moss Syrup Dr.Pakalns 120 ml | B14: 20 | D14: =C14*B14 -> 0
A15: Nova Verde 1.5 mg/ml 30 ml | B15: 40 | D15: =C15*B15 -> 0
... A17: Pini Compositus sīrups 150 g | B17: 100 | D17: =C17*B17 -> 0
D18: =SUM(D4:D17) -> 0

Sheet Pretsāpju
A1: Pretsāpju un pretiekaisuma līdzekļi
A3: Nosaukums | B3: Oriģinālu skaits | C3: Cena bez PVN | D3: KOPĀ
A4: Airtal tabl. 100 mg N60 | B4: 20 | D4: =C4*B4 -> 0
A5: Analgīns amp. 50% 2 ml N10 | B5: 6 | D5: =C5*B5 -> 0
A6: Analgin 500 mg tabl. N20 | B6: 20 | D6: =C6*B6 -> 0
A7: Arcoxia 60 mg tabl. N14 | B7: 20 | D7: =C7*B7 -> 0
A8: Arcoxia 90 mg tabl. N14 | B8: 40 | D8: =C8*B8 -> 0
A9: Arcoxia 120 mg tabl. N14 | B9: 20 | D9: =C9*B9 -> 0
A10: Aspirin 500 mg tabl. N100 | B10: 6 | D10: =C10*B10 -> 0
A11: Bericox 90 tabl. N14 | B11: 160 | D11: =C11*B11 -> 0
A12: Bericox 120 mg tabl. N14 | B12: 40 | D12: =C12*B12 -> 0
A13: DEPO-MEDROL 40 mg/1 ml injekc. | B13: 10 | D13: =C13*B13 -> 0
A14: DEPO-MEDROL 80 mg / 2 ml injekc. | B14: 10 | D14: =C14*B14 -> 0
A15: Dexamethason 4 mg inj.N25 | B15: 12 | D15: =C15*B15 -> 0
... A44: Xefo Rapid 8 mg tabl. N10 | B44: 20 | D44: =C44*B44 -> 0
D45: =SUM(D4:D44) -> 0

Sheet Vitamīni
A1: Vitamīni un augu valsts līdzekļi
A3: Nosaukums | B3: Oriģinālu skaits | C3: Cena bez PVN | D3: KOPĀ
A4: Additiva Heiser pulv. (visas garšas) | B4: 30 | D4: =C4*B4 -> 0
A5: Astaxanthin kaps. LYL | B5: 40 | D5: =C5*B5 -> 0
A6: Bioactive Calcium +D3+K1+K2 tabl. N60 | B6: 40 | D6: =C6*B6 -> 0
A7: Calcigran Sine 500 mg N100 | B7: 40 | D7: =C7*B7 -> 0
A8: Chela Ferr Easy | B8: 40 | D8: =C8*B8 -> 0
A9: Chela-Ferr Med kaps. N30 | B9: 20 | D9: =C9*B9 -> 0
A10: Coenzyme Forte Q10 Walmark kaps. N30 | B10: 40 | D10: =C10*B10 -> 0
A11: Citrosept Organic 20 ml | B11: 100 | D11: =C11*B11 -> 0
A12: Doppelherz Magnesium 400 direkt +B6+B12+Folsaure N20 | B12: 160 | D12: =C12*B12 -> 0
A13: E vit kaps. | B13: 20 | D13: =C13*B13 -> 0
A14: Feratin Forte tabl. N30 | B14: 30 | D14: =C14*B14 -> 0
A15: Fercelan 202,8 mg/0,8 mg/100 mg cietās kapsulas N30 | B15: 340 | D15: =C15*B15 -> 0
... A47: VitirON Immunity Strong kaps. N30 | B47: 80 | D47: =C47*B47 -> 0
D48: =SUM(D4:D47) -> 0

Sheet Pretsaaukstēšanās
A1: Pretsaaukstēšanās līdzekļi
A3: Nosaukums | B3: Oriģinālu skaits | C3: Cena bez PVN | D3: KOPĀ
A4: Cirrus tabl. 5mg/120 mg N14 | B4: 20 | D4: =C4*B4 -> 0
A5: Coldrex Hotrem Honey/Lemon N10 | B5: 60 | D5: =C5*B5 -> 0
A6: Coldrex HotRem Lemon+Vitamin C | B6: 20 | D6: =C6*B6 -> 0
A7: Coldrex tabl. N24 | B7: 80 | D7: =C7*B7 -> 0
A8: Decatylen tabl. N20 | B8: 120 | D8: =C8*B8 -> 0
A9: Dymista 137 mikrogrami/50 mikrogrami devā deguna aerosols, suspensija | B9: 20 | D9: =C9*B9 -> 0
A10: Faringo Spray 20 ml | B10: 110 | D10: =C10*B10 -> 0
A11: Furasol 100 mg pulveris ārīgi lietojama šķīduma pagatavošanai N5 | B11: 40 | D11: =C11*B11 -> 0
A12: Galathenol 1 mg/50 mg/ml deguna aerosols, šķīdums | B12: 200 | D12: =C12*B12 -> 0
A13: HUMER deguna aerosols 50ml | B13: 40 | D13: =C13*B13 -> 0
A14: Isla Medic tabl. N20 | B14: 150 | D14: =C14*B14 -> 0
A15: Isla moos tabl. N30 | B15: 150 | D15: =C15*B15 -> 0
... A39: Xymelin deguna pilieni | B39: 40 | D39: =C39*B39 -> 0
D40: =SUM(D4:D39) -> 0

Sheet Kuņģa
A1: Kuņģa- zarnu trakta ārstēšanas līdzekļi
A3: Nosaukums | B3: Oriģinālu skaits | C3: Cena bez PVN | D3: KOPĀ
A4: Antiflat tabl. N50 | B4: 10 | D4: =C4*B4 -> 0
A5: Aktivētā ogle kapsulās Jonax N20 | B5: 40 | D5: =C5*B5 -> 0
A6: Carsil tabl. N80 | B6: 60 | D6: =C6*B6 -> 0
A7: Cerucal amp. 10 mg / 2 ml N10 | B7: 4 | D7: =C7*B7 -> 0
A8: Cerucal tabl. 10 mg N50 | B8: 6 | D8: =C8*B8 -> 0
A9: Enterol 250 mg pulveris N10 | B9: 40 | D9: =C9*B9 -> 0
A10: Enterol 250 mg kaps. N10 | B10: 40 | D10: =C10*B10 -> 0
A11: Escadra 20 mg zarnās šķīstošās cietās kapsulas N28 | B11: 30 | D11: =C11*B11 -> 0
A12: Escadra 40 mg zarnās šķīstošās cietās kapsulas N28 | B12: 20 | D12: =C12*B12 -> 0
A13: Esomeprazole Actavis 20 mg N14 | B13: 30 | D13: =C13*B13 -> 0
A14: Esomeprazole Actavis 40 mg N14 | B14: 30 | D14: =C14*B14 -> 0
A15: Espumisan kaps. 40 mg N50 | B15: 20 | D15: =C15*B15 -> 0
... A43: Vermox 100 mg tabletes N6 | B43: 20 | D43: =C43*B43 -> 0
D44: =SUM(D4:D43) -> 0

Sheet Pretaleģijas
A1: Pretalerģijas līdzekļi
A3: Nosaukums | B3: Oriģinālu skaits | C3: Cena bez PVN | D3: KOPĀ
A4: Opexa 20 mg tabl. N10 | B4: 80 | D4: =C4*B4 -> 0
A5: Suprastin 20 mg/ml šķīdums injekcijām N5 | B5: 2 | D5: =C5*B5 -> 0
A6: Tavegyl 1mg tabl.N20 | B6: 2 | D6: =C6*B6 -> 0
A7: Xyzal tabl. N28 | B7: 20 | D7: =C7*B7 -> 0
A8: Zyrtec tabl. 10 mg N30 | B8: 24 | D8: =C8*B8 -> 0
D9: =SUM(D4:D8) -> 0

Sheet Galvas smadzeņu
A1: Galvas smadzeņu darbības un nervu sistēmas regulējoši līdzekļi
A3: Nosaukums | B3: Oriģinālu skaits | C3: Cena bez PVN | D3: KOPĀ
A4: Actovegin amp. 200 mg 5ml N5 | B4: 40 | D4: =C4*B4 -> 0
A5: Actovegin forte draž. 200 mg N50 | B5: 80 | D5: =C5*B5 -> 0
A6: Adaptol kaps. 300 mg N20 | B6: 10 | D6: =C6*B6 -> 0
A7: Good Sleep Spray 30 ml | B7: 100 | D7: =C7*B7 -> 0
A8: Good Sleep Caps N30 | B8: 10 | D8: =C8*B8 -> 0
A9: Herbastress tabl. N30 | B9: 4 | D9: =C9*B9 -> 0
A10: Lucetam 1g 5ml N10 | B10: 4 | D10: =C10*B10 -> 0
A11: Lyrica 75 mg | B11: 6 | D11: =C11*B11 -> 0
A12: Nervostrong kaps. N30 MediaPharma | B12: 10 | D12: =C12*B12 -> 0
A13: Neurontin 300 mg kaps. N50 | B13: 10 | D13: =C13*B13 -> 0
A14: Neuromidin tabl. | B14: 10 | D14: =C14*B14 -> 0
A15: Noofen 250 mg tabletes N20 | B15: 160 | D15: =C15*B15 -> 0
... A21: StopStress tabl. N30 | B21: 12 | D21: =C21*B21 -> 0
D22: =SUM(D4:D21) -> 0

Sheet Sirds
A1: Sirds un asinsvadu ārstējošie līdzekļi
A3: Nosaukums | B3: Oriģinālu skaits | C3: Cena bez PVN | D3: KOPĀ
A4: Adrenaline Sopharma 1 mg/ml šķīdums injekcijām | B4: 4 | D4: =C4*B4 -> 0
A5: Aethoxysklerol inj. 0.5% N5 | B5: 8 | D5: =C5*B5 -> 0
A6: Betaloc 1 mg/ml šķīdums injekcijām N5 | B6: 2 | D6: =C6*B6 -> 0
A7: Detralex 500 mg tabl. N60 | B7: 10 | D7: =C7*B7 -> 0
A8: Furosemide šķīdums injekcijām 10 mg/ml N10 2 ml | B8: 2 | D8: =C8*B8 -> 0
A9: Furosemīds 40 mg tabl. N50 | B9: 4 | D9: =C9*B9 -> 0
A10: Metoprolols 100 mg tabl. N30 | B10: 10 | D10: =C10*B10 -> 0
A11: Nitroglycerin tabl. N40 | B11: 2 | D11: =C11*B11 -> 0
A12: Riboksīns kaps. | B12: 60 | D12: =C12*B12 -> 0
A13: Valocordin 18 mg/18 mg/ml šķīdums iekšķīgai lietošanai | B13: 10 | D13: =C13*B13 -> 0
A14: Xarelto 10 mg tabl. N30 | B14: 2 | D14: =C14*B14 -> 0
D15: =SUM(D4:D14) -> 0

Sheet Acu
A1: Acu ārstēšanas līdzekļi
A3: Nosaukums | B3: Oriģinālu skaits | C3: Cena bez PVN | D3: KOPĀ
A4: Bepanthen eye pilieni N20 x 0.5 ml | B4: 10 | D4: =C4*B4 -> 0
A5: Maxitrol acu pilieni 5 ml | B5: 40 | D5: =C5*B5 -> 0
A6: Oftan Dexa acu pilieni 5ml | B6: 10 | D6: =C6*B6 -> 0
A7: Optive 10 ml | B7: 20 | D7: =C7*B7 -> 0
A8: Systane Ultra acu pilieni 10 ml | B8: 20 | D8: =C8*B8 -> 0
A9: Tobradex acu pilieni | B9: 10 | D9: =C9*B9 -> 0
A10: UniTears 10 ml | B10: 20 | D10: =C10*B10 -> 0
A11: Visine 0,5 mg/ml acu pilieni, šķīdums | B11: 20 | D11: =C11*B11 -> 0
D12: =SUM(D4:D11) -> 0

Sheet Ārīgi lietojamie
A1: Ārīgi lietojamie līdzekļi
A3: Nosaukums | B3: Oriģinālu skaits | C3: Cena bez PVN | D3: KOPĀ
A4: Acic krēms 5% 50 mg/g 2 g | B4: 40 | D4: =C4*B4 -> 0
A5: Amonjaka šķīdums 10% 40 ml | B5: 40 | D5: =C5*B5 -> 0
A6: Bepanthen krēms 5% 30g | B6: 40 | D6: =C6*B6 -> 0
A7: Bepanthen Plus cream 5% 30 g | B7: 40 | D7: =C7*B7 -> 0
A8: Bepanthen ziede 5% 30 g | B8: 40 | D8: =C8*B8 -> 0
A9: Brūču ziede 35 g | B9: 20 | D9: =C9*B9 -> 0
A10: Capsicam ziede 30 g | B10: 20 | D10: =C10*B10 -> 0
A11: Compeed (plāksteri aukstumpumpām) | B11: 40 | D11: =C11*B11 -> 0
A12: Contractubex gēls 10 g | B12: 20 | D12: =C12*B12 -> 0
A13: Dermatix Ultra gel 15g | B13: 20 | D13: =C13*B13 -> 0
A14: Dolobene gel 50 g | B14: 160 | D14: =C14*B14 -> 0
A15: Emox gēls 55 g | B15: 10 | D15: =C15*B15 -> 0
... A46: Zovirax cream 5% 2g | B46: 60 | D46: =C46*B46 -> 0
D47: =SUM(D4:D46) -> 0

Sheet Pretmikrobu
A1: Pretmikrobu, pretsēnīšu un pretvīrusu līdzekļi
A3: Nosaukums | B3: Oriģinālu skaits | C3: Cena bez PVN | D3: KOPĀ
A4: Amoksycillin/Acidum clavulanicum 500 mg/125 mg | B4: 60 | D4: =C4*B4 -> 0
A5: Amoksycillin/Acidum clavulanicum 875 mg/125 mg | B5: 100 | D5: =C5*B5 -> 0
A6: Berlocid 800 mg/160 mg N20 | B6: 4 | D6: =C6*B6 -> 0
A7: Ciprofloxacin 500 mg N10 | B7: 20 | D7: =C7*B7 -> 0
A8: Dalacin-C kaps. 300 mg N16 | B8: 4 | D8: =C8*B8 -> 0
A9: Doxycyclin 100 mg tabl. N10 | B9: 80 | D9: =C9*B9 -> 0
A10: Doxycyclin 200 mg tabl. N10 | B10: 40 | D10: =C10*B10 -> 0
A11: Fitolizīna pasta 100 g | B11: 10 | D11: =C11*B11 -> 0
A12: Furagin 50 mg tabl.N30 | B12: 12 | D12: =C12*B12 -> 0
A13: Furamags 50 mg kaps. N30 | B13: 10 | D13: =C13*B13 -> 0
A14: Herpelāns 200 mg N20 | B14: 10 | D14: =C14*B14 -> 0
A15: Klacid SR tabl. 500 mg N7 | B15: 30 | D15: =C15*B15 -> 0
... A19: Zinnat 500 mg tabl. N10 | B19: 20 | D19: =C19*B19 -> 0
D20: =SUM(D4:D19) -> 0

Sheet Preparāti locītavām
A1: Preparāti locītāvām
A3: Nosaukums | B3: Oriģinālu skaits | C3: Cena bez PVN | D3: KOPĀ
A4: Bioactive Glucosamine Forte Plus tabl. | B4: 60 | D4: =C4*B4 -> 0
A5: BioleVox | B5: 40 | D5: =C5*B5 -> 0
A6: Cingal | B6: 40 | D6: =C6*B6 -> 0
A7: Doppel herz Kollagen 11.000 plus amp.N30 | B7: 400 | D7: =C7*B7 -> 0
A8: Durolane inj. i/a N1 | B8: 50 | D8: =C8*B8 -> 0
D9: =SUM(D4:D8) -> 0

Sheet Homeop
A1: Homeopātiskie līdzekļi
A3: Nosaukums | B3: Oriģinālu skaits | C3: Cena bez PVN | D3: KOPĀ
A4: Angin- Heel tabl. N50 | B4: 10 | D4: =C4*B4 -> 0
A5: Berberis-Homaccord pilieni 30 ml | B5: 10 | D5: =C5*B5 -> 0
A6: Coryzalia tabl. N40 | B6: 20 | D6: =C6*B6 -> 0
A7: Discus compositum šķīdums injekcijām 2.2 ml N10 | B7: 10 | D7: =C7*B7 -> 0
A8: Gastricumeel tabl.N50 | B8: 6 | D8: =C8*B8 -> 0
A9: Gripp-Heel tabl. N50 | B9: 20 | D9: =C9*B9 -> 0
A10: Hepar compositum N šķīdums injekcijām 2.2 ml N10 | B10: 10 | D10: =C10*B10 -> 0
A11: Homeovox tabl. N60 | B11: 40 | D11: =C11*B11 -> 0
A12: Lymphomyosot pilieni iekšķīgai lietošanai 30 ml | B12: 10 | D12: =C12*B12 -> 0
A13: Lymphomyosot tabl. N50 | B13: 4 | D13: =C13*B13 -> 0
A14: Nux vomica-Homaccord pilieni iekšķīgai lietošanai, šķīdums 30 ml | B14: 10 | D14: =C14*B14 -> 0
A15: Oscillococcinum 1g N30 | B15: 30 | D15: =C15*B15 -> 0
... A24: Zeel T šķīdums injekcijām 2.2 ml N10 | B24: 10 | D24: =C24*B24 -> 0
D25: =SUM(D4:D24) -> 0

Sheet Parenterālie
A1: Parenterālie šķīdumi
A3: Nosaukums | B3: Oriģinālu skaits | C3: Cena bez PVN | D3: KOPĀ
A4: Aminoplasmal 5% E 500 ml balt. | B4: 60 | D4: =C4*B4 -> 0
A5: Calc.Glucon. amp.10% N50 | B5: 6 | D5: =C5*B5 -> 0
A6: Glikozes šķ. 5% 250 ml | B6: 30 | D6: =C6*B6 -> 0
A7: L-arginin-HCL 21% braun 20 ml N10 | B7: 20 | D7: =C7*B7 -> 0
A8: Magnesii sulfas 25% sol. 10 ml N10 | B8: 6 | D8: =C8*B8 -> 0
A9: Mannitol Fresenius 10% 500 ml | B9: 24 | D9: =C9*B9 -> 0
A10: Na Cl 0.9 % 180/100 ml miniflac. | B10: 100 | D10: =C10*B10 -> 0
A11: Na Cl 0.9% sol 250 ml | B11: 80 | D11: =C11*B11 -> 0
A12: Na Cl 0.9% sol 500 ml | B12: 80 | D12: =C12*B12 -> 0
A13: Na Cl flk 0.9% -10 ml N20 | B13: 60 | D13: =C13*B13 -> 0
A14: Ringera šķīdums fl. 250 ml | B14: 40 | D14: =C14*B14 -> 0
A15: Ringera šķīdums fl. 500 ml | B15: 40 | D15: =C15*B15 -> 0
... A17: Unizink 10 ml amp. | B17: 40 | D17: =C17*B17 -> 0
D18: =SUM(D4:D17) -> 0

Sheet Kopsavilkums
A2: NPK | B2: Nosaukums | C2: Summa EUR bez PVN
A3: 1 | B3: Psihotropie līdzekļi | C3: =Psihotropie!D7 -> 0
A4: 2 | B4: Pretklepus līdzekļi | C4: =Pretklepus!D18 -> 0
A5: 3 | B5: Pretsāpju un pretiekaisuma līdzekļi | C5: =Pretsāpju!D45 -> 0
A6: 4 | B6: Vitamīni un augu valsts līdzekļi | C6: =Vitamīni!D48 -> 0
A7: 5 | B7: Pretsaaukstēšanās līdzekļi | C7: =Pretsaaukstēšanās!D40 -> 0
A8: 6 | B8: Kuņģa- zarnu trakta ārstēšanas līdzekļi | C8: =Kuņģa!D44 -> 0
A9: 7 | B9: Pretalerģijas līdzekļi | C9: =Pretaleģijas!D9 -> 0
A10: 8 | B10: Galvas smadzeņu darbības un nervu sistēmas regulējoši līdzekļi | C10: ='Galvas smadzeņu'!D22 -> 0
A11: 9 | B11: Sirds un asinsvadu ārstējošie līdzekļi | C11: =Sirds!D15 -> 0
A12: 10 | B12: Acu ārstēšanas līdzekļi | C12: =Acu!D12 -> 0
A13: 11 | B13: Ārīgi lietojamie līdzekļi | C13: ='Ārīgi lietojamie'!D47 -> 0
A14: 12 | B14: Pretmikrobu, pretsēnīšu un pretvīrusu līdzekļi | C14: =Pretmikrobu!D20 -> 0
A15: 13 | B15: Preparāti locītāvām | C15: ='Preparāti locītavām'!D9 -> 0
A16: 14 | B16: Homeopātiskie līdzekļi | C16: =Homeop!D25 -> 0
A17: 15 | B17: Parenterālie šķīdumi | C17: =Parenterālie!D18 -> 0
B18: KOPĀ | C18: =SUM(C3:C17) -> 0
