Workbook

Sheet Saturs
A1: Saturs | D1: Saimnieciski izdevīgākā piedāvājuma punktu piešķiršanas sistēma
A2: Nr. | B2: Nosaukums | C2: Skaits*** | D2: Cena (A), maksimālais punktu skaits | E2: Jānorāda Preces ražotāja noteiktais preces maksimālais lietošanas ilgums (gados) (B), maksimālais punktu skaits | F2: Iekārtai nav nepieciešama kalibrēšana (C) , maksimālais punktu skaits | G2: Preces/ iekārtas elektroenerģijas patēriņš vai Preces/Iekārtas energoefektivitātē (D), maksimālais punktu skaits | H2: Iekārtas darbības laiks no akumulatora (E), maksimālais punktu skaits | I2: Mērīšanas kļūda ne zemāka par +/- 3 mmHg (F), maksimālais punktu skaits | J2: Vēlama nodrošināšana iekārtas klīnisko datu integrācija ar ražotāja Philips klīniskās pacientu datu uzskaites sistēmu ICCA (G), maksimālais punktu skaits | K2: Pieejams binokulārais autovadītāju tests (H), maksimālais punktu skaits | L2: Kopā
A3: 1. | B3: Stacionārs spirogrāfs ar un bez bronhoprovokācijas moduļa | C3: 4 | D3: 75 | E3: 10 | F3: 5 | G3: 10 | H3: 0 | I3: 0 | J3: 0 | K3: 0 | L3: =SUM(D3:K3) -> 100
A4: 2. | B4: Pacienta vitālo funkciju monitors | C4: 1 | D4: 70 | E4: 10 | F4: 0 | G4: 5 | H4: 10 | I4: 5 | J4: 0 | K4: 0 | L4: =SUM(D4:K4) -> 100
A5: 3. | B5: Pacientu transporta mākslīgās plaušu ventilācijas iekārta | C5: 1 | D5: 70 | E5: 10 | F5: 0 | G5: 10 | H5: 5 | I5: 0 | J5: 5 | K5: 0 | L5: =SUM(D5:K5) -> 100
A6: 4. | B6: Infūziju sūknis | C6: 20 | D6: 80 | E6: 10 | F6: 0 | G6: 10 | H6: 0 | I6: 0 | J6: 0 | K6: 0 | L6: =SUM(D6:K6) -> 100
A7: 5. | B7: Kompjuterizēts perimetrs redzes lauka noteikšanai | C7: 1 | D7: 75 | E7: 10 | F7: 0 | G7: 10 | H7: 0 | I7: 0 | J7: 0 | K7: 5 | L7: =SUM(D7:K7) -> 100
A8: 6. | B8: Ginekoloģijas izmeklējumu kušete/krēsls | C8: 2 | D8: 80 | E8: 10 | F8: 0 | G8: 10 | H8: 0 | I8: 0 | J8: 0 | K8: 0 | L8: =SUM(D8:K8) -> 100
A9: 7. | B9: Alaris perfuzoru rezerves daļas | C9: Skatīt pie pozīcijas | D9: 100 | E9: 0 | F9: 0 | G9: 0 | H9: 0 | I9: 0 | J9: 0 | K9: 0 | L9: =SUM(D9:K9) -> 100

Sheet Obl.pras.
A1: nr. | B1: Obligātās prasības iekārtām un iesniegtajam piedāvājumam | C1: Pretendenta piedāvājums, atsauce uz informatīvo materiālu (Informatīvā materiāla nosaukums, lpp.)
C2: 1. pozīcija - Stacionārs spirogrāfs ar un bez bronhoprovokācijas moduļa | D2: 2. pozīcija - Pacienta vitālo funkciju monitors | E2: 3.pozīcija - Pacientu transporta mākslīgās plaušu ventilācijas iekārta | F2: 4. pozīcija - Infūziju sūknis | G2: 5. pozīcija - Kompjuterizēts perimetrs redzes lauka noteikšanai | H2: 6. pozīcija - Ginekoloģijas izmeklējumu kušete/krēsls | I2: 7. Pozīcija - Alaris perfuzoru rezerves daļas
A3: Piemērs | B3: Piemērs | C3: Ražotāja apliecinājums 1, 1.lpp | I3: Informatīvais materiāls 2, 4.lpp
A4: Piedāvājumam jāpievieno:
A5: 1 | B5: Preces ražotāja izsniegta autorizācijas vēstule, kas apliecina, ka pretendents ir tiesīgs izplatīt un nodrošināt tehnisko apkalpošanu* piedāvātai Precei Latvijas Republikā. Vai arī ražotāja apliecinājums, ka autorizācija nav nepieciešama. Ja iesniegtais piedāvājums sastāv no dažāda ražotāja iekārtām autorizācijas vēstule jāiesniedz par katru ražotāju.
A6: 2 | B6: Piedāvātas Preces atbilstības deklarācijas kopija. (Ja piedāvātās sistēmas komplektācija sastāv no vairākām iekārtām nepieciešams iesniegt atbilstības deklarācijas kopiju par katru iekārtu)
A7: 3 | B7: Piedāvātas Preces CE sertifikāta kopija, ja attiecināms. (Ja piedāvātās sistēmas komplektācija sastāv no vairākām iekārtām nepieciešams iesniegt CE sertifikāta kopiju par katru iekārtu, ja attiecināms)
A8: 4 | B8: Ja ražotājs ir paredzējis, ka periodiski veicamos darbus** un/vai remontu var veikt tikai sertificēts inženieris, piesakoties uz atbilstošo pozīciju, jāiesniedz atbilstošs inženiera sertifikāts par apmācībām, kurās norādīta atbilstība veikt konkrētā modeļa ierīču periodiskos darbus un/vai remontu vai iesniegt ražotāja apliecinājumu par Preces garantijas remonta un tehniskās apkalpošanas pasākumu, ja tādi ir nepieciešami, nodrošināšanas iespējām. (Ja piedāvātās sistēmas komplektācija sastāv no vairākām iekārtām nepieciešams iesniegt inženiera sertifikātu par katru iekārtu, ja attiecināms) | H8: Nav attiecināms
A9: 5 | B9: Ražotāja apstiprinātu periodiski veicamo darbu sarakstu, kā arī šo darbu periodiskumu (servisa rokasgrāmatas attiecīgās sadaļas ar ietvertu informāciju par veicamajām darbībām, to periodiskumu, mērāmajiem parametriem, to robežvērtībām, regulāri maināmajām rezerves daļām), ja ražotājs tādus ir paredzējis. Ja ražotājs nav paredzējis periodiski veicamos darbus, par to jāiesniedz ražotāja apliecinājums. Servisa rokasgrāmatas sadaļas var aizstāt ar ražotāja apstiprinātu dokumentu, kas ietver šajā punktā aprakstīto informāciju. (Ja piedāvātās sistēmas komplektācija sastāv no vairākām iekārtām nepieciešams iesniegt periodiski veicamo darbu sarakstu par katru iekārtu, ja attiecināms)
A10: 6 | B10: Piedāvājumā iesniegt iespējamās remontstundas un periodiski veicamo darbu izmaksas pēc garantijas periodā, ja ražotājs tādas ir paredzējis. (Ja piedāvātās sistēmas komplektācija sastāv no vairākām iekārtām nepieciešams iesniegt remontstundas un periodiski veicamo darbu izmaksas par katru iekārtu, ja attiecināms) | C10: Izmaksas norādīt sadaļā "Iekārtu tehniskā apkalpošana" | D10: Izmaksas norādīt sadaļā "Iekārtu tehniskā apkalpošana" | E10: Izmaksas norādīt sadaļā "Iekārtu tehniskā apkalpošana" | F10: Izmaksas norādīt sadaļā "Iekārtu tehniskā apkalpošana"
A11: Prasības precei:
A12: 7 | B12: Piedāvātā Prece ir jauna, iepriekš nelietota un nav izmantota prezentācijās; tā nesatur iepriekš lietotas vai atjaunotas sastāvdaļas vai komponentes. Tā ir ražota ne agrāk kā 12 mēnešus pirms piegādes. | C12: Piedāvājot savu preci, pretendents apstiprina preces nosacījumu izpildi. | I12: Piedāvājot savu preci, pretendents apstiprina preces nosacījumu izpildi.
A13: 8 | B13: Piedāvātajām Precēm garantijas termiņš ir vismaz 24 mēneši no pieņemšanas – nodošanas akta abpusējas parakstīšanas brīža. | I13: Nav attiecināms
A14: 9 | B14: Garantijas laikā Piegādātājs bez papildus samaksas nodrošina ierīces remontu un periodiskos darbus atbilstoši ražotāja noteiktajām prasībām, ja ražotājs tādu ir paredzējis.
A15: 10 | B15: Garantijas laikā Piegādātājs bez papildus samaksas nodrošina konsultācijas un atkārtotas apmācības par Preci, kuras vada apmācīts speciālists, ja tādas ir nepieciešamas lietotājam.
A16: 11 | B16: Prece tiek piegādāta 90 dienu laikā, lūdzam norādīt iekārtas piegādes laiku. Paredzamais iekārtu uzstādīšanas laiks ir 2024. gada jūlijs, preču pasūtīšana tiks veikta pēc nepieciešamības 2024. gadā. | C16: Norādīt piegādes laiku: | D16: Norādīt piegādes laiku: | E16: Norādīt piegādes laiku: | F16: Norādīt piegādes laiku: | G16: Norādīt piegādes laiku: | H16: Norādīt piegādes laiku: | I16: Norādīt piegādes laiku:
A17: Preces piegādes nosacījumi:
A18: 12 | B18: Piegādājot Preci, Piegādātājs nodod sekojošu dokumentāciju: medicīniskās ierīces lietošanas instrukcijas un citas dokumentācijas oriģinālvalodā un valsts valodā nodošanu (gan papīra, gan digitālā formātā) un vigilances sistēmas darbības izskaidrošanu lietotājam attiecībā uz konkrēto medicīnisko ierīci | C18: Piedāvājot savu preci, pretendents apstiprina preces piegādes nosacījumu izpildi. | I18: Nav attiecināms
A19: 13 | B19: Nododot Preci ekspluatācijā, piegādātājs nodrošina Preces uzstādīšanu, ierīces funkcionālo un elektrodrošības pārbaudi, kā arī funkciju testēšanu un ierīces kalibrēšanu(ja, uzsākot tās ekspluatāciju, tādas prasības paredzētas ierīces tehniskajā dokumentācijā), iesniedz domenentāciju par šo darbu izpildi.
A20: 14 | B20: Piegādājot preci piegādātās veic medicīniskās ierīces lietotāja apmācību un izsniedzot apliecinošu dokumentu, kurā norāda apmācīto personu, personu, kura veikusi apmācību, un apmācības veikšanas datumu; Piegādājot preci piegādātās veic medicīniskās ierīces tehniskajā dokumentācijā pieprasīto ierīces lietošanas vides raksturlielumu un garantētā elektroapgādes režīma pārbaudi un šo pierakstu nodošanu medicīniskās ierīces īpašniekam vai turētājam.
A21: 15 | B21: Piegādājot Preci, Piegādātājs nodrošina medicīniskās ierīces tehniskajā dokumentācijā pieprasīto ierīces lietošanas vides raksturlielumu un garantētā elektroapgādes režīma pārbaudi un šo pierakstu nodošanu pasūtītājam (Attiecināms uz Aktīvām IIa, aktīvām IIb un aktīvām III klases medicīnas ierīcēm ierīcēm, kurām ražotājs šādu pārbaudi ir noteicis)
A22: Tehniskās apkalpošanas nodrošināšanas nosacījumi
A23: 16 | B23: Visu veidu tehniskā apkalpošana tiek veikta tikai pēc Pasūtītāja pieprasījuma. | C23: Piedāvājot savu preci, pretendents apstiprina tehniskās apkalpošanas nodrošināšanas nosacījumu izpildi. | H23: Nav attiecināms
A24: 17 | B24: Visu veidu tehniskā apkalpošana tikai izņēmuma gadījumos notiek ārpus Slimnīcas teritorijas, iepriekš to saskaņojot ar Pasūtītāju. Ja autorizētais pārstāvis iekārtas tehnisko apkalpošanu nenodrošina uz vietas, bet ierīce tiek sūtīta ražotājam, tad to norādīt piedāvājumā.
A25: 18 | B25: Tehniskā uzraudzība jādokumentē atbilstoši ražotāja un 2023.gada 15.augusta Ministru kabineta noteikumu nr. 461 "Medicīnisko ierīču noteikumi" punktiem 45., 56., 59., norādot visas izmantotās mēriekārtas un mērīto lielumu robežvērtības, ja attiecināms.
A26: 19 | B26: Visu veidu tehniskā apkalpošana jādokumentē un jānoslēdz ar abpusēji parakstītu pieņemšanas/nodošanas vai servisa aktu.
A27: 20 | B27: Ierīces defektācija tiek veikta trīs darba dienu laikā no pieprasījuma saņemšanas, iesniedzot rakstisku atzinumu par ierīces tehnisko stāvokli. Darbības traucējumi tiek novērsti 5 darba dienu laikā no pieprasījuma saņemšanas vai defektācijas akta apstiprināšanas brīža. Par ilgāku bojājuma novēršanas izpildes laiku jāvienojas atsevišķi.
A28: 21 | B28: Ja iekārtas darbības atjaunošanai nepieciešama rezerves daļu nomaiņa, tad tiek sastādīts defektācijas akts un rezerves daļu nomaiņa tiek veikta tikai pēc defekta akta saskaņošanas ar Pasūtītāju.
A29: 22 | B29: Garantēt veikto darbu atbilstību ierīces ražotāja noteiktajiem standartiem un Latvijas Republikā spēkā esošajiem normatīvajiem aktiem, paredzot ne mazāk kā trīs mēnešu garantiju nomainītajām rezerves daļām, materiāliem un ar to nomaiņu saistītiem remontdarbiem.
A30: 23 | B30: Garantēt, ka tehnisko apkalpošanu veic ražotājs vai ražotāja atbilstoši apmācīts un sertificēts speciālists, ja ražotājs tā paredzējis.
A31: 24 | B31: Informēt Pasūtītāju gadījumos, ja ražotājs plāno pārtraukt tehnisko pavadību un tiklīdz ražotājs ir pārtraucis iekārtas tehnisko pavadību.
A32: 25 | B32: Servisa stundas likme ietver visas izmaksas (administratīvās, transporta, inženiera stundas likmi, servisam nepieciešamo instrumentu un materiālu (salvetes, skrūvju līme u.tml.) u.c.), izņemot rezerves daļu izmaksas, kas nepieciešamas, lai nodrošinātu vienu ierīces remonta/tehniskās apkalpošanas stundu. Laika uzskaites vienības - pusstunda vai stunda.
A33: 26 | B33: Periodiski veicamo darbu cenā ir ietvertas visas elektrodrošības un funkcionālās pārbaudes izmaksas, ja ražotājs tādas pārbaudes ir paredzējis.
A34: 27 | B34: Periodisko veicamo darbu veikšanai nepieciešamo piederumu (vienreizlietojamās sistēmas, kontūri u.tml.) izmaksas jāiekļauj pakalpojuma cenā.
A35: 28 | B35: Jānorāda paredzamais periodiski veicamo darbu ilgums, kas ir nepieciešams, lai varētu plānot ierīces pieejamību. Apmaksa par darba ilgumu tiks veikta pēc pieņemšanas/nodošanas vai servisa aktā minētā laika
A36: 29 | B36: Ja ražotājs ir paredzējis, ka periodiski veicamos darbus vai remontu var veikt nesertificēts inženieris, tad tiek pieņemts, ka tos var veikt Slimnīcas tehniskais personāls
A37: Papildus informācija par iepirkumu un piedāvājuma aizpildīšanas prasībām:
A38: 30 | B38: Pretendents tehniskajā piedāvājumā norāda Preces ražotāju, modeli un atbilstošos parametrus.
A39: 31 | B39: Parametru atbilstību pamatot ar norādi uz tehniskajām datu lapām vai informatīviem materiāliem, norādot atsauci tehniskajā piedāvājumā uz konkrēto lapaspusi un punktu. Informatīvajā materiālā norādīt tehniskās specifikācijas punktu, uz kuru attiecināms.
A40: 34 | B40: Iepirkums sadalīts 7 pozīcijās, līgums tiks slēgts par katru pozīciju atsevišķi, parakstot vispārīgo vienošanos.
...

Sheet 1
A1: 1. pozīcija - Stacionārs spirogrāfs ar un bez bronhoprovokācijas moduļa | D1: Pretendenta piedāvājums, atsauce uz informatīvo materiālu (Informatīvā materiāla nosaukums, lpp.)
A2: Nr. | B2: Preces nosaukums, veicamās funkcijas, tehniskās prasības un komplektācija | C2: Skaits*
A3: Piemērs | B3: Piemērs | C3: Piemērs | D3: Informatīvais materiāls 2, 4.lpp
A4: 1. | B4: Nosaukums: Stacionārs spirogrāfs ar un bez bronhoprovokācijas moduļa (Nom. kods 20005004) | C4: 4 (divi no katras modifikācijas)
A5: 1.1. | B5: Veicamās funkcijas:
A6: 1.1.1. | B6: Elpošanas funkcionālās diagnostikas mērījumu veikšana
A7: 1.2. | B7: Tehniskās prasības:
A8: 1.2.1. | B8: Divas iekārtas ar bronhoprovokācijas moduli, divas iekārtas - bez bronhoprovokācijas moduļa
A9: 1.2.2. | B9: Iespējams veikt ne mazāk kā šādus mērījumus: VT, BF, MV, ERV, IC, IRV, VCin, VCex, VCmax, Ti, TE, Ttot, FVC, FEV1, FEV.5, FEV2, FEV3, FEV1%VCmax, FEV1%FVC, PEF, MEF75, MEF50, MEF25, MMEF, FEF75/85, PIF, MIF50, MEF50%MIF50, MVV, BF_MVV, VT_MVV
A10: 1.2.3. | B10: Plūsmas mērījumu veikšana:
A11: 1.2.3.1. | B11: Izmantojot apsildāmu pneimotahogrāfijas sensoru vai līdzvērtīgs risinājums
A12: 1.2.3.2. | B12: Mērījumu diapazons ne mazāk kā no -18 līdz +18 l/s
A13: 1.2.3.3. | B13: Plūsmas sensora precizitāte diapazonā no -16 līdz +16 l/s ne vairāk kā 2%
A14: 1.2.3.4. | B14: Plūsmas sensora izšķirtspēja ne sliktāka kā 10 ml/s
A15: 1.2.4. | B15: Tilpuma mērījumu veikšana:
A16: 1.2.4.1 | B16: Mērījumu diapazons ne mazāk kā no -20 līdz +20 l/s
... A44: 1.2.8.2 | B44: Datora veiktspēja atbilstoša piedāvātā spirogrāfa un programmatūras lietošanai
B45: Pretendentam jāiekļauj piedāvājumā nepieciešamās operētājsistēmas un programmatūras licences risinājuma darbībai aprakstītajā apjomā.
A46: 1.2.8.3 | B46: Savienojums ar iekārtu caur USB savienojuma portu vai līdzvērtīgs risinājums
A47: 1.2.8.4 | B47: Iespējams savienot ar printeri
A48: 1.2.8.5 | B48: Darba stacija ar spirogrāfu un printeri izvietota uz pārvietojama galdiņa, iekļauts komplektācijā. Galdiņa riteņi aprīkoti ar bremzēm.
A49: 1.2.8.6 | B49: Komplektācijā iekļauts krāsainais printeris
A50: 1.2.9. | B50: Komplektācijā iekļauti nepieciešamie kalibrēšanas instrumenti (ja nepieciešami)
A51: 1.2.10. | B51: Iekārtu iespējams savienot ar slimnīcas informācijas sistēmu (SIS) (HL7 interfeiss):
A52: 1.2.10.1. | B52: Piedāvājumā jāiekļauj visas nepieciešamās licences un lietojumprogrammu saskarnes apraksti (API - application programming interface), lai varētu tikt nodrošināta integrācija ar pasūtītāja SIS sistēmu.
A53: 1.2.10.2. | B53: Sistēmai jānodrošina Worklist funkcija, izvēloties izmeklējumus pēc modalitātes, pacienta datiem, nosūtītāja, izmeklējuma zonas, datuma. Worklist jānodrošina funkcija HL7 datu iesūtīšana.
A54: 1.2.10.3. | B54: Iespējama ārsta slēdziena eksportēšana uz SIS (PDF vai līdzvērtīgā formātā)
A55: 1.2.11. | B55: Vēlama iespēja automātiski iegūt datus par katras iekārtas darbības noslodzi (piemēram, veikto izmeklējumu skaitu ar konkrēto iekārtu), iespējami pielāgoti risinājumi
A56: 1.3. | B56: Spirogrāfu modifikācijas
A57: 1.3.1. | B57: Spirogrāfs ar bronhoprovokācijas moduli | C57: 2
A58: 1.3.2. | B58: Spirogrāfs bez bronhoprovokācijas moduļa | C58: 2
A59: 1.4. | B59: Komplektācija (iekļauta iekārtas cenā, tiek piegādāta kopā ar katru iekārtu):
A60: 1.4.3. | B60: Nepieciešamie kalibrēšanas instrumenti (ja nepieciešams) | C60: 1
A61: 1.4.4. | B61: Dators komplektācijā ar monitoru, klaviatūru un peli | C61: 1
A62: 1.4.5. | B62: Datu interpretēšanas un arhivēšanas programmatūra | C62: 1
A63: 1.4.6. | B63: Pārvietojams galdiņš iekārtas izvietošanai | C63: 1
A64: 1.4.7. | B64: Tintes vai lāzera printeris | C64: 1
A65: 1.4.8. | B65: HL7 interfeiss iekārtas savienošanai ar SIS | C65: 1
A66: 1.4.9. | B66: Iemutes ar filtriem | C66: 100
A67: 1.4.10 | B67: Deguna klipši | C67: 100
...

Sheet 2
A1: 2. pozīcija - Pacienta vitālo funkciju monitors | D1: Pretendenta piedāvājums, atsauce uz informatīvo materiālu (Informatīvā materiāla nosaukums, lpp.)
A2: Nr. | B2: Preces nosaukums, veicamās funkcijas, tehniskās prasības un komplektācija | C2: Skaits, gab.***
A3: Piemērs | B3: Piemērs | C3: Piemērs | D3: Informatīvais materiāls 2, 4.lpp
A4: 2. | B4: Nosaukums: Pacienta vitālo funkciju monitors (Nom. kods 20016002) | C4: 1
A5: 2.1. | B5: Veicamās funkcijas:
A6: 2.1.1. | B6: Pacientu vitālo funkciju monitorēšana (SpO2, neinvazīvais asinsspiediens) monitorēšana
A7: 2.2. | B7: Tehniskās prasības:
A8: 2.2.1. | B8: Pacientu vitālo funkciju rādītāji tiek attēloti uz displeja
A9: 2.2.2. | B9: Monitora vadības sistēma – skārienjutīgs ekrāns
A10: 2.2.3. | B10: Visu mērīto parametru vienlaikus attēlojums uz ekrāna skaitliskā formā
A11: 2.2.4. | B11: Trauksmes režīmi visiem parametriem ar vizualizāciju uz ekrāna un skaņas indikāciju
A12: 2.2.5. | B12: Vēlama Agrīnā brīdināšanas sistēma (Early warning score) ar pielāgojamiem parametriem
A13: 2.2.6. | B13: Pacientu režīmi: jaundzimušais, pediatriskais, pieaugušais
A14: 2.2.7. | B14: Trauksmes vizualizācija gan ekrānā, gan ar trauksmes lampu
A15: 2.2.8. | B15: Darbināms no akumulatora un no elektrotīkla 220-240V, 50Hz
A16: 2.2.9. | B16: Svars bez akumulatora, piederumiem un statīva nav lielāks par 3 kg
... A50: 2.4.1. | B50: Sensors SpO2:
A51: 2.4.1.1. | B51: Jaundzimušo, daudzreizlietojams | C51: 1
A52: 2.4.1.2. | B52: Pediatriskais, daudzreizlietojamais, pirksta | C52: 1
A53: 2.4.1.3. | B53: Pieaugušo, daudzreizlietojamais, pirksta | C53: 1
A54: 2.4.1.4. | B54: Kabelis savienojošais SpO2, daudzreizlietojams, garums vismaz 3m, ja nepieciešams | C54: 1
A55: 2.4.1.5. | B55: Jaundzimušo, vienreizlietojams (Ja pieejams, netiek iekļauts vērtējamajā cenā) | C55: 1
A56: 2.4.2. | B56: Manšetes, daudzreizlietojamās
A57: 2.4.2.1. | B57: Vismaz piecu dažādu izmēru manšetes, kuras nosedz izmēru diapazonu vismaz no 10 -40 cm. Norādīt izmērus:
A58: 2.4.2.1.1. | B58: 1. manšete | C58: 1
A59: 2.4.2.1.2. | B59: 2. manšete | C59: 1
A60: 2.4.2.1.3. | B60: 3. manšete | C60: 1
A61: 2.4.2.1.4. | B61: 4. manšete | C61: 1
A62: 2.4.2.1.5. | B62: 5. manšete | C62: 1
A63: 2.4.3. | B63: Kabelis savienojošais neinvazīvā asinsspiediena (ja attiecināms) | C63: 1
A64: 2.4.4. | B64: Citi piederumi, kas nepieciešami piedāvātajai iekārtai, lai nodrošinātu tehniskajā aprakstā norādīto funkcionalitāti un/vai pieejamie papildinājumi. (rindiņas atļauts papildināt zemāk pēc nepieciešamības, vienā rindiņā ierakstīt ne vairāk kā vienu piederumu) | C64: 1
A67: Saimnieciski visizdevīgākā piedāvājuma vērtēšanai norādāmā papildus informācija | C67: Saimnieciski visizdevīgākā piedāvājuma vērtēšanai norādāmā papildus informācija Pretendenta piedāvājums, atsauce uz informatīvo materiālu vai ražotāja apliecinājumu
A68: B | B68: Jānorāda Preces ražotāja noteiktais preces maksimālais lietošanas ilgums (gados)
A69: D | B69: Jānorāda Preces ražotāja noteiktais elektroenerģijas patēriņš (voltampēros (VA) vai vatos (W))
A70: E | B70: Jānorāda iekārtas darbības laiks no akumulatora (h)
A71: F | B71: Mērīšanas preciziāte ne zemāka par +/- 3 mmHg
A74: Daļa | B74: VĒRTĒŠANAS KRITĒRIJI | C74: ĪPATSVARS
A75: A | B75: Preču kopējās (iegāde, piederumi un tehniskā apkope) izmaksas | C75: 70
A76: B | B76: Preces maksimālais lietošanas ilgums | C76: 10
A77: D | B77: Elektroenerģijas patēriņš | C77: 5
...

Sheet 3
A1: 3.pozīcija - Pacientu transporta mākslīgās plaušu ventilācijas iekārta | D1: Pretendenta piedāvājums, atsauce uz informatīvo materiālu (Informatīvā materiāla nosaukums, lpp.)
A2: Nr. | B2: Preces nosaukums, veicamās funkcijas, tehniskās prasības un komplektācija | C2: Skaits, gab.***
A3: Piemērs | B3: Piemērs | C3: Piemērs | D3: Informatīvais materiāls 2, 4.lpp
A4: 3 | B4: Nosaukums: Pacientu transporta mākslīgās plaušu ventilācijas iekārta (Nom. kods 20009003) | C4: 1
A5: 3.1. | B5: Veicamās funkcijas:
A6: 3.1.1. | B6: Pacientu mākslīgā plaušu ventilācija transportējot pacientus iekšēji slimnīcā un ārpus tās (piemērots lietošanai arī izmantojot aviācijas transportu)
A7: 3.2. | B7: Tehniskās prasības:
A8: 3.2.1. | B8: Piemērots jaundzimušo (minimālais pacienta svars ne lielāks par 0,5 kg), pediatrisko un pieaugušo pacientu mākslīgai plaušu ventilēšanai
A9: 3.2.2. | B9: Iekārtas svars bez papildus aprīkojuma ne vairāk par 7 kg
A10: 3.2.3. | B10: Kompakta, maksimālie izmēri ne vairāk par 40x30x30 cm
A11: 3.2.4. | B11: Iekārtas vadība, iestatījumu, trauksmes paziņojumu, parametru, mērījumu līkņu un citas informācijas attēlošana un parametru iestatīšana izmantojot skārienjutīgu ekrānu ar diametru ne mazāku par 8” un/vai rotējošu pogu
A12: 3.2.5. | B12: Aprīkota ar stiprinājumu/stiprinājumiem pie gultas vai transporta guļratiem
A13: 3.2.6. | B13: Aprīkota ar LIV balonam (tilpums 2l vai 3l) piemērotu stiprinājumu iekārtas pārvietošanai rokās
A14: 3.2.7. | B14: Iekārta aprīkota ar turbīnu saspiestā gaisa padeves nodrošināšanai
A15: 3.2.8. | B15: Skābekļa padeve no skābekļa balona un Slimnīcas centrālās skābekļa padeves nodrošinot darbību spiediena diapazonā vismaz 4-6 bar
A16: 3.2.9. | B16: Savienojošā skābekļa caurule ne īsāka par 3 m un ar AGA tipa konektoru (darbam no LIV tipa balona)
... A94: 3.3.6. | B94: Vienreizējas lietošanas jaundzimušos plūsmas sensors (vismaz 10 gab.)
A95: 3.3.7. | B95: Atkārtoti lietojams CO2 devējs un atkārtoti lietojams (vismaz 1 gab.) vai vienreizlietojams (vismaz 10 gab.) adapteris, ja tāds nepieciešams plūsmas sensora savienošanai | D95: .
A96: 3.4. | B96: Piederumi, saderīgi ar piedāvāto iekārtu (tiek norādīta cena par katru piederumu atsevišķi, tiks pasūtīti pēc nepieciešamības, papildus norādīto piederumu cena netiek iekļauta vērtējamajā cenā):
A97: 3.4.1. | B97: Skābekļa caurule | C97: 1
A98: 3.4.2. | B98: Testa plauša (jaundzimušo un pediatrisko/pieaugušo) | C98: 1
A99: 3.4.3. | B99: Ratiņi ar ātru pacientu monitora fiksāciju, skābekļa mitrinātāja trauka un pacientu kontūra turētājiem | C99: 1
A100: 3.4.4. | B100: Iekārtai piemērots elpināšanas kontūra komplekts, kas iekļauj visus nepieciešamos papildus piederumus (piem, izelpas vārstu, ūdens savācēja traukus, filtrus utml.) jaundzimušajiem (vismaz 10 gab.), pediatriskajiem (vismaz 10 gab.) un pieaugušajiem (vismaz 10 gab.) pacientiem pilnvērtīga elpināšanas procesa nodrošināšanai atbilstoši ražotāja norādījumiem | C100: 1
A101: 3.4.5. | B101: Autoklavējams (vismaz 1 gab.) vai vienreizlietojams (vismaz 10 gab.) pediatrisko/pieaugušo pacientu plūsmas sensors | C101: 1
A102: 3.4.6. | B102: Vienreizējas lietošanas jaundzimušos plūsmas sensors (vismaz 10 gab.) | C102: 1
A103: 3.4.7. | B103: Atkārtoti lietojams CO2 devējs un atkārtoti lietojams (vismaz 1 gab.) vai vienreizlietojams (vismaz 10 gab.) adapteris, ja tāds nepieciešams plūsmas sensora savienošanai | C103: 1
A104: 3.4.8. | B104: Citi piederumi, kas nepieciešami piedāvātajai iekārtai, lai nodrošinātu tehniskajā aprakstā norādīto funkcionalitāti un/vai pieejamie papildinājumi. (rindiņas atļauts papildināt zemāk pēc nepieciešamības, vienā rindiņā ierakstīt ne vairāk kā vienu piederumu) | C104: 1
A107: Saimnieciski visizdevīgākā piedāvājuma vērtēšanai norādāmā papildus informācija | C107: Saimnieciski visizdevīgākā piedāvājuma vērtēšanai norādāmā papildus informācija Pretendenta piedāvājums, atsauce uz informatīvo materiālu vai ražotāja apliecinājumu
A108: B | B108: Jānorāda Preces ražotāja noteiktais preces maksimālais lietošanas ilgums (gados)
A109: D | B109: Jānorāda Preces ražotāja noteiktais elektroenerģijas patēriņš (voltampēros (VA) vai vatos (W))
A110: E | B110: Jānorāda iekārtas darbības laiks no akumulators (h)
A111: G | B111: Vēlama nodrošināšana iekārtas klīnisko datu integrācija ar ražotāja Philips klīniskās pacientu datu uzskaites sistēmu ICCA (IntelliSpace Critical Care & Anesthesia), izmantojot IntelliBridge Enterprise interfeisa sistēmu
A114: Daļa | B114: VĒRTĒŠANAS KRITĒRIJI | C114: ĪPATSVARS
A115: A | B115: Preču kopējās (iegāde, piederumi un tehniskā apkope) izmaksas | C115: 70
A116: B | B116: Preces maksimālais lietošanas ilgums | C116: 10
A117: D | B117: Elektroenerģijas patēriņš | C117: 10
A118: E | B118: Iekārtas darbība no akumulatora (h) | C118: 5
A119: G | B119: Vēlama nodrošināšana iekārtas klīnisko datu integrācija ar ražotāja Philips klīniskās pacientu datu uzskaites sistēmu ICCA (IntelliSpace Critical Care & Anesthesia), izmantojot IntelliBridge Enterprise interfeisa sistēmu | C119: 5
A120: ∑ | B120: Maksimālais īpatsvars (kopējais punktu skaits) ∑=A+B+D+E+G | C120: 100
A123: Komisija katrā daļā piešķir īpatsvaru (punktu skaitu), šādā kārtībā: 1) A (Preču kopējās izmaksas) un D (Elektroenerģijas patēriņš) daļai - viszemākajai vērtība tiek piešķirts maksimālais punktu skaits 2) Nākamās vērtības A (Preču kopējās izmaksas) un D (Elektroenerģijas patēriņš) daļai tiek aprēķinātas proporcionāli A vai D = (A vai D zemākā iesniegtā vērtība no visiem pretendentiem )/(faktiskā iesniegtā vērtība konkrētajam pretendentam) x Piešķiramais punktu skaits 3) B (Preces ražotāja noteiktais preces maksimālais lietošanas ilgums) daļai - vislielākajai vērtības tiek piešķirts maksimālais punktu skaits 4) Nākamās vērtības B (Preces ražotāja noteiktais preces maksimālais lietošanas ilgums) daļai tiek aprēķinātas proporcionāli B = (faktiskā iesniegtā vērtība konkrētajam pretendentam)/(B augstākā iesniegtā vērtība no visiem pretendentiem ) x Piešķiramais punktu skaits 5) E (Iekārtas darbības laiks no akumulatora (h)) daļai visaugstākajai vērtība tiek piešķirts maksimālais punktu skaits. 6) Nākamās vērtības E (Iekārtas darbība no akumulatora) daļai tiek aprēķinātas proporcionāli. E = (faktiskā iesniegtā vērtība konkrētajam pretendentam)/(E augstākā iesniegtā vērtība no visiem pretendentiem ) x Piešķiramais punktu skaits 7) G (Vēlama nodrošināšana iekārtas klīnisko datu integrācija ar ražotāja Philips klīniskās pacientu datu uzskaites sistēmu ICCA ) daļai tiek piešķirti 5 punkti par prasību izpildi vai 0 punkti par neatbilstību prasībai;

Sheet Ledussk.
A1: Mazais medicīniskais ledusskapis | D1: Pretendenta piedāvājums, atsauce uz informatīvo materiālu (Informatīvā materiāla nosaukums, lpp.)
A2: Nr. | B2: Preces nosaukums, veicamās funkcijas, tehniskās prasības un komplektācija | C2: Skaits, gab. ***
A3: Piemērs | B3: Piemērs | C3: Piemērs | D3: Informatīvais materiāls 2, 4.lpp
B4: Nosaukums: Mazais medicīniskais ledusskapis
B5: Veicamās funkcijas:
B6: Zāļu konstantas uzglabāšanas temperatūras uzturēšana.
B7: Tehniskās prasības:
B8: Ledusskapja kameras tilpums (Netto ietilpība) : 40 L ± 5%
B9: Uzstādāmās temperatūras diapazons ledusskapim vismaz ir +2 līdz +8 ºC
B10: Regulējamo plauktu skaits vismaz 5 | D10: cik?
B11: Materiāls regulējamajiem plauktiem: režģa plaukti ar plastikāta pārklājumu
B12: Necaurspīdīgas durvis | D12: Kādas durvis?
B13: Divpusējās durvju eņģes (iespēja mainīt durvju atvēršanas virzienu)
B14: Temperatūras izmaiņas solis vismaz 0,1 - 0,5 ºC
B15: Digitāls vadības displejs
B16: Aukstuma aģents: R600a (vai cits, kura GWP (Global Warming Potential) ir mazāks par 150)
B17: Ir temperatūras trauksme, kas norāda, vai ir pārkāpts apakšējais vai augšējais trauksmes slieksnis, izmantojot gan akustiskos, gan vizuālos signālus
B18: Iekārtas barošana: 220-240V/50-60Hz ar Eiropas standartiem atbilstošo adapteri.
B19: Iespēja veikt attālinātu temperatūras monitoringu, izmantojot ražotāja programmatūru
B20: Nodrošināt pieslēgumu BKUS esošajai ledusskapju monitorēšanas programmai vai komplektācijā programmatūra temperatūras monitorēšanai (vismaz 1 licence) | D20: ???
B21: Papildus prasības

Sheet 4
A1: 4. pozīcija - Infūziju sūknis | D1: Pretendenta piedāvājums, atsauce uz informatīvo materiālu (Informatīvā materiāla nosaukums, lpp.)
A2: Nr. | B2: Preces nosaukums, veicamās funkcijas, tehniskās prasības un komplektācija | C2: Skaits, gab.***
A3: Piemērs | B3: Piemērs | C3: Piemērs | D3: Informatīvais materiāls 2, 4.lpp
A4: 4. | B4: Nosaukums: Infūzijas sūknis (nom.kods: 20022001) | C4: 1
A5: 4.1. | B5: Veicamās funkcijas:
A6: 4.1.1. | B6: Precīza medikamentu dozēta vienlaicīga ievade un uzraudzība noteiktā laika posmā
A7: 4.2. | B7: Tehniskās prasības:
A8: 4.2.1. | B8: Ātruma titrēšana infūzijas laikā
A9: 4.2.2. | B9: Bolus funkcija
A10: 4.2.3. | B10: Infūzijas ātrums intervālā 1 - 99,9 ml/h iestatāms ar soli ne lielāku kā 0,01 ml/h; intervālā 100,0 - 999 ml/h iestatāms ar soli ne lielāku kā 0,1 ml/h
A11: 4.2.4. | B11: Maināms oklūzijas spiediena līmenis ar spiediena trauksmes līmeņa uzstādīšanas iespēju līdz vismaz 1 bar
A12: 4.2.5. | B12: Plūsmas ātruma uzstādīšana vismaz no 1 - 999 ml/h
A13: 4.2.6. | B13: Darbība no individuālās modulārās stacijas vai no 220-240 V, 50 Hz strāvas avota un automātiski uzlādējamas baterijas
A14: 4.2.7. | B14: Ir iespējams aprīkot ar pilienu sensoru
A15: 4.2.8. | B15: KVO ātrums vismaz no 0,1 - 3 ml/h
A16: 4.2.9. | B16: Ievades precizitāte vismaz ± 2%
... A30: 4.5. | B30: Papildus komplektācija (tiek norādīta cena par katru piederumu atsevišķi, tiks pasūtīti pēc nepieciešamības, norādīto piederumu cena tiek iekļauta vērtējamajā cenā):
A31: 4.5.1. | B31: Ārējais barošanas bloks (ja attiecināms) | C31: 1
A32: 4.5.2. | B32: Stiprinājums pie infūzijas statīva (gadījumā, ja iekārta nav aprīkota ar iebūvētu risinājumu) | C32: 1
A33: 4.5.3. | B33: Modulārās stacijas ar vismaz 4 uzlādes vietām, saderīgas ar piedāvātajiem sūkņiem | C33: 1
A34: 4.5.4. | B34: Pilienu sensors | C34: 1
A35: 4.6. | B35: Piederumi, saderīgi ar piedāvāto iekārtu (tiek norādīta cena par katru piederumu atsevišķi, tiks pasūtīti pēc nepieciešamības, papildus norādīto piederumu cena netiek iekļauta vērtējamajā cenā):
A36: 4.6.1. | B36: Citi piederumi, kas nepieciešami piedāvātajai iekārtai, lai nodrošinātu tehniskajā aprakstā norādīto funkcionalitāti un/vai pieejamie papildinājumi. (rindiņas atļauts papildināt zemāk pēc nepieciešamības, vienā rindiņā ierakstīt ne vairāk kā vienu piederumu) | C36: 1
A39: Saimnieciski visizdevīgākā piedāvājuma vērtēšanai norādāmā papildus informācija | C39: Saimnieciski visizdevīgākā piedāvājuma vērtēšanai norādāmā papildus informācija Pretendenta piedāvājums, atsauce uz informatīvo materiālu vai ražotāja apliecinājumu
A40: B | B40: Jānorāda Preces ražotāja noteiktais preces maksimālais lietošanas ilgums (gados)
A41: C | B41: Jānorāda Preces ražotāja noteiktais elektroenerģijas patēriņš (voltampēros (VA) vai vatos (W))
A44: Daļa | B44: VĒRTĒŠANAS KRITĒRIJI | C44: ĪPATSVARS
A45: A | B45: Preču kopējās (iegāde, piederumi un tehniskā apkope) izmaksas | C45: 80
A46: B | B46: Preces maksimālais lietošanas ilgums | C46: 10
A47: D | B47: Elektroenerģijas patēriņš | C47: 10
A48: ∑ | B48: Maksimālais īpatsvars (kopējais punktu skaits) ∑=A+B+D | C48: 100
A51: Komisija katrā daļā piešķir īpatsvaru (punktu skaitu), šādā kārtībā: 1) A (Preču kopējās izmaksas) un D (Elektroenerģijas patēriņš) daļai - viszemākajai vērtība tiek piešķirts maksimālais punktu skaits 2) Nākamās vērtības A (Preču kopējās izmaksas) un D (Elektroenerģijas patēriņš) daļai tiek aprēķinātas proporcionāli A vai D = (A vai D zemākā iesniegtā vērtība no visiem pretendentiem )/(faktiskā iesniegtā vērtība konkrētajam pretendentam) x Piešķiramais punktu skaits 3) B (Preces ražotāja noteiktais preces maksimālais lietošanas ilgums) daļai - vislielākajai vērtības tiek piešķirts maksimālais punktu skaits 4) Nākamās vērtības B (Preces ražotāja noteiktais preces maksimālais lietošanas ilgums) daļai tiek aprēķinātas proporcionāli B = (faktiskā iesniegtā vērtība konkrētajam pretendentam)/(B augstākā iesniegtā vērtība no visiem pretendentiem ) x Piešķiramais punktu skaits

Sheet 5
A1: 5. pozīcija - Kompjuterizēts perimetrs redzes lauka noteikšanai | D1: Pretendenta piedāvājums, atsauce uz informatīvo materiālu (Informatīvā materiāla nosaukums, lpp.)
A2: Nr. | B2: Preces nosaukums, veicamās funkcijas, tehniskās prasības un komplektācija | C2: Skaits, gab.****
A3: Piemērs | B3: Piemērs | C3: Piemērs | D3: Informatīvais materiāls 2, 4.lpp
A4: 5. | B4: Nosaukums: Kompjuterizēts perimetrs redzes lauka noteikšanai (Nom. kods. 20001006) | C4: 1
A5: 5.1. | B5: Veicamās funkcijas:
A6: 5.1.1. | B6: Redzes lauka noteikšana
A7: 5.2. | B7: Vispārīgās prasības
A8: 5.2.1. | B8: Redzes lauka perimetrs ar datoru un iebūvētu zoda un pieres balstu un oklūderi, galdu ar augstuma regulāciju, printeri, pacienta atbildes slēdzi.
A9: 5.2.2. | B9: Iekārta piemērota bērniem, sākot no 1-3 gadu vecuma, un pieaugušajiem
A10: 5.2.3. | B10: Izmeklējumu veikšanas stratēģijas:
A11: 5.2.3.1. | B11: balts – uz – balta perimetrija (SAP)
A12: 5.2.3.2. | B12: zils - uz-dzeltena perimetrija (SWAP)
A13: 5.2.3.3. | B13: Goldmana manuālā perimetrija
A14: 5.2.3.4. | B14: Miksētā perimetrija (kinētiskā + statiskā)
A15: 5.2.3.5. | B15: Vēlams binokulārais autovadītāju tests
A16: 5.2.3.6. | B16: Pielāgots proves lēcu statīvs gadījumos, kad nepieciešama redzes korekcija
... A46: 5.3. | B46: Komplektācija (iekļauta iekārtas cenā, tiek piegādāta kopā ar katru iekārtu):
A47: 5.3.1. | B47: Perimetrijas iekārta | C47: 1
A48: 5.3.2. | B48: Dators komplektācijā ar monitoru, klaviatūru un peli | C48: 1
A49: 5.3.3. | B49: Iekārtas programmatūra | C49: 1
A50: 5.3.4. | B50: Pacienta atbildes slēdzis | C50: 1
A51: 5.3.5. | B51: Galds ar regulējamu augstumu | C51: 1
A52: 5.4. | B52: Piederumi, saderīgi ar piedāvāto iekārtu (tiek norādīta cena par katru piederumu atsevišķi, tiks pasūtīti pēc nepieciešamības, papildus norādīto piederumu cena netiek iekļauta vērtējamajā cenā):
A53: 5.4.1. | B53: Citi piederumi, kas nepieciešami piedāvātajai iekārtai, lai nodrošinātu tehniskajā aprakstā norādīto funkcionalitāti un/vai pieejamie papildinājumi. (rindiņas atļauts papildināt zemāk pēc nepieciešamības, vienā rindiņā ierakstīt ne vairāk kā vienu piederumu) | C53: 1
A55: Saimnieciski visizdevīgākā piedāvājuma vērtēšanai norādāmā papildus informācija | C55: Saimnieciski visizdevīgākā piedāvājuma vērtēšanai norādāmā papildus informācija Pretendenta piedāvājums, atsauce uz informatīvo materiālu vai ražotāja apliecinājumu
A56: B | B56: Jānorāda Preces ražotāja noteiktais preces maksimālais lietošanas ilgums (gados) | C56: 10
A57: D | B57: Jānorāda Preces ražotāja noteiktais elektroenerģijas patēriņš (voltampēros (VA) vai vatos (W)) | C57: 10
A58: H | B58: Pieejams binokulārais autovadītāju tests | C58: 5
A61: Daļa | B61: VĒRTĒŠANAS KRITĒRIJI | C61: ĪPATSVARS
A62: A | B62: Preču kopējās (iegāde, piederumi un tehniskā apkope) izmaksas | C62: 75
A63: B | B63: Preces maksimālais lietošanas ilgums | C63: 10
A64: D | B64: Elektroenerģijas patēriņš | C64: 10
A65: H | B65: Pieejams binokulārais autovadītāju tests | C65: 5
A66: ∑ | B66: Maksimālais īpatsvars (kopējais punktu skaits) ∑=A+B+D+H | C66: =SUM(C62:C65) -> 100
A70: Komisija katrā daļā piešķir īpatsvaru (punktu skaitu), šādā kārtībā: 1) A (Preču kopējās izmaksas) un D (Elektroenerģijas patēriņš) daļai - viszemākajai vērtība tiek piešķirts maksimālais punktu skaits 2) Nākamās vērtības A (Preču kopējās izmaksas) un D (Elektroenerģijas patēriņš) daļai tiek aprēķinātas proporcionāli A vai D = (A vai D zemākā iesniegtā vērtība no visiem pretendentiem )/(faktiskā iesniegtā vērtība konkrētajam pretendentam) x Piešķiramais punktu skaits 3) B (Preces ražotāja noteiktais preces maksimālais lietošanas ilgums) daļai - vislielākajai vērtības tiek piešķirts maksimālais punktu skaits 4) Nākamās vērtības B (Preces ražotāja noteiktais preces maksimālais lietošanas ilgums) daļai tiek aprēķinātas proporcionāli B = (faktiskā iesniegtā vērtība konkrētajam pretendentam)/(B augstākā iesniegtā vērtība no visiem pretendentiem ) x Piešķiramais punktu skaits 5) H (Pieejamais binokulārais autovadītāju tests) daļai tiek piešķirti 5 punkti par izpildi un 0 punkti par neatbilstību prasībai

Sheet 6
A1: 6. pozīcija - Ginekoloģijas izmeklējumu kušete/krēsls | D1: Pretendenta piedāvājums, atsauce uz informatīvo materiālu (Informatīvā materiāla nosaukums, lpp.)
A2: Nr. | B2: Preces nosaukums, veicamās funkcijas, tehniskās prasības un komplektācija | C2: Skaits, gab.***
A3: Piemērs | B3: Piemērs | C3: Piemērs | D3: Informatīvais materiāls 2, 4.lpp
A4: 6. | B4: Nosaukums: Ginekoloģijas izmeklējumu kušete/krēsls (Nom. kods 22004003) | C4: 2 | D4: (Norādīt piedāvātās iekārtas ražotāju un modeli)
A5: 6.1. | B5: Veicamās funkcijas:
A6: 6.1.1. | B6: Pacientu pozicionēšana izmeklējumu, procedūru un rehabilitācijas terapijas veikšanai
A7: 6.2. | B7: Tehniskās prasības:
A8: 6.2.1. | B8: Vismaz divu sekciju kušete
A9: 6.2.2. | B9: Elektriski ar pulti vai kājas pedāli regulējams augstums
A10: 7.2.3. | B10: Augstuma regulācija vismaz no 60 - 90 cm
A11: 6.2.4. | B11: Kušetes izmērs (garums x platums) 190 x 70 cm ± 10 cm
A12: 6.2.5. | B12: Virsma pārklāta ar anti mikrobu pārklājumu
A13: 6.2.6. | B13: Kušetes virsmu iespējams tīrīt ar dezinfekcijas līdzekļiem, kas nesatur šķīdinātājus vai ar 70% dezinfekcijas šķīdumu
A14: 6.2.7. | B14: Regulējams galvas daļas slīpums
A15: 6.2.8. | B15: Kušete aprīkota ar ginekoloģiskajiem kāju turētājiem
A16: 6.2.9. | B16: Ginekoloģiskos kāju turētājus iespējams noņemt bez papildu instrumentu izmantošanas
... A23: 6.2.16. | B23: BEZ izgriezuma galvas daļā vai izgriezums galvas daļā, kurš aizvērts ar aizbāzni
A24: 42772 | B24: Barošanas avots: 220-230 V, 50-60 Hz, maiņstrāva
A25: 6.2.18. | B25: Iekārta tiek piegādāta pilnā komplektācijā pirmreizējai lietošanai
A26: 6.3. | B26: Komplektācija (iekļauta iekārtas cenā, tiek piegādāta kopā ar katru iekārtu):
A27: 6.3.1. | B27: Dvieļu turētājs | C27: 1
A28: 6.3.2. | B28: Barošanas vads | C28: 1
A29: 6.4. | B29: Piederumi, saderīgi ar piedāvāto iekārtu (tiek norādīta cena par katru piederumu atsevišķi, tiks pasūtīti pēc nepieciešamības, papildus norādīto piederumu cena netiek iekļauta vērtējamajā cenā):
A30: 6.4.1. | B30: Citi piederumi, kas nepieciešami piedāvātajai iekārtai, lai nodrošinātu tehniskajā aprakstā norādīto funkcionalitāti un/vai pieejamie papildinājumi. (rindiņas atļauts papildināt zemāk pēc nepieciešamības, vienā rindiņā ierakstīt ne vairāk kā vienu piederumu) | C30: 1
A34: Saimnieciski visizdevīgākā piedāvājuma vērtēšanai norādāmā papildus informācija | C34: Saimnieciski visizdevīgākā piedāvājuma vērtēšanai norādāmā papildus informācija Pretendenta piedāvājums, atsauce uz informatīvo materiālu vai ražotāja apliecinājumu
A35: B | B35: Jānorāda Preces ražotāja noteiktais preces maksimālais lietošanas ilgums (gados)
A36: D | B36: Jānorāda Preces ražotāja noteiktais elektroenerģijas patēriņš (voltampēros (VA) vai vatos (W))
A39: Daļa | B39: VĒRTĒŠANAS KRITĒRIJI | C39: ĪPATSVARS
A40: A | B40: Preču kopējās (iegāde, piederumi un tehniskā apkope) izmaksas | C40: 80
A41: B | B41: Preces maksimālais lietošanas ilgums | C41: 10
A42: D | B42: Elektroenerģijas patēriņš | C42: 10
A43: ∑ | B43: Maksimālais īpatsvars (kopējais punktu skaits) ∑=A+B+D | C43: 100
A46: Komisija katrā daļā piešķir īpatsvaru (punktu skaitu), šādā kārtībā: 1) A (Preču kopējās izmaksas) un D (Elektroenerģijas patēriņš) daļai - viszemākajai vērtība tiek piešķirts maksimālais punktu skaits 2) Nākamās vērtības A (Preču kopējās izmaksas) un D (Elektroenerģijas patēriņš) daļai tiek aprēķinātas proporcionāli A vai D = (A vai D zemākā iesniegtā vērtība no visiem pretendentiem )/(faktiskā iesniegtā vērtība konkrētajam pretendentam) x Piešķiramais punktu skaits 3) B (Preces ražotāja noteiktais preces maksimālais lietošanas ilgums) daļai - vislielākajai vērtības tiek piešķirts maksimālais punktu skaits 4) Nākamās vērtības B (Preces ražotāja noteiktais preces maksimālais lietošanas ilgums) daļai tiek aprēķinātas proporcionāli B = (faktiskā iesniegtā vērtība konkrētajam pretendentam)/(B augstākā iesniegtā vērtība no visiem pretendentiem ) x Piešķiramais punktu skaits

Sheet 7
A1: 7. Pozīcija - Alaris perfuzoru rezerves daļas | D1: Pretendenta piedāvājums, atsauce uz informatīvo materiālu (Informatīvā materiāla nosaukums, lpp.)
A2: Nr. | B2: Preces nosaukums, veicamās funkcijas, tehniskās prasības un komplektācija | C2: Skaits, gab.***
A3: Piemērs | B3: Piemērs | C3: Piemērs | D3: Informatīvais materiāls 2, 4.lpp
A4: 7.1. | B4: Nosaukums: Korpusa rezerves daļas | D4: (norādīt preces ražotāju un modeli)
A5: 7.1.1. | B5: Korpuss priekšējais, Alaris GH (Carefusion atsauces nr. 1000SP00479 vai analogs) | C5: 20
A6: 7.1.2. | B6: Korpuss priekšējais, Alaris Mk4 GH (Carefusion atsauces nr. 1000SP01664 vai analogs) | C6: 5
A7: 7.1.3. | B7: Korpuss aizmugurējais, Alaris GH (Carefusion atsauces nr. 1000SP01115 vai analogs) | C7: 5
A8: 7.2. | B8: Nosaukums: Akumulators, Alaris GH | C8: 25
A9: 7.2.1. | B9: Nominālais spriegums 7,2 V
A10: 7.2.2. | B10: Kapacitāte vismaz 2700 mAh
A11: 7.2.3. | B11: Termodrošinātājs 70°C
A12: 7.2.4. | B12: Carefusion atsauces nr. 1000SP01080 vai analogs

Sheet Iekārtu tehniskā apkalpošana
A2: Ierīcēm, kurām pēcgarantijas periodā periodiski veicamo darbu saturs mainās, Pretendents aizpilda "Iekārtu tehniskā apkalpošana" tabulu, izveidojot papildus rindu/as zem ierīces, katrā jaunā rindā norādot periodiski veicamā darba veidu, pārliecinoties, ka kopumā ir uzskaitīti visi uz ierīci attiecināmie periodiski veicamie darbi pēcgarantijas periodā
A3: Kopējās izmaksas viena periodiski veicamā darba veida veikšanai pēcgarantijas periodā tiek aprēķinātas sekojoši: 13=3*(6*(7+(8*9)) kur norādītie skaitļi ir kolonnas kārtas numurs. 14. kolonnā jānorāda summa par visiem periodiski veicamajiem darbiem visām iekārtām
A4: Iekārtu tehniskā apkalpošana
A5: Iepirkuma daļas numurs | B5: Iekārtas nosaukums | C5: Iekārtu skaits *** | D5: Pēcgarantijas periods, ņemot vērā, ka garantijas periods un pēcgarantijas periods veido piecus gadus | E5: Periodiski veicamā darba veids pēcgarantijas periodā | F5: Periodiski veicamā darba skaits vienai ierīcei pēcgarantijas periodā | G5: Viena periodiski veicamā darba maināmo rezerves daļu izmaksas, ja attiecināms, EUR bez PVN | H5: Viena periodiski veicamā darba paredzamais ilgums, stundas | I5: Periodiski veicamo darbu servisa stundas likme, EUR bez PVN | J5: Remonta servisa stundas likme, EUR bez PVN | K5: Vai ražotājs ir paredzējis elektrodrošības pārbaudes periodiski veicamo darbu ietvaros? (Jā/Nē) | L5: Vai ražotājs ir paredzējis funkcionālās pārbaudes periodiski veicamo darbu ietvaros? (Jā/Nē) | M5: Summa par viena periodiski veicamā darba veidu pēcgarantijas periodā visām iekārtām, EUR bez PVN | N5: Summa par visiem periodiski veicamajiem darbiem pēcgarantijas periodā visām iekārtām, EUR bez PVN | O5: Piezīmes
A6: 1 | B6: 2 | C6: 3 | D6: 4 | E6: 5 | F6: 6 | G6: 7 | H6: 8 | I6: 9 | J6: 10 | K6: 11 | L6: 12 | M6: 13 | N6: 14 | O6: 15
A7: 1. pozīcija | B7: Stacionārs spirogrāfs ar un bez bronhoprovokācijas moduļa | C7: 4 | M7: =C7*(F7*(G7+(H7*I7))) -> 0 | N7: =M7 -> 0
A8: 2. pozīcija | B8: Pacienta vitālo funkciju monitors | C8: 1 | M8: =C8*(F8*(G8+(H8*I8))) -> 0 | N8: =M8 -> 0
A9: 3. pozīcija | B9: Pacientu transporta mākslīgās plaušu ventilācijas iekārta | C9: 1 | M9: =C9*(F9*(G9+(H9*I9))) -> 0 | N9: =M9 -> 0
A10: 4. pozīcija | B10: Infūziju sūknis | C10: 20 | M10: =C10*(F10*(G10+(H10*I10))) -> 0 | N10: =M10 -> 0
A11: 5.pozīcija | B11: Kompjuterizēts perimetrs redzes lauka noteikšanai | C11: 1 | M11: =C11*(F11*(G11+(H11*I11))) -> 0 | N11: =M11 -> 0
A12: Piemērs
A13: Iekārtu tehniskā apkalpošana
A14: Iepirkuma daļas numurs | B14: Iekārtas nosaukums | C14: Iekārtu skaits * | D14: Pēcgarantijas periods, ņemot vērā, ka garantijas periods un pēcgarantijas periods veido piecus gadus | E14: Periodiski veicamā darba veids pēcgarantijas periodā | F14: Periodiski veicamā darba skaits vienai ierīcei pēcgarantijas periodā | G14: Viena periodiski veicamā darba maināmo rezerves daļu izmaksas, ja attiecināms, EUR bez PVN | H14: Viena periodiski veicamā darba paredzamais ilgums, stundas | I14: Periodiski veicamo darbu servisa stundas likme, EUR bez PVN | J14: Remonta servisa stundas likme, EUR bez PVN | K14: Vai ražotājs ir paredzējis elektrodrošības pārbaudes periodiski veicamo darbu ietvaros? (Jā/Nē) | L14: Vai ražotājs ir paredzējis funkcionālās pārbaudes periodiski veicamo darbu ietvaros? (Jā/Nē) | M14: Summa par viena periodiski veicamā darba veidu pēcgarantijas periodā visām iekārtām, EUR bez PVN | N14: Summa par visiem periodiski veicamajiem darbiem pēcgarantijas periodā visām iekārtām, EUR bez PVN | O14: Piezīmes
A15: 1 | B15: 2 | C15: 3 | D15: 4 | E15: 5 | F15: 6 | G15: 7 | H15: 8 | I15: 9 | J15: 10 | K15: 11 | L15: 12 | M15: 13 | N15: 14 | O15: 15
A16: 1. daļa | B16: Mākslīgā plaušu ventilācijas ierīce | C16: 5 | D16: 3 | E16: 1000h apkope | F16: 2 | G16: 500 | H16: 3 | I16: 35 | J16: 35 | K16: JĀ | L16: JĀ | M16: =C16*(F16*(G16+(H16*I16))) -> 6050 | N16: =M16+M17 -> 6312.5
C17: 5 | D17: 3 | E17: 2 gadu pārbaude | F17: 1 | G17: 0 | H17: 1.5 | I17: 35 | J17: 35 | K17: JĀ | L17: JĀ | M17: =C17*(F17*(G17+(H17*I17))) -> 262.5

Sheet Finanšu piedāvājums
A1: Finanšu piedāvājums
A2: Iekārtu iegādes izmaksas
A3: Iepirkuma pozīcijas numurs | B3: Tehniskās specifikācijas punkta numurs | C3: Iekārtas nosaukums | D3: Iekārtu skaits *** | E3: Vienas vienības cena, EUR bez PVN | F3: Summa, EUR bez PVN | G3: PVN likme, % | H3: Summa par iekārtu tehnisko apkalpošanu (ja ražotājs tādu ir paredzējis) | I3: Vērtējamā summa | J3: Komentārs
A4: 1.pozīcija | B4: 1.3.1. | C4: Stacionārs spirogrāfs ar bronhoprovokācijas moduli | D4: 2 | F4: =E4*D4 -> 0 | H4: ='Iekārtu tehniskā apkalpošana'!N7 -> 0 | I4: =F4+H4+F5+SUM(F7:F8) -> 0
B5: 1.3.2. | C5: Stacionārs spirogrāfs bez bronhoprovokācijas moduļa | D5: 2 | F5: =E5*D5 -> 0
B6: 1.4. | C6: Piederumi, saderīgi ar piedāvāto iekārtu (tiek norādīta cena par katru piederumu atsevišķi, tiks pasūtīti pēc nepieciešamības, papildus norādīto piederumu cena netiek iekļauta vērtējamajā cenā): | H6: Nav attiecināms
B7: 1.5.1. | C7: Iemutes ar filtriem | D7: 5000 | F7: =E7*D7 -> 0
B8: 1.5.2. | C8: Deguna klipši | D8: 5000 | F8: =E8*D8 -> 0
B9: 1.5.3. | C9: Citi piederumi, kas nepieciešami piedāvātajai iekārtai, lai nodrošinātu tehniskajā aprakstā norādīto funkcionalitāti un/vai pieejamie papildinājumi. (rindiņas atļauts papildināt zemāk pēc nepieciešamības, vienā rindiņā ierakstīt ne vairāk kā vienu piederumu) | D9: 1 | F9: =E9*D9 -> 0
A10: 2. pozīcija | B10: 2. | C10: Pacienta vitālo funkciju monitors | D10: 1 | F10: =E10*D10 -> 0 | H10: ='Iekārtu tehniskā apkalpošana'!N8 -> 0 | I10: =F10+H10+SUM(F13:F17)+SUM(F20:F25) -> 0
B11: 1.4. | C11: Piederumi, saderīgi ar piedāvāto iekārtu (tiek norādīta cena par katru piederumu atsevišķi, tiks pasūtīti pēc nepieciešamības, papildus norādīto piederumu cena netiek iekļauta vērtējamajā cenā): | H11: Nav attiecināms
B12: 2.4.1. | C12: Sensors SpO2:
B13: 2.4.1.1. | C13: Jaundzimušo, daudzreizlietojams | D13: 1 | F13: =E13*D13 -> 0
B14: 2.4.1.2. | C14: Pediatriskais, daudzreizlietojamais, pirksta | D14: 1 | F14: =E14*D14 -> 0
B15: 2.4.1.3. | C15: Pieaugušo, daudzreizlietojamais, pirksta | D15: 1 | F15: =E15*D15 -> 0
B16: 2.4.1.4. | C16: Kabelis savienojošais SpO2, daudzreizlietojams, garums vismaz 3m, ja nepieciešams | D16: 1 | F16: =E16*D16 -> 0
B17: 2.4.1.5. | C17: Jaundzimušo, vienreizlietojams (Ja pieejams, netiek iekļauts vērtējamajā cenā) | D17: 1 | F17: =E17*D17 -> 0
B18: 2.4.2. | C18: Manšetes, daudzreizlietojamās
B19: 2.4.2.1. | C19: Vismaz piecu dažādu izmēru manšetes, kuras nosedz izmēru diapazonu vismaz no 10 -40 cm. Norādīt izmērus:
B20: 2.4.2.1.1. | C20: 1. manšete | D20: 1 | F20: =E20*D20 -> 0
B21: 2.4.2.1.2. | C21: 2. manšete | D21: 1 | F21: =E21*D21 -> 0
B22: 2.4.2.1.3. | C22: 3. manšete | D22: 1 | F22: =E22*D22 -> 0
B23: 2.4.2.1.4. | C23: 4. manšete | D23: 1 | F23: =E23*D23 -> 0
B24: 2.4.2.1.5. | C24: 5. manšete | D24: 1 | F24: =E24*D24 -> 0
B25: 2.4.3. | C25: Kabelis savienojošais neinvazīvā asinspiediena (ja attiecināms) | D25: 1 | F25: =E25*D25 -> 0
B26: 2.4.4. | C26: Citi piederumi vai papildus komplektācija, kas nepieciešamas piedāvātajai ierīcei, lai nodrošinātu tehniskajā aprakstā norādīto funkcionalitāti. (rindiņas atļauts papildināt zemāk pēc nepieciešamības, vienā rindiņā ierakstīt ne vairāk kā vienu piederumu) | D26: 1 | F26: =E26*D26 -> 0
A27: 3.pozīcija | B27: 3. | C27: Pacientu transporta mākslīgās plaušu ventilācijas iekārta | D27: 1 | F27: =E27*D27 -> 0 | H27: ='Iekārtu tehniskā apkalpošana'!N9 -> 0 | I27: =F27+H27+SUM(F29:F35) -> 0
B28: 3.4. | C28: Piederumi, saderīgi ar piedāvāto iekārtu (tiek norādīta cena par katru piederumu atsevišķi, tiks pasūtīti pēc nepieciešamības, papildus norādīto piederumu cena netiek iekļauta vērtējamajā cenā): | H28: Nav attiecināms
B29: 3.4.1. | C29: Skābekļa caurule | D29: 1 | F29: =E29*D29 -> 0
B30: 3.4.2. | C30: Testa plauša (jaundzimušo un pediatrisko/pieaugušo) | D30: 1 | F30: =E30*D30 -> 0
B31: 3.4.3. | C31: Ratiņi ar ātru pacientu monitora fiksāciju, skābekļa mitrinātāja trauka un pacientu kontūra turētājiem | D31: 1 | F31: =E31*D31 -> 0
B32: 3.4.4. | C32: Iekārtai piemērots elpināšanas kontūra komplekts, kas iekļauj visus nepeiciešamos papildus piederumus (piem, izelpas vārstu, ūdens savācēja traukus, filtrus utml.) jaundzimušajiem (vismaz 10 gab.), pediatriskajiem (vismaz 10 gab.) un pieaugušajiem (vismaz 10 gab.) pacientiem pilnvērtīga elpināšanas procesa nodrošināšanai atbilstoši ražotāja norādījumiem | D32: 1 | F32: =E32*D32 -> 0
B33: 3.4.5. | C33: Autoklavējams (vismaz 1 gab.) vai vienreizlietojams (vismaz 10 gab.) pediatrisko/pieaugušo pacientu plūsmas sensors | D33: 1 | F33: =E33*D33 -> 0
B34: 3.4.6. | C34: Vienreizējas lietošanas jaundzimušos plūsmas sensors (vismaz 10 gab.) | D34: 1 | F34: =E34*D34 -> 0
B35: 3.4.7. | C35: Atkārtoti lietojams CO2 devējs un atkārtoti lietojams (vismaz 1 gab.) vai vienreizlietojams (vismaz 10 gab.) adapteris, ja tāds nepieciešams plūsmas sensora savienošanai | D35: 1 | F35: =E35*D35 -> 0
B36: 3.4.8. | C36: Citi piederumi vai papildus komplektācija, kas nepieciešamas piedāvātajai ierīcei, lai nodrošinātu tehniskajā aprakstā norādīto funkcionalitāti. (rindiņas atļauts papildināt zemāk pēc nepieciešamības, vienā rindiņā ierakstīt ne vairāk kā vienu piederumu) | D36: 1 | F36: =E36*D36 -> 0
A37: 4.pozīcija | B37: 4. | C37: Infūziju sūknis | D37: 20 | F37: =E37*D37 -> 0 | H37: ='Iekārtu tehniskā apkalpošana'!N10 -> 0 | I37: =F37+H37+SUM(F39:F42) -> 0
B38: 4.5. | C38: Papildus komplektācija (tiek norādīta cena par katru piederumu atsevišķi, tiks pasūtīti pēc nepieciešamības, norādīto piederumu cena tiek iekļauta vērtējamajā cenā): | H38: Nav attiecināms
B39: 4.5.1. | C39: Ārējais barošanas bloks (ja attiecināms) | D39: 1 | F39: =E39*D39 -> 0
B40: 4.5.2. | C40: Stiprinājums pie infūzijas statīva (gadījumā, ja iekārta nav aprīkota ar iebūvētu risinājumu) | D40: 1 | F40: =E40*D40 -> 0
...
