Workbook
Name A: '[1]2'!$A$1
Name P: #REF!
Name P: #REF!
Name P: #REF!
Name P: #REF!
Name P: #REF!
Name P: #REF!
Name P: #REF!
Name P: #REF!
Name P: #REF!
Name P: #REF!
Name P: #REF!
Name P: #REF!
Name P: #REF!
Name P: #REF!
Name P: #REF!
Name P: #REF!
Name P: #REF!
Name P: #REF!
Name P: #REF!
Name P: #REF!
Name P: #REF!
Name P: #REF!
Name P: #REF!
Name P: #REF!
Name P: #REF!
Name P: #REF!
Name P: #REF!
Name P: #REF!
Name P: #REF!
Name P: #REF!
Name P: #REF!
Name P: #REF!
Name P: #REF!
Name P: #REF!
Name P: #REF!
Name P: #REF!
Name P: #REF!
Name P: #REF!
Name P: #REF!

Sheet Koptame
D2: APSTIPRINU
D3: ________________________________________
D4: (pasūtītāja paraksts un tā atšifrējums)
D6: Z.v.
D7: ______.gada ____.____________
B9: Būvniecības koptāme
B11: Būves nosaukums: | C11: Pirmsskolas izglītības iestāde
B12: Objekta nosaukums: | C12: Pirmsskolas izglītības iestādes jaunbūve
B13: Objekta adrese: | C13: Baložu iela 33, Baloži, Ķekavas novads
B14: Iepirkuma Id Nr. | C14: ĶNP2023/
D16: Tāme sastādīta:
B17: Tāme sastādīta 2024.gada tirgus cenās
B18: Kopsav.tāmes Nr | C18: Objekta nosaukums | D18: Objekta izmaksas (euro)
B21: 1 | C21: Vispārējie būvdarbi
B22: 2 | C22: Specializētie darbi-iekšējie tīkli, sistēmas
B23: 3 | C23: Specializētie darbi-ārējie tīkli, sistēmas
B24: 4 | C24: Teritorijas labiekārtošana
C25: Kopā( bez PVN)
C28: PVN 21 % | D28: =D25*0.21 -> 0
C30: Kopā ar PVN | D30: =D25+D28 -> 0
B33: Sastādīja:
B39: Pārbaudīja:

Sheet kops1
A2: Kopsavilkuma aprēķins Nr. 1
A6: =Koptame!C21 -> Vispārējie būvdarbi
A8: Būves nosaukums: | C8: =Koptame!C11 -> Pirmsskolas izglītības iestāde
A9: Objekta nosaukums: | C9: =Koptame!C12 -> Pirmsskolas izglītības iestādes jaunbūve
A10: Objekta adrese: | C10: =Koptame!C13 -> Baložu iela 33, Baloži, Ķekavas novads
A11: =Koptame!B14 -> Iepirkuma Id Nr. | C11: =Koptame!C14 -> ĶNP2023/
F13: Par kopējo summu, euro | H13: =E37 -> 0
F14: Kopējā darbietilpība, c/h | H14: =I33 -> 0
H15: =H14+kops2!H14+kops3!H14+kops4!H14 -> 0
H16: =Koptame!D16 -> Tāme sastādīta:
A18: Nr.p.k. | B18: Kods, tāmes Nr. | C18: Būvdarbu veids vai konstruktīvā elementa nosaukums | E18: Tāmes izmaksas (euro) | F18: Tai skaitā | I18: Darbietilpība (c/h)
F19: darba alga (euro) | G19: būvizstrādājumi (euro) | H19: mehānismi (euro)
A21: 1 | B21: 1,1 | C21: Zemes darbi
A22: 2 | B22: 1,2 | C22: Pamati
A23: 3 | B23: 1,3 | C23: Sienas
A24: 4 | B24: 1,4 | C24: Pārsegums
A25: 5 | B25: 1,5 | C25: Jumts
A26: 6 | B26: 1,6 | C26: Grīdas
A27: 7 | B27: 1,7 | C27: Kāpnes
A28: 8 | B28: 1,8 | C28: Ailu aizpildījuma elementi
A29: 9 | B29: 1,9 | C29: Iekšējie apdares darbi
A30: 10 | B30: 1,10 | C30: Ārējās apdares darbi
A31: 11 | B31: 1,11 | C31: Dažādi darbi
C33: Kopā | E33: =SUM(E21:E32) -> 0 | F33: =SUM(F21:F32) -> 0 | G33: =SUM(G21:G32) -> 0 | H33: =SUM(H21:H32) -> 0 | I33: =SUM(I21:I32) -> 0
A34: Virsizdevumi | D34: %
C35: tai skaitā darba aizsardzība
A36: Peļņa | D36: %
C37: Kopā bez PVN | E37: =E36+E34+E33 -> 0
B40: Sastādīja:
C41: =Koptame!C34 -> 0
C42: =Koptame!C35 -> 0
B46: =Koptame!B39 -> Pārbaudīja:
C47: =Koptame!C40 -> 0
C48: =Koptame!C41 -> 0

Sheet 1,1
G1: Lokālā tāme Nr. | H1: =kops1!B21 -> 1,1
A2: =C13 -> Zemes darbi
C3: Būves nosaukums: | D3: =Koptame!C11 -> Pirmsskolas izglītības iestāde
C4: Objekta nosaukums: | D4: =Koptame!C12 -> Pirmsskolas izglītības iestādes jaunbūve
C5: Objekta adrese: | D5: =Koptame!C13 -> Baložu iela 33, Baloži, Ķekavas novads
C6: =Koptame!B14 -> Iepirkuma Id Nr. | D6: =Koptame!C14 -> ĶNP2023/
A7: =Koptame!B17 -> Tāme sastādīta 2024.gada tirgus cenās | O7: Tāmes izmaksas euro: | P7: =P21 -> 0
L9: =Koptame!D16 -> Tāme sastādīta:
A11: Nr.p.k. | B11: Kods | C11: Būvdarbu nosaukums | D11: Mērvienība | E11: Daudzums | F11: Vienības izmaksas | L11: Kopā uz visu apjomu
F12: Laika norma (c/h) | G12: Darba samaksas likme (euro/h) | H12: Darba alga (euro) | I12: Būvizstrādājumi (euro) | J12: Mehānismi (euro) | K12: Kopā (euro) | L12: Darbietilpība (c/h) | M12: Darba alga (euro) | N12: Būvizstrādājumi (euro) | O12: Mehānismi (euro) | P12: Summa (euro)
C13: =kops1!C21 -> Zemes darbi | K13: =SUM(H13:J13) -> 0 | L13: =ROUND(F13*E13,2) -> 0 | M13: =ROUND(H13*E13,2) -> 0 | N13: =ROUND(I13*E13,2) -> 0 | O13: =ROUND(J13*E13,2) -> 0 | P13: =SUM(M13:O13) -> 0
A14: 1 | C14: Gruntsūdens līmeņa pazemināšana (Nepieciešamību precizēt būvniecības laikā!) | D14: kpl | E14: 1
A15: 2 | C15: Grunts rakšana ar mehanizēti, iekraujot grunti automašīnā-pašizgāzējā pamatu izbūvei | D15: m3 | E15: =3072+1151-E16 -> 3801
A16: 3 | C16: Grunts izstrāde roku darbā pamatu izbūvei | D16: m3 | E16: 422
A17: 4 | C17: Būvbedres un tranšejas aizbēršana mehanizēti ar pievesto smilti pamatiem | D17: m3 | E17: =2047-E18 -> 1842
A18: 5 | C18: Būvbedres un tranšejas aizbēršana ar rokām ar pievesto smilti pamatiem | D18: m3 | E18: 205
A19: 6 | C19: Liekās grunts izvešana | D19: m3 | E19: =E15+E16 -> 4223
F20: 0 | G20: 0
C21: Tiešās izmaksas kopā t.sk. darba devēja sociālais nodoklis(23,59%)
B28: Sastādīja: | L28: =Koptame!B39 -> Pārbaudīja:
C29: =Koptame!C34 -> 0 | M29: =Koptame!C40 -> 0
C30: =Koptame!C35 -> 0 | M30: =Koptame!C41 -> 0

Sheet 1,2
G1: Lokālā tāme Nr. | H1: =kops1!B22 -> 1,2
A2: =C13 -> Pamati
C3: Būves nosaukums: | D3: =Koptame!C11 -> Pirmsskolas izglītības iestāde
C4: Objekta nosaukums: | D4: =Koptame!C12 -> Pirmsskolas izglītības iestādes jaunbūve
C5: Objekta adrese: | D5: =Koptame!C13 -> Baložu iela 33, Baloži, Ķekavas novads
C6: =Koptame!B14 -> Iepirkuma Id Nr. | D6: =Koptame!C14 -> ĶNP2023/
A7: =Koptame!B17 -> Tāme sastādīta 2024.gada tirgus cenās | O7: Tāmes izmaksas euro: | P7: =P21 -> 0
L9: =Koptame!D16 -> Tāme sastādīta:
A11: Nr.p.k. | B11: Kods | C11: Būvdarbu nosaukums | D11: Mērvienība | E11: Daudzums | F11: Vienības izmaksas | L11: Kopā uz visu apjomu
F12: Laika norma (c/h) | G12: Darba samaksas likme (euro/h) | H12: Darba alga (euro) | I12: Būvizstrādājumi (euro) | J12: Mehānismi (euro) | K12: Kopā (euro) | L12: Darbietilpība (c/h) | M12: Darba alga (euro) | N12: Būvizstrādājumi (euro) | O12: Mehānismi (euro) | P12: Summa (euro)
B13: 0 | C13: =kops1!C22 -> Pamati | F13: 0 | G13: 0 | H13: 0 | I13: 0 | J13: 0 | K13: =SUM(H13:J13) -> 0 | L13: =ROUND(F13*E13,2) -> 0 | M13: =ROUND(H13*E13,2) -> 0 | N13: =ROUND(I13*E13,2) -> 0 | O13: =ROUND(J13*E13,2) -> 0 | P13: =SUM(M13:O13) -> 0
A14: 0 | C14: Pamati BK-02.01 | H14: =ROUND(F14*G14,2) -> 0 | K14: =SUM(H14:J14) -> 0 | L14: =ROUND(F14*E14,2) -> 0 | M14: =ROUND(H14*E14,2) -> 0 | N14: =ROUND(I14*E14,2) -> 0 | O14: =ROUND(J14*E14,2) -> 0 | P14: =SUM(M14:O14) -> 0
A15: 1 | C15: Inventāro veidņu uzstādīšana,eļļošana pamatiem un nojaukšana ,noma | D15: m2 | E15: 5387.12
A16: 2 | C16: Betona iestrādāšana pamatu konstrukcijās-pamati C12/15 XC1 novibrējot,betonu padod ar sūkni | D16: m3 | E16: 65.84
A17: 3 | C17: Šķembu pamatojuma ierīkošana fr.20-40 mm,blīvā veidā ,novibrējot | D17: m3 | E17: 285.2
A18: 4 | C18: Armatūras sietu izgatavošana ,uzstādīšana,fiksatoru uzstādīšana . Armatūra B500B | D18: t | E18: 8.69
A19: 5 | C19: Betona iestrādāšana pamatu konstrukcijās-pamati C30/37 XC2 novibrējot,betonu padod ar sūkni | D19: m3 | E19: 673.39
C21: Tiešās izmaksas kopā t.sk. darba devēja sociālais nodoklis(23,59%)
B23: ='1,1'!C23 -> 0
A24: ='1,1'!A24:G24 -> 0
B28: Sastādīja: | L28: =Koptame!B39 -> Pārbaudīja:
C29: =Koptame!C34 -> 0 | M29: =Koptame!C40 -> 0
C30: =Koptame!C35 -> 0 | M30: =Koptame!C41 -> 0

Sheet 1,3
G1: Lokālā tāme Nr. | H1: =kops1!$B$23 -> 1,3
A2: =C13 -> Sienas
C3: Būves nosaukums: | D3: =Koptame!C11 -> Pirmsskolas izglītības iestāde
C4: Objekta nosaukums: | D4: =Koptame!C12 -> Pirmsskolas izglītības iestādes jaunbūve
C5: Objekta adrese: | D5: =Koptame!C13 -> Baložu iela 33, Baloži, Ķekavas novads
C6: =Koptame!B14 -> Iepirkuma Id Nr. | D6: =Koptame!C14 -> ĶNP2023/
A7: =Koptame!B17 -> Tāme sastādīta 2024.gada tirgus cenās | O7: Tāmes izmaksas euro: | P7: =P159 -> 0
L9: =Koptame!D16 -> Tāme sastādīta:
A11: Nr.p.k. | B11: Kods | C11: Būvdarbu nosaukums | D11: Mērvienība | E11: Daudzums | F11: Vienības izmaksas | L11: Kopā uz visu apjomu
F12: Laika norma (c/h) | G12: Darba samaksas likme (euro/h) | H12: Darba alga (euro) | I12: Būvizstrādājumi (euro) | J12: Mehānismi (euro) | K12: Kopā (euro) | L12: Darbietilpība (c/h) | M12: Darba alga (euro) | N12: Būvizstrādājumi (euro) | O12: Mehānismi (euro) | P12: Summa (euro)
B13: 0 | C13: =kops1!C23 -> Sienas | F13: 0 | G13: 0 | H13: 0 | I13: 0 | J13: 0 | K13: =SUM(H13:J13) -> 0 | L13: =ROUND(F13*E13,2) -> 0 | M13: =ROUND(H13*E13,2) -> 0 | N13: =ROUND(I13*E13,2) -> 0 | O13: =ROUND(J13*E13,2) -> 0 | P13: =SUM(M13:O13) -> 0
A14: 0 | C14: 1,2, bēniņi stāvs | H14: =ROUND(F14*G14,2) -> 0 | K14: =SUM(H14:J14) -> 0 | L14: =ROUND(F14*E14,2) -> 0 | M14: =ROUND(H14*E14,2) -> 0 | N14: =ROUND(I14*E14,2) -> 0 | O14: =ROUND(J14*E14,2) -> 0 | P14: =SUM(M14:O14) -> 0
A15: 1 | C15: Inventāro veidņu uzstādīšana,eļļošana un nojaukšana ,noma | D15: m2 | E15: =272+62+72+49.8 -> 455.8
A16: 2 | C16: Betona iestrādāšana sienu konstrukcijās C30/37 XC1 novibrējot,betonu padod ar sūkni | D16: m3 | E16: =12.24+81.31+9.97+21.52+1.25 -> 126.29
A17: 3 | C17: Sienu mūrēšana no FIBO 5MPa blokiem 300 mm t.sk. Palīgmateriāli, mūrjava , stiegrojums | D17: m3 | E17: =228.04+386.84+205.27 -> 820.15
A18: 4 | C18: Sienu mūrēšana no FIBO 3MPa blokiem t.sk. Palīgmateriāli, mūrjava , stiegrojums | D18: m3 | E18: =68.09+34.96 -> 103.05
A19: 5 | C19: Sienu mūrēšana no FIBO 3MPa blokiem 150 mm t.sk. Palīgmateriāli, mūrjava , stiegrojums | D19: m3 | E19: =60.22+74.15 -> 134.37
A20: 6 | C20: Sienu mūrēšana no dobiem betona blokiem 190 mm t.sk. Palīgmateriāli, mūrjava , stiegrojums | D20: m3 | E20: 6.51
A21: 0 | C21: Pārsedzes 1 stāvs
A22: 7 | C22: DzP1 pārsedzes ierīkošana | D22: gb | E22: 6
A23: 8 | C23: DzP2 pārsedzes ierīkošana | D23: gb | E23: 1
A24: 9 | C24: DzP4 pārsedzes ierīkošana | D24: gb | E24: 1
A25: 10 | C25: DzP2 pārsedzes ierīkošana | D25: gb | E25: 7
A26: 11 | C26: DzP2 pārsedzes ierīkošana | D26: gb | E26: 2
A27: 12 | C27: DzP2 pārsedzes ierīkošana | D27: gb | E27: 2
A28: 13 | C28: DzP3 pārsedzes ierīkošana | D28: gb | E28: 2
A29: 14 | C29: DzP3 pārsedzes ierīkošana | D29: gb | E29: 1
A30: 15 | C30: DzP3 pārsedzes ierīkošana | D30: gb | E30: 13
A31: 16 | C31: FP3 pārsedzes ierīkošana | D31: gb | E31: 7
A32: 17 | C32: FP2 pārsedzes ierīkošana | D32: gb | E32: 19
A33: 18 | C33: FP2 pārsedzes ierīkošana | D33: gb | E33: 14
A34: 19 | C34: FP1 pārsedzes ierīkošana | D34: gb | E34: 4
A35: 20 | C35: FP1 pārsedzes ierīkošana | D35: gb | E35: 4
A36: 21 | C36: FP1 pārsedzes ierīkošana | D36: gb | E36: 2
... A50: 35 | C50: DzP3 pārsedzes ierīkošana | D50: gb | E50: 11
A51: 0 | C51: Pārsedzes 2 stāvs
A52: 36 | C52: DzP1 pārsedzes ierīkošana | D52: gb | E52: 1
A53: 37 | C53: DzP5 pārsedzes ierīkošana | D53: gb | E53: 1
A54: 38 | C54: DzP3 pārsedzes ierīkošana | D54: gb | E54: 1
A55: 39 | C55: DzP3 pārsedzes ierīkošana | D55: gb | E55: 1
...

Sheet 1,4
G1: Lokālā tāme Nr. | H1: =kops1!B24 -> 1,4
A2: =C13 -> Pārsegums
C3: Būves nosaukums: | D3: =Koptame!C11 -> Pirmsskolas izglītības iestāde
C4: Objekta nosaukums: | D4: =Koptame!C12 -> Pirmsskolas izglītības iestādes jaunbūve
C5: Objekta adrese: | D5: =Koptame!C13 -> Baložu iela 33, Baloži, Ķekavas novads
C6: =Koptame!B14 -> Iepirkuma Id Nr. | D6: =Koptame!C14 -> ĶNP2023/
A7: =Koptame!B17 -> Tāme sastādīta 2024.gada tirgus cenās | O7: Tāmes izmaksas euro: | P7: =P30 -> 0
L9: =Koptame!D16 -> Tāme sastādīta:
A11: Nr.p.k. | B11: Kods | C11: Būvdarbu nosaukums | D11: Mērvienība | E11: Daudzums | F11: Vienības izmaksas | L11: Kopā uz visu apjomu
F12: Laika norma (c/h) | G12: Darba samaksas likme (euro/h) | H12: Darba alga (euro) | I12: Būvizstrādājumi (euro) | J12: Mehānismi (euro) | K12: Kopā (euro) | L12: Darbietilpība (c/h) | M12: Darba alga (euro) | N12: Būvizstrādājumi (euro) | O12: Mehānismi (euro) | P12: Summa (euro)
B13: 0 | C13: =kops1!C24 -> Pārsegums | F13: 0 | G13: 0 | H13: 0 | I13: 0 | J13: 0 | K13: =SUM(H13:J13) -> 0 | L13: =ROUND(F13*E13,2) -> 0 | M13: =ROUND(H13*E13,2) -> 0 | N13: =ROUND(I13*E13,2) -> 0 | O13: =ROUND(J13*E13,2) -> 0 | P13: =SUM(M13:O13) -> 0
A14: 0 | C14: Tērauda sijas 1. stāvs | H14: =ROUND(F14*G14,2) -> 0 | K14: =SUM(H14:J14) -> 0 | L14: =ROUND(F14*E14,2) -> 0 | M14: =ROUND(H14*E14,2) -> 0 | N14: =ROUND(I14*E14,2) -> 0 | O14: =ROUND(J14*E14,2) -> 0 | P14: =SUM(M14:O14) -> 0
A15: 1 | C15: Tērauda konstrukciju- izgatavošana , piegāde,montāža t.sk. Palīgmateriāli. Metāla konstrukcijas apstrādātas atbilstoši BK norādījumiem t.sk. Ugunsdrošais pārklājs | D15: t | E15: 1.47
A16: 0 | C16: monolītā josla, sijas 1,2Stāvs
A17: 2 | C17: Inventāro veidņu uzstādīšana,eļļošana un nojaukšana ,noma | D17: m2 | E17: =8*E19 -> 285.44
A18: 3 | C18: Armatūras sietu izgatavošana ,uzstādīšana,fiksatoru uzstādīšana . Armatūra B500B | D18: t | E18: 4.09
A19: 4 | C19: Betona iestrādāšana konstrukcijās C30/37 XC1 novibrējot,betonu padod ar sūkni | D19: m3 | E19: =28.26+7.42 -> 35.68
A20: 0 | C20: Pārkare 1. stāvs
A21: 5 | C21: Tērauda konstrukciju- izgatavošana , piegāde,montāža t.sk. Palīgmateriāli. Metāla konstrukcijas apstrādātas atbilstoši BK norādījumiem t.sk. Ugunsdrošais pārklājs | D21: t | E21: 8.12
A22: 0 | C22: BK-1,2stāvs
A23: 6 | C23: Saliekamā dzelzsbetona pārseguma paneļu h=320 mm montāža t.sk. Palīgmateriāli | D23: m2 | E23: =1110.5+110.58 -> 1221.08
A24: 7 | C24: Inventāro veidņu uzstādīšana,eļļošana nojaukšana ,noma | D24: m2 | E24: =1046.7+716.3 -> 1763
A25: 8 | C25: Armatūras sietu izgatavošana ,uzstādīšana,fiksatoru uzstādīšana . Armatūra B500B | D25: t | E25: =54.56+54.56 -> 109.12
A26: 9 | C26: Betona iestrādāšana pārseguma konstrukcijās C30/37 XC1 novibrējot,betonu padod ar sūkni | D26: m3 | E26: =195.72+156.59 -> 352.31
A27: 0 | C27: 2. stāvs
A28: 10 | C28: Tērauda konstrukciju- izgatavošana , piegāde,montāža t.sk. Palīgmateriāli. Metāla konstrukcijas apstrādātas atbilstoši BK norādījumiem t.sk. Ugunsdrošais pārklājs | D28: t | E28: 4.87
C30: Tiešās izmaksas kopā t.sk. darba devēja sociālais nodoklis(23,59%)
B32: Piezīmes:
A33: ='1,1'!A24:G24 -> 0
B37: Sastādīja: | L37: =Koptame!B39 -> Pārbaudīja:
C38: =Koptame!C34 -> 0 | M38: =Koptame!C40 -> 0
C39: =Koptame!C35 -> 0 | M39: =Koptame!C41 -> 0

Sheet 1,5
G1: Lokālā tāme Nr. | H1: =kops1!B25 -> 1,5
A2: =C13 -> Jumts
C3: Būves nosaukums: | D3: =Koptame!C11 -> Pirmsskolas izglītības iestāde
C4: Objekta nosaukums: | D4: =Koptame!C12 -> Pirmsskolas izglītības iestādes jaunbūve
C5: Objekta adrese: | D5: =Koptame!C13 -> Baložu iela 33, Baloži, Ķekavas novads
C6: =Koptame!B14 -> Iepirkuma Id Nr. | D6: =Koptame!C14 -> ĶNP2023/
A7: =Koptame!B17 -> Tāme sastādīta 2024.gada tirgus cenās | O7: Tāmes izmaksas euro: | P7: =P77 -> 0
L9: =Koptame!D16 -> Tāme sastādīta:
A11: Nr.p.k. | B11: Kods | C11: Būvdarbu nosaukums | D11: Mērvienība | E11: Daudzums | F11: Vienības izmaksas | L11: Kopā uz visu apjomu
F12: Laika norma (c/h) | G12: Darba samaksas likme (euro/h) | H12: Darba alga (euro) | I12: Būvizstrādājumi (euro) | J12: Mehānismi (euro) | K12: Kopā (euro) | L12: Darbietilpība (c/h) | M12: Darba alga (euro) | N12: Būvizstrādājumi (euro) | O12: Mehānismi (euro) | P12: Summa (euro)
B13: 0 | C13: =kops1!C25 -> Jumts | F13: 0 | G13: 0 | H13: 0 | I13: 0 | J13: 0 | K13: =SUM(H13:J13) -> 0 | L13: =ROUND(F13*E13,2) -> 0 | M13: =ROUND(H13*E13,2) -> 0 | N13: =ROUND(I13*E13,2) -> 0 | O13: =ROUND(J13*E13,2) -> 0 | P13: =SUM(M13:O13) -> 0
A14: 0 | C14: BK | H14: =ROUND(F14*G14,2) -> 0 | K14: =SUM(H14:J14) -> 0 | L14: =ROUND(F14*E14,2) -> 0 | M14: =ROUND(H14*E14,2) -> 0 | N14: =ROUND(I14*E14,2) -> 0 | O14: =ROUND(J14*E14,2) -> 0 | P14: =SUM(M14:O14) -> 0
A15: 1 | C15: Tērauda konstrukciju- izgatavošana , piegāde,montāža t.sk. Palīgmateriāli. Metāla konstrukcijas apstrādātas atbilstoši BK norādījumiem t.sk. Ugunsdrošais pārklājs | D15: t | E15: =33.94+4.07 -> 38.01
A16: 2 | C16: Nesošo koka konstrukciju-koka sijas, mūrlatas, spāres izgatavošana un montāža sagatavotas atbilstoši BK norādījumiem t.sk. Palīgmateriāli. Kokmateriālu klase Apstrādātas ar antiseptiķi-antipirēnu | D16: m3 | E16: =19.34+63.73 -> 83.07
A17: 0 | C17: J 1.1
A18: 3 | C18: Latojuma ierīkošana. Latojums 50x50mm, stiprinājumi | D18: m2 | E18: 366.2
A19: 4 | C19: Difūzijas membrānas ieklāšana PAROC XMU 100 vai ekvivalents | D19: m2 | E19: 366.2
A20: 5 | C20: Vates iestrāde karkasā siltuma izolācijai. Siltuma izolācijas plāksnes 30 mm Paroc Cortex | D20: m2 | E20: 366.2
A21: 6 | C21: Vates iestrāde karkasā siltuma izolācijai. Siltuma izolācijas plāksnes 250 mm Paroc Ultra plus | D21: m2 | E21: 366.2
A22: 7 | C22: Tvaika izolācijas ieklāšana PAROC XMV 020 bas vai ekvivalents | D22: m2 | E22: 366.2
A23: 8 | C23: Latojuma ierīkošana. Latojums 50x50mm, stiprinājumi | D23: m2 | E23: 366.2
A24: 9 | C24: Vates iestrāde karkasā siltuma izolācijai. Siltuma izolācijas plāksnes 50 mm Paroc Ultra | D24: m2 | E24: 366.2
A25: 10 | C25: Knauf ģipškartona griestu karkass | D25: m2 | E25: 366.2
A26: 11 | C26: Karkasu apšūšana ar ģipškartonu . Ģipškartona plātne GKF 15 mm Knauf vai ekvivalents ; Knauf skrūves vai ekvivalents. Šuvju aizpildījums un aplīmēšana ar armējošu sietu | D26: m2 | E26: 366.2
A27: 0 | C27: J 1.1a
A28: 12 | C28: Knauf ģipškartona metāla karkass | D28: m2 | E28: 366.2
A29: 13 | C29: Karkasu apšūšana ar ģipškartonu . Ģipškartona plātne GKF 15 mm Knauf vai ekvivalents ; Knauf skrūves vai ekvivalents. Šuvju aizpildījums un aplīmēšana ar armējošu sietu | D29: m2 | E29: 366.2
A30: 14 | C30: Latojuma ierīkošana. Latojums 50x50mm, stiprinājumi | D30: m2 | E30: 366.2
A31: 15 | C31: Vates iestrāde karkasā siltuma izolācijai. Siltuma izolācijas plāksnes 50 mm Paroc Ultra | D31: m2 | E31: 366.2
A32: 16 | C32: Tvaika izolācijas ieklāšana PAROC XMV 020 bas vai ekvivalents | D32: m2 | E32: 366.2
A33: 17 | C33: Vates iestrāde karkasā siltuma izolācijai. Siltuma izolācijas plāksnes 250 mm Paroc Ultra plus | D33: m2 | E33: 366.2
A34: 18 | C34: Difūzijas membrānas ieklāšana PAROC XMU 100 vai ekvivalents | D34: m2 | E34: 366.2
A35: 19 | C35: Vates iestrāde karkasā siltuma izolācijai. Siltuma izolācijas plāksnes 30 mm Paroc Cortex | D35: m2 | E35: 366.2
A36: 20 | C36: Latojuma ierīkošana. Latojums 50x50mm, stiprinājumi | D36: m2 | E36: 366.2
A37: 21 | C37: Termokoksnes dēļu seguma 25 mm ieklāšana | D37: m2 | E37: 366.2
A38: 0 | C38: J 1.1c
A39: 22 | C39: Knauf ģipškartona metāla karkass | D39: m2 | E39: 694.7
A40: 23 | C40: Karkasu apšūšana ar ģipškartonu . Ģipškartona plātne GKF 15 mm Knauf vai ekvivalents ; Knauf skrūves vai ekvivalents. Šuvju aizpildījums un aplīmēšana ar armējošu sietu | D40: m2 | E40: 694.7
A41: 24 | C41: Latojuma ierīkošana. Latojums 50x50mm, stiprinājumi | D41: m2 | E41: 694.7
A42: 25 | C42: Vates iestrāde karkasā siltuma izolācijai. Siltuma izolācijas plāksnes 50 mm Paroc Ultra | D42: m2 | E42: 694.7
...

Sheet 1,6
G1: Lokālā tāme Nr. | H1: =kops1!B26 -> 1,6
A2: =C13 -> Grīdas
C3: Būves nosaukums: | D3: =Koptame!C11 -> Pirmsskolas izglītības iestāde
C4: Objekta nosaukums: | D4: =Koptame!C12 -> Pirmsskolas izglītības iestādes jaunbūve
C5: Objekta adrese: | D5: =Koptame!C13 -> Baložu iela 33, Baloži, Ķekavas novads
C6: =Koptame!B14 -> Iepirkuma Id Nr. | D6: =Koptame!C14 -> ĶNP2023/
A7: =Koptame!B17 -> Tāme sastādīta 2024.gada tirgus cenās | O7: Tāmes izmaksas euro: | P7: =P85 -> 0
L9: =Koptame!D16 -> Tāme sastādīta:
A11: Nr.p.k. | B11: Kods | C11: Būvdarbu nosaukums | D11: Mērvienība | E11: Daudzums | F11: Vienības izmaksas | L11: Kopā uz visu apjomu
F12: Laika norma (c/h) | G12: Darba samaksas likme (euro/h) | H12: Darba alga (euro) | I12: Būvizstrādājumi (euro) | J12: Mehānismi (euro) | K12: Kopā (euro) | L12: Darbietilpība (c/h) | M12: Darba alga (euro) | N12: Būvizstrādājumi (euro) | O12: Mehānismi (euro) | P12: Summa (euro)
B13: 0 | C13: =kops1!C26 -> Grīdas | F13: 0 | G13: 0 | H13: 0 | I13: 0 | J13: 0 | K13: =SUM(H13:J13) -> 0 | L13: =ROUND(F13*E13,2) -> 0 | M13: =ROUND(H13*E13,2) -> 0 | N13: =ROUND(I13*E13,2) -> 0 | O13: =ROUND(J13*E13,2) -> 0 | P13: =SUM(M13:O13) -> 0
A14: 0 | C14: BK 1. stāva grīda | H14: =ROUND(F14*G14,2) -> 0 | K14: =SUM(H14:J14) -> 0 | L14: =ROUND(F14*E14,2) -> 0 | M14: =ROUND(H14*E14,2) -> 0 | N14: =ROUND(I14*E14,2) -> 0 | O14: =ROUND(J14*E14,2) -> 0 | P14: =SUM(M14:O14) -> 0
A15: 1 | C15: Inventāro veidņu uzstādīšana,eļļošana pamatiem un nojaukšana ,noma | D15: m2 | E15: =E19*8 -> 186.56
A16: 2 | C16: Betona iestrādāšana konstrukcijās C12/15 novibrējot,betonu padod ar sūkni | D16: m3 | E16: 177.28
A17: 3 | C17: Šķembu pamatojuma ierīkošana fr.20-40 mm,blīvā veidā ,novibrējot | D17: m3 | E17: =443.18 -> 443.18
A18: 4 | C18: Armatūras sietu izgatavošana ,uzstādīšana,fiksatoru uzstādīšana . Armatūra B500B | D18: t | E18: 1.35
A19: 5 | C19: Betona iestrādāšana grīdu konstrukcijās- C30/37 XC2 novibrējot,betonu padod ar sūkni | D19: m3 | E19: 23.32
A20: 0 | C20: G 1.1
A21: 6 | C21: Siltumizolācijas ierīkošana; Ekstrudētais putupolistirols XPS 100 mm vai ekvivalents | D21: m2 | E21: 2277.2
A22: 7 | C22: Filtrauduma ieklāšana | D22: m2 | E22: 2277.2
A23: 8 | C23: Stiegrotas betona kārtas ierīkošana 100 mm Betons stiegrojums B500B | D23: m2 | E23: 2277.2
A24: 0 | C24: P 1.1
A25: 9 | C25: Skaņas izolācijas ierīkošana piem. PAROC SSB1 30 mm vai ekvivalents | D25: m2 | E25: 1891
A26: 10 | C26: PVC Poliet.plēves iestrāde tvaika izolācijai | D26: m2 | E26: 1891
A27: 11 | C27: Stiegrotas betona kārtas ierīkošana 70 mm Betons stiegrojums B500B | D27: m2 | E27: 1891
A28: 0 | C28: P 1.1a
A29: 12 | C29: Skaņas izolācijas ierīkošana piem. PAROC SSB1 50 mm vai ekvivalents | D29: m2 | E29: 328.5
A30: 13 | C30: PVC Poliet.plēves iestrāde tvaika izolācijai | D30: m2 | E30: 328.5
A31: 14 | C31: Stiegrotas betona kārtas ierīkošana 70 mm Betons stiegrojums B500B | D31: m2 | E31: 328.5
A32: 15 | C32: Situmizolācija, piem., Paroc Ultra Plus(b=200)vai ekvivalents | D32: m2 | E32: 328.5
A33: 16 | C33: Apdares stiprinājuma T karkass montāža | D33: m2 | E33: 328.5
A34: 17 | C34: Fasādes apšuvuma plāksnes t.sk. stiprinājumi Equitone Natura | D34: m2 | E34: 328.5
A35: 0 | C35: P 1.3
A36: 18 | C36: Hidroizolācijas ierīkošana | D36: m2 | E36: 1944.5
A37: 19 | C37: Siltumizolācijas ierīkošana; Putupolistirols 250 mm vai ekvivalents | D37: m2 | E37: 1944.5
A38: 20 | C38: Ūdens drenāžas slānis | D38: m2 | E38: 1944.5
A39: 21 | C39: Stiegrotas betona kārtas ierīkošana 50 mm Betons stiegrojums B500B | D39: m2 | E39: 1944.5
A40: 22 | C40: Pretputekļu pārklājums | D40: m2 | E40: 1944.5
A41: 0 | C41: 1. stāva grīdas apdare
A42: 23 | C42: Grīdu izlīdzināšana ar pašizlīdzinošo sastāvu Pašizlīdzinošā masa grīdām (piem., Baumit Nivello 10) ~3mm | D42: m2 | E42: =SUM(E43:E55,E61) -> 1956.3
...

Sheet 1,7
G1: Lokālā tāme Nr. | H1: =kops1!B27 -> 1,7
A2: =C13 -> Kāpnes
C3: Būves nosaukums: | D3: =Koptame!C11 -> Pirmsskolas izglītības iestāde
C4: Objekta nosaukums: | D4: =Koptame!C12 -> Pirmsskolas izglītības iestādes jaunbūve
C5: Objekta adrese: | D5: =Koptame!C13 -> Baložu iela 33, Baloži, Ķekavas novads
C6: =Koptame!B14 -> Iepirkuma Id Nr. | D6: =Koptame!C14 -> ĶNP2023/
A7: =Koptame!B17 -> Tāme sastādīta 2024.gada tirgus cenās | O7: Tāmes izmaksas euro: | P7: =P19 -> 0
L9: =Koptame!D16 -> Tāme sastādīta:
A11: Nr.p.k. | B11: Kods | C11: Būvdarbu nosaukums | D11: Mērvienība | E11: Daudzums | F11: Vienības izmaksas | L11: Kopā uz visu apjomu
F12: Laika norma (c/h) | G12: Darba samaksas likme (euro/h) | H12: Darba alga (euro) | I12: Būvizstrādājumi (euro) | J12: Mehānismi (euro) | K12: Kopā (euro) | L12: Darbietilpība (c/h) | M12: Darba alga (euro) | N12: Būvizstrādājumi (euro) | O12: Mehānismi (euro) | P12: Summa (euro)
A13: 0 | C13: =kops1!C27 -> Kāpnes | H13: =ROUND(G13*F13,2) -> 0 | K13: =SUM(H13:J13) -> 0 | L13: =ROUND(F13*E13,2) -> 0 | M13: =ROUND(H13*E13,2) -> 0 | N13: =ROUND(I13*E13,2) -> 0 | O13: =ROUND(J13*E13,2) -> 0 | P13: =SUM(M13:O13) -> 0
A14: 1 | C14: Saliekamā dzelzsbetona konstrukciju kāpņu (asīs D-E - bk-13.1) izbūve t.sk. Palīgmateriāli | D14: kpl | E14: 1
A15: 2 | C15: Saliekamā dzelzsbetona konstrukciju kāpņu (Kāpnes asīs K-L bk-13.2) izbūve t.sk. Palīgmateriāli | D15: kpl | E15: 1
A16: 3 | C16: Saliekamā dzelzsbetona konstrukciju kāpņu (Kāpnes asīs S-T - bk-13.3) izbūve t.sk. Palīgmateriāli | D16: kpl | E16: 1
A17: 4 | C17: Saliekamā dzelzsbetona konstrukciju kāpņu (Kāpnes gaitenī - bk-13.4) izbūve t.sk. Palīgmateriāli | D17: kpl | E17: 1
F18: =IFERROR(ROUND(H18/G18,2),0) -> 0 | G18: =IF(H18>0,3.75,0) -> 0
C19: Tiešās izmaksas kopā t.sk. darba devēja sociālais nodoklis(23,59%)
B21: Piezīmes:
A22: ='1,1'!A24:G24 -> 0
B26: Sastādīja: | L26: =Koptame!B39 -> Pārbaudīja:
C27: =Koptame!C34 -> 0 | M27: =Koptame!C40 -> 0
C28: =Koptame!C35 -> 0 | M28: =Koptame!C41 -> 0

Sheet 1,8
G1: Lokālā tāme Nr. | H1: =kops1!B28 -> 1,8
A2: =C13 -> Ailu aizpildījuma elementi
C3: Būves nosaukums: | D3: =Koptame!C11 -> Pirmsskolas izglītības iestāde
C4: Objekta nosaukums: | D4: =Koptame!C12 -> Pirmsskolas izglītības iestādes jaunbūve
C5: Objekta adrese: | D5: =Koptame!C13 -> Baložu iela 33, Baloži, Ķekavas novads
C6: =Koptame!B14 -> Iepirkuma Id Nr. | D6: =Koptame!C14 -> ĶNP2023/
A7: =Koptame!B17 -> Tāme sastādīta 2024.gada tirgus cenās | O7: Tāmes izmaksas euro: | P7: =P75 -> 0
L9: =Koptame!D16 -> Tāme sastādīta:
A11: Nr.p.k. | B11: Kods | C11: Būvdarbu nosaukums | D11: Mērvienība | E11: Daudzums | F11: Vienības izmaksas | L11: Kopā uz visu apjomu
F12: Laika norma (c/h) | G12: Darba samaksas likme (euro/h) | H12: Darba alga (euro) | I12: Būvizstrādājumi (euro) | J12: Mehānismi (euro) | K12: Kopā (euro) | L12: Darbietilpība (c/h) | M12: Darba alga (euro) | N12: Būvizstrādājumi (euro) | O12: Mehānismi (euro) | P12: Summa (euro)
C13: =kops1!C28 -> Ailu aizpildījuma elementi | F13: 0 | G13: 0 | K13: =SUM(H13:J13) -> 0 | L13: =ROUND(F13*E13,2) -> 0 | M13: =ROUND(H13*E13,2) -> 0 | N13: =ROUND(I13*E13,2) -> 0 | O13: =ROUND(J13*E13,2) -> 0 | P13: =SUM(M13:O13) -> 0
A14: 1 | C14: Logu montāža saskaņā ar AR-6.1 t.sk. Palodzes | D14: m2 | E14: 438.1
A15: 0 | C15: L-1 ( 1x2,6 m) | D15: gb. | E15: 4
A16: 0 | C16: L-2 ( 1,5x2,6 m) | D16: gb. | E16: 9
A17: 0 | C17: L-3 ( 1,5x2,6 m) | D17: gb. | E17: 6
A18: 0 | C18: L-4 ( 4x2,6 m) | D18: gb. | E18: 6
A19: 0 | C19: L-5 ( 1,2x2,6 m) | D19: gb. | E19: 3
A20: 0 | C20: L-6 ( 1,2x1 m) | D20: gb. | E20: 3
A21: 0 | C21: L-7 ( 1,5x1,6 m) | D21: gb. | E21: 2
A22: 0 | C22: L-8 ( 2,5x2,62 m) | D22: gb. | E22: 10
A23: 0 | C23: L-9 ( 3x2,62 m) | D23: gb. | E23: 7
A24: 0 | C24: L-10 ( 3x2,62 m) | D24: gb. | E24: 3
A25: 0 | C25: L-11 ( 4x2,62 m) | D25: gb. | E25: 6
... A28: 0 | C28: JL-1 ( 1x2 m) | D28: gb. | E28: 4
A29: 0 | C29: Montāžas materiāli (blīvējošs materiāls, stiprinājumi u.c.) | D29: m2 | E29: =E14 -> 438.1
A30: 2 | C30: Loga montāža saskaņā ar AR-6.1 t.sk. Palīgmateriāli, stiprinājumi d=1,5 m L-21 | D30: kpl | E30: 4
A31: 3 | C31: Loga montāža saskaņā ar AR-6.1 t.sk. Palīgmateriāli, stiprinājumi d=2,0 m L-22 | D31: kpl | E31: 2
A32: 4 | C32: Loga montāža saskaņā ar AR-6.1 t.sk. Palīgmateriāli, stiprinājumi d=2,2 m L-23 | D32: kpl | E32: 1
A33: 5 | C33: Loga montāža saskaņā ar AR-6.1 t.sk. Palīgmateriāli, stiprinājumi d=3,5 m L-24 | D33: kpl | E33: 1
A34: 6 | C34: Vitrīnas montāža saskaņā ar AR-6.1 t.sk. Palīgmateriāli, stiprinājumi 2,2x2,4 m SV-1 | D34: kpl | E34: 1
A35: 7 | C35: Vitrīnas montāža saskaņā ar AR-6.1 t.sk. Palīgmateriāli, stiprinājumi 1,6x2,4 m SV-2 | D35: kpl | E35: 1
A36: 8 | C36: Ārdurvju montāža saskaņā ar AR-6.2 | D36: m2 | E36: 90.3
A37: 0 | C37: AD-101 ( 2,6x2,6 m) | D37: gb. | E37: 5
A38: 0 | C38: AD-102 ( 2,6x2,6 m) | D38: gb. | E38: 2
A39: 0 | C39: AD-103 ( 3x3 m) | D39: gb. | E39: 2
A40: 0 | C40: AD-104 ( 1,8x2,6 m) | D40: gb. | E40: 1
A41: 0 | C41: AD-105 ( 1x2,6 m) | D41: gb. | E41: 4
... A43: 0 | C43: AD-107 ( 0,9x2,6 m) | D43: gb. | E43: 2
A44: 0 | C44: Montāžas materiāli (blīvējošs materiāls, stiprinājumi u.c.) | D44: m2 | E44: =E36 -> 90.3
A45: 9 | C45: Durvju montāža saskaņā ar AR-6.4 | D45: m2 | E45: 341.8
...

Sheet 1,9
G1: Lokālā tāme Nr. | H1: =kops1!B29 -> 1,9
A2: =C13 -> Iekšējie apdares darbi
C3: Būves nosaukums: | D3: =Koptame!C11 -> Pirmsskolas izglītības iestāde
C4: Objekta nosaukums: | D4: =Koptame!C12 -> Pirmsskolas izglītības iestādes jaunbūve
C5: Objekta adrese: | D5: =Koptame!C13 -> Baložu iela 33, Baloži, Ķekavas novads
C6: =Koptame!B14 -> Iepirkuma Id Nr. | D6: =Koptame!C14 -> ĶNP2023/
A7: =Koptame!B17 -> Tāme sastādīta 2024.gada tirgus cenās | O7: Tāmes izmaksas euro: | P7: =P30 -> 0
L9: =Koptame!D16 -> Tāme sastādīta:
A11: Nr.p.k. | B11: Kods | C11: Būvdarbu nosaukums | D11: Mērvienība | E11: Daudzums | F11: Vienības izmaksas | L11: Kopā uz visu apjomu
F12: Laika norma (c/h) | G12: Darba samaksas likme (euro/h) | H12: Darba alga (euro) | I12: Būvizstrādājumi (euro) | J12: Mehānismi (euro) | K12: Kopā (euro) | L12: Darbietilpība (c/h) | M12: Darba alga (euro) | N12: Būvizstrādājumi (euro) | O12: Mehānismi (euro) | P12: Summa (euro)
B13: 0 | C13: =kops1!C29 -> Iekšējie apdares darbi | F13: 0 | G13: 0 | K13: =SUM(H13:J13) -> 0 | L13: =ROUND(F13*E13,2) -> 0 | M13: =ROUND(H13*E13,2) -> 0 | N13: =ROUND(I13*E13,2) -> 0 | O13: =ROUND(J13*E13,2) -> 0 | P13: =SUM(M13:O13) -> 0
A14: 0 | C14: Griesti | G14: 0 | H14: =ROUND(F14*G14,2) -> 0 | I14: 0 | J14: 0 | K14: =SUM(H14:J14) -> 0 | L14: =ROUND(F14*E14,2) -> 0 | M14: =ROUND(H14*E14,2) -> 0 | N14: =ROUND(I14*E14,2) -> 0 | O14: =ROUND(J14*E14,2) -> 0 | P14: =SUM(M14:O14) -> 0
A15: 0 | C15: 1. stāvs | H15: =ROUND(F15*G15,2) -> 0 | K15: =SUM(H15:J15) -> 0 | L15: =ROUND(F15*E15,2) -> 0 | M15: =ROUND(H15*E15,2) -> 0 | N15: =ROUND(I15*E15,2) -> 0 | O15: =ROUND(J15*E15,2) -> 0 | P15: =SUM(M15:O15) -> 0
A16: 1 | C16: PG-1.1 Ēveļskaidas plātņu (fibrolīta) akustiskās plātnes "CEWOOD" "CW-W25S-P5-1200x600-N”, 25mm. P5G-T24 profils; Skaida: 1.0mm; Tonis: "N" Naturāla, krāsota t.sk. Palīgmateriāli, stiprinājumi, nesošais karkass | D16: m2 | E16: =1692.4+1846 -> 3538.4
A17: 2 | C17: PG-1.2 Ēveļskaidas plātņu (fibrolīta) akustiskās plātnes "CEWOOD" "CW-W25S-P5-1200x600-’ GP", 25mm. P5G-T24 profils; Skaida: 1.0mm; Tonis: "GP" Pelēka t.sk. Palīgmateriāli, stiprinājumi, nesošais karkass | D17: m2 | E17: =119.4+303 -> 422.4
A18: 3 | C18: PG-2.1 Pretputekļu pārklājums uz pārseguma paneļiem | D18: m2 | E18: =230.8+92.2 -> 323
A19: 4 | C19: PG-3.1 Ģipškartona plākšņu griesti (GKB), 12.5mm. Tonis: krāsots NCS 0603-Y90R t.sk. Metāla karkass | D19: m2 | E19: =62+56.1 -> 118.1
A20: 5 | C20: Griestu gruntēšana, špaktelēšana, slīpēšana , Vetonit vai ekvivalents špaktele, grunts | D20: m2 | E20: =62+56.1 -> 118.1
A21: 6 | C21: Sagatavotu griestu gruntēšana | D21: m2 | E21: =62+56.1 -> 118.1
A22: 7 | C22: Sagatavotu griestu krāsošana ar krāsām 2k. Griestu krāsa Tonis: krāsots NCS 0603-Y90R | D22: m2 | E22: =62+56.1 -> 118.1
A23: 0 | C23: Sienas
A24: 8 | C24: Sienu gruntēšana, špaktelēšana, slīpēšana t.sk. Ailu apmales. , Vetonit vai ekvivalents špaktele, grunts | D24: m2 | E24: =2680.6+2147.4 -> 4828
A25: 9 | C25: Sagatavotu sienu gruntēšana t.sk. Ailu apmales | D25: m2 | E25: =2680.6+2147.4 -> 4828
A26: 10 | C26: Sagatavotu sienu krāsošana ar tonētām krāsām 2k. krāsota , m, piemēram., Sakret KS-G 2 kārtās. NCS S 4005-R80 B t.sk. Ailu apmales | D26: m2 | E26: =2680.6+2147.4 -> 4828
A27: 11 | C27: Hidroizolācijas ierīkošana | D27: m2 | E27: =465.8+378.8 -> 844.6
A28: 12 | C28: Flīžu seguma ierīkošana Flīzētas sienas - skatīt interjera risinājumus ; Flīžu līme, šuvju mastika, palīgmateriāli | D28: m2 | E28: =465.8+378.8 -> 844.6
F29: 0 | G29: 0
C30: Tiešās izmaksas kopā t.sk. darba devēja sociālais nodoklis(23,59%)
B32: Piezīmes:
A33: ='1,1'!A24:G24 -> 0
B37: Sastādīja: | L37: =Koptame!B39 -> Pārbaudīja:
C38: =Koptame!C34 -> 0 | M38: =Koptame!C40 -> 0
C39: =Koptame!C35 -> 0 | M39: =Koptame!C41 -> 0

Sheet 1,10
G1: Lokālā tāme Nr. | H1: =kops1!B30 -> 1,10
A2: =C13 -> Ārējās apdares darbi
C3: Būves nosaukums: | D3: =Koptame!C11 -> Pirmsskolas izglītības iestāde
C4: Objekta nosaukums: | D4: =Koptame!C12 -> Pirmsskolas izglītības iestādes jaunbūve
C5: Objekta adrese: | D5: =Koptame!C13 -> Baložu iela 33, Baloži, Ķekavas novads
C6: =Koptame!B14 -> Iepirkuma Id Nr. | D6: =Koptame!C14 -> ĶNP2023/
A7: =Koptame!B17 -> Tāme sastādīta 2024.gada tirgus cenās | O7: Tāmes izmaksas euro: | P7: =P42 -> 0
L9: =Koptame!D16 -> Tāme sastādīta:
A11: Nr.p.k. | B11: Kods | C11: Būvdarbu nosaukums | D11: Mērvienība | E11: Daudzums | F11: Vienības izmaksas | L11: Kopā uz visu apjomu
F12: Laika norma (c/h) | G12: Darba samaksas likme (euro/h) | H12: Darba alga (euro) | I12: Būvizstrādājumi (euro) | J12: Mehānismi (euro) | K12: Kopā (euro) | L12: Darbietilpība (c/h) | M12: Darba alga (euro) | N12: Būvizstrādājumi (euro) | O12: Mehānismi (euro) | P12: Summa (euro)
B13: 0 | C13: =kops1!C30 -> Ārējās apdares darbi | F13: 0 | G13: 0 | K13: =SUM(H13:J13) -> 0 | L13: =ROUND(F13*E13,2) -> 0 | M13: =ROUND(H13*E13,2) -> 0 | N13: =ROUND(I13*E13,2) -> 0 | O13: =ROUND(J13*E13,2) -> 0 | P13: =SUM(M13:O13) -> 0
A14: 0 | C14: Fasādes sagatavošanas darbi | F14: 0 | G14: 0 | H14: =ROUND(F14*G14,2) -> 0 | I14: 0 | J14: 0 | K14: =SUM(H14:J14) -> 0 | L14: =ROUND(F14*E14,2) -> 0 | M14: =ROUND(H14*E14,2) -> 0 | N14: =ROUND(I14*E14,2) -> 0 | O14: =ROUND(J14*E14,2) -> 0 | P14: =SUM(M14:O14) -> 0
A15: 1 | C15: Logu, durvju aizlīmēšana ar plēvi | D15: m2 | E15: 650
A16: 2 | C16: Sastatņu uzstādīšana ,nojaukšana ieskaitot nomu(iekļaujot sastatņu aizsargsietu) | D16: m2 | E16: 2000
A17: 0 | C17: AS 1.0
A18: 3 | C18: Ekstrudēta putupolistirola uzstādīšana XPS 120 mm t.sk. Palīgmateriāli, stiprinājumi, līmjava Baumit Pro Contact) | D18: m2 | E18: 224.6
A19: 4 | C19: Armējošā sieta iestrāde fasādei-cokolam. Līmēšanas un armēšanas java Baumit Pro Contact), Stiklašķiedras siets fasādei. | D19: m2 | E19: 224.6
A20: 5 | C20: Sienas gruntēšana. ( zem dekoratīvā apmetuma) | D20: m2 | E20: 224.6
A21: 6 | C21: Apmetuma slāņa ieklāšana sienai tonēts | D21: m2 | E21: 224.6
A22: 0 | C22: AS 1.3
A23: 7 | C23: Apmetuma slāņa ieklāšana Silikona-elastomēriskais apmetums - Ārējais | D23: m2 | E23: 534.3
A24: 8 | C24: Vates iestrāde karkasā siltuma izolācijai. Siltuma izolācijas plāksnes 200 mm Paroc Ultra plus | D24: m2 | E24: 534.3
A25: 9 | C25: Vates iestrāde karkasā siltuma izolācijai. Siltuma izolācijas plāksnes 30 mm Paroc WAS 35t | D25: m2 | E25: 534.3
A26: 10 | C26: Apakškonstrukcijas montāža | D26: m2 | E26: 534.3
A27: 11 | C27: Termokoksnes dēļu seguma 25 mm ieklāšana | D27: m2 | E27: 534.3
A28: 0 | C28: AS 1.4
A29: 12 | C29: Apmetuma slāņa ieklāšana Silikona-elastomēriskais apmetums - Ārējais | D29: m2 | E29: 243.1
A30: 13 | C30: Vates iestrāde karkasā siltuma izolācijai. Siltuma izolācijas plāksnes 200 mm Paroc Ultra plus | D30: m2 | E30: 243.1
A31: 14 | C31: Vates iestrāde karkasā siltuma izolācijai. Siltuma izolācijas plāksnes 30 mm Paroc WAS 35t | D31: m2 | E31: 243.1
A32: 15 | C32: Apakškonstrukcijas montāža | D32: m2 | E32: 243.1
A33: 16 | C33: Sienas seguma ieklāšana.Profilēts metāla skārds ,palīgmateriāli, papildelementi. Tērauda skārda profilēts jumta segums Ruukkihyygge, tonis RR2H3 Antracīts | D33: m2 | E33: 243.1
A34: 17 | C34: Sienas seguma apakšklāja ierīkošana | D34: m2 | E34: 243.1
A35: 0 | C35: AS 1.6
A36: 18 | C36: Siltumizolācijas uzstādīšana PAROC LINIO 15 (150 mm) t.sk. Palīgmateriāli, stiprinājumi, līmjava Baumit Pro Contact) | D36: m2 | E36: 14.8
A37: 19 | C37: Apmetuma slāņa ieklāšana Silikona-elastomēriskais apmetums - Ārējais tonēšana | D37: m2 | E37: 14.8
A38: 0 | C38: AS 1.7
A39: 20 | C39: Siltumizolācijas uzstādīšana PAROC LINIO 15 (200 mm) t.sk. Palīgmateriāli, stiprinājumi, līmjava Baumit Pro Contact) | D39: m2 | E39: 313.3
A40: 21 | C40: Apmetuma slāņa ieklāšana Silikona-elastomēriskais apmetums - Ārējais tonēšana | D40: m2 | E40: 313.3
F41: 0 | G41: 0
C42: Tiešās izmaksas kopā t.sk. darba devēja sociālais nodoklis(23,59%)
...

Sheet 1,11
G1: Lokālā tāme Nr. | H1: =kops1!B31 -> 1,11
A2: =C13 -> Dažādi darbi
C3: Būves nosaukums: | D3: =Koptame!C11 -> Pirmsskolas izglītības iestāde
C4: Objekta nosaukums: | D4: =Koptame!C12 -> Pirmsskolas izglītības iestādes jaunbūve
C5: Objekta adrese: | D5: =Koptame!C13 -> Baložu iela 33, Baloži, Ķekavas novads
C6: =Koptame!B14 -> Iepirkuma Id Nr. | D6: =Koptame!C14 -> ĶNP2023/
A7: =Koptame!B17 -> Tāme sastādīta 2024.gada tirgus cenās | O7: Tāmes izmaksas euro: | P7: =P31 -> 0
L9: =Koptame!D16 -> Tāme sastādīta:
A11: Nr.p.k. | B11: Kods | C11: Būvdarbu nosaukums | D11: Mērvienība | E11: Daudzums | F11: Vienības izmaksas | L11: Kopā uz visu apjomu
F12: Laika norma (c/h) | G12: Darba samaksas likme (euro/h) | H12: Darba alga (euro) | I12: Būvizstrādājumi (euro) | J12: Mehānismi (euro) | K12: Kopā (euro) | L12: Darbietilpība (c/h) | M12: Darba alga (euro) | N12: Būvizstrādājumi (euro) | O12: Mehānismi (euro) | P12: Summa (euro)
B13: 0 | C13: =kops1!C31 -> Dažādi darbi | F13: 0 | G13: 0 | K13: =SUM(H13:J13) -> 0 | L13: =ROUND(F13*E13,2) -> 0 | M13: =ROUND(H13*E13,2) -> 0 | N13: =ROUND(I13*E13,2) -> 0 | O13: =ROUND(J13*E13,2) -> 0 | P13: =SUM(M13:O13) -> 0
A14: 0 | C14: Margas AR-6.20 | H14: =ROUND(F14*G14,2) -> 0 | K14: =SUM(H14:J14) -> 0 | L14: =ROUND(F14*E14,2) -> 0 | M14: =ROUND(H14*E14,2) -> 0 | N14: =ROUND(I14*E14,2) -> 0 | O14: =ROUND(J14*E14,2) -> 0 | P14: =SUM(M14:O14) -> 0
A15: 1 | C15: Margu montāža M1 saskaņā ar AR-6.20 t.sk. Palīgmateriāli | D15: m | E15: =4.7+40.52 -> 45.22
A16: 2 | C16: Margu montāža M2 saskaņā ar AR-6.20 t.sk. Palīgmateriāli | D16: m | E16: 50.04
A17: 3 | C17: Margu montāža M3 saskaņā ar AR-6.20 t.sk. Palīgmateriāli | D17: m | E17: 12.36
A18: 4 | C18: Margu montāža M4 saskaņā ar AR-6.20 t.sk. Palīgmateriāli | D18: m | E18: 9.36
A19: 5 | C19: Margu montāža M5 saskaņā ar AR-6.20 t.sk. Palīgmateriāli | D19: m | E19: 7.15
A20: 6 | C20: Margu montāža M6 saskaņā ar AR-6.20 t.sk. Palīgmateriāli | D20: m | E20: 8.32
A21: 7 | C21: Margu montāža M7 saskaņā ar AR-6.20 t.sk. Palīgmateriāli | D21: m | E21: 14.18
A22: 0 | C22: Akustisie aizkari AR-6.14
A23: 8 | C23: Akustiskie aizkari "FR-One Prodigy - Supra"; Type G-150; 3000x6400mm; stiprināms pie griestiem; auduma tonis: S7020- B90G | D23: gb | E23: 2
A24: 9 | C24: Akustiskie aizkari "FR-One Prodigy - Supra"; Type G-150; 2800x6400mm; stiprināms pie griestiem; auduma tonis: S7020- B90G | D24: gb | E24: 2
A25: 0 | C25: AR-6.24
A26: 10 | C26: 2SK skapja sistēmas izgatavošana un uzstādīšana | D26: kpl | E26: 1
A27: 0 | C27: Mezglu rasējumi
A28: 11 | C28: KERDYN GREEN tipa siltumizolācija, stiprinājuma veidu precizēt pēc konkrētā ražotāja rekomendācijām mezgls AR-7.1 | D28: m2 | E28: 124
A29: 12 | C29: Šķiedrcementa plāksnes mezgls AR-7.5 (A2,s1-d0) 2x8 mm | D29: m2 | E29: 416
F30: 0 | G30: 0
C31: Tiešās izmaksas kopā t.sk. darba devēja sociālais nodoklis(23,59%)
B33: Piezīmes:
A34: ='1,1'!A24:G24 -> 0
B38: Sastādīja: | L38: =Koptame!B39 -> Pārbaudīja:
C39: =Koptame!C34 -> 0 | M39: =Koptame!C40 -> 0
C40: =Koptame!C35 -> 0 | M40: =Koptame!C41 -> 0

Sheet kops2
A2: Kopsavilkuma aprēķins Nr. 2
A6: =Koptame!C22 -> Specializētie darbi-iekšējie tīkli, sistēmas
A8: Būves nosaukums: | C8: =Koptame!C11 -> Pirmsskolas izglītības iestāde
A9: Objekta nosaukums: | C9: =Koptame!C12 -> Pirmsskolas izglītības iestādes jaunbūve
A10: Objekta adrese: | C10: =Koptame!C13 -> Baložu iela 33, Baloži, Ķekavas novads
A11: =Koptame!B14 -> Iepirkuma Id Nr. | C11: =Koptame!C14 -> ĶNP2023/
F13: Par kopējo summu, euro | H13: =E42 -> 0
F14: Kopējā darbietilpība, c/h | H14: =I38 -> 0
H16: =Koptame!D16 -> Tāme sastādīta:
A18: Nr.p.k. | B18: Kods, tāmes Nr. | C18: Būvdarbu veids vai konstruktīvā elementa nosaukums | E18: Tāmes izmaksas (euro) | F18: Tai skaitā | I18: Darbietilpība (c/h)
F19: darba alga (euro) | G19: materiāli (euro) | H19: mehānismi (euro)
A21: 1 | B21: 2,1 | C21: Iekšējais ūdensvads
A22: 2 | B22: 2,2 | C22: Iekšējā kanalizācija
A23: 3 | B23: 2,3 | C23: Apkure
A24: 4 | B24: 2,4 | C24: Ventilācija
A25: 5 | B25: 2,5 | C25: Gaisa kondicionēšana
A26: 6 | B26: 2,6 | C26: Siltummezgls
A27: 7 | B27: 2,7 | C27: Elektroinstalācija
A28: 8 | B28: 2,8 | C28: Ugunsgrēka signalizācijas sistēma
A29: 9 | B29: 2,9 | C29: Piekļuves kontroles sistēma un apsardzes signalizācijas sistēma
A30: 10 | B30: 2,10 | C30: Elektronisko sakaru sistēma
A31: 11 | B31: 2,11 | C31: Videonovērošanas sistēma
A32: 12 | B32: 2,12 | C32: Apsardzes signalizācijas sistēma
... A37: 18 | B37: 2,18 | C37: Lifts
C38: Kopā
A39: Virsizdevumi | D39: =kops1!$D$34 -> %
C40: tai skaitā darba aizsardzība
A41: Peļņa | D41: =kops1!$D$36 -> %
C42: Kopā bez PVN
B45: Sastādīja:
C46: =Koptame!C34 -> 0
C47: =Koptame!C35 -> 0
B51: =Koptame!B39 -> Pārbaudīja:
C52: =Koptame!C40 -> 0
C53: =Koptame!C41 -> 0

Sheet 2,1
H1: Lokālā tāme Nr. | I1: =kops2!B21 -> 2,1
A2: =C13 -> Iekšējais ūdensvads
C3: Būves nosaukums: | E3: =Koptame!C11 -> Pirmsskolas izglītības iestāde
C4: Objekta nosaukums: | E4: =Koptame!C12 -> Pirmsskolas izglītības iestādes jaunbūve
C5: Objekta adrese: | E5: =Koptame!C13 -> Baložu iela 33, Baloži, Ķekavas novads
C6: =Koptame!B14 -> Iepirkuma Id Nr. | E6: =Koptame!C14 -> ĶNP2023/
A7: =Koptame!B17 -> Tāme sastādīta 2024.gada tirgus cenās | P7: Tāmes izmaksas euro: | Q7: =Q143 -> 0
M9: =Koptame!D16 -> Tāme sastādīta:
A11: Nr.p.k. | B11: Kods | C11: Būvdarbu nosaukums | E11: Mērvienība | F11: Daudzums | G11: Vienības izmaksas | M11: Kopā uz visu apjomu
G12: Laika norma (c/h) | H12: Darba samaksas likme (euro/h) | I12: Darba alga (euro) | J12: Būvizstrādājumi (euro) | K12: Mehānismi (euro) | L12: Kopā (euro) | M12: Darbietilpība (c/h) | N12: Darba alga (euro) | O12: Būvizstrādājumi (euro) | P12: Mehānismi (euro) | Q12: Summa (euro)
C13: =kops2!C21 -> Iekšējais ūdensvads | L13: =SUM(I13:K13) -> 0 | M13: =ROUND(G13*F13,2) -> 0 | N13: =ROUND(I13*F13,2) -> 0 | O13: =ROUND(J13*F13,2) -> 0 | P13: =ROUND(K13*F13,2) -> 0 | Q13: =SUM(N13:P13) -> 0
C14: Montāžas un palaišanas darbi
A15: 1 | C15: Tērauda caurule DN50 | D15: 50 | E15: m | F15: 102
A16: 2 | C16: Tērauda caurule DN100 | D16: 100 | E16: m | F16: 3
A17: 3 | C17: Daudzslāņu caurule OD16x2.0 | D17: 16 | E17: m | F17: 410
A18: 4 | C18: Daudzslāņu caurule OD20x2.25 | D18: 20 | E18: m | F18: 532
A19: 5 | C19: Daudzslāņu caurule OD25x2.5 | D19: 25 | E19: m | F19: 66
A20: 6 | C20: Daudzslāņu caurule OD32x3.0 | D20: 32 | E20: m | F20: 56
A21: 7 | C21: Daudzslāņu caurule OD40x4.0 | D21: 40 | E21: m | F21: 58
A22: 8 | C22: Daudzslāņu caurule OD50x4.5 | D22: 50 | E22: m | F22: 60
A23: 9 | C23: Daudzslāņu caurule OD63x6.0 | D23: 63 | E23: m | F23: 69
A24: 10 | C24: Elektromagnētiskais ventīlis DN50 | D24: 50 | E24: gb | F24: 2
A25: 11 | C25: Manometrs ar spiediena krituma sensoru | E25: gb | F25: 1
A26: 12 | C26: Sūkņu vadība skais trīs elektromagnētisko vārstu vadībai pēc spiediena krituma sensora | E26: gb | F26: 1
A27: 13 | C27: Aukstā ūdens skaitītājs DN15 Qn=1.5 m3/h ar attālinātās nolasīšans iespēju | D27: 15 | E27: gb | F27: 1
A28: 14 | C28: Karstā ūdens skaitītājs DN15 Qn=1.5 m3/h ar attālinātās nolasīšans iespēju | D28: 15 | E28: gb | F28: 1
A29: 15 | C29: Ugunsdzēsības krānu kaste, iebūvējama, aprīkota ar ugunsdzēsības krānu DN50, šļūteni 20 m, regulējamu stobru 3 pizīcijas | D29: 50 | E29: gb | F29: 9
A30: 16 | C30: Santehnikas pieslēguma ventīlis DN15 | D30: 15 | E30: gb | F30: 232
A31: 17 | C31: Lodveida ventīlis DN20 | D31: DN20 | E31: gb | F31: 6
A32: 18 | C32: Porgumijas izolācija 9 mm caurulei OD16 | D32: 16 | E32: m | F32: 410
A33: 19 | C33: Porgumijas izolācija 9 mm caurulei OD20 | D33: 20 | E33: m | F33: 532
A34: 20 | C34: Porgumijas izolācija 9 mm caurulei OD25 | D34: 25 | E34: m | F34: 66
A35: 21 | C35: Porgumijas izolācija 9 mm caurulei OD32 | D35: 32 | E35: m | F35: 56
A36: 22 | C36: Porgumijas izolācija 9 mm caurulei OD40 | D36: 40 | E36: m | F36: 58
A37: 23 | C37: Porgumijas izolācija 9 mm caurulei OD50 | D37: 50 | E37: m | F37: 60
A38: 24 | C38: Porgumijas izolācija 9 mm caurulei OD63 | D38: 63 | E38: m | F38: 69
A39: 25 | C39: Atvērumu aizdares komplekts ar ugunsdrošiem materiāliem | E39: kpl | F39: 1
A40: 26 | C40: Presējamo kompozītmateriālu veidgabalu komplekts | E40: kpl | F40: 1
A41: 27 | C41: Tērauda cauruļvadu veidgabalu komplekts | E41: kpl | F41: 1
A42: 28 | C42: Cauruļvadu stiprinājuma komplekts | E42: kpl | F42: 1
...

Sheet 2,2
H1: Lokālā tāme Nr. | I1: =kops2!B22 -> 2,2
A2: =C13 -> Iekšējā kanalizācija
C3: Būves nosaukums: | E3: =Koptame!C11 -> Pirmsskolas izglītības iestāde
C4: Objekta nosaukums: | E4: =Koptame!C12 -> Pirmsskolas izglītības iestādes jaunbūve
C5: Objekta adrese: | E5: =Koptame!C13 -> Baložu iela 33, Baloži, Ķekavas novads
C6: =Koptame!B14 -> Iepirkuma Id Nr. | E6: =Koptame!C14 -> ĶNP2023/
A7: =Koptame!B17 -> Tāme sastādīta 2024.gada tirgus cenās | P7: Tāmes izmaksas euro: | Q7: =Q38 -> 0
M9: =Koptame!D16 -> Tāme sastādīta:
A11: Nr.p.k. | B11: Kods | C11: Būvdarbu nosaukums | E11: Mērvienība | F11: Daudzums | G11: Vienības izmaksas | M11: Kopā uz visu apjomu
G12: Laika norma (c/h) | H12: Darba samaksas likme (euro/h) | I12: Darba alga (euro) | J12: Būvizstrādājumi (euro) | K12: Mehānismi (euro) | L12: Kopā (euro) | M12: Darbietilpība (c/h) | N12: Darba alga (euro) | O12: Būvizstrādājumi (euro) | P12: Mehānismi (euro) | Q12: Summa (euro)
B13: 0 | C13: =kops2!C22 -> Iekšējā kanalizācija | G13: 0 | H13: 0 | I13: 0 | J13: 0 | K13: 0 | L13: =SUM(I13:K13) -> 0 | M13: =ROUND(G13*F13,2) -> 0 | N13: =ROUND(I13*F13,2) -> 0 | O13: =ROUND(J13*F13,2) -> 0 | P13: =ROUND(K13*F13,2) -> 0 | Q13: =SUM(N13:P13) -> 0
C14: Montāžas un palaišanas darbi
A15: 1 | C15: PVC pašteces kanalizācijas caurule | D15: 32 | E15: m | F15: 257
A16: 2 | C16: PVC pašteces kanalizācijas caurule | D16: 50 | E16: m | F16: 167
A17: 3 | C17: PVC pašteces kanalizācijas caurule | D17: 110 | E17: m | F17: 451
A18: 4 | C18: Klozetpoda pievienojums | D18: 110 | E18: gb | F18: 48
A19: 5 | C19: Sausā tipa traps ar vertikālu izvadu | D19: 50 | E19: gb | F19: 7
A20: 6 | C20: Sausā tipa traps ar vertikālu izvadu | D20: 100 | E20: gb | F20: 14
A21: 7 | C21: Nerūsējošā tērauda higiēniska izpildījuma traps 500x500x100 ACO | D21: 500x500 | E21: gb | F21: 3
A22: 8 | C22: Nerūsējošā tērauda higiēniska izpildījuma traps 500x800x150 ACO | D22: 500x800 | E22: gb | F22: 1
A23: 9 | C23: Nerūsējošā tērauda higiēniska izpildījuma traps 400x400x100 V110 ACO | D23: 400x400 | E23: gb | F23: 1
A24: 10 | C24: ACO EG170 170x170 V75 VINYL 1.4404 MESH GRATING L15 | D24: 170x170 | E24: gb | F24: 3
A25: 11 | C25: Tīrīšnas lūka ACO Finora G | D25: 100 | E25: gb | F25: 3
A26: 12 | C26: Revīzija ar vāku | D26: 100 | E26: gb | F26: 8
... A32: 18 | C32: Sifons Wavin HEPVO 32 mm | D32: 32 | E32: gb | F32: 21
A33: 19 | C33: Atvērumu aizdares komplekts ar ugunsdrošiem materiāliem | E33: kpl | F33: 1
A34: 20 | C34: Cauruļvadu veidgabalu komplekts | E34: kpl | F34: 1
A35: 21 | C35: Cauruļvadu stiprinājuma komplekts | E35: kpl | F35: 1
A36: 22 | C36: Montāžas palīgmateriālu komplekts | E36: kpl | F36: 1
G37: 0 | H37: 0
C38: Tiešās izmaksas kopā, t.sk. darba devēja sociālais nodoklis(23,59%)
B40: Piezīmes:
A41: ='1,1'!A24:G24 -> 0
B45: Sastādīja: | M45: =Koptame!B39 -> Pārbaudīja:
C46: =Koptame!C34 -> 0 | N46: =Koptame!C40 -> 0
C47: =Koptame!C35 -> 0 | N47: =Koptame!C41 -> 0

Sheet 2,3
H1: Lokālā tāme Nr. | I1: =kops2!$B$23 -> 2,3
A2: =C13 -> Apkure
C3: Būves nosaukums: | E3: =Koptame!C11 -> Pirmsskolas izglītības iestāde
C4: Objekta nosaukums: | E4: =Koptame!C12 -> Pirmsskolas izglītības iestādes jaunbūve
C5: Objekta adrese: | E5: =Koptame!C13 -> Baložu iela 33, Baloži, Ķekavas novads
C6: =Koptame!B14 -> Iepirkuma Id Nr. | E6: =Koptame!C14 -> ĶNP2023/
A7: =Koptame!B17 -> Tāme sastādīta 2024.gada tirgus cenās | P7: Tāmes izmaksas euro: | Q7: =Q72 -> 0
M9: =Koptame!D16 -> Tāme sastādīta:
A11: Nr.p.k. | B11: Kods | C11: Būvdarbu nosaukums | E11: Mērvienība | F11: Daudzums | G11: Vienības izmaksas | M11: Kopā uz visu apjomu
G12: Laika norma (c/h) | H12: Darba samaksas likme (euro/h) | I12: Darba alga (euro) | J12: Būvizstrādājumi (euro) | K12: Mehānismi (euro) | L12: Kopā (euro) | M12: Darbietilpība (c/h) | N12: Darba alga (euro) | O12: Būvizstrādājumi (euro) | P12: Mehānismi (euro) | Q12: Summa (euro)
B13: 0 | C13: =kops2!C23 -> Apkure | G13: 0 | H13: 0 | I13: 0 | J13: 0 | K13: 0 | L13: =SUM(I13:K13) -> 0 | M13: =ROUND(G13*F13,2) -> 0 | N13: =ROUND(I13*F13,2) -> 0 | O13: =ROUND(J13*F13,2) -> 0 | P13: =ROUND(K13*F13,2) -> 0 | Q13: =SUM(N13:P13) -> 0
C14: Montāžas un palaišanas darbi
A15: 1 | C15: Daudzslāņu caurule MLC OD25x2.5 | D15: 25 | E15: m | F15: 57
A16: 2 | C16: Daudzslāņu caurule MLC OD32x3.0 | D16: 32 | E16: m | F16: 262
A17: 3 | C17: Daudzslāņu caurule MLC OD40x4.0 | D17: 40 | E17: m | F17: 39
A18: 4 | C18: Daudzslāņu caurule MLC OD50x4.5 | D18: 50 | E18: m | F18: 28
A19: 5 | C19: Daudzslāņu caurule MLC OD63x6.0 | D19: 63 | E19: m | F19: 204
A20: 6 | C20: Tērauda/oglekļa caurule DN100 | D20: 100 | E20: m | F20: 10
A21: 7 | C21: Silto grīdu caurule UNIPIPE OD16 | D21: 16 | E21: m | F21: 21290
A22: 8 | C22: Presējamo cauruļvadu veidgabalu kompkekts | E22: gb | F22: 1
A23: 9 | C23: Presējamo tērauda cauruļvadu veidgabalu kompkekts | E23: gb | F23: 1
A24: 10 | C24: 3. loku sadales kolektors ar jaudu 187 kW | E24: gb | F24: 1
A25: 11 | C25: Nerūsējošā tērauda sadalītājs 1'' ar plūsmas mērītājiem, 6 cilpu | E25: gb | F25: 1
A26: 12 | C26: Nerūsējošā tērauda sadalītājs 1'' ar plūsmas mērītājiem, 7 cilpu | E26: gb | F26: 2
A27: 13 | C27: Nerūsējošā tērauda sadalītājs 1'' ar plūsmas mērītājiem, 8 cilpu | E27: gb | F27: 2
A28: 14 | C28: Nerūsējošā tērauda sadalītājs 1'' ar plūsmas mērītājiem, 9 cilpu | E28: gb | F28: 1
A29: 15 | C29: Nerūsējošā tērauda sadalītājs 1'' ar plūsmas mērītājiem, 10 cilpu | E29: gb | F29: 6
A30: 16 | C30: Nerūsējošā tērauda sadalītājs 1'' ar plūsmas mērītājiem, 11 cilpu | E30: gb | F30: 9
A31: 17 | C31: Nerūsējošā tērauda sadalītājs 1'' ar plūsmas mērītājiem, 12 cilpu | E31: gb | F31: 5
A32: 18 | C32: Sadalītāja skapis Uponor Vario IW, iebūvējams ar rāmi un druvīm, augstums 700 mm, platums 730 mm, skapja iebūves dziļums 110 mm, baltā krāsā | E32: gb | F32: 26
A33: 19 | C33: Kompresijas pievienojums, 16x2.0x3/4'' eirokonuss | E33: gb | F33: 264
A34: 20 | C34: Savienojuma modulis, specifikāciju skatīt VAS projekta sadaļā | E34: gb | F34: 1
A35: 21 | C35: Lodveida krāns 1'' ā.v.x1''i.v. | D35: 25 | E35: gb | F35: 52
A36: 22 | C36: Lodveida krāns DN50 | D36: 50 | E36: gb | F36: 6
A37: 23 | C37: Atgaisošanas un regulācijas vārsts | D37: 15 | E37: gb | F37: 52
A38: 24 | C38: Līkuma veidnis 16 mm | E38: gb | F38: 264
A39: 25 | C39: Izpildmehānisms 24VDC, 30x1.5 i.v. Nerūsējošā tērauda sadalītājiem | E39: gb | F39: 132
A40: 26 | C40: Termo šuves profils, pašlīmējošs garums 2m, augstums 100mm, biezums 10mm | E40: gb | F40: 134
A41: 27 | C41: Telpas termostati, specifikāciju skatīt VAS sadaļā | E41: gb | F41: 1
A42: 28 | C42: Apmales lenta 150x8 mm; 50 m rullī | E42: gb | F42: 44
...

Sheet 2,4
H1: Lokālā tāme Nr. | I1: =kops2!B24 -> 2,4
A2: =C13 -> Ventilācija
C3: Būves nosaukums: | E3: =Koptame!C11 -> Pirmsskolas izglītības iestāde
C4: Objekta nosaukums: | E4: =Koptame!C12 -> Pirmsskolas izglītības iestādes jaunbūve
C5: Objekta adrese: | E5: =Koptame!C13 -> Baložu iela 33, Baloži, Ķekavas novads
C6: =Koptame!B14 -> Iepirkuma Id Nr. | E6: =Koptame!C14 -> ĶNP2023/
A7: =Koptame!B17 -> Tāme sastādīta 2024.gada tirgus cenās | P7: Tāmes izmaksas euro: | Q7: =Q301 -> 0
M9: =Koptame!D16 -> Tāme sastādīta:
A11: Nr.p.k. | B11: Kods | C11: Būvdarbu nosaukums | E11: Mērvienība | F11: Daudzums | G11: Vienības izmaksas | M11: Kopā uz visu apjomu
G12: Laika norma (c/h) | H12: Darba samaksas likme (euro/h) | I12: Darba alga (euro) | J12: Būvizstrādājumi (euro) | K12: Mehānismi (euro) | L12: Kopā (euro) | M12: Darbietilpība (c/h) | N12: Darba alga (euro) | O12: Būvizstrādājumi (euro) | P12: Mehānismi (euro) | Q12: Summa (euro)
B13: 0 | C13: =kops2!C24 -> Ventilācija | G13: 0 | H13: 0 | I13: 0 | J13: 0 | K13: 0 | L13: =SUM(I13:K13) -> 0 | M13: =ROUND(G13*F13,2) -> 0 | N13: =ROUND(I13*F13,2) -> 0 | O13: =ROUND(J13*F13,2) -> 0 | P13: =ROUND(K13*F13,2) -> 0 | Q13: =SUM(N13:P13) -> 0
C14: Montāžas un palaišanas darbi
A15: 1 | C15: Gaisa vads | D15: 100 | E15: m | F15: 99
A16: 2 | C16: Gaisa vads | D16: 125 | E16: m | F16: 112
A17: 3 | C17: Gaisa vads | D17: 160 | E17: m | F17: 158
A18: 4 | C18: Gaisa vads | D18: 200 | E18: m | F18: 269
A19: 5 | C19: Gaisa vads | D19: 250 | E19: m | F19: 280
A20: 6 | C20: Gaisa vads | D20: 315 | E20: m | F20: 480
A21: 7 | C21: Gaisa vads | D21: 400 | E21: m | F21: 196
A22: 8 | C22: Gaisa vads | D22: 500 | E22: m | F22: 71
A23: 9 | C23: Gaisa vads | D23: 630 | E23: m | F23: 117
A24: 10 | C24: Gaisa vads | D24: 800x400 | E24: m | F24: 1
A25: 11 | C25: Gaisa vads | D25: 800x600 | E25: m | F25: 5
A26: 12 | C26: Gaisa vads | D26: 1000x400 | E26: m | F26: 18
A27: 13 | C27: Gaisa vads | D27: 1000x600 | E27: m | F27: 27
A28: 14 | C28: Gaisa vads | D28: 1200x400 | E28: m | F28: 36
A29: 15 | C29: Līkums-15 | D29: 315 | E29: gb | F29: 1
A30: 16 | C30: Līkums-15 | D30: 400 | E30: gb | F30: 1
A31: 17 | C31: Līkums-15 | D31: 600x800 | E31: gb | F31: 2
A32: 18 | C32: Līkums-30 | D32: 160 | E32: gb | F32: 1
A33: 19 | C33: Līkums-30 | D33: 630 | E33: gb | F33: 2
A34: 20 | C34: Līkums-45 | D34: 100 | E34: gb | F34: 1
A35: 21 | C35: Līkums-45 | D35: 125 | E35: gb | F35: 4
A36: 22 | C36: Līkums-45 | D36: 250 | E36: gb | F36: 2
A37: 23 | C37: Līkums-45 | D37: 400 | E37: gb | F37: 4
A38: 24 | C38: Līkums-45 | D38: 500 | E38: gb | F38: 4
A39: 25 | C39: Līkums-45 | D39: 630 | E39: gb | F39: 2
A40: 26 | C40: Līkums-60 | D40: 315 | E40: gb | F40: 1
A41: 27 | C41: Līkums-90 | D41: 100 | E41: gb | F41: 46
A42: 28 | C42: Līkums-90 | D42: 125 | E42: gb | F42: 37
...

Sheet 2,5
G1: Lokālā tāme Nr. | H1: =kops2!B25 -> 2,5
A2: =C13 -> Gaisa kondicionēšana
C3: Būves nosaukums: | D3: =Koptame!C11 -> Pirmsskolas izglītības iestāde
C4: Objekta nosaukums: | D4: =Koptame!C12 -> Pirmsskolas izglītības iestādes jaunbūve
C5: Objekta adrese: | D5: =Koptame!C13 -> Baložu iela 33, Baloži, Ķekavas novads
C6: =Koptame!B14 -> Iepirkuma Id Nr. | D6: =Koptame!C14 -> ĶNP2023/
A7: =Koptame!B17 -> Tāme sastādīta 2024.gada tirgus cenās | O7: Tāmes izmaksas euro: | P7: =P50 -> 0
L9: =Koptame!D16 -> Tāme sastādīta:
A11: Nr.p.k. | B11: Kods | C11: Būvdarbu nosaukums | D11: Mērvienība | E11: Daudzums | F11: Vienības izmaksas | L11: Kopā uz visu apjomu
F12: Laika norma (c/h) | G12: Darba samaksas likme (euro/h) | H12: Darba alga (euro) | I12: Būvizstrādājumi (euro) | J12: Mehānismi (euro) | K12: Kopā (euro) | L12: Darbietilpība (c/h) | M12: Darba alga (euro) | N12: Būvizstrādājumi (euro) | O12: Mehānismi (euro) | P12: Summa (euro)
B13: 0 | C13: =kops2!C25 -> Gaisa kondicionēšana | F13: 0 | G13: 0 | H13: 0 | I13: 0 | J13: 0 | K13: =SUM(H13:J13) -> 0 | L13: =ROUND(F13*E13,2) -> 0 | M13: =ROUND(H13*E13,2) -> 0 | N13: =ROUND(I13*E13,2) -> 0 | O13: =ROUND(J13*E13,2) -> 0 | P13: =SUM(M13:O13) -> 0
C14: Montāžas un palaišanas darbi
A15: 1 | C15: Āra bloks Haier AV66IMVURA 180 kW | D15: kpl | E15: 1
A16: 2 | C16: Iekšas dzesēšanas griestu kasete Haier AB122MRERA ar vadība pulti un montāžas rāmi | D16: kpl | E16: 4
A17: 3 | C17: Iekšas dzesēšanas griestu kasete Haier AB092MRERA ar vadība pulti un montāžas rāmi | D17: kpl | E17: 36
A18: 4 | C18: Iekšas dzesēšanas sienas bloks Haier AS242MFERAC ar vadība pulti un montāžas rāmi | D18: kpl | E18: 3
A19: 5 | C19: Iekšas dzesēšanas sienas bloks Haier AS122MFERAC ar vadība pulti un montāžas rāmi | D19: kpl | E19: 2
A20: 6 | C20: Iekšas dzesēšanas sienas bloks Haier AS092MFERAC ar vadība pulti un montāžas rāmi | D20: kpl | E20: 3
A21: 7 | C21: Iekšas dzesēšanas sienas bloks Haier AS072MFERAC ar vadība pulti un montāžas rāmi | D21: kpl | E21: 10
A22: 8 | C22: Iekšas dzesēšanas iebūvējams bloks Haier AD242MSERA (H) ar vadība pulti un montāžas rāmi | D22: kpl | E22: 3
A23: 9 | C23: Vara caurule, Ø9.52/6.35mm (izolācijā) | D23: gb | E23: 50
A24: 10 | C24: Vara caurule, Ø12.7/6.35mm (izolācijā) | D24: gb | E24: 85
A25: 11 | C25: Vara caurule, Ø15.88x9.52mm (izolācijā) | D25: gb | E25: 111
A26: 12 | C26: Vara caurule, Ø19.05/9.52mm (izolācijā) | D26: gb | E26: 173
... A48: 34 | C48: Montāžas palīgmateriāli | D48: kpl | E48: 1
C50: Tiešās izmaksas kopā, t.sk. darba devēja sociālais nodoklis(23,59%)
B52: Piezīmes:
A53: ='1,1'!A24:G24 -> 0
B57: Sastādīja: | L57: =Koptame!B39 -> Pārbaudīja:
C58: =Koptame!C34 -> 0 | M58: =Koptame!C40 -> 0
C59: =Koptame!C35 -> 0 | M59: =Koptame!C41 -> 0

Sheet 2,6
G1: Lokālā tāme Nr. | H1: =kops2!B26 -> 2,6
A2: =C13 -> Siltummezgls
C3: Būves nosaukums: | D3: =Koptame!C11 -> Pirmsskolas izglītības iestāde
C4: Objekta nosaukums: | D4: =Koptame!C12 -> Pirmsskolas izglītības iestādes jaunbūve
C5: Objekta adrese: | D5: =Koptame!C13 -> Baložu iela 33, Baloži, Ķekavas novads
C6: =Koptame!B14 -> Iepirkuma Id Nr. | D6: =Koptame!C14 -> ĶNP2023/
A7: =Koptame!B17 -> Tāme sastādīta 2024.gada tirgus cenās | O7: Tāmes izmaksas euro: | P7: =P76 -> 0
L9: =Koptame!D16 -> Tāme sastādīta:
A11: Nr.p.k. | B11: Kods | C11: Būvdarbu nosaukums | D11: Mērvienība | E11: Daudzums | F11: Vienības izmaksas | L11: Kopā uz visu apjomu
F12: Laika norma (c/h) | G12: Darba samaksas likme (euro/h) | H12: Darba alga (euro) | I12: Būvizstrādājumi (euro) | J12: Mehānismi (euro) | K12: Kopā (euro) | L12: Darbietilpība (c/h) | M12: Darba alga (euro) | N12: Būvizstrādājumi (euro) | O12: Mehānismi (euro) | P12: Summa (euro)
B13: 0 | C13: =kops2!C26 -> Siltummezgls | F13: 0 | G13: 0 | H13: 0 | I13: 0 | J13: 0 | K13: =SUM(H13:J13) -> 0 | L13: =ROUND(F13*E13,2) -> 0 | M13: =ROUND(H13*E13,2) -> 0 | N13: =ROUND(I13*E13,2) -> 0 | O13: =ROUND(J13*E13,2) -> 0 | P13: =SUM(M13:O13) -> 0
C14: Montāžas un palaišanas darbi
A15: 1 | C15: Apkures siltummainis 187 kW 80°-50°/40°-33° LC110-40L-2'' komplektā ar siltumizolāciju | D15: kpl | E15: 1
A16: 2 | C16: Ventilācijas siltummainis 143 kW 80°-50°/60°-40° LB31-80H-5/4'' komplektā ar siltumizolāciju | D16: kpl | E16: 1
A17: 3 | C17: Karstā ūdens siltummainis (75°-55°/55°-10°) LB31-60H-1'' komplektā ar izolāciju 152 Kw | D17: kpl | E17: 1
A18: 4 | C18: Procesors Ouman C203 | D18: kpl | E18: 1
A19: 5 | C19: Siltumenerģijas skaitītājs: kalkulators Kamstrup Multical 403 ar autonomo barošanas elementu, plūsmas daļa Ultraflow 54 ar kabeli 1,5 m, divi temperatūras sensori Pt 500 ar kabeļu garumu 3,0m un čaulām 65mm, Qp=15.0 m3/h; 270 mm x DN50 atloki, PN 25 | D19: kpl | E19: 1
A20: 6 | C20: Elektroniskais apkures cirkulācijas sūknis q=16.19 m3/h; H=6.3 m DAB EVOPLUS B 150/280.50M | D20: gb | E20: 1
A21: 7 | C21: Elektroniskais apkures cirkulācijas sūknis q=6.23 m3/h; H=8.5 m DAB EVOPLUS B 120/250.40 M | D21: gb | E21: 1
A22: 8 | C22: Karstā ūdens cirkulācijas sūknis DAB EVOPLUS 60/180 SAN M q=2.1 m3/h; H=5.5 m | D22: gb | E22: 1
A23: 9 | C23: Izplešanās trauks V=200 l komplektā ar stiprinājumiem | D23: kpl | E23: 2
A24: 10 | C24: Sadales skapis ETI 24-mod./IP65 C-203 montāžai | D24: kpl | E24: 1
A25: 11 | C25: Ūdens temperatūras sensors (virsmas) TMS | D25: gb | E25: 5
A26: 12 | C26: Ūdens temperatūras sensors (iegremdējams 100 mm) TMW-100 | D26: gb | E26: 1
... A74: 60 | C74: Montāžas palīgmateriāli | D74: kpl | E74: 1
F75: 0 | G75: 0
C76: Tiešās izmaksas kopā, t.sk. darba devēja sociālais nodoklis(23,59%)
B78: Piezīmes:
A79: ='1,1'!A24:G24 -> 0
B83: Sastādīja: | L83: =Koptame!B39 -> Pārbaudīja:
C84: =Koptame!C34 -> 0 | M84: =Koptame!C40 -> 0
C85: =Koptame!C35 -> 0 | M85: =Koptame!C41 -> 0

Sheet 2,7
H1: Lokālā tāme Nr. | I1: =kops2!B27 -> 2,7
A2: =C13 -> Elektroinstalācija
C3: Būves nosaukums: | E3: =Koptame!C11 -> Pirmsskolas izglītības iestāde
C4: Objekta nosaukums: | E4: =Koptame!C12 -> Pirmsskolas izglītības iestādes jaunbūve
C5: Objekta adrese: | E5: =Koptame!C13 -> Baložu iela 33, Baloži, Ķekavas novads
C6: =Koptame!B14 -> Iepirkuma Id Nr. | E6: =Koptame!C14 -> ĶNP2023/
A7: =Koptame!B17 -> Tāme sastādīta 2024.gada tirgus cenās | P7: Tāmes izmaksas euro: | Q7: =Q158 -> 0
M9: =Koptame!D16 -> Tāme sastādīta:
