Workbook
Name A: '[1]2'!$A$1
Name P: #REF!
Name P: #REF!
Name P: #REF!
Name P: #REF!
Name P: #REF!
Name P: #REF!
Name P: #REF!
Name P: #REF!
Name P: #REF!
Name P: #REF!
Name P: #REF!
Name P: #REF!
Name P: #REF!
Name P: #REF!
Name P: #REF!
Name P: #REF!
Name P: #REF!
Name P: #REF!
Name P: #REF!
Name P: #REF!
Name P: #REF!
Name P: #REF!
Name P: #REF!
Name P: #REF!
Name P: #REF!
Name P: #REF!
Name P: #REF!
Name P: #REF!
Name P: #REF!
Name P: #REF!
Name P: #REF!
Name P: #REF!
Name P: #REF!
Name P: #REF!
Name P: #REF!
Name P: #REF!
Name P: #REF!
Name P: #REF!
Name P: #REF!

Sheet Koptame
D2: APSTIPRINU
D3: ________________________________________
D4: (pasūtītāja paraksts un tā atšifrējums)
D6: Z.v.
D7: ______.gada ____.____________
B9: Būvniecības koptāme
B11: Būves nosaukums: | C11: Pirmsskolas izglītības iestāde
B12: Objekta nosaukums: | C12: Pirmsskolas izglītības iestādes jaunbūve
B13: Objekta adrese: | C13: Baložu iela 33, Baloži, Ķekavas novads
B14: Iepirkuma Id Nr. | C14: ĶNP2023/
D16: Tāme sastādīta:
B17: Tāme sastādīta 2024.gada tirgus cenās
B18: Kopsav.tāmes Nr | C18: Objekta nosaukums | D18: Objekta izmaksas (euro)
B21: 1 | C21: Vispārējie būvdarbi
B22: 2 | C22: Specializētie darbi-iekšējie tīkli, sistēmas
B23: 3 | C23: Specializētie darbi-ārējie tīkli, sistēmas
B24: 4 | C24: Teritorijas labiekārtošana
C25: Kopā( bez PVN)
C28: PVN 21 % | D28: =D25*0.21 -> 0
C30: Kopā ar PVN | D30: =D25+D28 -> 0
B33: Sastādīja:
B39: Pārbaudīja:

Sheet kops1
A2: Kopsavilkuma aprēķins Nr. 1
A6: =Koptame!C21 -> Vispārējie būvdarbi
A8: Būves nosaukums: | C8: =Koptame!C11 -> Pirmsskolas izglītības iestāde
A9: Objekta nosaukums: | C9: =Koptame!C12 -> Pirmsskolas izglītības iestādes jaunbūve
A10: Objekta adrese: | C10: =Koptame!C13 -> Baložu iela 33, Baloži, Ķekavas novads
A11: =Koptame!B14 -> Iepirkuma Id Nr. | C11: =Koptame!C14 -> ĶNP2023/
F13: Par kopējo summu, euro | H13: =E37 -> 0
F14: Kopējā darbietilpība, c/h | H14: =I33 -> 0
H15: =H14+kops2!H14+kops3!H14+kops4!H14 -> 0
H16: =Koptame!D16 -> Tāme sastādīta:
A18: Nr.p.k. | B18: Kods, tāmes Nr. | C18: Būvdarbu veids vai konstruktīvā elementa nosaukums | E18: Tāmes izmaksas (euro) | F18: Tai skaitā | I18: Darbietilpība (c/h)
F19: darba alga (euro) | G19: būvizstrādājumi (euro) | H19: mehānismi (euro)
A21: 1 | B21: 1,1 | C21: Zemes darbi
A22: 2 | B22: 1,2 | C22: Pamati
A23: 3 | B23: 1,3 | C23: Sienas
A24: 4 | B24: 1,4 | C24: Pārsegums
A25: 5 | B25: 1,5 | C25: Jumts
A26: 6 | B26: 1,6 | C26: Grīdas
A27: 7 | B27: 1,7 | C27: Kāpnes
A28: 8 | B28: 1,8 | C28: Ailu aizpildījuma elementi
A29: 9 | B29: 1,9 | C29: Iekšējie apdares darbi
A30: 10 | B30: 1,10 | C30: Ārējās apdares darbi
A31: 11 | B31: 1,11 | C31: Dažādi darbi
C33: Kopā | E33: =SUM(E21:E32) -> 0 | F33: =SUM(F21:F32) -> 0 | G33: =SUM(G21:G32) -> 0 | H33: =SUM(H21:H32) -> 0 | I33: =SUM(I21:I32) -> 0
A34: Virsizdevumi | D34: %
C35: tai skaitā darba aizsardzība
A36: Peļņa | D36: %
C37: Kopā bez PVN | E37: =E36+E34+E33 -> 0
B40: Sastādīja:
C41: =Koptame!C34 -> 0
C42: =Koptame!C35 -> 0
B46: =Koptame!B39 -> Pārbaudīja:
C47: =Koptame!C40 -> 0
C48: =Koptame!C41 -> 0

Sheet 1,1
G1: Lokālā tāme Nr. | H1: =kops1!B21 -> 1,1
A2: =C13 -> Zemes darbi
C3: Būves nosaukums: | D3: =Koptame!C11 -> Pirmsskolas izglītības iestāde
C4: Objekta nosaukums: | D4: =Koptame!C12 -> Pirmsskolas izglītības iestādes jaunbūve
C5: Objekta adrese: | D5: =Koptame!C13 -> Baložu iela 33, Baloži, Ķekavas novads
C6: =Koptame!B14 -> Iepirkuma Id Nr. | D6: =Koptame!C14 -> ĶNP2023/
A7: =Koptame!B17 -> Tāme sastādīta 2024.gada tirgus cenās | O7: Tāmes izmaksas euro: | P7: =P21 -> 0
L9: =Koptame!D16 -> Tāme sastādīta:
A11: Nr.p.k. | B11: Kods | C11: Būvdarbu nosaukums | D11: Mērvienība | E11: Daudzums | F11: Vienības izmaksas | L11: Kopā uz visu apjomu
F12: Laika norma (c/h) | G12: Darba samaksas likme (euro/h) | H12: Darba alga (euro) | I12: Būvizstrādājumi (euro) | J12: Mehānismi (euro) | K12: Kopā (euro) | L12: Darbietilpība (c/h) | M12: Darba alga (euro) | N12: Būvizstrādājumi (euro) | O12: Mehānismi (euro) | P12: Summa (euro)
C13: =kops1!C21 -> Zemes darbi | K13: =SUM(H13:J13) -> 0 | L13: =ROUND(F13*E13,2) -> 0 | M13: =ROUND(H13*E13,2) -> 0 | N13: =ROUND(I13*E13,2) -> 0 | O13: =ROUND(J13*E13,2) -> 0 | P13: =SUM(M13:O13) -> 0
A14: 1 | C14: Gruntsūdens līmeņa pazemināšana (Nepieciešamību precizēt būvniecības laikā!) | D14: kpl | E14: 1
A15: 2 | C15: Grunts rakšana ar mehanizēti, iekraujot grunti automašīnā-pašizgāzējā pamatu izbūvei | D15: m3 | E15: =3072+1151-E16 -> 3801
A16: 3 | C16: Grunts izstrāde roku darbā pamatu izbūvei | D16: m3 | E16: 422
A17: 4 | C17: Būvbedres un tranšejas aizbēršana mehanizēti ar pievesto smilti pamatiem | D17: m3 | E17: =2047-E18 -> 1842
A18: 5 | C18: Būvbedres un tranšejas aizbēršana ar rokām ar pievesto smilti pamatiem | D18: m3 | E18: 205
A19: 6 | C19: Liekās grunts izvešana | D19: m3 | E19: =E15+E16 -> 4223
F20: 0 | G20: 0
C21: Tiešās izmaksas kopā t.sk. darba devēja sociālais nodoklis(23,59%)
B28: Sastādīja: | L28: =Koptame!B39 -> Pārbaudīja:
C29: =Koptame!C34 -> 0 | M29: =Koptame!C40 -> 0
C30: =Koptame!C35 -> 0 | M30: =Koptame!C41 -> 0

Sheet 1,2
G1: Lokālā tāme Nr. | H1: =kops1!B22 -> 1,2
A2: =C13 -> Pamati
C3: Būves nosaukums: | D3: =Koptame!C11 -> Pirmsskolas izglītības iestāde
C4: Objekta nosaukums: | D4: =Koptame!C12 -> Pirmsskolas izglītības iestādes jaunbūve
C5: Objekta adrese: | D5: =Koptame!C13 -> Baložu iela 33, Baloži, Ķekavas novads
C6: =Koptame!B14 -> Iepirkuma Id Nr. | D6: =Koptame!C14 -> ĶNP2023/
A7: =Koptame!B17 -> Tāme sastādīta 2024.gada tirgus cenās | O7: Tāmes izmaksas euro: | P7: =P21 -> 0
L9: =Koptame!D16 -> Tāme sastādīta:
A11: Nr.p.k. | B11: Kods | C11: Būvdarbu nosaukums | D11: Mērvienība | E11: Daudzums | F11: Vienības izmaksas | L11: Kopā uz visu apjomu
F12: Laika norma (c/h) | G12: Darba samaksas likme (euro/h) | H12: Darba alga (euro) | I12: Būvizstrādājumi (euro) | J12: Mehānismi (euro) | K12: Kopā (euro) | L12: Darbietilpība (c/h) | M12: Darba alga (euro) | N12: Būvizstrādājumi (euro) | O12: Mehānismi (euro) | P12: Summa (euro)
B13: 0 | C13: =kops1!C22 -> Pamati | F13: 0 | G13: 0 | H13: 0 | I13: 0 | J13: 0 | K13: =SUM(H13:J13) -> 0 | L13: =ROUND(F13*E13,2) -> 0 | M13: =ROUND(H13*E13,2) -> 0 | N13: =ROUND(I13*E13,2) -> 0 | O13: =ROUND(J13*E13,2) -> 0 | P13: =SUM(M13:O13) -> 0
A14: 0 | C14: Pamati BK-02.01 | H14: =ROUND(F14*G14,2) -> 0 | K14: =SUM(H14:J14) -> 0 | L14: =ROUND(F14*E14,2) -> 0 | M14: =ROUND(H14*E14,2) -> 0 | N14: =ROUND(I14*E14,2) -> 0 | O14: =ROUND(J14*E14,2) -> 0 | P14: =SUM(M14:O14) -> 0
A15: 1 | C15: Inventāro veidņu uzstādīšana,eļļošana pamatiem un nojaukšana ,noma | D15: m2 | E15: 5387.12
A16: 2 | C16: Betona iestrādāšana pamatu konstrukcijās-pamati C12/15 XC1 novibrējot,betonu padod ar sūkni | D16: m3 | E16: 65.84
A17: 3 | C17: Šķembu pamatojuma ierīkošana fr.20-40 mm,blīvā veidā ,novibrējot | D17: m3 | E17: 285.2
A18: 4 | C18: Armatūras sietu izgatavošana ,uzstādīšana,fiksatoru uzstādīšana . Armatūra B500B | D18: t | E18: 8.69
A19: 5 | C19: Betona iestrādāšana pamatu konstrukcijās-pamati C30/37 XC2 novibrējot,betonu padod ar sūkni | D19: m3 | E19: 673.39
C21: Tiešās izmaksas kopā t.sk. darba devēja sociālais nodoklis(23,59%)
B23: ='1,1'!C23 -> 0
A24: ='1,1'!A24:G24 -> 0
B28: Sastādīja: | L28: =Koptame!B39 -> Pārbaudīja:
C29: =Koptame!C34 -> 0 | M29: =Koptame!C40 -> 0
C30: =Koptame!C35 -> 0 | M30: =Koptame!C41 -> 0

Sheet 1,3
G1: Lokālā tāme Nr. | H1: =kops1!$B$23 -> 1,3
A2: =C13 -> Sienas
C3: Būves nosaukums: | D3: =Koptame!C11 -> Pirmsskolas izglītības iestāde
C4: Objekta nosaukums: | D4: =Koptame!C12 -> Pirmsskolas izglītības iestādes jaunbūve
C5: Objekta adrese: | D5: =Koptame!C13 -> Baložu iela 33, Baloži, Ķekavas novads
C6: =Koptame!B14 -> Iepirkuma Id Nr. | D6: =Koptame!C14 -> ĶNP2023/
A7: =Koptame!B17 -> Tāme sastādīta 2024.gada tirgus cenās | O7: Tāmes izmaksas euro: | P7: =P159 -> 0
L9: =Koptame!D16 -> Tāme sastādīta:
A11: Nr.p.k. | B11: Kods | C11: Būvdarbu nosaukums | D11: Mērvienība | E11: Daudzums | F11: Vienības izmaksas | L11: Kopā uz visu apjomu
F12: Laika norma (c/h) | G12: Darba samaksas likme (euro/h) | H12: Darba alga (euro) | I12: Būvizstrādājumi (euro) | J12: Mehānismi (euro) | K12: Kopā (euro) | L12: Darbietilpība (c/h) | M12: Darba alga (euro) | N12: Būvizstrādājumi (euro) | O12: Mehānismi (euro) | P12: Summa (euro)
B13: 0 | C13: =kops1!C23 -> Sienas | F13: 0 | G13: 0 | H13: 0 | I13: 0 | J13: 0 | K13: =SUM(H13:J13) -> 0 | L13: =ROUND(F13*E13,2) -> 0 | M13: =ROUND(H13*E13,2) -> 0 | N13: =ROUND(I13*E13,2) -> 0 | O13: =ROUND(J13*E13,2) -> 0 | P13: =SUM(M13:O13) -> 0
A14: 0 | C14: 1,2, bēniņi stāvs | H14: =ROUND(F14*G14,2) -> 0 | K14: =SUM(H14:J14) -> 0 | L14: =ROUND(F14*E14,2) -> 0 | M14: =ROUND(H14*E14,2) -> 0 | N14: =ROUND(I14*E14,2) -> 0 | O14: =ROUND(J14*E14,2) -> 0 | P14: =SUM(M14:O14) -> 0
A15: 1 | C15: Inventāro veidņu uzstādīšana,eļļošana un nojaukšana ,noma | D15: m2 | E15: =272+62+72+49.8 -> 455.8
A16: 2 | C16: Betona iestrādāšana sienu konstrukcijās C30/37 XC1 novibrējot,betonu padod ar sūkni | D16: m3 | E16: =12.24+81.31+9.97+21.52+1.25 -> 126.29
A17: 3 | C17: Sienu mūrēšana no FIBO 5MPa blokiem 300 mm t.sk. Palīgmateriāli, mūrjava , stiegrojums | D17: m3 | E17: =228.04+386.84+205.27 -> 820.15
A18: 4 | C18: Sienu mūrēšana no FIBO 3MPa blokiem t.sk. Palīgmateriāli, mūrjava , stiegrojums | D18: m3 | E18: =68.09+34.96 -> 103.05
A19: 5 | C19: Sienu mūrēšana no FIBO 3MPa blokiem 150 mm t.sk. Palīgmateriāli, mūrjava , stiegrojums | D19: m3 | E19: =60.22+74.15 -> 134.37
A20: 6 | C20: Sienu mūrēšana no dobiem betona blokiem 190 mm t.sk. Palīgmateriāli, mūrjava , stiegrojums | D20: m3 | E20: 6.51
A21: 0 | C21: Pārsedzes 1 stāvs
A22: 7 | C22: DzP1 pārsedzes ierīkošana | D22: gb | E22: 6
A23: 8 | C23: DzP2 pārsedzes ierīkošana | D23: gb | E23: 1
A24: 9 | C24: DzP4 pārsedzes ierīkošana | D24: gb | E24: 1
A25: 10 | C25: DzP2 pārsedzes ierīkošana | D25: gb | E25: 7
A26: 11 | C26: DzP2 pārsedzes ierīkošana | D26: gb | E26: 2
A27: 12 | C27: DzP2 pārsedzes ierīkošana | D27: gb | E27: 2
A28: 13 | C28: DzP3 pārsedzes ierīkošana | D28: gb | E28: 2
A29: 14 | C29: DzP3 pārsedzes ierīkošana | D29: gb | E29: 1
A30: 15 | C30: DzP3 pārsedzes ierīkošana | D30: gb | E30: 13
A31: 16 | C31: FP3 pārsedzes ierīkošana | D31: gb | E31: 7
A32: 17 | C32: FP2 pārsedzes ierīkošana | D32: gb | E32: 19
A33: 18 | C33: FP2 pārsedzes ierīkošana | D33: gb | E33: 14
A34: 19 | C34: FP1 pārsedzes ierīkošana | D34: gb | E34: 4
A35: 20 | C35: FP1 pārsedzes ierīkošana | D35: gb | E35: 4
A36: 21 | C36: FP1 pārsedzes ierīkošana | D36: gb | E36: 2
... A50: 35 | C50: DzP3 pārsedzes ierīkošana | D50: gb | E50: 11
A51: 0 | C51: Pārsedzes 2 stāvs
A52: 36 | C52: DzP1 pārsedzes ierīkošana | D52: gb | E52: 1
A53: 37 | C53: DzP5 pārsedzes ierīkošana | D53: gb | E53: 1
A54: 38 | C54: DzP3 pārsedzes ierīkošana | D54: gb | E54: 1
A55: 39 | C55: DzP3 pārsedzes ierīkošana | D55: gb | E55: 1
A56: 40 | C56: FP2 pārsedzes ierīkošana | D56: gb | E56: 16
A57: 41 | C57: FP1 pārsedzes ierīkošana | D57: gb | E57: 5
A58: 42 | C58: DzP6 pārsedzes ierīkošana | D58: gb | E58: 1
A59: 43 | C59: DzP5 pārsedzes ierīkošana | D59: gb | E59: 2
A60: 44 | C60: DzP5 pārsedzes ierīkošana | D60: gb | E60: 1
A61: 45 | C61: DzP5 pārsedzes ierīkošana | D61: gb | E61: 1
A62: 46 | C62: FP5 pārsedzes ierīkošana | D62: gb | E62: 5
A63: 47 | C63: FP4 pārsedzes ierīkošana | D63: gb | E63: 4
... A71: 55 | C71: MsP2 pārsedzes ierīkošana | D71: gb | E71: 2
A72: 0 | C72: Pārsedzes bēniņi stāvs
A73: 56 | C73: DzP1 pārsedzes ierīkošana | D73: gb | E73: 1
A74: 57 | C74: DzP1 pārsedzes ierīkošana | D74: gb | E74: 1
A75: 58 | C75: DzP3 pārsedzes ierīkošana | D75: gb | E75: 1
A76: 59 | C76: DzP3 pārsedzes ierīkošana | D76: gb | E76: 1
A77: 60 | C77: FP2 pārsedzes ierīkošana | D77: gb | E77: 1
A78: 61 | C78: FP2 pārsedzes ierīkošana | D78: gb | E78: 1
A79: 62 | C79: FP2 pārsedzes ierīkošana | D79: gb | E79: 1
A80: 63 | C80: FP2 pārsedzes ierīkošana | D80: gb | E80: 6
A81: 64 | C81: FP2 pārsedzes ierīkošana | D81: gb | E81: 1
A82: 65 | C82: FP1 pārsedzes ierīkošana | D82: gb | E82: 1
A83: 66 | C83: FP1 pārsedzes ierīkošana | D83: gb | E83: 1
A84: 67 | C84: FP1 pārsedzes ierīkošana | D84: gb | E84: 3
... A87: 70 | C87: FP1 pārsedzes ierīkošana | D87: gb | E87: 1
A88: 0 | C88: Kolonnas 1,2 .stāvs
A89: 71 | C89: Inventāro veidņu uzstādīšana,eļļošana un nojaukšana ,noma | D89: m2 | E89: 618.96
A90: 72 | C90: Armatūras sietu izgatavošana ,uzstādīšana,fiksatoru uzstādīšana . Armatūra B500B | D90: t | E90: =0.312+0.223 -> 0.535
A91: 73 | C91: Betona iestrādāšana sienu konstrukcijās C30/37 XC1 novibrējot,betonu padod ar sūkni | D91: m3 | E91: =47.81+29.56+16.87 -> 94.24
A92: 0 | C92: aktu zāles tribīnes
A93: 74 | C93: Inventāro veidņu uzstādīšana,eļļošana un nojaukšana ,noma | D93: m2 | E93: 220.16
A94: 75 | C94: Armatūras sietu izgatavošana ,uzstādīšana,fiksatoru uzstādīšana . Armatūra B500B | D94: t | E94: 2.35
A95: 76 | C95: Betona iestrādāšana konstrukcijās C30/37 XC1 novibrējot,betonu padod ar sūkni | D95: m3 | E95: 27.52
A96: 0 | C96: Tērauda kolonnas 1,2, stāvs
A97: 77 | C97: Tērauda konstrukciju- izgatavošana , piegāde,montāža t.sk. Palīgmateriāli. Metāla konstrukcijas apstrādātas atbilstoši BK norādījumiem t.sk. Pārklājumi | D97: t | E97: =1.87+0.54 -> 2.41
A98: 0 | C98: AR daļa
A99: 0 | C99: AS 1.0
A100: 78 | C100: Ekstrudēta putupolistirola uzstādīšana XPS 120 mm t.sk. Palīgmateriāli, stiprinājumi, līmjava Baumit Pro Contact) | D100: m2 | E100: 224.6
A101: 79 | C101: Armējošā sieta iestrāde fasādei-cokolam. Līmēšanas un armēšanas java Baumit Pro Contact), Stiklašķiedras siets fasādei. | D101: m2 | E101: 224.6
A102: 80 | C102: Sienas gruntēšana. ( zem dekoratīvā apmetuma) | D102: m2 | E102: 224.6
A103: 81 | C103: Apmetuma slāņa ieklāšana sienai tonēts | D103: m2 | E103: 224.6
A104: 0 | C104: AS 1.3
A105: 82 | C105: Sienu apmetuma ierīkošana ar Baumit MPI 25(b=10) (vai ekvivalentu) | D105: m2 | E105: 534.3
A106: 0 | C106: Sienu mūrēšana no keramzītbetona blokiem 300 mm t.sk. Palīgmateriāli, stiegrojums | D106: skat. BK daļas apjomus
A107: 0 | C107: AS 1.4
A108: 83 | C108: Sienu apmetuma ierīkošana ar Baumit MPI 25(b=10) (vai ekvivalentu) | D108: m2 | E108: 243.1
A109: 0 | C109: Sienu mūrēšana no keramzītbetona blokiem 300 mm t.sk. Palīgmateriāli, stiegrojums | D109: skat. BK daļas apjomus
A110: 0 | C110: AS 1.6
A111: 84 | C111: Sienu apmetuma ierīkošana ar Baumit MPI 25(b=10) (vai ekvivalentu) | D111: m2 | E111: 14.8
A112: 0 | C112: Sienu mūrēšana no keramzītbetona blokiem 300 mm t.sk. Palīgmateriāli, stiegrojums | D112: skat. BK daļas apjomus
A113: 0 | C113: AS 1.7
A114: 85 | C114: Sienu apmetuma ierīkošana ar Baumit MPI 25(b=10) (vai ekvivalentu) | D114: m2 | E114: 313.3
A115: 0 | C115: Sienu mūrēšana no keramzītbetona blokiem 300 mm t.sk. Palīgmateriāli, stiegrojums | D115: skat. BK daļas apjomus
A116: 0 | C116: NS 1.1
A117: 86 | C117: Sienu apmetuma ierīkošana ar Baumit MPI 25(b=10) (vai ekvivalentu) | D117: m2 | E117: =884*2 -> 1768
A118: 0 | C118: Sienu mūrēšana no keramzītbetona blokiem 150 mm t.sk. Palīgmateriāli, stiegrojums | D118: skat. BK daļas apjomus
A119: 0 | C119: NS 1.2
A120: 87 | C120: Sienu apmetuma ierīkošana ar Baumit MPI 25(b=10) (vai ekvivalentu) | D120: m2 | E120: =343.7*2 -> 687.4
A121: 0 | C121: Sienu mūrēšana no keramzītbetona blokiem 200 mm t.sk. Palīgmateriāli, stiegrojums | D121: skat. BK daļas apjomus
A122: 0 | C122: NS 1.3
A123: 88 | C123: Sienu apmetuma ierīkošana ar Baumit MPI 25(b=10) (vai ekvivalentu) | D123: m2 | E123: =1797*2 -> 3594
A124: 0 | C124: Sienu mūrēšana no keramzītbetona blokiem 300 mm t.sk. Palīgmateriāli, stiegrojums | D124: skat. BK daļas apjomus
...

Sheet 1,4
G1: Lokālā tāme Nr. | H1: =kops1!B24 -> 1,4
A2: =C13 -> Pārsegums
C3: Būves nosaukums: | D3: =Koptame!C11 -> Pirmsskolas izglītības iestāde
C4: Objekta nosaukums: | D4: =Koptame!C12 -> Pirmsskolas izglītības iestādes jaunbūve
C5: Objekta adrese: | D5: =Koptame!C13 -> Baložu iela 33, Baloži, Ķekavas novads
C6: =Koptame!B14 -> Iepirkuma Id Nr. | D6: =Koptame!C14 -> ĶNP2023/
A7: =Koptame!B17 -> Tāme sastādīta 2024.gada tirgus cenās | O7: Tāmes izmaksas euro: | P7: =P30 -> 0
L9: =Koptame!D16 -> Tāme sastādīta:
A11: Nr.p.k. | B11: Kods | C11: Būvdarbu nosaukums | D11: Mērvienība | E11: Daudzums | F11: Vienības izmaksas | L11: Kopā uz visu apjomu
F12: Laika norma (c/h) | G12: Darba samaksas likme (euro/h) | H12: Darba alga (euro) | I12: Būvizstrādājumi (euro) | J12: Mehānismi (euro) | K12: Kopā (euro) | L12: Darbietilpība (c/h) | M12: Darba alga (euro) | N12: Būvizstrādājumi (euro) | O12: Mehānismi (euro) | P12: Summa (euro)
B13: 0 | C13: =kops1!C24 -> Pārsegums | F13: 0 | G13: 0 | H13: 0 | I13: 0 | J13: 0 | K13: =SUM(H13:J13) -> 0 | L13: =ROUND(F13*E13,2) -> 0 | M13: =ROUND(H13*E13,2) -> 0 | N13: =ROUND(I13*E13,2) -> 0 | O13: =ROUND(J13*E13,2) -> 0 | P13: =SUM(M13:O13) -> 0
A14: 0 | C14: Tērauda sijas 1. stāvs | H14: =ROUND(F14*G14,2) -> 0 | K14: =SUM(H14:J14) -> 0 | L14: =ROUND(F14*E14,2) -> 0 | M14: =ROUND(H14*E14,2) -> 0 | N14: =ROUND(I14*E14,2) -> 0 | O14: =ROUND(J14*E14,2) -> 0 | P14: =SUM(M14:O14) -> 0
A15: 1 | C15: Tērauda konstrukciju- izgatavošana , piegāde,montāža t.sk. Palīgmateriāli. Metāla konstrukcijas apstrādātas atbilstoši BK norādījumiem t.sk. Ugunsdrošais pārklājs | D15: t | E15: 1.47
A16: 0 | C16: monolītā josla, sijas 1,2Stāvs
A17: 2 | C17: Inventāro veidņu uzstādīšana,eļļošana un nojaukšana ,noma | D17: m2 | E17: =8*E19 -> 285.44
A18: 3 | C18: Armatūras sietu izgatavošana ,uzstādīšana,fiksatoru uzstādīšana . Armatūra B500B | D18: t | E18: 4.09
A19: 4 | C19: Betona iestrādāšana konstrukcijās C30/37 XC1 novibrējot,betonu padod ar sūkni | D19: m3 | E19: =28.26+7.42 -> 35.68
A20: 0 | C20: Pārkare 1. stāvs
A21: 5 | C21: Tērauda konstrukciju- izgatavošana , piegāde,montāža t.sk. Palīgmateriāli. Metāla konstrukcijas apstrādātas atbilstoši BK norādījumiem t.sk. Ugunsdrošais pārklājs | D21: t | E21: 8.12
A22: 0 | C22: BK-1,2stāvs
A23: 6 | C23: Saliekamā dzelzsbetona pārseguma paneļu h=320 mm montāža t.sk. Palīgmateriāli | D23: m2 | E23: =1110.5+110.58 -> 1221.08
A24: 7 | C24: Inventāro veidņu uzstādīšana,eļļošana nojaukšana ,noma | D24: m2 | E24: =1046.7+716.3 -> 1763
A25: 8 | C25: Armatūras sietu izgatavošana ,uzstādīšana,fiksatoru uzstādīšana . Armatūra B500B | D25: t | E25: =54.56+54.56 -> 109.12
A26: 9 | C26: Betona iestrādāšana pārseguma konstrukcijās C30/37 XC1 novibrējot,betonu padod ar sūkni | D26: m3 | E26: =195.72+156.59 -> 352.31
A27: 0 | C27: 2. stāvs
A28: 10 | C28: Tērauda konstrukciju- izgatavošana , piegāde,montāža t.sk. Palīgmateriāli. Metāla konstrukcijas apstrādātas atbilstoši BK norādījumiem t.sk. Ugunsdrošais pārklājs | D28: t | E28: 4.87
C30: Tiešās izmaksas kopā t.sk. darba devēja sociālais nodoklis(23,59%)
B32: Piezīmes:
A33: ='1,1'!A24:G24 -> 0
B37: Sastādīja: | L37: =Koptame!B39 -> Pārbaudīja:
C38: =Koptame!C34 -> 0 | M38: =Koptame!C40 -> 0
C39: =Koptame!C35 -> 0 | M39: =Koptame!C41 -> 0

Sheet 1,5
G1: Lokālā tāme Nr. | H1: =kops1!B25 -> 1,5
A2: =C13 -> Jumts
C3: Būves nosaukums: | D3: =Koptame!C11 -> Pirmsskolas izglītības iestāde
C4: Objekta nosaukums: | D4: =Koptame!C12 -> Pirmsskolas izglītības iestādes jaunbūve
C5: Objekta adrese: | D5: =Koptame!C13 -> Baložu iela 33, Baloži, Ķekavas novads
C6: =Koptame!B14 -> Iepirkuma Id Nr. | D6: =Koptame!C14 -> ĶNP2023/
A7: =Koptame!B17 -> Tāme sastādīta 2024.gada tirgus cenās | O7: Tāmes izmaksas euro: | P7: =P77 -> 0
L9: =Koptame!D16 -> Tāme sastādīta:
A11: Nr.p.k. | B11: Kods | C11: Būvdarbu nosaukums | D11: Mērvienība | E11: Daudzums | F11: Vienības izmaksas | L11: Kopā uz visu apjomu
F12: Laika norma (c/h) | G12: Darba samaksas likme (euro/h) | H12: Darba alga (euro) | I12: Būvizstrādājumi (euro) | J12: Mehānismi (euro) | K12: Kopā (euro) | L12: Darbietilpība (c/h) | M12: Darba alga (euro) | N12: Būvizstrādājumi (euro) | O12: Mehānismi (euro) | P12: Summa (euro)
B13: 0 | C13: =kops1!C25 -> Jumts | F13: 0 | G13: 0 | H13: 0 | I13: 0 | J13: 0 | K13: =SUM(H13:J13) -> 0 | L13: =ROUND(F13*E13,2) -> 0 | M13: =ROUND(H13*E13,2) -> 0 | N13: =ROUND(I13*E13,2) -> 0 | O13: =ROUND(J13*E13,2) -> 0 | P13: =SUM(M13:O13) -> 0
A14: 0 | C14: BK | H14: =ROUND(F14*G14,2) -> 0 | K14: =SUM(H14:J14) -> 0 | L14: =ROUND(F14*E14,2) -> 0 | M14: =ROUND(H14*E14,2) -> 0 | N14: =ROUND(I14*E14,2) -> 0 | O14: =ROUND(J14*E14,2) -> 0 | P14: =SUM(M14:O14) -> 0
A15: 1 | C15: Tērauda konstrukciju- izgatavošana , piegāde,montāža t.sk. Palīgmateriāli. Metāla konstrukcijas apstrādātas atbilstoši BK norādījumiem t.sk. Ugunsdrošais pārklājs | D15: t | E15: =33.94+4.07 -> 38.01
A16: 2 | C16: Nesošo koka konstrukciju-koka sijas, mūrlatas, spāres izgatavošana un montāža sagatavotas atbilstoši BK norādījumiem t.sk. Palīgmateriāli. Kokmateriālu klase Apstrādātas ar antiseptiķi-antipirēnu | D16: m3 | E16: =19.34+63.73 -> 83.07
A17: 0 | C17: J 1.1
A18: 3 | C18: Latojuma ierīkošana. Latojums 50x50mm, stiprinājumi | D18: m2 | E18: 366.2
A19: 4 | C19: Difūzijas membrānas ieklāšana PAROC XMU 100 vai ekvivalents | D19: m2 | E19: 366.2
A20: 5 | C20: Vates iestrāde karkasā siltuma izolācijai. Siltuma izolācijas plāksnes 30 mm Paroc Cortex | D20: m2 | E20: 366.2
A21: 6 | C21: Vates iestrāde karkasā siltuma izolācijai. Siltuma izolācijas plāksnes 250 mm Paroc Ultra plus | D21: m2 | E21: 366.2
A22: 7 | C22: Tvaika izolācijas ieklāšana PAROC XMV 020 bas vai ekvivalents | D22: m2 | E22: 366.2
A23: 8 | C23: Latojuma ierīkošana. Latojums 50x50mm, stiprinājumi | D23: m2 | E23: 366.2
A24: 9 | C24: Vates iestrāde karkasā siltuma izolācijai. Siltuma izolācijas plāksnes 50 mm Paroc Ultra | D24: m2 | E24: 366.2
A25: 10 | C25: Knauf ģipškartona griestu karkass | D25: m2 | E25: 366.2
A26: 11 | C26: Karkasu apšūšana ar ģipškartonu . Ģipškartona plātne GKF 15 mm Knauf vai ekvivalents ; Knauf skrūves vai ekvivalents. Šuvju aizpildījums un aplīmēšana ar armējošu sietu | D26: m2 | E26: 366.2
A27: 0 | C27: J 1.1a
A28: 12 | C28: Knauf ģipškartona metāla karkass | D28: m2 | E28: 366.2
A29: 13 | C29: Karkasu apšūšana ar ģipškartonu . Ģipškartona plātne GKF 15 mm Knauf vai ekvivalents ; Knauf skrūves vai ekvivalents. Šuvju aizpildījums un aplīmēšana ar armējošu sietu | D29: m2 | E29: 366.2
A30: 14 | C30: Latojuma ierīkošana. Latojums 50x50mm, stiprinājumi | D30: m2 | E30: 366.2
A31: 15 | C31: Vates iestrāde karkasā siltuma izolācijai. Siltuma izolācijas plāksnes 50 mm Paroc Ultra | D31: m2 | E31: 366.2
A32: 16 | C32: Tvaika izolācijas ieklāšana PAROC XMV 020 bas vai ekvivalents | D32: m2 | E32: 366.2
A33: 17 | C33: Vates iestrāde karkasā siltuma izolācijai. Siltuma izolācijas plāksnes 250 mm Paroc Ultra plus | D33: m2 | E33: 366.2
A34: 18 | C34: Difūzijas membrānas ieklāšana PAROC XMU 100 vai ekvivalents | D34: m2 | E34: 366.2
A35: 19 | C35: Vates iestrāde karkasā siltuma izolācijai. Siltuma izolācijas plāksnes 30 mm Paroc Cortex | D35: m2 | E35: 366.2
A36: 20 | C36: Latojuma ierīkošana. Latojums 50x50mm, stiprinājumi | D36: m2 | E36: 366.2
A37: 21 | C37: Termokoksnes dēļu seguma 25 mm ieklāšana | D37: m2 | E37: 366.2
A38: 0 | C38: J 1.1c
A39: 22 | C39: Knauf ģipškartona metāla karkass | D39: m2 | E39: 694.7
A40: 23 | C40: Karkasu apšūšana ar ģipškartonu . Ģipškartona plātne GKF 15 mm Knauf vai ekvivalents ; Knauf skrūves vai ekvivalents. Šuvju aizpildījums un aplīmēšana ar armējošu sietu | D40: m2 | E40: 694.7
A41: 24 | C41: Latojuma ierīkošana. Latojums 50x50mm, stiprinājumi | D41: m2 | E41: 694.7
A42: 25 | C42: Vates iestrāde karkasā siltuma izolācijai. Siltuma izolācijas plāksnes 50 mm Paroc Ultra | D42: m2 | E42: 694.7
A43: 26 | C43: Tvaika izolācijas ieklāšana PAROC XMV 020 bas vai ekvivalents | D43: m2 | E43: 694.7
A44: 27 | C44: Vates iestrāde karkasā siltuma izolācijai. Siltuma izolācijas plāksnes 250 mm Paroc Ultra plus | D44: m2 | E44: 694.7
A45: 28 | C45: Difūzijas membrānas ieklāšana PAROC XMU 100 vai ekvivalents | D45: m2 | E45: 694.7
A46: 29 | C46: Vates iestrāde karkasā siltuma izolācijai. Siltuma izolācijas plāksnes 30 mm Paroc Cortex | D46: m2 | E46: 694.7
A47: 30 | C47: Latojuma ierīkošana. Latojums 50x50mm, stiprinājumi | D47: m2 | E47: 694.7
A48: 0 | C48: J 1.2 aktu zāle
A49: 31 | C49: Karkasu apšūšana ar ģipškartonu . Ģipškartona plātne GKF 15 mm Knauf vai ekvivalents ; Knauf skrūves vai ekvivalents. Šuvju aizpildījums un aplīmēšana ar armējošu sietu | D49: m2 | E49: 219.2
A50: 32 | C50: Karkasu apšūšana ar ģipškartonu . Ģipškartona plātne GKF 15 mm Knauf vai ekvivalents ; Knauf skrūves vai ekvivalents. Šuvju aizpildījums un aplīmēšana ar armējošu sietu | D50: m2 | E50: 219.2
A51: 33 | C51: Metāla karkasa montāža | D51: m2 | E51: 219.2
A52: 34 | C52: Apakškonstrukcijas montāža | D52: m2 | E52: 219.2
A53: 35 | C53: Latojuma ierīkošana. Latojums 50x50mm, stiprinājumi | D53: m2 | E53: 219.2
A54: 36 | C54: Vates iestrāde karkasā siltuma izolācijai. Siltuma izolācijas plāksnes 50 mm Paroc Ultra | D54: m2 | E54: 219.2
A55: 37 | C55: Tvaika izolācijas ieklāšana PAROC XMV 020 bas vai ekvivalents | D55: m2 | E55: 219.2
A56: 38 | C56: Vates iestrāde karkasā siltuma izolācijai. Siltuma izolācijas plāksnes 200 mm Paroc Ultra plus | D56: m2 | E56: 219.2
A57: 39 | C57: Vates iestrāde karkasā siltuma izolācijai. Siltuma izolācijas plāksnes 100 mm Paroc Ultra plus | D57: m2 | E57: 219.2
A58: 40 | C58: Vates iestrāde karkasā siltuma izolācijai. Siltuma izolācijas plāksnes 30 mm Paroc Cortex | D58: m2 | E58: 219.2
A59: 41 | C59: Difūzijas membrānas ieklāšana PAROC XMU 100 vai ekvivalents | D59: m2 | E59: 219.2
A60: 42 | C60: Latojuma ierīkošana. Latojums 50x50mm, stiprinājumi | D60: m2 | E60: 219.2
A61: 0 | C61: J 1.3
A62: 43 | C62: Vates iestrāde karkasā siltuma izolācijai. Siltuma izolācijas plāksnes 30 mm Paroc Cortex | D62: m2 | E62: 2483
A63: 44 | C63: Difūzijas membrānas ieklāšana PAROC XMU 100 vai ekvivalents | D63: m2 | E63: 2483
A64: 45 | C64: Latojuma ierīkošana. Latojums 50x50mm, stiprinājumi | D64: m2 | E64: 2483
A65: 0 | C65: J 1.3-1
A66: 46 | C66: Koka spāru ierīkošana. 195x45mm, stiprinājumi | D66: m2 | E66: 52.1
A67: 47 | C67: FPO-PP jumta membrāna pastirpināta ar stiklašķiedru Bauder Thermofin F20 | D67: m2 | E67: 52.1
A68: 48 | C68: Karkasu apšūšana ar OSB-3 18 mm. t.sk. Stiprinājumi | D68: m2 | E68: 52.1
A69: 0 | C69: Jumta segums un papildelementi
A70: 49 | C70: Jumta seguma ieklāšana.Profilēts metāla skārds ,palīgmateriāli, papildelementi. Tērauda skārda profilēts jumta segums Ruukkihyygge, tonis RR2H3 Antracīts | D70: m2 | E70: 3948.7
A71: 50 | C71: Jumta seguma apakšklāja ierīkošana | D71: m2 | E71: 2483
A72: 51 | C72: Notekrene 150x150 pa visu jumta parimetru. Komplekss risinājums ar jumta iesegumu, konstrukciju un notekcaurulēm. Tonis: RAL 7043.T.sk. Veidgabali | D72: m | E72: 214
A73: 52 | C73: Notekcaurules no jumta 150x150 mm T.sk. Veidgabali Komplekss risinājums ar renēm, piltuvēm un līkumiem, revīzijām. Tonis: RAL 7043. Caurules garums precīzējams, ņemot vēra reljefu.Revīzijas H=0,35 m no zemes. Tonis - RAL 7043 | D73: m | E73: 64.8
A74: 53 | C74: Sniega barjeras montāža | D74: m | E74: 220
A75: 54 | C75: Firmas "VERTIC" (Batiline Horizontālā drošības līnija) stiprināta pie jumta ar stabiem (2 stabi gala elementi un 5 caurejošie stabi). | D75: m | E75: 75
C77: Tiešās izmaksas kopā t.sk. darba devēja sociālais nodoklis(23,59%)
B79: Piezīmes:
A80: ='1,1'!A24:G24 -> 0
B84: Sastādīja: | L84: =Koptame!B39 -> Pārbaudīja:
C85: =Koptame!C34 -> 0 | M85: =Koptame!C40 -> 0
C86: =Koptame!C35 -> 0 | M86: =Koptame!C41 -> 0

Sheet 1,6
G1: Lokālā tāme Nr. | H1: =kops1!B26 -> 1,6
A2: =C13 -> Grīdas
C3: Būves nosaukums: | D3: =Koptame!C11 -> Pirmsskolas izglītības iestāde
C4: Objekta nosaukums: | D4: =Koptame!C12 -> Pirmsskolas izglītības iestādes jaunbūve
C5: Objekta adrese: | D5: =Koptame!C13 -> Baložu iela 33, Baloži, Ķekavas novads
C6: =Koptame!B14 -> Iepirkuma Id Nr. | D6: =Koptame!C14 -> ĶNP2023/
A7: =Koptame!B17 -> Tāme sastādīta 2024.gada tirgus cenās | O7: Tāmes izmaksas euro: | P7: =P85 -> 0
L9: =Koptame!D16 -> Tāme sastādīta:
A11: Nr.p.k. | B11: Kods | C11: Būvdarbu nosaukums | D11: Mērvienība | E11: Daudzums | F11: Vienības izmaksas | L11: Kopā uz visu apjomu
F12: Laika norma (c/h) | G12: Darba samaksas likme (euro/h) | H12: Darba alga (euro) | I12: Būvizstrādājumi (euro) | J12: Mehānismi (euro) | K12: Kopā (euro) | L12: Darbietilpība (c/h) | M12: Darba alga (euro) | N12: Būvizstrādājumi (euro) | O12: Mehānismi (euro) | P12: Summa (euro)
B13: 0 | C13: =kops1!C26 -> Grīdas | F13: 0 | G13: 0 | H13: 0 | I13: 0 | J13: 0 | K13: =SUM(H13:J13) -> 0 | L13: =ROUND(F13*E13,2) -> 0 | M13: =ROUND(H13*E13,2) -> 0 | N13: =ROUND(I13*E13,2) -> 0 | O13: =ROUND(J13*E13,2) -> 0 | P13: =SUM(M13:O13) -> 0
A14: 0 | C14: BK 1. stāva grīda | H14: =ROUND(F14*G14,2) -> 0 | K14: =SUM(H14:J14) -> 0 | L14: =ROUND(F14*E14,2) -> 0 | M14: =ROUND(H14*E14,2) -> 0 | N14: =ROUND(I14*E14,2) -> 0 | O14: =ROUND(J14*E14,2) -> 0 | P14: =SUM(M14:O14) -> 0
A15: 1 | C15: Inventāro veidņu uzstādīšana,eļļošana pamatiem un nojaukšana ,noma | D15: m2 | E15: =E19*8 -> 186.56
A16: 2 | C16: Betona iestrādāšana konstrukcijās C12/15 novibrējot,betonu padod ar sūkni | D16: m3 | E16: 177.28
A17: 3 | C17: Šķembu pamatojuma ierīkošana fr.20-40 mm,blīvā veidā ,novibrējot | D17: m3 | E17: =443.18 -> 443.18
A18: 4 | C18: Armatūras sietu izgatavošana ,uzstādīšana,fiksatoru uzstādīšana . Armatūra B500B | D18: t | E18: 1.35
A19: 5 | C19: Betona iestrādāšana grīdu konstrukcijās- C30/37 XC2 novibrējot,betonu padod ar sūkni | D19: m3 | E19: 23.32
A20: 0 | C20: G 1.1
A21: 6 | C21: Siltumizolācijas ierīkošana; Ekstrudētais putupolistirols XPS 100 mm vai ekvivalents | D21: m2 | E21: 2277.2
A22: 7 | C22: Filtrauduma ieklāšana | D22: m2 | E22: 2277.2
A23: 8 | C23: Stiegrotas betona kārtas ierīkošana 100 mm Betons stiegrojums B500B | D23: m2 | E23: 2277.2
A24: 0 | C24: P 1.1
A25: 9 | C25: Skaņas izolācijas ierīkošana piem. PAROC SSB1 30 mm vai ekvivalents | D25: m2 | E25: 1891
A26: 10 | C26: PVC Poliet.plēves iestrāde tvaika izolācijai | D26: m2 | E26: 1891
A27: 11 | C27: Stiegrotas betona kārtas ierīkošana 70 mm Betons stiegrojums B500B | D27: m2 | E27: 1891
A28: 0 | C28: P 1.1a
A29: 12 | C29: Skaņas izolācijas ierīkošana piem. PAROC SSB1 50 mm vai ekvivalents | D29: m2 | E29: 328.5
A30: 13 | C30: PVC Poliet.plēves iestrāde tvaika izolācijai | D30: m2 | E30: 328.5
A31: 14 | C31: Stiegrotas betona kārtas ierīkošana 70 mm Betons stiegrojums B500B | D31: m2 | E31: 328.5
A32: 15 | C32: Situmizolācija, piem., Paroc Ultra Plus(b=200)vai ekvivalents | D32: m2 | E32: 328.5
A33: 16 | C33: Apdares stiprinājuma T karkass montāža | D33: m2 | E33: 328.5
A34: 17 | C34: Fasādes apšuvuma plāksnes t.sk. stiprinājumi Equitone Natura | D34: m2 | E34: 328.5
A35: 0 | C35: P 1.3
A36: 18 | C36: Hidroizolācijas ierīkošana | D36: m2 | E36: 1944.5
A37: 19 | C37: Siltumizolācijas ierīkošana; Putupolistirols 250 mm vai ekvivalents | D37: m2 | E37: 1944.5
A38: 20 | C38: Ūdens drenāžas slānis | D38: m2 | E38: 1944.5
A39: 21 | C39: Stiegrotas betona kārtas ierīkošana 50 mm Betons stiegrojums B500B | D39: m2 | E39: 1944.5
A40: 22 | C40: Pretputekļu pārklājums | D40: m2 | E40: 1944.5
A41: 0 | C41: 1. stāva grīdas apdare
A42: 23 | C42: Grīdu izlīdzināšana ar pašizlīdzinošo sastāvu Pašizlīdzinošā masa grīdām (piem., Baumit Nivello 10) ~3mm | D42: m2 | E42: =SUM(E43:E55,E61) -> 1956.3
A43: 24 | C43: GS-1.1 Homogēns dabigā linoleja grīdas segums "Forbo marmoleum fresco" "3260 leaf”, 2.5mm. 34/43 klase; Pretslīde R9 Tonis: S 3030-G40Y | D43: m2 | E43: 651.5
A44: 25 | C44: GS-1.2 Homogēns dabigā linoleja grīdas segums "Forbo marmoleum fresco" "3866 eternity", 2.5mm. 34/43 klase; Pretslīde R9 Tonis: S 5502-G | D44: m2 | E44: 82.5
A45: 26 | C45: GS-1.3 Homogēns dabigā linoleja grīdas segums "Forbo marmoleum fresco" "3846 natural corn", 2.5mm. 34/43 klase; Pretslīde R9 Tonis: S 1030-Y10R | D45: m2 | E45: 73.2
A46: 27 | C46: GS-1.3-AKU Homogēns dabigā linoleja grīdas segums "Forbo marmoleum Decibel" "3846 natural corn", 3.5mm. 34/43 klase; Pretslīde R9; 18db Tonis: S 1030-Y10R | D46: m2 | E46: 110.4
A47: 28 | C47: GS-1.4 Homogēns dabigā linoleja grīdas segums "Forbo marmoleum fresco" "3858 Barbados", 2.5mm. 34/43 klase; Pretslīde R9 Tonis: S 1510-Y10R | D47: m2 | E47: 419.9
A48: 29 | C48: GS-1.4-AKU Homogēns dabigā linoleja grīdas segums "Forbo marmoleum Decibel" "3858 Barbados", 3.5mm. 34/43 klase; Pretslīde R9; 18db Tonis: S 1510- Y10R | D48: m2 | E48: 68.5
A49: 30 | C49: GS-1.5 Homogēns dabigā linoleja grīdas segums "Forbo marmoleum marbled all colors" "3055/33055/73055 fresco blue", 2.5mm. 34/43 klase; Pretslīde R9 Tonis: S 4020-B | D49: m2 | E49: 1.1
A50: 31 | C50: GS-1.6 Homogēns dabigā linoleja grīdas segums "Forbo marmoleum marbled all colors" "3272 plum", 2.5mm. 34/43 klase; Pretslīde R9 Tonis: S 6020-R10B | D50: m2 | E50: 1.1
A51: 32 | C51: GS-2.1 Heterogēns vinila grīdas segums "Forbo eternal material" "41002 snow contrast", 2.0mm. 34/43 klase; Pretslīde R10 Tonis: S 1002-G50Y | D51: m2 | E51: 127.4
A52: 33 | C52: GS-3.1 Heterogēns vinila grīdas segums "Forbo sphera element" "50009 lead", 2.0mm. 34/43 klase; Pretslīde R9 Tonis: S 4502-B | D52: m2 | E52: 95.1
A53: 34 | C53: GS-4.1 Heterogēns vinila grīdas segums "Forbo surestep star" "176422 trout", 2.0mm. 34/43 klase; Pretslīde R10 Tonis: S 2005-R80B | D53: m2 | E53: 128.1
A54: 35 | C54: GS-4.2 Heterogēns vinila grīdas segums "Forbo surestep star" "176082/178082 snow", 2.0mm. 34/43 klase; Pretslīde R10 Tonis: S 7005-R80B | D54: m2 | E54: 82.6
... A65: 46 | C65: Elastīga polistirola grīdlīste, 16x70mm, RAI7021 | D65: m | E65: 202.4
A66: 0 | C66: 2. stāva grīdas apdare
A67: 47 | C67: Grīdu izlīdzināšana ar pašizlīdzinošo sastāvu Pašizlīdzinošā masa grīdām (piem., Baumit Nivello 10) ~3mm | D67: m2 | E67: =SUM(E68:E79) -> 2028.9
A68: 48 | C68: GS-1.1 Homogēns dabigā linoleja grīdas segums "Forbo marmoleum fresco" "3260 leaf”, 2.5mm. 34/43 klase; Pretslīde R9 Tonis: S 3030-G40Y | D68: m2 | E68: 845
A69: 49 | C69: GS-1.2 Homogēns dabigā linoleja grīdas segums "Forbo marmoleum fresco" "3866 eternity", 2.5mm. 34/43 klase; Pretslīde R9 Tonis: S 5502-G | D69: m2 | E69: 329.1
A70: 50 | C70: GS-1.5 Homogēns dabigā linoleja grīdas segums "Forbo marmoleum marbled all colors" "3055/33055/73055 fresco blue", 2.5mm. 34/43 klase; Pretslīde R9 Tonis: S 4020-B | D70: m2 | E70: 351.8
A71: 51 | C71: GS-1.6 Homogēns dabigā linoleja grīdas segums "Forbo marmoleum marbled all colors" "3272 plum", 2.5mm. 34/43 klase; Pretslīde R9 Tonis: S 6020- R10B | D71: m2 | E71: 100.8
A72: 52 | C72: GS-1.7 Homogēns dabigā linoleja grīdas segums "Forbo marmoleum fresco" "3846 natural corn", 2.5mm. 34/43 klase; Pretslīde R9 Tonis: S 1030- Y10R | D72: m2 | E72: 1.6
A73: 53 | C73: GS-1.8 Homogēns dabigā linoleja grīdas segums "Forbo marmoleum fresco" "3846 natural corn", 2.5mm. 34/43 klase; Pretslīde R9 Tonis: S 1030- Y10R | D73: m2 | E73: 1.2
A74: 54 | C74: GS-2.1 Heterogēns vinila grīdas segums "Forbo eternal material" "41002 snow contrast", 2.0mm. 34/43 klase; Pretslīde R10 Tonis: S 1002-G50Y | D74: m2 | E74: 111.7
A75: 55 | C75: GS-3.1 Heterogēns vinila grīdas segums "Forbo sphera element" "50009 lead", 2.0mm. 34/43 klase; Pretslīde R9 Tonis: S 4502-B | D75: m2 | E75: 20.9
A76: 56 | C76: GS-4.1 Heterogēns vinila grīdas segums "Forbo surestep star" "176422 trout", 2.0mm. 34/43 klase; Pretslīde R10 Tonis: S 2005-R80B | D76: m2 | E76: 139
A77: 57 | C77: GS-6.1 Heterogēns polivinilhlorīda grīdas segums "Tarkett Omnisport Reference Multi-use" "Golden Maple", 6.2mm; Nodiluma slāņa biezums: 0.7mm; Paliekošais iespiedums:0.10mm; Triecienu absorbcijas līmenis: 25%; Tonis: koka imitācija - zelta kļava ; | D77: m2 | E77: 74.1
A78: 58 | C78: GS-6.2 Heterogēns polivinilhlorīda grīdas segums "Tarkett Omnisport Reference Multi-use" "Light Green", 6.2mm; Nodiluma slāņa biezums: 0.7mm; Paliekošais iespiedums:0.10mm; Triecienu absorbcijas līmenis: 25%; Tonis: gaiši zaļš | D78: m2 | E78: 30.2
A79: 59 | C79: GS-9.1 Ozola parkets; 31 klase; biezums: 12-16mm; Tonis: tumšs dabīgs ozols | D79: m2 | E79: 23.5
... A83: 63 | C83: Elastīga polistirola grīdlīste, 16x70mm, RAI7021 | D83: m | E83: 305.41
F84: 0 | G84: 0
C85: Tiešās izmaksas kopā t.sk. darba devēja sociālais nodoklis(23,59%)
B87: Piezīmes:
A88: ='1,1'!A24:G24 -> 0
B92: Sastādīja: | L92: =Koptame!B39 -> Pārbaudīja:
C93: =Koptame!C34 -> 0 | M93: =Koptame!C40 -> 0
C94: =Koptame!C35 -> 0 | M94: =Koptame!C41 -> 0

Sheet 1,7
G1: Lokālā tāme Nr. | H1: =kops1!B27 -> 1,7
A2: =C13 -> Kāpnes
C3: Būves nosaukums: | D3: =Koptame!C11 -> Pirmsskolas izglītības iestāde
C4: Objekta nosaukums: | D4: =Koptame!C12 -> Pirmsskolas izglītības iestādes jaunbūve
C5: Objekta adrese: | D5: =Koptame!C13 -> Baložu iela 33, Baloži, Ķekavas novads
C6: =Koptame!B14 -> Iepirkuma Id Nr. | D6: =Koptame!C14 -> ĶNP2023/
A7: =Koptame!B17 -> Tāme sastādīta 2024.gada tirgus cenās | O7: Tāmes izmaksas euro: | P7: =P19 -> 0
L9: =Koptame!D16 -> Tāme sastādīta:
A11: Nr.p.k. | B11: Kods | C11: Būvdarbu nosaukums | D11: Mērvienība | E11: Daudzums | F11: Vienības izmaksas | L11: Kopā uz visu apjomu
F12: Laika norma (c/h) | G12: Darba samaksas likme (euro/h) | H12: Darba alga (euro) | I12: Būvizstrādājumi (euro) | J12: Mehānismi (euro) | K12: Kopā (euro) | L12: Darbietilpība (c/h) | M12: Darba alga (euro) | N12: Būvizstrādājumi (euro) | O12: Mehānismi (euro) | P12: Summa (euro)
A13: 0 | C13: =kops1!C27 -> Kāpnes | H13: =ROUND(G13*F13,2) -> 0 | K13: =SUM(H13:J13) -> 0 | L13: =ROUND(F13*E13,2) -> 0 | M13: =ROUND(H13*E13,2) -> 0 | N13: =ROUND(I13*E13,2) -> 0 | O13: =ROUND(J13*E13,2) -> 0 | P13: =SUM(M13:O13) -> 0
A14: 1 | C14: Saliekamā dzelzsbetona konstrukciju kāpņu (asīs D-E - bk-13.1) izbūve t.sk. Palīgmateriāli | D14: kpl | E14: 1
A15: 2 | C15: Saliekamā dzelzsbetona konstrukciju kāpņu (Kāpnes asīs K-L bk-13.2) izbūve t.sk. Palīgmateriāli | D15: kpl | E15: 1
A16: 3 | C16: Saliekamā dzelzsbetona konstrukciju kāpņu (Kāpnes asīs S-T - bk-13.3) izbūve t.sk. Palīgmateriāli | D16: kpl | E16: 1
A17: 4 | C17: Saliekamā dzelzsbetona konstrukciju kāpņu (Kāpnes gaitenī - bk-13.4) izbūve t.sk. Palīgmateriāli | D17: kpl | E17: 1
F18: =IFERROR(ROUND(H18/G18,2),0) -> 0 | G18: =IF(H18>0,3.75,0) -> 0
C19: Tiešās izmaksas kopā t.sk. darba devēja sociālais nodoklis(23,59%)
B21: Piezīmes:
A22: ='1,1'!A24:G24 -> 0
B26: Sastādīja: | L26: =Koptame!B39 -> Pārbaudīja:
C27: =Koptame!C34 -> 0 | M27: =Koptame!C40 -> 0
C28: =Koptame!C35 -> 0 | M28: =Koptame!C41 -> 0

Sheet 1,8
G1: Lokālā tāme Nr. | H1: =kops1!B28 -> 1,8
A2: =C13 -> Ailu aizpildījuma elementi
C3: Būves nosaukums: | D3: =Koptame!C11 -> Pirmsskolas izglītības iestāde
C4: Objekta nosaukums: | D4: =Koptame!C12 -> Pirmsskolas izglītības iestādes jaunbūve
C5: Objekta adrese: | D5: =Koptame!C13 -> Baložu iela 33, Baloži, Ķekavas novads
C6: =Koptame!B14 -> Iepirkuma Id Nr. | D6: =Koptame!C14 -> ĶNP2023/
A7: =Koptame!B17 -> Tāme sastādīta 2024.gada tirgus cenās | O7: Tāmes izmaksas euro: | P7: =P75 -> 0
L9: =Koptame!D16 -> Tāme sastādīta:
A11: Nr.p.k. | B11: Kods | C11: Būvdarbu nosaukums | D11: Mērvienība | E11: Daudzums | F11: Vienības izmaksas | L11: Kopā uz visu apjomu
F12: Laika norma (c/h) | G12: Darba samaksas likme (euro/h) | H12: Darba alga (euro) | I12: Būvizstrādājumi (euro) | J12: Mehānismi (euro) | K12: Kopā (euro) | L12: Darbietilpība (c/h) | M12: Darba alga (euro) | N12: Būvizstrādājumi (euro) | O12: Mehānismi (euro) | P12: Summa (euro)
C13: =kops1!C28 -> Ailu aizpildījuma elementi | F13: 0 | G13: 0 | K13: =SUM(H13:J13) -> 0 | L13: =ROUND(F13*E13,2) -> 0 | M13: =ROUND(H13*E13,2) -> 0 | N13: =ROUND(I13*E13,2) -> 0 | O13: =ROUND(J13*E13,2) -> 0 | P13: =SUM(M13:O13) -> 0
A14: 1 | C14: Logu montāža saskaņā ar AR-6.1 t.sk. Palodzes | D14: m2 | E14: 438.1
A15: 0 | C15: L-1 ( 1x2,6 m) | D15: gb. | E15: 4
A16: 0 | C16: L-2 ( 1,5x2,6 m) | D16: gb. | E16: 9
A17: 0 | C17: L-3 ( 1,5x2,6 m) | D17: gb. | E17: 6
A18: 0 | C18: L-4 ( 4x2,6 m) | D18: gb. | E18: 6
A19: 0 | C19: L-5 ( 1,2x2,6 m) | D19: gb. | E19: 3
A20: 0 | C20: L-6 ( 1,2x1 m) | D20: gb. | E20: 3
A21: 0 | C21: L-7 ( 1,5x1,6 m) | D21: gb. | E21: 2
A22: 0 | C22: L-8 ( 2,5x2,62 m) | D22: gb. | E22: 10
A23: 0 | C23: L-9 ( 3x2,62 m) | D23: gb. | E23: 7
A24: 0 | C24: L-10 ( 3x2,62 m) | D24: gb. | E24: 3
A25: 0 | C25: L-11 ( 4x2,62 m) | D25: gb. | E25: 6
... A28: 0 | C28: JL-1 ( 1x2 m) | D28: gb. | E28: 4
A29: 0 | C29: Montāžas materiāli (blīvējošs materiāls, stiprinājumi u.c.) | D29: m2 | E29: =E14 -> 438.1
A30: 2 | C30: Loga montāža saskaņā ar AR-6.1 t.sk. Palīgmateriāli, stiprinājumi d=1,5 m L-21 | D30: kpl | E30: 4
A31: 3 | C31: Loga montāža saskaņā ar AR-6.1 t.sk. Palīgmateriāli, stiprinājumi d=2,0 m L-22 | D31: kpl | E31: 2
A32: 4 | C32: Loga montāža saskaņā ar AR-6.1 t.sk. Palīgmateriāli, stiprinājumi d=2,2 m L-23 | D32: kpl | E32: 1
A33: 5 | C33: Loga montāža saskaņā ar AR-6.1 t.sk. Palīgmateriāli, stiprinājumi d=3,5 m L-24 | D33: kpl | E33: 1
A34: 6 | C34: Vitrīnas montāža saskaņā ar AR-6.1 t.sk. Palīgmateriāli, stiprinājumi 2,2x2,4 m SV-1 | D34: kpl | E34: 1
A35: 7 | C35: Vitrīnas montāža saskaņā ar AR-6.1 t.sk. Palīgmateriāli, stiprinājumi 1,6x2,4 m SV-2 | D35: kpl | E35: 1
A36: 8 | C36: Ārdurvju montāža saskaņā ar AR-6.2 | D36: m2 | E36: 90.3
A37: 0 | C37: AD-101 ( 2,6x2,6 m) | D37: gb. | E37: 5
A38: 0 | C38: AD-102 ( 2,6x2,6 m) | D38: gb. | E38: 2
A39: 0 | C39: AD-103 ( 3x3 m) | D39: gb. | E39: 2
A40: 0 | C40: AD-104 ( 1,8x2,6 m) | D40: gb. | E40: 1
A41: 0 | C41: AD-105 ( 1x2,6 m) | D41: gb. | E41: 4
... A43: 0 | C43: AD-107 ( 0,9x2,6 m) | D43: gb. | E43: 2
A44: 0 | C44: Montāžas materiāli (blīvējošs materiāls, stiprinājumi u.c.) | D44: m2 | E44: =E36 -> 90.3
A45: 9 | C45: Durvju montāža saskaņā ar AR-6.4 | D45: m2 | E45: 341.8
A46: 0 | C46: D-101 ( 1,05x2,1 m) | D46: gb. | E46: 12
A47: 0 | C47: D-102 ( 1,05x2,1 m) | D47: gb. | E47: 6
A48: 0 | C48: D-103 ( 1,05x2,1 m) | D48: gb. | E48: 12
A49: 0 | C49: D-201 ( 1,05x2,1 m) | D49: gb. | E49: 1
A50: 0 | C50: D-202 ( 1,05x2,1 m) | D50: gb. | E50: 1
A51: 0 | C51: D-203 ( 1,05x2,1 m) | D51: gb. | E51: 1
A52: 0 | C52: D-302.1 ( 0,9x2,1 m) | D52: gb. | E52: 2
A53: 0 | C53: D-302.2 ( 0,9x2,1 m) | D53: gb. | E53: 7
A54: 0 | C54: D-303 ( 1,05x2,1 m) | D54: gb. | E54: 2
A55: 0 | C55: D-401 ( 1,05x2,1 m) | D55: gb. | E55: 7
A56: 0 | C56: D-402 ( 1,05x2,1 m) | D56: gb. | E56: 2
... A72: 0 | C72: UD-901 ( 1,05x2,1 m) | D72: gb. | E72: 2
A73: 0 | C73: Montāžas materiāli (blīvējošs materiāls, stiprinājumi u.c.) | D73: m2 | E73: =E45 -> 341.8
F74: 0 | G74: 0
C75: Tiešās izmaksas kopā t.sk. darba devēja sociālais nodoklis(23,59%)
B77: Piezīmes:
A78: ='1,1'!A24:G24 -> 0
B82: Sastādīja: | L82: =Koptame!B39 -> Pārbaudīja:
C83: =Koptame!C34 -> 0 | M83: =Koptame!C40 -> 0
C84: =Koptame!C35 -> 0 | M84: =Koptame!C41 -> 0

Sheet 1,9
G1: Lokālā tāme Nr. | H1: =kops1!B29 -> 1,9
A2: =C13 -> Iekšējie apdares darbi
C3: Būves nosaukums: | D3: =Koptame!C11 -> Pirmsskolas izglītības iestāde
C4: Objekta nosaukums: | D4: =Koptame!C12 -> Pirmsskolas izglītības iestādes jaunbūve
C5: Objekta adrese: | D5: =Koptame!C13 -> Baložu iela 33, Baloži, Ķekavas novads
C6: =Koptame!B14 -> Iepirkuma Id Nr. | D6: =Koptame!C14 -> ĶNP2023/
A7: =Koptame!B17 -> Tāme sastādīta 2024.gada tirgus cenās | O7: Tāmes izmaksas euro: | P7: =P30 -> 0
L9: =Koptame!D16 -> Tāme sastādīta:
A11: Nr.p.k. | B11: Kods | C11: Būvdarbu nosaukums | D11: Mērvienība | E11: Daudzums | F11: Vienības izmaksas | L11: Kopā uz visu apjomu
F12: Laika norma (c/h) | G12: Darba samaksas likme (euro/h) | H12: Darba alga (euro) | I12: Būvizstrādājumi (euro) | J12: Mehānismi (euro) | K12: Kopā (euro) | L12: Darbietilpība (c/h) | M12: Darba alga (euro) | N12: Būvizstrādājumi (euro) | O12: Mehānismi (euro) | P12: Summa (euro)
B13: 0 | C13: =kops1!C29 -> Iekšējie apdares darbi | F13: 0 | G13: 0 | K13: =SUM(H13:J13) -> 0 | L13: =ROUND(F13*E13,2) -> 0 | M13: =ROUND(H13*E13,2) -> 0 | N13: =ROUND(I13*E13,2) -> 0 | O13: =ROUND(J13*E13,2) -> 0 | P13: =SUM(M13:O13) -> 0
A14: 0 | C14: Griesti | G14: 0 | H14: =ROUND(F14*G14,2) -> 0 | I14: 0 | J14: 0 | K14: =SUM(H14:J14) -> 0 | L14: =ROUND(F14*E14,2) -> 0 | M14: =ROUND(H14*E14,2) -> 0 | N14: =ROUND(I14*E14,2) -> 0 | O14: =ROUND(J14*E14,2) -> 0 | P14: =SUM(M14:O14) -> 0
A15: 0 | C15: 1. stāvs | H15: =ROUND(F15*G15,2) -> 0 | K15: =SUM(H15:J15) -> 0 | L15: =ROUND(F15*E15,2) -> 0 | M15: =ROUND(H15*E15,2) -> 0 | N15: =ROUND(I15*E15,2) -> 0 | O15: =ROUND(J15*E15,2) -> 0 | P15: =SUM(M15:O15) -> 0
A16: 1 | C16: PG-1.1 Ēveļskaidas plātņu (fibrolīta) akustiskās plātnes "CEWOOD" "CW-W25S-P5-1200x600-N”, 25mm. P5G-T24 profils; Skaida: 1.0mm; Tonis: "N" Naturāla, krāsota t.sk. Palīgmateriāli, stiprinājumi, nesošais karkass | D16: m2 | E16: =1692.4+1846 -> 3538.4
A17: 2 | C17: PG-1.2 Ēveļskaidas plātņu (fibrolīta) akustiskās plātnes "CEWOOD" "CW-W25S-P5-1200x600-’ GP", 25mm. P5G-T24 profils; Skaida: 1.0mm; Tonis: "GP" Pelēka t.sk. Palīgmateriāli, stiprinājumi, nesošais karkass | D17: m2 | E17: =119.4+303 -> 422.4
A18: 3 | C18: PG-2.1 Pretputekļu pārklājums uz pārseguma paneļiem | D18: m2 | E18: =230.8+92.2 -> 323
A19: 4 | C19: PG-3.1 Ģipškartona plākšņu griesti (GKB), 12.5mm. Tonis: krāsots NCS 0603-Y90R t.sk. Metāla karkass | D19: m2 | E19: =62+56.1 -> 118.1
A20: 5 | C20: Griestu gruntēšana, špaktelēšana, slīpēšana , Vetonit vai ekvivalents špaktele, grunts | D20: m2 | E20: =62+56.1 -> 118.1
A21: 6 | C21: Sagatavotu griestu gruntēšana | D21: m2 | E21: =62+56.1 -> 118.1
A22: 7 | C22: Sagatavotu griestu krāsošana ar krāsām 2k. Griestu krāsa Tonis: krāsots NCS 0603-Y90R | D22: m2 | E22: =62+56.1 -> 118.1
A23: 0 | C23: Sienas
A24: 8 | C24: Sienu gruntēšana, špaktelēšana, slīpēšana t.sk. Ailu apmales. , Vetonit vai ekvivalents špaktele, grunts | D24: m2 | E24: =2680.6+2147.4 -> 4828
A25: 9 | C25: Sagatavotu sienu gruntēšana t.sk. Ailu apmales | D25: m2 | E25: =2680.6+2147.4 -> 4828
A26: 10 | C26: Sagatavotu sienu krāsošana ar tonētām krāsām 2k. krāsota , m, piemēram., Sakret KS-G 2 kārtās. NCS S 4005-R80 B t.sk. Ailu apmales | D26: m2 | E26: =2680.6+2147.4 -> 4828
A27: 11 | C27: Hidroizolācijas ierīkošana | D27: m2 | E27: =465.8+378.8 -> 844.6
A28: 12 | C28: Flīžu seguma ierīkošana Flīzētas sienas - skatīt interjera risinājumus ; Flīžu līme, šuvju mastika, palīgmateriāli | D28: m2 | E28: =465.8+378.8 -> 844.6
F29: 0 | G29: 0
C30: Tiešās izmaksas kopā t.sk. darba devēja sociālais nodoklis(23,59%)
B32: Piezīmes:
A33: ='1,1'!A24:G24 -> 0
B37: Sastādīja: | L37: =Koptame!B39 -> Pārbaudīja:
C38: =Koptame!C34 -> 0 | M38: =Koptame!C40 -> 0
C39: =Koptame!C35 -> 0 | M39: =Koptame!C41 -> 0

Sheet 1,10
G1: Lokālā tāme Nr. | H1: =kops1!B30 -> 1,10
A2: =C13 -> Ārējās apdares darbi
C3: Būves nosaukums: | D3: =Koptame!C11 -> Pirmsskolas izglītības iestāde
C4: Objekta nosaukums: | D4: =Koptame!C12 -> Pirmsskolas izglītības iestādes jaunbūve
C5: Objekta adrese: | D5: =Koptame!C13 -> Baložu iela 33, Baloži, Ķekavas novads
C6: =Koptame!B14 -> Iepirkuma Id Nr. | D6: =Koptame!C14 -> ĶNP2023/
A7: =Koptame!B17 -> Tāme sastādīta 2024.gada tirgus cenās | O7: Tāmes izmaksas euro: | P7: =P42 -> 0
L9: =Koptame!D16 -> Tāme sastādīta:
A11: Nr.p.k. | B11: Kods | C11: Būvdarbu nosaukums | D11: Mērvienība | E11: Daudzums | F11: Vienības izmaksas | L11: Kopā uz visu apjomu
F12: Laika norma (c/h) | G12: Darba samaksas likme (euro/h) | H12: Darba alga (euro) | I12: Būvizstrādājumi (euro) | J12: Mehānismi (euro) | K12: Kopā (euro) | L12: Darbietilpība (c/h) | M12: Darba alga (euro) | N12: Būvizstrādājumi (euro) | O12: Mehānismi (euro) | P12: Summa (euro)
B13: 0 | C13: =kops1!C30 -> Ārējās apdares darbi | F13: 0 | G13: 0 | K13: =SUM(H13:J13) -> 0 | L13: =ROUND(F13*E13,2) -> 0 | M13: =ROUND(H13*E13,2) -> 0 | N13: =ROUND(I13*E13,2) -> 0 | O13: =ROUND(J13*E13,2) -> 0 | P13: =SUM(M13:O13) -> 0
A14: 0 | C14: Fasādes sagatavošanas darbi | F14: 0 | G14: 0 | H14: =ROUND(F14*G14,2) -> 0 | I14: 0 | J14: 0 | K14: =SUM(H14:J14) -> 0 | L14: =ROUND(F14*E14,2) -> 0 | M14: =ROUND(H14*E14,2) -> 0 | N14: =ROUND(I14*E14,2) -> 0 | O14: =ROUND(J14*E14,2) -> 0 | P14: =SUM(M14:O14) -> 0
A15: 1 | C15: Logu, durvju aizlīmēšana ar plēvi | D15: m2 | E15: 650
A16: 2 | C16: Sastatņu uzstādīšana ,nojaukšana ieskaitot nomu(iekļaujot sastatņu aizsargsietu) | D16: m2 | E16: 2000
A17: 0 | C17: AS 1.0
A18: 3 | C18: Ekstrudēta putupolistirola uzstādīšana XPS 120 mm t.sk. Palīgmateriāli, stiprinājumi, līmjava Baumit Pro Contact) | D18: m2 | E18: 224.6
A19: 4 | C19: Armējošā sieta iestrāde fasādei-cokolam. Līmēšanas un armēšanas java Baumit Pro Contact), Stiklašķiedras siets fasādei. | D19: m2 | E19: 224.6
A20: 5 | C20: Sienas gruntēšana. ( zem dekoratīvā apmetuma) | D20: m2 | E20: 224.6
A21: 6 | C21: Apmetuma slāņa ieklāšana sienai tonēts | D21: m2 | E21: 224.6
A22: 0 | C22: AS 1.3
A23: 7 | C23: Apmetuma slāņa ieklāšana Silikona-elastomēriskais apmetums - Ārējais | D23: m2 | E23: 534.3
A24: 8 | C24: Vates iestrāde karkasā siltuma izolācijai. Siltuma izolācijas plāksnes 200 mm Paroc Ultra plus | D24: m2 | E24: 534.3
A25: 9 | C25: Vates iestrāde karkasā siltuma izolācijai. Siltuma izolācijas plāksnes 30 mm Paroc WAS 35t | D25: m2 | E25: 534.3
A26: 10 | C26: Apakškonstrukcijas montāža | D26: m2 | E26: 534.3
A27: 11 | C27: Termokoksnes dēļu seguma 25 mm ieklāšana | D27: m2 | E27: 534.3
A28: 0 | C28: AS 1.4
A29: 12 | C29: Apmetuma slāņa ieklāšana Silikona-elastomēriskais apmetums - Ārējais | D29: m2 | E29: 243.1
A30: 13 | C30: Vates iestrāde karkasā siltuma izolācijai. Siltuma izolācijas plāksnes 200 mm Paroc Ultra plus | D30: m2 | E30: 243.1
A31: 14 | C31: Vates iestrāde karkasā siltuma izolācijai. Siltuma izolācijas plāksnes 30 mm Paroc WAS 35t | D31: m2 | E31: 243.1
A32: 15 | C32: Apakškonstrukcijas montāža | D32: m2 | E32: 243.1
A33: 16 | C33: Sienas seguma ieklāšana.Profilēts metāla skārds ,palīgmateriāli, papildelementi. Tērauda skārda profilēts jumta segums Ruukkihyygge, tonis RR2H3 Antracīts | D33: m2 | E33: 243.1
A34: 17 | C34: Sienas seguma apakšklāja ierīkošana | D34: m2 | E34: 243.1
A35: 0 | C35: AS 1.6
A36: 18 | C36: Siltumizolācijas uzstādīšana PAROC LINIO 15 (150 mm) t.sk. Palīgmateriāli, stiprinājumi, līmjava Baumit Pro Contact) | D36: m2 | E36: 14.8
A37: 19 | C37: Apmetuma slāņa ieklāšana Silikona-elastomēriskais apmetums - Ārējais tonēšana | D37: m2 | E37: 14.8
A38: 0 | C38: AS 1.7
A39: 20 | C39: Siltumizolācijas uzstādīšana PAROC LINIO 15 (200 mm) t.sk. Palīgmateriāli, stiprinājumi, līmjava Baumit Pro Contact) | D39: m2 | E39: 313.3
A40: 21 | C40: Apmetuma slāņa ieklāšana Silikona-elastomēriskais apmetums - Ārējais tonēšana | D40: m2 | E40: 313.3
F41: 0 | G41: 0
C42: Tiešās izmaksas kopā t.sk. darba devēja sociālais nodoklis(23,59%)
B44: Piezīmes:
A45: ='1,1'!A24:G24 -> 0
B49: Sastādīja: | L49: =Koptame!B39 -> Pārbaudīja:
C50: =Koptame!C34 -> 0 | M50: =Koptame!C40 -> 0
C51: =Koptame!C35 -> 0 | M51: =Koptame!C41 -> 0

Sheet 1,11
G1: Lokālā tāme Nr. | H1: =kops1!B31 -> 1,11
A2: =C13 -> Dažādi darbi
C3: Būves nosaukums: | D3: =Koptame!C11 -> Pirmsskolas izglītības iestāde
C4: Objekta nosaukums: | D4: =Koptame!C12 -> Pirmsskolas izglītības iestādes jaunbūve
C5: Objekta adrese: | D5: =Koptame!C13 -> Baložu iela 33, Baloži, Ķekavas novads
C6: =Koptame!B14 -> Iepirkuma Id Nr. | D6: =Koptame!C14 -> ĶNP2023/
A7: =Koptame!B17 -> Tāme sastādīta 2024.gada tirgus cenās | O7: Tāmes izmaksas euro: | P7: =P31 -> 0
L9: =Koptame!D16 -> Tāme sastādīta:
A11: Nr.p.k. | B11: Kods | C11: Būvdarbu nosaukums | D11: Mērvienība | E11: Daudzums | F11: Vienības izmaksas | L11: Kopā uz visu apjomu
F12: Laika norma (c/h) | G12: Darba samaksas likme (euro/h) | H12: Darba alga (euro) | I12: Būvizstrādājumi (euro) | J12: Mehānismi (euro) | K12: Kopā (euro) | L12: Darbietilpība (c/h) | M12: Darba alga (euro) | N12: Būvizstrādājumi (euro) | O12: Mehānismi (euro) | P12: Summa (euro)
B13: 0 | C13: =kops1!C31 -> Dažādi darbi | F13: 0 | G13: 0 | K13: =SUM(H13:J13) -> 0 | L13: =ROUND(F13*E13,2) -> 0 | M13: =ROUND(H13*E13,2) -> 0 | N13: =ROUND(I13*E13,2) -> 0 | O13: =ROUND(J13*E13,2) -> 0 | P13: =SUM(M13:O13) -> 0
A14: 0 | C14: Margas AR-6.20 | H14: =ROUND(F14*G14,2) -> 0 | K14: =SUM(H14:J14) -> 0 | L14: =ROUND(F14*E14,2) -> 0 | M14: =ROUND(H14*E14,2) -> 0 | N14: =ROUND(I14*E14,2) -> 0 | O14: =ROUND(J14*E14,2) -> 0 | P14: =SUM(M14:O14) -> 0
A15: 1 | C15: Margu montāža M1 saskaņā ar AR-6.20 t.sk. Palīgmateriāli | D15: m | E15: =4.7+40.52 -> 45.22
A16: 2 | C16: Margu montāža M2 saskaņā ar AR-6.20 t.sk. Palīgmateriāli | D16: m | E16: 50.04
A17: 3 | C17: Margu montāža M3 saskaņā ar AR-6.20 t.sk. Palīgmateriāli | D17: m | E17: 12.36
A18: 4 | C18: Margu montāža M4 saskaņā ar AR-6.20 t.sk. Palīgmateriāli | D18: m | E18: 9.36
A19: 5 | C19: Margu montāža M5 saskaņā ar AR-6.20 t.sk. Palīgmateriāli | D19: m | E19: 7.15
A20: 6 | C20: Margu montāža M6 saskaņā ar AR-6.20 t.sk. Palīgmateriāli | D20: m | E20: 8.32
A21: 7 | C21: Margu montāža M7 saskaņā ar AR-6.20 t.sk. Palīgmateriāli | D21: m | E21: 14.18
A22: 0 | C22: Akustisie aizkari AR-6.14
A23: 8 | C23: Akustiskie aizkari "FR-One Prodigy - Supra"; Type G-150; 3000x6400mm; stiprināms pie griestiem; auduma tonis: S7020- B90G | D23: gb | E23: 2
A24: 9 | C24: Akustiskie aizkari "FR-One Prodigy - Supra"; Type G-150; 2800x6400mm; stiprināms pie griestiem; auduma tonis: S7020- B90G | D24: gb | E24: 2
A25: 0 | C25: AR-6.24
A26: 10 | C26: 2SK skapja sistēmas izgatavošana un uzstādīšana | D26: kpl | E26: 1
A27: 0 | C27: Mezglu rasējumi
A28: 11 | C28: KERDYN GREEN tipa siltumizolācija, stiprinājuma veidu precizēt pēc konkrētā ražotāja rekomendācijām mezgls AR-7.1 | D28: m2 | E28: 124
A29: 12 | C29: Šķiedrcementa plāksnes mezgls AR-7.5 (A2,s1-d0) 2x8 mm | D29: m2 | E29: 416
F30: 0 | G30: 0
C31: Tiešās izmaksas kopā t.sk. darba devēja sociālais nodoklis(23,59%)
B33: Piezīmes:
A34: ='1,1'!A24:G24 -> 0
B38: Sastādīja: | L38: =Koptame!B39 -> Pārbaudīja:
C39: =Koptame!C34 -> 0 | M39: =Koptame!C40 -> 0
C40: =Koptame!C35 -> 0 | M40: =Koptame!C41 -> 0

Sheet kops2
A2: Kopsavilkuma aprēķins Nr. 2
A6: =Koptame!C22 -> Specializētie darbi-iekšējie tīkli, sistēmas
A8: Būves nosaukums: | C8: =Koptame!C11 -> Pirmsskolas izglītības iestāde
A9: Objekta nosaukums: | C9: =Koptame!C12 -> Pirmsskolas izglītības iestādes jaunbūve
A10: Objekta adrese: | C10: =Koptame!C13 -> Baložu iela 33, Baloži, Ķekavas novads
A11: =Koptame!B14 -> Iepirkuma Id Nr. | C11: =Koptame!C14 -> ĶNP2023/
F13: Par kopējo summu, euro | H13: =E42 -> 0
F14: Kopējā darbietilpība, c/h | H14: =I38 -> 0
H16: =Koptame!D16 -> Tāme sastādīta:
A18: Nr.p.k. | B18: Kods, tāmes Nr. | C18: Būvdarbu veids vai konstruktīvā elementa nosaukums | E18: Tāmes izmaksas (euro) | F18: Tai skaitā | I18: Darbietilpība (c/h)
F19: darba alga (euro) | G19: materiāli (euro) | H19: mehānismi (euro)
A21: 1 | B21: 2,1 | C21: Iekšējais ūdensvads
A22: 2 | B22: 2,2 | C22: Iekšējā kanalizācija
A23: 3 | B23: 2,3 | C23: Apkure
A24: 4 | B24: 2,4 | C24: Ventilācija
A25: 5 | B25: 2,5 | C25: Gaisa kondicionēšana
A26: 6 | B26: 2,6 | C26: Siltummezgls
A27: 7 | B27: 2,7 | C27: Elektroinstalācija
A28: 8 | B28: 2,8 | C28: Ugunsgrēka signalizācijas sistēma
A29: 9 | B29: 2,9 | C29: Piekļuves kontroles sistēma un apsardzes signalizācijas sistēma
A30: 10 | B30: 2,10 | C30: Elektronisko sakaru sistēma
A31: 11 | B31: 2,11 | C31: Videonovērošanas sistēma
A32: 12 | B32: 2,12 | C32: Apsardzes signalizācijas sistēma
... A37: 18 | B37: 2,18 | C37: Lifts
C38: Kopā
A39: Virsizdevumi | D39: =kops1!$D$34 -> %
C40: tai skaitā darba aizsardzība
A41: Peļņa | D41: =kops1!$D$36 -> %
C42: Kopā bez PVN
B45: Sastādīja:
C46: =Koptame!C34 -> 0
C47: =Koptame!C35 -> 0
B51: =Koptame!B39 -> Pārbaudīja:
C52: =Koptame!C40 -> 0
C53: =Koptame!C41 -> 0

Sheet 2,1
H1: Lokālā tāme Nr. | I1: =kops2!B21 -> 2,1
A2: =C13 -> Iekšējais ūdensvads
C3: Būves nosaukums: | E3: =Koptame!C11 -> Pirmsskolas izglītības iestāde
C4: Objekta nosaukums: | E4: =Koptame!C12 -> Pirmsskolas izglītības iestādes jaunbūve
C5: Objekta adrese: | E5: =Koptame!C13 -> Baložu iela 33, Baloži, Ķekavas novads
C6: =Koptame!B14 -> Iepirkuma Id Nr. | E6: =Koptame!C14 -> ĶNP2023/
A7: =Koptame!B17 -> Tāme sastādīta 2024.gada tirgus cenās | P7: Tāmes izmaksas euro: | Q7: =Q143 -> 0
M9: =Koptame!D16 -> Tāme sastādīta:
A11: Nr.p.k. | B11: Kods | C11: Būvdarbu nosaukums | E11: Mērvienība | F11: Daudzums | G11: Vienības izmaksas | M11: Kopā uz visu apjomu
G12: Laika norma (c/h) | H12: Darba samaksas likme (euro/h) | I12: Darba alga (euro) | J12: Būvizstrādājumi (euro) | K12: Mehānismi (euro) | L12: Kopā (euro) | M12: Darbietilpība (c/h) | N12: Darba alga (euro) | O12: Būvizstrādājumi (euro) | P12: Mehānismi (euro) | Q12: Summa (euro)
C13: =kops2!C21 -> Iekšējais ūdensvads | L13: =SUM(I13:K13) -> 0 | M13: =ROUND(G13*F13,2) -> 0 | N13: =ROUND(I13*F13,2) -> 0 | O13: =ROUND(J13*F13,2) -> 0 | P13: =ROUND(K13*F13,2) -> 0 | Q13: =SUM(N13:P13) -> 0
C14: Montāžas un palaišanas darbi
A15: 1 | C15: Tērauda caurule DN50 | D15: 50 | E15: m | F15: 102
A16: 2 | C16: Tērauda caurule DN100 | D16: 100 | E16: m | F16: 3
A17: 3 | C17: Daudzslāņu caurule OD16x2.0 | D17: 16 | E17: m | F17: 410
A18: 4 | C18: Daudzslāņu caurule OD20x2.25 | D18: 20 | E18: m | F18: 532
A19: 5 | C19: Daudzslāņu caurule OD25x2.5 | D19: 25 | E19: m | F19: 66
A20: 6 | C20: Daudzslāņu caurule OD32x3.0 | D20: 32 | E20: m | F20: 56
A21: 7 | C21: Daudzslāņu caurule OD40x4.0 | D21: 40 | E21: m | F21: 58
A22: 8 | C22: Daudzslāņu caurule OD50x4.5 | D22: 50 | E22: m | F22: 60
A23: 9 | C23: Daudzslāņu caurule OD63x6.0 | D23: 63 | E23: m | F23: 69
A24: 10 | C24: Elektromagnētiskais ventīlis DN50 | D24: 50 | E24: gb | F24: 2
A25: 11 | C25: Manometrs ar spiediena krituma sensoru | E25: gb | F25: 1
A26: 12 | C26: Sūkņu vadība skais trīs elektromagnētisko vārstu vadībai pēc spiediena krituma sensora | E26: gb | F26: 1
A27: 13 | C27: Aukstā ūdens skaitītājs DN15 Qn=1.5 m3/h ar attālinātās nolasīšans iespēju | D27: 15 | E27: gb | F27: 1
A28: 14 | C28: Karstā ūdens skaitītājs DN15 Qn=1.5 m3/h ar attālinātās nolasīšans iespēju | D28: 15 | E28: gb | F28: 1
A29: 15 | C29: Ugunsdzēsības krānu kaste, iebūvējama, aprīkota ar ugunsdzēsības krānu DN50, šļūteni 20 m, regulējamu stobru 3 pizīcijas | D29: 50 | E29: gb | F29: 9
A30: 16 | C30: Santehnikas pieslēguma ventīlis DN15 | D30: 15 | E30: gb | F30: 232
A31: 17 | C31: Lodveida ventīlis DN20 | D31: DN20 | E31: gb | F31: 6
A32: 18 | C32: Porgumijas izolācija 9 mm caurulei OD16 | D32: 16 | E32: m | F32: 410
A33: 19 | C33: Porgumijas izolācija 9 mm caurulei OD20 | D33: 20 | E33: m | F33: 532
A34: 20 | C34: Porgumijas izolācija 9 mm caurulei OD25 | D34: 25 | E34: m | F34: 66
A35: 21 | C35: Porgumijas izolācija 9 mm caurulei OD32 | D35: 32 | E35: m | F35: 56
A36: 22 | C36: Porgumijas izolācija 9 mm caurulei OD40 | D36: 40 | E36: m | F36: 58
A37: 23 | C37: Porgumijas izolācija 9 mm caurulei OD50 | D37: 50 | E37: m | F37: 60
A38: 24 | C38: Porgumijas izolācija 9 mm caurulei OD63 | D38: 63 | E38: m | F38: 69
A39: 25 | C39: Atvērumu aizdares komplekts ar ugunsdrošiem materiāliem | E39: kpl | F39: 1
A40: 26 | C40: Presējamo kompozītmateriālu veidgabalu komplekts | E40: kpl | F40: 1
A41: 27 | C41: Tērauda cauruļvadu veidgabalu komplekts | E41: kpl | F41: 1
A42: 28 | C42: Cauruļvadu stiprinājuma komplekts | E42: kpl | F42: 1
A43: 29 | C43: Montāžas palīgmateriālu komplekts | E43: kpl | F43: 1
A44: 30
A45: 31 | C45: Bērnu pārtinamais galds "Babymedi", vertikāls, antibakteriāls; | E45: gb | F45: 6
A46: 32 | C46: atbilst EN 12221-1 un EN 12221-2
A47: 33
A48: 34 | C48: Dušas kabīnes komplekts ar dušas paliktni ar pretslīdes virsmu; | E48: gb | F48: 1
A49: 35 | C49: "CEPRI" stikls. Komplektā: "Aqualine Aquasteel" dušas
A50: 36 | C50: jaucējkrāns ar dušas klausuli, stiprinājumu, nerūsējošais
A51: 37 | C51: tērauds.
A52: 38
A53: 39 | C53: Iebūvēts dušas kabīnes komplekts ar dušas paliktni ar | E53: kpl | F53: 1
A54: 40 | C54: pretslīdes virsmu; "CEPRI" stikls. Komplektā: "Aqualine
A55: 41 | C55: Aquasteel" dušas jaucējkrāns ar dušas klausuli, stiprinājumu,
A56: 42 | C56: nerūsējošais tērauds.
A57: 43
A58: 44 | C58: "Aqualine" dušas stūra paliknis, akrila ar pretlīdes virsmu, | E58: kpl | F58: 12
A59: 45 | C59: pusaplis; tonis: balts. Komplektā: "Aqualine Aquasteel" dušas
A60: 46 | C60: jaucējkrāns ar dušas klausuli, stiprinājumu, nerūsējošais
A61: 47 | C61: tērauds.
A62: 48
A63: 49 | C63: "Aqualine Aquasteel" dušas jaucējkrāns ar dušas klausuli, | E63: kpl | F63: 12
A64: 50 | C64: stiprinājumu, nerūsējošais tērauds
A65: 51
A66: 52 | C66: "Isvea Purita Sharp" roku mazgātne, stiprināma pie sienas, | E66: kpl | F66: 5
A67: 53 | C67: balta. Komplektā: Jaucēkrāns CERAFFINE O, ar POP-UP
A68: 54 | C68: izplūdi, patēriņš 5l/min, hroms. Sifons DESIGN 11/4x32mm,
A69: 55 | C69: hroms
A70: 56
A71: 57 | C71: "Isvea Purita Sharp" roku mazgātne, stiprināma pie sienas, | E71: kpl | F71: 3
A72: 58 | C72: balta. Komplektā: Jaucēkrāns CERAFFINE O, ar POP-UP
A73: 59 | C73: izplūdi, patēriņš 5l/min, hroms. Sifons DESIGN 11/4x32mm,
A74: 60 | C74: hroms
A75: 61
A76: 62 | C76: "Isvea Purita Sharp" roku mazgātne, stiprināma pie sienas, | E76: kpl | F76: 14
A77: 63 | C77: balta. Komplektā: Jaucēkrāns CERAFFINE O, ar POP-UP
A78: 64 | C78: izplūdi, patēriņš 5l/min, hroms. Sifons DESIGN 11/4x32mm,
A79: 65 | C79: hroms
A80: 66
A81: 67 | C81: "Vitra S20 Inva" roku mazgātne cilvēkiem ar īpašām | E81: kpl | F81: 3
A82: 68 | C82: vajadzībām, Vitra Hygiene antibakteriāls pārklājums, balta.
A83: 69 | C83: Komplektā: Jaucēkrāns CERAFFINE O, ar POP-UP izplūdi,
A84: 70 | C84: patēriņš 5l/min, hroms. Sifons DESIGN 11/4x32mm, hroms
A85: 71
A86: 72 | C86: "PAA” "Quadro MTM" izlietne četrām vietām, Silkstone | E86: kpl | F86: 12
A87: 73 | C87: materiāla, balta, lefrēzētas 4 vietas maisītājiem. Komplektā:
A88: 74 | C88: 4gab. jaucēkrāns CERAFFINE O, ar POP-UP izplūdi, patēriņš
A89: 75 | C89: 5l/min, hroms. Sifons DESIGN 11/4x32mm, hroms
A90: 76
A91: 77 | C91: "PAA” "Quadro MTM" izlietne četrām vietām, Silkstone | E91: kpl | F91: 2
A92: 78 | C92: materiāla, balta, lefrēzētas 3 vietas maisītājiem. Komplektā:
A93: 79 | C93: 3gab. jaucēkrāns CERAFFINE O, ar POP-UP izplūdi, patēriņš
A94: 80 | C94: 5l/min, hroms. Sifons DESIGN 11/4x32mm, hroms
A95: 81
A96: 82 | C96: "ABU Sanitar" triecienizturīga, polipropilēna saimniecības | E96: kpl | F96: 2
A97: 83 | C97: izlietne ar stiprinājumiem un izplūdi. Abu Sanitar saimniecības
A98: 84 | C98: izlietnes restes. Virtuves maisītājs Shark 14, keramiskais
A99: 85 | C99: kartridžs 40 mm, "G"veida snīpis 200mm, ekscentri un
A100: 86 | C100: dekoratīvās uzlikās.
A101: 87
A102: 88 | C102: "Vitra S20" wc pods, citema 2.5/4L, nosegts, universāls izvads, | E102: kpl | F102: 3
...

Sheet 2,2
H1: Lokālā tāme Nr. | I1: =kops2!B22 -> 2,2
A2: =C13 -> Iekšējā kanalizācija
C3: Būves nosaukums: | E3: =Koptame!C11 -> Pirmsskolas izglītības iestāde
C4: Objekta nosaukums: | E4: =Koptame!C12 -> Pirmsskolas izglītības iestādes jaunbūve
C5: Objekta adrese: | E5: =Koptame!C13 -> Baložu iela 33, Baloži, Ķekavas novads
C6: =Koptame!B14 -> Iepirkuma Id Nr. | E6: =Koptame!C14 -> ĶNP2023/
A7: =Koptame!B17 -> Tāme sastādīta 2024.gada tirgus cenās | P7: Tāmes izmaksas euro: | Q7: =Q38 -> 0
M9: =Koptame!D16 -> Tāme sastādīta:
A11: Nr.p.k. | B11: Kods | C11: Būvdarbu nosaukums | E11: Mērvienība | F11: Daudzums | G11: Vienības izmaksas | M11: Kopā uz visu apjomu
G12: Laika norma (c/h) | H12: Darba samaksas likme (euro/h) | I12: Darba alga (euro) | J12: Būvizstrādājumi (euro) | K12: Mehānismi (euro) | L12: Kopā (euro) | M12: Darbietilpība (c/h) | N12: Darba alga (euro) | O12: Būvizstrādājumi (euro) | P12: Mehānismi (euro) | Q12: Summa (euro)
B13: 0 | C13: =kops2!C22 -> Iekšējā kanalizācija | G13: 0 | H13: 0 | I13: 0 | J13: 0 | K13: 0 | L13: =SUM(I13:K13) -> 0 | M13: =ROUND(G13*F13,2) -> 0 | N13: =ROUND(I13*F13,2) -> 0 | O13: =ROUND(J13*F13,2) -> 0 | P13: =ROUND(K13*F13,2) -> 0 | Q13: =SUM(N13:P13) -> 0
C14: Montāžas un palaišanas darbi
A15: 1 | C15: PVC pašteces kanalizācijas caurule | D15: 32 | E15: m | F15: 257
A16: 2 | C16: PVC pašteces kanalizācijas caurule | D16: 50 | E16: m | F16: 167
A17: 3 | C17: PVC pašteces kanalizācijas caurule | D17: 110 | E17: m | F17: 451
A18: 4 | C18: Klozetpoda pievienojums | D18: 110 | E18: gb | F18: 48
A19: 5 | C19: Sausā tipa traps ar vertikālu izvadu | D19: 50 | E19: gb | F19: 7
A20: 6 | C20: Sausā tipa traps ar vertikālu izvadu | D20: 100 | E20: gb | F20: 14
A21: 7 | C21: Nerūsējošā tērauda higiēniska izpildījuma traps 500x500x100 ACO | D21: 500x500 | E21: gb | F21: 3
A22: 8 | C22: Nerūsējošā tērauda higiēniska izpildījuma traps 500x800x150 ACO | D22: 500x800 | E22: gb | F22: 1
A23: 9 | C23: Nerūsējošā tērauda higiēniska izpildījuma traps 400x400x100 V110 ACO | D23: 400x400 | E23: gb | F23: 1
A24: 10 | C24: ACO EG170 170x170 V75 VINYL 1.4404 MESH GRATING L15 | D24: 170x170 | E24: gb | F24: 3
A25: 11 | C25: Tīrīšnas lūka ACO Finora G | D25: 100 | E25: gb | F25: 3
A26: 12 | C26: Revīzija ar vāku | D26: 100 | E26: gb | F26: 8
... A32: 18 | C32: Sifons Wavin HEPVO 32 mm | D32: 32 | E32: gb | F32: 21
A33: 19 | C33: Atvērumu aizdares komplekts ar ugunsdrošiem materiāliem | E33: kpl | F33: 1
A34: 20 | C34: Cauruļvadu veidgabalu komplekts | E34: kpl | F34: 1
A35: 21 | C35: Cauruļvadu stiprinājuma komplekts | E35: kpl | F35: 1
A36: 22 | C36: Montāžas palīgmateriālu komplekts | E36: kpl | F36: 1
G37: 0 | H37: 0
C38: Tiešās izmaksas kopā, t.sk. darba devēja sociālais nodoklis(23,59%)
B40: Piezīmes:
A41: ='1,1'!A24:G24 -> 0
B45: Sastādīja: | M45: =Koptame!B39 -> Pārbaudīja:
C46: =Koptame!C34 -> 0 | N46: =Koptame!C40 -> 0
C47: =Koptame!C35 -> 0 | N47: =Koptame!C41 -> 0

Sheet 2,3
H1: Lokālā tāme Nr. | I1: =kops2!$B$23 -> 2,3
A2: =C13 -> Apkure
C3: Būves nosaukums: | E3: =Koptame!C11 -> Pirmsskolas izglītības iestāde
C4: Objekta nosaukums: | E4: =Koptame!C12 -> Pirmsskolas izglītības iestādes jaunbūve
C5: Objekta adrese: | E5: =Koptame!C13 -> Baložu iela 33, Baloži, Ķekavas novads
C6: =Koptame!B14 -> Iepirkuma Id Nr. | E6: =Koptame!C14 -> ĶNP2023/
A7: =Koptame!B17 -> Tāme sastādīta 2024.gada tirgus cenās | P7: Tāmes izmaksas euro: | Q7: =Q72 -> 0
M9: =Koptame!D16 -> Tāme sastādīta:
A11: Nr.p.k. | B11: Kods | C11: Būvdarbu nosaukums | E11: Mērvienība | F11: Daudzums | G11: Vienības izmaksas | M11: Kopā uz visu apjomu
G12: Laika norma (c/h) | H12: Darba samaksas likme (euro/h) | I12: Darba alga (euro) | J12: Būvizstrādājumi (euro) | K12: Mehānismi (euro) | L12: Kopā (euro) | M12: Darbietilpība (c/h) | N12: Darba alga (euro) | O12: Būvizstrādājumi (euro) | P12: Mehānismi (euro) | Q12: Summa (euro)
B13: 0 | C13: =kops2!C23 -> Apkure | G13: 0 | H13: 0 | I13: 0 | J13: 0 | K13: 0 | L13: =SUM(I13:K13) -> 0 | M13: =ROUND(G13*F13,2) -> 0 | N13: =ROUND(I13*F13,2) -> 0 | O13: =ROUND(J13*F13,2) -> 0 | P13: =ROUND(K13*F13,2) -> 0 | Q13: =SUM(N13:P13) -> 0
C14: Montāžas un palaišanas darbi
A15: 1 | C15: Daudzslāņu caurule MLC OD25x2.5 | D15: 25 | E15: m | F15: 57
A16: 2 | C16: Daudzslāņu caurule MLC OD32x3.0 | D16: 32 | E16: m | F16: 262
A17: 3 | C17: Daudzslāņu caurule MLC OD40x4.0 | D17: 40 | E17: m | F17: 39
A18: 4 | C18: Daudzslāņu caurule MLC OD50x4.5 | D18: 50 | E18: m | F18: 28
A19: 5 | C19: Daudzslāņu caurule MLC OD63x6.0 | D19: 63 | E19: m | F19: 204
A20: 6 | C20: Tērauda/oglekļa caurule DN100 | D20: 100 | E20: m | F20: 10
A21: 7 | C21: Silto grīdu caurule UNIPIPE OD16 | D21: 16 | E21: m | F21: 21290
A22: 8 | C22: Presējamo cauruļvadu veidgabalu kompkekts | E22: gb | F22: 1
A23: 9 | C23: Presējamo tērauda cauruļvadu veidgabalu kompkekts | E23: gb | F23: 1
A24: 10 | C24: 3. loku sadales kolektors ar jaudu 187 kW | E24: gb | F24: 1
A25: 11 | C25: Nerūsējošā tērauda sadalītājs 1'' ar plūsmas mērītājiem, 6 cilpu | E25: gb | F25: 1
A26: 12 | C26: Nerūsējošā tērauda sadalītājs 1'' ar plūsmas mērītājiem, 7 cilpu | E26: gb | F26: 2
A27: 13 | C27: Nerūsējošā tērauda sadalītājs 1'' ar plūsmas mērītājiem, 8 cilpu | E27: gb | F27: 2
A28: 14 | C28: Nerūsējošā tērauda sadalītājs 1'' ar plūsmas mērītājiem, 9 cilpu | E28: gb | F28: 1
A29: 15 | C29: Nerūsējošā tērauda sadalītājs 1'' ar plūsmas mērītājiem, 10 cilpu | E29: gb | F29: 6
A30: 16 | C30: Nerūsējošā tērauda sadalītājs 1'' ar plūsmas mērītājiem, 11 cilpu | E30: gb | F30: 9
A31: 17 | C31: Nerūsējošā tērauda sadalītājs 1'' ar plūsmas mērītājiem, 12 cilpu | E31: gb | F31: 5
A32: 18 | C32: Sadalītāja skapis Uponor Vario IW, iebūvējams ar rāmi un druvīm, augstums 700 mm, platums 730 mm, skapja iebūves dziļums 110 mm, baltā krāsā | E32: gb | F32: 26
A33: 19 | C33: Kompresijas pievienojums, 16x2.0x3/4'' eirokonuss | E33: gb | F33: 264
A34: 20 | C34: Savienojuma modulis, specifikāciju skatīt VAS projekta sadaļā | E34: gb | F34: 1
A35: 21 | C35: Lodveida krāns 1'' ā.v.x1''i.v. | D35: 25 | E35: gb | F35: 52
A36: 22 | C36: Lodveida krāns DN50 | D36: 50 | E36: gb | F36: 6
A37: 23 | C37: Atgaisošanas un regulācijas vārsts | D37: 15 | E37: gb | F37: 52
A38: 24 | C38: Līkuma veidnis 16 mm | E38: gb | F38: 264
A39: 25 | C39: Izpildmehānisms 24VDC, 30x1.5 i.v. Nerūsējošā tērauda sadalītājiem | E39: gb | F39: 132
A40: 26 | C40: Termo šuves profils, pašlīmējošs garums 2m, augstums 100mm, biezums 10mm | E40: gb | F40: 134
A41: 27 | C41: Telpas termostati, specifikāciju skatīt VAS sadaļā | E41: gb | F41: 1
A42: 28 | C42: Apmales lenta 150x8 mm; 50 m rullī | E42: gb | F42: 44
A43: 29 | C43: Taker skavas caurules stiprināšanai | E43: gb | F43: 63870
A44: 30 | C44: Aizsargčaulu 20 mm komplekts | E44: gb | F44: 1
A45: 31 | C45: Porgumijas izolācija 19 mm | D45: 25 | E45: m | F45: 57
A46: 32 | C46: Porgumijas izolācija 19 mm | D46: 32 | E46: m | F46: 262
A47: 33 | C47: Porgumijas izolācija 19 mm | D47: 40 | E47: m | F47: 39
A48: 34 | C48: Porgumijas izolācija 19 mm | D48: 50 | E48: m | F48: 28
A49: 35 | C49: Porgumijas izolācija 19 mm | D49: 63 | E49: m | F49: 204
A50: 36 | C50: Porgumijas izolācija 19 mm | D50: 100 | E50: m | F50: 10
A51: 37 | C51: Cauruļvadu stiprinājuma komplekts | E51: kpl | F51: 1
A52: 38 | C52: Caurumu izdare ar atbilstošiem ugunsdrošiem materiāliem | E52: kpl | F52: 1
A53: 39 | C53: Elektroapsaistes materiālu komplekts | E53: kpl | F53: 1
A54: 40 | C54: Montāžas palīgmateriālu komplekts | E54: kpl | F54: 1
A55: 41 | C55: Ventilācijas gaisa piesildes sistēma
A56: 42 | C56: Hidrauliskais komplekts PN1 līdz PN-3 sistēmai: L RE-TPO3.LM24A-SR (sajaukšanas ventīlis IVAR.MIX3, Kv12, 1;;), servopiedziņa LM24A-SR, lodveida vārsts 5/4’’ iekšējais, sūknis Wilo Yonos Para RS20/6-RKC) | E56: gb | F56: 5
A57: 43 | C57: Cirkulācijas sūknis q=0.54 l/s H=11 m, ldoveida ventīlis DN25 - 7 gab., izplešānās trauks 25 litri, lodveida krāns DN15 ar kapi, drošības vārsts 3bar, DN15, tērauda caurue DN25, siltumizolācija | E57: gb | F57: 1
A58: 44 | C58: Daudzslāņu caurule MLC OD32x3.0 | D58: 32 | E58: m | F58: 45
A59: 45 | C59: Daudzslāņu caurule MLC OD40x4.0 | D59: 40 | E59: m | F59: 17
A60: 46 | C60: Daudzslāņu caurule MLC OD50x4.5 | D60: 50 | E60: m | F60: 53
A61: 47 | C61: Daudzslāņu caurule MLC OD63x6.0 | D61: 63 | E61: m | F61: 106
A62: 48 | C62: Presējamo cauruļvadu veidgabalu kompkekts | E62: gb | F62: 1
A63: 49 | C63: Porgumijas izolācija 19 mm | D63: 32 | E63: m | F63: 45
A64: 50 | C64: Porgumijas izolācija 19 mm | D64: 40 | E64: m | F64: 17
A65: 51 | C65: Porgumijas izolācija 19 mm | D65: 50 | E65: m | F65: 53
A66: 52 | C66: Porgumijas izolācija 19 mm | D66: 63 | E66: m | F66: 106
A67: 53 | C67: Cauruļvadu stiprinājuma komplekts | E67: kpl | F67: 1
A68: 54 | C68: Caurumu izdare ar atbilstošiem ugunsdrošiem materiāliem | E68: kpl | F68: 1
A69: 55 | C69: Elektroapsaistes materiālu komplekts | E69: kpl | F69: 1
A70: 56 | C70: Montāžas palīgmateriālu komplekts | E70: kpl | F70: 1
C72: Tiešās izmaksas kopā, t.sk. darba devēja sociālais nodoklis(23,59%)
B74: Piezīmes:
A75: ='1,1'!A24:G24 -> 0
B79: Sastādīja: | M79: =Koptame!B39 -> Pārbaudīja:
C80: =Koptame!C34 -> 0 | N80: =Koptame!C40 -> 0
C81: =Koptame!C35 -> 0 | N81: =Koptame!C41 -> 0

Sheet 2,4
H1: Lokālā tāme Nr. | I1: =kops2!B24 -> 2,4
A2: =C13 -> Ventilācija
C3: Būves nosaukums: | E3: =Koptame!C11 -> Pirmsskolas izglītības iestāde
C4: Objekta nosaukums: | E4: =Koptame!C12 -> Pirmsskolas izglītības iestādes jaunbūve
C5: Objekta adrese: | E5: =Koptame!C13 -> Baložu iela 33, Baloži, Ķekavas novads
C6: =Koptame!B14 -> Iepirkuma Id Nr. | E6: =Koptame!C14 -> ĶNP2023/
A7: =Koptame!B17 -> Tāme sastādīta 2024.gada tirgus cenās | P7: Tāmes izmaksas euro: | Q7: =Q301 -> 0
M9: =Koptame!D16 -> Tāme sastādīta:
A11: Nr.p.k. | B11: Kods | C11: Būvdarbu nosaukums | E11: Mērvienība | F11: Daudzums | G11: Vienības izmaksas | M11: Kopā uz visu apjomu
G12: Laika norma (c/h) | H12: Darba samaksas likme (euro/h) | I12: Darba alga (euro) | J12: Būvizstrādājumi (euro) | K12: Mehānismi (euro) | L12: Kopā (euro) | M12: Darbietilpība (c/h) | N12: Darba alga (euro) | O12: Būvizstrādājumi (euro) | P12: Mehānismi (euro) | Q12: Summa (euro)
B13: 0 | C13: =kops2!C24 -> Ventilācija | G13: 0 | H13: 0 | I13: 0 | J13: 0 | K13: 0 | L13: =SUM(I13:K13) -> 0 | M13: =ROUND(G13*F13,2) -> 0 | N13: =ROUND(I13*F13,2) -> 0 | O13: =ROUND(J13*F13,2) -> 0 | P13: =ROUND(K13*F13,2) -> 0 | Q13: =SUM(N13:P13) -> 0
C14: Montāžas un palaišanas darbi
A15: 1 | C15: Gaisa vads | D15: 100 | E15: m | F15: 99
A16: 2 | C16: Gaisa vads | D16: 125 | E16: m | F16: 112
A17: 3 | C17: Gaisa vads | D17: 160 | E17: m | F17: 158
A18: 4 | C18: Gaisa vads | D18: 200 | E18: m | F18: 269
A19: 5 | C19: Gaisa vads | D19: 250 | E19: m | F19: 280
A20: 6 | C20: Gaisa vads | D20: 315 | E20: m | F20: 480
A21: 7 | C21: Gaisa vads | D21: 400 | E21: m | F21: 196
A22: 8 | C22: Gaisa vads | D22: 500 | E22: m | F22: 71
A23: 9 | C23: Gaisa vads | D23: 630 | E23: m | F23: 117
A24: 10 | C24: Gaisa vads | D24: 800x400 | E24: m | F24: 1
A25: 11 | C25: Gaisa vads | D25: 800x600 | E25: m | F25: 5
A26: 12 | C26: Gaisa vads | D26: 1000x400 | E26: m | F26: 18
A27: 13 | C27: Gaisa vads | D27: 1000x600 | E27: m | F27: 27
A28: 14 | C28: Gaisa vads | D28: 1200x400 | E28: m | F28: 36
A29: 15 | C29: Līkums-15 | D29: 315 | E29: gb | F29: 1
A30: 16 | C30: Līkums-15 | D30: 400 | E30: gb | F30: 1
A31: 17 | C31: Līkums-15 | D31: 600x800 | E31: gb | F31: 2
A32: 18 | C32: Līkums-30 | D32: 160 | E32: gb | F32: 1
A33: 19 | C33: Līkums-30 | D33: 630 | E33: gb | F33: 2
A34: 20 | C34: Līkums-45 | D34: 100 | E34: gb | F34: 1
A35: 21 | C35: Līkums-45 | D35: 125 | E35: gb | F35: 4
A36: 22 | C36: Līkums-45 | D36: 250 | E36: gb | F36: 2
A37: 23 | C37: Līkums-45 | D37: 400 | E37: gb | F37: 4
A38: 24 | C38: Līkums-45 | D38: 500 | E38: gb | F38: 4
A39: 25 | C39: Līkums-45 | D39: 630 | E39: gb | F39: 2
A40: 26 | C40: Līkums-60 | D40: 315 | E40: gb | F40: 1
A41: 27 | C41: Līkums-90 | D41: 100 | E41: gb | F41: 46
A42: 28 | C42: Līkums-90 | D42: 125 | E42: gb | F42: 37
A43: 29 | C43: Līkums-90 | D43: 160 | E43: gb | F43: 47
... A49: 35 | C49: Līkums-90 | D49: 630 | E49: gb | F49: 27
A50: 36 | C50: Līkums-90 | D50: 400x1000 | E50: gb | F50: 2
A51: 37 | C51: Līkums-90 | D51: 400x1200 | E51: gb | F51: 4
A52: 38 | C52: Līkums-90 | D52: 600x1000 | E52: gb | F52: 2
A53: 39 | C53: Līkums-90 | D53: 800x600 | E53: gb | F53: 1
A54: 40 | C54: Līkums-90 | D54: 1000x400 | E54: gb | F54: 2
A55: 41 | C55: Līkums-90 | D55: 1000x600 | E55: gb | F55: 2
A56: 42 | C56: Līkums-90 | D56: 1200x400 | E56: gb | F56: 4
A57: 43 | C57: Līkums-23 | D57: 600x800/400x800 | E57: gb | F57: 1
A58: 44 | C58: Līkums-02 | D58: 630 | E58: gb | F58: 1
A59: 45 | C59: Līkums-06 | D59: 315 | E59: gb | F59: 1
A60: 46 | C60: Līkums-09 | D60: 400 | E60: gb | F60: 1
A61: 47 | C61: Līkums-19 | D61: 400 | E61: gb | F61: 1
A62: 48 | C62: Līkums-24 | D62: 500 | E62: gb | F62: 2
A63: 49 | C63: Līkums-25 | D63: 160 | E63: gb | F63: 1
A64: 50 | C64: Līkums-33 | D64: 630 | E64: gb | F64: 1
A65: 51 | C65: Līkums-35 | D65: 630 | E65: gb | F65: 2
A66: 52 | C66: Līkums-36 | D66: 400 | E66: gb | F66: 4
A67: 53 | C67: Līkums-38 | D67: 630 | E67: gb | F67: 1
A68: 54 | C68: Līkums-39 | D68: 400 | E68: gb | F68: 2
A69: 55 | C69: Līkums-40 | D69: 250 | E69: gb | F69: 1
... A75: 61 | C75: Līkums-84 | D75: 250 | E75: gb | F75: 2
A76: 62 | C76: Līkums-90 | D76: 400x800 | E76: gb | F76: 1
A77: 63 | C77: Sānu pievienojums ar gumiju | D77: 100/100 | E77: gb | F77: 4
A78: 64 | C78: Sānu pievienojums ar gumiju | D78: 125/100 | E78: gb | F78: 7
A79: 65 | C79: Sānu pievienojums ar gumiju | D79: 125/125 | E79: gb | F79: 5
A80: 66 | C80: Sānu pievienojums ar gumiju | D80: 160/100 | E80: gb | F80: 5
A81: 67 | C81: Sānu pievienojums ar gumiju | D81: 160/125 | E81: gb | F81: 10
A82: 68 | C82: Sānu pievienojums ar gumiju | D82: 160/160 | E82: gb | F82: 8
A83: 69 | C83: Sānu pievienojums ar gumiju | D83: 200/100 | E83: gb | F83: 2
A84: 70 | C84: Sānu pievienojums ar gumiju | D84: 200/125 | E84: gb | F84: 3
A85: 71 | C85: Sānu pievienojums ar gumiju | D85: 200/160 | E85: gb | F85: 2
A86: 72 | C86: Sānu pievienojums ar gumiju | D86: 200/200 | E86: gb | F86: 20
A87: 73 | C87: Sānu pievienojums ar gumiju | D87: 250/100 | E87: gb | F87: 2
... A109: 95 | C109: Sānu pievienojums ar gumiju | D109: 1000x600/1000x600/0/630 | E109: gb | F109: 1
A110: 96 | C110: Sānu pievienojums ar gumiju | D110: 500 | E110: gb | F110: 1
A111: 97 | C111: Sānu pievienojums ar gumiju | D111: 1000x600/1000x600/0/630 | E111: gb | F111: 2
A112: 98 | C112: Sānu pievienojums ar gumiju | D112: 800x400 | E112: gb | F112: 1
A113: 99 | C113: Sānu pievienojums ar gumiju | D113: 800x600 | E113: gb | F113: 1
A114: 100 | C114: Pāreja | D114: 125/100 | E114: gb | F114: 5
A115: 101 | C115: Pāreja | D115: 160/100 | E115: gb | F115: 1
A116: 102 | C116: Pāreja | D116: 160/125 | E116: gb | F116: 5
A117: 103 | C117: Pāreja | D117: 200/125 | E117: gb | F117: 1
A118: 104 | C118: Pāreja | D118: 200/160 | E118: gb | F118: 8
A119: 105 | C119: Pāreja | D119: 250/125 | E119: gb | F119: 2
A120: 106 | C120: Pāreja | D120: 250/160 | E120: gb | F120: 5
A121: 107 | C121: Pāreja | D121: 250/200 | E121: gb | F121: 16
A122: 108 | C122: Pāreja | D122: 315/200 | E122: gb | F122: 4
... A136: 122 | C136: Pāreja | D136: 630/1200x400 | E136: gb | F136: 2
A137: 123 | C137: Gala noslēgs/tīrīšanas lūka | D137: 250 | E137: gb | F137: 1
A138: 124 | C138: Gala noslēgs/tīrīšanas lūka | D138: 400 | E138: gb | F138: 3
A139: 125 | C139: Gala noslēgs/tīrīšanas lūka | D139: 800x600 | E139: gb | F139: 2
A140: 126 | C140: Gala noslēgs/tīrīšanas lūka | D140: 1000x400 | E140: gb | F140: 2
A141: 127 | C141: Gala noslēgs/tīrīšanas lūka | D141: 1000x600 | E141: gb | F141: 4
A142: 128 | C142: Gala noslēgs/tīrīšanas lūka | D142: 1200x400 | E142: gb | F142: 4
A143: 129 | C143: Gaisa ieņemšanas reste | D143: RIS-800x900 | E143: gb | F143: 2
A144: 130 | C144: Gaisa ieņemšanas reste | D144: RIS-1000x800 | E144: gb | F144: 1
A145: 131 | C145: Gaisa ieņemšanas reste | D145: RIS-1200x800 | E145: gb | F145: 1
A146: 132 | C146: Pieplūdes difuzors | D146: LCP-125+MBB-125-125-S - 4-way | E146: gb | F146: 9
...

Sheet 2,5
G1: Lokālā tāme Nr. | H1: =kops2!B25 -> 2,5
A2: =C13 -> Gaisa kondicionēšana
C3: Būves nosaukums: | D3: =Koptame!C11 -> Pirmsskolas izglītības iestāde
C4: Objekta nosaukums: | D4: =Koptame!C12 -> Pirmsskolas izglītības iestādes jaunbūve
C5: Objekta adrese: | D5: =Koptame!C13 -> Baložu iela 33, Baloži, Ķekavas novads
C6: =Koptame!B14 -> Iepirkuma Id Nr. | D6: =Koptame!C14 -> ĶNP2023/
A7: =Koptame!B17 -> Tāme sastādīta 2024.gada tirgus cenās | O7: Tāmes izmaksas euro: | P7: =P50 -> 0
L9: =Koptame!D16 -> Tāme sastādīta:
A11: Nr.p.k. | B11: Kods | C11: Būvdarbu nosaukums | D11: Mērvienība | E11: Daudzums | F11: Vienības izmaksas | L11: Kopā uz visu apjomu
F12: Laika norma (c/h) | G12: Darba samaksas likme (euro/h) | H12: Darba alga (euro) | I12: Būvizstrādājumi (euro) | J12: Mehānismi (euro) | K12: Kopā (euro) | L12: Darbietilpība (c/h) | M12: Darba alga (euro) | N12: Būvizstrādājumi (euro) | O12: Mehānismi (euro) | P12: Summa (euro)
B13: 0 | C13: =kops2!C25 -> Gaisa kondicionēšana | F13: 0 | G13: 0 | H13: 0 | I13: 0 | J13: 0 | K13: =SUM(H13:J13) -> 0 | L13: =ROUND(F13*E13,2) -> 0 | M13: =ROUND(H13*E13,2) -> 0 | N13: =ROUND(I13*E13,2) -> 0 | O13: =ROUND(J13*E13,2) -> 0 | P13: =SUM(M13:O13) -> 0
C14: Montāžas un palaišanas darbi
A15: 1 | C15: Āra bloks Haier AV66IMVURA 180 kW | D15: kpl | E15: 1
A16: 2 | C16: Iekšas dzesēšanas griestu kasete Haier AB122MRERA ar vadība pulti un montāžas rāmi | D16: kpl | E16: 4
A17: 3 | C17: Iekšas dzesēšanas griestu kasete Haier AB092MRERA ar vadība pulti un montāžas rāmi | D17: kpl | E17: 36
A18: 4 | C18: Iekšas dzesēšanas sienas bloks Haier AS242MFERAC ar vadība pulti un montāžas rāmi | D18: kpl | E18: 3
A19: 5 | C19: Iekšas dzesēšanas sienas bloks Haier AS122MFERAC ar vadība pulti un montāžas rāmi | D19: kpl | E19: 2
A20: 6 | C20: Iekšas dzesēšanas sienas bloks Haier AS092MFERAC ar vadība pulti un montāžas rāmi | D20: kpl | E20: 3
A21: 7 | C21: Iekšas dzesēšanas sienas bloks Haier AS072MFERAC ar vadība pulti un montāžas rāmi | D21: kpl | E21: 10
A22: 8 | C22: Iekšas dzesēšanas iebūvējams bloks Haier AD242MSERA (H) ar vadība pulti un montāžas rāmi | D22: kpl | E22: 3
A23: 9 | C23: Vara caurule, Ø9.52/6.35mm (izolācijā) | D23: gb | E23: 50
A24: 10 | C24: Vara caurule, Ø12.7/6.35mm (izolācijā) | D24: gb | E24: 85
A25: 11 | C25: Vara caurule, Ø15.88x9.52mm (izolācijā) | D25: gb | E25: 111
A26: 12 | C26: Vara caurule, Ø19.05/9.52mm (izolācijā) | D26: gb | E26: 173
... A48: 34 | C48: Montāžas palīgmateriāli | D48: kpl | E48: 1
C50: Tiešās izmaksas kopā, t.sk. darba devēja sociālais nodoklis(23,59%)
B52: Piezīmes:
A53: ='1,1'!A24:G24 -> 0
B57: Sastādīja: | L57: =Koptame!B39 -> Pārbaudīja:
C58: =Koptame!C34 -> 0 | M58: =Koptame!C40 -> 0
C59: =Koptame!C35 -> 0 | M59: =Koptame!C41 -> 0

Sheet 2,6
G1: Lokālā tāme Nr. | H1: =kops2!B26 -> 2,6
A2: =C13 -> Siltummezgls
C3: Būves nosaukums: | D3: =Koptame!C11 -> Pirmsskolas izglītības iestāde
C4: Objekta nosaukums: | D4: =Koptame!C12 -> Pirmsskolas izglītības iestādes jaunbūve
C5: Objekta adrese: | D5: =Koptame!C13 -> Baložu iela 33, Baloži, Ķekavas novads
C6: =Koptame!B14 -> Iepirkuma Id Nr. | D6: =Koptame!C14 -> ĶNP2023/
A7: =Koptame!B17 -> Tāme sastādīta 2024.gada tirgus cenās | O7: Tāmes izmaksas euro: | P7: =P76 -> 0
L9: =Koptame!D16 -> Tāme sastādīta:
A11: Nr.p.k. | B11: Kods | C11: Būvdarbu nosaukums | D11: Mērvienība | E11: Daudzums | F11: Vienības izmaksas | L11: Kopā uz visu apjomu
F12: Laika norma (c/h) | G12: Darba samaksas likme (euro/h) | H12: Darba alga (euro) | I12: Būvizstrādājumi (euro) | J12: Mehānismi (euro) | K12: Kopā (euro) | L12: Darbietilpība (c/h) | M12: Darba alga (euro) | N12: Būvizstrādājumi (euro) | O12: Mehānismi (euro) | P12: Summa (euro)
B13: 0 | C13: =kops2!C26 -> Siltummezgls | F13: 0 | G13: 0 | H13: 0 | I13: 0 | J13: 0 | K13: =SUM(H13:J13) -> 0 | L13: =ROUND(F13*E13,2) -> 0 | M13: =ROUND(H13*E13,2) -> 0 | N13: =ROUND(I13*E13,2) -> 0 | O13: =ROUND(J13*E13,2) -> 0 | P13: =SUM(M13:O13) -> 0
C14: Montāžas un palaišanas darbi
A15: 1 | C15: Apkures siltummainis 187 kW 80°-50°/40°-33° LC110-40L-2'' komplektā ar siltumizolāciju | D15: kpl | E15: 1
A16: 2 | C16: Ventilācijas siltummainis 143 kW 80°-50°/60°-40° LB31-80H-5/4'' komplektā ar siltumizolāciju | D16: kpl | E16: 1
A17: 3 | C17: Karstā ūdens siltummainis (75°-55°/55°-10°) LB31-60H-1'' komplektā ar izolāciju 152 Kw | D17: kpl | E17: 1
A18: 4 | C18: Procesors Ouman C203 | D18: kpl | E18: 1
A19: 5 | C19: Siltumenerģijas skaitītājs: kalkulators Kamstrup Multical 403 ar autonomo barošanas elementu, plūsmas daļa Ultraflow 54 ar kabeli 1,5 m, divi temperatūras sensori Pt 500 ar kabeļu garumu 3,0m un čaulām 65mm, Qp=15.0 m3/h; 270 mm x DN50 atloki, PN 25 | D19: kpl | E19: 1
A20: 6 | C20: Elektroniskais apkures cirkulācijas sūknis q=16.19 m3/h; H=6.3 m DAB EVOPLUS B 150/280.50M | D20: gb | E20: 1
A21: 7 | C21: Elektroniskais apkures cirkulācijas sūknis q=6.23 m3/h; H=8.5 m DAB EVOPLUS B 120/250.40 M | D21: gb | E21: 1
A22: 8 | C22: Karstā ūdens cirkulācijas sūknis DAB EVOPLUS 60/180 SAN M q=2.1 m3/h; H=5.5 m | D22: gb | E22: 1
A23: 9 | C23: Izplešanās trauks V=200 l komplektā ar stiprinājumiem | D23: kpl | E23: 2
A24: 10 | C24: Sadales skapis ETI 24-mod./IP65 C-203 montāžai | D24: kpl | E24: 1
A25: 11 | C25: Ūdens temperatūras sensors (virsmas) TMS | D25: gb | E25: 5
A26: 12 | C26: Ūdens temperatūras sensors (iegremdējams 100 mm) TMW-100 | D26: gb | E26: 1
... A74: 60 | C74: Montāžas palīgmateriāli | D74: kpl | E74: 1
F75: 0 | G75: 0
C76: Tiešās izmaksas kopā, t.sk. darba devēja sociālais nodoklis(23,59%)
B78: Piezīmes:
A79: ='1,1'!A24:G24 -> 0
B83: Sastādīja: | L83: =Koptame!B39 -> Pārbaudīja:
C84: =Koptame!C34 -> 0 | M84: =Koptame!C40 -> 0
C85: =Koptame!C35 -> 0 | M85: =Koptame!C41 -> 0

Sheet 2,7
H1: Lokālā tāme Nr. | I1: =kops2!B27 -> 2,7
A2: =C13 -> Elektroinstalācija
C3: Būves nosaukums: | E3: =Koptame!C11 -> Pirmsskolas izglītības iestāde
C4: Objekta nosaukums: | E4: =Koptame!C12 -> Pirmsskolas izglītības iestādes jaunbūve
C5: Objekta adrese: | E5: =Koptame!C13 -> Baložu iela 33, Baloži, Ķekavas novads
C6: =Koptame!B14 -> Iepirkuma Id Nr. | E6: =Koptame!C14 -> ĶNP2023/
A7: =Koptame!B17 -> Tāme sastādīta 2024.gada tirgus cenās | P7: Tāmes izmaksas euro: | Q7: =Q158 -> 0
M9: =Koptame!D16 -> Tāme sastādīta:
A11: Nr.p.k. | B11: Kods | C11: Būvdarbu nosaukums | E11: Mērvienība | F11: Daudzums | G11: Vienības izmaksas | M11: Kopā uz visu apjomu
G12: Laika norma (c/h) | H12: Darba samaksas likme (euro/h) | I12: Darba alga (euro) | J12: Būvizstrādājumi (euro) | K12: Mehānismi (euro) | L12: Kopā (euro) | M12: Darbietilpība (c/h) | N12: Darba alga (euro) | O12: Būvizstrādājumi (euro) | P12: Mehānismi (euro) | Q12: Summa (euro)
A13: 0 | C13: =kops2!C27 -> Elektroinstalācija | I13: =ROUND(H13*G13,2) -> 0 | L13: =SUM(I13:K13) -> 0 | M13: =ROUND(G13*F13,2) -> 0 | N13: =ROUND(I13*F13,2) -> 0 | O13: =ROUND(J13*F13,2) -> 0 | P13: =ROUND(K13*F13,2) -> 0 | Q13: =SUM(N13:P13) -> 0
C14: Montāžas un palaišanas darbi
C15: Iekšējie elektroapgādes tīkli (EL) | G15: =IFERROR(ROUND(I15/H15,2),0) -> 0 | H15: =IF(I15>0,5,0) -> 0 | L15: =SUM(I15:K15) -> 0 | M15: =ROUND(G15*F15,2) -> 0 | N15: =ROUND(I15*F15,2) -> 0 | O15: =ROUND(J15*F15,2) -> 0 | P15: =ROUND(K15*F15,2) -> 0 | Q15: =SUM(N15:P15) -> 0
C16: El.sadalnes skapji | G16: =IFERROR(ROUND(I16/H16,2),0) -> 0 | H16: =IF(I16>0,5,0) -> 0 | L16: =SUM(I16:K16) -> 0 | M16: =ROUND(G16*F16,2) -> 0 | N16: =ROUND(I16*F16,2) -> 0 | O16: =ROUND(J16*F16,2) -> 0 | P16: =ROUND(K16*F16,2) -> 0 | Q16: =SUM(N16:P16) -> 0
A17: 1 | C17: Sadalne GS1, komplektā ar GBS | D17: Schneider Electric | E17: gb | F17: 1
A18: 2 | C18: Sadalne GS2, komplektā ar 1SS1, 1AS1, TAS-1 | D18: Schneider Electric | E18: gb | F18: 1
A19: 3 | C19: Sadalne 2SS1 komplektā ar 2AS1 | D19: Schneider Electric | E19: gb | F19: 1
A20: 4 | C20: Sadalne VTS1 | D20: Schneider Electric | E20: gb | F20: 1
A21: 5 | C21: Sadalne VKS1 | D21: Schneider Electric | E21: gb | F21: 1
A22: 6 | C22: Sadalne VS1 | D22: Schneider Electric | E22: gb | F22: 1
A23: 7 | C23: Sadalne AVS | D23: Schneider Electric | E23: gb | F23: 1
A24: 8 | C24: Sadalne TAS-1 | D24: Schneider Electric | E24: gb | F24: 1
A25: 9 | C25: UPS 1050W/1500VA 230/230V 15min | D25: SMVS1500CAI, Schneider Electric | E25: gb | F25: 1
A26: 10 | C26: Montāžas izstrādājumi, stiprinājumi | E26: kpl | F26: 1
C27: Kabeļi
A28: 11 | C28: Kabelis ar alumīnija dzīslām 4x120AL/41Cu | D28: AMCMK | E28: m | F28: 155
A29: 12 | C29: Kabelis ar vara dzīslām 5x25 mm² | D29: NYM-J | E29: m | F29: 135
A30: 13 | C30: Kabelis ar vara dzīslām 5x16 mm² | D30: NYM-J | E30: m | F30: 65
A31: 14 | C31: Kabelis ar vara dzīslām 5x10 mm² | D31: NYM-J | E31: m | F31: 80
A32: 15 | C32: Kabelis ar vara dzīslām 5x6 mm² | D32: NYM-J | E32: m | F32: 265
A33: 16 | C33: Kabelis ar vara dzīslām 5x4 mm² | D33: NYM-J | E33: m | F33: 290
A34: 17 | C34: Kabelis ar vara dzīslām 5x2.5 mm² | D34: NYM-J | E34: m | F34: 55
A35: 18 | C35: Kabelis ar vara dzīslām 5x2.5 mm² | D35: NYY-J | E35: m | F35: 400
A36: 19 | C36: Kabelis ar vara dzīslām 3x2.5 mm² | D36: NYM-J | E36: m | F36: 10460
A37: 20 | C37: Kabelis ar vara dzīslām 3x1.5 mm² | D37: NYM-J | E37: m | F37: 15980
A38: 21 | C38: Kabelis ar vara dzīslām 2x1.5 mm² | D38: NYM-J | E38: m | F38: 450
A39: 22 | C39: Kabelis ar vara dzīslām 4x1.5 mm² | D39: NYM-J | E39: m | F39: 2010
... A46: 29 | C46: Kabeļu gala apd. 4mm²-35mm² | D46: EPKT 0015-L12 | E46: kpl | F46: 48
A47: 30 | C47: Montāžas izstrādājumi, stiprinājumi | E47: kpl | F47: 1
C48: Caurules un kanāli
A49: 31 | C49: PVC caurule, d=50mm, 320N | D49: EVOPIPES, EVOEL SL-0H | E49: m | F49: 30
A50: 32 | C50: PVC caurule, d=25mm, 320N | D50: EVOPIPES, EVOEL SL-0H | E50: m | F50: 150
A51: 33 | C51: PVC caurule, d=20mm, 320N | D51: EVOPIPES, EVOEL SL-0H | E51: m | F51: 5780
A52: 34 | C52: Montāžas izstrādājumi, stiprinājumi | E52: kpl | F52: 1
C53: Kabeļu nesošas sistēmas
A54: 35 | C54: Kabeļu trepe ar pagrieziena elementiem 600x60mm | D54: Obo Bettermann, LCIS 660 6 A4 | E54: m | F54: 85
A55: 36 | C55: Kabeļu trepe ar pagrieziena elementiem 400x60mm | D55: Obo Bettermann, LCIS 640 6 A4 | E55: m | F55: 140
A56: 37 | C56: Kabeļu trepe ar pagrieziena elementiem 200x60mm | D56: Obo Bettermann, LCIS 620 6 A4 | E56: m | F56: 75
A57: 38 | C57: Pārējie montāžas materiāli (skrūves, uzgriežņi, enkurdībeļi, utt.) | E57: kpl | F57: 1
A58: 39 | C58: Montāžas izstrādājumi, pagrieziena, nozarojuma un stiprinājuma elementi | E58: kpl | F58: 1
C59: Gaismekļi
A60: 40 | C60: LED gaismeklis, 26W 3250lm ( 129lm/W), IP65, balts, v/a | D60: LED LUKS, HATOR LED 1200 OP LED840 HE | E60: gb | F60: 52
A61: 41 | C61: LED gaismeklis, 27W 2499lm, TW 2700 - 5000K, IP20, balts, v/a | D61: LED LUKS, ILO 50 C 1196 HE 930 OP FO WHITE | E61: gb | F61: 82
A62: 42 | C62: LED gaismeklis, 8W 537lm, IP20, balts, v/a | D62: LED LUKS, IKAR R 127 HE 830 FO WHITE | E62: gb | F62: 229
A63: 43 | C63: LED gaismeklis, 35W 3233lm, TW 2700 - 5000K, IP20, balts, v/a | D63: LED LUKS, ILO 50 C 1546 HE 930 OP FO WHITE | E63: gb | F63: 237
A64: 44 | C64: LED gaismeklis, 6.5W 3000 K 58° 904lm, IP67, pelēks, z/a | D64: Ghidini Lighting SRL, Spia 135 | E64: gb | F64: 27
A65: 45 | C65: LED gaismeklis, 66W 4808lm, IP20, v/a | D65: LED LUKS, EOS SYS Circle 1500 60 degree DALI | E65: gb | F65: 114
A66: 46 | C66: LED gaismeklis, 53W 4997lm, TW 2700 - 5000K, IP20, balts, v/a | D66: LED LUKS, ILO 50 C 2386 HE 930 OP FO WHITE | E66: gb | F66: 106
A67: 47 | C67: LED gaismeklis, 19W 1705lm, TW 2700 to 5000K, IP20, balts, v/a | D67: LED LUKS, APOLLO 450 C LP 930 OP FO WHITE | E67: gb | F67: 23
A68: 48 | C68: LED gaismeklis, 84W 6390lm, IP20, balts, v/a | D68: LED LUKS, EOS C 1000 SKY 930 WHITE-W | E68: gb | F68: 52
A69: 49 | C69: LED gaismeklis, 63W 4744lm, IP20, balts, v/a | D69: LED LUKS, EOS C 650 SKY 930 WHITE-W | E69: gb | F69: 51
A70: 50 | C70: LED gaismeklis, 41W 3836lm, TW 2700 - 5000K, IP20, balts, v/a | D70: LED LUKS, APOLLO 680 C LP 930 OP FO WHITE | E70: gb | F70: 27
A71: 51 | C71: LED gaismeklis, 16W 1670lm, TW 2700 - 5000K, IP20, balts, v/a | D71: LED LUKS, ILO 50 C 706 HE 830 OP FO WHITE | E71: gb | F71: 8
... A80: 60 | C80: LED lenta, 21W/5m (4.2W/m), 2220 lm (115 lm/W), 3000K, IP67 | D80: LEDVANCE, LS P-500/930/5/IP67 | E80: kpl | F80: 26
A81: 61 | C81: Profils LED lentai | E81: m | F81: 246
A82: 62 | C82: DALI driver 60W/230V LED lentai IP65 | D82: LEDVANCE, DR DALI-PFM -60/220-240/1A4 | E82: gb | F82: 26
A83: 63 | C83: Kustības sensors 360 °, IP54, balts, v/a | D83: STEINEL, IS 345 | E83: gb | F83: 47
A84: 64 | C84: Ultraskanas sensors 360 °, 40kHz, IP20, balts, v/a | D84: STEINEL, US 360 | E84: gb | F84: 12
A85: 65 | C85: Evakuācijas gaismeklis, LED-2W, 60min., IP65, v/a | D85: TM TECHNOLOGIE, iTECH M2 | E85: gb | F85: 45
A86: 66 | C86: Evakuācijas gaismeklis, LED-5W, 60min., IP65, v/a | D86: TM TECHNOLOGIE, iTECH M5 | E86: gb | F86: 49
A87: 67 | C87: Evakuācijas gaismeklis, LED-2W, 60min., IP65, v/a | D87: TM TECHNOLOGIE, iTECH C1 | E87: gb | F87: 8
A88: 68 | C88: Evakuācijas gaismeklis "IZEJA", LED-2.5W, 60min., IP20 | D88: TM TECHNOLOGIE, TM.ONTEC G | E88: gb | F88: 81
A89: 69 | C89: OUTDOOR LED 3x1W LED 390 lm STANDARD IP66 1h | E89: gb | F89: 9
A90: 70 | C90: Montāžas izstrādājumi | E90: kpl | F90: 1
C91: Instalācijas materiāli
A92: 71 | C92: Kontaktligzda 1-viet, 230V, 16A, IP20, balts, z/a (grupiņu telpā), "bērnu aizsardzība" | D92: Efapel, APOLO 5000 BR, White | E92: gb | F92: 3
A93: 72 | C93: Kontaktligzda 1-viet, 230V, 16A, IP20, melns, z/a | D93: Efapel, APOLO 5000 PM, Matte Black | E93: gb | F93: 2
A94: 73 | C94: Kontaktligzda 2-viet, 230V, 16A, IP20, balts, z/a (grupiņu telpā), "bērnu aizsardzība" | D94: Efapel, APOLO 5000 BR, White | E94: gb | F94: 63
A95: 74 | C95: Kontaktligzda 2-viet, 230V, 16A, IP20, melns, z/a | D95: Efapel, APOLO 5000 PM, Matte Black | E95: gb | F95: 77
A96: 75 | C96: Kontaktligzda 3-viet, 230V, 16A, IP20, melns, z/a | D96: Efapel, APOLO 5000 PM, Matte Black | E96: gb | F96: 5
A97: 76 | C97: Kontaktligzda 4-viet, 230V, 16A, IP20, balts, z/a (grupiņu telpā), "bērnu aizsardzība" | D97: Efapel, APOLO 5000 BR, White | E97: gb | F97: 15
A98: 77 | C98: Kontaktligzda 4-viet, 230V, 16A, IP20, melns, z/a | D98: Efapel, APOLO 5000 PM, Matte Black | E98: gb | F98: 26
A99: 78 | C99: Kontaktligzda 1-viet, 230V, 16A, IP44, balts, z/a (grupiņu telpā), "bērnu aizsardzība" | D99: Efapel, APOLO 5000 BR, White | E99: gb | F99: 15
A100: 79 | C100: Kontaktligzda 1-viet, 230V, 16A, IP44, melns, z/a | D100: Efapel, APOLO 5000 PM, Matte Black | E100: gb | F100: 25
A101: 80 | C101: Kontaktligzda 2-viet, 230V, 16A, IP44, melns, z/a | D101: Efapel, APOLO 5000 PM, Matte Black | E101: gb | F101: 9
A102: 81 | C102: Kontaktligzda 3-viet, 230V, 16A, IP44, melns, z/a | D102: Efapel, APOLO 5000 PM, Matte Black | E102: gb | F102: 1
A103: 82 | C103: Kontaktligzda 1-viet, 230V, 16A, IP65, v/a | D103: Efapel, Waterproof 48 | E103: gb | F103: 2
... A125: 104 | C125: Spiedpoga 230V, 10A, IP20, melns, z/a | D125: Efapel, APOLO 5000 PM, Matte Black | E125: gb | F125: 7
A126: 105 | C126: El. Iekārtu pieslēgums | E126: gb | F126: 47
A127: 106 | C127: Uzstādīšanas kārba z/a | E127: gb | F127: 651
A128: 107 | C128: Nozarkārba v/a | E128: gb | F128: 50
A129: 107 | C129: Ugunsdroša aizdare, EI120 | D129: HILTI, CFS-S ACR + CFS-CT | E129: kpl | F129: 7
A130: 108 | C130: Montāžas izstrādājumi | E130: kpl | F130: 1
C131: Saules paneļu sistēma
A132: 109 | C132: Saules panelis TrinaSolar, VertexS, SM-435 DE09R.08, 435W | E132: gb | F132: 254
A133: 110 | C133: Saules pan.invertors, Sungrow, SG50CX-P2 (50kVA) | E133: gb | F133: 2
A134: 111 | C134: Datu reģistrators, Sungrow, COM100E | E134: gb | F134: 1
A135: 112 | C135: Līdzstrāvas vads +, SOLAR PV H1Z2Z2-K 1x6, sarkans | E135: m | F135: 750
A136: 113 | C136: Līdzstrāvas vads -, SOLAR PV H1Z2Z2-K 1x6, melns | E136: m | F136: 750
A137: 114 | C137: Saules paneļu stiprinājuma sistēma DS-V1N | E137: kpl | F137: 1
...

Sheet 2,8
H1: Lokālā tāme Nr. | I1: =kops2!B28 -> 2,8
A2: =C13 -> Ugunsgrēka signalizācijas sistēma
C3: Būves nosaukums: | E3: =Koptame!C11 -> Pirmsskolas izglītības iestāde
C4: Objekta nosaukums: | E4: =Koptame!C12 -> Pirmsskolas izglītības iestādes jaunbūve
C5: Objekta adrese: | E5: =Koptame!C13 -> Baložu iela 33, Baloži, Ķekavas novads
C6: =Koptame!B14 -> Iepirkuma Id Nr. | E6: =Koptame!C14 -> ĶNP2023/
A7: =Koptame!B17 -> Tāme sastādīta 2024.gada tirgus cenās | P7: Tāmes izmaksas euro: | Q7: =Q40 -> 0
M9: =Koptame!D16 -> Tāme sastādīta:
A11: Nr.p.k. | B11: Kods | C11: Būvdarbu nosaukums | E11: Mērvienība | F11: Daudzums | G11: Vienības izmaksas | M11: Kopā uz visu apjomu
G12: Laika norma (c/h) | H12: Darba samaksas likme (euro/h) | I12: Darba alga (euro) | J12: Būvizstrādājumi (euro) | K12: Mehānismi (euro) | L12: Kopā (euro) | M12: Darbietilpība (c/h) | N12: Darba alga (euro) | O12: Būvizstrādājumi (euro) | P12: Mehānismi (euro) | Q12: Summa (euro)
C13: =kops2!C28 -> Ugunsgrēka signalizācijas sistēma | G13: 0 | H13: 0 | L13: =SUM(I13:K13) -> 0 | M13: =ROUND(G13*F13,2) -> 0 | N13: =ROUND(I13*F13,2) -> 0 | O13: =ROUND(J13*F13,2) -> 0 | P13: =ROUND(K13*F13,2) -> 0 | Q13: =SUM(N13:P13) -> 0
C14: Montāžas un palaišanas darbi
A15: 1 | C15: Kontroles panelis | D15: FX3NetL ESMI | E15: kpl. | F15: 1
A16: 2 | C16: Skapis papildus baterijām | D16: ESMI FX-BAT | E16: gb. | F16: 1
A17: 3 | C17: Cilpu modulis | D17: FX-ALCB (2 cilpas) | E17: gb. | F17: 2
A18: 4 | C18: Skapis papildus baterijām | D18: ESMI FX-BAT | E18: gb. | F18: 1
A19: 5 | C19: Akumulators | D19: 12V/17 A/h | E19: gb. | F19: 4
A20: 6 | C20: Adrešu dūmu detektors | D20: EDI-20 | E20: gb. | F20: 232
A21: 7 | C21: Adrešu siltuma detektors | D21: EDI-50 | E21: gb. | F21: 47
A22: 8 | C22: Detektora bāze | D22: EBI-10 | E22: gb. | F22: =F20+F21-2 -> 277
A23: 9 | C23: Detektora bāze ar izolatoru | E23: gb. | F23: 2
A24: 10 | C24: Rokas adreses trauksmes poga ar izolatoru | D24: EPP-20 | E24: kpl. | F24: 24
A25: 11 | C25: Rokas adreses trauksmes pogas bāze | D25: SR2G | E25: gb. | F25: 24
A26: 12 | C26: Vadības modulis | D26: EMI-311/240 | E26: kpl. | F26: 10
A27: 13 | C27: Staru detektors 100m | D27: 55000-273APO (50-100m) | E27: kpl. | F27: 2
A28: 14 | C28: Staru detektors 50m | D28: 55000-268APO (50m) | E28: kpl. | F28: 1
A29: 15 | C29: Iznesamais LED indikators | D29: ERI-10 | E29: gb. | F29: 121
A30: 16 | C30: Skatlūkas | D30: Europlast VPL3030 300x300mm | E30: gb. | F30: =F29 -> 121
A31: 17 | C31: Kabelis detektoru pieslēgšana | D31: 2x1.0 (E30) Eurosafe | E31: m | F31: 2240
A32: 18 | C32: Kabelis el. barošana | D32: NHXN-FE180/E30 3x2.5mm2 | E32: m | F32: 20
A33: 19 | C33: Gofrētā caurule D25mm | D33: D25mm | E33: m | F33: 1000
A34: 20 | C34: Montāžas materiāli | E34: kpl. | F34: 1
A35: 21 | C35: Ugunsdrošs kabeļu turētājs | D35: OZM/OZMO. (WxLxH) 42x33x62mm. 0.7mm. E-90 | E35: gb. | F35: =1590*3 -> 4770
A36: 22 | C36: Ugunsdrošais stiprinājums | D36: UDFB8. E90, d 8mm | E36: gb. | F36: 200
A37: 23 | C37: Ugunsdrošās blīves kabeļiem | D37: Promastop IM CJ21 | E37: kpl. | F37: 1
A38: 24 | C38: Detektoru un kabeļu marķēšana | E38: kpl. | F38: 1
G39: 0 | H39: 0
C40: Tiešās izmaksas kopā, t.sk. darba devēja sociālais nodoklis(23,59%)
B42: Piezīmes:
A43: ='1,1'!A24:G24 -> 0
B47: Sastādīja: | M47: =Koptame!B39 -> Pārbaudīja:
C48: =Koptame!C34 -> 0 | N48: =Koptame!C40 -> 0
C49: =Koptame!C35 -> 0 | N49: =Koptame!C41 -> 0

Sheet 2,9
H1: Lokālā tāme Nr. | I1: =kops2!B29 -> 2,9
A2: =C13 -> Piekļuves kontroles sistēma un apsardzes signalizācijas sistēma
C3: Būves nosaukums: | E3: =Koptame!C11 -> Pirmsskolas izglītības iestāde
C4: Objekta nosaukums: | E4: =Koptame!C12 -> Pirmsskolas izglītības iestādes jaunbūve
C5: Objekta adrese: | E5: =Koptame!C13 -> Baložu iela 33, Baloži, Ķekavas novads
C6: =Koptame!B14 -> Iepirkuma Id Nr. | E6: =Koptame!C14 -> ĶNP2023/
A7: =Koptame!B17 -> Tāme sastādīta 2024.gada tirgus cenās | P7: Tāmes izmaksas euro: | Q7: =Q34 -> 0
M9: =Koptame!D16 -> Tāme sastādīta:
A11: Nr.p.k. | B11: Kods | C11: Būvdarbu nosaukums | E11: Mērvienība | F11: Daudzums | G11: Vienības izmaksas | M11: Kopā uz visu apjomu
G12: Laika norma (c/h) | H12: Darba samaksas likme (euro/h) | I12: Darba alga (euro) | J12: Būvizstrādājumi (euro) | K12: Mehānismi (euro) | L12: Kopā (euro) | M12: Darbietilpība (c/h) | N12: Darba alga (euro) | O12: Būvizstrādājumi (euro) | P12: Mehānismi (euro) | Q12: Summa (euro)
B13: 0 | C13: =kops2!C29 -> Piekļuves kontroles sistēma un apsardzes signalizācijas sistēma | G13: 0 | H13: 0 | L13: =SUM(I13:K13) -> 0 | M13: =ROUND(G13*F13,2) -> 0 | N13: =ROUND(I13*F13,2) -> 0 | O13: =ROUND(J13*F13,2) -> 0 | P13: =ROUND(K13*F13,2) -> 0 | Q13: =SUM(N13:P13) -> 0
C14: Montāžas un palaišanas darbi
A15: 1 | C15: Durvju kontrolieris | D15: INTG-996018PCB&K | E15: gb. | F15: 7
A16: 2 | C16: Durvju paplašinātājs | D16: INTG-996535PCB&K | E16: gb. | F16: 20
A17: 3 | C17: XL izmēra kaste ar barošanas bloku | D17: INTG-995203PEEU8 | E17: kpl. | F17: 7
A18: 4 | C18: Akumulatoru baterija | D18: 12V 17Ah | E18: kpl. | F18: 7
A19: 5 | C19: Karšu nolasītājs 13.56MHz/125KHz, EM Proximity | D19: HID SIGNO 20 iCLASS SE | E19: gb. | F19: 52
A20: 6 | C20: Karšu nolasītājs 13.56MHz/125KHz, EM Proximity | D20: HID SIGNO keypad 20 | E20: gb. | F20: 2
A21: 7 | C21: Durvju aizvērējs | D21: SD-C141S | E21: gb. | F21: 54
A22: 8 | C22: Magnēta kontakts | E22: gb. | F22: 61
A23: 9 | C23: Sprūds | E23: gb. | F23: 54
A24: 10 | C24: Kabelis iekšējai instalācijai | D24: UTP Kat.5e | E24: m | F24: =2750+72+100 -> 2922
A25: 11 | C25: Barošanas kabelis iekšējai instalācijai | D25: NYM-J 3x2.5 mm2 | E25: m | F25: 30
A26: 12 | C26: Gofreta caurule | D26: D=20 mm | E26: m | F26: 60
A27: 13 | C27: Instalācijas materiāls | E27: kpl. | F27: 1
A28: 14 | C28: Licence | D28: INTG-996025 | E28: gb. | F28: 1
A29: 15 | C29: Durvju licence | D29: INTG-996940-30 | E29: gb. | F29: 2
A30: 16 | C30: Klienta aplikācija | D30: INTG-996911 | E30: gb. | F30: 1
A31: 17 | C31: pieņemšanas-kontroles iekārtu programmēšanu un datoru aplikācijas “INTEGRITI” konfigurēšanu | E31: kpl. | F31: 1
A32: 18 | C32: Izveidot iespēju pievienot un dzēst piekļuves kartes. | E32: kpl. | F32: 1
C34: Tiešās izmaksas kopā, t.sk. darba devēja sociālais nodoklis(23,59%)
B36: Piezīmes:
A37: ='1,1'!A24:G24 -> 0
B41: Sastādīja: | M41: =Koptame!B39 -> Pārbaudīja:
C42: =Koptame!C34 -> 0 | N42: =Koptame!C40 -> 0
C43: =Koptame!C35 -> 0 | N43: =Koptame!C41 -> 0

Sheet 2,10
H1: Lokālā tāme Nr. | I1: =kops2!B30 -> 2,10
A2: =C13 -> Elektronisko sakaru sistēma
C3: Būves nosaukums: | E3: =Koptame!C11 -> Pirmsskolas izglītības iestāde
C4: Objekta nosaukums: | E4: =Koptame!C12 -> Pirmsskolas izglītības iestādes jaunbūve
C5: Objekta adrese: | E5: =Koptame!C13 -> Baložu iela 33, Baloži, Ķekavas novads
C6: =Koptame!B14 -> Iepirkuma Id Nr. | E6: =Koptame!C14 -> ĶNP2023/
A7: =Koptame!B17 -> Tāme sastādīta 2024.gada tirgus cenās | P7: Tāmes izmaksas euro: | Q7: =Q44 -> 0
M9: =Koptame!D16 -> Tāme sastādīta:
A11: Nr.p.k. | B11: Kods | C11: Būvdarbu nosaukums | E11: Mērvienība | F11: Daudzums | G11: Vienības izmaksas | M11: Kopā uz visu apjomu
G12: Laika norma (c/h) | H12: Darba samaksas likme (euro/h) | I12: Darba alga (euro) | J12: Būvizstrādājumi (euro) | K12: Mehānismi (euro) | L12: Kopā (euro) | M12: Darbietilpība (c/h) | N12: Darba alga (euro) | O12: Būvizstrādājumi (euro) | P12: Mehānismi (euro) | Q12: Summa (euro)
B13: 0 | C13: =kops2!C30 -> Elektronisko sakaru sistēma | G13: 0 | H13: 0 | L13: =SUM(I13:K13) -> 0 | M13: =ROUND(G13*F13,2) -> 0 | N13: =ROUND(I13*F13,2) -> 0 | O13: =ROUND(J13*F13,2) -> 0 | P13: =ROUND(K13*F13,2) -> 0 | Q13: =SUM(N13:P13) -> 0
C14: Montāžas un palaišanas darbi
A15: 1 | C15: Servera un komutācijas statne ar sieta tipa durvīm | D15: 42U 1000x800mm | E15: kpl. | F15: 1
A16: 2 | C16: Ventilatoru bloks ar digitālo termostatu | D16: 19' 1U, 4 ventilatori | E16: kpl. | F16: 1
A17: 3 | C17: Zemējuma klemme komutācijas skapim | E17: kpl. | F17: 1
A18: 4 | C18: Skrūves - uzgriežņi | D18: M6 | E18: kpl. | F18: 1
A19: 5 | C19: EL rozešu bloks | D19: 8-vietīgā, 19' 1U | E19: kpl. | F19: 1
A20: 6 | C20: Optiskais patch panelis ar kaseti, adapteriem un pigteiliem priekš SM optiskā kabeļa 12 dzīslām | D20: 8p duplex rackmounted | E20: kpl. | F20: 1
A21: 7 | C21: Kabeļu organaizeris horizontālais | D21: 1U | E21: gb. | F21: 4
A22: 8 | C22: Optiskais patch kabelis | D22: SM SC-LC 1m | E22: gb. | F22: 1
A23: 9 | C23: Optiskais patch kabelis | D23: SM LC-LC 1m | E23: gb. | F23: 1
A24: 10 | C24: SFP modulis SM | E24: gb. | F24: 1
A25: 11 | C25: Patch panelis | D25: 24p Cat6 UTP | E25: gb. | F25: 4
A26: 12 | C26: Patch kabelis 1.0m | D26: Cat6 UTP 1m | E26: gb. | F26: =F31*2+F32 -> 49
A27: 13 | C27: Centrālais ruteris | D27: 24 PoE output gigabit Ethernet router/switch with four 10Gbps SFP+ ports | E27: gb. | F27: 1
A28: 14 | C28: Komutators | D28: 48 porti Gigabit Ethernet switch , 2 SFP+ ports, 1U rackmount case | E28: gb. | F28: 1
A29: 15 | C29: Komutators | D29: 48 porti PoE | E29: gb. | F29: 1
A30: 16 | C30: WiFi piekļuves punkts | D30: 2.4/5GHz; 300-1000Mbit/s; A/B/G/N/AC | E30: gb. | F30: 3
A31: 17 | C31: Datu ligzda z/a 2xRJ45 | D31: Cat6 ar rāmi (saskaņot ar EL sadaļu) | E31: kpl. | F31: 23
A32: 18 | C32: Datu ligzda z/a 1xRJ45 | D32: Cat6 ar rāmi (saskaņot ar EL sadaļu) | E32: kpl. | F32: 3
A33: 19 | C33: Datu ligzda grīdas kārbā | D33: Cat6 ar rāmi (saskaņot ar EL sadaļu) | E33: kpl. | F33: 14
A34: 20 | C34: Nepārtrauktās barošanas bloks | D34: UPS APC Smart-UPS 1500VA LCD RM 1U 230V | E34: gb. | F34: 1
A35: 21 | C35: Kabelis | D35: UTP Cat6 LZSH | E35: m | F35: =170+1775 -> 1945
A36: 22 | C36: PVC caurule | D36: d20 | E36: m | F36: 500
A37: 23 | C37: PVC caurule | D37: d50 | E37: m | F37: 60
A38: 24 | C38: Kabeļu trepe | D38: C1-C2 200mm 3m E30 | E38: gb. | F38: 34
A39: 25 | C39: Kabeļu trepes līkums "+" | D39: 200mm E30 | E39: gb. | F39: 1
A40: 26 | C40: Kabeļu trepes "T" veida savienojums | D40: 200mm E30 | E40: gb. | F40: 1
A41: 27 | C41: Montāžas un stiprināšanas materiāli | E41: kpl. | F41: 1
A42: 28 | C42: Ugunsdrošās blīves kabeļiem | D42: Promastop IM CJ21 | E42: kpl. | F42: 1
C44: Tiešās izmaksas kopā, t.sk. darba devēja sociālais nodoklis(23,59%)
B46: Piezīmes:
A47: ='1,1'!A24:G24 -> 0
B51: Sastādīja: | M51: =Koptame!B39 -> Pārbaudīja:
C52: =Koptame!C34 -> 0 | N52: =Koptame!C40 -> 0
C53: =Koptame!C35 -> 0 | N53: =Koptame!C41 -> 0

Sheet 2,11
H1: Lokālā tāme Nr. | I1: =kops2!B31 -> 2,11
A2: =C13 -> Videonovērošanas sistēma
C3: Būves nosaukums: | E3: =Koptame!C11 -> Pirmsskolas izglītības iestāde
C4: Objekta nosaukums: | E4: =Koptame!C12 -> Pirmsskolas izglītības iestādes jaunbūve
C5: Objekta adrese: | E5: =Koptame!C13 -> Baložu iela 33, Baloži, Ķekavas novads
C6: =Koptame!B14 -> Iepirkuma Id Nr. | E6: =Koptame!C14 -> ĶNP2023/
A7: =Koptame!B17 -> Tāme sastādīta 2024.gada tirgus cenās | P7: Tāmes izmaksas euro: | Q7: =Q32 -> 0
M9: =Koptame!D16 -> Tāme sastādīta:
A11: Nr.p.k. | B11: Kods | C11: Būvdarbu nosaukums | E11: Mērvienība | F11: Daudzums | G11: Vienības izmaksas | M11: Kopā uz visu apjomu
G12: Laika norma (c/h) | H12: Darba samaksas likme (euro/h) | I12: Darba alga (euro) | J12: Būvizstrādājumi (euro) | K12: Mehānismi (euro) | L12: Kopā (euro) | M12: Darbietilpība (c/h) | N12: Darba alga (euro) | O12: Būvizstrādājumi (euro) | P12: Mehānismi (euro) | Q12: Summa (euro)
B13: 0 | C13: =kops2!C31 -> Videonovērošanas sistēma | G13: 0 | H13: 0 | L13: =SUM(I13:K13) -> 0 | M13: =ROUND(G13*F13,2) -> 0 | N13: =ROUND(I13*F13,2) -> 0 | O13: =ROUND(J13*F13,2) -> 0 | P13: =ROUND(K13*F13,2) -> 0 | Q13: =SUM(N13:P13) -> 0
C14: Montāžas un palaišanas darbi
A15: 1 | C15: IP videokamera ārtelpu bullet | D15: 4MPix, H.265, 2.8mm IR 30m | E15: gb. | F15: 17
A16: 2 | C16: IP videokamera iekštelpu dome | D16: 4MPix, H.265, 2.8mm IR 30m | E16: gb. | F16: 20
A17: 3 | C17: Sienas kronšteins kamerām | E17: gb. | F17: 17
A18: 4 | C18: Komutators | D18: PoE 48p | E18: gb. | F18: 1
A19: 5 | C19: SFP modulis SM | E19: gb. | F19: 1
A20: 6 | C20: Tīkla videoreģistrators | D20: NVR 64 kanāli/PoE | E20: gb. | F20: 1
A21: 7 | C21: Cietie Diski HDD | D21: 2TB | E21: gb. | F21: 4
A22: 8 | C22: Pārsprieguma aizsarzība | D22: DT-LAN-CAT.6+ | E22: gb. | F22: =17*2 -> 34
A23: 9 | C23: Patch kabelis Cat6 U/UTP 1.5 m | D23: Cat6 UTP 1.5m | E23: gb. | F23: =F15+2 -> 19
A24: 10 | C24: Optiskais patch kabelis | D24: SM LC-LC 3,0m | E24: gb. | F24: 1
A25: 11 | C25: Kabelis | D25: Cat6 4x2x0.5 LSZH (Low Smoke Zero Halogen) | E25: m | F25: 1810
A26: 12 | C26: Aizsargcaurule gofrētā | D26: d25 mm | E26: m | F26: 300
A27: 13 | C27: Ugunsdrošās blīves kabeļiem | D27: Promastop IM CJ21 | E27: kpl. | F27: 1
A28: 14 | C28: Instalācijas materiāli | E28: kpl. | F28: 1
A29: 15 | C29: Sistēmas programmēšana un palaišana | E29: kpl. | F29: 1
A30: 16 | C30: Licences | E30: kpl. | F30: 1
G31: 0 | H31: 0
C32: Tiešās izmaksas kopā, t.sk. darba devēja sociālais nodoklis(23,59%)
B34: Piezīmes:
A35: ='1,1'!A24:G24 -> 0
B39: Sastādīja: | M39: =Koptame!B39 -> Pārbaudīja:
C40: =Koptame!C34 -> 0 | N40: =Koptame!C40 -> 0
C41: =Koptame!C35 -> 0 | N41: =Koptame!C41 -> 0

Sheet 2,12
H1: Lokālā tāme Nr. | I1: =kops2!B32 -> 2,12
A2: =C13 -> Apsardzes signalizācijas sistēma
C3: Būves nosaukums: | E3: =Koptame!C11 -> Pirmsskolas izglītības iestāde
C4: Objekta nosaukums: | E4: =Koptame!C12 -> Pirmsskolas izglītības iestādes jaunbūve
C5: Objekta adrese: | E5: =Koptame!C13 -> Baložu iela 33, Baloži, Ķekavas novads
C6: =Koptame!B14 -> Iepirkuma Id Nr. | E6: =Koptame!C14 -> ĶNP2023/
A7: =Koptame!B17 -> Tāme sastādīta 2024.gada tirgus cenās | P7: Tāmes izmaksas euro: | Q7: =Q33 -> 0
M9: =Koptame!D16 -> Tāme sastādīta:
A11: Nr.p.k. | B11: Kods | C11: Būvdarbu nosaukums | E11: Mērvienība | F11: Daudzums | G11: Vienības izmaksas | M11: Kopā uz visu apjomu
G12: Laika norma (c/h) | H12: Darba samaksas likme (euro/h) | I12: Darba alga (euro) | J12: Būvizstrādājumi (euro) | K12: Mehānismi (euro) | L12: Kopā (euro) | M12: Darbietilpība (c/h) | N12: Darba alga (euro) | O12: Būvizstrādājumi (euro) | P12: Mehānismi (euro) | Q12: Summa (euro)
C13: =kops2!C32 -> Apsardzes signalizācijas sistēma | G13: 0 | H13: 0 | L13: =SUM(I13:K13) -> 0 | M13: =ROUND(G13*F13,2) -> 0 | N13: =ROUND(I13*F13,2) -> 0 | O13: =ROUND(J13*F13,2) -> 0 | P13: =ROUND(K13*F13,2) -> 0 | Q13: =SUM(N13:P13) -> 0
C14: Montāžas un palaišanas darbi
A15: 1 | C15: Drosības kontrolieris metāla korpusā ar barošanas bloku | D15: INTG-996001EUPS | E15: gb. | F15: 1
A16: 2 | C16: 8-zonu paplašinātājs | D16: INTG-996005PCB & K | E16: gb. | F16: 4
A17: 3 | C17: UniBus paplašinātājs | D17: INTG-996500PCB & K | E17: gb. | F17: 14
A18: 4 | C18: XL izmēra kaste ar barošanas bloku | D18: INTG-995203PEEU8 | E18: gb. | F18: 4
A19: 5 | C19: Akumulatoru baterija | D19: 12V 17Ah | E19: gb. | F19: 4
A20: 6 | C20: Tastatūra | D20: INTG-995400 | E20: gb. | F20: 2
A21: 7 | C21: Kustības detektors ar kronšteinu | D21: RXC-ST | E21: gb. | F21: 67
A22: 8
A23: 9 | C23: Magnēta kontakts | D23: MET-200AR | E23: gb. | F23: 23
A24: 10 | C24: Stikla plīšanas detektors | E24: gb. | F24: 64
A25: 11 | C25: CLOE tīkla modulis | D25: IR-995093 | E25: gb. | F25: 2
A26: 12 | C26: Kabelis | D26: UTP CAT5e 4x2x0.5 | E26: m | F26: =81+35 -> 116
A27: 13 | C27: Kabelis | D27: CQR 6x0,22 | E27: m | F27: 7970
A28: 14 | C28: Gofreta caurule | D28: D=20 mm | E28: m | F28: 100
A29: 15 | C29: Instalācijas materiāls | E29: kpl. | F29: 1
A30: 16 | C30: Licence Extra Client | D30: INTG-996911 | E30: kpl. | F30: 1
A31: 17 | C31: pieņemšanas-kontroles iekārtu programmēšanu un datoru aplikācijas “INTEGRITI” konfigurēšanu | E31: kpl. | F31: 1
G32: 0 | H32: 0
C33: Tiešās izmaksas kopā, t.sk. darba devēja sociālais nodoklis(23,59%)
B35: Piezīmes:
A36: ='1,1'!A24:G24 -> 0
B40: Sastādīja: | M40: =Koptame!B39 -> Pārbaudīja:
C41: =Koptame!C34 -> 0 | N41: =Koptame!C40 -> 0
C42: =Koptame!C35 -> 0 | N42: =Koptame!C41 -> 0

Sheet 2,13
H1: Lokālā tāme Nr. | I1: =kops2!B33 -> 2,13
A2: =C13 -> Centralizētā izziņošanas sistēma
C3: Būves nosaukums: | E3: =Koptame!C11 -> Pirmsskolas izglītības iestāde
C4: Objekta nosaukums: | E4: =Koptame!C12 -> Pirmsskolas izglītības iestādes jaunbūve
C5: Objekta adrese: | E5: =Koptame!C13 -> Baložu iela 33, Baloži, Ķekavas novads
C6: =Koptame!B14 -> Iepirkuma Id Nr. | E6: =Koptame!C14 -> ĶNP2023/
A7: =Koptame!B17 -> Tāme sastādīta 2024.gada tirgus cenās | P7: Tāmes izmaksas euro: | Q7: =Q39 -> 0
M9: =Koptame!D16 -> Tāme sastādīta:
A11: Nr.p.k. | B11: Kods | C11: Būvdarbu nosaukums | E11: Mērvienība | F11: Daudzums | G11: Vienības izmaksas | M11: Kopā uz visu apjomu
G12: Laika norma (c/h) | H12: Darba samaksas likme (euro/h) | I12: Darba alga (euro) | J12: Būvizstrādājumi (euro) | K12: Mehānismi (euro) | L12: Kopā (euro) | M12: Darbietilpība (c/h) | N12: Darba alga (euro) | O12: Būvizstrādājumi (euro) | P12: Mehānismi (euro) | Q12: Summa (euro)
C13: =kops2!C33 -> Centralizētā izziņošanas sistēma | L13: =SUM(I13:K13) -> 0 | M13: =ROUND(G13*F13,2) -> 0 | N13: =ROUND(I13*F13,2) -> 0 | O13: =ROUND(J13*F13,2) -> 0 | P13: =ROUND(K13*F13,2) -> 0 | Q13: =SUM(N13:P13) -> 0
C14: Montāžas un palaišanas darbi
A15: 1 | C15: Servera un komutācijas statne ar metāla durvīm un slēdzi | D15: 42U 1000x800mm | E15: kpl. | F15: 1
A16: 2 | C16: Ventilatoru panelis ar termostatu | E16: kpl. | F16: 1
A17: 3 | C17: 19' plaukts | E17: gb. | F17: 3
A18: 4 | C18: Akumulatoru ladēšanas iekārtas | D18: PLN-24CH12 | E18: kpl. | F18: 1
A19: 5 | C19: Akumulatoru baterija 12V 70A/h | D19: Bosch | E19: gb. | F19: 2
A20: 6 | C20: Kabineta tipa skaļrunis (20 / 10 / 5 / 2.5 W) | D20: LB1-UM20E-L | E20: kpl. | F20: =35+8 -> 43
A21: 7 | C21: Griestu skaļrunis( 6 / 3 / 1.5 / 0.75 W); piekārtie griesti | D21: LBC3086/41 | E21: kpl. | F21: 110
A22: 8 | C22: Griestu skaļruņa ugunsdrošs korpuss | D22: LBC3081/02 | E22: gb. | F22: =F21 -> 110
A23: 9 | C23: Barošanas kabelis | D23: 3x2.5 FE180/E30 | E23: m | F23: 50
A24: 10 | C24: Kabelis (Mikrofonu stacijas pieslēgšanai) | D24: UTP Kat. 5e E30 | E24: m | F24: 90
A25: 11 | C25: Aizsargcaurule/gofrētā LSZH d25 mm | E25: m | F25: 500
A26: 12 | C26: Ugunsdrošais pildījums | D26: (java GVS Fire Stop ) | E26: kpl. | F26: 1
A27: 13 | C27: Instalācijas materiāli | E27: kpl. | F27: 1
A28: 14 | C28: Audio izziņošanas sistēmas kontrolieris | D28: LBB 1990/00 | E28: gb. | F28: 1
A29: 15 | C29: Audio izziņošanas sistēmas maršrutētājs | D29: LBB 1992/00 | E29: gb. | F29: 2
A30: 16 | C30: Pastiprinātājs | D30: LBB 1935/20 | E30: gb. | F30: 3
A31: 17 | C31: Balss signalizācijas zvanu stacija | D31: LBB 1956/00 | E31: gb. | F31: 1
A32: 18 | C32: Balss trauksmes ziņojumu klaviatūra | D32: LBB 1957/000 | E32: gb. | F32: 2
A33: 19 | C33: Līnijas gala iekārtas | D33: PVA-1WEOL | E33: gb. | F33: 12
A34: 20 | C34: Ugunsizturīgs kabelis | D34: 1x2x1.0 (E30) | E34: m | F34: =(2444+110*2+35*2+8*2)*1.1 -> 3025
A35: 21 | C35: Zemējuma kopne grīdas komutācijas skapim | E35: kpl. | F35: 1
A36: 22 | C36: Rozešu bloks x8 ar slēdzi 230V 19" 1U | E36: gb. | F36: 1
A37: 23 | C37: Aizsargcaurule cietā PVC d25 mm | D37: FRANKISCHE, isofix-EL-F 320N | E37: m | F37: 400
C39: Tiešās izmaksas kopā, t.sk. darba devēja sociālais nodoklis(23,59%)
B41: Piezīmes:
A42: ='1,1'!A24:G24 -> 0
B46: Sastādīja: | M46: =Koptame!B39 -> Pārbaudīja:
C47: =Koptame!C34 -> 0 | N47: =Koptame!C40 -> 0
C48: =Koptame!C35 -> 0 | N48: =Koptame!C41 -> 0

Sheet 2,14
H1: Lokālā tāme Nr. | I1: =kops2!B34 -> 2,14
A2: =C13 -> Dūmu aizsardzība
C3: Būves nosaukums: | E3: =Koptame!C11 -> Pirmsskolas izglītības iestāde
C4: Objekta nosaukums: | E4: =Koptame!C12 -> Pirmsskolas izglītības iestādes jaunbūve
C5: Objekta adrese: | E5: =Koptame!C13 -> Baložu iela 33, Baloži, Ķekavas novads
C6: =Koptame!B14 -> Iepirkuma Id Nr. | E6: =Koptame!C14 -> ĶNP2023/
A7: =Koptame!B17 -> Tāme sastādīta 2024.gada tirgus cenās | P7: Tāmes izmaksas euro: | Q7: =Q27 -> 0
M9: =Koptame!D16 -> Tāme sastādīta:
A11: Nr.p.k. | B11: Kods | C11: Būvdarbu nosaukums | E11: Mērvienība | F11: Daudzums | G11: Vienības izmaksas | M11: Kopā uz visu apjomu
G12: Laika norma (c/h) | H12: Darba samaksas likme (euro/h) | I12: Darba alga (euro) | J12: Būvizstrādājumi (euro) | K12: Mehānismi (euro) | L12: Kopā (euro) | M12: Darbietilpība (c/h) | N12: Darba alga (euro) | O12: Būvizstrādājumi (euro) | P12: Mehānismi (euro) | Q12: Summa (euro)
C13: =kops2!C34 -> Dūmu aizsardzība | L13: =SUM(I13:K13) -> 0 | M13: =ROUND(G13*F13,2) -> 0 | N13: =ROUND(I13*F13,2) -> 0 | O13: =ROUND(J13*F13,2) -> 0 | P13: =ROUND(K13*F13,2) -> 0 | Q13: =SUM(N13:P13) -> 0
C14: Montāžas un palaišanas darbi
A15: 1 | C15: Divu - sešu zonu vadības panelis | D15: ACTULUX SVL 48V 10A | E15: gb. | F15: 1
A16: 2 | C16: Vienas zonas paplašinātājs | D16: ACTULUX SVL Group Board | E16: gb. | F16: 1
A17: 3 | C17: Trauksmes pogas | D17: Actulux Smoke vent IP 40 | E17: gb. | F17: 11
A18: 4 | C18: Dūmu lūku automātikas piedziņa | D18: Actulux HCV 500/1000 | E18: gb. | F18: 3
A19: 5 | C19: Elektriskais logu atvērējs | D19: 48 V DC HCV 500 mN | E19: gb. | F19: 3
A20: 6 | C20: Barošanas kabelis | D20: E30 3x1,5 | E20: m | F20: 90
A21: 7 | C21: Kabelis piedziņu un aizvērēju savienošanai | D21: (N)HXH-J E30 2x2.5 RE | E21: m | F21: 313
A22: 8 | C22: Kabelis pogu savienošanai | D22: E30 8x0,5 | E22: m | F22: 265
A23: 9 | C23: Ugunsdrošie blīvējumi | D23: Hilti EI 30 | E23: kpl. | F23: 1
A24: 10 | C24: Kabeļu aizsegs caurule | D24: d20 | E24: m | F24: 50
A25: 11 | C25: Ugunsdrošie stiprinājumi E90 | D25: UDFB8. E90, d 8mm | E25: gb. | F25: =(F21+F22)*3 -> 1734
C27: Tiešās izmaksas kopā, t.sk. darba devēja sociālais nodoklis(23,59%)
B29: Piezīmes:
A30: ='1,1'!A24:G24 -> 0
B34: Sastādīja: | M34: =Koptame!B39 -> Pārbaudīja:
C35: =Koptame!C34 -> 0 | N35: =Koptame!C40 -> 0
C36: =Koptame!C35 -> 0 | N36: =Koptame!C41 -> 0

Sheet 2,15
H1: Lokālā tāme Nr. | I1: =kops2!B35 -> 2,15
A2: =C13 -> Tehnoloģiskās iekārtas
C3: Būves nosaukums: | E3: =Koptame!C11 -> Pirmsskolas izglītības iestāde
C4: Objekta nosaukums: | E4: =Koptame!C12 -> Pirmsskolas izglītības iestādes jaunbūve
C5: Objekta adrese: | E5: =Koptame!C13 -> Baložu iela 33, Baloži, Ķekavas novads
C6: =Koptame!B14 -> Iepirkuma Id Nr. | E6: =Koptame!C14 -> ĶNP2023/
A7: =Koptame!B17 -> Tāme sastādīta 2024.gada tirgus cenās | P7: Tāmes izmaksas euro: | Q7: =Q105 -> 0
M9: =Koptame!D16 -> Tāme sastādīta:
A11: Nr.p.k. | B11: Kods | C11: Būvdarbu nosaukums | E11: Mērvienība | F11: Daudzums | G11: Vienības izmaksas | M11: Kopā uz visu apjomu
G12: Laika norma (c/h) | H12: Darba samaksas likme (euro/h) | I12: Darba alga (euro) | J12: Būvizstrādājumi (euro) | K12: Mehānismi (euro) | L12: Kopā (euro) | M12: Darbietilpība (c/h) | N12: Darba alga (euro) | O12: Būvizstrādājumi (euro) | P12: Mehānismi (euro) | Q12: Summa (euro)
B13: 0 | C13: =kops2!C35 -> Tehnoloģiskās iekārtas | G13: 0 | H13: 0 | L13: =SUM(I13:K13) -> 0 | M13: =ROUND(G13*F13,2) -> 0 | N13: =ROUND(I13*F13,2) -> 0 | O13: =ROUND(J13*F13,2) -> 0 | P13: =ROUND(K13*F13,2) -> 0 | Q13: =SUM(N13:P13) -> 0
C14: 57. Virtuve | G14: =IFERROR(ROUND(I14/H14,2),0) -> 0 | H14: =IF(I14>0,5,0) -> 0 | L14: =SUM(I14:K14) -> 0 | M14: =ROUND(G14*F14,2) -> 0 | N14: =ROUND(I14*F14,2) -> 0 | O14: =ROUND(J14*F14,2) -> 0 | P14: =ROUND(K14*F14,2) -> 0 | Q14: =SUM(N14:P14) -> 0
A15: 1 | C15: 57.2. Auksto un saldo ēdienu sagatavošanas darba vieta | G15: =IFERROR(ROUND(I15/H15,2),0) -> 0 | H15: =IF(I15>0,5,0) -> 0 | L15: =SUM(I15:K15) -> 0 | M15: =ROUND(G15*F15,2) -> 0 | N15: =ROUND(I15*F15,2) -> 0 | O15: =ROUND(J15*F15,2) -> 0 | P15: =ROUND(K15*F15,2) -> 0 | Q15: =SUM(N15:P15) -> 0
A16: 2 | C16: Ledusskapis no nerūsējošā tērauda AISI 304, ar 3 plauktu līmeņiem 2/1 GN, ventilējams -2/+10oC, ar LED apgaismojumu iekšpusē , ar atslēgu. 4 riteņi, 2 no tiem ar bremzēm. Brutto tilpums 520l / 480 l netto. B klimata klase, freons R600a | D16: RK710/ Tefcold/ Dānija | E16: gb | F16: 1
A17: 3 | C17: Nerūsējošā tērauda AISI 304 galds ar plauktu , ar maliņu, izlietni 400x400x250mm kreisaja pusē . .Atbīdītas kājas no aizmugures -100mm | E17: gb | F17: 1
A18: 4 | C18: Maisītājs ar garo rokturi un sifons izlietnei | E18: gb | F18: 1
A19: 5 | C19: Elektroniski galda svari ar nerūs. tērauda platformu , svēršanas kapacitāte 10 kg, precizitāte 2-5 g, ar verifikāciju. Darbojas no adaptera vai baterijām | D19: SW-1SS PLUS/ CAS | E19: gb | F19: 1
A20: 6 | C20: Nerūsējošā tērauda AISI 304 galds-paliknis ar stiprinājuma rāmi apakšā, ar maliņu.Atbīdītas kājas no aizmugures -100mm. Noslodze max. 100 kg | E20: gb | F20: 1
A21: 7 | C21: Planetārais putotājs ar tvertni uz 30 litriem, 3 maināmi ātrumi 110 - 200 - 420 apgriez./min | D21: 9300170 | E21: gb | F21: 1
A22: 8 | C22: Dārzeņu griezējs, nerūsējošā tērauda korpuss.375 apgriez. /min. Pusmēness piltuve 2,2 l, cilindriskās tvertnes Ø 58 mm un Ø 39 mm. Korpuss no nerūšējošā tērauda. | D22: CL50 Ultra(24473)/ Robot Coupe/ Francija | E22: gb | F22: 1
A23: 9 | C23: Disks komplekts kubiņiem 8x8 Disks stienīšiem 8mm Disks šķēlītēm 2mm Disks kāpostiem 1mm Disks rīve 5mm Disks rīve 3 mm Disks kartupeļu pankūkām Kubiņu disku tīrītājs | D23: 28063W;28062W;28058W;28059W,28054W;27219W;28111W;39881 | E23: gb | F23: 1
A24: 10 | C24: Nerūsējošā tērauda AISI 304 galds-skapis ar papildus plauktu, maliņu,bīdāmām durvīm, slēgtu aizmuguri. Atbīdītas kājas no aizmugures 100mm | E24: gb | F24: 1
A25: 11 | C25: 57. 5.Zāles trauku mazgātava | E25: gb
A26: 12 | C26: Nerūsējošā tērauda AISI 304 rati ar sliežu virzītājiem 6 trauku groziem 500x500 mm.Attālums starp sliežu virzītājiem 250 mm. Pagriežams sliežu bloķētājs vienā pusē. 4 riteņi, 2 no tiem ar bremzēm. | E26: gb | F26: 1
A27: 13 | C27: Nerūsējošā tērauda AISI 304 sastatne ar 5 plauktiem, metinātas konstrukcijas. . Plaukti ar pastiprinājumu. Svara izturība vismaz 120 kg katram plauktam. | E27: gb | F27: 2
A28: 14 | C28: Nerūsējošā tērauda AISI 304 galds ar plauktu, maliņu | E28: gb | F28: 1
A29: 15 | C29: Nerūsējošā tērauda AISI 304 galds ar padziļinājumu virsmā trauku groziem un apakšējo plauktu, maliņu 130 mm aizmugurē.Galdam ir izlietne 500x400 x250mm kreisajā pusē .Galds savienojas kreisajā pusē ar trauku mašīnu. Galdam ir atbīdītas kājas un plaukts no aizmugures 150 mm. | E29: gb | F29: 1
A30: 16 | C30: Skalošanas duša ar krānu un maisītāju.Elastīga šļūtene , grozāma dažādos virzienos. Duša stiprinās pie galda virsmas ar atsaiti pie sienas. Maisītāja garums vismaz 255 mm . | D30: P0201020249 / Monolith | E30: gb | F30: 1
A31: 17 | C31: Kupola trauku mazgājamā mašīna.Nerūsējošā tērauda konstrukcija korpusam, mazgāšanas tvertni, tvertnes filtru, kā arī mazgāšanas un skalošanas svirām. Pēdējā skalošanas ciklā izmanto 2 litrus tīra ūdens. 84°C skalošanas temperatūru un spiedienu garantē iebūvētais atmosfēras katls un iebūvētais skalošanas pastiprinātāja sūknis. Mazgāšanas režīmi 45/84/150 sekundes. Ierīcei ir garantētas skalošanas sistēmas (ACTIVE) gaismas diode. Zaļā gaisma norāda, ka visi izmazgātie priekšmeti ir pareizi izskaloti. Mazgāšanas veiktspēju garantē jaudīgs 0,8 kW mazgāšanas sūknis un augšējie un apakšējie nerūsējošā tērauda grozāmie mazgāšanas smidzinātāji. Iekārtā ir skalošanas līdzekļa dozators.Augstumā regulējamas kājas. | D31: 505089 NHT8P/ Zanussi | E31: gb | F31: 1
A32: 18 | C32: Grozs trauku mašīnai, glāzēm 25 nodalījumu, | D32: art. 877036 | E32: gb | F32: 4
A33: 19 | C33: Grozs trauku mašīnai, šķivjiem, paplātēm | D33: 877111 | E33: gb | F33: 2
A34: 20 | C34: Grozs trauku mašīnai, galda piederumiem, 8 nodalījumu. | D34: Art. 871102 | E34: gb | F34: 2
A35: 21 | C35: Ventilācijas nosedzkape no nerūsējošā tērauda ar sienas un griestu stiprin. un vienpusējiem cikloniskajiem filtriem Max. gaisa plūsma 675m3/h * Svars apm.45.3 kg, izvada diam. 315 mm | D35: HNPA-90/90/48/ Nova Meta | E35: gb | F35: 1
A36: 22 | C36: Nerūsējošā tērauda AISI 304 pēcmazgāšanas galds ar padziļinājumu virsmā trauku groziem un apakšējo plauktu, maliņu 130 mm aizmugurē.Galds savienojas labajā pusē ar trauku mašīnu. Galdam ir atbīdītas kājas un plaukts no aizmugures 150 mm. | E36: gb | F36: 1
A37: 23 | C37: 57.3.Virtuves trauku mazgāšanas darba vieta | E37: gb
A38: 24 | C38: Virtuves trauku mazgājamā mašīna. Groza izmērs 600x670mm, mazgāšanas priekšmetu augstums 445 mm. Komplektā nerūsējošā tērauda grozs 600x670x100mm, ieliknis 5 GN traukiem, grozs ar 8 nodalījumiem galda piederumiem. Elektronisks vadības panelis ar temperatūras displejiem. | D38: SM951E/ Compack / Itālija | E38: gb | F38: 1
A39: 25 | C39: Ventilācijas nosedzkape no nerūsējošā tērauda ar sienas un griestu stiprin. un vienpusējiem cikloniskajiem filtriem Max. gaisa plūsma 675m3/h * Svars apm. 48 kg, izvada diam. 315 mm | D39: HNPA-90/110/48/ Nova Meta | E39: gb | F39: 1
A40: 26 | C40: Nerūsējošā tērauda AISI 304 ražošanas vanna ar iekšējo izmēru 600x600x350mm, ar trīspusēju stiprinajuma rāmi apakšējā daļā, atbīdītas kājas no aizmugures 100 mm, ar maliņu . Aiz vannas pieslēguma vieta maisītājam ar dušu 32 mm diametrā. Vannai ir izņemams nerūsejošā tērauda atkritumu grozs | E40: gb | F40: 1
A41: 27 | C41: Skalošanas duša ar krānu un maisītāju.Elastīga šļūtene , grozāma dažādos virzienos. Duša stiprinās pie galda virsmas ar atsaiti pie sienas. Maisītāja garums vismaz 255 mm . | D41: P0201020249 / Monolith | E41: gb | F41: 1
A42: 28 | C42: Nerūsējošā tērauda AISI 304 sastatne ar 5 plauktiem, metinātas konstrukcijas. | E42: gb | F42: 1
A43: 29 | C43: Nerūsējošā tērauda AISI 304 metinātas konstrukcijas ratiņi ar 2 plauktiem. Kravnesība - vismaz 50 kg uz plauktu. 4 riteņi ar diametri 125 mm, ar plastikāta aizsargiem. 2 riteņi ir aprīkoti ar bremzēm. | D43: VTS2-85/55/93 | E43: gb | F43: 2
A44: 30 | C44: 57.1.Karsto ēdienu sagatavošanas darba vieta | E44: gb
A45: 31 | C45: Elektriskais netiešās apsildes katls ar tvertni 100 litri . Izgatavots no nerūsējošā tērauda AISI 304 . Elektromehāniska temperatūras kontrole, automātiska katla noliekšana 90 grādos . Temp. apvalkā 108oC Ūdens krāns ūdens iepildīšanai katlā. Komplektā rāmji katla stiprināšanai pie grīdas, noliešanas siets. | D45: 232168/ Zanussi | E45: gb | F45: 1
A46: 32 | C46: Nerūsējošā tārauda traps ar resti,netīrumu uztvērēju, sifonu, nerūsējošā tērauda kanālu un gūliju. Augsta pretkorozijas izturība, AISI 304 vai 316L. Gluds režģis, kas netraucē pārvietošanos ar ratiem. Traps iebūvēts grīdas līmenī. | D46: ACO | E46: gb | F46: 1
A47: 33 | C47: Ventilācijas nosedzkape no nerūsējošā tērauda ar sienas un griestu stiprin. un vienpusējiem cikloniskajiem filtriem ar gaisa nosūci un pieplūdi . Max. gaisa plūsma1350 m3/h * Svars apm.77 kg, nosūces izvada diam. 315 mm, pieplūdes atveres diam. 125 mm . Ar iebūvētu LED apgaismojumu, gaismas slēdzi. | D47: HPPD-140/140/48/K-ELK-610-17W;A-HGJ/ Nova Meta | E47: gb | F47: 1
A48: 34 | C48: Nerūsējošā tērauda AISI 304 galds ar plauktu ,izlietne 400x400x300 labajā pusē , ar plauktu , maliņu. Atbīdītas kājas no aizmugures 100 mm . Komplektā maisītājs ar garo rokturi un sifons. | E48: gb | F48: 1
A49: 35 | C49: Nerūsējošā tērauda izlietne roku mazgāšanai. Komplektā maisītājs un sifons | D49: RZZ-40/31/25 | E49: gb | F49: 1
A50: 36 | C50: Nerūsējoša tērauda plaukts pie sienas, 2 maināmi augstumā plauktu līmeņi | E50: gb | F50: 1
A51: 37 | C51: Nerūsējošā tērauda AISI 304 galds ar plauktu, atbīdītas kājas no aizmugures 100mm (bez maliņas). Augstumā regulējamas kājas (+30/-35 mm ) | E51: gb | F51: 1
A52: 38 | C52: Elektriskā plīts ar 4 čuguna sildvirsmām ar izmēru 300x300mm. Katras sildvirsmas jauda - 2.5 kW. Izvelkama netīrumu nobirumu paplāte zem sildvirsmām. Konstrukcija izgatavota no nerūsējošā tērauda. Apakšējā daļā plaukts , slēgta aizmugure un sānu malas. | D52: ES-T47P (55824)/ Kogast | E52: gb | F52: 1
A53: 39 | C53: Elektriskā plīts ar 4 čuguna sildvirsmām ar izmēru 300x300mm. Katras sildvirsmas jauda - 2.5 kW. Izvelkama netīrumu nobirumu paplāte zem sildvirsmām. Konstrukcija izgatavota no nerūsējošā tērauda. Apakšējā daļā plaukts , slēgta aizmugure un sānu malas. | D53: ES-T49/P/ Kogast/ Slovēnija | E53: gb | F53: 1
A54: 40 | C54: Elektriskā panna ar tilpumu 80 l, ar nerūsējošā tērauda cepšanas virsmu 15 mm biezumā, ar ūdens padevi pannā, elektrisku tvertnes sagāzšanas mehānismu . Pannas iekšējais izmērs :970х450х200 mm. Temp. regulējas no+50-300oC. Augstumā regulējamas kājiņas. | D54: EFPT-80L/ Orest | E54: gb | F54: 1
A55: 41 | C55: Elektriskais netiešās apsildes stacionārais katls ar tilpumu 100l . Nerūsējošā tērauda konstrukcija. Automātiska ūdens uzpilde tvaika apvalkā. Priekšpusē ir noliešanas krāns, augstumā regulējamas kājiņas. | D55: EBP-100L(ih)/ Orest | E55: gb | F55: 1
A56: 42 | C56: Elektriskā panna ar tilpumu 45 l, ar nerūsējošā tērauda cepšanas virsmu 15 mm biezumā, ar ūdens padevi pannā, manuālu tvertnes sagāzšanas mehānismu . Pannas iekšējais izmērs :570х450х200 mm. Temp. regulējas no+50-300oC. Augstumā regulējamas kājiņas. | D56: EFPT-45L/ Orest | E56: gb | F56: 1
A57: 43 | C57: Tvaika konvekcijas krāsns ar sliežu virzītājiem 10 GN 1/1 pannām. Nerūsējošā tērauda AISI 304 konstrukcija. Aprīkota ar automātiskās mazgāšanas funkciju šķidrajiem mazgāšanas līdzekļiem. Pilienu savācējs, rokas duša. Liels skārienjutīgs vadības panelis. Iespējams strādāt ar gatavām receptēm automātiskajā vai manuālajā režīmā. Automātiska pašdiagnostika. Klimata kontrole kamerā, attālums starp sliežu virzītājiem - 67 mm. Regulējams ventilatora ātrums, termosensors-adata ar 4 mērīšanas punktiem. Temp. 30-2600C. Ūdens mīkstinātājs - filtrs uz min. 2750 l ūdens, ar maināmu kārtridžu un regulējamu filtra galvu komplektā. Komplektā mazgāšanas līdzeklis - 1 pudele | D57: XEVC-1011-E1RM; XUC001-DR;XHC001/ Unox/ Itālija | E57: gb | F57: 1
A58: 44 | C58: Nerūsējošā tērauda GN 1/1 panna , dziļums 65 mm | D58: 806128 | E58: gb | F58: 10
A59: 45 | C59: Nerūsējošā tērauda GN 1/1 panna , dziļums 20 mm | D59: 806104 | E59: gb | F59: 10
A60: 46 | C60: Nerūsējošā tērauda GN 1/1 panna , dziļums 100 mm | D60: 806135 | E60: gb | F60: 10
A61: 47 | C61: Nerūsējošā tērauda GN 1/1 panna , dziļums 150 mm | D61: 936750424 | E61: gb | F61: 5
A62: 48 | C62: Nerūsējošā tērauda GN 1/1 reste | D62: 9367820 | E62: gb | F62: 2
A63: 49 | C63: Nerūsējošā tērauda perforēta GN 1/1 panna , dziļums 65 mm | D63: 807323 | E63: gb | F63: 10
A64: 50 | C64: Paliknis krāsnij no nerūsējošā tērauda ar 7 līmeņu sliežu virzītājiem GN 1/1 traukiem apakšējā daļā. | D64: XWVRC-0711-H;XWVLC-0711-H | E64: gb | F64: 1
A65: 51 | C65: Nerūsējošā tērauda AISI 304 galds ar plauktu, maliņu, atbīdītas kājas no aizmugures 150mm | E65: gb | F65: 1
A66: 52 | C66: Nerūsējošā tārauda traps ar resti,netīrumu uztvērēju, sifonu, nerūsējošā tērauda kanālu un gūliju. Augsta pretkorozijas izturība, AISI 304 vai 316L. Gluds režģis, kas netraucē pārvietošanos ar ratiem. Traps iebūvēts grīdas līmenī. | D66: ACO | E66: gb | F66: 3
A67: 53 | C67: Ventilācijas nosedzkape no nerūsējošā tērauda ar griestu stiprin. un divpusējiem cikloniskajiem filtriem ,iebūvētu LED apgaismojumu, gaismas slēdzi. 1 izvads ar diametru 400mm , max. gaisa plūsma 4050 m3/h * Svars apm. 124 kg | D67: HNCD-150//200//48; A-HGJ;2xK-ELK-1210-35W | E67: gb | F67: 2
A68: 54 | C68: 57.6. Gaļas un zivju pusfabrikātu sagatavošanas darba vieta | E68: gb
A69: 55 | C69: Ledusskapis no nerūsējošā tērauda AISI 304, ar 3 plauktu līmeņiem 2/1 GN, ventilējams -2/+10oC, ar LED apgaismojumu iekšpusē , ar atslēgu. 4 riteņi, 2 no tiem ar bremzēm. Brutto tilpums 520l / 480 l netto. B klimata klase, freons R600a | D69: RK710/ Tefcold/ Dānija | E69: gb | F69: 1
A70: 56 | C70: Nerūsējošā tērauda AISI 304 galds ar plauktu ,izlietne 500x500x300 kreisajā pusē , ar plauktu , maliņu. Atbīdītas kājas no aizmugures 100 mm . Komplektā maisītājs ar garo rokturi un sifons. | E70: gb | F70: 1
A71: 57 | C71: Elektroniski galda svari ar nerūs. tērauda platformu , svēršanas kapacitāte 10 kg, precizitāte 2-5 g, ar verifikāciju. Darbojas no adaptera vai baterijām | D71: SW-1SS PLUS/ CAS | E71: gb | F71: 1
A72: 58 | C72: Gaļas maļamā mašīna ar pilnu unger sistēmu(2 naži , 3 sietiņi 0, 10 un 6 mm ) no nerūsējošā tērauda. Eļļā iegremdēti tērauda zobrati. Iekļauts ventilējams asinhronais motors ar termisko aizsardzību. Nerūsējošā tērauda paplāte un piltuve. Ieslēgšanas/izslēgšanas slēdža aizsardzība ar ūdensnecaurlaidīgu gumijas pārsegu. Ražība 300 kg/h. Komplektā sietiņš 4 mm | D72: FTI136UT/ Fama Industries/ Itālija | E72: gb | F72: 1
A73: 59 | C73: Nerūsējošā tērauda AISI 304 aukstais galds ar 4 atvilknēm ar sliežu virzītāju GN 1/1 traukam un 1 durvīm, maliņu. Ventilējama dzesēšana +3+5oC. Aukstumaģents R290 | D73: TSK1214 | E73: gb | F73: 1
A74: 60 | C74: Nerūsējoša tērauda GN 1/1 trauks 150 mm | E74: gb | F74: 1
A75: 61 | C75: Nerūsējoša tērauda GN 1/2 trauks 150 mm | E75: gb | F75: 4
A76: 62 | C76: Nerūsējoša tērauda GN 1/2 vāks | E76: gb | F76: 4
A77: 63 | C77: Nerūsējoša tērauda GN 1/1 vāks | E77: gb | F77: 2
A78: 64 | C78: Nerūsējoša tērauda GN 1/1 trauks 200 mm | E78: gb | F78: 1
A79: 65 | C79: 56.Ēdamzāle | E79: gb
A80: 66 | C80: Nerūsējošā tērauda AISI 304 galds ar plauktu, maliņu, atbīdītas kājas no aizmugures 100mm | E80: gb | F80: 1
A81: 67 | C81: Marmīta rati uz 3x1/1 GN traukiem ( ar ūdeni ). Var ievietot 150 mm dziļus traukus. Regulējams termostats +30 -90oC, nerūsējošā tērauda konstrukcija. 2 riteņiem bremzes. | D81: CT 1760 TD / Forcar/ Itālija | E81: gb | F81: 1
A82: 68 | C82: 59. Virtuves telpu uzkopšanas inventāra telpa | E82: gb
A83: 69 | C83: Pazemināts nerūsējošā tērauda AISI 304 galds ar plauktu ,izlietne 500x500x300 vidū , 3 pusējs rāmis apakšā. Atbīdītas kājas no aizmugures 100 mm . Komplektā maisītājs ar garo rokturi un sifons. | E83: gb | F83: 1
A84: 70 | C84: Krāsota metāla skapis telpu uzkopšanas inventāram, ar ventilācijas atverēm. Vieta spainim apakšā, āķi birstēm, 4 plaukti vienā pusē. | D84: SMD82 | E84: gb | F84: 1
A85: 71 | C85: Nerūsējošā tērauda AISI 304 sastatne ar 4 plauktiem, metinātas konstrukcijas | E85: gb | F85: 1
A86: 72 | C86: 58.Preču saņemšanas darba vieta | E86: gb
A87: 73 | C87: Ledusskapis ar tilpumu 605 / 570 l (neto); temp. +2 līdz +10 °C, nerūsējošā tērauda ārpuse, balta iekšpuse. 4 plaukti GN 2/1 izmēra. | D87: UR600S/ Tefcold | E87: gb | F87: 1
A88: 74 | C88: Elektroniski grīdas svari 150 kg, ar nerūsējoša tērauda platformu 385 x 510mm.Svēršanas solis 50 g. Ar verifikāciju, taras funkciju. | D88: DB-1H PLUS/ CAS | E88: gb | F88: 1
A89: 75 | C89: 61.Sauso produktu noliktava | E89: gb
A90: 76 | C90: Saldētava ar tilpumu 641 / 440 l (neto); temp. -24 līdz -10 °C , nerūsējošā tērauda ārpuse, balta iekšpuse. 3 plaukti GN 2/1 izmēra. Ventilējama dzesēšana. | D90: UF700VS/ Tefcold | E90: gb | F90: 1
A91: 77 | C91: Nerūsējošā tērauda AISI 304 sastatne ar 4 plauktiem, metinātas konstrukcijas | E91: gb | F91: 2
A92: 78 | C92: 65. Dārzeņu noliktava | E92: gb
A93: 79 | C93: Nerūsējošā tērauda AISI 304 sastatne ar 4 plauktiem, metinātas konstrukcijas | E93: gb | F93: 2
A94: 80 | C94: Polipropilēna palete , dinamiskā svara izturība 500 kg. Sakraujamas cita uz citas. | D94: 26671 | E94: gb | F94: 2
A95: 81 | C95: 64. Dārzeņu cehs | E95: gb
A96: 82 | C96: Nerūsējošā tērauda AISI 304 galds ar plauktu ,izlietne 500x500x300 labajā pusē , ar plauktu , maliņu. Atbīdītas kājas no aizmugures 100 mm . Brīva vieta atkritumu tvertnei apaksā no kreisās puses 600 mm. Komplektā maisītājs ar garo rokturi un sifons. | E96: gb | F96: 1
A97: 83 | C97: Skalošanas duša ar krānu un maisītāju.Elastīga šļūtene , grozāma dažādos virzienos. Duša stiprinās pie galda virsmas ar atsaiti pie sienas. Maisītāja garums vismaz 255 mm . | D97: P0201020249 / Monolith | E97: gb | F97: 1
A98: 84 | C98: Nerūsējoša tērauda plaukts pie sienas, 2 maināmi augstumā plauktu līmeņi | E98: gb | F98: 1
A99: 85 | C99: Kartupeļu mizojamā mašīna ar ielādi 18 kg vienā ciklā , ar viegli tīrāmu nerūsējošā tērauda filtru paliknī. Ražība 500 kg /h. Korpuss no nerūsējoša tērauda AISI 304. Ventilējams asnhrons motors. Elektronisks vārsts ūdens padevei mizošanas tvertnē. Caurspīdīgs vāks procesa kontrolei . Digitāls vadības panelis, taimeris. Iekārtai ir stiprinājumi pie grīdas. | D99: FP113/ fama Industries/ Itālija | E99: gb | F99: 1
A100: 86 | C100: Nerūsējošā tārauda traps ar resti,netīrumu uztvērēju, sifonu, nerūsējošā tērauda kanālu un gūliju. Augsta pretkorozijas izturība, AISI 304 vai 316L. Gluds režģis, kas netraucē pārvietošanos ar ratiem. Traps iebūvēts grīdas līmenī. | D100: ACO | E100: gb | F100: 1
A101: 87 | C101: 62.Personāla ģērbtuve | E101: gb
A102: 88 | C102: Krāsota metāla garderobes skapītis 2 personām . Katrs nodalījums ar starpsienu, plauktu cepurēm, ventilācijas atverēm korpusā, slēdzamas durvis, augstumā regulējamu kāju rāmis | D102: x | E102: gb | F102: 4
...

Sheet 2,17
H1: Lokālā tāme Nr. | I1: 2.17
A2: =C13 -> Vadības automātikas sistēma
C3: Būves nosaukums: | E3: =Koptame!C11 -> Pirmsskolas izglītības iestāde
C4: Objekta nosaukums: | E4: =Koptame!C12 -> Pirmsskolas izglītības iestādes jaunbūve
C5: Objekta adrese: | E5: =Koptame!C13 -> Baložu iela 33, Baloži, Ķekavas novads
C6: =Koptame!B14 -> Iepirkuma Id Nr. | E6: =Koptame!C14 -> ĶNP2023/
A7: =Koptame!B17 -> Tāme sastādīta 2024.gada tirgus cenās | P7: Tāmes izmaksas euro: | Q7: =Q70 -> 0
M9: =Koptame!D16 -> Tāme sastādīta:
A11: Nr.p.k. | B11: Kods | C11: Būvdarbu nosaukums | E11: Mērvienība | F11: Daudzums | G11: Vienības izmaksas | M11: Kopā uz visu apjomu
G12: Laika norma (c/h) | H12: Darba samaksas likme (euro/h) | I12: Darba alga (euro) | J12: Būvizstrādājumi (euro) | K12: Mehānismi (euro) | L12: Kopā (euro) | M12: Darbietilpība (c/h) | N12: Darba alga (euro) | O12: Būvizstrādājumi (euro) | P12: Mehānismi (euro) | Q12: Summa (euro)
B13: 0 | C13: =kops2!C36 -> Vadības automātikas sistēma | G13: 0 | H13: 0 | L13: =SUM(I13:K13) -> 0 | M13: =ROUND(G13*F13,2) -> 0 | N13: =ROUND(I13*F13,2) -> 0 | O13: =ROUND(J13*F13,2) -> 0 | P13: =ROUND(K13*F13,2) -> 0 | Q13: =SUM(N13:P13) -> 0
C14: Ēkas vadības un automatizācijas sistēma ESS-VAS | G14: =IFERROR(ROUND(I14/H14,2),0) -> 0 | H14: =IF(I14>0,5,0) -> 0 | L14: =SUM(I14:K14) -> 0 | M14: =ROUND(G14*F14,2) -> 0 | N14: =ROUND(I14*F14,2) -> 0 | O14: =ROUND(J14*F14,2) -> 0 | P14: =ROUND(K14*F14,2) -> 0 | Q14: =SUM(N14:P14) -> 0
C15: VADĪBAS SADALNE VAS-G | G15: =IFERROR(ROUND(I15/H15,2),0) -> 0 | H15: =IF(I15>0,5,0) -> 0 | L15: =SUM(I15:K15) -> 0 | M15: =ROUND(G15*F15,2) -> 0 | N15: =ROUND(I15*F15,2) -> 0 | O15: =ROUND(J15*F15,2) -> 0 | P15: =ROUND(K15*F15,2) -> 0 | Q15: =SUM(N15:P15) -> 0
A16: 1 | C16: Sadales skapis, IP54, komplektā ar apgaismojumu, utt. | D16: Hager Orion | E16: gb | F16: 1
A17: 2 | C17: Montāžas plāksne | D17: Hager Orion | E17: gb | F17: 1
A18: 3 | C18: Aizsardzības slēdži, releji, drošinātāju, spailes un citi papildmateriāli | D18: Hager | E18: kpl | F18: 1
A19: 4 | C19: Industriālais Ethernet komutators, 8port | D19: Weidmuller vai ekvivalents | E19: gb | F19: 2
A20: 5 | C20: Barošanas bloks 120W 24V 10A, VAV vārstiem | D20: Weidmuller PRO MAX | E20: gb | F20: 1
A21: 6 | C21: Barošanas bloks 120W 24V 10A, VP pultīm | D21: Weidmuller PRO MAX | E21: gb | F21: 1
A22: 7 | C22: Barošanas bloks 90W 24V 5A, Sadalnes iekārtām | D22: Weidmuller PRO MAX | E22: gb | F22: 1
A23: 8 | C23: Centrālais kontrolieris/ WEB serveris, WiFi, (2) izolētas RS-485 ar izvēles novirzi un izbeigšanu, (2) 10/100MB Ethernet porti; 16 Universālās ieejas, 4 Digitālās ieejas, 8 Digitālās izejas, 8 Analogās izejas 1GB DDR3 SDRAM un noņemama micro-SD karte ar 4 GB zibatmiņa kopējā krātuve / 2 GB lietotāja atmiņa; 24V DC barošanas avots | D23: iSMACONTROLLI-B-MAC36NL-RS | E23: gb | F23: 1
A24: 9 | C24: Integrācijas modulis ar 1 izolētu RS-485 portiem, konvertē datus no Modbus RTU/ASCII uz atbilstošiem TCP/IP protokoliem (Modbus TCP/IP un MBus TCP/IP) u ISMA-B-MG-IP ļauj apkalpot līdz 128 Modbus RTU/ASCII ierīcēm ar unikālu adresi, kas savienota ar RS485 portu, u Integrācija ar Niagara 4.3+ un MAC36NL-RS. | D24: iSMACONTROLLI-B-MG-IP | E24: gb | F24: 1
A25: 10 | C25: IO modulis, universāls ar Modbus RTU/ASCII vai BACnet MSTP kommunikāciju, integrācija ar Niagara 4.3+ un MAC 36 | D25: iSMACONTROLLI-B-MIX38IP | E25: gb | F25: 13
A26: 11 | C26: Niagara Core licence iSMACONTROLLI-B-MAC kontrolierim - 1250 Proxy punkti | D26: iSMACONTROLLI-B-MAC-L-1250 | E26: gb | F26: 1
A27: 12 | C27: ESS-VAS serveris / BMS server | D27: DELL vai ekvivalents | E27: gb | F27: 1
A28: 13 | C28: Procesu vizualizācijas programnodrošinājums Niagara Supervisor v4.8 vai jaunāk; HTML5 un Java lietotāja interfeiss (UI); JavaScript datu saskarnes bibliotēka (BajaScript); ar export licenci uz CSV/MyCSV; 5 WEB lietotāji, | D28: Niagara Supervisor, Tridium | E28: kpl | F28: 1
A29: 14 | C29: Sistēmas ieregulēšana, palaišana | E29: kpl | F29: 1
A30: 15 | C30: Kotroliera programēšanas darbi | E30: kpl | F30: 1
A31: 16 | C31: Montāžas palīgmateriāli | E31: kpl | F31: 1
A32: 17 | C32: Izpilddokumentācijas un lietošanas instrukcijas sagatavošana (latviešu un angļu valodā), iekļaujot programmatūras piekļuves kodus. Elektroniski - Word, Excel, DWG, PDF | E32: kpl | F32: 1
A33: 18 | C33: SISTĒMU VIZUALIZĀCIJA
A34: 19 | C34: Bāzes vizualizācija | E34: kpl | F34: 1
A35: 20 | C35: Mikroklimata vizualizācija | E35: kpl | F35: 1
A36: 21 | C36: Apgaismojuma vizualizācija | E36: kpl | F36: 1
A37: 22 | C37: Pieslēgto AVK iekārtu vizualizācija | E37: kpl | F37: 1
A38: 23 | C38: Ventiekārtu vizualizācija | E38: kpl | F38: 1
A39: 24 | C39: Skaitītāju vizualizācija | E39: kpl | F39: 1
A40: 25 | C40: VAV vārstu vizualizācija | E40: kpl | F40: 1
A41: 26 | C41: IEKĀRTAS UN INTEGRĀCIJA
A42: 27 | C42: Temperatūras devēji | D42: ISMA RF/E-20 | E42: gb | F42: 61
A43: 28 | C43: Klimata vadības pults iSMA-TP-C-DISP | D43: iSMACONTROLLI TP-C-DISP-B | E43: gb | F43: 49
A44: 29 | C44: Temperatūras devēju pieslēgšana un integrēšana | E44: gb | F44: 61
A45: 30 | C45: Klimata vādibas pulšu pieslēgšana un integrēšana | E45: gb | F45: 49
A46: 31 | C46: UK skaitītaju pieslēgšana un integrēšana(M-BUS) | E46: gb | F46: 2
A47: 32 | C47: Modbus sistēmas konfigurācija | E47: kpl | F47: 1
A48: 33 | C48: Bacnet sistēmas konfigurācija | E48: kpl | F48: 1
A49: 34 | C49: VAV vārstu pieslēgšana un integrācija(Modbus RTU) | E49: gb | F49: 65
A50: 35 | C50: Apkures kolektoru pieslēgšana, integrācija(DO-24VDC) | E50: gb | F50: 25
A51: 36 | C51: PN iekārtu pieslēgšana un integrācija(Bacnet) | E51: gb | F51: 5
A52: 37 | C52: KABEĻI, PALĪGMATERIĀLI, IZBŪVES DOKUMENTĀCIJA
A53: 38 | C53: Kabelis | D53: YSLY-JZ 7x0.75 | E53: m | F53: 3670
A54: 39 | C54: Kabelis | D54: YSLY-JZ 5x0.75 | E54: m | F54: 1100
A55: 40 | C55: Kabelis | D55: LiYCY 2x0.75 | E55: m | F55: 6900
A56: 41 | C56: Kabelis | D56: YnTKSYekw 2x2x0.8 | E56: m | F56: 2460
A57: 42 | C57: Kabelis | D57: YSLY-JZ 3x1.5 | E57: m | F57: 1270
A58: 43 | C58: Kabelis | D58: LiYCY 2x1.5 | E58: m | F58: 1050
A59: 44 | C59: Kabelis | D59: LiYCY 3x0.75 | E59: m | F59: 30
A60: 45 | C60: Kabelis | D60: YSLY-JZ 5x1.5 | E60: m | F60: 210
A61: 46 | C61: Kabelis | D61: NYM-J 9x1.5 | E61: m | F61: 20
A62: 47 | C62: Kabelis | D62: CAT6 U/FTP | E62: m | F62: 10
A63: 48 | C63: PVC cietās un Gofrētās caurules d=16..32mm | E63: kpl | F63: 1
A64: 49 | C64: Cauruļu stiprinājumi, savienojumi, pagrieziena elementi | E64: kpl | F64: 1
A65: 50 | C65: Nozarkārbas | E65: kpl | F65: 1
A66: 51 | C66: Palīgmateriāli | E66: kpl | F66: 1
A67: 52 | C67: Marķēšanas materiāli | E67: kpl | F67: 1
A68: 53 | C68: Ugunsdrošā aizpildījuma/blīvējuma komplekts | E68: kpl | F68: 1
G69: 0 | H69: 0
C70: Tiešās izmaksas kopā, t.sk. darba devēja sociālais nodoklis(23,59%)
B72: Piezīmes:
A73: ='1,1'!A24:G24 -> 0
B77: Sastādīja: | M77: =Koptame!B39 -> Pārbaudīja:
C78: =Koptame!C34 -> 0 | N78: =Koptame!C40 -> 0
C79: =Koptame!C35 -> 0 | N79: =Koptame!C41 -> 0

Sheet 2,18
G1: Lokālā tāme Nr. | H1: 2,18
A2: =C13 -> Lifts
C3: Būves nosaukums: | D3: =Koptame!C11 -> Pirmsskolas izglītības iestāde
C4: Objekta nosaukums: | D4: =Koptame!C12 -> Pirmsskolas izglītības iestādes jaunbūve
C5: Objekta adrese: | D5: =Koptame!C13 -> Baložu iela 33, Baloži, Ķekavas novads
C6: =Koptame!B14 -> Iepirkuma Id Nr. | D6: =Koptame!C14 -> ĶNP2023/
A7: =Koptame!B17 -> Tāme sastādīta 2024.gada tirgus cenās | O7: Tāmes izmaksas euro: | P7: =P17 -> 0
L9: =Koptame!D16 -> Tāme sastādīta:
A11: Nr.p.k. | B11: Kods | C11: Būvdarbu nosaukums | D11: Mērvienība | E11: Daudzums | F11: Vienības izmaksas | L11: Kopā uz visu apjomu
F12: Laika norma (c/h) | G12: Darba samaksas likme (euro/h) | H12: Darba alga (euro) | I12: Būvizstrādājumi (euro) | J12: Mehānismi (euro) | K12: Kopā (euro) | L12: Darbietilpība (c/h) | M12: Darba alga (euro) | N12: Būvizstrādājumi (euro) | O12: Mehānismi (euro) | P12: Summa (euro)
C13: =kops2!C37 -> Lifts | K13: =SUM(H13:J13) -> 0 | L13: =ROUND(F13*E13,2) -> 0 | M13: =ROUND(H13*E13,2) -> 0 | N13: =ROUND(I13*E13,2) -> 0 | O13: =ROUND(J13*E13,2) -> 0 | P13: =SUM(M13:O13) -> 0
C14: Montāžas un palaišanas darbi
A15: 1 | C15: KONE Mono300DX ® 630 kg / 8 personas, 2 pieturas Elektriska, trošu, bezreduktora sinhronais motors EcoDisc® NMX07 ar apgriezienu skaita bezpakāpju regulēšanu (frekvenču regulēšana), 180 starti stundā/200 000 starti gadā vai ekvivalents | D15: kpl | E15: 2
C17: Tiešās izmaksas kopā, t.sk. darba devēja sociālais nodoklis(23,59%)
B19: Piezīmes:
A20: ='1,1'!A24:G24 -> 0
B24: Sastādīja: | L24: =Koptame!B39 -> Pārbaudīja:
C25: =Koptame!C34 -> 0 | M25: =Koptame!C40 -> 0
C26: =Koptame!C35 -> 0 | M26: =Koptame!C41 -> 0

Sheet kops3
A2: Kopsavilkuma aprēķins Nr. 3
A6: =Koptame!C23 -> Specializētie darbi-ārējie tīkli, sistēmas
A8: Būves nosaukums: | C8: =Koptame!C11 -> Pirmsskolas izglītības iestāde
A9: Objekta nosaukums: | C9: =Koptame!C12 -> Pirmsskolas izglītības iestādes jaunbūve
A10: Objekta adrese: | C10: =Koptame!C13 -> Baložu iela 33, Baloži, Ķekavas novads
A11: =Koptame!B14 -> Iepirkuma Id Nr. | C11: =Koptame!C14 -> ĶNP2023/
F13: Par kopējo summu, euro | H13: =E31 -> 0
F14: Kopējā darbietilpība, c/h | H14: =I27 -> 0
H16: =Koptame!D16 -> Tāme sastādīta:
A18: Nr.p.k. | B18: Kods, tāmes Nr. | C18: Būvdarbu veids vai konstruktīvā elementa nosaukums | E18: Tāmes izmaksas (euro) | F18: Tai skaitā | I18: Darbietilpība (c/h)
F19: darba alga (euro) | G19: materiāli (euro) | H19: mehānismi (euro)
A21: 1 | B21: 3,1 | C21: Ārējais ūdensvads | E21: ='3,1'!P51 -> 0 | F21: ='3,1'!M51 -> 0 | G21: ='3,1'!N51 -> 0 | H21: ='3,1'!O51 -> 0 | I21: ='3,1'!L51 -> 0
A22: 2 | B22: 3,2 | C22: Ārējā kanalizācija | E22: ='3,2'!P45 -> 0 | F22: ='3,2'!M45 -> 0 | G22: ='3,2'!N45 -> 0 | H22: ='3,2'!O45 -> 0 | I22: ='3,2'!L45 -> 0
A23: 3 | B23: 3,3 | C23: Ārējie elektromontāžas darbi | E23: ='3,3'!Q55 -> 0 | F23: ='3,3'!N55 -> 0 | G23: ='3,3'!O55 -> 0 | H23: ='3,3'!P55 -> 0 | I23: ='3,3'!M55 -> 0
A24: 4 | B24: 3,4 | C24: Ārējie siltumtīkli | E24: ='3,4'!P40 -> 0 | F24: ='3,4'!M40 -> 0 | G24: ='3,4'!N40 -> 0 | H24: ='3,4'!O40 -> 0 | I24: ='3,4'!L40 -> 0
A25: 5 | B25: 3,5 | C25: Ārējie vājstrāvas tīkli | E25: ='3,5'!Q40 -> 0 | F25: ='3,5'!N40 -> 0 | G25: ='3,5'!O40 -> 0 | H25: ='3,5'!P40 -> 0 | I25: ='3,5'!M40 -> 0
C27: Kopā | F27: =SUM(F21:F26) -> 0 | G27: =SUM(G21:G26) -> 0 | H27: =SUM(H21:H26) -> 0 | I27: =SUM(I21:I26) -> 0
A28: Virsizdevumi | D28: =kops1!$D$34 -> %
C29: tai skaitā darba aizsardzība
A30: Peļņa | D30: =kops1!$D$36 -> %
C31: Kopā bez PVN
B34: Sastādīja:
C35: =Koptame!C34 -> 0
C36: =Koptame!C35 -> 0
B40: =Koptame!B39 -> Pārbaudīja:
C41: =Koptame!C40 -> 0
C42: =Koptame!C41 -> 0

Sheet 3,1
G1: Lokālā tāme Nr. | H1: =kops3!B21 -> 3,1
A2: =C13 -> Ārējais ūdensvads
C3: Būves nosaukums: | D3: =Koptame!C11 -> Pirmsskolas izglītības iestāde
C4: Objekta nosaukums: | D4: =Koptame!C12 -> Pirmsskolas izglītības iestādes jaunbūve
C5: Objekta adrese: | D5: =Koptame!C13 -> Baložu iela 33, Baloži, Ķekavas novads
C6: =Koptame!B14 -> Iepirkuma Id Nr. | D6: =Koptame!C14 -> ĶNP2023/
A7: =Koptame!B17 -> Tāme sastādīta 2024.gada tirgus cenās | O7: Tāmes izmaksas euro: | P7: =P51 -> 0
L9: =Koptame!D16 -> Tāme sastādīta:
A11: Nr.p.k. | B11: Kods | C11: Būvdarbu nosaukums | D11: Mērvienība | E11: Daudzums | F11: Vienības izmaksas | L11: Kopā uz visu apjomu
F12: Laika norma (c/h) | G12: Darba samaksas likme (euro/h) | H12: Darba alga (euro) | I12: Būvizstrādājumi (euro) | J12: Mehānismi (euro) | K12: Kopā (euro) | L12: Darbietilpība (c/h) | M12: Darba alga (euro) | N12: Būvizstrādājumi (euro) | O12: Mehānismi (euro) | P12: Summa (euro)
C13: =kops3!C21 -> Ārējais ūdensvads | K13: =SUM(H13:J13) -> 0 | L13: =ROUND(F13*E13,2) -> 0 | M13: =ROUND(H13*E13,2) -> 0 | N13: =ROUND(I13*E13,2) -> 0 | O13: =ROUND(J13*E13,2) -> 0 | P13: =SUM(M13:O13) -> 0
C14: Dzeramā ūdens ūdensvads Ū-1 | F14: =IFERROR(ROUND(H14/G14,2),0) -> 0 | G14: =IF(H14>0,5,0) -> 0 | K14: =SUM(H14:J14) -> 0 | L14: =ROUND(F14*E14,2) -> 0 | M14: =ROUND(H14*E14,2) -> 0 | N14: =ROUND(I14*E14,2) -> 0 | O14: =ROUND(J14*E14,2) -> 0 | P14: =SUM(M14:O14) -> 0
A15: 1 | C15: EVOAQUA VISION OD110 PN10. Ietverot grunts rakšanu, aizbēršanu, liekās grunts transportu uz atbērtni un tās montāža | D15: m | E15: 320
A16: 2 | C16: Īscaurule DN200 ar rotējošu atloku | D16: gb | E16: 2
A17: 3 | C17: Atloku trejgabals DN250/100/250 | D17: gb | E17: 1
A18: 4 | C18: Ķīļveida atloku aizbīdnis DN100 | D18: gb | E18: 1
A19: 5 | C19: Izjaucams atloku savienojums DN100 | D19: gb | E19: 2
A20: 6 | C20: Betonēts balsts 0,04m3 | D20: gb | E20: 1
A21: 7 | C21: Apakšzemes plastmasas stacionārā tipa aizbīdņu kape D160 ar atbalsta gredzenu (ceļiem bez cietā seguma), fiksēta augstuma aizbīdņa atslēgstieni | D21: kpl | E21: 1
A22: 8 | C22: Tranšeju rakšana /aizbēršana | D22: m3 | E22: 289
A23: 9 | C23: Smilts apbērums virs cauruļvadiem | D23: m3 | E23: 127
A24: 10 | C24: Vairogi tranšeju sienu nostiprināšanai | D24: m | E24: 289
A25: 11 | C25: Smilts pamatnes ierīkošana zem cauruļvadiem h=0.20*l*1.0 | D25: m3 | E25: 64
A26: 12 | C26: Šķērsojumi ar esošajām, turpmāk ekspluatācijā izmantojamām, cauruļvadu un kabeļu inženierkomunikācijām, t.s. to atšurfēšanu | D26: vietas | E26: 4
... A28: 14 | C28: Montāžas palīgmateriāli | D28: kpl | E28: 1
A29: 15 | C29: Ūdens uzskaites aka Ū-1
A30: 16 | C30: Metāla caurule DN 40 | D30: m | E30: 2
A31: 17 | C31: Vītnes pāreja DN40/DN40 | D31: gb | E31: 2
A32: 18 | C32: Elektrometināma sedlu uzlika OD110/50 | D32: gb | E32: 2
A33: 19 | C33: Elektrometināms līkums OD50 | D33: gb | E33: 2
A34: 20 | C34: Ventīlis DN40 | D34: gb | E34: 2
A35: 21 | C35: Ventīlis DN25 | D35: gb | E35: 1
A36: 22 | C36: Vienvirziena vārsts DN40 | D36: gb | E36: 1
A37: 23 | C37: Daudzplūsmu (R>160) ūdens skaitītājs ar skrūvēm Q3=16m3/h DN40 , L=300 mm | D37: gb | E37: 1
A38: 24 | C38: Krustgabals DN25/DN40 | D38: gb | E38: 1
A39: 25 | C39: Elektromagnētiskais aizbīdnis DN100 ar rokratu | D39: gb | E39: 1
A40: 26 | C40: Manometrs 1/2’’ | D40: gb | E40: 1
A41: 27 | C41: Dzelzsbetona groda aka ID1500 ar iestrādātu gropi, pārsedzi, pamatu, balstiem (h=0.20m), kāpnēm un hidroizolāciju. | D41: kpl | E41: 1
... A44: 30 | C44: Montāžas palīgmateriāli | D44: kpl | E44: 1
A45: 31 | C45: Ceļa seguma atjaunošana Sila ielā (Brauktuve ar nesaistīta minerālmateriāla segumu)
A46: 32 | C46: Minerālmateriālu maisījums 0/32s, h=0.18m | D46: m2 | E46: 3.3
A47: 33 | C47: Salturīgās kārtas minerālmateriāli nestspējai >60 Mpa, h=0.30m | D47: m2 | E47: 3.3
A48: 34 | C48: Zālāja atjaunošana
A49: 35 | C49: Augu zeme, zālāju sēkla un mēslojums, h=0.15 m | D49: m2 | E49: 23
C51: Tiešās izmaksas kopā, t.sk. darba devēja sociālais nodoklis(23,59%)
B53: Piezīmes:
A54: ='2,1'!A146:H146 -> 0
A55: ='2,1'!$A$147 -> 0
B58: Sastādīja: | L58: =Koptame!B39 -> Pārbaudīja:
C59: =Koptame!C34 -> 0 | M59: =Koptame!C40 -> 0
C60: =Koptame!C35 -> 0 | M60: =Koptame!C41 -> 0

Sheet 3,2
G1: Lokālā tāme Nr. | H1: =kops3!B22 -> 3,2
A2: =C13 -> Ārējā kanalizācija
C3: Būves nosaukums: | D3: =Koptame!C11 -> Pirmsskolas izglītības iestāde
C4: Objekta nosaukums: | D4: =Koptame!C12 -> Pirmsskolas izglītības iestādes jaunbūve
C5: Objekta adrese: | D5: =Koptame!C13 -> Baložu iela 33, Baloži, Ķekavas novads
C6: =Koptame!B14 -> Iepirkuma Id Nr. | D6: =Koptame!C14 -> ĶNP2023/
A7: =Koptame!B17 -> Tāme sastādīta 2024.gada tirgus cenās | O7: Tāmes izmaksas euro: | P7: =P45 -> 0
L9: =Koptame!D16 -> Tāme sastādīta:
A11: Nr.p.k. | B11: Kods | C11: Būvdarbu nosaukums | D11: Mērvienība | E11: Daudzums | F11: Vienības izmaksas | L11: Kopā uz visu apjomu
F12: Laika norma (c/h) | G12: Darba samaksas likme (euro/h) | H12: Darba alga (euro) | I12: Būvizstrādājumi (euro) | J12: Mehānismi (euro) | K12: Kopā (euro) | L12: Darbietilpība (c/h) | M12: Darba alga (euro) | N12: Būvizstrādājumi (euro) | O12: Mehānismi (euro) | P12: Summa (euro)
B13: 0 | C13: =kops3!C22 -> Ārējā kanalizācija | F13: 0 | G13: 0 | H13: 0 | I13: 0 | J13: 0 | K13: =SUM(H13:J13) -> 0 | L13: =ROUND(F13*E13,2) -> 0 | M13: =ROUND(H13*E13,2) -> 0 | N13: =ROUND(I13*E13,2) -> 0 | O13: =ROUND(J13*E13,2) -> 0 | P13: =SUM(M13:O13) -> 0
C14: Lietusūdens kanalizācija | F14: =IFERROR(ROUND(H14/G14,2),0) -> 0 | G14: =IF(H14>0,5,0) -> 0 | K14: =SUM(H14:J14) -> 0 | L14: =ROUND(F14*E14,2) -> 0 | M14: =ROUND(H14*E14,2) -> 0 | N14: =ROUND(I14*E14,2) -> 0 | O14: =ROUND(J14*E14,2) -> 0 | P14: =SUM(M14:O14) -> 0
A15: 1 | C15: RIGID MULTI PP-B SN8 OD250. Ietverot grunts rakšanu, aizbēršanu, liekās grunts transportu uz atbērtni un tās montāža | D15: m | E15: 51
A16: 2 | C16: EVODRAIN HARD PP OD250 ar 360 grādu perforāciju SN8, tai skaitā ģeotekstila filtrs. Ietverot grunts rakšanu, aizbēršanu, liekās grunts transportu uz atbērtni un tās montāža | D16: m | E16: 263
A17: 3 | C17: RIGID MULTI PP-B SN8 OD160. Ietverot grunts rakšanu, aizbēršanu, liekās grunts transportu uz atbērtni un tās montāža | D17: m | E17: 52
A18: 4 | C18: EVODRAIN HARD PP OD160 ar 360 grādu perforāciju SN8, tai skaitā ģeotekstila filtrs. Ietverot grunts rakšanu, aizbēršanu, liekās grunts transportu uz atbērtni un tās montāža | D18: m | E18: 33
A19: 5 | C19: RIGID MULTI PP-B SN8 OD110. Ūdensnoteku pievienošanai lietus kanalizācijai | D19: m | E19: 15
A20: 6 | C20: ACO Self gūlija ar čuguna resti, guržu uztveršanas spainīti. pieslēgumu no sāniem | D20: kpl | E20: 14
A21: 7 | C21: Plastmasas kanalizācijas uztvērējaka DN 400/315 mm ar nosēddaļu 0,5m. Komplektā ar teleskopisko kātu un vāku (uzstādīšanai zaļajā segumā) | D21: kpl | E21: 2
A22: 8 | C22: Plastmasas kanalizācijas aka DN 400/315 mm komplektā ar teleskopisko kātu un vāku (uzstādīšanai bruģakmens segumā) | D22: kpl | E22: 7
A23: 9 | C23: Rūpnieciski izgatavota lietus ūdens tvertne GRAF CRATA 3750 litri ar plastmaas vāku, sūkni un laistīšanas pieslēgumu | D23: kpl | E23: 1
A24: 10 | C24: Plastmasas kanalizācijas aka DN 400/315 mm komplektā ar teleskopisko kātu un vāku (uzstādīšanai zaļajā zonā) | D24: kpl | E24: 2
A25: 11 | C25: Vairogi tranšeju sienu nostiprināšanai | D25: m | E25: 362
A26: 12 | C26: Smilts apbērums virs cauruļvadiem | D26: m3 | E26: 211
... A29: 15 | C29: Montāžas palīgmateriāli | D29: kpl | E29: 1
A30: 16
A31: 17 | C31: Saimnieciski-fekālā kanalizācija K-1
A32: 18 | C32: Plastmasas kanalizācijas aka DN 400/315 mm komplektā ar teleskopisko kātu un vāku (uzstādīšanai bruģakmens segumā) | D32: kpl | E32: 9
A33: 19 | C33: Plastmasas kanalizācijas aka DN 400/315 mm (K1-9) komplektā ar teleskopisko kātu, tekni un vāku (uzstādīšanai bruģakmens segumā), teknes galā uzstādīt korķi perspektīvajam pieslēgumam | D33: kpl | E33: 1
A34: 20 | C34: Plastmasas kanalizācijas aka DN 400/315 mm komplektā ar teleskopisko kātu un vāku (uzstādīšanai zaļajā zonā) | D34: kpl | E34: 1
A35: 21 | C35: RIGID multi PP kanalizācijas caurule OD110 SN8. Ietverot grunts rakšanu, aizbēršanu, liekās grunts transportu uz atbērtni un tās montāža | D35: m | E35: 33
A36: 22 | C36: RIGID multi PP kanalizācijas caurule OD160 SN8. Ietverot grunts rakšanu, aizbēršanu, liekās grunts transportu uz atbērtni un tās montāža | D36: m | E36: 30
A37: 23 | C37: RIGID multi PP kanalizācijas caurule OD200 SN8. Ietverot grunts rakšanu, aizbēršanu, liekās grunts transportu uz atbērtni un tās montāža | D37: m | E37: 145
A38: 24 | C38: Smilts apbērums virs cauruļvadiem | D38: m3 | E38: 104
A39: 25 | C39: Smilts pamatnes ierīkošana zem cauruļvadiem h=0.20*l*1.0 | D39: m3 | E39: 42
A40: 26 | C40: Tauku atdalītājs ACO Lipumax P-B NS 7/730, saskaņā ar LVS EN1825. Polietilēna tauku atdalītāja tvertne ar integrētu nosēduma tvertni. Tauku uztveršanas tilpums 285L. Iekārtas kopējais tilpums 1675 L. Iegremdēta ievada, un izvada caurule. Komplektā ar D400 slodzes klases augšdaļu. Vāks ar smakas drošu blīvējumu. Tauku līmeņu devējs. | D40: kpl | E40: 1
A41: 27 | C41: TV inspekcija un hermētiskuma pārbaude | D41: m | E41: 207
A42: 28 | C42: Vairogi tranšeju sienu nostiprināšanai | D42: m | E42: 207
A43: 29 | C43: Montāžas palīgmateriāli | D43: kpl | E43: 1
F44: 0 | G44: 0
C45: Tiešās izmaksas kopā, t.sk. darba devēja sociālais nodoklis(23,59%)
B47: Piezīmes:
A48: ='3,1'!A54:G54 -> 0
A49: ='3,1'!$A$55 -> 0
B52: ='3,1'!B58 -> Sastādīja: | L52: ='3,1'!L58 -> Pārbaudīja:
C53: ='3,1'!C59 -> 0 | M53: ='3,1'!M59 -> 0
C54: ='3,1'!C60 -> 0 | M54: ='3,1'!M60 -> 0
B55: ='3,1'!B61 -> 0 | C55: ='3,1'!C61 -> 0 | M55: ='3,1'!M61 -> 0 | N55: ='3,1'!N61 -> 0

Sheet 3,3
H1: Lokālā tāme Nr. | I1: =kops3!$B$23 -> 3,3
A2: =C13 -> Ārējie elektromontāžas darbi
C3: Būves nosaukums: | E3: =Koptame!C11 -> Pirmsskolas izglītības iestāde
C4: Objekta nosaukums: | E4: =Koptame!C12 -> Pirmsskolas izglītības iestādes jaunbūve
C5: Objekta adrese: | E5: =Koptame!C13 -> Baložu iela 33, Baloži, Ķekavas novads
C6: =Koptame!B14 -> Iepirkuma Id Nr. | E6: =Koptame!C14 -> ĶNP2023/
A7: =Koptame!B17 -> Tāme sastādīta 2024.gada tirgus cenās | P7: Tāmes izmaksas euro: | Q7: =Q55 -> 0
M9: =Koptame!D16 -> Tāme sastādīta:
A11: Nr.p.k. | B11: Kods | C11: Būvdarbu nosaukums | E11: Mērvienība | F11: Daudzums | G11: Vienības izmaksas | M11: Kopā uz visu apjomu
G12: Laika norma (c/h) | H12: Darba samaksas likme (euro/h) | I12: Darba alga (euro) | J12: Būvizstrādājumi (euro) | K12: Mehānismi (euro) | L12: Kopā (euro) | M12: Darbietilpība (c/h) | N12: Darba alga (euro) | O12: Būvizstrādājumi (euro) | P12: Mehānismi (euro) | Q12: Summa (euro)
B13: 0 | C13: =kops3!C23 -> Ārējie elektromontāžas darbi | G13: 0 | H13: 0 | I13: 0 | J13: 0 | K13: 0 | L13: =SUM(I13:K13) -> 0 | M13: =ROUND(G13*F13,2) -> 0 | N13: =ROUND(I13*F13,2) -> 0 | O13: =ROUND(J13*F13,2) -> 0 | P13: =ROUND(K13*F13,2) -> 0 | Q13: =SUM(N13:P13) -> 0
C14: Ārējie elektroapgādes tīkli (ELT) | G14: =IFERROR(ROUND(I14/H14,2),0) -> 0 | H14: =IF(I14>0,5,0) -> 0 | L14: =SUM(I14:K14) -> 0 | M14: =ROUND(G14*F14,2) -> 0 | N14: =ROUND(I14*F14,2) -> 0 | O14: =ROUND(J14*F14,2) -> 0 | P14: =ROUND(K14*F14,2) -> 0 | Q14: =SUM(N14:P14) -> 0
C15: Kabeļi | G15: =IFERROR(ROUND(I15/H15,2),0) -> 0 | H15: =IF(I15>0,5,0) -> 0 | L15: =SUM(I15:K15) -> 0 | M15: =ROUND(G15*F15,2) -> 0 | N15: =ROUND(I15*F15,2) -> 0 | O15: =ROUND(J15*F15,2) -> 0 | P15: =ROUND(K15*F15,2) -> 0 | Q15: =SUM(N15:P15) -> 0
A16: 1 | C16: Kabelis ar alumīnija dzīslām 4x240mm2 | D16: AXMK | E16: m | F16: 460
A17: 2 | C17: Kabelis ar vara dzīslām 5x10mm2 | D17: NYY-J | E17: m | F17: 90
A18: 3 | C18: Kabelis ar vara dzīslām 5x6mm2 | D18: NYY-J | E18: m | F18: 1775
A19: 4 | C19: Kabelis ar vara dzīslām 5x4mm2 | D19: NYY-J | E19: m | F19: 230
A20: 5 | C20: Kabelis ar vara dzīslām 5x2.5mm2 | D20: NYY-J | E20: m | F20: 220
A21: 6 | C21: Kabelis ar vara dzīslām 3x2.5mm2 | D21: NYY-J | E21: m | F21: 1885
A22: 7 | C22: Kabelis ar vara dzīslām 5x1.5mm2 | D22: NYY-J | E22: m | F22: 535
A23: 8 | C23: Kabelis ar vara dzīslām 3x1.5mm2 | D23: NYY-J | E23: m | F23: 365
A24: 9 | C24: Kabeļu gala apd. 185mm2-240mm2 | D24: EPKT-0063-L12 | E24: kpl | F24: 4
A25: 10 | C25: Kabeļu gala apd. 4mm2-35mm|2 | D25: EPKT 0015-L12 | E25: kpl | F25: 144
A26: 11 | C26: Tranšejas rakšana | E26: m | F26: 1870
A27: 12 | C27: Brīdinājuma lente | E27: m | F27: 1870
A28: 13 | C28: Montāžas izstrādājumu palīgmateriālu komplekts (kārbas, klemmes, kronšteini, ķēdes un citi stiprināšanas elementi) | E28: kpl | F28: 1
C29: Caurules
A30: 14 | C30: Aizsargcaurule, PE05Omm, 750N | E30: m | F30: 405
A31: 15 | C31: Aizsargcaurule, PE011Omm, 750N | E31: m | F31: 85
A32: 16 | C32: Aizsargcaurule, PVC 20mm | E32: m | F32: 265
A33: 17 | C33: Cauruļu palīgmateriāli (līkumi, savienojumi, stipr. utt.) | E33: kpl | F33: 1
A34: 18 | C34: Montāžas izstrādājumi, stiprinājumi | E34: kpl | F34: 1
C35: Apgaismojums
A36: 19 | C36: Teritorijas gaismeklis MiniMaestro Flat SP, LED 33W, 5247 lm | E36: gb | F36: 20
A37: 20 | C37: Gaismeklis MaxiSpia Flat, LED 15W, 1800 lm. Montāža pie nojumes griestiem | E37: gb | F37: 16
A38: 21 | C38: Teritorijas gaismeklis Tret Sky, LED 54W, 6696 lm | E38: gb | F38: 48
A39: 22 | C39: Metāla stabs ar pamatni, melns, ar automātslēdžiem un tranzītspailēm, h=6m virs zemes | E39: kpl | F39: 18
A40: 23 | C40: Metāla stabs ar pamatni, melns, ar automātslēdžiem un tranzītspailēm, h=4.4m virs zemes | E40: kpl | F40: 46
A41: 24 | C41: Montāžas izstrādājumi, stiprinājumi | E41: kpl | F41: 1
C43: Instalācijas materiāli
A44: 25 | C44: El.sadalne NS* | E44: gb | F44: 4
A45: 26 | C45: Elektroauto uzlādes stacija 400V/22kW | E45: gb | F45: 2
A46: 27 | C46: Kontaktligzda 1-viet, 230V, 16A, IP44, v/a | E46: gb | F46: 4
A47: 28 | C47: Slēdzis 10A, 230V, IP44, v/a | E47: gb | F47: 4
C48: Zemējums
A49: 29 | C49: Plakandzelzs 5052 30x3,5mm FT | E49: kpl | F49: 270
A50: 30 | C50: Pievienojums zemejuma kontūram 2760/20 20mm 8-10/FL40 FT | E50: kpl | F50: 12
A51: 31 | C51: Apaļdzelzs RD-10 | E51: kpl | F51: 60
A52: 32 | C52: Savienojuma klemme 256/ADIN40 max, FL40 FT | E52: kpl | F52: 5
A53: 33 | C53: Palīgmateriāli | E53: kpl | F53: 1
C55: Tiešās izmaksas kopā, t.sk. darba devēja sociālais nodoklis(23,59%)
B57: Piezīmes:
A58: ='1,1'!A24:G24 -> 0
B62: Sastādīja: | M62: =Koptame!B39 -> Pārbaudīja:
C63: =Koptame!C34 -> 0 | N63: =Koptame!C40 -> 0
C64: =Koptame!C35 -> 0 | N64: =Koptame!C41 -> 0
A65: ='3,2'!A55 -> 0 | B65: ='3,2'!B55 -> 0 | C65: ='3,2'!C55 -> 0 | E65: ='3,2'!D55 -> 0 | F65: ='3,2'!E55 -> 0 | G65: ='3,2'!F55 -> 0 | H65: ='3,2'!G55 -> 0 | I65: ='3,2'!H55 -> 0 | J65: ='3,2'!I55 -> 0 | K65: ='3,2'!J55 -> 0 | L65: ='3,2'!K55 -> 0 | N65: ='3,2'!M55 -> 0 | O65: ='3,2'!N55 -> 0 | P65: ='3,2'!O55 -> 0 | Q65: ='3,2'!P55 -> 0

Sheet 3,4
G1: Lokālā tāme Nr. | H1: =kops3!B24 -> 3,4
A2: =C13 -> Ārējie siltumtīkli
C3: Būves nosaukums: | D3: =Koptame!C11 -> Pirmsskolas izglītības iestāde
C4: Objekta nosaukums: | D4: =Koptame!C12 -> Pirmsskolas izglītības iestādes jaunbūve
C5: Objekta adrese: | D5: =Koptame!C13 -> Baložu iela 33, Baloži, Ķekavas novads
C6: =Koptame!B14 -> Iepirkuma Id Nr. | D6: =Koptame!C14 -> ĶNP2023/
A7: =Koptame!B17 -> Tāme sastādīta 2024.gada tirgus cenās | O7: Tāmes izmaksas euro: | P7: =P40 -> 0
L9: =Koptame!D16 -> Tāme sastādīta:
A11: Nr.p.k. | B11: Kods | C11: Būvdarbu nosaukums | D11: Mērvienība | E11: Daudzums | F11: Vienības izmaksas | L11: Kopā uz visu apjomu
F12: Laika norma (c/h) | G12: Darba samaksas likme (euro/h) | H12: Darba alga (euro) | I12: Būvizstrādājumi (euro) | J12: Mehānismi (euro) | K12: Kopā (euro) | L12: Darbietilpība (c/h) | M12: Darba alga (euro) | N12: Būvizstrādājumi (euro) | O12: Mehānismi (euro) | P12: Summa (euro)
B13: 0 | C13: =kops3!C24 -> Ārējie siltumtīkli | F13: 0 | G13: 0 | H13: 0 | I13: 0 | J13: 0 | K13: =SUM(H13:J13) -> 0 | L13: =ROUND(F13*E13,2) -> 0 | M13: =ROUND(H13*E13,2) -> 0 | N13: =ROUND(I13*E13,2) -> 0 | O13: =ROUND(J13*E13,2) -> 0 | P13: =SUM(M13:O13) -> 0
A14: 1 | C14: Rūpnieciski izgatavota lokanā siltumtrase RK FibreFlex D110/162 10 bar, maksimālā temperatūra 95° C | D14: m | E14: 280
A15: 2 | C15: Pieslēgums pie esošās siltumtrase DN140/202 | D15: kpl | E15: 1
A16: 3 | C16: Rūpnieciski izolēts parpendikulārais tērauda trejgabals DN125/225 ar atzaru DN100/200 (L1=1200 mm, L2=1000 mm) | D16: gb | E16: 1
A17: 4 | C17: Rūpnieciski izolēts parpendikulārais tērauda trejgabals DN125/225 ar atzaru DN100/200 (L1=1200 mm, L2=1310 mm) | D17: gb | E17: 1
A18: 5 | C18: Kompresijas viedgabals ar metināmu galu komplektā ar kompresijas uzmavu FFP140/DN125ar metināmu galu | D18: gb | E18: 4
A19: 6 | C19: Pārējas termonosēdošas uzmavas ar putu komplektiem - reduction shrink joint 0225-202mm (L=700mm) | D19: gb | E19: 4
A20: 7 | C20: Rūpnieciski izolēts noslēgvārsts DN100/200 (L=1500 H=560 mm) | D20: gb | E20: 2
A21: 8 | C21: Termonosēdošās uzmavas ar putu komplektiem 0-202mm (L=700mm) | D21: gb | E21: 2
A22: 9 | C22: Kompresijas viedgabals ar metināmu galu komplektā ar kompresijas uzmavu FFP110/DN100 ar metināmu galu | D22: gb | E22: 2
A23: 10 | C23: Pārējas termonosēdošas uzmavas ar putu komplektiem - reduction shrink joint 0202-162mm (L=700mm) | D23: gb | E23: 2
A24: 11 | C24: Siltumrases ievads ēkā | D24: kpl | E24: 1
A25: 12 | C25: Vertikāls tērauda ievada līkums 90° DN100/200 1000x1000 mm | D25: gb | E25: 2
... A33: 20 | C33: Montāžas palīgmateriāli | D33: kpl | E33: 1
A34: 21 | C34: Montāžas/demontāžas darbi (kopā visām sistēmām)
A35: 22 | C35: Siltumtrases ievada mezgla montāža | D35: gb | E35: 2
A36: 23 | C36: Spiediena pārbaude | D36: kpl | E36: 1
A37: 24 | C37: Zālāja seguma atjaunošana/demontāža
A38: 25 | C38: Zālāja sēšana, tai skaitā zālāja sēkla, auglīgais slānis 0.15 m | D38: m2 | E38: 27
C40: Tiešās izmaksas kopā, t.sk. darba devēja sociālais nodoklis(23,59%)
B42: Piezīmes:
A43: ='3,1'!A54:G54 -> 0
A44: ='3,1'!$A$55 -> 0
B47: ='3,3'!B62 -> Sastādīja: | L47: ='3,3'!M62 -> Pārbaudīja:
C48: ='3,3'!C63 -> 0 | M48: ='3,3'!N63 -> 0
C49: ='3,3'!C64 -> 0 | M49: ='3,3'!N64 -> 0

Sheet 3,5
H1: Lokālā tāme Nr. | I1: =kops3!B25 -> 3,5
A2: =C13 -> Ārējie vājstrāvas tīkli
C3: Būves nosaukums: | E3: =Koptame!C11 -> Pirmsskolas izglītības iestāde
C4: Objekta nosaukums: | E4: =Koptame!C12 -> Pirmsskolas izglītības iestādes jaunbūve
C5: Objekta adrese: | E5: =Koptame!C13 -> Baložu iela 33, Baloži, Ķekavas novads
C6: =Koptame!B14 -> Iepirkuma Id Nr. | E6: =Koptame!C14 -> ĶNP2023/
A7: =Koptame!B17 -> Tāme sastādīta 2024.gada tirgus cenās | P7: Tāmes izmaksas euro: | Q7: =Q40 -> 0
M9: =Koptame!D16 -> Tāme sastādīta:
A11: Nr.p.k. | B11: Kods | C11: Būvdarbu nosaukums | E11: Mērvienība | F11: Daudzums | G11: Vienības izmaksas | M11: Kopā uz visu apjomu
G12: Laika norma (c/h) | H12: Darba samaksas likme (euro/h) | I12: Darba alga (euro) | J12: Būvizstrādājumi (euro) | K12: Mehānismi (euro) | L12: Kopā (euro) | M12: Darbietilpība (c/h) | N12: Darba alga (euro) | O12: Būvizstrādājumi (euro) | P12: Mehānismi (euro) | Q12: Summa (euro)
B13: 0 | C13: =kops3!C25 -> Ārējie vājstrāvas tīkli | G13: 0 | H13: 0 | I13: 0 | J13: 0 | K13: 0 | L13: =SUM(I13:K13) -> 0 | M13: =ROUND(G13*F13,2) -> 0 | N13: =ROUND(I13*F13,2) -> 0 | O13: =ROUND(J13*F13,2) -> 0 | P13: =ROUND(K13*F13,2) -> 0 | Q13: =SUM(N13:P13) -> 0
C14: Būvizstrādājumu izmaksas | G14: =IFERROR(ROUND(I14/H14,2),0) -> 0 | H14: =IF(I14>0,5,0) -> 0 | L14: =SUM(I14:K14) -> 0 | M14: =ROUND(G14*F14,2) -> 0 | N14: =ROUND(I14*F14,2) -> 0 | O14: =ROUND(J14*F14,2) -> 0 | P14: =ROUND(K14*F14,2) -> 0 | Q14: =SUM(N14:P14) -> 0
A15: 1 | C15: Kabeļu kanalizācijas caurule | D15: 100x6000 | E15: gb. | F15: 17
A16: 2 | C16: Plastmasas aka ar KV-pamatni | D16: KP-PEH 800x650 | E16: kpl. | F16: 3
A17: 3 | C17: Dībelis saitītēm 10x43(JST) | E17: 100gb. | F17: 0.3
A18: 4 | C18: Kab. kanalizācijas akas vāks (max. slodze 12,5 t) | E18: kpl. | F18: 3
A19: 5 | C19: Silikons N, neitrāls hermēt.310ml | E19: gb. | F19: 3
A20: 6 | C20: Atloks dz/b gredzena stiprināšanai | E20: gb. | F20: =F16*3 -> 9
A21: 7 | C21: Kabeļu akas dzelzbetona riņķis | E21: kpl. | F21: =F16*2 -> 6
A22: 8 | C22: Kabeļu cauruļu blīvēšanas materiāls 16 A | E22: gb. | F22: 2
A23: 9 | C23: Salizturīga smilts komunikāciju ”spilvenam” | E23: m3 | F23: 2
A24: 10 | C24: Strēmelēs plīstošā brīdin. lenta | D24: 50mmx500m | E24: rullis | F24: 2
A25: 11 | C25: Virve kabeļa ievilkšanai | D25: 6mm/500m | E25: gab. | F25: 2
A26: 12 | C26: Gofrētā caurule iekštelpām | D26: d40 | E26: m | F26: 60
A27: 13 | C27: Montāžas materiāli | D27: cauruļu savienojumi, naglas utt. | E27: kpl. | F27: 1
A28: 14 | C28: Darbu izmaksas
A29: 15 | C29: Kabeļu kanalizācijas celtniecība, ja cauruļu skaits blokā: 1 | E29: kan/m | F29: =59.6+40 -> 99.6
A30: 16 | C30: Kabeļu kanalizācijas cauruļu ieguldīšana tranšejā | E30: m | F30: =F29 -> 99.6
A31: 17 | C31: Kabeļu akas PEH uzstādīšana | E31: kompl. | F31: 3
A32: 18 | C32: Ievada izveidošana ēkā | E32: gb. | F32: 3
A33: 19 | C33: Iekštelpas stāvvada izbūvēšana | E33: m | F33: 3
A34: 20 | C34: Tranšejas rakšana (ar rokām) | E34: m | F34: 59.6
A35: 21 | C35: Stāvvada izdeidošana | E35: gb. | F35: 2
A36: 22 | C36: Rakšanas atļaujas noformēšana un noslēgšana, izpilddokumentācijas noformēšana | E36: kpl. | F36: 1
A37: 23 | C37: Digitālas izpilddokumentācijas izgatavošana objektam ar komunikāciju ģeogrāfisku piesaistīšanu | E37: kpl. | F37: 1
A38: 24 | C38: Papilddarbi | E38: kpl. | F38: 1
C40: Tiešās izmaksas kopā, t.sk. darba devēja sociālais nodoklis(23,59%)
B42: Piezīmes:
A43: ='3,1'!A54:G54 -> 0
A44: ='3,1'!$A$55 -> 0
B47: ='3,3'!B62 -> Sastādīja: | M47: ='3,3'!M62 -> Pārbaudīja:
C48: ='3,3'!C63 -> 0 | N48: ='3,3'!N63 -> 0
C49: ='3,3'!C64 -> 0 | N49: ='3,3'!N64 -> 0

Sheet kops4
A2: Kopsavilkuma aprēķins Nr. 4
A6: =Koptame!C24 -> Teritorijas labiekārtošana
A8: Būves nosaukums: | C8: =Koptame!C11 -> Pirmsskolas izglītības iestāde
A9: Objekta nosaukums: | C9: =Koptame!C12 -> Pirmsskolas izglītības iestādes jaunbūve
A10: Objekta adrese: | C10: =Koptame!C13 -> Baložu iela 33, Baloži, Ķekavas novads
A11: =Koptame!B14 -> Iepirkuma Id Nr. | C11: =Koptame!C14 -> ĶNP2023/
F13: Par kopējo summu, euro | H13: =E27 -> 0
F14: Kopējā darbietilpība, c/h | H14: =I23 -> 0
H16: =Koptame!D16 -> Tāme sastādīta:
A18: Nr.p.k. | B18: Kods, tāmes Nr. | C18: Būvdarbu veids vai konstruktīvā elementa nosaukums | E18: Tāmes izmaksas (euro) | F18: Tai skaitā | I18: Darbietilpība (c/h)
F19: darba alga (euro) | G19: materiāli (euro) | H19: mehānismi (euro)
A21: 1 | B21: 4,1 | C21: Teritorijas labiekārtošana
C23: Kopā
A24: Virsizdevumi | D24: =kops1!$D$34 -> %
C25: tai skaitā darba aizsardzība
A26: Peļņa | D26: =kops1!$D$36 -> %
C27: Kopā bez PVN
B30: Sastādīja:
C31: =Koptame!C34 -> 0
C32: =Koptame!C35 -> 0
B36: =Koptame!B39 -> Pārbaudīja:
C37: =Koptame!C40 -> 0
C38: =Koptame!C41 -> 0

Sheet 4,1
G1: Lokālā tāme Nr. | H1: =kops4!B21 -> 4,1
A2: =C13 -> Teritorijas labiekārtošana
C3: Būves nosaukums: | D3: =Koptame!C11 -> Pirmsskolas izglītības iestāde
C4: Objekta nosaukums: | D4: =Koptame!C12 -> Pirmsskolas izglītības iestādes jaunbūve
C5: Objekta adrese: | D5: =Koptame!C13 -> Baložu iela 33, Baloži, Ķekavas novads
C6: =Koptame!B14 -> Iepirkuma Id Nr. | D6: =Koptame!C14 -> ĶNP2023/
A7: =Koptame!B17 -> Tāme sastādīta 2024.gada tirgus cenās | O7: Tāmes izmaksas euro: | P7: =P135 -> 0
L9: =Koptame!D16 -> Tāme sastādīta:
A11: Nr.p.k. | B11: Kods | C11: Būvdarbu nosaukums | D11: Mērvienība | E11: Daudzums | F11: Vienības izmaksas | L11: Kopā uz visu apjomu
F12: Laika norma (c/h) | G12: Darba samaksas likme (euro/h) | H12: Darba alga (euro) | I12: Būvizstrādājumi (euro) | J12: Mehānismi (euro) | K12: Kopā (euro) | L12: Darbietilpība (c/h) | M12: Darba alga (euro) | N12: Būvizstrādājumi (euro) | O12: Mehānismi (euro) | P12: Summa (euro)
C13: =kops4!C21 -> Teritorijas labiekārtošana | K13: =SUM(H13:J13) -> 0 | L13: =ROUND(F13*E13,2) -> 0 | M13: =ROUND(H13*E13,2) -> 0 | N13: =ROUND(I13*E13,2) -> 0 | O13: =ROUND(J13*E13,2) -> 0 | P13: =SUM(M13:O13) -> 0
C14: Sagatavošanas darbi | K14: =SUM(H14:J14) -> 0 | L14: =ROUND(F14*E14,2) -> 0 | M14: =ROUND(H14*E14,2) -> 0 | N14: =ROUND(I14*E14,2) -> 0 | O14: =ROUND(J14*E14,2) -> 0 | P14: =SUM(M14:O14) -> 0
A15: 1 | C15: Objekta nospraušana un nostiprināšana dabā | D15: kpl | E15: 1
A16: 2 | C16: Koku zāģēšana,celmu laušana t.sk. Būvgružu izvešana , nodošana pārstrādei saskaņā ar TS | D16: gb | E16: 548
A17: 3 | C17: Zemes klātne
A18: 4 | C18: Gultnes sagatavošana ceļiem un laukumiem,lieko grunti aizvedot uz atbērtni | D18: m2 | E18: =E22+E29+E36+E42+E43+E51+E54+E56 -> 9100.2
A19: 5 | C19: Laukumu planēšana, blietēšana | D19: m2 | E19: =E18 -> 9100.2
A20: 6 | C20: Ceļi un segumi
A21: 7 | C21: Brauktuve-betona bruģakmens
A22: 8 | C22: Ģeotekstila NW15 ieklāšana | D22: m2 | E22: 2812
A23: 9 | C23: Salizturīga smilts slāņa izbūve h min=40 cm | D23: m2 | E23: 2812
A24: 10 | C24: Nesaistīta minerālmateriāla maisījuma kārtas izbūve 0/45 h=12cm | D24: m2 | E24: 2812
A25: 11 | C25: Nesaistīta minerālmateriāla maisījuma kārtas izbūve 0/63 h=18cm | D25: m2 | E25: 2812
A26: 12 | C26: Vidēju rupjas smilts izlīdzinošā kārtas ierīkošana h=5cm | D26: m2 | E26: 2812
A27: 13 | C27: Betona bruģakmens seguma izbūve 80 mm | D27: m2 | E27: 2812
A28: 14 | C28: Brauktuve-laukakmeņu bruģakmens
A29: 15 | C29: Ģeotekstila NW15 ieklāšana | D29: m2 | E29: 108
A30: 16 | C30: Salizturīga smilts slāņa izbūve h min=40 cm | D30: m2 | E30: 108
A31: 17 | C31: Nesaistīta minerālmateriāla maisījuma kārtas izbūve 0/45 h=14cm | D31: m2 | E31: 108
A32: 18 | C32: Nesaistīta minerālmateriāla maisījuma kārtas izbūve 0/56 h=14cm | D32: m2 | E32: 108
A33: 19 | C33: Rupjas smilts spilvena ierīkošana h=15cm | D33: m2 | E33: 108
A34: 20 | C34: Laukakmeņu bruģakmens seguma izbūve 15-20cm | D34: m2 | E34: 108
A35: 21 | C35: Ietves
A36: 22 | C36: Salizturīga smilts slāņa izbūve h min=30 cm | D36: m2 | E36: 2098
A37: 23 | C37: Nesaistīta minerālmateriāla maisījuma kārtas izbūve 0/45 h=15cm | D37: m2 | E37: 2098
A38: 24 | C38: Minerālmateriāla maisījuma kārtas ierīkošana h=3cm | D38: m2 | E38: 2098
A39: 25 | C39: Betona bruģakmens seguma izbūve 80 mm 200x100 | D39: m2 | E39: =197+53 -> 250
A40: 25 | C40: Betona bruģakmens seguma izbūve 80 mm 150x150 | D40: m2 | E40: 1848
A41: 26 | C41: Zāliens-ievalce
A42: 27 | C42: Zālāji ar melnzemes kārtu ierīkošana saskaņā ar GP-TS daļu uz 20cm auglīgas augsnes | D42: m2 | E42: 1744
A43: 28 | C43: Zālāji ar melnzemes kārtu ierīkošana saskaņā ar GP-TS daļu uz 20cm auglīgas augsnes ievalcēm | D43: m2 | E43: 369
A44: 29 | C44: Betona apmales u.c. | E44: 0
A45: 30 | C45: Ietves betona apmaļu BR100.20.8 mm uzstādīšana uz betona pamatnes | D45: m | E45: 594
A46: 31 | C46: Betona apmales BR100.30.15 uzstādīšana uz betona pamatnes | D46: m | E46: 192
A47: 32 | C47: Ietves betona apmaļu Ielas apmales BR100.30.15 ar horizizontālo apzīmējumu 931 uzstādīšana uz betona pamatnes | D47: m | E47: 118
A48: 33 | C48: Ietves betona apmaļu Ielas apmales Proj. ceļa apmales 100.30.15 (izcelta 10cm) ar 20 cm atstarpēm starp bortakmeņiem uzstādīšana uz betona pamatnes | D48: m | E48: 238
A49: 34 | C49: Betona apmales Ielas pazeminātās apmales BR100.30.15 (iebūvēt ar kantainajiem stūriem uz augšu) Betons C30/37 uzstādīšana uz betona pamatnes | D49: m | E49: 139
A50: 35 | C50: Betona apmales Ielas pazeminātās apmales Proj. ceļu slīpā apmale - BR_L100.30.15, betons C30/37 uzstādīšana uz betona pamatnes | D50: m | E50: 6
A51: 36 | C51: Reljefa betona bruģakmens pelēks/dzeltens betona bruģakmens izmērs: 200x100x60 no sia "BRIKERS" vai analogs.Betons C30/37 | D51: m2 | E51: 5.2
A52: 37 | C52: Atdures barjera stāvvietām No SIA "PLASTENA" vai analogs | D52: gb | E52: 90
A53: 38 | C53: Gumijas segums | E53: 0
A54: 39 | C54: EPDM lietās gumijas seguma izbūve t.sk. Apakšslāņi 50 mm | D54: m2 | E54: =1020+716 -> 1736
A55: 39 | C55: EPDM lietās gumijas seguma izbūve t.sk. Apakšslāņi 80 mm | D55: m2 | E55: =701+301 -> 1002
A56: 40 | C56: Gumijas mulča starp laukumiņiem t.sk. Apakšslāņi | D56: m2 | E56: 228
A57: 41 | C57: Apzaļumošana
A58: 42 | C58: Kokauga stāda bedres sagatavošana . rakšana, sagatavošana ar augsni | D58: m3 | E58: =177*0.5 -> 88.5
A59: 43 | C59: Koka stādīšana. Tunberga bārbele "Bagataelle",šķirne, apdobes mulčēšana saskaņā ar TS-4 t.sk mulča 10 cm | D59: gb. | E59: 100
A60: 44 | C60: Koka stādīšana..Kokveida hortenzija,šķirne "Anabelle", apdobes mulčēšana saskaņā ar TS-4 t.sk mulča 10 cm | D60: gb. | E60: 27
A61: 45 | C61: Koka stādīšana. Kalnu priede Winter Gold, šķirne 3 virpotu impregnētu koka balstu nostiprināšana, apdobes mulčēšana saskaņā ar TS-4 t.sk mulča 10 cm | D61: gb. | E61: 50
A62: 46 | C62: Prettrokšņu barjera
A63: 47 | C63: Pretrokšņu barjeras uzstādīšana.Prettrokšņu 9dB paneļi HB 10 / 3,5 WAVEline abpusēji, DB 100 NBF Pamatne | D63: m | E63: 145
A64: 48 | C64: Aprīkojums
A65: 49 | C65: Ceļa zīmes uzstādīšana- lielās t.sk. Ceļazīmes metāla staba uzstādīšana | D65: gb | E65: 11
A66: 50 | C66: Ceļa zīmes uzstādīšana- papildzīmes t.sk. Ceļazīmes metāla staba uzstādīšana | D66: gb | E66: 11
A67: 51 | C67: FSC® sertificētas masīvas tropu dzelzskoka gulšņu detaļas izmērā 300 mm x 300 mm tiek izmantotas Hardwood kolekcijas solu sēdvirsmās. Pēc izvēles pieejama LED apgaismojuma instalācija. Metāliskās virsmas ar pulverkrāsojumu "SAHARA PROTECT". Augstums - 500mm Platums - 300mm Garums - diapazonā no 70mm līdz 300mm, garumā līdz pat 6000mm. Hardwood sols - ODK058-23 | D67: gb | E67: 92
A68: 52 | C68: Metāla konstrukcijas 3mm un 8mm tēraura metāls ar pulverkrāsojumu "SAHARA PROTECT" Augstums 1000mm Diametrs 410mm Aprīkots ar pelnutrauku Atkritumu urna - ODK101 | D68: gb | E68: 26
A69: 53 | C69: Tērauda velostatīvs aprīkots ar augstas izturības koka elementiem. Velosipēdu statīvu konstrukcija ļauj velosipēdus nostiprināt ar troses vai ķēdes slēdzeni. Ar pulverkrāsojumu "SAHARA PROTECT" Augstums 900mm Platums 80mm Garums 1000mm Velostātīvs - ODK087 | D69: gb | E69: 57
A70: 54 | C70: Stiklašķiedras 12m balts karoga masts uz tērauda pamatnes ar eņģi. Komplektā ar nerūsējošā tērauda uzgali, slēdzeni, uzgriezni karoga pacelšanai, betona pamatu (H=1.2m, D=0.5m); izplatītājs SIA “Mix Max | D70: gb | E70: 4
A71: 55 | C71: E-1 Smilšu kaste - Robina RB1331 | D71: kpl | E71: 5
A72: 56 | C72: E-2 Rotaļu laukuma aprīkojums - Robina RB1245 | D72: kpl | E72: 3
A73: 57 | C73: E-3Rotaļu laukuma aprīkojums - Robina RB1242 | D73: kpl | E73: 1
A74: 58 | C74: E-4 Rotaļu laukuma aprīkojums - Robina RB1246 | D74: kpl | E74: 1
A75: 59 | C75: E-5 Rotaļu laukuma aprīkojums - Robina RB1203 | D75: kpl | E75: 2
A76: 60 | C76: E-6 Rotaļu laukuma aprīkojums - Robina RB1207 | D76: kpl | E76: 2
... A98: 82 | C98: Metāla paneļu vienviru vārti - Bekafor Essential swing gate Vērtne 1000x1500 mm, vārtu rāmis - 40x40 mm, Vārtu stabi - 60x60 mm (kopā 4 gab.), paneļu aizpildījums - Nylofor 3D light panelis, aprīkot ar elektrosprūdu ar pieejas kontroli, eņģes ar atvērumu - 90 grādos, izbūvēt kopā ar metāla paneļu žogu. Tonis - RAL 7016 (saskaņot AU kārtībā) | D98: gb | E98: 2
A99: 83 | C99: Rotaļu nojumes
A100: 84 | C100: Pamati BK
A101: 85 | C101: Inventāro veidņu uzstādīšana,eļļošana pamatiem un nojaukšana ,noma | D101: m2 | E101: 160
A102: 86 | C102: Šķembu pamatojuma ierīkošana fr.0-45 mm,blīvā veidā ,novibrējot | D102: m3 | E102: =12.47*4 -> 49.88
A103: 87 | C103: Armatūras sietu izgatavošana ,uzstādīšana,fiksatoru uzstādīšana . Armatūra B500B | D103: t | E103: =(1.485+0.143+0.08+0.405)*4 -> 8.452
A104: 88 | C104: Betona iestrādāšana pamatu konstrukcijās-pamati C30/37 XC4 XF3 novibrējot,betonu padod ar sūkni | D104: m3 | E104: =61.08*4 -> 244.32
A105: 89 | C105: Nesošo koka konstrukciju-koka sijas, mūrlatas, spāres izgatavošana un montāža sagatavotas atbilstoši BK norādījumiem t.sk. Palīgmateriāli. Kokmateriālu klase Apstrādātas ar antiseptiķi-antipirēnu | D105: m3 | E105: =4.809*4 -> 19.236
A106: 90 | C106: AR
A107: 91 | C107: FASĀDE - koka dēļu apšuvums Termokoks "Luna SHP"19x117 | D107: m2 | E107: 138.4
A108: 92 | C108: Caurspīdīgs polikarbonāts ar aizsardzību pret mehāniskiem bojājumiem un UV aizsardzību, 4mm biezs | D108: m2 | E108: 165.6
A109: 93 | C109: FASĀDE - koka NCS S 9000-N,statņi, eļļoti | D109: m2 | E109: 208
A110: 94 | C110: Skārda nosegelementi / Tērauda elementu krāsa | D110: m | E110: 128
A111: 95 | C111: SIENA - koka dēļu apšuvums, caurspīdīgi eļļots | D111: m2 | E111: 109.2
A112: 96 | C112: Velo nojumes
A113: 97 | C113: Pamati BK
A114: 98 | C114: Inventāro veidņu uzstādīšana,eļļošana pamatiem un nojaukšana ,noma | D114: m2 | E114: =8*E117 -> 120
A115: 99 | C115: Šķembu pamatojuma ierīkošana fr.0-45 mm,blīvā veidā ,novibrējot | D115: m3 | E115: =3.28*3 -> 9.84
A116: 100 | C116: Armatūras sietu izgatavošana ,uzstādīšana,fiksatoru uzstādīšana . Armatūra B500B | D116: t | E116: =(0.243+0.032)*3 -> 0.825
A117: 101 | C117: Betona iestrādāšana pamatu konstrukcijās-pamati C30/37 XC4 XF3 novibrējot,betonu padod ar sūkni | D117: m3 | E117: =5*3 -> 15
A118: 102 | C118: Nesošo koka konstrukciju-koka sijas, mūrlatas, spāres izgatavošana un montāža sagatavotas atbilstoši BK norādījumiem t.sk. Palīgmateriāli. Kokmateriālu klase Apstrādātas ar antiseptiķi-antipirēnu | D118: m3 | E118: =1.43*3 -> 4.29
A119: 103 | C119: AR
A120: 104 | C120: FASĀDE - koka dēļu apšuvums Termokoks "Luna SHP"19x117 | D120: m2 | E120: =29.2*3 -> 87.6
A121: 105 | C121: FASĀDE - koka NCS S 9000-N,statņi, eļļoti | D121: m2 | E121: =23*3 -> 69
A122: 106 | C122: Skārda nosegelementi / Tērauda elementu krāsa | D122: m | E122: =13*3 -> 39
A123: 107 | C123: Atkritumu nojume
...
