Workbook

Sheet 9.pielikums Finanšu piedāvājums
B1: 9.pielikums
B2: iepirkuma “Ēku durvju nomaiņa pret cinkota metāla durvīm”
B3: iepirkuma identifikācijas Nr.SIAON 2024/2-MI, nolikumam
B5: FINANŠU PIEDĀVĀJUMS
B7: ____________________(pretendenta nosaukums, reģistrācijas nr.) piedāvājam veikt iepirkumā “Ēku durvju nomaiņa pret cinkota metāla durvīm”, iepirkuma identifikācijas Nr.SIAON 2024/2-MI minētos darbus, saskaņā ar iepirkuma nolikumu un tā pielikumiem, tajā noteiktajā laikā un veidā par šādu līgumcenu:
A8: Nr. p. k. | B8: Dzīvojamās mājas adrese Ogrē | C8: Darbu nosaukums | D8: Pretendenta piedāvātā darbu summa, Eur bez PVN
A9: 1 | B9: AUSEKĻA PROSPEKTS 2A | C9: Atkritumu konteinera telpas durvju nomaiņa | D9: ='1.Ausekļa 2A kont.'!Q14 -> 0
A10: 2 | B10: AUSEKĻA PROSPEKTS 2A | C10: Pagraba durvju nomaiņa | D10: ='2.Ausekļa 2A pagr.'!Q14 -> 0
A11: 3 | B11: AUSEKĻA PROSPEKTS 5 | C11: Ieejas durvju nomaiņa | D11: ='3.Ausekļa 5'!Q14 -> 0
A12: 4 | B12: AUSEKĻA PROSPEKTS 7B | C12: Pagraba durvju nomaiņa | D12: ='4.Ausekļa 7b'!Q14 -> 0
A13: 5 | B13: BĒRZU ALEJA 8 | C13: Atkritumu konteinera telpas durvju nomaiņa | D13: ='5.Bērzu aleja 8'!Q14 -> 0
A14: 6 | B14: BĒRZU ALEJA 8A | C14: Ieejas koka durvju nomaiņa pret metāla | D14: ='6.Bērzu aleja 8A'!Q14 -> 0
A15: 7 | B15: LOKA IELA 6 | C15: Pagraba durvju nomaiņa | D15: ='7.Loka 6'!Q14 -> 0
A16: 8 | B16: MĀLKALNES PROSPEKTS 30 | C16: Ieejas durvju nomaiņa | D16: ='8.Mālkalnes pr. 30'!Q14 -> 0
A17: 9 | B17: PARKA IELA 1A | C17: Atkritumu konteinera telpas durvju nomaiņa | D17: ='9.Parka iela 1A'!Q14 -> 0
A18: 10 | B18: SKOLAS IELA 9 | C18: Ieejas durvju nomaiņa pret cinkotā metāla durvīm | D18: ='10.Skolas iela 9'!Q14 -> 0
A19: 11 | B19: TĪNŪŽU IELA 18 | C19: Atkritumu telpas durvju nomaiņa | D19: ='11.Tīnūžu iela 18'!Q14 -> 0
A20: 12 | B20: ZILOKALNU PROSPEKTS 10 | C20: Pagraba durvju nomaiņa | D20: ='12.Zilokalnu pr. 10'!Q14 -> 0
A21: 13 | B21: ZILOKALNU PROSPEKTS 18 | C21: Ieejas durvju nomaiņa | D21: ='13. Zilokalnu pr. 18'!Q14 -> 0
A22: Līguma summa kopā, Eur bez PVN: | D22: =ROUND(SUM(D9:D21),2) -> 0
A23: PVN__%
A24: Summa kopā, Eur ar PVN
B26: Paraksts: __________________________________
B27: Vārds, uzvārds: ____________________________
B28: Amats: ___________________________________

Sheet 1.Ausekļa 2A kont.
B1: 8.pielikums iepirkuma “Ēku durvju nomaiņa pret cinkota metāla durvīm”, iepirkuma identifikācijas Nr.SIAON 2024/2-MI, nolikumam
B3: TEHNISKĀ SPECIFIKĀCIJA (LOKĀLĀ TĀME) UN TEHNISKAIS PIEDĀVĀJUMS
A4: Piedāvājumā visas izmaksas ir jāuzrāda ar ne vairāk kā 2 (divām) decimālzīmēm aiz komata un aprēķinos pielietojot skaitļu noapaļošanas funkciju “Round”.
D6: Atkritumu konteinera telpas durvju nomaiņa pret cinkotā metāla durvīm - 1gb
B7: (Darba veids vai konstruktīvā elementa nosaukums)
D9: Būves nosaukums: | E9: Daudzdzīvokļu nams
D10: Objekta adrese: | E10: Ausekļa pr. 2A, Ogre
D11: Pasūtītājs: | E11: Sabiedrība ar ierobežotu atbildību ''Ogres Namsaimnieks''
D12: Izpildītājs:
P14: Pretendenta piedāvātā darbu summa, Eur bez PVN: | Q14: =Q32 -> 0
B16: Nr.p.k | C16: Kods | D16: Būvdarbu apraksts | E16: Mērvienība | F16: Daudzums | G16: Vienības izmaksas | M16: Kopā uz visu apjomu
G17: Laika norma (c/h) | H17: Darba samaksas likme (euro/h) | I17: Darba alga (euro) | J17: Būvizstrādājumi (euro) | K17: Mehā-nismi (euro) | L17: Kopā (euro) | M17: Darb-ietilpība (c/h) | N17: Darba alga (euro) | O17: Būvizstrādājumi (euro) | P17: Mehā-nismi (euro) | Q17: Summa (euro)
B18: 1 | C18: =B18+1 -> 2 | D18: =C18+1 -> 3 | E18: =D18+1 -> 4 | F18: =E18+1 -> 5 | G18: =F18+1 -> 6 | H18: =G18+1 -> 7 | I18: =H18+1 -> 8 | J18: =I18+1 -> 9 | ... Q18: =P18+1 -> 16
B20: 1 | D20: Esošo durvju demontāža, jauno durvju montāža, durvju aiļu apdare. | E20: gb | F20: 1
D21: Cinkotā Metāla durvis ar kārbu ( ailes izmērs 1115x2050mm ), krāsotas ar pulverkrāsojumu ( RAL 8017 ), vērtnei 3 enģes, blīvgumijas pa visu perimetru, ( Jāprecizē durvju izmēri pirms pasūtīšanas) | E21: gb | F21: 1
D22: Mehāniskā kodu atslēga METEM ( analogs ) | E22: kompl | F22: 1
D23: Nerūsējošā tērauda nekustīgie rokturi | E23: kompl | F23: 1
D24: Palīgmateriāli | E24: kompl | F24: 1
B25: 2 | D25: Objekta sakārtošana, gružu savākšana | E25: obj. | F25: 1
B26: 75 | E26: gab
B27: Kopā:
D28: Transporta izmaksas:
D29: Tiešās izmaksas kopā, t.sk. darba devēja sociālais nodoklis 23,59%
D30: Virsizdevumi:
D31: Darbuzņēmēja peļņa:
D32: Kopā bez PVN:
D33: PVN
D34: Pavisam kopā:

Sheet 2.Ausekļa 2A pagr.
B1: 8.pielikums iepirkuma “Ēku durvju nomaiņa pret cinkota metāla durvīm”, iepirkuma identifikācijas Nr.SIAON 2024/2-MI, nolikumam
B3: TEHNISKĀ SPECIFIKĀCIJA (LOKĀLĀ TĀME) UN TEHNISKAIS PIEDĀVĀJUMS
A4: Piedāvājumā visas izmaksas ir jāuzrāda ar ne vairāk kā 2 (divām) decimālzīmēm aiz komata un aprēķinos pielietojot skaitļu noapaļošanas funkciju “Round”.
I6: Pagraba ieejas durvju nomaiņa pret cinkotā metāla durvīm - 1gb
B7: (Darba veids vai konstruktīvā elementa nosaukums)
D9: Būves nosaukums: | E9: Daudzdzīvokļu nams
D10: Objekta adrese: | E10: Ausekļa pr. 2A, Ogre
D11: Pasūtītājs: | E11: Sabiedrība ar ierobežotu atbildību ''Ogres Namsaimnieks''
D12: Izpildītājs:
P14: Pretendenta piedāvātā darbu summa, Eur bez PVN: | Q14: =Q30 -> 0
B16: Nr.p.k | C16: Kods | D16: Būvdarbu apraksts | E16: Mērvienība | F16: Daudzums | G16: Vienības izmaksas | M16: Kopā uz visu apjomu
G17: Laika norma (c/h) | H17: Darba samaksas likme (euro/h) | I17: Darba alga (euro) | J17: Būvizstrādājumi (euro) | K17: Mehā-nismi (euro) | L17: Kopā (euro) | M17: Darb-ietilpība (c/h) | N17: Darba alga (euro) | O17: Būvizstrādājumi (euro) | P17: Mehā-nismi (euro) | Q17: Summa (euro)
B18: 1 | C18: =B18+1 -> 2 | D18: =C18+1 -> 3 | E18: =D18+1 -> 4 | F18: =E18+1 -> 5 | G18: =F18+1 -> 6 | H18: =G18+1 -> 7 | I18: =H18+1 -> 8 | J18: =I18+1 -> 9 | ... Q18: =P18+1 -> 16
B20: 1 | D20: Esošo pagraba ieejas durvju demontāža, jauno durvju montāža, durvju aiļu apdare. | E20: gb | F20: 1
D21: Cinkotā Metāla durvis ar kārbu ( ailes izmērs 900x2050mm ), krāsotas ar pulverkrāsojumu ( RAL 8017 ), vērtnei 3 enģes, blīvgumijas pa visu perimetru, ( Jāprecizē durvju izmēri pirms pasūtīšanas) | E21: gb | F21: 1
D22: Kustīgs ner.tērauda rokturis | E22: kompl | F22: 1
D23: Slēdzene Iseo pagraba durvīm | E23: kompl | F23: 1
D24: Palīgmateriāli | E24: kompl | F24: 1
B25: 2 | D25: Objekta sakārtošana, gružu savākšana | E25: obj. | F25: 1
D26: Transporta izmaksas:
D27: Tiešās izmaksas kopā, t.sk. darba devēja sociālais nodoklis 23.59%
D28: Virsizdevumi:
D29: Darbuzņēmēja peļņa:
D30: Kopā bez PVN:
D31: PVN
D32: Pavisam kopā:

Sheet 3.Ausekļa 5
B1: 8.pielikums iepirkuma “Ēku durvju nomaiņa pret cinkota metāla durvīm”, iepirkuma identifikācijas Nr.SIAON 2024/2-MI, nolikumam
B3: TEHNISKĀ SPECIFIKĀCIJA (LOKĀLĀ TĀME) UN TEHNISKAIS PIEDĀVĀJUMS
A4: Piedāvājumā visas izmaksas ir jāuzrāda ar ne vairāk kā 2 (divām) decimālzīmēm aiz komata un aprēķinos pielietojot skaitļu noapaļošanas funkciju “Round”.
D6: Ieejas durvju nomaiņa pret cinkotā metāla durvīm - 1gb
B7: (Darba veids vai konstruktīvā elementa nosaukums)
D9: Būves nosaukums: | E9: Daudzdzīvokļu nams
D10: Objekta adrese: | E10: Ausekļa pr. 5
D11: Pasūtītājs: | E11: Sabiedrība ar ierobežotu atbildību ''Ogres Namsaimnieks''
D12: Izpildītājs:
P14: Pretendenta piedāvātā darbu summa, Eur bez PVN: | Q14: =Q36 -> 0
B16: Nr.p.k | C16: Kods | D16: Būvdarbu apraksts | E16: Mērvienība | F16: Daudzums | G16: Vienības izmaksas | M16: Kopā uz visu apjomu
G17: Laika norma (c/h) | H17: Darba samaksas likme (euro/h) | I17: Darba alga (euro) | J17: Būvizstrādājumi (euro) | K17: Mehā-nismi (euro) | L17: Kopā (euro) | M17: Darb-ietilpība (c/h) | N17: Darba alga (euro) | O17: Būvizstrādājumi (euro) | P17: Mehā-nismi (euro) | Q17: Summa (euro)
B18: 1 | C18: =B18+1 -> 2 | D18: =C18+1 -> 3 | E18: =D18+1 -> 4 | F18: =E18+1 -> 5 | G18: =F18+1 -> 6 | H18: =G18+1 -> 7 | I18: =H18+1 -> 8 | J18: =I18+1 -> 9 | ... Q18: =P18+1 -> 16
B20: 1 | D20: Esošo Ieejas durvju demontāža, jauno durvju montāža, durvju aiļu apdare. | E20: gb | F20: 1
D21: Cinkotā Metāla durvis ar kārbu - 2 vērtnes,( ailes izmērs 1250x2050mm ),ar stikla paketi ( 200x800mm ) krāsotas ar pulverkrāsojumu ( RAL 8017 ),viena vērtne ( 1000x2050mm, otrā veramā daļa 250x2050mm ) katrai vērtnei 3 enģes, blīvgumijas pa visu perimetru, ( Jāprecizē durvju izmēri pirms pasūtīšanas) | E21: gb | F21: 1
D22: Cinkotais slieksnis | E22: gb | F22: 1
D23: Stikla pakete | E23: gb | F23: 1
D24: Durvju aizvērējs | E24: gb | F24: 1
D25: Nerūsējošā tērauda nekustīgie rokturi 300mm | E25: kompl | F25: 1
B26: 2 | D26: Elektroniskā koda atslēga Competition ( vai analogs ) | E26: kompl | F26: 1
D27: Čipi | E27: gb | F27: 72
D28: Palīgmateriāli | E28: kompl | F28: 1
B29: 3 | D29: Objekta sakārtošana, gružu savākšana | E29: obj. | F29: 1
B30: 57 | E30: gab
B31: Kopā:
D32: Transporta izmaksas:
D33: Tiešās izmaksas kopā, t.sk. darba devēja sociālais nodoklis 23.59%
D34: Virsizdevumi:
D35: Darbuzņēmēja peļņa:
D36: Kopā bez PVN:
D37: PVN
D38: Pavisam kopā:

Sheet 4.Ausekļa 7b
B1: 8.pielikums iepirkuma “Ēku durvju nomaiņa pret cinkota metāla durvīm”, iepirkuma identifikācijas Nr.SIAON 2024/2-MI, nolikumam
B3: TEHNISKĀ SPECIFIKĀCIJA (LOKĀLĀ TĀME) UN TEHNISKAIS PIEDĀVĀJUMS
A4: Piedāvājumā visas izmaksas ir jāuzrāda ar ne vairāk kā 2 (divām) decimālzīmēm aiz komata un aprēķinos pielietojot skaitļu noapaļošanas funkciju “Round”.
I6: Pagraba ieejas durvju nomaiņa pret cinkotā metāla durvīm - 1gb
B7: (Darba veids vai konstruktīvā elementa nosaukums)
D9: Būves nosaukums: | E9: Daudzdzīvokļu nams
D10: Objekta adrese: | E10: Ausekļa pr. 7b, Ogre
D11: Pasūtītājs: | E11: Sabiedrība ar ierobežotu atbildību ''Ogres Namsaimnieks''
D12: Izpildītājs:
P14: Pretendenta piedāvātā darbu summa, Eur bez PVN: | Q14: =Q30 -> 0
B16: Nr.p.k | C16: Kods | D16: Būvdarbu apraksts | E16: Mērvienība | F16: Daudzums | G16: Vienības izmaksas | M16: Kopā uz visu apjomu
G17: Laika norma (c/h) | H17: Darba samaksas likme (euro/h) | I17: Darba alga (euro) | J17: Būvizstrādājumi (euro) | K17: Mehā-nismi (euro) | L17: Kopā (euro) | M17: Darb-ietilpība (c/h) | N17: Darba alga (euro) | O17: Būvizstrādājumi (euro) | P17: Mehā-nismi (euro) | Q17: Summa (euro)
B18: 1 | C18: =B18+1 -> 2 | D18: =C18+1 -> 3 | E18: =D18+1 -> 4 | F18: =E18+1 -> 5 | G18: =F18+1 -> 6 | H18: =G18+1 -> 7 | I18: =H18+1 -> 8 | J18: =I18+1 -> 9 | ... Q18: =P18+1 -> 16
B19: 1 | D19: Esošo pagraba ieejas durvju demontāža, jauno durvju montāža, durvju aiļu apdare. | E19: gb | F19: 1
D20: Cinkotā Metāla durvis ar kārbu ( ailes izmērs 900x2050mm ), krāsotas ar pulverkrāsojumu ( RAL 8017 ), vērtnei 3 enģes, blīvgumijas pa visu perimetru, ( Jāprecizē durvju izmēri pirms pasūtīšanas) | E20: gb | F20: 1
D21: Kustīgs ner.tērauda rokturis | E21: kompl | F21: 1
D22: Slēdzene Iseo pagraba durvīm | E22: kompl | F22: 1
D23: Palīgmateriāli | E23: kompl | F23: 1
B24: 2 | D24: Objekta sakārtošana, gružu savākšana | E24: obj. | F24: 1
B25: Kopā:
D26: Transporta izmaksas:
D27: Tiešās izmaksas kopā, t.sk. darba devēja sociālais nodoklis 23,59%
D28: Virsizdevumi:
D29: Darbuzņēmēja peļņa:
D30: Kopā bez PVN:
D31: PVN
D32: Pavisam kopā:

Sheet 5.Bērzu aleja 8
B1: 8.pielikums iepirkuma “Ēku durvju nomaiņa pret cinkota metāla durvīm”, iepirkuma identifikācijas Nr.SIAON 2024/2-MI, nolikumam
B3: TEHNISKĀ SPECIFIKĀCIJA (LOKĀLĀ TĀME) UN TEHNISKAIS PIEDĀVĀJUMS
A4: Piedāvājumā visas izmaksas ir jāuzrāda ar ne vairāk kā 2 (divām) decimālzīmēm aiz komata un aprēķinos pielietojot skaitļu noapaļošanas funkciju “Round”.
I6: Atkritumu telpas durvju nomaiņa pret cinkotā metāla durvīm - 5gb
B7: (Darba veids vai konstruktīvā elementa nosaukums)
D9: Būves nosaukums: | E9: Daudzdzīvokļu nams
D10: Objekta adrese: | E10: Bērzu aleja 8, Ogre
D11: Pasūtītājs: | E11: Sabiedrība ar ierobežotu atbildību ''Ogres Namsaimnieks''
D12: Izpildītājs:
P14: Pretendenta piedāvātā darbu summa, Eur bez PVN: | Q14: =Q32 -> 0
B16: Nr.p.k | C16: Kods | D16: Būvdarbu apraksts | E16: Mērvienība | F16: Daudzums | G16: Vienības izmaksas | M16: Kopā uz visu apjomu
G17: Laika norma (c/h) | H17: Darba samaksas likme (euro/h) | I17: Darba alga (euro) | J17: Būvizstrādājumi (euro) | K17: Mehā-nismi (euro) | L17: Kopā (euro) | M17: Darb-ietilpība (c/h) | N17: Darba alga (euro) | O17: Būvizstrādājumi (euro) | P17: Mehā-nismi (euro) | Q17: Summa (euro)
B18: 1 | C18: =B18+1 -> 2 | D18: =C18+1 -> 3 | E18: =D18+1 -> 4 | F18: =E18+1 -> 5 | G18: =F18+1 -> 6 | H18: =G18+1 -> 7 | I18: =H18+1 -> 8 | J18: =I18+1 -> 9 | ... Q18: =P18+1 -> 16
B20: 1 | D20: Esošo durvju demontāža, jauno durvju montāža, durvju aiļu apdare. | E20: gb | F20: 5
D21: Cinkotā Metāla durvis ar kārbu bez sliekšņa ( ailes izmērs 1500x2400mm ), krāsotas ar pulverkrāsojumu ( RAL 8017 ), 2 vērtnes ( viena 500mm veramā, otrā 1000mm - veramā), katrai vērtnei 3 enģes, blīvgumijas pa visu perimetru, ( Jāprecizē durvju izmēri pirms pasūtīšanas) | E21: gb | F21: 5
D22: Mehāniskā kodu atslēga METEM ( analogs ) | E22: kompl | F22: 5
D23: Nerūsējošā tērauda nekustīgie rokturi | E23: kompl | F23: 5
D24: Palīgmateriāli | E24: kompl | F24: 5
B25: 2 | D25: Objekta sakārtošana, gružu savākšana | E25: obj. | F25: 1
B26: 34 | E26: gab
B27: Kopā:
D28: Transporta izmaksas:
D29: Tiešās izmaksas kopā, t.sk. darba devēja sociālais nodoklis 23,59%
D30: Virsizdevumi:
D31: Darbuzņēmēja peļņa:
D32: Kopā bez PVN:
D33: PVN
D34: Pavisam kopā:

Sheet 6.Bērzu aleja 8A
B1: 8.pielikums iepirkuma “Ēku durvju nomaiņa pret cinkota metāla durvīm”, iepirkuma identifikācijas Nr.SIAON 2024/2-MI, nolikumam
B3: TEHNISKĀ SPECIFIKĀCIJA (LOKĀLĀ TĀME) UN TEHNISKAIS PIEDĀVĀJUMS
A4: Piedāvājumā visas izmaksas ir jāuzrāda ar ne vairāk kā 2 (divām) decimālzīmēm aiz komata un aprēķinos pielietojot skaitļu noapaļošanas funkciju “Round”.
I6: Ieejas durvju nomaiņa pret cinkotā metāla durvīm - 2gb.
B7: (Darba veids vai konstruktīvā elementa nosaukums)
D9: Būves nosaukums: | E9: Daudzdzīvokļu nams
D10: Objekta adrese: | E10: Bērzu aleja 8a, Ogre
D11: Pasūtītājs: | E11: Sabiedrība ar ierobežotu atbildību ''Ogres Namsaimnieks''
D12: Izpildītājs:
P14: Pretendenta piedāvātā darbu summa, Eur bez PVN: | Q14: =Q34 -> 0
B16: Nr.p.k | C16: Kods | D16: Būvdarbu apraksts | E16: Mērvienība | F16: Daudzums | G16: Vienības izmaksas | M16: Kopā uz visu apjomu
G17: Laika norma (c/h) | H17: Darba samaksas likme (euro/h) | I17: Darba alga (euro) | J17: Būvizstrādājumi (euro) | K17: Mehā-nismi (euro) | L17: Kopā (euro) | M17: Darb-ietilpība (c/h) | N17: Darba alga (euro) | O17: Būvizstrādājumi (euro) | P17: Mehā-nismi (euro) | Q17: Summa (euro)
B18: 1 | C18: =B18+1 -> 2 | D18: =C18+1 -> 3 | E18: =D18+1 -> 4 | F18: =E18+1 -> 5 | G18: =F18+1 -> 6 | H18: =G18+1 -> 7 | I18: =H18+1 -> 8 | J18: =I18+1 -> 9 | ... Q18: =P18+1 -> 16
B19: 1 | D19: Esošo durvju demontāža, jauno durvju montāža, durvju aiļu apdare. | E19: gb | F19: 2
D20: Cinkotā Metāla durvis ar kārbu ( ailes izmērs 950x2320mm ) ar stikla paketi ( 200x800 mm ), krāsotas ar pulverkrāsojumu ( RAL 7016 ), katrai vērtnei 3 enģes, blīvgumijas pa visu perimetru, ( Jāprecizē durvju izmēri pirms pasūtīšanas) | E20: gb | F20: 1
D21: Cinkotā Metāla durvis ar kārbu ( ailes izmērs 930x2080mm ) ar stikla paketi ( 200x800 mm ), krāsotas ar pulverkrāsojumu ( RAL 7016 ), katrai vērtnei 3 enģes, blīvgumijas pa visu perimetru, ( Jāprecizē durvju izmēri pirms pasūtīšanas) | E21: gb | F21: 1
D22: Slieksnis | E22: gb | F22: 2
D23: Stikla pakete | E23: gb | F23: 2
D24: Durvju aizvērējs | E24: kompl | F24: 2
D25: NT nekustīgie rokturi | E25: kompl | F25: 2
D26: Elektroniskā slēdzene Competition ( vai analogs ) | E26: kompl | F26: 2
D27: Palīgmateriāli | E27: kompl | F27: 2
B28: 2 | D28: Objekta sakārtošana, gružu savākšana | E28: obj. | F28: 1
B29: Kopā:
D30: Transporta izmaksas:
D31: Tiešās izmaksas kopā, t.sk. darba devēja sociālais nodoklis 23,59%
D32: Virsizdevumi:
D33: Darbuzņēmēja peļņa:
D34: Kopā bez PVN:
D35: PVN
D36: Pavisam kopā:

Sheet 7.Loka 6
B1: 8.pielikums iepirkuma “Ēku durvju nomaiņa pret cinkota metāla durvīm”, iepirkuma identifikācijas Nr.SIAON 2024/2-MI, nolikumam
B3: TEHNISKĀ SPECIFIKĀCIJA (LOKĀLĀ TĀME) UN TEHNISKAIS PIEDĀVĀJUMS
A4: Piedāvājumā visas izmaksas ir jāuzrāda ar ne vairāk kā 2 (divām) decimālzīmēm aiz komata un aprēķinos pielietojot skaitļu noapaļošanas funkciju “Round”.
D6: Pagrabu ieejas durvju nomaiņa pret cinkotā metāla durvīm - 4gb
B7: (Darba veids vai konstruktīvā elementa nosaukums)
D9: Būves nosaukums: | E9: Daudzdzīvokļu nams
D10: Objekta adrese: | E10: Loka iela 6, Ogre
D11: Pasūtītājs: | E11: Sabiedrība ar ierobežotu atbildību ''Ogres Namsaimnieks''
D12: Izpildītājs:
P14: Pretendenta piedāvātā darbu summa, Eur bez PVN: | Q14: =Q31 -> 0
B16: Nr.p.k | C16: Kods | D16: Būvdarbu apraksts | E16: Mērvienība | F16: Daudzums | G16: Vienības izmaksas | M16: Kopā uz visu apjomu
G17: Laika norma (c/h) | H17: Darba samaksas likme (euro/h) | I17: Darba alga (euro) | J17: Būvizstrādājumi (euro) | K17: Mehā-nismi (euro) | L17: Kopā (euro) | M17: Darb-ietilpība (c/h) | N17: Darba alga (euro) | O17: Būvizstrādājumi (euro) | P17: Mehā-nismi (euro) | Q17: Summa (euro)
B18: 1 | C18: =B18+1 -> 2 | D18: =C18+1 -> 3 | E18: =D18+1 -> 4 | F18: =E18+1 -> 5 | G18: =F18+1 -> 6 | H18: =G18+1 -> 7 | I18: =H18+1 -> 8 | J18: =I18+1 -> 9 | ... Q18: =P18+1 -> 16
B20: 1 | D20: Esošo pagraba ieejas durvju demontāža, jauno durvju montāža, durvju aiļu apdare. | E20: gb | F20: 4
D21: Cinkotā Metāla durvis ar kārbu ( ailes izmērs 1130x2410mm ), krāsotas ar pulverkrāsojumu ( RAL 8017 ), vērtnei 3 enģes, blīvgumijas pa visu perimetru, ( Jāprecizē durvju izmēri pirms pasūtīšanas) | E21: gb | F21: 4
D22: Kustīgs ner.tērauda rokturis | E22: kompl | F22: 4
D23: Slēdzene Iseo pagraba durvīm | E23: kompl | F23: 4
D24: Palīgmateriāli | E24: kompl | F24: 4
B25: 2 | D25: Objekta sakārtošana, gružu savākšana | E25: obj. | F25: 1
B26: Kopā:
D27: Transporta izmaksas:
D28: Tiešās izmaksas kopā, t.sk. darba devēja sociālais nodoklis 23,59%
D29: Virsizdevumi:
D30: Darbuzņēmēja peļņa:
D31: Kopā bez PVN:
D32: PVN
D33: Pavisam kopā:

Sheet 8.Mālkalnes pr. 30
B1: 8.pielikums iepirkuma “Ēku durvju nomaiņa pret cinkota metāla durvīm”, iepirkuma identifikācijas Nr.SIAON 2024/2-MI, nolikumam
B3: TEHNISKĀ SPECIFIKĀCIJA (LOKĀLĀ TĀME) UN TEHNISKAIS PIEDĀVĀJUMS
A4: Piedāvājumā visas izmaksas ir jāuzrāda ar ne vairāk kā 2 (divām) decimālzīmēm aiz komata un aprēķinos pielietojot skaitļu noapaļošanas funkciju “Round”.
I6: Ieejas durvju nomaiņa pret cinkotā metāla durvīm - 1gb
B7: (Darba veids vai konstruktīvā elementa nosaukums)
D9: Būves nosaukums: | E9: Daudzdzīvokļu nams
D10: Objekta adrese: | E10: Mālkalnes pr. 30, Ogre
D11: Pasūtītājs: | E11: Sabiedrība ar ierobežotu atbildību ''Ogres Namsaimnieks''
D12: Izpildītājs:
P14: Pretendenta piedāvātā darbu summa, Eur bez PVN: | Q14: =Q34 -> 0
B16: Nr.p.k | C16: Kods | D16: Būvdarbu apraksts | E16: Mērvienība | F16: Daudzums | G16: Vienības izmaksas | M16: Kopā uz visu apjomu
G17: Laika norma (c/h) | H17: Darba samaksas likme (euro/h) | I17: Darba alga (euro) | J17: Būvizstrādājumi (euro) | K17: Mehā-nismi (euro) | L17: Kopā (euro) | M17: Darb-ietilpība (c/h) | N17: Darba alga (euro) | O17: Būvizstrādājumi (euro) | P17: Mehā-nismi (euro) | Q17: Summa (euro)
B18: 1 | C18: =B18+1 -> 2 | D18: =C18+1 -> 3 | E18: =D18+1 -> 4 | F18: =E18+1 -> 5 | G18: =F18+1 -> 6 | H18: =G18+1 -> 7 | I18: =H18+1 -> 8 | J18: =I18+1 -> 9 | ... Q18: =P18+1 -> 16
B20: 1 | D20: Esošo Ieejas durvju demontāža, jauno durvju montāža, durvju aiļu apdare. | E20: gb | F20: 1
D21: Cinkotā Metāla durvis ar kārbu - 2 vērtnes,( ailes izmērs 1550x2030mm ),ar stikla paketi ( 200x800mm ) krāsotas ar pulverkrāsojumu ( RAL 7016),viena vērtne ( 1000x2030mm, otrā veramā daļa 550x2030mm ) katrai vērtnei 3 enģes, blīvgumijas pa visu perimetru, ( Jāprecizē durvju izmēri pirms pasūtīšanas) | E21: gb | F21: 1
D22: Cinkotais slieksnis | E22: gb | F22: 1
D23: Stikla pakete | E23: gb | F23: 1
D24: Durvju aizvērējs | E24: gb | F24: 1
D25: Nerūsējošā tērauda nekustīgie rokturi 300mm | E25: kompl | F25: 1
D26: Elektroniskā koda atslēga Competition ( vai analogs ) | E26: kompl | F26: 1
D27: Palīgmateriāli | E27: kompl | F27: 1
B28: 2 | D28: Objekta sakārtošana, gružu savākšana | E28: obj. | F28: 1
B29: Kopā:
D30: Transporta izmaksas:
D31: Tiešās izmaksas kopā, t.sk. darba devēja sociālais nodoklis 23,59%
D32: Virsizdevumi:
D33: Darbuzņēmēja peļņa:
D34: Kopā bez PVN:
D35: PVN
D36: Pavisam kopā:

Sheet 9.Parka iela 1A
B1: 8.pielikums iepirkuma “Ēku durvju nomaiņa pret cinkota metāla durvīm”, iepirkuma identifikācijas Nr.SIAON 2024/2-MI, nolikumam
B3: TEHNISKĀ SPECIFIKĀCIJA (LOKĀLĀ TĀME) UN TEHNISKAIS PIEDĀVĀJUMS
A4: Piedāvājumā visas izmaksas ir jāuzrāda ar ne vairāk kā 2 (divām) decimālzīmēm aiz komata un aprēķinos pielietojot skaitļu noapaļošanas funkciju “Round”.
I6: Atkritumu telpas durvju nomaiņa pret cinkotā metāla durvīm - 2gb
B7: (Darba veids vai konstruktīvā elementa nosaukums)
D9: Būves nosaukums: | E9: Daudzdzīvokļu nams
D10: Objekta adrese: | E10: Parka iela 1a, Ogre
D11: Pasūtītājs: | E11: Sabiedrība ar ierobežotu atbildību ''Ogres Namsaimnieks''
D12: Izpildītājs:
P14: Pretendenta piedāvātā darbu summa, Eur bez PVN: | Q14: =Q31 -> 0
B16: Nr.p.k | C16: Kods | D16: Būvdarbu apraksts | E16: Mērvienība | F16: Daudzums | G16: Vienības izmaksas | M16: Kopā uz visu apjomu
G17: Laika norma (c/h) | H17: Darba samaksas likme (euro/h) | I17: Darba alga (euro) | J17: Būvizstrādājumi (euro) | K17: Mehā-nismi (euro) | L17: Kopā (euro) | M17: Darb-ietilpība (c/h) | N17: Darba alga (euro) | O17: Būvizstrādājumi (euro) | P17: Mehā-nismi (euro) | Q17: Summa (euro)
B18: 1 | C18: =B18+1 -> 2 | D18: =C18+1 -> 3 | E18: =D18+1 -> 4 | F18: =E18+1 -> 5 | G18: =F18+1 -> 6 | H18: =G18+1 -> 7 | I18: =H18+1 -> 8 | J18: =I18+1 -> 9 | ... Q18: =P18+1 -> 16
B20: 1 | D20: Esošo durvju demontāža, jauno durvju montāža, durvju aiļu apdare. | E20: gb | F20: 2
D21: Cinkotā Metāla durvis ar kārbu bez sliekšņa ( ailes izmērs 1260x2200mm ), krāsotas ar pulverkrāsojumu ( RAL 7016 ), 2 vērtnes ( viena 260mm veramā, otrā 1000mm - veramā), katrai vērtnei 3 enģes, blīvgumijas pa visu perimetru, ( Jāprecizē durvju izmēri pirms pasūtīšanas) | E21: gb | F21: 2
D22: Mehāniskā kodu atslēga METEM ( analogs ) | E22: kompl | F22: 2
D23: Nerūsējošā tērauda nekustīgie rokturi | E23: kompl | F23: 2
D24: Palīgmateriāli | E24: kompl | F24: 2
B25: 2 | D25: Objekta sakārtošana, gružu savākšana | E25: obj. | F25: 1
B26: Kopā:
D27: Transporta izmaksas:
D28: Tiešās izmaksas kopā, t.sk. darba devēja sociālais nodoklis 23,59%
D29: Virsizdevumi:
D30: Darbuzņēmēja peļņa:
D31: Kopā bez PVN:
D32: PVN
D33: Pavisam kopā:

Sheet 10.Skolas iela 9
B1: 8.pielikums iepirkuma “Ēku durvju nomaiņa pret cinkota metāla durvīm”, iepirkuma identifikācijas Nr.SIAON 2024/2-MI, nolikumam
B3: TEHNISKĀ SPECIFIKĀCIJA (LOKĀLĀ TĀME) UN TEHNISKAIS PIEDĀVĀJUMS
A4: Piedāvājumā visas izmaksas ir jāuzrāda ar ne vairāk kā 2 (divām) decimālzīmēm aiz komata un aprēķinos pielietojot skaitļu noapaļošanas funkciju “Round”.
I6: Ieejas durvju nomaiņa pret cinkotā metāla durvīm - 3gb
B7: (Darba veids vai konstruktīvā elementa nosaukums)
D9: Būves nosaukums: | E9: Daudzdzīvokļu nams
D10: Objekta adrese: | E10: Skolas iela 9, Ogre
D11: Pasūtītājs: | E11: Sabiedrība ar ierobežotu atbildību ''Ogres Namsaimnieks''
D12: Izpildītājs:
P14: Pretendenta piedāvātā darbu summa, Eur bez PVN: | Q14: =Q33 -> 0
B16: Nr.p.k | C16: Kods | D16: Būvdarbu apraksts | E16: Mērvienība | F16: Daudzums | G16: Vienības izmaksas | M16: Kopā uz visu apjomu
G17: Laika norma (c/h) | H17: Darba samaksas likme (euro/h) | I17: Darba alga (euro) | J17: Būvizstrādājumi (euro) | K17: Mehā-nismi (euro) | L17: Kopā (euro) | M17: Darb-ietilpība (c/h) | N17: Darba alga (euro) | O17: Būvizstrādājumi (euro) | P17: Mehā-nismi (euro) | Q17: Summa (euro)
B18: 1 | C18: =B18+1 -> 2 | D18: =C18+1 -> 3 | E18: =D18+1 -> 4 | F18: =E18+1 -> 5 | G18: =F18+1 -> 6 | H18: =G18+1 -> 7 | I18: =H18+1 -> 8 | J18: =I18+1 -> 9 | ... Q18: =P18+1 -> 16
B19: 1 | D19: Esošo Ieejas durvju demontāža, jauno durvju montāža, durvju aiļu apdare. | E19: gb | F19: 3
D20: Cinkotā Metāla durvis ar kārbu - ( ailes izmērs 1250x2050mm ),ar stikla paketi ( 200x800mm ) krāsotas ar pulverkrāsojumu ( RAL 7016 ),viena vērtne ( 1000x2050mm, otrā veramā daļa 250x2050mm ) katrai vērtnei 3 enģes, blīvgumijas pa visu perimetru, ( Jāprecizē durvju izmēri pirms pasūtīšanas) | E20: gb | F20: 3
D21: Cinkotais slieksnis | E21: gb | F21: 3
D22: Stikla pakete | E22: gb | F22: 3
D23: Durvju aizvērējs | E23: gb | F23: 3
D24: Nerūsējošā tērauda nekustīgie rokturi 300mm | E24: kompl | F24: 3
D25: Elektroniskā koda atslēga Competition ( vai analogs ) | E25: kompl | F25: 3
D26: Palīgmateriāli | E26: kompl | F26: 3
B27: 2 | D27: Objekta sakārtošana, gružu savākšana | E27: obj. | F27: 1
B28: Kopā:
D29: Transporta izmaksas:
D30: Tiešās izmaksas kopā, t.sk. darba devēja sociālais nodoklis 23,59%
D31: Virsizdevumi:
D32: Darbuzņēmēja peļņa:
D33: Kopā bez PVN:
D34: PVN
D35: Pavisam kopā:

Sheet 11.Tīnūžu iela 18
B1: 8.pielikums iepirkuma “Ēku durvju nomaiņa pret cinkota metāla durvīm”, iepirkuma identifikācijas Nr.SIAON 2024/2-MI, nolikumam
B3: TEHNISKĀ SPECIFIKĀCIJA (LOKĀLĀ TĀME) UN TEHNISKAIS PIEDĀVĀJUMS
A4: Piedāvājumā visas izmaksas ir jāuzrāda ar ne vairāk kā 2 (divām) decimālzīmēm aiz komata un aprēķinos pielietojot skaitļu noapaļošanas funkciju “Round”.
I6: Atkritumu telpas durvju nomaiņa pret cinkotā metāla durvīm - 1gb
B7: (Darba veids vai konstruktīvā elementa nosaukums)
D9: Būves nosaukums: | E9: Daudzdzīvokļu nams
D10: Objekta adrese: | E10: Tīnūžu iela 18, Ogre
D11: Pasūtītājs: | E11: Sabiedrība ar ierobežotu atbildību ''Ogres Namsaimnieks''
D12: Izpildītājs:
P14: Pretendenta piedāvātā darbu summa, Eur bez PVN: | Q14: =Q30 -> 0
B16: Nr.p.k | C16: Kods | D16: Būvdarbu apraksts | E16: Mērvienība | F16: Daudzums | G16: Vienības izmaksas | M16: Kopā uz visu apjomu
G17: Laika norma (c/h) | H17: Darba samaksas likme (euro/h) | I17: Darba alga (euro) | J17: Būvizstrādājumi (euro) | K17: Mehā-nismi (euro) | L17: Kopā (euro) | M17: Darb-ietilpība (c/h) | N17: Darba alga (euro) | O17: Būvizstrādājumi (euro) | P17: Mehā-nismi (euro) | Q17: Summa (euro)
B18: 1 | C18: =B18+1 -> 2 | D18: =C18+1 -> 3 | E18: =D18+1 -> 4 | F18: =E18+1 -> 5 | G18: =F18+1 -> 6 | H18: =G18+1 -> 7 | I18: =H18+1 -> 8 | J18: =I18+1 -> 9 | ... Q18: =P18+1 -> 16
B19: 1 | D19: Esošo durvju demontāža, jauno durvju montāža, durvju aiļu apdare. | E19: gb | F19: 1
D20: Cinkotā Metāla durvis ar kārbu ( ailes izmērs 1115x2050mm ), krāsotas ar pulverkrāsojumu ( RAL 8017 ), vērtnei 3 enģes, blīvgumijas pa visu perimetru, ( Jāprecizē durvju izmēri pirms pasūtīšanas) | E20: gb | F20: 1
D21: Mehāniskā kodu atslēga METEM ( analogs ) | E21: kompl | F21: 1
D22: Nerūsējošā tērauda nekustīgie rokturi | E22: kompl | F22: 1
D23: Palīgmateriāli | E23: kompl | F23: 1
B24: 2 | D24: Objekta sakārtošana, gružu savākšana | E24: obj. | F24: 1
B25: Kopā:
D26: Transporta izmaksas:
D27: Tiešās izmaksas kopā, t.sk. darba devēja sociālais nodoklis 23,59%
D28: Virsizdevumi:
D29: Darbuzņēmēja peļņa:
D30: Kopā bez PVN:
D31: PVN
D32: Pavisam kopā:

Sheet 12.Zilokalnu pr. 10
B1: 8.pielikums iepirkuma “Ēku durvju nomaiņa pret cinkota metāla durvīm”, iepirkuma identifikācijas Nr.SIAON 2024/2-MI, nolikumam
B3: TEHNISKĀ SPECIFIKĀCIJA (LOKĀLĀ TĀME) UN TEHNISKAIS PIEDĀVĀJUMS
A4: Piedāvājumā visas izmaksas ir jāuzrāda ar ne vairāk kā 2 (divām) decimālzīmēm aiz komata un aprēķinos pielietojot skaitļu noapaļošanas funkciju “Round”.
I6: Pagrabu ieejas durvju nomaiņa pret cinkotā metāla durvīm - 2gb
B7: (Darba veids vai konstruktīvā elementa nosaukums)
D9: Būves nosaukums: | E9: Daudzdzīvokļu nams
D10: Objekta adrese: | E10: Zilokalnu pr. 10, Ogre
D11: Pasūtītājs: | E11: Sabiedrība ar ierobežotu atbildību ''Ogres Namsaimnieks''
D12: Izpildītājs:
P14: Pretendenta piedāvātā darbu summa, Eur bez PVN: | Q14: =Q30 -> 0
B16: Nr.p.k | C16: Kods | D16: Būvdarbu apraksts | E16: Mērvienība | F16: Daudzums | G16: Vienības izmaksas | M16: Kopā uz visu apjomu
G17: Laika norma (c/h) | H17: Darba samaksas likme (euro/h) | I17: Darba alga (euro) | J17: Būvizstrādājumi (euro) | K17: Mehā-nismi (euro) | L17: Kopā (euro) | M17: Darb-ietilpība (c/h) | N17: Darba alga (euro) | O17: Būvizstrādājumi (euro) | P17: Mehā-nismi (euro) | Q17: Summa (euro)
B18: 1 | C18: =B18+1 -> 2 | D18: =C18+1 -> 3 | E18: =D18+1 -> 4 | F18: =E18+1 -> 5 | G18: =F18+1 -> 6 | H18: =G18+1 -> 7 | I18: =H18+1 -> 8 | J18: =I18+1 -> 9 | ... Q18: =P18+1 -> 16
B19: 1 | D19: Esošo pagraba ieejas durvju demontāža, jauno durvju montāža, durvju aiļu apdare. | E19: gb | F19: 2
D20: Cinkotā Metāla durvis ar kārbu ( ailes izmērs 900x2050mm ), krāsotas ar pulverkrāsojumu ( RAL 8017 ), vērtnei 3 enģes, blīvgumijas pa visu perimetru, ( Jāprecizē durvju izmēri pirms pasūtīšanas) | E20: gb | F20: 2
D21: Kustīgs ner.tērauda rokturis | E21: kompl | F21: 2
D22: Slēdzene Iseo pagraba durvīm | E22: kompl | F22: 2
D23: Palīgmateriāli | E23: kompl | F23: 2
B24: 2 | D24: Objekta sakārtošana, gružu savākšana | E24: obj. | F24: 1
B25: Kopā:
D26: Transporta izmaksas:
D27: Tiešās izmaksas kopā, t.sk. darba devēja sociālais nodoklis 23,59%
D28: Virsizdevumi:
D29: Darbuzņēmēja peļņa:
D30: Kopā bez PVN:
D31: PVN
D32: Pavisam kopā:

Sheet 13. Zilokalnu pr. 18
B1: 8.pielikums iepirkuma “Ēku durvju nomaiņa pret cinkota metāla durvīm”, iepirkuma identifikācijas Nr.SIAON 2024/2-MI, nolikumam
B3: TEHNISKĀ SPECIFIKĀCIJA (LOKĀLĀ TĀME) UN TEHNISKAIS PIEDĀVĀJUMS
A4: Piedāvājumā visas izmaksas ir jāuzrāda ar ne vairāk kā 2 (divām) decimālzīmēm aiz komata un aprēķinos pielietojot skaitļu noapaļošanas funkciju “Round”.
I6: Ieejas durvju nomaiņa pret cinkotā metāla durvīm - 2gb
B7: (Darba veids vai konstruktīvā elementa nosaukums)
D9: Būves nosaukums: | E9: Daudzdzīvokļu nams
D10: Objekta adrese: | E10: Zilokalnu pr. 18, Ogre
D11: Pasūtītājs: | E11: Sabiedrība ar ierobežotu atbildību ''Ogres Namsaimnieks''
D12: Izpildītājs:
P14: Pretendenta piedāvātā darbu summa, Eur bez PVN: | Q14: =Q33 -> 0
B16: Nr.p.k | C16: Kods | D16: Būvdarbu apraksts | E16: Mērvienība | F16: Daudzums | G16: Vienības izmaksas | M16: Kopā uz visu apjomu
G17: Laika norma (c/h) | H17: Darba samaksas likme (euro/h) | I17: Darba alga (euro) | J17: Būvizstrādājumi (euro) | K17: Mehā-nismi (euro) | L17: Kopā (euro) | M17: Darb-ietilpība (c/h) | N17: Darba alga (euro) | O17: Būvizstrādājumi (euro) | P17: Mehā-nismi (euro) | Q17: Summa (euro)
B18: 1 | C18: =B18+1 -> 2 | D18: =C18+1 -> 3 | E18: =D18+1 -> 4 | F18: =E18+1 -> 5 | G18: =F18+1 -> 6 | H18: =G18+1 -> 7 | I18: =H18+1 -> 8 | J18: =I18+1 -> 9 | ... Q18: =P18+1 -> 16
B19: 1 | D19: Esošo Ieejas durvju demontāža, jauno durvju montāža, durvju aiļu apdare. | E19: gb | F19: 2
D20: Cinkotā Metāla durvis ar kārbu - vērtnes,( ailes izmērs 920x2450mm ), ar stikla paketi ( 200x800mm ) krāsotas ar pulverkrāsojumu ( RAL 7016),veramā daļa 920x2000mm, vērtnei 3 enģes, blīvgumijas pa visu perimetru, ( Jāprecizē durvju izmēri pirms pasūtīšanas) | E20: gb | F20: 2
D21: Cinkotais slieksnis | E21: gb | F21: 2
D22: Stikla pakete | E22: gb | F22: 2
D23: Durvju aizvērējs | E23: gb | F23: 2
D24: Nerūsējošā tērauda nekustīgie rokturi 300mm | E24: kompl | F24: 2
D25: Elektroniskā koda atslēga Competition ( vai analogs ) | E25: kompl | F25: 1
D26: Palīgmateriāli | E26: kompl | F26: 2
B27: 2 | D27: Objekta sakārtošana, gružu savākšana | E27: obj. | F27: 1
B28: Kopā:
D29: Transporta izmaksas:
D30: Tiešās izmaksas kopā, t.sk. darba devēja sociālais nodoklis 23,59%
D31: Virsizdevumi:
D32: Darbuzņēmēja peļņa:
D33: Kopā bez PVN:
D34: PVN
D35: Pavisam kopā:
