Workbook

Sheet KOPTĀME
C1: APSTIPRINU
C2: _________________________
C3: (pasūtītāja paraksts un tā atšifrējums)
C5: Z.v.
C6: 2024. gada ____.________________
A7: Būvniecības koptāme
A8: Ūdensvada un kanalizācijas izbūve Mazajā Juglas ielā
A10: Objekta nosaukums: Ūdensvada un kanalizācijas izbūve Mazajā Juglas ielā, 4.kārta
A11: Būves nosaukums: Ūdensvada un kanalizācijas izbūve Mazajā Juglas ielā,4.kārta
A12: Objekta adrese: Malienas iela, Ūdeļu iela 4
A13: Pasūtījuma Nr.:
C14: Tāme sastādīta:
A16: Nr. p.k. | B16: Objekta nosaukums | C16: Objekta izmaksas (Euro)
A18: 1 | B18: Ūdensvada un kanalizācijas izbūve Mazajā Juglas ielā | C18: =KOPSAVILKUMS!D22 -> 0
A19: 2 | B19: Maksa par transporta būvju izmantošanu saskaņā ar Rīgas domes 12.07.2023. lēmumu Nr. RD-23-2771-lē “Par nomas maksas noteikšanu par ceļa elementu lietošanu Rīgas valstspilsētas pašvaldības administratīvajā teritorijā”
B20: Kopā | C20: =SUM(C17:C18) -> 0
B21: PVN 21% | C21: =ROUND(C20*0.21,2) -> 0
B22: Pavisam būvniecības izmaksas ar PVN | C22: =C20+C21 -> 0
A24: Sastādīja
B25: (paraksts un tā atšifrējums, datums)
A28: Pārbaudīja
B29: (paraksts un tā atšifrējums, datums)
A30: Sertifikāta Nr.

Sheet KOPSAVILKUMS
A1: BŪVNIECĪBAS TĀMJU KOPSAVILKUMS
A3: =KOPTĀME!A10 -> Objekta nosaukums: Ūdensvada un kanalizācijas izbūve Mazajā Juglas ielā, 4.kārta
A4: =KOPTĀME!A11 -> Būves nosaukums: Ūdensvada un kanalizācijas izbūve Mazajā Juglas ielā,4.kārta
A5: =KOPTĀME!A12 -> Objekta adrese: Malienas iela, Ūdeļu iela 4
A6: Pasūtījuma Nr.: | E6: Par kopējo summu, Euro | F6: =D22 -> 0
E7: Kopējā darbietilpība, c/h | F7: =H18 -> 0
A9: Nr.p.k. | B9: Kods, tāmes Nr. | C9: Būvdarbu veids vai konstruktīvā elementa nosaukums | D9: Tāmes izmaksas (Euro) | E9: Tai skaitā | H9: Darbietilpība (c/h)
E10: darba alga (Euro) | F10: būvizstrādājumi (Euro) | G10: mehānismi (Euro)
A12: 0 | B12: 4-0 | C12: Ūdensvada un pašteces kanalizācijas tīkli
A13: 1 | B13: 4-1 | C13: Sadzīves kanalizācijas spiedvads 4. kārta
A14: 2 | B14: 4-2 | C14: Būvkonstrukcijas 4. kārta
A15: 3 | B15: 4-3 | C15: KSS 4. KĀRTA
A16: =A15+1 -> 4 | B16: 4-4 | C16: EL; EL-VAS 4. KĀRTA
A17: 5 | B17: 4-5 | C17: Būvlaukuma izmaksas 4. kārta
C18: Kopā | D18: =ROUND(SUM(D12:D17),2) -> 0 | E18: =ROUND(SUM(E12:E17),2) -> 0 | F18: =ROUND(SUM(F12:F17),2) -> 0 | G18: =ROUND(SUM(G12:G17),2) -> 0 | H18: =ROUND(SUM(H12:H17),2) -> 0
B19: ="#REF!" -> #REF! | C19: Virsizdevumi % | D19: =D18 -> 0
B20: ="#REF!" -> #REF! | C20: t.sk. darba aizsardzība | D20: =D19 -> 0
B21: ="#REF!" -> #REF! | C21: Peļņa % | D21: =D18 -> 0
C22: Pavisam kopā | D22: =D18+D19+D21 -> 0
A24: Sastādīja
C25: (paraksts un tā atšifrējums, datums)
A28: Pārbaudīja
C29: (paraksts un tā atšifrējums, datums)
B30: Sertifikāta Nr.
B32: Piezīmes: 1. Finanšu piedāvājumā jāiekļauj darbaspēka, būvizstrādājumu, mehānismu un visu citu iespējamo Darbu izpildes izdevumu izmaksas. Pretendents nav tiesīgs Finanšu piedāvājuma tāmi papildināt ar jaunām izmaksu pozīcijām vai dzēst esošās izmaksu pozīcijas. 2. Finanšu piedāvājumā aprēķinus jāveic formulās ar noapaļojumu divi cipari aiz komata (jāizmanto funkcija “round”).

Sheet 4-0 UKT 4.kārta
A1: Lokālā tāme Nr. 4-0
A2: Ūdensvada un pašteces kanalizācijas tīkli
A3: =[1]KOPTĀME!A10 -> Objekta nosaukums: Ūdensvada un kanalizācijas izbūve Mazajā Juglas ielā, 4.kārta
A4: =[1]KOPTĀME!A11 -> Būves nosaukums: Ūdensvada un kanalizācijas izbūve Mazajā Juglas ielā,4.kārta
A5: =[1]KOPTĀME!A12 -> Objekta adrese: Malienas iela, Ūdeļu iela 4 | M5: Tāmes izmaksas | O5: =P59 -> 0 | P5: Euro
A6: Pasūtījuma Nr.:
A8: Nr.p.k. | B8: Kods | C8: Darba nosaukums | D8: Mērvienība | E8: Daudzums | F8: Vienības izmaksas | L8: Kopā uz visu apjomu
F9: Laika norma (c/h) | G9: Darba samaksas likme* (Euro/h) | H9: Darba alga (Euro) | I9: Būvizstrādājumi (Euro) | J9: Mehānismi (Euro) | K9: Kopā (Euro) | L9: Darbietilpība (c/h) | M9: Darba alga (Euro) | N9: Būvizstrādājumi (Euro) | O9: Mehānismi (Euro) | P9: Summa (Euro)
A10: 1 | B10: 2 | C10: 3 | D10: 4 | E10: 5 | F10: 6 | G10: 7 | H10: 8 | I10: 9 | J10: 10 | K10: 11 | L10: 12 | M10: 13 | N10: 14 | O10: 15 | P10: 16
C12: Pašteces sadzīves kanalizācija
A13: 1 | B13: l.c. | C13: PP daudzslāņu gludsienu pašteces kanalizācijas caurule SN8, OD400 ar uzmavu un blīvgredzenu montāža ar 15 cm smilts pamatnes ierīkošanu un izbūvētā cauruļvada smilts apbēruma ierīkošanu 30 cm virs caurules virsas | D13: m | E13: 15.5
A14: 2 | B14: l.c. | C14: PP daudzslāņu gludsienu pašteces kanalizācijas caurule SN8, OD400 ar uzmavu un blīvgredzenu | D14: m | E14: 15
A15: 3 | B15: l.c. | C15: Smilts cauruļvada pamatnei un apbērumam (blietēta) k>1,0 m/dnn | D15: m3 | E15: 19.76
A16: 4 | B16: l.c. | C16: Dzelzsbetona kanalizācijas akas (K1-42) izbūve DN1500 no saliekamiem dzelzsbetona grodiem (Eiro grodi ar pamatni), savienojošā grope ar blīvgumiju, betona konusu, kāpšļiem,hidroizolācija pilnā apjomā. Vāks slēdzams, no kaļamā ķeta ar gumijas blīvējumiem, slodzes klase B125, Rexel tipa. Iebūves dziļums 4.0-4.5m. Izbūve zāles segumā. | D16: kpl. | E16: 1
A17: 5 | B17: l.c. | C17: Dzelzsbetona kanalizācijas aka DN1500 no saliekamiem dzelzsbetona grodiem (Eiro grodi ar pamatni), savienojošā grope ar blīvgumiju, betona konusu, kāpšļiem,hidroizolācija pilnā apjomā. Vāks slēdzams, no kaļamā ķeta ar gumijas blīvējumiem, slodzes klase B125, Rexel tipa,dziļums 4.0-4.5m. | D17: kpl. | E17: 1
A18: 6 | B18: l.c. | C18: Smilts akas pamatnes ierīkošanai (blietēta) k>1,0 m/dnn | D18: m3 | E18: 0.09
A19: 7 | B19: l.c. | C19: Apbetonējums ap akas vāku C25/30 | D19: m3 | E19: 0.09
A20: 8 | B20: l.c. | C20: Vāks slēdzams, no kaļamā ķeta ar gumijas blīvējumiem, slodzes klase D400, Rexel tipa | D20: kpl. | E20: 1
A21: 9 | B21: l.c. | C21: Pieslēgums pie esoša kanalizācijas akas | D21: vietas | E21: 1
A22: 10 | B22: l.c. | C22: Pārkrituma mezgla izbūve (K1-42, h=1.5-2.0m), DN1500 dzelzsbet. akā ar ievadcaurules diametru OD400mm | D22: kpl. | E22: 1
A23: 11 | B23: l.c. | C23: Aizsargčaula dzelzsbetona grodu akas sienā OD400 | D23: gb | E23: 4
A24: 12 | B24: l.c. | C24: Kanalizācijas caurules OD400 gala noslēgs | D24: gb | E24: 1
... A31: 19 | B31: l.c. | C31: Tranšejas sienu stiprināšana ar metāla vairogiem (divpusēji), sienas nostiprinātas abās būvgrāvja pusēs, tranšejas dziļums 4.0-4.5m | D31: m | E31: 13
A32: 20 | B32: l.c. | C32: Izbrīvētās, turpmāk neizmantojamās, grunts iekraušana autopašizgāzējā un promvešana līdz norādītai atbērtnei līdz 5 km | D32: m3 | E32: =E27+E26 -> 101.8
A33: 21 | B33: l.c. | C33: Pievienošanās pie kanalizācijas sūkņu stacijas | D33: vietas | E33: 1
A34: 22 | B34: l.c. | C34: Esošā kanalizācijas d315 demontāža un utilizācija | D34: m | E34: 10
A35: 23 | B35: l.c. | C35: Šķērsojumi ar proj. / esošiem kabeļiem (t.sk. to atšifrēšana) | D35: vietas | E35: 2
A36: 24 | B36: l.c. | C36: CCTV pārbaude cauruļvada slīpuma un stāvokļa noteikšanai pēc būvdarbu pabeigšanas | D36: m | E36: =15.5 -> 15.5
A37: 25 | B37: l.c. | C37: Cauruļvadu skalošana un tīrīšana | D37: m | E37: 15.5
A38: 26 | B38: l.c. | C38: Tranšeju aizbēršana ar pievesto smilti (filtrācijas koeficientu ≥ 1 m/dnn, smilts blīvums ne mazāks par 0,95 no dabīgā blīvuma) no ierīkotā apbēruma ap cauruļvadu līdz atjaunojamā seguma apakšējai kārtai, blietējot ik pa 30 cm. | D38: m3 | E38: 101.8
A39: 27 | B39: l.c. | C39: Augu zeme,zālāju sēklas un mēslojums,h=15cm | D39: m2 | E39: 30
A40: 28 | B40: l.c. | C40: Trases nospraušana | D40: m | E40: 15.5
A41: 29 | B41: l.c. | C41: Tranšeju nožogojumi | D41: kpl. | E41: 1
A42: 30 | B42: l.c. | C42: Izpildokumentācijas sagatavošana (digitāla versija) | D42: kpl. | E42: 1
C43: Ūdensvads
A44: 31 | B44: l.c. | C44: Augsta blīvuma (HDPE) polietilēna materiāla PE 100-RC ar integrētu PE 100-RC ārējās sieniņas aizsargslāni vismaz 2,5 mm biezumā, PN10,SDR17, OD32 montāža ar 15 cm smilts pamatnes ierīkošanu un izbūvētā cauruļvada smilts apbēruma ierīkošanu 30 cm virs caurules virsas | D44: m | E44: 9.8
A45: 32 | B45: l.c. | C45: Augsta blīvuma (HDPE) polietilēna materiāla PE 100-RC ar integrētu PE 100-RC ārējās sieniņas aizsargslāni vismaz 2,5 mm biezumā, PN10,SDR17, OD32 | D45: m | E45: 9.8
A46: 33 | B46: l.c. | C46: Smilts cauruļvada pamatnei un apbērumam (blietēta) k>1,0 m/dnn | D46: m3 | E46: 11.58
A47: 34 | B47: l.c. | C47: Pievinošanās esošam ūdensvadam dn32 | D47: vietas | E47: 1
A48: 35 | B48: l.c. | C48: Tranšejas rakšana ar rokām un ekskavatoru pie caurules iebūves dziļuma 2,0-2,5 m un minimālā tranšejas platuma 1.5 m | D48: m3 | E48: 30
...

Sheet 4-1 SPK1 4. kārta
A1: Lokālā tāme Nr. 4-1
A2: SADZĪVES KANALIZĀCIJAS SPIEDVADS 4. KĀRTA
A3: =KOPTĀME!A10 -> Objekta nosaukums: Ūdensvada un kanalizācijas izbūve Mazajā Juglas ielā, 4.kārta
A4: =KOPTĀME!A11 -> Būves nosaukums: Ūdensvada un kanalizācijas izbūve Mazajā Juglas ielā,4.kārta
A5: =KOPTĀME!A12 -> Objekta adrese: Malienas iela, Ūdeļu iela 4 | M5: Tāmes izmaksas | O5: =P121 -> 0 | P5: Euro
A6: Pasūtījuma Nr.:
A8: Nr.p.k. | B8: Kods | C8: Darba nosaukums | D8: Mērvienība | E8: Daudzums | F8: Vienības izmaksas | L8: Kopā uz visu apjomu
F9: Laika norma (c/h) | G9: Darba samaksas likme* (Euro/h) | H9: Darba alga (Euro) | I9: Būvizstrādājumi (Euro) | J9: Mehānismi (Euro) | K9: Kopā (Euro) | L9: Darbietilpība (c/h) | M9: Darba alga (Euro) | N9: Būvizstrādājumi (Euro) | O9: Mehānismi (Euro) | P9: Summa (Euro)
A10: 1 | B10: 2 | C10: 3 | D10: 4 | E10: 5 | F10: 6 | G10: 7 | H10: 8 | I10: 9 | J10: 10 | K10: 11 | L10: 12 | M10: 13 | N10: 14 | O10: 15 | P10: 16
C12: Sadzīves kanalizācijas spiedvads, 1. kārta
A13: 1 | B13: l.c. | C13: Pievienošanās esošam spiedvadam d225 | D13: vietas | E13: 1 | K13: =H13+I13+J13 -> 0 | L13: =ROUND(E13*F13,2) -> 0 | M13: =ROUND(E13*H13,2) -> 0 | N13: =ROUND(E13*I13,2) -> 0 | O13: =ROUND(E13*J13,2) -> 0 | P13: =SUM(M13:O13) -> 0
A14: 2 | B14: l.c. | C14: Augsta blīvuma (HDPE) polietilēna materiāla PE 100-RC ar integrētu PP (polipropilēna) papildus ārējo aizsargslāni, kas ir vismaz 0,8 mm biezumā un integrētu signālslāni. kas nepārsniedz 10% no nominālā caurules sieniņas biezuma, no PP materiāla ar rūpnieciski iestrādātu signālstiepli,, PN10,SDR17, OD/DN400 izbūve ar beztranšejas metodi | D14: m | E14: 849.8 | K14: =H14+I14+J14 -> 0 | L14: =ROUND(E14*F14,2) -> 0 | M14: =ROUND(E14*H14,2) -> 0 | N14: =ROUND(E14*I14,2) -> 0 | O14: =ROUND(E14*J14,2) -> 0 | P14: =SUM(M14:O14) -> 0
A15: 3 | B15: l.c. | C15: Augsta blīvuma (HDPE) polietilēna materiāla PE 100-RC ar integrētu PP (polipropilēna) papildus ārējo aizsargslāni, kas ir vismaz 0,8 mm biezumā un integrētu signālslāni. kas nepārsniedz 10% no nominālā caurules sieniņas biezuma, no PP materiāla ar rūpnieciski iestrādātu signālstiepli,, PN10,SDR17, OD/DN400 | D15: m | E15: 849.8 | K15: =H15+I15+J15 -> 0 | L15: =ROUND(E15*F15,2) -> 0 | M15: =ROUND(E15*H15,2) -> 0 | N15: =ROUND(E15*I15,2) -> 0 | O15: =ROUND(E15*J15,2) -> 0 | P15: =SUM(M15:O15) -> 0
A16: 4 | B16: l.c. | C16: Augsta blīvuma (HDPE) polietilēna materiāla PE 100-RC ar integrētu PE 100-RC ārējās sieniņas aizsargslāni vismaz 2,5 mm biezumā, PN10,SDR17,OD/DN400 montāža ar 15 cm smilts pamatnes ierīkošanu un izbūvētā cauruļvada smilts apbēruma ierīkošanu 30 cm virs caurules virsas | D16: m | E16: 68.2 | K16: =H16+I16+J16 -> 0 | L16: =ROUND(E16*F16,2) -> 0 | M16: =ROUND(E16*H16,2) -> 0 | N16: =ROUND(E16*I16,2) -> 0 | O16: =ROUND(E16*J16,2) -> 0 | P16: =SUM(M16:O16) -> 0
A17: 5 | B17: l.c. | C17: Augsta blīvuma (HDPE) polietilēna materiāla PE 100-RC ar integrētu PE 100-RC ārējās sieniņas aizsargslāni vismaz 2,5 mm biezumā, PN10,SDR17, OD/DN400 | D17: m | E17: 68.2 | K17: =H17+I17+J17 -> 0 | L17: =ROUND(E17*F17,2) -> 0 | M17: =ROUND(E17*H17,2) -> 0 | N17: =ROUND(E17*I17,2) -> 0 | O17: =ROUND(E17*J17,2) -> 0 | P17: =SUM(M17:O17) -> 0
A18: 6 | B18: l.c. | C18: Smilts cauruļvada pamatnei un apbērumam (blietēta) k>1,0 m/dnn | D18: m3 | E18: 62.4 | K18: =H18+I18+J18 -> 0 | L18: =ROUND(E18*F18,2) -> 0 | M18: =ROUND(E18*H18,2) -> 0 | N18: =ROUND(E18*I18,2) -> 0 | O18: =ROUND(E18*J18,2) -> 0 | P18: =SUM(M18:O18) -> 0
A19: 7 | B19: l.c. | C19: Augsta blīvuma (HDPE) polietilēna materiāla PE 100-RC ar integrētu PE 100-RC ārējās sieniņas aizsargslāni vismaz 2,5 mm biezumā, PN10,SDR17, OD/DN225 montāža ar 15 cm smilts pamatnes ierīkošanu un izbūvētā cauruļvada smilts apbēruma ierīkošanu 30 cm virs caurules virsas | D19: m | E19: 4 | K19: =H19+I19+J19 -> 0 | L19: =ROUND(E19*F19,2) -> 0 | M19: =ROUND(E19*H19,2) -> 0 | N19: =ROUND(E19*I19,2) -> 0 | O19: =ROUND(E19*J19,2) -> 0 | P19: =SUM(M19:O19) -> 0 | T19: =SUM(T20:T95) -> 14784.129
A20: 8 | B20: l.c. | C20: Augsta blīvuma (HDPE) polietilēna materiāla PE 100-RC ar integrētu PE 100-RC ārējās sieniņas aizsargslāni vismaz 2,5 mm biezumā, PN10,SDR17, OD/DN225 | D20: m | E20: 4 | K20: =H20+I20+J20 -> 0 | L20: =ROUND(E20*F20,2) -> 0 | M20: =ROUND(E20*H20,2) -> 0 | N20: =ROUND(E20*I20,2) -> 0 | O20: =ROUND(E20*J20,2) -> 0 | P20: =SUM(M20:O20) -> 0 | R20: 3.54 | S20: 0.885 | T20: =R20*S20*E20 -> 12.5316
A21: 9 | B21: l.c. | C21: Smilts cauruļvada pamatnei un apbērumam (blietēta) k>1,0 m/dnn | D21: m3 | E21: 4.05 | K21: =H21+I21+J21 -> 0 | L21: =ROUND(E21*F21,2) -> 0 | M21: =ROUND(E21*H21,2) -> 0 | N21: =ROUND(E21*I21,2) -> 0 | O21: =ROUND(E21*J21,2) -> 0 | P21: =SUM(M21:O21) -> 0 | R21: 3.54 | S21: 0.87 | T21: =R21*S21*E21 -> 12.47319
A22: 10 | B22: l.c. | C22: Met caurule DN200 | D22: m | E22: 13 | K22: =H22+I22+J22 -> 0 | L22: =ROUND(E22*F22,2) -> 0 | M22: =ROUND(E22*H22,2) -> 0 | N22: =ROUND(E22*I22,2) -> 0 | O22: =ROUND(E22*J22,2) -> 0 | P22: =SUM(M22:O22) -> 0 | R22: 3.54 | S22: 0.885 | T22: =R22*S22*E22 -> 40.7277
A23: Sastādīja: | B23: l.c. | C23: Met caurule DN250 | D23: m | E23: 2.8 | K23: =H23+I23+J23 -> 0 | L23: =ROUND(E23*F23,2) -> 0 | M23: =ROUND(E23*H23,2) -> 0 | N23: =ROUND(E23*I23,2) -> 0 | O23: =ROUND(E23*J23,2) -> 0 | P23: =SUM(M23:O23) -> 0 | R23: 3.54 | S23: 0.885 | T23: =R23*S23*E23 -> 8.77212
A24: 12 | B24: l.c. | C24: Tehnoloģiskās būvbedres 3x6m vai atbilstoši tehnoloģijai ierīkošana un segumu atjaunošana pilnā apjomā atbilstoši segumam. | D24: kpl. | E24: 19 | K24: =H24+I24+J24 -> 0 | L24: =ROUND(E24*F24,2) -> 0 | M24: =ROUND(E24*H24,2) -> 0 | N24: =ROUND(E24*I24,2) -> 0 | O24: =ROUND(E24*J24,2) -> 0 | P24: =SUM(M24:O24) -> 0 | R24: 10.015 | S24: 1.196 | T24: =R24*S24*E24 -> 227.58086
A25: 13 | B25: l.c. | C25: El.met OD225 90° līkums | D25: gb | E25: 1 | K25: =H25+I25+J25 -> 0 | L25: =ROUND(E25*F25,2) -> 0 | M25: =ROUND(E25*H25,2) -> 0 | N25: =ROUND(E25*I25,2) -> 0 | O25: =ROUND(E25*J25,2) -> 0 | P25: =SUM(M25:O25) -> 0 | R25: 10.015 | S25: 1.196 | T25: =R25*S25*E25 -> 11.97794
A26: 14 | B26: l.c. | C26: El.met OD225 dubultuzmava | D26: gb | E26: 1 | K26: =H26+I26+J26 -> 0 | L26: =ROUND(E26*F26,2) -> 0 | M26: =ROUND(E26*H26,2) -> 0 | N26: =ROUND(E26*I26,2) -> 0 | O26: =ROUND(E26*J26,2) -> 0 | P26: =SUM(M26:O26) -> 0 | R26: 10.015 | S26: 0.763 | T26: =R26*S26*E26 -> 7.641445
A27: 15 | B27: l.c. | C27: Kaļamā ķeta atloku līkums 90° DN400 | D27: gb | E27: 6 | K27: =H27+I27+J27 -> 0 | L27: =ROUND(E27*F27,2) -> 0 | M27: =ROUND(E27*H27,2) -> 0 | N27: =ROUND(E27*I27,2) -> 0 | O27: =ROUND(E27*J27,2) -> 0 | P27: =SUM(M27:O27) -> 0 | R27: 10.015 | S27: 1.196 | T27: =R27*S27*E27 -> 71.86764
A28: 16 | B28: l.c. | C28: Atloku adapters kaļamā ķeta/PE caurulei DN400 | D28: gb | E28: 12 | K28: =H28+I28+J28 -> 0 | L28: =ROUND(E28*F28,2) -> 0 | M28: =ROUND(E28*H28,2) -> 0 | N28: =ROUND(E28*I28,2) -> 0 | O28: =ROUND(E28*J28,2) -> 0 | P28: =SUM(M28:O28) -> 0 | R28: 10.015 | S28: 0.763 | T28: =R28*S28*E28 -> 91.69734
A29: 17 | B29: l.c. | C29: Kontaktmetināms līkums OD400 31 - 60o, PE100, SDR17 | D29: gb | E29: 3 | K29: =H29+I29+J29 -> 0 | L29: =ROUND(E29*F29,2) -> 0 | M29: =ROUND(E29*H29,2) -> 0 | N29: =ROUND(E29*I29,2) -> 0 | O29: =ROUND(E29*J29,2) -> 0 | P29: =SUM(M29:O29) -> 0 | R29: 10.015 | S29: 1.01 | T29: =R29*S29*E29 -> 30.34545
A30: 18 | B30: l.c. | C30: Kontakmetināms līkums OD400 5 - 30o, PE100, SDR17 | D30: gb | E30: 2 | K30: =H30+I30+J30 -> 0 | L30: =ROUND(E30*F30,2) -> 0 | M30: =ROUND(E30*H30,2) -> 0 | N30: =ROUND(E30*I30,2) -> 0 | O30: =ROUND(E30*J30,2) -> 0 | P30: =SUM(M30:O30) -> 0 | R30: 10.015 | S30: 1.196 | T30: =R30*S30*E30 -> 23.95588
A31: 19 | B31: l.c. | C31: Atloku trejgabals DN400/400 | D31: gb | E31: 3 | K31: =H31+I31+J31 -> 0 | L31: =ROUND(E31*F31,2) -> 0 | M31: =ROUND(E31*H31,2) -> 0 | N31: =ROUND(E31*I31,2) -> 0 | O31: =ROUND(E31*J31,2) -> 0 | P31: =SUM(M31:O31) -> 0 | R31: 3.755 | S31: 0.89 | T31: =R31*S31*E31 -> 10.02585
A32: 20 | B32: l.c. | C32: Izjaucams atloku savienojums DN400 | D32: gb | E32: 15 | K32: =H32+I32+J32 -> 0 | L32: =ROUND(E32*F32,2) -> 0 | M32: =ROUND(E32*H32,2) -> 0 | N32: =ROUND(E32*I32,2) -> 0 | O32: =ROUND(E32*J32,2) -> 0 | P32: =SUM(M32:O32) -> 0 | R32: 6.915 | S32: 1.196 | T32: =R32*S32*E32 -> 124.0551
A33: 21 | B33: l.c. | C33: Īscaurule PE ar rotējošu atloku DN/OD400 | D33: gb | E33: 15 | K33: =H33+I33+J33 -> 0 | L33: =ROUND(E33*F33,2) -> 0 | M33: =ROUND(E33*H33,2) -> 0 | N33: =ROUND(E33*I33,2) -> 0 | O33: =ROUND(E33*J33,2) -> 0 | P33: =SUM(M33:O33) -> 0 | R33: 6.915 | S33: 1.196 | T33: =R33*S33*E33 -> 124.0551
A34: 22 | B34: l.c. | C34: Pazemes atloku aizbīdnis ar fiksēta garuma atslēgstieni DN400 | D34: gb | E34: 3 | K34: =H34+I34+J34 -> 0 | L34: =ROUND(E34*F34,2) -> 0 | M34: =ROUND(E34*H34,2) -> 0 | N34: =ROUND(E34*I34,2) -> 0 | O34: =ROUND(E34*J34,2) -> 0 | P34: =SUM(M34:O34) -> 0 | R34: 9.015 | S34: 1.196 | T34: =R34*S34*E34 -> 32.34582
A35: 23 | B35: l.c. | C35: Aizbīdņa kape | D35: gb | E35: 3 | K35: =H35+I35+J35 -> 0 | L35: =ROUND(E35*F35,2) -> 0 | M35: =ROUND(E35*H35,2) -> 0 | N35: =ROUND(E35*I35,2) -> 0 | O35: =ROUND(E35*J35,2) -> 0 | P35: =SUM(M35:O35) -> 0 | R35: 9.015 | S35: 1.196 | T35: =R35*S35*E35 -> 32.34582
... A71: 59 | B71: l.c. | C71: Kanalizācijas spiedvada sistēmas marķējuma lentes ieklāšana 0,3m dziļumā virs caurules | D71: m | E71: 88 | K71: =H71+I71+J71 -> 0 | L71: =ROUND(E71*F71,2) -> 0 | M71: =ROUND(E71*H71,2) -> 0 | N71: =ROUND(E71*I71,2) -> 0 | O71: =ROUND(E71*J71,2) -> 0 | P71: =SUM(M71:O71) -> 0 | R71: 9.015 | S71: 0.763 | T71: =R71*S71*E71 -> 605.30316
A72: 60 | B72: l.c. | C72: Signālvadu sistēma izbūvei virs caurules, gar aizbīdņiem, hidrantiem | D72: m | E72: 94 | K72: =H72+I72+J72 -> 0 | L72: =ROUND(E72*F72,2) -> 0 | M72: =ROUND(E72*H72,2) -> 0 | N72: =ROUND(E72*I72,2) -> 0 | O72: =ROUND(E72*J72,2) -> 0 | P72: =SUM(M72:O72) -> 0
A73: 61 | B73: l.c. | C73: Jauna sūkņu stacija ar virszemes paviljonu, pilnu aprīkojumu, t.sk rakšanas darbi | D73: kpl. | E73: 1 | R73: 6.915 | S73: 0.763 | T73: =R73*S73*E73 -> 5.276145
A74: 62 | B74: l.c. | C74: Esošā spiedvada d225 demontāža | D74: m | E74: 10 | K74: =H74+I74+J74 -> 0 | L74: =ROUND(E74*F74,2) -> 0 | M74: =ROUND(E74*H74,2) -> 0 | N74: =ROUND(E74*I74,2) -> 0 | O74: =ROUND(E74*J74,2) -> 0 | P74: =SUM(M74:O74) -> 0 | R74: 7.415 | S74: 0.763 | T74: =R74*S74*E74 -> 56.57645
A75: 63 | B75: l.c. | C75: Esošā spiedvada d150 demontāža | D75: m | E75: 11 | K75: =H75+I75+J75 -> 0 | L75: =ROUND(E75*F75,2) -> 0 | M75: =ROUND(E75*H75,2) -> 0 | N75: =ROUND(E75*I75,2) -> 0 | O75: =ROUND(E75*J75,2) -> 0 | P75: =SUM(M75:O75) -> 0 | R75: 7.415 | S75: 0.763 | T75: =R75*S75*E75 -> 62.234095
A76: 64 | B76: l.c. | C76: Spiedvada akas demontāža | D76: kpl. | E76: 1 | K76: =H76+I76+J76 -> 0 | L76: =ROUND(E76*F76,2) -> 0 | M76: =ROUND(E76*H76,2) -> 0 | N76: =ROUND(E76*I76,2) -> 0 | O76: =ROUND(E76*J76,2) -> 0 | P76: =SUM(M76:O76) -> 0 | R76: 3.755 | S76: 0.89 | T76: =R76*S76*E76 -> 3.34195
A77: 65 | B77: l.c. | C77: Esošās sūkņu stacijas demotāža, aizbēršana, labiekārtošana, t.sk.virszemes daļas | D77: kpl. | E77: 1 | K77: =H77+I77+J77 -> 0 | L77: =ROUND(E77*F77,2) -> 0 | M77: =ROUND(E77*H77,2) -> 0 | N77: =ROUND(E77*I77,2) -> 0 | O77: =ROUND(E77*J77,2) -> 0 | P77: =SUM(M77:O77) -> 0 | R77: 5.76 | S77: 0.89 | T77: =R77*S77*E77 -> 5.1264
...

Sheet 4-2 BK 4. kārta
A1: Lokālā tāme Nr. 4-2
A2: BŪVKONSTRUKCIJAS 4. KĀRTA
A3: =KOPTĀME!A10 -> Objekta nosaukums: Ūdensvada un kanalizācijas izbūve Mazajā Juglas ielā, 4.kārta
A4: =KOPTĀME!A11 -> Būves nosaukums: Ūdensvada un kanalizācijas izbūve Mazajā Juglas ielā,4.kārta
A5: =KOPTĀME!A12 -> Objekta adrese: Malienas iela, Ūdeļu iela 4 | M5: Tāmes izmaksas | O5: =P34 -> 0 | P5: Euro
A6: Pasūtījuma Nr.:
A8: Nr.p.k. | B8: Kods | C8: Darba nosaukums | D8: Mērvienība | E8: Daudzums | F8: Vienības izmaksas | L8: Kopā uz visu apjomu
F9: Laika norma (c/h) | G9: Darba samaksas likme* (Euro/h) | H9: Darba alga (Euro) | I9: Būvizstrādājumi (Euro) | J9: Mehānismi (Euro) | K9: Kopā (Euro) | L9: Darbietilpība (c/h) | M9: Darba alga (Euro) | N9: Būvizstrādājumi (Euro) | O9: Mehānismi (Euro) | P9: Summa (Euro)
A10: 1 | B10: 2 | C10: 3 | D10: 4 | E10: 5 | F10: 6 | G10: 7 | H10: 8 | I10: 9 | J10: 10 | K10: 11 | L10: 12 | M10: 13 | N10: 14 | O10: 15 | P10: 16
C12: Būvkonstrukcijas
A13: 1 | B13: l.c. | C13: Ģeodēzijas darbi, asu nospraušana | D13: kpl | E13: 1 | K13: =H13+I13+J13 -> 0 | L13: =ROUND(E13*F13,2) -> 0 | M13: =ROUND(E13*H13,2) -> 0 | N13: =ROUND(E13*I13,2) -> 0 | O13: =ROUND(E13*J13,2) -> 0 | P13: =SUM(M13:O13) -> 0
A14: 2 | B14: l.c. | C14: Asu iznesumu izveidošana ar kokmateriālu | D14: kpl | E14: 1 | K14: =H14+I14+J14 -> 0 | L14: =ROUND(E14*F14,2) -> 0 | M14: =ROUND(E14*H14,2) -> 0 | N14: =ROUND(E14*I14,2) -> 0 | O14: =ROUND(E14*J14,2) -> 0 | P14: =SUM(M14:O14) -> 0
A15: 3 | B15: l.c. | C15: Gruntsūdens pazemināšana KSS izbūvei | D15: kpl | E15: 1 | K15: =H15+I15+J15 -> 0 | L15: =ROUND(E15*F15,2) -> 0 | M15: =ROUND(E15*H15,2) -> 0 | N15: =ROUND(E15*I15,2) -> 0 | O15: =ROUND(E15*J15,2) -> 0 | P15: =SUM(M15:O15) -> 0
A16: 4 | B16: l.c. | C16: Rievsienas montāža un demontāža Larssen PU12 vai ekvivalents, ieskaitot nostiprināšanas sijas, kolonnas, atgāžņus atbilstoši rasējumiem BK-J-01.0...BK-J-04.00 | D16: kpl | E16: 1 | K16: =H16+I16+J16 -> 0 | L16: =ROUND(E16*F16,2) -> 0 | M16: =ROUND(E16*H16,2) -> 0 | N16: =ROUND(E16*I16,2) -> 0 | O16: =ROUND(E16*J16,2) -> 0 | P16: =SUM(M16:O16) -> 0
A17: 5 | B17: l.c. | C17: Grunts rakšana pamatu izbūvei | D17: m3 | E17: 246.42 | K17: =H17+I17+J17 -> 0 | L17: =ROUND(E17*F17,2) -> 0 | M17: =ROUND(E17*H17,2) -> 0 | N17: =ROUND(E17*I17,2) -> 0 | O17: =ROUND(E17*J17,2) -> 0 | P17: =SUM(M17:O17) -> 0
A18: 6 | B18: l.c. | C18: Grunts iekraušana autotransportā, izvešana uz izgāztuvi līdz 15km attālumā, utilizācija | D18: m3 | E18: 320.35 | K18: =H18+I18+J18 -> 0 | L18: =ROUND(E18*F18,2) -> 0 | M18: =ROUND(E18*H18,2) -> 0 | N18: =ROUND(E18*I18,2) -> 0 | O18: =ROUND(E18*J18,2) -> 0 | P18: =SUM(M18:O18) -> 0
A19: 7 | B19: l.c. | C19: Esošās grunts pamatnes blietēšana | D19: m2 | E19: 30.8 | K19: =H19+I19+J19 -> 0 | L19: =ROUND(E19*F19,2) -> 0 | M19: =ROUND(E19*H19,2) -> 0 | N19: =ROUND(E19*I19,2) -> 0 | O19: =ROUND(E19*J19,2) -> 0 | P19: =SUM(M19:O19) -> 0
A20: 8 | B20: l.c. | C20: Blietes īre (1gb) | D20: kpl | E20: 1 | K20: =H20+I20+J20 -> 0 | L20: =ROUND(E20*F20,2) -> 0 | M20: =ROUND(E20*H20,2) -> 0 | N20: =ROUND(E20*I20,2) -> 0 | O20: =ROUND(E20*J20,2) -> 0 | P20: =SUM(M20:O20) -> 0
A21: 9 | B21: l.c. | C21: Šķembas b=150mm kārtas izveidošana zem pamatu plātnes, ieskaitot blietēšanu ar mehānismiem | D21: m3 | E21: 2.5 | K21: =H21+I21+J21 -> 0 | L21: =ROUND(E21*F21,2) -> 0 | M21: =ROUND(E21*H21,2) -> 0 | N21: =ROUND(E21*I21,2) -> 0 | O21: =ROUND(E21*J21,2) -> 0 | P21: =SUM(M21:O21) -> 0
A22: 10 | B22: l.c. | C22: Šķembas (fr.20/40mm) ar piegādi | D22: m3 | E22: 3.25 | K22: =H22+I22+J22 -> 0 | L22: =ROUND(E22*F22,2) -> 0 | M22: =ROUND(E22*H22,2) -> 0 | N22: =ROUND(E22*I22,2) -> 0 | O22: =ROUND(E22*J22,2) -> 0 | P22: =SUM(M22:O22) -> 0
A23: 11 | B23: l.c. | C23: Blietes īre (1gb) | D23: kpl | E23: 1 | K23: =H23+I23+J23 -> 0 | L23: =ROUND(E23*F23,2) -> 0 | M23: =ROUND(E23*H23,2) -> 0 | N23: =ROUND(E23*I23,2) -> 0 | O23: =ROUND(E23*J23,2) -> 0 | P23: =SUM(M23:O23) -> 0
A24: 12 | B24: l.c. | C24: Pamatu plātnes armēšana izveidojot stiegru karkasu | D24: m | E24: 351.1 | K24: =H24+I24+J24 -> 0 | L24: =ROUND(E24*F24,2) -> 0 | M24: =ROUND(E24*H24,2) -> 0 | N24: =ROUND(E24*I24,2) -> 0 | O24: =ROUND(E24*J24,2) -> 0 | P24: =SUM(M24:O24) -> 0
... A32: 20 | B32: l.c. | C32: Blietes īre (1gb) | D32: kpl | E32: 1 | K32: =H32+I32+J32 -> 0 | L32: =ROUND(E32*F32,2) -> 0 | M32: =ROUND(E32*H32,2) -> 0 | N32: =ROUND(E32*I32,2) -> 0 | O32: =ROUND(E32*J32,2) -> 0 | P32: =SUM(M32:O32) -> 0
H34: Tiešās izmaksas kopā, t.sk. darba devēja sociālais nodoklis 23.59% : | L34: =SUM(L11:L33) -> 0 | M34: =SUM(M11:M33) -> 0 | N34: =SUM(N11:N33) -> 0 | O34: =SUM(O11:O33) -> 0 | P34: =SUM(P11:P33) -> 0
C36: Piezīmes:
C37: 1.Sagatavojot Finanšu piedāvājumu, Pretendentam ir jāņem vērā, ka būvdarbu izpildei nepieciešamos materiālus – lūku pārsedzes (tikai ķeta elementus) un kapes (ar apakšējo atbalsta plātni) ar SIA “Rīgas ūdens” logo – nodrošina Pasūtītājs. Pretendentam Finanšu piedāvājumā šo materiālu izmaksas jāparedz EUR 0,00 vērtībā.
C38: 2.Finanšu piedāvājumā jāiekļauj darbaspēka, materiālu, iekārtu, aprīkojuma un visu citu iespējamo Darbu izpildes izdevumu izmaksas. Pretendents nav tiesīgs Finanšu piedāvājuma tāmi papildināt ar jaunām izmaksu pozīcijām vai dzēst esošās izmaksu pozīcijas.
C39: 3. Finanšu piedāvājumā aprēķinus jāveic formulās ar noapaļojumu divi cipari aiz komata (jāizmanto funkcija “round”).
C40: 4. Finanšu piedāvājumā vienības cenas darba algas izmaksas aprēķinu jāveic pēc formulas “laika norma x stundas likme = alga”.
C41: 5. Finanšu piedāvājumā katras pozīcijas darba algas, būvizstrādājumu un mehānismu kopējās izmaksas aprēķinu jāveic pēc formulas “kopējais apjoms x vienības izmaksas”.
A43: Sastādīja
C44: (paraksts un tā atšifrējums, datums)
A47: Pārbaudīja
C48: (paraksts un tā atšifrējums, datums)
B49: Sertifikāta Nr.

Sheet 4-3 KSS 4. kārta
A1: Lokālā tāme Nr. 4-3
A2: KSS 4. KĀRTA
A3: =KOPTĀME!A10 -> Objekta nosaukums: Ūdensvada un kanalizācijas izbūve Mazajā Juglas ielā, 4.kārta
A4: =KOPTĀME!A11 -> Būves nosaukums: Ūdensvada un kanalizācijas izbūve Mazajā Juglas ielā,4.kārta
A5: =KOPTĀME!A12 -> Objekta adrese: Malienas iela, Ūdeļu iela 4 | M5: Tāmes izmaksas | O5: =P83 -> 0 | P5: Euro
A6: Pasūtījuma Nr.:
A8: Nr.p.k. | B8: Kods | C8: Darba nosaukums | D8: Mērvienība | E8: Daudzums | F8: Vienības izmaksas | L8: Kopā uz visu apjomu
F9: Laika norma (c/h) | G9: Darba samaksas likme* (Euro/h) | H9: Darba alga (Euro) | I9: Būvizstrādājumi (Euro) | J9: Mehānismi (Euro) | K9: Kopā (Euro) | L9: Darbietilpība (c/h) | M9: Darba alga (Euro) | N9: Būvizstrādājumi (Euro) | O9: Mehānismi (Euro) | P9: Summa (Euro)
A10: 1 | B10: 2 | C10: 3 | D10: 4 | E10: 5 | F10: 6 | G10: 7 | H10: 8 | I10: 9 | J10: 10 | K10: 11 | L10: 12 | M10: 13 | N10: 14 | O10: 15 | P10: 16
C12: TN-2
A13: 1 | B13: l.c. | C13: Tvertne, GRP, Ø 2800x 6825 vai ekv. | D13: kpl | E13: 1 | K13: =H13+I13+J13 -> 0 | L13: =ROUND(E13*F13,2) -> 0 | M13: =ROUND(E13*H13,2) -> 0 | N13: =ROUND(E13*I13,2) -> 0 | O13: =ROUND(E13*J13,2) -> 0 | P13: =SUM(M13:O13) -> 0
A14: 2 | B14: l.c. | C14: Sūkņa pēda, DN200 | D14: kpl | E14: 2 | K14: =H14+I14+J14 -> 0 | L14: =ROUND(E14*F14,2) -> 0 | M14: =ROUND(E14*H14,2) -> 0 | N14: =ROUND(E14*I14,2) -> 0 | O14: =ROUND(E14*J14,2) -> 0 | P14: =SUM(M14:O14) -> 0
A15: 3 | B15: l.c. | C15: Spiediena caurules, DN200, EN1.4301 | D15: kpl | E15: 1 | K15: =H15+I15+J15 -> 0 | L15: =ROUND(E15*F15,2) -> 0 | M15: =ROUND(E15*H15,2) -> 0 | N15: =ROUND(E15*I15,2) -> 0 | O15: =ROUND(E15*J15,2) -> 0 | P15: =SUM(M15:O15) -> 0
A16: 4 | B16: l.c. | C16: Vadules, S235 cinkotas | D16: kpl | E16: 4 | K16: =H16+I16+J16 -> 0 | L16: =ROUND(E16*F16,2) -> 0 | M16: =ROUND(E16*H16,2) -> 0 | N16: =ROUND(E16*I16,2) -> 0 | O16: =ROUND(E16*J16,2) -> 0 | P16: =SUM(M16:O16) -> 0
A17: 5 | B17: l.c. | C17: Kronšteins | D17: kpl | E17: 2 | K17: =H17+I17+J17 -> 0 | L17: =ROUND(E17*F17,2) -> 0 | M17: =ROUND(E17*H17,2) -> 0 | N17: =ROUND(E17*I17,2) -> 0 | O17: =ROUND(E17*J17,2) -> 0 | P17: =SUM(M17:O17) -> 0
A18: 6 | B18: l.c. | C18: Šķērsstienis, 100x70 | D18: kpl | E18: 1 | K18: =H18+I18+J18 -> 0 | L18: =ROUND(E18*F18,2) -> 0 | M18: =ROUND(E18*H18,2) -> 0 | N18: =ROUND(E18*I18,2) -> 0 | O18: =ROUND(E18*J18,2) -> 0 | P18: =SUM(M18:O18) -> 0
A19: 7 | B19: l.c. | C19: Izplūdes caurule, DN200, EN1.4301 | D19: kpl | E19: 2 | K19: =H19+I19+J19 -> 0 | L19: =ROUND(E19*F19,2) -> 0 | M19: =ROUND(E19*H19,2) -> 0 | N19: =ROUND(E19*I19,2) -> 0 | O19: =ROUND(E19*J19,2) -> 0 | P19: =SUM(M19:O19) -> 0
A20: 8 | B20: l.c. | C20: Austiņas pacelšanai, S235 cinkots | D20: kpl | E20: 4 | K20: =H20+I20+J20 -> 0 | L20: =ROUND(E20*F20,2) -> 0 | M20: =ROUND(E20*H20,2) -> 0 | N20: =ROUND(E20*I20,2) -> 0 | O20: =ROUND(E20*J20,2) -> 0 | P20: =SUM(M20:O20) -> 0
A21: 9 | B21: l.c. | C21: Ventilācijas caurule, PVC, Ø110 | D21: kpl | E21: 1 | K21: =H21+I21+J21 -> 0 | L21: =ROUND(E21*F21,2) -> 0 | M21: =ROUND(E21*H21,2) -> 0 | N21: =ROUND(E21*I21,2) -> 0 | O21: =ROUND(E21*J21,2) -> 0 | P21: =SUM(M21:O21) -> 0
A22: 10 | B22: l.c. | C22: Pretvārsts, DN200 | D22: kpl | E22: 2 | K22: =H22+I22+J22 -> 0 | L22: =ROUND(E22*F22,2) -> 0 | M22: =ROUND(E22*H22,2) -> 0 | N22: =ROUND(E22*I22,2) -> 0 | O22: =ROUND(E22*J22,2) -> 0 | P22: =SUM(M22:O22) -> 0
A23: 11 | B23: l.c. | C23: Aizbīdnis, DN200 | D23: kpl | E23: 2 | K23: =H23+I23+J23 -> 0 | L23: =ROUND(E23*F23,2) -> 0 | M23: =ROUND(E23*H23,2) -> 0 | N23: =ROUND(E23*I23,2) -> 0 | O23: =ROUND(E23*J23,2) -> 0 | P23: =SUM(M23:O23) -> 0
A24: 12 | B24: l.c. | C24: Lodveida krāns, 1/2 " (DN15) | D24: kpl | E24: 2 | K24: =H24+I24+J24 -> 0 | L24: =ROUND(E24*F24,2) -> 0 | M24: =ROUND(E24*H24,2) -> 0 | N24: =ROUND(E24*I24,2) -> 0 | O24: =ROUND(E24*J24,2) -> 0 | P24: =SUM(M24:O24) -> 0
... A44: 32 | B44: l.c. | C44: Automātiskais uzduļķošanas vārsts, FLYGT 4901 vai ekvivalents | D44: kpl | E44: 1 | K44: =H44+I44+J44 -> 0 | L44: =ROUND(E44*F44,2) -> 0 | M44: =ROUND(E44*H44,2) -> 0 | N44: =ROUND(E44*I44,2) -> 0 | O44: =ROUND(E44*J44,2) -> 0 | P44: =SUM(M44:O44) -> 0
C46: TN-3
A47: 33 | B47: l.c. | C47: Atloku trejgabals, KKE, DN200/200 | D47: kpl | E47: 2 | K47: =H47+I47+J47 -> 0 | L47: =ROUND(E47*F47,2) -> 0 | M47: =ROUND(E47*H47,2) -> 0 | N47: =ROUND(E47*I47,2) -> 0 | O47: =ROUND(E47*J47,2) -> 0 | P47: =SUM(M47:O47) -> 0
A48: 34 | B48: l.c. | C48: Atloku ķīļveida aizbīdnis, KKE, PN10 ar rokratu, DN200 | D48: kpl | E48: 3 | K48: =H48+I48+J48 -> 0 | L48: =ROUND(E48*F48,2) -> 0 | M48: =ROUND(E48*H48,2) -> 0 | N48: =ROUND(E48*I48,2) -> 0 | O48: =ROUND(E48*J48,2) -> 0 | P48: =SUM(M48:O48) -> 0
A49: 35 | B49: l.c. | C49: Atloku ķīļveida aizbīdnis, KKE, PN10 ar rokratu, DN250 | D49: kpl | E49: 2 | K49: =H49+I49+J49 -> 0 | L49: =ROUND(E49*F49,2) -> 0 | M49: =ROUND(E49*H49,2) -> 0 | N49: =ROUND(E49*I49,2) -> 0 | O49: =ROUND(E49*J49,2) -> 0 | P49: =SUM(M49:O49) -> 0
A50: 36 | B50: l.c. | C50: Atloku adapteris, KKE, PN10, DN250 | D50: kpl | E50: 9 | K50: =H50+I50+J50 -> 0 | L50: =ROUND(E50*F50,2) -> 0 | M50: =ROUND(E50*H50,2) -> 0 | N50: =ROUND(E50*I50,2) -> 0 | O50: =ROUND(E50*J50,2) -> 0 | P50: =SUM(M50:O50) -> 0
A51: 37 | B51: l.c. | C51: Atloku adapteris, KKE, PN10, DN200 | D51: kpl | E51: 9 | K51: =H51+I51+J51 -> 0 | L51: =ROUND(E51*F51,2) -> 0 | M51: =ROUND(E51*H51,2) -> 0 | N51: =ROUND(E51*I51,2) -> 0 | O51: =ROUND(E51*J51,2) -> 0 | P51: =SUM(M51:O51) -> 0
A52: 38 | B52: l.c. | C52: Atloku diematru pāreja, KKE, PN10, DN250/200 | D52: kpl | E52: 1 | K52: =H52+I52+J52 -> 0 | L52: =ROUND(E52*F52,2) -> 0 | M52: =ROUND(E52*H52,2) -> 0 | N52: =ROUND(E52*I52,2) -> 0 | O52: =ROUND(E52*J52,2) -> 0 | P52: =SUM(M52:O52) -> 0
A53: 39 | B53: l.c. | C53: Atloku īscaurule,KKE, PN10, DN200 | D53: kpl | E53: 1 | K53: =H53+I53+J53 -> 0 | L53: =ROUND(E53*F53,2) -> 0 | M53: =ROUND(E53*H53,2) -> 0 | N53: =ROUND(E53*I53,2) -> 0 | O53: =ROUND(E53*J53,2) -> 0 | P53: =SUM(M53:O53) -> 0
A54: 40 | B54: l.c. | C54: Atloku līkums 90°, KKE, PN10, DN250 | D54: kpl | E54: 1 | K54: =H54+I54+J54 -> 0 | L54: =ROUND(E54*F54,2) -> 0 | M54: =ROUND(E54*H54,2) -> 0 | N54: =ROUND(E54*I54,2) -> 0 | O54: =ROUND(E54*J54,2) -> 0 | P54: =SUM(M54:O54) -> 0
A55: 41 | B55: l.c. | C55: Atloku līkums 90°, KKE, PN10, DN200 | D55: kpl | E55: 1 | K55: =H55+I55+J55 -> 0 | L55: =ROUND(E55*F55,2) -> 0 | M55: =ROUND(E55*H55,2) -> 0 | N55: =ROUND(E55*I55,2) -> 0 | O55: =ROUND(E55*J55,2) -> 0 | P55: =SUM(M55:O55) -> 0
A56: 42 | B56: l.c. | C56: OPTIFLUX 2300 W, DN250, Sensora OPTIFLUX 2000F Signalu pārveidotāja IFC 300W | D56: kpl | E56: 1 | K56: =H56+I56+J56 -> 0 | L56: =ROUND(E56*F56,2) -> 0 | M56: =ROUND(E56*H56,2) -> 0 | N56: =ROUND(E56*I56,2) -> 0 | O56: =ROUND(E56*J56,2) -> 0 | P56: =SUM(M56:O56) -> 0
A57: 43 | B57: l.c. | C57: OPTIFLUX 2300 W, DN200, Sensora OPTIFLUX 2000F Signalu pārveidotāja IFC 300W | D57: kpl | E57: 1 | K57: =H57+I57+J57 -> 0 | L57: =ROUND(E57*F57,2) -> 0 | M57: =ROUND(E57*H57,2) -> 0 | N57: =ROUND(E57*I57,2) -> 0 | O57: =ROUND(E57*J57,2) -> 0 | P57: =SUM(M57:O57) -> 0
A58: 44 | B58: l.c. | C58: Aizsargčaula | D58: kpl | E58: 3 | K58: =H58+I58+J58 -> 0 | L58: =ROUND(E58*F58,2) -> 0 | M58: =ROUND(E58*H58,2) -> 0 | N58: =ROUND(E58*I58,2) -> 0 | O58: =ROUND(E58*J58,2) -> 0 | P58: =SUM(M58:O58) -> 0
... A64: 50 | B64: l.c. | C64: Atbalsta bloks | D64: kpl | E64: 9 | K64: =H64+I64+J64 -> 0 | L64: =ROUND(E64*F64,2) -> 0 | M64: =ROUND(E64*H64,2) -> 0 | N64: =ROUND(E64*I64,2) -> 0 | O64: =ROUND(E64*J64,2) -> 0 | P64: =SUM(M64:O64) -> 0
C66: TN-4
A67: 51 | B67: l.c. | C67: Scan-plast vai ekvivalents sūkņu stacijas virszemes paviljons, 2615x2615x2400mm, Divslīpu 20grādu jumts,sienas u.c. (skat. TN-4) | D67: kpl | E67: 1 | K67: =H67+I67+J67 -> 0 | L67: =ROUND(E67*F67,2) -> 0 | M67: =ROUND(E67*H67,2) -> 0 | N67: =ROUND(E67*I67,2) -> 0 | O67: =ROUND(E67*J67,2) -> 0 | P67: =SUM(M67:O67) -> 0
A68: 52 | B68: l.c. | C68: Telfera sija IPN120, max 1000 kg, ar pacelš. meh. | D68: kpl | E68: 1 | K68: =H68+I68+J68 -> 0 | L68: =ROUND(E68*F68,2) -> 0 | M68: =ROUND(E68*H68,2) -> 0 | N68: =ROUND(E68*I68,2) -> 0 | O68: =ROUND(E68*J68,2) -> 0 | P68: =SUM(M68:O68) -> 0
...

Sheet 4-4 EL-VAS 4. kārta
A1: Lokālā tāme Nr. 4-4
A2: EL; EL-VAS 4. KĀRTA
A3: =KOPTĀME!A10 -> Objekta nosaukums: Ūdensvada un kanalizācijas izbūve Mazajā Juglas ielā, 4.kārta
A4: =KOPTĀME!A11 -> Būves nosaukums: Ūdensvada un kanalizācijas izbūve Mazajā Juglas ielā,4.kārta
A5: =KOPTĀME!A12 -> Objekta adrese: Malienas iela, Ūdeļu iela 4 | L5: Tāmes izmaksas | N5: =P129 -> 0 | O5: Euro
A6: Pasūtījuma Nr.:
A8: Nr.p.k. | B8: Kods | C8: Darba nosaukums | D8: Mērvienība | E8: Daudzums | F8: Vienības izmaksas | L8: Kopā uz visu apjomu
F9: Laika norma (c/h) | G9: Darba samaksas likme* (Euro/h) | H9: Darba alga (Euro) | I9: Būvizstrādājumi (Euro) | J9: Mehānismi (Euro) | K9: Kopā (Euro) | L9: Darbietilpība (c/h) | M9: Darba alga (Euro) | N9: Būvizstrādājumi (Euro) | O9: Mehānismi (Euro) | P9: Summa (Euro)
A10: 1 | B10: 2 | C10: 3 | D10: 4 | E10: 5 | F10: 6 | G10: 7 | H10: 8 | I10: 9 | J10: 10 | K10: 11 | L10: 12 | M10: 13 | N10: 14 | O10: 15 | P10: 16
A12: 1 | B12: l.c. | C12: Darbi.Teritorijas tīlki. | K12: =H12+I12+J12 -> 0 | L12: =ROUND(E12*F12,2) -> 0 | M12: =ROUND(E12*H12,2) -> 0 | N12: =ROUND(E12*I12,2) -> 0 | O12: =ROUND(E12*J12,2) -> 0 | P12: =SUM(M12:O12) -> 0
A13: 2 | B13: l.c. | C13: Tranšejas rakšana un aizbēršana 1-2 kabeļu (caurules) guldīšanai 0,7-1m dziļumā | D13: m | E13: 13 | K13: =H13+I13+J13 -> 0 | L13: =ROUND(E13*F13,2) -> 0 | M13: =ROUND(E13*H13,2) -> 0 | N13: =ROUND(E13*I13,2) -> 0 | O13: =ROUND(E13*J13,2) -> 0 | P13: =SUM(M13:O13) -> 0
A14: 3 | B14: l.c. | C14: Tranšeja horizontālam zemēšanas kontūram | D14: m | E14: 69 | K14: =H14+I14+J14 -> 0 | L14: =ROUND(E14*F14,2) -> 0 | M14: =ROUND(E14*H14,2) -> 0 | N14: =ROUND(E14*I14,2) -> 0 | O14: =ROUND(E14*J14,2) -> 0 | P14: =SUM(M14:O14) -> 0
A15: 4 | B15: l.c. | C15: Kabeļu aizsargcaurules d=līdz 110 mm ieguldīšana gatavā tranšejā | D15: m | E15: 14 | K15: =H15+I15+J15 -> 0 | L15: =ROUND(E15*F15,2) -> 0 | M15: =ROUND(E15*H15,2) -> 0 | N15: =ROUND(E15*I15,2) -> 0 | O15: =ROUND(E15*J15,2) -> 0 | P15: =SUM(M15:O15) -> 0
A16: 5 | B16: l.c. | C16: ZS kabeļa līdz 35 mm2 ievēršana caurulē | D16: m | E16: 14 | K16: =H16+I16+J16 -> 0 | L16: =ROUND(E16*F16,2) -> 0 | M16: =ROUND(E16*H16,2) -> 0 | N16: =ROUND(E16*I16,2) -> 0 | O16: =ROUND(E16*J16,2) -> 0 | P16: =SUM(M16:O16) -> 0
A17: 6 | B17: l.c. | C17: ZS plastmasas izolācijas kabeļa līdz 35 mm2 gala apdare | D17: gb. | E17: 2 | K17: =H17+I17+J17 -> 0 | L17: =ROUND(E17*F17,2) -> 0 | M17: =ROUND(E17*H17,2) -> 0 | N17: =ROUND(E17*I17,2) -> 0 | O17: =ROUND(E17*J17,2) -> 0 | P17: =SUM(M17:O17) -> 0
A18: 7 | B18: l.c. | C18: Horizontālā zemētāja montāža tranšejā | D18: m | E18: 69 | K18: =H18+I18+J18 -> 0 | L18: =ROUND(E18*F18,2) -> 0 | M18: =ROUND(E18*H18,2) -> 0 | N18: =ROUND(E18*I18,2) -> 0 | O18: =ROUND(E18*J18,2) -> 0 | P18: =SUM(M18:O18) -> 0
A19: 8 | B19: l.c. | C19: Vertikālā zemētāja dziļumā līdz 5 m montāža | D19: m | E19: 11 | K19: =H19+I19+J19 -> 0 | L19: =ROUND(E19*F19,2) -> 0 | M19: =ROUND(E19*H19,2) -> 0 | N19: =ROUND(E19*I19,2) -> 0 | O19: =ROUND(E19*J19,2) -> 0 | P19: =SUM(M19:O19) -> 0
A20: 9 | B20: l.c. | C20: Sūkņu stacija, sadalnes | K20: =H20+I20+J20 -> 0 | L20: =ROUND(E20*F20,2) -> 0 | M20: =ROUND(E20*H20,2) -> 0 | N20: =ROUND(E20*I20,2) -> 0 | O20: =ROUND(E20*J20,2) -> 0 | P20: =SUM(M20:O20) -> 0
A21: 10 | B21: l.c. | C21: Sadalne 1SS1 (met.korpuss, IP44, v/a), ABB, kompl.skat. EL-5, vai ekvivalents | D21: kpl. | E21: 1 | K21: =H21+I21+J21 -> 0 | L21: =ROUND(E21*F21,2) -> 0 | M21: =ROUND(E21*H21,2) -> 0 | N21: =ROUND(E21*I21,2) -> 0 | O21: =ROUND(E21*J21,2) -> 0 | P21: =SUM(M21:O21) -> 0
A22: 11 | B22: l.c. | C22: Pārslēdzis, 3P, 100A, mont.uz DIN sliedes, ABB OT100F3C, vai ekvivalents | D22: kpl. | E22: 1 | K22: =H22+I22+J22 -> 0 | L22: =ROUND(E22*F22,2) -> 0 | M22: =ROUND(E22*H22,2) -> 0 | N22: =ROUND(E22*I22,2) -> 0 | O22: =ROUND(E22*J22,2) -> 0 | P22: =SUM(M22:O22) -> 0
A23: 12 | B23: l.c. | C23: Automātslēdzis 1C3, mont.uz DIN sliedes, ABB S200MT, vai ekvivalents | D23: kpl. | E23: 2 | K23: =H23+I23+J23 -> 0 | L23: =ROUND(E23*F23,2) -> 0 | M23: =ROUND(E23*H23,2) -> 0 | N23: =ROUND(E23*I23,2) -> 0 | O23: =ROUND(E23*J23,2) -> 0 | P23: =SUM(M23:O23) -> 0
A24: 13 | B24: l.c. | C24: Automātslēdzis 1C10, mont.uz DIN sliedes, ABB S200MT, vai ekvivalents | D24: gb. | E24: 3 | K24: =H24+I24+J24 -> 0 | L24: =ROUND(E24*F24,2) -> 0 | M24: =ROUND(E24*H24,2) -> 0 | N24: =ROUND(E24*I24,2) -> 0 | O24: =ROUND(E24*J24,2) -> 0 | P24: =SUM(M24:O24) -> 0
A25: 14 | B25: l.c. | C25: Automātslēdzis 1C16, mont.uz DIN sliedes, ABB S281, vai ekvivalents | D25: gb. | E25: 4 | K25: =H25+I25+J25 -> 0 | L25: =ROUND(E25*F25,2) -> 0 | M25: =ROUND(E25*H25,2) -> 0 | N25: =ROUND(E25*I25,2) -> 0 | O25: =ROUND(E25*J25,2) -> 0 | P25: =SUM(M25:O25) -> 0
A26: 15 | B26: l.c. | C26: Automātslēdzis 3C50, mont.uz DIN sliedes, ABB SH203, vai ekvivalents | D26: gb. | E26: 1 | K26: =H26+I26+J26 -> 0 | L26: =ROUND(E26*F26,2) -> 0 | M26: =ROUND(E26*H26,2) -> 0 | N26: =ROUND(E26*I26,2) -> 0 | O26: =ROUND(E26*J26,2) -> 0 | P26: =SUM(M26:O26) -> 0
A27: 16 | B27: l.c. | C27: Automātslēdzis 3C80, mont.uz DIN sliedes, ABB SH203 | D27: gb. | E27: 1 | K27: =H27+I27+J27 -> 0 | L27: =ROUND(E27*F27,2) -> 0 | M27: =ROUND(E27*H27,2) -> 0 | N27: =ROUND(E27*I27,2) -> 0 | O27: =ROUND(E27*J27,2) -> 0 | P27: =SUM(M27:O27) -> 0
A28: 17 | B28: l.c. | C28: Kontaktors 3P,20A, mont.uz DIN sliedes, ABB ESB20, vai ekvivalents | D28: gb. | E28: 2 | K28: =H28+I28+J28 -> 0 | L28: =ROUND(E28*F28,2) -> 0 | M28: =ROUND(E28*H28,2) -> 0 | N28: =ROUND(E28*I28,2) -> 0 | O28: =ROUND(E28*J28,2) -> 0 | P28: =SUM(M28:O28) -> 0
A29: 18 | B29: l.c. | C29: Laika relejs, mont.uz DIN sliedes, ABB CT-TGD12, vai ekvivalents | D29: gb. | E29: 1 | K29: =H29+I29+J29 -> 0 | L29: =ROUND(E29*F29,2) -> 0 | M29: =ROUND(E29*H29,2) -> 0 | N29: =ROUND(E29*I29,2) -> 0 | O29: =ROUND(E29*J29,2) -> 0 | P29: =SUM(M29:O29) -> 0
A30: 19 | B30: l.c. | C30: Fotorelejs, mont.uz DIN sliedes, SOU-1 (ELKO), vai ekvivalents | D30: gb. | E30: 1 | K30: =H30+I30+J30 -> 0 | L30: =ROUND(E30*F30,2) -> 0 | M30: =ROUND(E30*H30,2) -> 0 | N30: =ROUND(E30*I30,2) -> 0 | O30: =ROUND(E30*J30,2) -> 0 | P30: =SUM(M30:O30) -> 0
A31: 20 | B31: l.c. | C31: Pārsprieguma aizsardzība 3P+NPE 280V | D31: gb. | E31: 1 | K31: =H31+I31+J31 -> 0 | L31: =ROUND(E31*F31,2) -> 0 | M31: =ROUND(E31*H31,2) -> 0 | N31: =ROUND(E31*I31,2) -> 0 | O31: =ROUND(E31*J31,2) -> 0 | P31: =SUM(M31:O31) -> 0
A32: 21 | B32: l.c. | C32: Elektroenerģijas skaitītājs, 3F, ABB A43 112-100, vai ekvivalents | D32: gb. | E32: 1 | K32: =H32+I32+J32 -> 0 | L32: =ROUND(E32*F32,2) -> 0 | M32: =ROUND(E32*H32,2) -> 0 | N32: =ROUND(E32*I32,2) -> 0 | O32: =ROUND(E32*J32,2) -> 0 | P32: =SUM(M32:O32) -> 0
... A34: 23 | B34: l.c. | C34: Montāžas izstrādājumi | D34: kpl. | E34: 1 | K34: =H34+I34+J34 -> 0 | L34: =ROUND(E34*F34,2) -> 0 | M34: =ROUND(E34*H34,2) -> 0 | N34: =ROUND(E34*I34,2) -> 0 | O34: =ROUND(E34*J34,2) -> 0 | P34: =SUM(M34:O34) -> 0
A35: 24 | B35: l.c. | C35: Kabeļu izstrādājumi | K35: =H35+I35+J35 -> 0 | L35: =ROUND(E35*F35,2) -> 0 | M35: =ROUND(E35*H35,2) -> 0 | N35: =ROUND(E35*I35,2) -> 0 | O35: =ROUND(E35*J35,2) -> 0 | P35: =SUM(M35:O35) -> 0
A36: 25 | B36: l.c. | C36: Spēka kabelis ar vara dzīslām, atbilstoši HD603 vai IEC 60502 standarta prasībām, Dca, s2, d2, a2 uzliesmošanas klase atbilstoši EN 50575, spriegums 1kV, nominālā frekvence 50Hz, ārtelpu montāžai | K36: =H36+I36+J36 -> 0 | L36: =ROUND(E36*F36,2) -> 0 | M36: =ROUND(E36*H36,2) -> 0 | N36: =ROUND(E36*I36,2) -> 0 | O36: =ROUND(E36*J36,2) -> 0 | P36: =SUM(M36:O36) -> 0
A37: 26 | B37: l.c. | C37: Cu-5x25mm2 | D37: m | E37: 21 | K37: =H37+I37+J37 -> 0 | L37: =ROUND(E37*F37,2) -> 0 | M37: =ROUND(E37*H37,2) -> 0 | N37: =ROUND(E37*I37,2) -> 0 | O37: =ROUND(E37*J37,2) -> 0 | P37: =SUM(M37:O37) -> 0
A38: 27 | B38: l.c. | C38: Cu-5x25mm2 | D38: m | E38: 2 | K38: =H38+I38+J38 -> 0 | L38: =ROUND(E38*F38,2) -> 0 | M38: =ROUND(E38*H38,2) -> 0 | N38: =ROUND(E38*I38,2) -> 0 | O38: =ROUND(E38*J38,2) -> 0 | P38: =SUM(M38:O38) -> 0
A39: 28 | B39: l.c. | C39: Instalācijas kabelis ar vara dzīslām, atbilstoši IEC 60227 standarta prasībām, Dca, s2, d2, a2 uzliesmošanas klase atbilstoši EN 50575, spriegums 450/750V, nominālā frekvence 50Hz, iekštelpu montāžai, ar atsevišķu PE un N dzīslu | K39: =H39+I39+J39 -> 0 | L39: =ROUND(E39*F39,2) -> 0 | M39: =ROUND(E39*H39,2) -> 0 | N39: =ROUND(E39*I39,2) -> 0 | O39: =ROUND(E39*J39,2) -> 0 | P39: =SUM(M39:O39) -> 0
A40: 29 | B40: l.c. | C40: Cu-2x1,0mm2 | D40: m | E40: 15 | K40: =H40+I40+J40 -> 0 | L40: =ROUND(E40*F40,2) -> 0 | M40: =ROUND(E40*H40,2) -> 0 | N40: =ROUND(E40*I40,2) -> 0 | O40: =ROUND(E40*J40,2) -> 0 | P40: =SUM(M40:O40) -> 0
A41: 30 | B41: l.c. | C41: Cu-3x1,5mm2 | D41: m | E41: 20 | K41: =H41+I41+J41 -> 0 | L41: =ROUND(E41*F41,2) -> 0 | M41: =ROUND(E41*H41,2) -> 0 | N41: =ROUND(E41*I41,2) -> 0 | O41: =ROUND(E41*J41,2) -> 0 | P41: =SUM(M41:O41) -> 0
A42: 31 | B42: l.c. | C42: Cu-3x4,5mm2 | D42: m | E42: 10 | K42: =H42+I42+J42 -> 0 | L42: =ROUND(E42*F42,2) -> 0 | M42: =ROUND(E42*H42,2) -> 0 | N42: =ROUND(E42*I42,2) -> 0 | O42: =ROUND(E42*J42,2) -> 0 | P42: =SUM(M42:O42) -> 0
A43: 32 | B43: l.c. | C43: Cu-3x2,5mm2 | D43: m | E43: 70 | K43: =H43+I43+J43 -> 0 | L43: =ROUND(E43*F43,2) -> 0 | M43: =ROUND(E43*H43,2) -> 0 | N43: =ROUND(E43*I43,2) -> 0 | O43: =ROUND(E43*J43,2) -> 0 | P43: =SUM(M43:O43) -> 0
...

Sheet 4-5 DOP 4. kārta
A1: Lokālā tāme Nr. 4-5
A2: Būvlaukuma izmaksas 4. kārta
A3: =KOPTĀME!A10 -> Objekta nosaukums: Ūdensvada un kanalizācijas izbūve Mazajā Juglas ielā, 4.kārta
A4: =KOPTĀME!A11 -> Būves nosaukums: Ūdensvada un kanalizācijas izbūve Mazajā Juglas ielā,4.kārta
A5: =KOPTĀME!A12 -> Objekta adrese: Malienas iela, Ūdeļu iela 4 | L5: Tāmes izmaksas | N5: =P20 -> 0 | O5: Euro
A6: Pasūtījuma Nr.:
A8: Nr.p.k. | B8: Kods | C8: Darba nosaukums | D8: Mērvienība | E8: Daudzums | F8: Vienības izmaksas | L8: Kopā uz visu apjomu
F9: Laika norma (c/h) | G9: Darba samaksas likme* (Euro/h) | H9: Darba alga (Euro) | I9: Būvizstrādājumi (Euro) | J9: Mehānismi (Euro) | K9: Kopā (Euro) | L9: Darbietilpība (c/h) | M9: Darba alga (Euro) | N9: Būvizstrādājumi (Euro) | O9: Mehānismi (Euro) | P9: Summa (Euro)
A10: 1 | B10: 2 | C10: 3 | D10: 4 | E10: 5 | F10: 6 | G10: 7 | H10: 8 | I10: 9 | J10: 10 | K10: 11 | L10: 12 | M10: 13 | N10: 14 | O10: 15 | P10: 16
A12: 1 | B12: l.c. | C12: Būvdarbu pagaidu žogs | D12: m | E12: 52 | K12: =H12+I12+J12 -> 0 | L12: =ROUND(E12*F12,2) -> 0 | M12: =ROUND(E12*H12,2) -> 0 | N12: =ROUND(E12*I12,2) -> 0 | O12: =ROUND(E12*J12,2) -> 0 | P12: =SUM(M12:O12) -> 0
A13: 2 | B13: l.c. | C13: Būvdarbu tāfele | D13: gb | E13: 1 | K13: =H13+I13+J13 -> 0 | L13: =ROUND(E13*F13,2) -> 0 | M13: =ROUND(E13*H13,2) -> 0 | N13: =ROUND(E13*I13,2) -> 0 | O13: =ROUND(E13*J13,2) -> 0 | P13: =SUM(M13:O13) -> 0
A14: 3 | B14: l.c. | C14: Pagaidu šķembu segums fr. 0..45mm | D14: m2 | E14: 120 | K14: =H14+I14+J14 -> 0 | L14: =ROUND(E14*F14,2) -> 0 | M14: =ROUND(E14*H14,2) -> 0 | N14: =ROUND(E14*I14,2) -> 0 | O14: =ROUND(E14*J14,2) -> 0 | P14: =SUM(M14:O14) -> 0
A15: 4 | B15: l.c. | C15: Gruntsūdens pazemināšana KSS izbūvei | D15: gb | E15: 1 | K15: =H15+I15+J15 -> 0 | L15: =ROUND(E15*F15,2) -> 0 | M15: =ROUND(E15*H15,2) -> 0 | N15: =ROUND(E15*I15,2) -> 0 | O15: =ROUND(E15*J15,2) -> 0 | P15: =SUM(M15:O15) -> 0
A16: 6 | B16: l.c. | C16: Satiksmes organizācijas aprīkojums | D16: kpl | E16: 1 | K16: =H16+I16+J16 -> 0 | L16: =ROUND(E16*F16,2) -> 0 | M16: =ROUND(E16*H16,2) -> 0 | N16: =ROUND(E16*I16,2) -> 0 | O16: =ROUND(E16*J16,2) -> 0 | P16: =SUM(M16:O16) -> 0
A17: 7 | B17: l.c. | C17: SBH tipa tranšeju atbalsta sienas 2,4x3m | D17: gb | E17: 6 | K17: =H17+I17+J17 -> 0 | L17: =ROUND(E17*F17,2) -> 0 | M17: =ROUND(E17*H17,2) -> 0 | N17: =ROUND(E17*I17,2) -> 0 | O17: =ROUND(E17*J17,2) -> 0 | P17: =SUM(M17:O17) -> 0
A18: 8 | B18: l.c. | C18: Teritorijas sakopšana pēc būvdarbiem (zālāja atjaunošana) | D18: m2 | E18: 500 | K18: =H18+I18+J18 -> 0 | L18: =ROUND(E18*F18,2) -> 0 | M18: =ROUND(E18*H18,2) -> 0 | N18: =ROUND(E18*I18,2) -> 0 | O18: =ROUND(E18*J18,2) -> 0 | P18: =SUM(M18:O18) -> 0
H20: Tiešās izmaksas kopā, t.sk. darba devēja sociālais nodoklis 23.59% : | L20: =SUM(L11:L19) -> 0 | M20: =SUM(M11:M19) -> 0 | N20: =SUM(N11:N19) -> 0 | O20: =SUM(O11:O19) -> 0 | P20: =SUM(P11:P19) -> 0
C22: Piezīmes:
C23: 1.Sagatavojot Finanšu piedāvājumu, Pretendentam ir jāņem vērā, ka būvdarbu izpildei nepieciešamos materiālus – lūku pārsedzes (tikai ķeta elementus) un kapes (ar apakšējo atbalsta plātni) ar SIA “Rīgas ūdens” logo – nodrošina Pasūtītājs. Pretendentam Finanšu piedāvājumā šo materiālu izmaksas jāparedz EUR 0,00 vērtībā.
C24: 2.Finanšu piedāvājumā jāiekļauj darbaspēka, materiālu, iekārtu, aprīkojuma un visu citu iespējamo Darbu izpildes izdevumu izmaksas. Pretendents nav tiesīgs Finanšu piedāvājuma tāmi papildināt ar jaunām izmaksu pozīcijām vai dzēst esošās izmaksu pozīcijas.
C25: 3. Finanšu piedāvājumā aprēķinus jāveic formulās ar noapaļojumu divi cipari aiz komata (jāizmanto funkcija “round”).
C26: 4. Finanšu piedāvājumā vienības cenas darba algas izmaksas aprēķinu jāveic pēc formulas “laika norma x stundas likme = alga”.
C27: 5. Finanšu piedāvājumā katras pozīcijas darba algas, būvizstrādājumu un mehānismu kopējās izmaksas aprēķinu jāveic pēc formulas “kopējais apjoms x vienības izmaksas”.
A29: Sastādīja
C30: (paraksts un tā atšifrējums, datums)
A33: Pārbaudīja
C34: (paraksts un tā atšifrējums, datums)
B35: Sertifikāta Nr.
