Workbook

Sheet KOPTĀME
C1: APSTIPRINU
C2: _________________________
C3: (pasūtītāja paraksts un tā atšifrējums)
C5: Z.v.
C6: 2024. gada ____.________________
A7: Būvniecības koptāme
A8: Ūdensvada un kanalizācijas izbūve Mazajā Juglas ielā
A10: Objekta nosaukums: Ūdensvada un kanalizācijas izbūve Mazajā Juglas ielā, 4.kārta
A11: Būves nosaukums: Ūdensvada un kanalizācijas izbūve Mazajā Juglas ielā,4.kārta
A12: Objekta adrese: Malienas iela, Ūdeļu iela 4
A13: Pasūtījuma Nr.:
C14: Tāme sastādīta:
A16: Nr. p.k. | B16: Objekta nosaukums | C16: Objekta izmaksas (Euro)
A18: 1 | B18: Ūdensvada un kanalizācijas izbūve Mazajā Juglas ielā | C18: =KOPSAVILKUMS!D22 -> 0
A19: 2 | B19: Maksa par transporta būvju izmantošanu saskaņā ar Rīgas domes 12.07.2023. lēmumu Nr. RD-23-2771-lē “Par nomas maksas noteikšanu par ceļa elementu lietošanu Rīgas valstspilsētas pašvaldības administratīvajā teritorijā”
B20: Kopā | C20: =SUM(C17:C18) -> 0
B21: PVN 21% | C21: =ROUND(C20*0.21,2) -> 0
B22: Pavisam būvniecības izmaksas ar PVN | C22: =C20+C21 -> 0
A24: Sastādīja
B25: (paraksts un tā atšifrējums, datums)
A28: Pārbaudīja
B29: (paraksts un tā atšifrējums, datums)
A30: Sertifikāta Nr.

Sheet KOPSAVILKUMS
A1: BŪVNIECĪBAS TĀMJU KOPSAVILKUMS
A3: =KOPTĀME!A10 -> Objekta nosaukums: Ūdensvada un kanalizācijas izbūve Mazajā Juglas ielā, 4.kārta
A4: =KOPTĀME!A11 -> Būves nosaukums: Ūdensvada un kanalizācijas izbūve Mazajā Juglas ielā,4.kārta
A5: =KOPTĀME!A12 -> Objekta adrese: Malienas iela, Ūdeļu iela 4
A6: Pasūtījuma Nr.: | E6: Par kopējo summu, Euro | F6: =D22 -> 0
E7: Kopējā darbietilpība, c/h | F7: =H18 -> 0
A9: Nr.p.k. | B9: Kods, tāmes Nr. | C9: Būvdarbu veids vai konstruktīvā elementa nosaukums | D9: Tāmes izmaksas (Euro) | E9: Tai skaitā | H9: Darbietilpība (c/h)
E10: darba alga (Euro) | F10: būvizstrādājumi (Euro) | G10: mehānismi (Euro)
A12: 0 | B12: 4-0 | C12: Ūdensvada un pašteces kanalizācijas tīkli
A13: 1 | B13: 4-1 | C13: Sadzīves kanalizācijas spiedvads 4. kārta
A14: 2 | B14: 4-2 | C14: Būvkonstrukcijas 4. kārta
A15: 3 | B15: 4-3 | C15: KSS 4. KĀRTA
A16: =A15+1 -> 4 | B16: 4-4 | C16: EL; EL-VAS 4. KĀRTA
A17: 5 | B17: 4-5 | C17: Būvlaukuma izmaksas 4. kārta
C18: Kopā | D18: =ROUND(SUM(D12:D17),2) -> 0 | E18: =ROUND(SUM(E12:E17),2) -> 0 | F18: =ROUND(SUM(F12:F17),2) -> 0 | G18: =ROUND(SUM(G12:G17),2) -> 0 | H18: =ROUND(SUM(H12:H17),2) -> 0
B19: ="#REF!" -> #REF! | C19: Virsizdevumi % | D19: =D18 -> 0
B20: ="#REF!" -> #REF! | C20: t.sk. darba aizsardzība | D20: =D19 -> 0
B21: ="#REF!" -> #REF! | C21: Peļņa % | D21: =D18 -> 0
C22: Pavisam kopā | D22: =D18+D19+D21 -> 0
A24: Sastādīja
C25: (paraksts un tā atšifrējums, datums)
A28: Pārbaudīja
C29: (paraksts un tā atšifrējums, datums)
B30: Sertifikāta Nr.
B32: Piezīmes: 1. Finanšu piedāvājumā jāiekļauj darbaspēka, būvizstrādājumu, mehānismu un visu citu iespējamo Darbu izpildes izdevumu izmaksas. Pretendents nav tiesīgs Finanšu piedāvājuma tāmi papildināt ar jaunām izmaksu pozīcijām vai dzēst esošās izmaksu pozīcijas. 2. Finanšu piedāvājumā aprēķinus jāveic formulās ar noapaļojumu divi cipari aiz komata (jāizmanto funkcija “round”).

Sheet 4-0 UKT 4.kārta
A1: Lokālā tāme Nr. 4-0
A2: Ūdensvada un pašteces kanalizācijas tīkli
A3: =[1]KOPTĀME!A10 -> Objekta nosaukums: Ūdensvada un kanalizācijas izbūve Mazajā Juglas ielā, 4.kārta
A4: =[1]KOPTĀME!A11 -> Būves nosaukums: Ūdensvada un kanalizācijas izbūve Mazajā Juglas ielā,4.kārta
A5: =[1]KOPTĀME!A12 -> Objekta adrese: Malienas iela, Ūdeļu iela 4 | M5: Tāmes izmaksas | O5: =P59 -> 0 | P5: Euro
A6: Pasūtījuma Nr.:
A8: Nr.p.k. | B8: Kods | C8: Darba nosaukums | D8: Mērvienība | E8: Daudzums | F8: Vienības izmaksas | L8: Kopā uz visu apjomu
F9: Laika norma (c/h) | G9: Darba samaksas likme* (Euro/h) | H9: Darba alga (Euro) | I9: Būvizstrādājumi (Euro) | J9: Mehānismi (Euro) | K9: Kopā (Euro) | L9: Darbietilpība (c/h) | M9: Darba alga (Euro) | N9: Būvizstrādājumi (Euro) | O9: Mehānismi (Euro) | P9: Summa (Euro)
A10: 1 | B10: 2 | C10: 3 | D10: 4 | E10: 5 | F10: 6 | G10: 7 | H10: 8 | I10: 9 | J10: 10 | K10: 11 | L10: 12 | M10: 13 | N10: 14 | O10: 15 | P10: 16
C12: Pašteces sadzīves kanalizācija
A13: 1 | B13: l.c. | C13: PP daudzslāņu gludsienu pašteces kanalizācijas caurule SN8, OD400 ar uzmavu un blīvgredzenu montāža ar 15 cm smilts pamatnes ierīkošanu un izbūvētā cauruļvada smilts apbēruma ierīkošanu 30 cm virs caurules virsas | D13: m | E13: 15.5
A14: 2 | B14: l.c. | C14: PP daudzslāņu gludsienu pašteces kanalizācijas caurule SN8, OD400 ar uzmavu un blīvgredzenu | D14: m | E14: 15
A15: 3 | B15: l.c. | C15: Smilts cauruļvada pamatnei un apbērumam (blietēta) k>1,0 m/dnn | D15: m3 | E15: 19.76
A16: 4 | B16: l.c. | C16: Dzelzsbetona kanalizācijas akas (K1-42) izbūve DN1500 no saliekamiem dzelzsbetona grodiem (Eiro grodi ar pamatni), savienojošā grope ar blīvgumiju, betona konusu, kāpšļiem,hidroizolācija pilnā apjomā. Vāks slēdzams, no kaļamā ķeta ar gumijas blīvējumiem, slodzes klase B125, Rexel tipa. Iebūves dziļums 4.0-4.5m. Izbūve zāles segumā. | D16: kpl. | E16: 1
A17: 5 | B17: l.c. | C17: Dzelzsbetona kanalizācijas aka DN1500 no saliekamiem dzelzsbetona grodiem (Eiro grodi ar pamatni), savienojošā grope ar blīvgumiju, betona konusu, kāpšļiem,hidroizolācija pilnā apjomā. Vāks slēdzams, no kaļamā ķeta ar gumijas blīvējumiem, slodzes klase B125, Rexel tipa,dziļums 4.0-4.5m. | D17: kpl. | E17: 1
A18: 6 | B18: l.c. | C18: Smilts akas pamatnes ierīkošanai (blietēta) k>1,0 m/dnn | D18: m3 | E18: 0.09
A19: 7 | B19: l.c. | C19: Apbetonējums ap akas vāku C25/30 | D19: m3 | E19: 0.09
A20: 8 | B20: l.c. | C20: Vāks slēdzams, no kaļamā ķeta ar gumijas blīvējumiem, slodzes klase D400, Rexel tipa | D20: kpl. | E20: 1
A21: 9 | B21: l.c. | C21: Pieslēgums pie esoša kanalizācijas akas | D21: vietas | E21: 1
A22: 10 | B22: l.c. | C22: Pārkrituma mezgla izbūve (K1-42, h=1.5-2.0m), DN1500 dzelzsbet. akā ar ievadcaurules diametru OD400mm | D22: kpl. | E22: 1
A23: 11 | B23: l.c. | C23: Aizsargčaula dzelzsbetona grodu akas sienā OD400 | D23: gb | E23: 4
A24: 12 | B24: l.c. | C24: Kanalizācijas caurules OD400 gala noslēgs | D24: gb | E24: 1
... A31: 19 | B31: l.c. | C31: Tranšejas sienu stiprināšana ar metāla vairogiem (divpusēji), sienas nostiprinātas abās būvgrāvja pusēs, tranšejas dziļums 4.0-4.5m | D31: m | E31: 13
A32: 20 | B32: l.c. | C32: Izbrīvētās, turpmāk neizmantojamās, grunts iekraušana autopašizgāzējā un promvešana līdz norādītai atbērtnei līdz 5 km | D32: m3 | E32: =E27+E26 -> 101.8
A33: 21 | B33: l.c. | C33: Pievienošanās pie kanalizācijas sūkņu stacijas | D33: vietas | E33: 1
A34: 22 | B34: l.c. | C34: Esošā kanalizācijas d315 demontāža un utilizācija | D34: m | E34: 10
A35: 23 | B35: l.c. | C35: Šķērsojumi ar proj. / esošiem kabeļiem (t.sk. to atšifrēšana) | D35: vietas | E35: 2
A36: 24 | B36: l.c. | C36: CCTV pārbaude cauruļvada slīpuma un stāvokļa noteikšanai pēc būvdarbu pabeigšanas | D36: m | E36: =15.5 -> 15.5
A37: 25 | B37: l.c. | C37: Cauruļvadu skalošana un tīrīšana | D37: m | E37: 15.5
A38: 26 | B38: l.c. | C38: Tranšeju aizbēršana ar pievesto smilti (filtrācijas koeficientu ≥ 1 m/dnn, smilts blīvums ne mazāks par 0,95 no dabīgā blīvuma) no ierīkotā apbēruma ap cauruļvadu līdz atjaunojamā seguma apakšējai kārtai, blietējot ik pa 30 cm. | D38: m3 | E38: 101.8
A39: 27 | B39: l.c. | C39: Augu zeme,zālāju sēklas un mēslojums,h=15cm | D39: m2 | E39: 30
A40: 28 | B40: l.c. | C40: Trases nospraušana | D40: m | E40: 15.5
A41: 29 | B41: l.c. | C41: Tranšeju nožogojumi | D41: kpl. | E41: 1
A42: 30 | B42: l.c. | C42: Izpildokumentācijas sagatavošana (digitāla versija) | D42: kpl. | E42: 1
C43: Ūdensvads
A44: 31 | B44: l.c. | C44: Augsta blīvuma (HDPE) polietilēna materiāla PE 100-RC ar integrētu PE 100-RC ārējās sieniņas aizsargslāni vismaz 2,5 mm biezumā, PN10,SDR17, OD32 montāža ar 15 cm smilts pamatnes ierīkošanu un izbūvētā cauruļvada smilts apbēruma ierīkošanu 30 cm virs caurules virsas | D44: m | E44: 9.8
A45: 32 | B45: l.c. | C45: Augsta blīvuma (HDPE) polietilēna materiāla PE 100-RC ar integrētu PE 100-RC ārējās sieniņas aizsargslāni vismaz 2,5 mm biezumā, PN10,SDR17, OD32 | D45: m | E45: 9.8
A46: 33 | B46: l.c. | C46: Smilts cauruļvada pamatnei un apbērumam (blietēta) k>1,0 m/dnn | D46: m3 | E46: 11.58
A47: 34 | B47: l.c. | C47: Pievinošanās esošam ūdensvadam dn32 | D47: vietas | E47: 1
A48: 35 | B48: l.c. | C48: Tranšejas rakšana ar rokām un ekskavatoru pie caurules iebūves dziļuma 2,0-2,5 m un minimālā tranšejas platuma 1.5 m | D48: m3 | E48: 30
A49: 36 | B49: l.c. | C49: Gruntsūdens līmeņa pazemināšana pie tranšejas dziļuma 2,0-2,5m, ja nepieciešams | D49: m | E49: 9.8
A50: 37 | B50: l.c. | C50: Tranšejas sienu stiprināšana ar metāla vairogiem (divpusēji), sienas nostiprinātas abās būvgrāvja pusēs, tranšejas dziļums 2.0-2.5m | D50: m | E50: 9.8
A51: 38 | B51: l.c. | C51: Izbrīvētās, turpmāk neizmantojamās, grunts iekraušana autopašizgāzējā un promvešana līdz norādītai atbērtnei līdz 5 km | D51: m3 | E51: 30
A52: 39 | B52: l.c. | C52: Ūdensapgādes sistēmas marķējuma lentes ieklāšana 0,3m dziļumā virs caurules | D52: m | E52: 9.8
A53: 40 | B53: l.c. | C53: Šķērsojumi ar proj. / esošiem kabeļiem (t.sk. to atšifrēšana) | D53: vietas | E53: 1
A54: 41 | B54: l.c. | C54: Tranšeju aizbēršana ar pievesto smilti (filtrācijas koeficientu ≥ 1 m/dnn, smilts blīvums ne mazāks par 0,95 no dabīgā blīvuma) no ierīkotā apbēruma ap cauruļvadu līdz atjaunojamā seguma apakšējai kārtai, blietējot ik pa 30 cm. | D54: m3 | E54: 30
A55: 42 | B55: l.c. | C55: Trases nospraušana | D55: m | E55: 9.8
... A58: 45 | B58: l.c. | C58: Izpildokumentācijas sagatavošana (digitāla versija) | D58: kpl. | E58: 1
H59: Tiešās izmaksas kopā, t.sk. darba devēja sociālais nodoklis 23.59% :
C61: Piezīmes:
C62: 1.Sagatavojot Finanšu piedāvājumu, Pretendentam ir jāņem vērā, ka būvdarbu izpildei nepieciešamos materiālus – lūku pārsedzes (tikai ķeta elementus) un kapes (ar apakšējo atbalsta plātni) ar SIA “Rīgas ūdens” logo – nodrošina Pasūtītājs. Pretendentam Finanšu piedāvājumā šo materiālu izmaksas jāparedz EUR 0,00 vērtībā.
C63: 2.Finanšu piedāvājumā jāiekļauj darbaspēka, materiālu, iekārtu, aprīkojuma un visu citu iespējamo Darbu izpildes izdevumu izmaksas. Pretendents nav tiesīgs Finanšu piedāvājuma tāmi papildināt ar jaunām izmaksu pozīcijām vai dzēst esošās izmaksu pozīcijas.
C64: 3. Finanšu piedāvājumā aprēķinus jāveic formulās ar noapaļojumu divi cipari aiz komata (jāizmanto funkcija “round”).
C65: 4. Finanšu piedāvājumā vienības cenas darba algas izmaksas aprēķinu jāveic pēc formulas “laika norma x stundas likme = alga”.
C66: 5. Finanšu piedāvājumā katras pozīcijas darba algas, būvizstrādājumu un mehānismu kopējās izmaksas aprēķinu jāveic pēc formulas “kopējais apjoms x vienības izmaksas”.
A68: Sastādīja
C69: (paraksts un tā atšifrējums, datums)
A72: Pārbaudīja
C73: (paraksts un tā atšifrējums, datums)
B74: Sertifikāta Nr.

Sheet 4-1 SPK1 4. kārta
A1: Lokālā tāme Nr. 4-1
A2: SADZĪVES KANALIZĀCIJAS SPIEDVADS 4. KĀRTA
A3: =KOPTĀME!A10 -> Objekta nosaukums: Ūdensvada un kanalizācijas izbūve Mazajā Juglas ielā, 4.kārta
A4: =KOPTĀME!A11 -> Būves nosaukums: Ūdensvada un kanalizācijas izbūve Mazajā Juglas ielā,4.kārta
A5: =KOPTĀME!A12 -> Objekta adrese: Malienas iela, Ūdeļu iela 4 | M5: Tāmes izmaksas | O5: =P121 -> 0 | P5: Euro
A6: Pasūtījuma Nr.:
A8: Nr.p.k. | B8: Kods | C8: Darba nosaukums | D8: Mērvienība | E8: Daudzums | F8: Vienības izmaksas | L8: Kopā uz visu apjomu
F9: Laika norma (c/h) | G9: Darba samaksas likme* (Euro/h) | H9: Darba alga (Euro) | I9: Būvizstrādājumi (Euro) | J9: Mehānismi (Euro) | K9: Kopā (Euro) | L9: Darbietilpība (c/h) | M9: Darba alga (Euro) | N9: Būvizstrādājumi (Euro) | O9: Mehānismi (Euro) | P9: Summa (Euro)
A10: 1 | B10: 2 | C10: 3 | D10: 4 | E10: 5 | F10: 6 | G10: 7 | H10: 8 | I10: 9 | J10: 10 | K10: 11 | L10: 12 | M10: 13 | N10: 14 | O10: 15 | P10: 16
C12: Sadzīves kanalizācijas spiedvads, 1. kārta
A13: 1 | B13: l.c. | C13: Pievienošanās esošam spiedvadam d225 | D13: vietas | E13: 1 | K13: =H13+I13+J13 -> 0 | L13: =ROUND(E13*F13,2) -> 0 | M13: =ROUND(E13*H13,2) -> 0 | N13: =ROUND(E13*I13,2) -> 0 | O13: =ROUND(E13*J13,2) -> 0 | P13: =SUM(M13:O13) -> 0
A14: 2 | B14: l.c. | C14: Augsta blīvuma (HDPE) polietilēna materiāla PE 100-RC ar integrētu PP (polipropilēna) papildus ārējo aizsargslāni, kas ir vismaz 0,8 mm biezumā un integrētu signālslāni. kas nepārsniedz 10% no nominālā caurules sieniņas biezuma, no PP materiāla ar rūpnieciski iestrādātu signālstiepli,, PN10,SDR17, OD/DN400 izbūve ar beztranšejas metodi | D14: m | E14: 849.8 | K14: =H14+I14+J14 -> 0 | L14: =ROUND(E14*F14,2) -> 0 | M14: =ROUND(E14*H14,2) -> 0 | N14: =ROUND(E14*I14,2) -> 0 | O14: =ROUND(E14*J14,2) -> 0 | P14: =SUM(M14:O14) -> 0
A15: 3 | B15: l.c. | C15: Augsta blīvuma (HDPE) polietilēna materiāla PE 100-RC ar integrētu PP (polipropilēna) papildus ārējo aizsargslāni, kas ir vismaz 0,8 mm biezumā un integrētu signālslāni. kas nepārsniedz 10% no nominālā caurules sieniņas biezuma, no PP materiāla ar rūpnieciski iestrādātu signālstiepli,, PN10,SDR17, OD/DN400 | D15: m | E15: 849.8 | K15: =H15+I15+J15 -> 0 | L15: =ROUND(E15*F15,2) -> 0 | M15: =ROUND(E15*H15,2) -> 0 | N15: =ROUND(E15*I15,2) -> 0 | O15: =ROUND(E15*J15,2) -> 0 | P15: =SUM(M15:O15) -> 0
A16: 4 | B16: l.c. | C16: Augsta blīvuma (HDPE) polietilēna materiāla PE 100-RC ar integrētu PE 100-RC ārējās sieniņas aizsargslāni vismaz 2,5 mm biezumā, PN10,SDR17,OD/DN400 montāža ar 15 cm smilts pamatnes ierīkošanu un izbūvētā cauruļvada smilts apbēruma ierīkošanu 30 cm virs caurules virsas | D16: m | E16: 68.2 | K16: =H16+I16+J16 -> 0 | L16: =ROUND(E16*F16,2) -> 0 | M16: =ROUND(E16*H16,2) -> 0 | N16: =ROUND(E16*I16,2) -> 0 | O16: =ROUND(E16*J16,2) -> 0 | P16: =SUM(M16:O16) -> 0
A17: 5 | B17: l.c. | C17: Augsta blīvuma (HDPE) polietilēna materiāla PE 100-RC ar integrētu PE 100-RC ārējās sieniņas aizsargslāni vismaz 2,5 mm biezumā, PN10,SDR17, OD/DN400 | D17: m | E17: 68.2 | K17: =H17+I17+J17 -> 0 | L17: =ROUND(E17*F17,2) -> 0 | M17: =ROUND(E17*H17,2) -> 0 | N17: =ROUND(E17*I17,2) -> 0 | O17: =ROUND(E17*J17,2) -> 0 | P17: =SUM(M17:O17) -> 0
A18: 6 | B18: l.c. | C18: Smilts cauruļvada pamatnei un apbērumam (blietēta) k>1,0 m/dnn | D18: m3 | E18: 62.4 | K18: =H18+I18+J18 -> 0 | L18: =ROUND(E18*F18,2) -> 0 | M18: =ROUND(E18*H18,2) -> 0 | N18: =ROUND(E18*I18,2) -> 0 | O18: =ROUND(E18*J18,2) -> 0 | P18: =SUM(M18:O18) -> 0
A19: 7 | B19: l.c. | C19: Augsta blīvuma (HDPE) polietilēna materiāla PE 100-RC ar integrētu PE 100-RC ārējās sieniņas aizsargslāni vismaz 2,5 mm biezumā, PN10,SDR17, OD/DN225 montāža ar 15 cm smilts pamatnes ierīkošanu un izbūvētā cauruļvada smilts apbēruma ierīkošanu 30 cm virs caurules virsas | D19: m | E19: 4 | K19: =H19+I19+J19 -> 0 | L19: =ROUND(E19*F19,2) -> 0 | M19: =ROUND(E19*H19,2) -> 0 | N19: =ROUND(E19*I19,2) -> 0 | O19: =ROUND(E19*J19,2) -> 0 | P19: =SUM(M19:O19) -> 0 | T19: =SUM(T20:T95) -> 14784.129
A20: 8 | B20: l.c. | C20: Augsta blīvuma (HDPE) polietilēna materiāla PE 100-RC ar integrētu PE 100-RC ārējās sieniņas aizsargslāni vismaz 2,5 mm biezumā, PN10,SDR17, OD/DN225 | D20: m | E20: 4 | K20: =H20+I20+J20 -> 0 | L20: =ROUND(E20*F20,2) -> 0 | M20: =ROUND(E20*H20,2) -> 0 | N20: =ROUND(E20*I20,2) -> 0 | O20: =ROUND(E20*J20,2) -> 0 | P20: =SUM(M20:O20) -> 0 | R20: 3.54 | S20: 0.885 | T20: =R20*S20*E20 -> 12.5316
A21: 9 | B21: l.c. | C21: Smilts cauruļvada pamatnei un apbērumam (blietēta) k>1,0 m/dnn | D21: m3 | E21: 4.05 | K21: =H21+I21+J21 -> 0 | L21: =ROUND(E21*F21,2) -> 0 | M21: =ROUND(E21*H21,2) -> 0 | N21: =ROUND(E21*I21,2) -> 0 | O21: =ROUND(E21*J21,2) -> 0 | P21: =SUM(M21:O21) -> 0 | R21: 3.54 | S21: 0.87 | T21: =R21*S21*E21 -> 12.47319
A22: 10 | B22: l.c. | C22: Met caurule DN200 | D22: m | E22: 13 | K22: =H22+I22+J22 -> 0 | L22: =ROUND(E22*F22,2) -> 0 | M22: =ROUND(E22*H22,2) -> 0 | N22: =ROUND(E22*I22,2) -> 0 | O22: =ROUND(E22*J22,2) -> 0 | P22: =SUM(M22:O22) -> 0 | R22: 3.54 | S22: 0.885 | T22: =R22*S22*E22 -> 40.7277
A23: Sastādīja: | B23: l.c. | C23: Met caurule DN250 | D23: m | E23: 2.8 | K23: =H23+I23+J23 -> 0 | L23: =ROUND(E23*F23,2) -> 0 | M23: =ROUND(E23*H23,2) -> 0 | N23: =ROUND(E23*I23,2) -> 0 | O23: =ROUND(E23*J23,2) -> 0 | P23: =SUM(M23:O23) -> 0 | R23: 3.54 | S23: 0.885 | T23: =R23*S23*E23 -> 8.77212
A24: 12 | B24: l.c. | C24: Tehnoloģiskās būvbedres 3x6m vai atbilstoši tehnoloģijai ierīkošana un segumu atjaunošana pilnā apjomā atbilstoši segumam. | D24: kpl. | E24: 19 | K24: =H24+I24+J24 -> 0 | L24: =ROUND(E24*F24,2) -> 0 | M24: =ROUND(E24*H24,2) -> 0 | N24: =ROUND(E24*I24,2) -> 0 | O24: =ROUND(E24*J24,2) -> 0 | P24: =SUM(M24:O24) -> 0 | R24: 10.015 | S24: 1.196 | T24: =R24*S24*E24 -> 227.58086
A25: 13 | B25: l.c. | C25: El.met OD225 90° līkums | D25: gb | E25: 1 | K25: =H25+I25+J25 -> 0 | L25: =ROUND(E25*F25,2) -> 0 | M25: =ROUND(E25*H25,2) -> 0 | N25: =ROUND(E25*I25,2) -> 0 | O25: =ROUND(E25*J25,2) -> 0 | P25: =SUM(M25:O25) -> 0 | R25: 10.015 | S25: 1.196 | T25: =R25*S25*E25 -> 11.97794
A26: 14 | B26: l.c. | C26: El.met OD225 dubultuzmava | D26: gb | E26: 1 | K26: =H26+I26+J26 -> 0 | L26: =ROUND(E26*F26,2) -> 0 | M26: =ROUND(E26*H26,2) -> 0 | N26: =ROUND(E26*I26,2) -> 0 | O26: =ROUND(E26*J26,2) -> 0 | P26: =SUM(M26:O26) -> 0 | R26: 10.015 | S26: 0.763 | T26: =R26*S26*E26 -> 7.641445
A27: 15 | B27: l.c. | C27: Kaļamā ķeta atloku līkums 90° DN400 | D27: gb | E27: 6 | K27: =H27+I27+J27 -> 0 | L27: =ROUND(E27*F27,2) -> 0 | M27: =ROUND(E27*H27,2) -> 0 | N27: =ROUND(E27*I27,2) -> 0 | O27: =ROUND(E27*J27,2) -> 0 | P27: =SUM(M27:O27) -> 0 | R27: 10.015 | S27: 1.196 | T27: =R27*S27*E27 -> 71.86764
A28: 16 | B28: l.c. | C28: Atloku adapters kaļamā ķeta/PE caurulei DN400 | D28: gb | E28: 12 | K28: =H28+I28+J28 -> 0 | L28: =ROUND(E28*F28,2) -> 0 | M28: =ROUND(E28*H28,2) -> 0 | N28: =ROUND(E28*I28,2) -> 0 | O28: =ROUND(E28*J28,2) -> 0 | P28: =SUM(M28:O28) -> 0 | R28: 10.015 | S28: 0.763 | T28: =R28*S28*E28 -> 91.69734
A29: 17 | B29: l.c. | C29: Kontaktmetināms līkums OD400 31 - 60o, PE100, SDR17 | D29: gb | E29: 3 | K29: =H29+I29+J29 -> 0 | L29: =ROUND(E29*F29,2) -> 0 | M29: =ROUND(E29*H29,2) -> 0 | N29: =ROUND(E29*I29,2) -> 0 | O29: =ROUND(E29*J29,2) -> 0 | P29: =SUM(M29:O29) -> 0 | R29: 10.015 | S29: 1.01 | T29: =R29*S29*E29 -> 30.34545
A30: 18 | B30: l.c. | C30: Kontakmetināms līkums OD400 5 - 30o, PE100, SDR17 | D30: gb | E30: 2 | K30: =H30+I30+J30 -> 0 | L30: =ROUND(E30*F30,2) -> 0 | M30: =ROUND(E30*H30,2) -> 0 | N30: =ROUND(E30*I30,2) -> 0 | O30: =ROUND(E30*J30,2) -> 0 | P30: =SUM(M30:O30) -> 0 | R30: 10.015 | S30: 1.196 | T30: =R30*S30*E30 -> 23.95588
A31: 19 | B31: l.c. | C31: Atloku trejgabals DN400/400 | D31: gb | E31: 3 | K31: =H31+I31+J31 -> 0 | L31: =ROUND(E31*F31,2) -> 0 | M31: =ROUND(E31*H31,2) -> 0 | N31: =ROUND(E31*I31,2) -> 0 | O31: =ROUND(E31*J31,2) -> 0 | P31: =SUM(M31:O31) -> 0 | R31: 3.755 | S31: 0.89 | T31: =R31*S31*E31 -> 10.02585
A32: 20 | B32: l.c. | C32: Izjaucams atloku savienojums DN400 | D32: gb | E32: 15 | K32: =H32+I32+J32 -> 0 | L32: =ROUND(E32*F32,2) -> 0 | M32: =ROUND(E32*H32,2) -> 0 | N32: =ROUND(E32*I32,2) -> 0 | O32: =ROUND(E32*J32,2) -> 0 | P32: =SUM(M32:O32) -> 0 | R32: 6.915 | S32: 1.196 | T32: =R32*S32*E32 -> 124.0551
A33: 21 | B33: l.c. | C33: Īscaurule PE ar rotējošu atloku DN/OD400 | D33: gb | E33: 15 | K33: =H33+I33+J33 -> 0 | L33: =ROUND(E33*F33,2) -> 0 | M33: =ROUND(E33*H33,2) -> 0 | N33: =ROUND(E33*I33,2) -> 0 | O33: =ROUND(E33*J33,2) -> 0 | P33: =SUM(M33:O33) -> 0 | R33: 6.915 | S33: 1.196 | T33: =R33*S33*E33 -> 124.0551
A34: 22 | B34: l.c. | C34: Pazemes atloku aizbīdnis ar fiksēta garuma atslēgstieni DN400 | D34: gb | E34: 3 | K34: =H34+I34+J34 -> 0 | L34: =ROUND(E34*F34,2) -> 0 | M34: =ROUND(E34*H34,2) -> 0 | N34: =ROUND(E34*I34,2) -> 0 | O34: =ROUND(E34*J34,2) -> 0 | P34: =SUM(M34:O34) -> 0 | R34: 9.015 | S34: 1.196 | T34: =R34*S34*E34 -> 32.34582
A35: 23 | B35: l.c. | C35: Aizbīdņa kape | D35: gb | E35: 3 | K35: =H35+I35+J35 -> 0 | L35: =ROUND(E35*F35,2) -> 0 | M35: =ROUND(E35*H35,2) -> 0 | N35: =ROUND(E35*I35,2) -> 0 | O35: =ROUND(E35*J35,2) -> 0 | P35: =SUM(M35:O35) -> 0 | R35: 9.015 | S35: 1.196 | T35: =R35*S35*E35 -> 32.34582
... A71: 59 | B71: l.c. | C71: Kanalizācijas spiedvada sistēmas marķējuma lentes ieklāšana 0,3m dziļumā virs caurules | D71: m | E71: 88 | K71: =H71+I71+J71 -> 0 | L71: =ROUND(E71*F71,2) -> 0 | M71: =ROUND(E71*H71,2) -> 0 | N71: =ROUND(E71*I71,2) -> 0 | O71: =ROUND(E71*J71,2) -> 0 | P71: =SUM(M71:O71) -> 0 | R71: 9.015 | S71: 0.763 | T71: =R71*S71*E71 -> 605.30316
A72: 60 | B72: l.c. | C72: Signālvadu sistēma izbūvei virs caurules, gar aizbīdņiem, hidrantiem | D72: m | E72: 94 | K72: =H72+I72+J72 -> 0 | L72: =ROUND(E72*F72,2) -> 0 | M72: =ROUND(E72*H72,2) -> 0 | N72: =ROUND(E72*I72,2) -> 0 | O72: =ROUND(E72*J72,2) -> 0 | P72: =SUM(M72:O72) -> 0
A73: 61 | B73: l.c. | C73: Jauna sūkņu stacija ar virszemes paviljonu, pilnu aprīkojumu, t.sk rakšanas darbi | D73: kpl. | E73: 1 | R73: 6.915 | S73: 0.763 | T73: =R73*S73*E73 -> 5.276145
A74: 62 | B74: l.c. | C74: Esošā spiedvada d225 demontāža | D74: m | E74: 10 | K74: =H74+I74+J74 -> 0 | L74: =ROUND(E74*F74,2) -> 0 | M74: =ROUND(E74*H74,2) -> 0 | N74: =ROUND(E74*I74,2) -> 0 | O74: =ROUND(E74*J74,2) -> 0 | P74: =SUM(M74:O74) -> 0 | R74: 7.415 | S74: 0.763 | T74: =R74*S74*E74 -> 56.57645
A75: 63 | B75: l.c. | C75: Esošā spiedvada d150 demontāža | D75: m | E75: 11 | K75: =H75+I75+J75 -> 0 | L75: =ROUND(E75*F75,2) -> 0 | M75: =ROUND(E75*H75,2) -> 0 | N75: =ROUND(E75*I75,2) -> 0 | O75: =ROUND(E75*J75,2) -> 0 | P75: =SUM(M75:O75) -> 0 | R75: 7.415 | S75: 0.763 | T75: =R75*S75*E75 -> 62.234095
A76: 64 | B76: l.c. | C76: Spiedvada akas demontāža | D76: kpl. | E76: 1 | K76: =H76+I76+J76 -> 0 | L76: =ROUND(E76*F76,2) -> 0 | M76: =ROUND(E76*H76,2) -> 0 | N76: =ROUND(E76*I76,2) -> 0 | O76: =ROUND(E76*J76,2) -> 0 | P76: =SUM(M76:O76) -> 0 | R76: 3.755 | S76: 0.89 | T76: =R76*S76*E76 -> 3.34195
A77: 65 | B77: l.c. | C77: Esošās sūkņu stacijas demotāža, aizbēršana, labiekārtošana, t.sk.virszemes daļas | D77: kpl. | E77: 1 | K77: =H77+I77+J77 -> 0 | L77: =ROUND(E77*F77,2) -> 0 | M77: =ROUND(E77*H77,2) -> 0 | N77: =ROUND(E77*I77,2) -> 0 | O77: =ROUND(E77*J77,2) -> 0 | P77: =SUM(M77:O77) -> 0 | R77: 5.76 | S77: 0.89 | T77: =R77*S77*E77 -> 5.1264
A78: 66 | B78: l.c. | C78: Esošā d150 spiedvada galu aizbetonēšana ar vieglbetonu pie esošās KSS un Pie esošās spiediena dzēšanas akas | D78: kpl. | E78: 3 | K78: =H78+I78+J78 -> 0 | L78: =ROUND(E78*F78,2) -> 0 | M78: =ROUND(E78*H78,2) -> 0 | N78: =ROUND(E78*I78,2) -> 0 | O78: =ROUND(E78*J78,2) -> 0 | P78: =SUM(M78:O78) -> 0 | R78: 5.76 | S78: 0.89 | T78: =R78*S78*E78 -> 15.3792
A79: 67 | B79: l.c. | C79: Šķērsojumi ar proj. / esošiem kabeļiem (t.sk. to atšifrēšana) | D79: vietas | E79: 30 | K79: =H79+I79+J79 -> 0 | L79: =ROUND(E79*F79,2) -> 0 | M79: =ROUND(E79*H79,2) -> 0 | N79: =ROUND(E79*I79,2) -> 0 | O79: =ROUND(E79*J79,2) -> 0 | P79: =SUM(M79:O79) -> 0 | R79: 6.44 | S79: 0.995 | T79: =R79*S79*E79 -> 192.234
A80: 68 | B80: l.c. | C80: Šķērsojumi ar proj./esošo ūdensvadu d≤200 (t.sk. to atšifrēšana) | D80: vietas | E80: 5 | K80: =H80+I80+J80 -> 0 | L80: =ROUND(E80*F80,2) -> 0 | M80: =ROUND(E80*H80,2) -> 0 | N80: =ROUND(E80*I80,2) -> 0 | O80: =ROUND(E80*J80,2) -> 0 | P80: =SUM(M80:O80) -> 0 | R80: 2.075 | S80: 0.89 | T80: =R80*S80*E80 -> 9.23375
A81: 69 | B81: l.c. | C81: Šķērsojumi ar proj./esošo ūdensvadu d250 (t.sk. to atšifrēšana) | D81: vietas | E81: 1 | K81: =H81+I81+J81 -> 0 | L81: =ROUND(E81*F81,2) -> 0 | M81: =ROUND(E81*H81,2) -> 0 | N81: =ROUND(E81*I81,2) -> 0 | O81: =ROUND(E81*J81,2) -> 0 | P81: =SUM(M81:O81) -> 0 | R81: 6.44 | S81: 0.995 | T81: =R81*S81*E81 -> 6.4078
A82: 70 | B82: l.c. | C82: Šķērsojumi ar proj./esošo ūdensvadu d300 (t.sk. to atšifrēšana) | D82: vietas | E82: 2 | K82: =H82+I82+J82 -> 0 | L82: =ROUND(E82*F82,2) -> 0 | M82: =ROUND(E82*H82,2) -> 0 | N82: =ROUND(E82*I82,2) -> 0 | O82: =ROUND(E82*J82,2) -> 0 | P82: =SUM(M82:O82) -> 0 | R82: 6.44 | S82: 0.995 | T82: =R82*S82*E82 -> 12.8156
A83: 71 | B83: l.c. | C83: Šķērsojumi ar proj./esošo sadz.kanaliz. d≤200 (t.sk. to atšifrēšana) | D83: vietas | E83: 1 | K83: =H83+I83+J83 -> 0 | L83: =ROUND(E83*F83,2) -> 0 | M83: =ROUND(E83*H83,2) -> 0 | N83: =ROUND(E83*I83,2) -> 0 | O83: =ROUND(E83*J83,2) -> 0 | P83: =SUM(M83:O83) -> 0 | R83: 2.075 | S83: 0.89 | T83: =R83*S83*E83 -> 1.84675
A84: 72 | B84: l.c. | C84: Šķērsojumi ar proj./esošo sadz.kanaliz.spiedvadu d≤200 (t.sk. to atšifrēšana) | D84: vietas | E84: 4 | K84: =H84+I84+J84 -> 0 | L84: =ROUND(E84*F84,2) -> 0 | M84: =ROUND(E84*H84,2) -> 0 | N84: =ROUND(E84*I84,2) -> 0 | O84: =ROUND(E84*J84,2) -> 0 | P84: =SUM(M84:O84) -> 0 | R84: 2.075 | S84: 0.89 | T84: =R84*S84*E84 -> 7.387
A85: 73 | B85: l.c. | C85: Šķērsojumi ar proj./esošo sadz.kanaliz.spiedvadu d>200 (t.sk. to atšifrēšana) | D85: vietas | E85: 3 | K85: =H85+I85+J85 -> 0 | L85: =ROUND(E85*F85,2) -> 0 | M85: =ROUND(E85*H85,2) -> 0 | N85: =ROUND(E85*I85,2) -> 0 | O85: =ROUND(E85*J85,2) -> 0 | P85: =SUM(M85:O85) -> 0 | R85: 6.44 | S85: 0.995 | T85: =R85*S85*E85 -> 19.2234
... A91: 79 | B91: l.c. | C91: Cauruļvadu skalošana un tīrīšana | D91: m | E91: 937.8 | K91: =H91+I91+J91 -> 0 | L91: =ROUND(E91*F91,2) -> 0 | M91: =ROUND(E91*H91,2) -> 0 | N91: =ROUND(E91*I91,2) -> 0 | O91: =ROUND(E91*J91,2) -> 0 | P91: =SUM(M91:O91) -> 0 | R91: 5.919 | S91: 1.196 | T91: =R91*S91*E91 -> 6638.8025
A92: 80 | R92: 4.034 | S92: 1.196 | T92: =R92*S92*E92 -> 0
A93: 81 | C93: Vispārējās celtniecības darbi SPK1 tīklu izbūvei | R93: 4.592 | S93: 1.196 | T93: =R93*S93*E93 -> 0
A94: 82 | B94: l.c. | C94: Tranšeju aizbēršana ar pievesto smilti (filtrācijas koeficientu ≥ 1 m/dnn, smilts blīvums ne mazāks par 0,95 no dabīgā blīvuma) no ierīkotā apbēruma ap cauruļvadu līdz atjaunojamā seguma apakšējai kārtai, blietējot ik pa 30 cm. | D94: m3 | E94: 100 | K94: =H94+I94+J94 -> 0 | L94: =ROUND(E94*F94,2) -> 0 | M94: =ROUND(E94*H94,2) -> 0 | N94: =ROUND(E94*I94,2) -> 0 | O94: =ROUND(E94*J94,2) -> 0 | P94: =SUM(M94:O94) -> 0 | R94: 4.933 | S94: 0.766 | T94: =R94*S94*E94 -> 377.8678
A95: 83 | B95: l.c. | C95: Tranšeju aizbēršana ar esošo grunti no ierīkotā apbēruma ap cauruļvadu līdz atjaunojamā seguma apakšējai kārtai, blietējot ik pa 30 cm. | D95: m3 | E95: 203.5 | K95: =H95+I95+J95 -> 0 | L95: =ROUND(E95*F95,2) -> 0 | M95: =ROUND(E95*H95,2) -> 0 | N95: =ROUND(E95*I95,2) -> 0 | O95: =ROUND(E95*J95,2) -> 0 | P95: =SUM(M95:O95) -> 0 | R95: 3.506 | S95: 0.76 | T95: =R95*S95*E95 -> 542.23796
A96: 84 | B96: l.c. | C96: Asfaltseguma atjaunošana Malienas ielā, 1a brauktuves tips | K96: =H96+I96+J96 -> 0 | L96: =ROUND(E96*F96,2) -> 0 | M96: =ROUND(E96*H96,2) -> 0 | N96: =ROUND(E96*I96,2) -> 0 | O96: =ROUND(E96*J96,2) -> 0 | P96: =SUM(M96:O96) -> 0
A97: 85 | B97: l.c. | C97: Karstā asfalta dilumkārta AC 11surf (AADTi, pievestā >3500), h=4cm | D97: m2 | E97: 560 | K97: =H97+I97+J97 -> 0 | L97: =ROUND(E97*F97,2) -> 0 | M97: =ROUND(E97*H97,2) -> 0 | N97: =ROUND(E97*I97,2) -> 0 | O97: =ROUND(E97*J97,2) -> 0 | P97: =SUM(M97:O97) -> 0
A98: 86 | B98: l.c. | C98: Karstā asfalta saistes kārta AC 22bin (AADTi, smagie >1000),h=6cm | D98: m2 | E98: 320 | K98: =H98+I98+J98 -> 0 | L98: =ROUND(E98*F98,2) -> 0 | M98: =ROUND(E98*H98,2) -> 0 | N98: =ROUND(E98*I98,2) -> 0 | O98: =ROUND(E98*J98,2) -> 0 | P98: =SUM(M98:O98) -> 0
A99: 87 | B99: l.c. | C99: Karstā asfalta seguma apakškārta AC 32base (AADTi, smagie >1000),h=10cm | D99: m2 | E99: 144 | K99: =H99+I99+J99 -> 0 | L99: =ROUND(E99*F99,2) -> 0 | M99: =ROUND(E99*H99,2) -> 0 | N99: =ROUND(E99*I99,2) -> 0 | O99: =ROUND(E99*J99,2) -> 0 | P99: =SUM(M99:O99) -> 0
A100: 88 | B100: l.c. | C100: Minerālmateriālu pamata virskārta maisījums 0/32ps (AADTi, smagie >500),h=12cm | D100: m2 | E100: 144 | K100: =H100+I100+J100 -> 0 | L100: =ROUND(E100*F100,2) -> 0 | M100: =ROUND(E100*H100,2) -> 0 | N100: =ROUND(E100*I100,2) -> 0 | O100: =ROUND(E100*J100,2) -> 0 | P100: =SUM(M100:O100) -> 0
A101: 89 | B101: l.c. | C101: Minerālmateriālu pamata vapakškārta,maisījums 0/63ps (AADTi, smagie >500),h=25cm | D101: m2 | E101: 144 | K101: =H101+I101+J101 -> 0 | L101: =ROUND(E101*F101,2) -> 0 | M101: =ROUND(E101*H101,2) -> 0 | N101: =ROUND(E101*I101,2) -> 0 | O101: =ROUND(E101*J101,2) -> 0 | P101: =SUM(M101:O101) -> 0
A102: 90 | B102: l.c. | C102: Salizturīgās kārtas minerālmateriāli nestspējai ≥90 Mpa,h=50cm | D102: m2 | E102: 144 | K102: =H102+I102+J102 -> 0 | L102: =ROUND(E102*F102,2) -> 0 | M102: =ROUND(E102*H102,2) -> 0 | N102: =ROUND(E102*I102,2) -> 0 | O102: =ROUND(E102*J102,2) -> 0 | P102: =SUM(M102:O102) -> 0
A103: 91 | B103: l.c. | C103: Ceļa betona apmale 100x30x15 cm | D103: m | E103: 60.5 | K103: =H103+I103+J103 -> 0 | L103: =ROUND(E103*F103,2) -> 0 | M103: =ROUND(E103*H103,2) -> 0 | N103: =ROUND(E103*I103,2) -> 0 | O103: =ROUND(E103*J103,2) -> 0 | P103: =SUM(M103:O103) -> 0
A104: 92 | B104: l.c. | C104: Grants seguma atjaunošana | D104: m2 | K104: =H104+I104+J104 -> 0 | L104: =ROUND(E104*F104,2) -> 0 | M104: =ROUND(E104*H104,2) -> 0 | N104: =ROUND(E104*I104,2) -> 0 | O104: =ROUND(E104*J104,2) -> 0 | P104: =SUM(M104:O104) -> 0
A105: 93 | B105: l.c. | C105: Minerālmateriālu maisījums 0/32s (AADTj , pievestā >100),h=18cm | D105: m2 | E105: 36 | K105: =H105+I105+J105 -> 0 | L105: =ROUND(E105*F105,2) -> 0 | M105: =ROUND(E105*H105,2) -> 0 | N105: =ROUND(E105*I105,2) -> 0 | O105: =ROUND(E105*J105,2) -> 0 | P105: =SUM(M105:O105) -> 0
A106: 94 | B106: l.c. | C106: Ceļa marķējumu atjaunošana | D106: kpl. | E106: 1 | K106: =H106+I106+J106 -> 0 | L106: =ROUND(E106*F106,2) -> 0 | M106: =ROUND(E106*H106,2) -> 0 | N106: =ROUND(E106*I106,2) -> 0 | O106: =ROUND(E106*J106,2) -> 0 | P106: =SUM(M106:O106) -> 0
A107: 95 | C107: Zāliena atjaunošana | U107: apmales
A108: 96 | B108: l.c. | C108: Augu zeme,zālāju sēklas un mēslojums,h=15cm | D108: m2 | E108: 462 | K108: =H108+I108+J108 -> 0 | L108: =ROUND(E108*F108,2) -> 0 | M108: =ROUND(E108*H108,2) -> 0 | N108: =ROUND(E108*I108,2) -> 0 | O108: =ROUND(E108*J108,2) -> 0 | P108: =SUM(M108:O108) -> 0 | T108: =SUM(T109:T110) -> 104.67744 | U108: =SUM(U109:U110) -> 129.52
A109: 97 | B109: l.c. | C109: Jauna žoga izbūve atbilstoši esošajam vizuālajam risinājumam,t.sk. žoga pamati,savienojumi u.c., piem,h=1.5m | D109: m | E109: 20 | K109: =H109+I109+J109 -> 0 | L109: =ROUND(E109*F109,2) -> 0 | M109: =ROUND(E109*H109,2) -> 0 | N109: =ROUND(E109*I109,2) -> 0 | O109: =ROUND(E109*J109,2) -> 0 | P109: =SUM(M109:O109) -> 0 | R109: 3.108 | S109: 1.684 | T109: =R109*S109*E109 -> 104.67744 | U109: =R109*E109+S109*2*E109 -> 129.52
A110: 98 | C110: Jauna bruģa laukuma izbūve ap jauno KSS-1, atbilstoši esošjam vizuālajam risinājumam | R110: 2.08 | S110: 1.684 | T110: =R110*S110*E110 -> 0 | U110: =R110*E110+S110*2*E110 -> 0
A111: 99 | B111: l.c. | C111: Betona bruģakmens,h=8cm | D111: m2 | E111: 140 | K111: =H111+I111+J111 -> 0 | L111: =ROUND(E111*F111,2) -> 0 | M111: =ROUND(E111*H111,2) -> 0 | N111: =ROUND(E111*I111,2) -> 0 | O111: =ROUND(E111*J111,2) -> 0 | P111: =SUM(M111:O111) -> 0
A112: 100 | B112: l.c. | C112: Izlīdzinošais sīkšķembu slānis, fr.3/8mm, h=5cm | D112: m2 | E112: 140 | K112: =H112+I112+J112 -> 0 | L112: =ROUND(E112*F112,2) -> 0 | M112: =ROUND(E112*H112,2) -> 0 | N112: =ROUND(E112*I112,2) -> 0 | O112: =ROUND(E112*J112,2) -> 0 | P112: =SUM(M112:O112) -> 0
A113: 101 | B113: l.c. | C113: Nesaistīta minerālmateriāla maisījuma pamata virskārta, fr.0/45mm,h=15cm | D113: m2 | E113: 140 | K113: =H113+I113+J113 -> 0 | L113: =ROUND(E113*F113,2) -> 0 | M113: =ROUND(E113*H113,2) -> 0 | N113: =ROUND(E113*I113,2) -> 0 | O113: =ROUND(E113*J113,2) -> 0 | P113: =SUM(M113:O113) -> 0
A114: 102 | B114: l.c. | C114: Nesaistīta minerālmateriāla maisījuma pamata apakškārta fr.0/56mm, h=20cm | D114: m2 | E114: 140 | K114: =H114+I114+J114 -> 0 | L114: =ROUND(E114*F114,2) -> 0 | M114: =ROUND(E114*H114,2) -> 0 | N114: =ROUND(E114*I114,2) -> 0 | O114: =ROUND(E114*J114,2) -> 0 | P114: =SUM(M114:O114) -> 0
A115: 103 | B115: l.c. | C115: Salizturīga smilts,kf > 1 m/dn,h=40cm | D115: m2 | E115: 140 | K115: =H115+I115+J115 -> 0 | L115: =ROUND(E115*F115,2) -> 0 | M115: =ROUND(E115*H115,2) -> 0 | N115: =ROUND(E115*I115,2) -> 0 | O115: =ROUND(E115*J115,2) -> 0 | P115: =SUM(M115:O115) -> 0
A116: 104 | B116: l.c. | C116: Esošo koku sakņu izraušana, utilizācija (bez koku ciršanas) | D116: gb | E116: 9 | K116: =H116+I116+J116 -> 0 | L116: =ROUND(E116*F116,2) -> 0 | M116: =ROUND(E116*H116,2) -> 0 | N116: =ROUND(E116*I116,2) -> 0 | O116: =ROUND(E116*J116,2) -> 0 | P116: =SUM(M116:O116) -> 0
A117: 105 | B117: l.c. | C117: Trases nospraušana | D117: m | E117: 937.8 | K117: =H117+I117+J117 -> 0 | L117: =ROUND(E117*F117,2) -> 0 | M117: =ROUND(E117*H117,2) -> 0 | N117: =ROUND(E117*I117,2) -> 0 | O117: =ROUND(E117*J117,2) -> 0 | P117: =SUM(M117:O117) -> 0
A118: 106 | B118: l.c. | C118: Tranšeju nožogojumi | D118: kpl. | E118: 1 | K118: =H118+I118+J118 -> 0 | L118: =ROUND(E118*F118,2) -> 0 | M118: =ROUND(E118*H118,2) -> 0 | N118: =ROUND(E118*I118,2) -> 0 | O118: =ROUND(E118*J118,2) -> 0 | P118: =SUM(M118:O118) -> 0
A119: 107 | B119: l.c. | C119: Izpildokumentācijas sagatavošana (digitāla versija) | D119: kpl. | E119: 1 | K119: =H119+I119+J119 -> 0 | L119: =ROUND(E119*F119,2) -> 0 | M119: =ROUND(E119*H119,2) -> 0 | N119: =ROUND(E119*I119,2) -> 0 | O119: =ROUND(E119*J119,2) -> 0 | P119: =SUM(M119:O119) -> 0
H121: Tiešās izmaksas kopā, t.sk. darba devēja sociālais nodoklis 23.59% : | L121: =SUM(L11:L120) -> 0 | M121: =SUM(M11:M120) -> 0 | N121: =SUM(N11:N120) -> 0 | O121: =SUM(O11:O120) -> 0 | P121: =SUM(P11:P120) -> 0
C123: Piezīmes:
C124: 1.Sagatavojot Finanšu piedāvājumu, Pretendentam ir jāņem vērā, ka būvdarbu izpildei nepieciešamos materiālus – lūku pārsedzes (tikai ķeta elementus) un kapes (ar apakšējo atbalsta plātni) ar SIA “Rīgas ūdens” logo – nodrošina Pasūtītājs. Pretendentam Finanšu piedāvājumā šo materiālu izmaksas jāparedz EUR 0,00 vērtībā.
C125: 2.Finanšu piedāvājumā jāiekļauj darbaspēka, materiālu, iekārtu, aprīkojuma un visu citu iespējamo Darbu izpildes izdevumu izmaksas. Pretendents nav tiesīgs Finanšu piedāvājuma tāmi papildināt ar jaunām izmaksu pozīcijām vai dzēst esošās izmaksu pozīcijas.
C126: 3. Finanšu piedāvājumā aprēķinus jāveic formulās ar noapaļojumu divi cipari aiz komata (jāizmanto funkcija “round”).
C127: 4. Finanšu piedāvājumā vienības cenas darba algas izmaksas aprēķinu jāveic pēc formulas “laika norma x stundas likme = alga”.
C128: 5. Finanšu piedāvājumā katras pozīcijas darba algas, būvizstrādājumu un mehānismu kopējās izmaksas aprēķinu jāveic pēc formulas “kopējais apjoms x vienības izmaksas”.
A130: Sastādīja
C131: (paraksts un tā atšifrējums, datums)
A134: Pārbaudīja
C135: (paraksts un tā atšifrējums, datums)
B136: Sertifikāta Nr.

Sheet 4-2 BK 4. kārta
A1: Lokālā tāme Nr. 4-2
A2: BŪVKONSTRUKCIJAS 4. KĀRTA
A3: =KOPTĀME!A10 -> Objekta nosaukums: Ūdensvada un kanalizācijas izbūve Mazajā Juglas ielā, 4.kārta
A4: =KOPTĀME!A11 -> Būves nosaukums: Ūdensvada un kanalizācijas izbūve Mazajā Juglas ielā,4.kārta
A5: =KOPTĀME!A12 -> Objekta adrese: Malienas iela, Ūdeļu iela 4 | M5: Tāmes izmaksas | O5: =P34 -> 0 | P5: Euro
A6: Pasūtījuma Nr.:
A8: Nr.p.k. | B8: Kods | C8: Darba nosaukums | D8: Mērvienība | E8: Daudzums | F8: Vienības izmaksas | L8: Kopā uz visu apjomu
F9: Laika norma (c/h) | G9: Darba samaksas likme* (Euro/h) | H9: Darba alga (Euro) | I9: Būvizstrādājumi (Euro) | J9: Mehānismi (Euro) | K9: Kopā (Euro) | L9: Darbietilpība (c/h) | M9: Darba alga (Euro) | N9: Būvizstrādājumi (Euro) | O9: Mehānismi (Euro) | P9: Summa (Euro)
A10: 1 | B10: 2 | C10: 3 | D10: 4 | E10: 5 | F10: 6 | G10: 7 | H10: 8 | I10: 9 | J10: 10 | K10: 11 | L10: 12 | M10: 13 | N10: 14 | O10: 15 | P10: 16
C12: Būvkonstrukcijas
A13: 1 | B13: l.c. | C13: Ģeodēzijas darbi, asu nospraušana | D13: kpl | E13: 1 | K13: =H13+I13+J13 -> 0 | L13: =ROUND(E13*F13,2) -> 0 | M13: =ROUND(E13*H13,2) -> 0 | N13: =ROUND(E13*I13,2) -> 0 | O13: =ROUND(E13*J13,2) -> 0 | P13: =SUM(M13:O13) -> 0
A14: 2 | B14: l.c. | C14: Asu iznesumu izveidošana ar kokmateriālu | D14: kpl | E14: 1 | K14: =H14+I14+J14 -> 0 | L14: =ROUND(E14*F14,2) -> 0 | M14: =ROUND(E14*H14,2) -> 0 | N14: =ROUND(E14*I14,2) -> 0 | O14: =ROUND(E14*J14,2) -> 0 | P14: =SUM(M14:O14) -> 0
A15: 3 | B15: l.c. | C15: Gruntsūdens pazemināšana KSS izbūvei | D15: kpl | E15: 1 | K15: =H15+I15+J15 -> 0 | L15: =ROUND(E15*F15,2) -> 0 | M15: =ROUND(E15*H15,2) -> 0 | N15: =ROUND(E15*I15,2) -> 0 | O15: =ROUND(E15*J15,2) -> 0 | P15: =SUM(M15:O15) -> 0
A16: 4 | B16: l.c. | C16: Rievsienas montāža un demontāža Larssen PU12 vai ekvivalents, ieskaitot nostiprināšanas sijas, kolonnas, atgāžņus atbilstoši rasējumiem BK-J-01.0...BK-J-04.00 | D16: kpl | E16: 1 | K16: =H16+I16+J16 -> 0 | L16: =ROUND(E16*F16,2) -> 0 | M16: =ROUND(E16*H16,2) -> 0 | N16: =ROUND(E16*I16,2) -> 0 | O16: =ROUND(E16*J16,2) -> 0 | P16: =SUM(M16:O16) -> 0
A17: 5 | B17: l.c. | C17: Grunts rakšana pamatu izbūvei | D17: m3 | E17: 246.42 | K17: =H17+I17+J17 -> 0 | L17: =ROUND(E17*F17,2) -> 0 | M17: =ROUND(E17*H17,2) -> 0 | N17: =ROUND(E17*I17,2) -> 0 | O17: =ROUND(E17*J17,2) -> 0 | P17: =SUM(M17:O17) -> 0
A18: 6 | B18: l.c. | C18: Grunts iekraušana autotransportā, izvešana uz izgāztuvi līdz 15km attālumā, utilizācija | D18: m3 | E18: 320.35 | K18: =H18+I18+J18 -> 0 | L18: =ROUND(E18*F18,2) -> 0 | M18: =ROUND(E18*H18,2) -> 0 | N18: =ROUND(E18*I18,2) -> 0 | O18: =ROUND(E18*J18,2) -> 0 | P18: =SUM(M18:O18) -> 0
A19: 7 | B19: l.c. | C19: Esošās grunts pamatnes blietēšana | D19: m2 | E19: 30.8 | K19: =H19+I19+J19 -> 0 | L19: =ROUND(E19*F19,2) -> 0 | M19: =ROUND(E19*H19,2) -> 0 | N19: =ROUND(E19*I19,2) -> 0 | O19: =ROUND(E19*J19,2) -> 0 | P19: =SUM(M19:O19) -> 0
A20: 8 | B20: l.c. | C20: Blietes īre (1gb) | D20: kpl | E20: 1 | K20: =H20+I20+J20 -> 0 | L20: =ROUND(E20*F20,2) -> 0 | M20: =ROUND(E20*H20,2) -> 0 | N20: =ROUND(E20*I20,2) -> 0 | O20: =ROUND(E20*J20,2) -> 0 | P20: =SUM(M20:O20) -> 0
A21: 9 | B21: l.c. | C21: Šķembas b=150mm kārtas izveidošana zem pamatu plātnes, ieskaitot blietēšanu ar mehānismiem | D21: m3 | E21: 2.5 | K21: =H21+I21+J21 -> 0 | L21: =ROUND(E21*F21,2) -> 0 | M21: =ROUND(E21*H21,2) -> 0 | N21: =ROUND(E21*I21,2) -> 0 | O21: =ROUND(E21*J21,2) -> 0 | P21: =SUM(M21:O21) -> 0
A22: 10 | B22: l.c. | C22: Šķembas (fr.20/40mm) ar piegādi | D22: m3 | E22: 3.25 | K22: =H22+I22+J22 -> 0 | L22: =ROUND(E22*F22,2) -> 0 | M22: =ROUND(E22*H22,2) -> 0 | N22: =ROUND(E22*I22,2) -> 0 | O22: =ROUND(E22*J22,2) -> 0 | P22: =SUM(M22:O22) -> 0
A23: 11 | B23: l.c. | C23: Blietes īre (1gb) | D23: kpl | E23: 1 | K23: =H23+I23+J23 -> 0 | L23: =ROUND(E23*F23,2) -> 0 | M23: =ROUND(E23*H23,2) -> 0 | N23: =ROUND(E23*I23,2) -> 0 | O23: =ROUND(E23*J23,2) -> 0 | P23: =SUM(M23:O23) -> 0
A24: 12 | B24: l.c. | C24: Pamatu plātnes armēšana izveidojot stiegru karkasu | D24: m | E24: 351.1 | K24: =H24+I24+J24 -> 0 | L24: =ROUND(E24*F24,2) -> 0 | M24: =ROUND(E24*H24,2) -> 0 | N24: =ROUND(E24*I24,2) -> 0 | O24: =ROUND(E24*J24,2) -> 0 | P24: =SUM(M24:O24) -> 0
... A32: 20 | B32: l.c. | C32: Blietes īre (1gb) | D32: kpl | E32: 1 | K32: =H32+I32+J32 -> 0 | L32: =ROUND(E32*F32,2) -> 0 | M32: =ROUND(E32*H32,2) -> 0 | N32: =ROUND(E32*I32,2) -> 0 | O32: =ROUND(E32*J32,2) -> 0 | P32: =SUM(M32:O32) -> 0
H34: Tiešās izmaksas kopā, t.sk. darba devēja sociālais nodoklis 23.59% : | L34: =SUM(L11:L33) -> 0 | M34: =SUM(M11:M33) -> 0 | N34: =SUM(N11:N33) -> 0 | O34: =SUM(O11:O33) -> 0 | P34: =SUM(P11:P33) -> 0
C36: Piezīmes:
C37: 1.Sagatavojot Finanšu piedāvājumu, Pretendentam ir jāņem vērā, ka būvdarbu izpildei nepieciešamos materiālus – lūku pārsedzes (tikai ķeta elementus) un kapes (ar apakšējo atbalsta plātni) ar SIA “Rīgas ūdens” logo – nodrošina Pasūtītājs. Pretendentam Finanšu piedāvājumā šo materiālu izmaksas jāparedz EUR 0,00 vērtībā.
C38: 2.Finanšu piedāvājumā jāiekļauj darbaspēka, materiālu, iekārtu, aprīkojuma un visu citu iespējamo Darbu izpildes izdevumu izmaksas. Pretendents nav tiesīgs Finanšu piedāvājuma tāmi papildināt ar jaunām izmaksu pozīcijām vai dzēst esošās izmaksu pozīcijas.
C39: 3. Finanšu piedāvājumā aprēķinus jāveic formulās ar noapaļojumu divi cipari aiz komata (jāizmanto funkcija “round”).
C40: 4. Finanšu piedāvājumā vienības cenas darba algas izmaksas aprēķinu jāveic pēc formulas “laika norma x stundas likme = alga”.
C41: 5. Finanšu piedāvājumā katras pozīcijas darba algas, būvizstrādājumu un mehānismu kopējās izmaksas aprēķinu jāveic pēc formulas “kopējais apjoms x vienības izmaksas”.
A43: Sastādīja
C44: (paraksts un tā atšifrējums, datums)
A47: Pārbaudīja
C48: (paraksts un tā atšifrējums, datums)
B49: Sertifikāta Nr.

Sheet 4-3 KSS 4. kārta
A1: Lokālā tāme Nr. 4-3
A2: KSS 4. KĀRTA
A3: =KOPTĀME!A10 -> Objekta nosaukums: Ūdensvada un kanalizācijas izbūve Mazajā Juglas ielā, 4.kārta
A4: =KOPTĀME!A11 -> Būves nosaukums: Ūdensvada un kanalizācijas izbūve Mazajā Juglas ielā,4.kārta
A5: =KOPTĀME!A12 -> Objekta adrese: Malienas iela, Ūdeļu iela 4 | M5: Tāmes izmaksas | O5: =P83 -> 0 | P5: Euro
A6: Pasūtījuma Nr.:
A8: Nr.p.k. | B8: Kods | C8: Darba nosaukums | D8: Mērvienība | E8: Daudzums | F8: Vienības izmaksas | L8: Kopā uz visu apjomu
F9: Laika norma (c/h) | G9: Darba samaksas likme* (Euro/h) | H9: Darba alga (Euro) | I9: Būvizstrādājumi (Euro) | J9: Mehānismi (Euro) | K9: Kopā (Euro) | L9: Darbietilpība (c/h) | M9: Darba alga (Euro) | N9: Būvizstrādājumi (Euro) | O9: Mehānismi (Euro) | P9: Summa (Euro)
A10: 1 | B10: 2 | C10: 3 | D10: 4 | E10: 5 | F10: 6 | G10: 7 | H10: 8 | I10: 9 | J10: 10 | K10: 11 | L10: 12 | M10: 13 | N10: 14 | O10: 15 | P10: 16
C12: TN-2
A13: 1 | B13: l.c. | C13: Tvertne, GRP, Ø 2800x 6825 vai ekv. | D13: kpl | E13: 1 | K13: =H13+I13+J13 -> 0 | L13: =ROUND(E13*F13,2) -> 0 | M13: =ROUND(E13*H13,2) -> 0 | N13: =ROUND(E13*I13,2) -> 0 | O13: =ROUND(E13*J13,2) -> 0 | P13: =SUM(M13:O13) -> 0
A14: 2 | B14: l.c. | C14: Sūkņa pēda, DN200 | D14: kpl | E14: 2 | K14: =H14+I14+J14 -> 0 | L14: =ROUND(E14*F14,2) -> 0 | M14: =ROUND(E14*H14,2) -> 0 | N14: =ROUND(E14*I14,2) -> 0 | O14: =ROUND(E14*J14,2) -> 0 | P14: =SUM(M14:O14) -> 0
A15: 3 | B15: l.c. | C15: Spiediena caurules, DN200, EN1.4301 | D15: kpl | E15: 1 | K15: =H15+I15+J15 -> 0 | L15: =ROUND(E15*F15,2) -> 0 | M15: =ROUND(E15*H15,2) -> 0 | N15: =ROUND(E15*I15,2) -> 0 | O15: =ROUND(E15*J15,2) -> 0 | P15: =SUM(M15:O15) -> 0
A16: 4 | B16: l.c. | C16: Vadules, S235 cinkotas | D16: kpl | E16: 4 | K16: =H16+I16+J16 -> 0 | L16: =ROUND(E16*F16,2) -> 0 | M16: =ROUND(E16*H16,2) -> 0 | N16: =ROUND(E16*I16,2) -> 0 | O16: =ROUND(E16*J16,2) -> 0 | P16: =SUM(M16:O16) -> 0
A17: 5 | B17: l.c. | C17: Kronšteins | D17: kpl | E17: 2 | K17: =H17+I17+J17 -> 0 | L17: =ROUND(E17*F17,2) -> 0 | M17: =ROUND(E17*H17,2) -> 0 | N17: =ROUND(E17*I17,2) -> 0 | O17: =ROUND(E17*J17,2) -> 0 | P17: =SUM(M17:O17) -> 0
A18: 6 | B18: l.c. | C18: Šķērsstienis, 100x70 | D18: kpl | E18: 1 | K18: =H18+I18+J18 -> 0 | L18: =ROUND(E18*F18,2) -> 0 | M18: =ROUND(E18*H18,2) -> 0 | N18: =ROUND(E18*I18,2) -> 0 | O18: =ROUND(E18*J18,2) -> 0 | P18: =SUM(M18:O18) -> 0
A19: 7 | B19: l.c. | C19: Izplūdes caurule, DN200, EN1.4301 | D19: kpl | E19: 2 | K19: =H19+I19+J19 -> 0 | L19: =ROUND(E19*F19,2) -> 0 | M19: =ROUND(E19*H19,2) -> 0 | N19: =ROUND(E19*I19,2) -> 0 | O19: =ROUND(E19*J19,2) -> 0 | P19: =SUM(M19:O19) -> 0
A20: 8 | B20: l.c. | C20: Austiņas pacelšanai, S235 cinkots | D20: kpl | E20: 4 | K20: =H20+I20+J20 -> 0 | L20: =ROUND(E20*F20,2) -> 0 | M20: =ROUND(E20*H20,2) -> 0 | N20: =ROUND(E20*I20,2) -> 0 | O20: =ROUND(E20*J20,2) -> 0 | P20: =SUM(M20:O20) -> 0
A21: 9 | B21: l.c. | C21: Ventilācijas caurule, PVC, Ø110 | D21: kpl | E21: 1 | K21: =H21+I21+J21 -> 0 | L21: =ROUND(E21*F21,2) -> 0 | M21: =ROUND(E21*H21,2) -> 0 | N21: =ROUND(E21*I21,2) -> 0 | O21: =ROUND(E21*J21,2) -> 0 | P21: =SUM(M21:O21) -> 0
A22: 10 | B22: l.c. | C22: Pretvārsts, DN200 | D22: kpl | E22: 2 | K22: =H22+I22+J22 -> 0 | L22: =ROUND(E22*F22,2) -> 0 | M22: =ROUND(E22*H22,2) -> 0 | N22: =ROUND(E22*I22,2) -> 0 | O22: =ROUND(E22*J22,2) -> 0 | P22: =SUM(M22:O22) -> 0
A23: 11 | B23: l.c. | C23: Aizbīdnis, DN200 | D23: kpl | E23: 2 | K23: =H23+I23+J23 -> 0 | L23: =ROUND(E23*F23,2) -> 0 | M23: =ROUND(E23*H23,2) -> 0 | N23: =ROUND(E23*I23,2) -> 0 | O23: =ROUND(E23*J23,2) -> 0 | P23: =SUM(M23:O23) -> 0
A24: 12 | B24: l.c. | C24: Lodveida krāns, 1/2 " (DN15) | D24: kpl | E24: 2 | K24: =H24+I24+J24 -> 0 | L24: =ROUND(E24*F24,2) -> 0 | M24: =ROUND(E24*H24,2) -> 0 | N24: =ROUND(E24*I24,2) -> 0 | O24: =ROUND(E24*J24,2) -> 0 | P24: =SUM(M24:O24) -> 0
... A44: 32 | B44: l.c. | C44: Automātiskais uzduļķošanas vārsts, FLYGT 4901 vai ekvivalents | D44: kpl | E44: 1 | K44: =H44+I44+J44 -> 0 | L44: =ROUND(E44*F44,2) -> 0 | M44: =ROUND(E44*H44,2) -> 0 | N44: =ROUND(E44*I44,2) -> 0 | O44: =ROUND(E44*J44,2) -> 0 | P44: =SUM(M44:O44) -> 0
C46: TN-3
A47: 33 | B47: l.c. | C47: Atloku trejgabals, KKE, DN200/200 | D47: kpl | E47: 2 | K47: =H47+I47+J47 -> 0 | L47: =ROUND(E47*F47,2) -> 0 | M47: =ROUND(E47*H47,2) -> 0 | N47: =ROUND(E47*I47,2) -> 0 | O47: =ROUND(E47*J47,2) -> 0 | P47: =SUM(M47:O47) -> 0
A48: 34 | B48: l.c. | C48: Atloku ķīļveida aizbīdnis, KKE, PN10 ar rokratu, DN200 | D48: kpl | E48: 3 | K48: =H48+I48+J48 -> 0 | L48: =ROUND(E48*F48,2) -> 0 | M48: =ROUND(E48*H48,2) -> 0 | N48: =ROUND(E48*I48,2) -> 0 | O48: =ROUND(E48*J48,2) -> 0 | P48: =SUM(M48:O48) -> 0
A49: 35 | B49: l.c. | C49: Atloku ķīļveida aizbīdnis, KKE, PN10 ar rokratu, DN250 | D49: kpl | E49: 2 | K49: =H49+I49+J49 -> 0 | L49: =ROUND(E49*F49,2) -> 0 | M49: =ROUND(E49*H49,2) -> 0 | N49: =ROUND(E49*I49,2) -> 0 | O49: =ROUND(E49*J49,2) -> 0 | P49: =SUM(M49:O49) -> 0
A50: 36 | B50: l.c. | C50: Atloku adapteris, KKE, PN10, DN250 | D50: kpl | E50: 9 | K50: =H50+I50+J50 -> 0 | L50: =ROUND(E50*F50,2) -> 0 | M50: =ROUND(E50*H50,2) -> 0 | N50: =ROUND(E50*I50,2) -> 0 | O50: =ROUND(E50*J50,2) -> 0 | P50: =SUM(M50:O50) -> 0
A51: 37 | B51: l.c. | C51: Atloku adapteris, KKE, PN10, DN200 | D51: kpl | E51: 9 | K51: =H51+I51+J51 -> 0 | L51: =ROUND(E51*F51,2) -> 0 | M51: =ROUND(E51*H51,2) -> 0 | N51: =ROUND(E51*I51,2) -> 0 | O51: =ROUND(E51*J51,2) -> 0 | P51: =SUM(M51:O51) -> 0
A52: 38 | B52: l.c. | C52: Atloku diematru pāreja, KKE, PN10, DN250/200 | D52: kpl | E52: 1 | K52: =H52+I52+J52 -> 0 | L52: =ROUND(E52*F52,2) -> 0 | M52: =ROUND(E52*H52,2) -> 0 | N52: =ROUND(E52*I52,2) -> 0 | O52: =ROUND(E52*J52,2) -> 0 | P52: =SUM(M52:O52) -> 0
A53: 39 | B53: l.c. | C53: Atloku īscaurule,KKE, PN10, DN200 | D53: kpl | E53: 1 | K53: =H53+I53+J53 -> 0 | L53: =ROUND(E53*F53,2) -> 0 | M53: =ROUND(E53*H53,2) -> 0 | N53: =ROUND(E53*I53,2) -> 0 | O53: =ROUND(E53*J53,2) -> 0 | P53: =SUM(M53:O53) -> 0
A54: 40 | B54: l.c. | C54: Atloku līkums 90°, KKE, PN10, DN250 | D54: kpl | E54: 1 | K54: =H54+I54+J54 -> 0 | L54: =ROUND(E54*F54,2) -> 0 | M54: =ROUND(E54*H54,2) -> 0 | N54: =ROUND(E54*I54,2) -> 0 | O54: =ROUND(E54*J54,2) -> 0 | P54: =SUM(M54:O54) -> 0
A55: 41 | B55: l.c. | C55: Atloku līkums 90°, KKE, PN10, DN200 | D55: kpl | E55: 1 | K55: =H55+I55+J55 -> 0 | L55: =ROUND(E55*F55,2) -> 0 | M55: =ROUND(E55*H55,2) -> 0 | N55: =ROUND(E55*I55,2) -> 0 | O55: =ROUND(E55*J55,2) -> 0 | P55: =SUM(M55:O55) -> 0
A56: 42 | B56: l.c. | C56: OPTIFLUX 2300 W, DN250, Sensora OPTIFLUX 2000F Signalu pārveidotāja IFC 300W | D56: kpl | E56: 1 | K56: =H56+I56+J56 -> 0 | L56: =ROUND(E56*F56,2) -> 0 | M56: =ROUND(E56*H56,2) -> 0 | N56: =ROUND(E56*I56,2) -> 0 | O56: =ROUND(E56*J56,2) -> 0 | P56: =SUM(M56:O56) -> 0
A57: 43 | B57: l.c. | C57: OPTIFLUX 2300 W, DN200, Sensora OPTIFLUX 2000F Signalu pārveidotāja IFC 300W | D57: kpl | E57: 1 | K57: =H57+I57+J57 -> 0 | L57: =ROUND(E57*F57,2) -> 0 | M57: =ROUND(E57*H57,2) -> 0 | N57: =ROUND(E57*I57,2) -> 0 | O57: =ROUND(E57*J57,2) -> 0 | P57: =SUM(M57:O57) -> 0
A58: 44 | B58: l.c. | C58: Aizsargčaula | D58: kpl | E58: 3 | K58: =H58+I58+J58 -> 0 | L58: =ROUND(E58*F58,2) -> 0 | M58: =ROUND(E58*H58,2) -> 0 | N58: =ROUND(E58*I58,2) -> 0 | O58: =ROUND(E58*J58,2) -> 0 | P58: =SUM(M58:O58) -> 0
... A64: 50 | B64: l.c. | C64: Atbalsta bloks | D64: kpl | E64: 9 | K64: =H64+I64+J64 -> 0 | L64: =ROUND(E64*F64,2) -> 0 | M64: =ROUND(E64*H64,2) -> 0 | N64: =ROUND(E64*I64,2) -> 0 | O64: =ROUND(E64*J64,2) -> 0 | P64: =SUM(M64:O64) -> 0
C66: TN-4
A67: 51 | B67: l.c. | C67: Scan-plast vai ekvivalents sūkņu stacijas virszemes paviljons, 2615x2615x2400mm, Divslīpu 20grādu jumts,sienas u.c. (skat. TN-4) | D67: kpl | E67: 1 | K67: =H67+I67+J67 -> 0 | L67: =ROUND(E67*F67,2) -> 0 | M67: =ROUND(E67*H67,2) -> 0 | N67: =ROUND(E67*I67,2) -> 0 | O67: =ROUND(E67*J67,2) -> 0 | P67: =SUM(M67:O67) -> 0
A68: 52 | B68: l.c. | C68: Telfera sija IPN120, max 1000 kg, ar pacelš. meh. | D68: kpl | E68: 1 | K68: =H68+I68+J68 -> 0 | L68: =ROUND(E68*F68,2) -> 0 | M68: =ROUND(E68*H68,2) -> 0 | N68: =ROUND(E68*I68,2) -> 0 | O68: =ROUND(E68*J68,2) -> 0 | P68: =SUM(M68:O68) -> 0
A69: 53 | B69: l.c. | C69: Manuālais telferis ar ķēdi 10m, DN200, 1000kg | D69: kpl | E69: 1 | K69: =H69+I69+J69 -> 0 | L69: =ROUND(E69*F69,2) -> 0 | M69: =ROUND(E69*H69,2) -> 0 | N69: =ROUND(E69*I69,2) -> 0 | O69: =ROUND(E69*J69,2) -> 0 | P69: =SUM(M69:O69) -> 0
A70: 54 | B70: l.c. | C70: Metāla durvis, EI30, 960x2050mm | D70: kpl | E70: 1 | K70: =H70+I70+J70 -> 0 | L70: =ROUND(E70*F70,2) -> 0 | M70: =ROUND(E70*H70,2) -> 0 | N70: =ROUND(E70*I70,2) -> 0 | O70: =ROUND(E70*J70,2) -> 0 | P70: =SUM(M70:O70) -> 0
A71: 55 | B71: l.c. | C71: Atkritumu grozs | D71: kpl | E71: 1 | K71: =H71+I71+J71 -> 0 | L71: =ROUND(E71*F71,2) -> 0 | M71: =ROUND(E71*H71,2) -> 0 | N71: =ROUND(E71*I71,2) -> 0 | O71: =ROUND(E71*J71,2) -> 0 | P71: =SUM(M71:O71) -> 0
A72: 56 | B72: l.c. | C72: El.radiators, 1000W | D72: kpl | E72: 1 | K72: =H72+I72+J72 -> 0 | L72: =ROUND(E72*F72,2) -> 0 | M72: =ROUND(E72*H72,2) -> 0 | N72: =ROUND(E72*I72,2) -> 0 | O72: =ROUND(E72*J72,2) -> 0 | P72: =SUM(M72:O72) -> 0
A73: 57 | B73: l.c. | C73: Ūdens sildītājs, Clage M3/SMB vai ekvivalents | D73: kpl | E73: 1 | K73: =H73+I73+J73 -> 0 | L73: =ROUND(E73*F73,2) -> 0 | M73: =ROUND(E73*H73,2) -> 0 | N73: =ROUND(E73*I73,2) -> 0 | O73: =ROUND(E73*J73,2) -> 0 | P73: =SUM(M73:O73) -> 0
A74: 58 | B74: l.c. | C74: Izlietne | D74: kpl | E74: 1 | K74: =H74+I74+J74 -> 0 | L74: =ROUND(E74*F74,2) -> 0 | M74: =ROUND(E74*H74,2) -> 0 | N74: =ROUND(E74*I74,2) -> 0 | O74: =ROUND(E74*J74,2) -> 0 | P74: =SUM(M74:O74) -> 0
A75: 59 | B75: l.c. | C75: Šķidro ziepju dozators | D75: kpl | E75: 1 | K75: =H75+I75+J75 -> 0 | L75: =ROUND(E75*F75,2) -> 0 | M75: =ROUND(E75*H75,2) -> 0 | N75: =ROUND(E75*I75,2) -> 0 | O75: =ROUND(E75*J75,2) -> 0 | P75: =SUM(M75:O75) -> 0
A76: 60 | B76: l.c. | C76: Papīra dvieļu turētājs | D76: kpl | E76: 1 | K76: =H76+I76+J76 -> 0 | L76: =ROUND(E76*F76,2) -> 0 | M76: =ROUND(E76*H76,2) -> 0 | N76: =ROUND(E76*I76,2) -> 0 | O76: =ROUND(E76*J76,2) -> 0 | P76: =SUM(M76:O76) -> 0
A77: 61 | B77: l.c. | C77: Krāns ar šļūteni 10m | D77: kpl | E77: 1 | K77: =H77+I77+J77 -> 0 | L77: =ROUND(E77*F77,2) -> 0 | M77: =ROUND(E77*H77,2) -> 0 | N77: =ROUND(E77*I77,2) -> 0 | O77: =ROUND(E77*J77,2) -> 0 | P77: =SUM(M77:O77) -> 0
A78: 62 | B78: l.c. | C78: Ventilācijas caurule PVC, DN100, Ar elektrisko kanāluventilātoru TD 250/100, savienoj un restes | D78: kpl | E78: 1 | K78: =H78+I78+J78 -> 0 | L78: =ROUND(E78*F78,2) -> 0 | M78: =ROUND(E78*H78,2) -> 0 | N78: =ROUND(E78*I78,2) -> 0 | O78: =ROUND(E78*J78,2) -> 0 | P78: =SUM(M78:O78) -> 0
... A81: 65 | B81: l.c. | C81: Ārējais apgaismojums, 60W | D81: kpl | E81: 1 | K81: =H81+I81+J81 -> 0 | L81: =ROUND(E81*F81,2) -> 0 | M81: =ROUND(E81*H81,2) -> 0 | N81: =ROUND(E81*I81,2) -> 0 | O81: =ROUND(E81*J81,2) -> 0 | P81: =SUM(M81:O81) -> 0
H83: Tiešās izmaksas kopā, t.sk. darba devēja sociālais nodoklis 23.59% : | L83: =SUM(L11:L82) -> 0 | M83: =SUM(M11:M82) -> 0 | N83: =SUM(N11:N82) -> 0 | O83: =SUM(O11:O82) -> 0 | P83: =SUM(P11:P82) -> 0
C85: Piezīmes:
C86: 1.Sagatavojot Finanšu piedāvājumu, Pretendentam ir jāņem vērā, ka būvdarbu izpildei nepieciešamos materiālus – lūku pārsedzes (tikai ķeta elementus) un kapes (ar apakšējo atbalsta plātni) ar SIA “Rīgas ūdens” logo – nodrošina Pasūtītājs. Pretendentam Finanšu piedāvājumā šo materiālu izmaksas jāparedz EUR 0,00 vērtībā.
C87: 2.Finanšu piedāvājumā jāiekļauj darbaspēka, materiālu, iekārtu, aprīkojuma un visu citu iespējamo Darbu izpildes izdevumu izmaksas. Pretendents nav tiesīgs Finanšu piedāvājuma tāmi papildināt ar jaunām izmaksu pozīcijām vai dzēst esošās izmaksu pozīcijas.
C88: 3. Finanšu piedāvājumā aprēķinus jāveic formulās ar noapaļojumu divi cipari aiz komata (jāizmanto funkcija “round”).
C89: 4. Finanšu piedāvājumā vienības cenas darba algas izmaksas aprēķinu jāveic pēc formulas “laika norma x stundas likme = alga”.
C90: 5. Finanšu piedāvājumā katras pozīcijas darba algas, būvizstrādājumu un mehānismu kopējās izmaksas aprēķinu jāveic pēc formulas “kopējais apjoms x vienības izmaksas”.
A92: Sastādīja
C93: (paraksts un tā atšifrējums, datums)
A96: Pārbaudīja
C97: (paraksts un tā atšifrējums, datums)
B98: Sertifikāta Nr.

Sheet 4-4 EL-VAS 4. kārta
A1: Lokālā tāme Nr. 4-4
A2: EL; EL-VAS 4. KĀRTA
A3: =KOPTĀME!A10 -> Objekta nosaukums: Ūdensvada un kanalizācijas izbūve Mazajā Juglas ielā, 4.kārta
A4: =KOPTĀME!A11 -> Būves nosaukums: Ūdensvada un kanalizācijas izbūve Mazajā Juglas ielā,4.kārta
A5: =KOPTĀME!A12 -> Objekta adrese: Malienas iela, Ūdeļu iela 4 | L5: Tāmes izmaksas | N5: =P129 -> 0 | O5: Euro
A6: Pasūtījuma Nr.:
A8: Nr.p.k. | B8: Kods | C8: Darba nosaukums | D8: Mērvienība | E8: Daudzums | F8: Vienības izmaksas | L8: Kopā uz visu apjomu
F9: Laika norma (c/h) | G9: Darba samaksas likme* (Euro/h) | H9: Darba alga (Euro) | I9: Būvizstrādājumi (Euro) | J9: Mehānismi (Euro) | K9: Kopā (Euro) | L9: Darbietilpība (c/h) | M9: Darba alga (Euro) | N9: Būvizstrādājumi (Euro) | O9: Mehānismi (Euro) | P9: Summa (Euro)
A10: 1 | B10: 2 | C10: 3 | D10: 4 | E10: 5 | F10: 6 | G10: 7 | H10: 8 | I10: 9 | J10: 10 | K10: 11 | L10: 12 | M10: 13 | N10: 14 | O10: 15 | P10: 16
A12: 1 | B12: l.c. | C12: Darbi.Teritorijas tīlki. | K12: =H12+I12+J12 -> 0 | L12: =ROUND(E12*F12,2) -> 0 | M12: =ROUND(E12*H12,2) -> 0 | N12: =ROUND(E12*I12,2) -> 0 | O12: =ROUND(E12*J12,2) -> 0 | P12: =SUM(M12:O12) -> 0
A13: 2 | B13: l.c. | C13: Tranšejas rakšana un aizbēršana 1-2 kabeļu (caurules) guldīšanai 0,7-1m dziļumā | D13: m | E13: 13 | K13: =H13+I13+J13 -> 0 | L13: =ROUND(E13*F13,2) -> 0 | M13: =ROUND(E13*H13,2) -> 0 | N13: =ROUND(E13*I13,2) -> 0 | O13: =ROUND(E13*J13,2) -> 0 | P13: =SUM(M13:O13) -> 0
A14: 3 | B14: l.c. | C14: Tranšeja horizontālam zemēšanas kontūram | D14: m | E14: 69 | K14: =H14+I14+J14 -> 0 | L14: =ROUND(E14*F14,2) -> 0 | M14: =ROUND(E14*H14,2) -> 0 | N14: =ROUND(E14*I14,2) -> 0 | O14: =ROUND(E14*J14,2) -> 0 | P14: =SUM(M14:O14) -> 0
A15: 4 | B15: l.c. | C15: Kabeļu aizsargcaurules d=līdz 110 mm ieguldīšana gatavā tranšejā | D15: m | E15: 14 | K15: =H15+I15+J15 -> 0 | L15: =ROUND(E15*F15,2) -> 0 | M15: =ROUND(E15*H15,2) -> 0 | N15: =ROUND(E15*I15,2) -> 0 | O15: =ROUND(E15*J15,2) -> 0 | P15: =SUM(M15:O15) -> 0
A16: 5 | B16: l.c. | C16: ZS kabeļa līdz 35 mm2 ievēršana caurulē | D16: m | E16: 14 | K16: =H16+I16+J16 -> 0 | L16: =ROUND(E16*F16,2) -> 0 | M16: =ROUND(E16*H16,2) -> 0 | N16: =ROUND(E16*I16,2) -> 0 | O16: =ROUND(E16*J16,2) -> 0 | P16: =SUM(M16:O16) -> 0
A17: 6 | B17: l.c. | C17: ZS plastmasas izolācijas kabeļa līdz 35 mm2 gala apdare | D17: gb. | E17: 2 | K17: =H17+I17+J17 -> 0 | L17: =ROUND(E17*F17,2) -> 0 | M17: =ROUND(E17*H17,2) -> 0 | N17: =ROUND(E17*I17,2) -> 0 | O17: =ROUND(E17*J17,2) -> 0 | P17: =SUM(M17:O17) -> 0
A18: 7 | B18: l.c. | C18: Horizontālā zemētāja montāža tranšejā | D18: m | E18: 69 | K18: =H18+I18+J18 -> 0 | L18: =ROUND(E18*F18,2) -> 0 | M18: =ROUND(E18*H18,2) -> 0 | N18: =ROUND(E18*I18,2) -> 0 | O18: =ROUND(E18*J18,2) -> 0 | P18: =SUM(M18:O18) -> 0
A19: 8 | B19: l.c. | C19: Vertikālā zemētāja dziļumā līdz 5 m montāža | D19: m | E19: 11 | K19: =H19+I19+J19 -> 0 | L19: =ROUND(E19*F19,2) -> 0 | M19: =ROUND(E19*H19,2) -> 0 | N19: =ROUND(E19*I19,2) -> 0 | O19: =ROUND(E19*J19,2) -> 0 | P19: =SUM(M19:O19) -> 0
A20: 9 | B20: l.c. | C20: Sūkņu stacija, sadalnes | K20: =H20+I20+J20 -> 0 | L20: =ROUND(E20*F20,2) -> 0 | M20: =ROUND(E20*H20,2) -> 0 | N20: =ROUND(E20*I20,2) -> 0 | O20: =ROUND(E20*J20,2) -> 0 | P20: =SUM(M20:O20) -> 0
A21: 10 | B21: l.c. | C21: Sadalne 1SS1 (met.korpuss, IP44, v/a), ABB, kompl.skat. EL-5, vai ekvivalents | D21: kpl. | E21: 1 | K21: =H21+I21+J21 -> 0 | L21: =ROUND(E21*F21,2) -> 0 | M21: =ROUND(E21*H21,2) -> 0 | N21: =ROUND(E21*I21,2) -> 0 | O21: =ROUND(E21*J21,2) -> 0 | P21: =SUM(M21:O21) -> 0
A22: 11 | B22: l.c. | C22: Pārslēdzis, 3P, 100A, mont.uz DIN sliedes, ABB OT100F3C, vai ekvivalents | D22: kpl. | E22: 1 | K22: =H22+I22+J22 -> 0 | L22: =ROUND(E22*F22,2) -> 0 | M22: =ROUND(E22*H22,2) -> 0 | N22: =ROUND(E22*I22,2) -> 0 | O22: =ROUND(E22*J22,2) -> 0 | P22: =SUM(M22:O22) -> 0
A23: 12 | B23: l.c. | C23: Automātslēdzis 1C3, mont.uz DIN sliedes, ABB S200MT, vai ekvivalents | D23: kpl. | E23: 2 | K23: =H23+I23+J23 -> 0 | L23: =ROUND(E23*F23,2) -> 0 | M23: =ROUND(E23*H23,2) -> 0 | N23: =ROUND(E23*I23,2) -> 0 | O23: =ROUND(E23*J23,2) -> 0 | P23: =SUM(M23:O23) -> 0
A24: 13 | B24: l.c. | C24: Automātslēdzis 1C10, mont.uz DIN sliedes, ABB S200MT, vai ekvivalents | D24: gb. | E24: 3 | K24: =H24+I24+J24 -> 0 | L24: =ROUND(E24*F24,2) -> 0 | M24: =ROUND(E24*H24,2) -> 0 | N24: =ROUND(E24*I24,2) -> 0 | O24: =ROUND(E24*J24,2) -> 0 | P24: =SUM(M24:O24) -> 0
A25: 14 | B25: l.c. | C25: Automātslēdzis 1C16, mont.uz DIN sliedes, ABB S281, vai ekvivalents | D25: gb. | E25: 4 | K25: =H25+I25+J25 -> 0 | L25: =ROUND(E25*F25,2) -> 0 | M25: =ROUND(E25*H25,2) -> 0 | N25: =ROUND(E25*I25,2) -> 0 | O25: =ROUND(E25*J25,2) -> 0 | P25: =SUM(M25:O25) -> 0
A26: 15 | B26: l.c. | C26: Automātslēdzis 3C50, mont.uz DIN sliedes, ABB SH203, vai ekvivalents | D26: gb. | E26: 1 | K26: =H26+I26+J26 -> 0 | L26: =ROUND(E26*F26,2) -> 0 | M26: =ROUND(E26*H26,2) -> 0 | N26: =ROUND(E26*I26,2) -> 0 | O26: =ROUND(E26*J26,2) -> 0 | P26: =SUM(M26:O26) -> 0
A27: 16 | B27: l.c. | C27: Automātslēdzis 3C80, mont.uz DIN sliedes, ABB SH203 | D27: gb. | E27: 1 | K27: =H27+I27+J27 -> 0 | L27: =ROUND(E27*F27,2) -> 0 | M27: =ROUND(E27*H27,2) -> 0 | N27: =ROUND(E27*I27,2) -> 0 | O27: =ROUND(E27*J27,2) -> 0 | P27: =SUM(M27:O27) -> 0
A28: 17 | B28: l.c. | C28: Kontaktors 3P,20A, mont.uz DIN sliedes, ABB ESB20, vai ekvivalents | D28: gb. | E28: 2 | K28: =H28+I28+J28 -> 0 | L28: =ROUND(E28*F28,2) -> 0 | M28: =ROUND(E28*H28,2) -> 0 | N28: =ROUND(E28*I28,2) -> 0 | O28: =ROUND(E28*J28,2) -> 0 | P28: =SUM(M28:O28) -> 0
A29: 18 | B29: l.c. | C29: Laika relejs, mont.uz DIN sliedes, ABB CT-TGD12, vai ekvivalents | D29: gb. | E29: 1 | K29: =H29+I29+J29 -> 0 | L29: =ROUND(E29*F29,2) -> 0 | M29: =ROUND(E29*H29,2) -> 0 | N29: =ROUND(E29*I29,2) -> 0 | O29: =ROUND(E29*J29,2) -> 0 | P29: =SUM(M29:O29) -> 0
A30: 19 | B30: l.c. | C30: Fotorelejs, mont.uz DIN sliedes, SOU-1 (ELKO), vai ekvivalents | D30: gb. | E30: 1 | K30: =H30+I30+J30 -> 0 | L30: =ROUND(E30*F30,2) -> 0 | M30: =ROUND(E30*H30,2) -> 0 | N30: =ROUND(E30*I30,2) -> 0 | O30: =ROUND(E30*J30,2) -> 0 | P30: =SUM(M30:O30) -> 0
A31: 20 | B31: l.c. | C31: Pārsprieguma aizsardzība 3P+NPE 280V | D31: gb. | E31: 1 | K31: =H31+I31+J31 -> 0 | L31: =ROUND(E31*F31,2) -> 0 | M31: =ROUND(E31*H31,2) -> 0 | N31: =ROUND(E31*I31,2) -> 0 | O31: =ROUND(E31*J31,2) -> 0 | P31: =SUM(M31:O31) -> 0
A32: 21 | B32: l.c. | C32: Elektroenerģijas skaitītājs, 3F, ABB A43 112-100, vai ekvivalents | D32: gb. | E32: 1 | K32: =H32+I32+J32 -> 0 | L32: =ROUND(E32*F32,2) -> 0 | M32: =ROUND(E32*H32,2) -> 0 | N32: =ROUND(E32*I32,2) -> 0 | O32: =ROUND(E32*J32,2) -> 0 | P32: =SUM(M32:O32) -> 0
... A34: 23 | B34: l.c. | C34: Montāžas izstrādājumi | D34: kpl. | E34: 1 | K34: =H34+I34+J34 -> 0 | L34: =ROUND(E34*F34,2) -> 0 | M34: =ROUND(E34*H34,2) -> 0 | N34: =ROUND(E34*I34,2) -> 0 | O34: =ROUND(E34*J34,2) -> 0 | P34: =SUM(M34:O34) -> 0
A35: 24 | B35: l.c. | C35: Kabeļu izstrādājumi | K35: =H35+I35+J35 -> 0 | L35: =ROUND(E35*F35,2) -> 0 | M35: =ROUND(E35*H35,2) -> 0 | N35: =ROUND(E35*I35,2) -> 0 | O35: =ROUND(E35*J35,2) -> 0 | P35: =SUM(M35:O35) -> 0
A36: 25 | B36: l.c. | C36: Spēka kabelis ar vara dzīslām, atbilstoši HD603 vai IEC 60502 standarta prasībām, Dca, s2, d2, a2 uzliesmošanas klase atbilstoši EN 50575, spriegums 1kV, nominālā frekvence 50Hz, ārtelpu montāžai | K36: =H36+I36+J36 -> 0 | L36: =ROUND(E36*F36,2) -> 0 | M36: =ROUND(E36*H36,2) -> 0 | N36: =ROUND(E36*I36,2) -> 0 | O36: =ROUND(E36*J36,2) -> 0 | P36: =SUM(M36:O36) -> 0
A37: 26 | B37: l.c. | C37: Cu-5x25mm2 | D37: m | E37: 21 | K37: =H37+I37+J37 -> 0 | L37: =ROUND(E37*F37,2) -> 0 | M37: =ROUND(E37*H37,2) -> 0 | N37: =ROUND(E37*I37,2) -> 0 | O37: =ROUND(E37*J37,2) -> 0 | P37: =SUM(M37:O37) -> 0
A38: 27 | B38: l.c. | C38: Cu-5x25mm2 | D38: m | E38: 2 | K38: =H38+I38+J38 -> 0 | L38: =ROUND(E38*F38,2) -> 0 | M38: =ROUND(E38*H38,2) -> 0 | N38: =ROUND(E38*I38,2) -> 0 | O38: =ROUND(E38*J38,2) -> 0 | P38: =SUM(M38:O38) -> 0
A39: 28 | B39: l.c. | C39: Instalācijas kabelis ar vara dzīslām, atbilstoši IEC 60227 standarta prasībām, Dca, s2, d2, a2 uzliesmošanas klase atbilstoši EN 50575, spriegums 450/750V, nominālā frekvence 50Hz, iekštelpu montāžai, ar atsevišķu PE un N dzīslu | K39: =H39+I39+J39 -> 0 | L39: =ROUND(E39*F39,2) -> 0 | M39: =ROUND(E39*H39,2) -> 0 | N39: =ROUND(E39*I39,2) -> 0 | O39: =ROUND(E39*J39,2) -> 0 | P39: =SUM(M39:O39) -> 0
A40: 29 | B40: l.c. | C40: Cu-2x1,0mm2 | D40: m | E40: 15 | K40: =H40+I40+J40 -> 0 | L40: =ROUND(E40*F40,2) -> 0 | M40: =ROUND(E40*H40,2) -> 0 | N40: =ROUND(E40*I40,2) -> 0 | O40: =ROUND(E40*J40,2) -> 0 | P40: =SUM(M40:O40) -> 0
A41: 30 | B41: l.c. | C41: Cu-3x1,5mm2 | D41: m | E41: 20 | K41: =H41+I41+J41 -> 0 | L41: =ROUND(E41*F41,2) -> 0 | M41: =ROUND(E41*H41,2) -> 0 | N41: =ROUND(E41*I41,2) -> 0 | O41: =ROUND(E41*J41,2) -> 0 | P41: =SUM(M41:O41) -> 0
A42: 31 | B42: l.c. | C42: Cu-3x4,5mm2 | D42: m | E42: 10 | K42: =H42+I42+J42 -> 0 | L42: =ROUND(E42*F42,2) -> 0 | M42: =ROUND(E42*H42,2) -> 0 | N42: =ROUND(E42*I42,2) -> 0 | O42: =ROUND(E42*J42,2) -> 0 | P42: =SUM(M42:O42) -> 0
A43: 32 | B43: l.c. | C43: Cu-3x2,5mm2 | D43: m | E43: 70 | K43: =H43+I43+J43 -> 0 | L43: =ROUND(E43*F43,2) -> 0 | M43: =ROUND(E43*H43,2) -> 0 | N43: =ROUND(E43*I43,2) -> 0 | O43: =ROUND(E43*J43,2) -> 0 | P43: =SUM(M43:O43) -> 0
A44: 33 | B44: l.c. | C44: Cu-5x25mm2 ar ekrānu | D44: m | E44: 20 | K44: =H44+I44+J44 -> 0 | L44: =ROUND(E44*F44,2) -> 0 | M44: =ROUND(E44*H44,2) -> 0 | N44: =ROUND(E44*I44,2) -> 0 | O44: =ROUND(E44*J44,2) -> 0 | P44: =SUM(M44:O44) -> 0
A45: 34 | B45: l.c. | C45: Instalācijas kabelis ar vara dzīslām, atbilstoši IEC 60227 standarta prasībām, Dca, s2, d2, a2 uzliesmošanas klase atbilstoši EN 50575, spriegums 450/750V, nominālā frekvence 50Hz, ārtelpu montāžai, ar atsevišķu PE un N dzīslu | K45: =H45+I45+J45 -> 0 | L45: =ROUND(E45*F45,2) -> 0 | M45: =ROUND(E45*H45,2) -> 0 | N45: =ROUND(E45*I45,2) -> 0 | O45: =ROUND(E45*J45,2) -> 0 | P45: =SUM(M45:O45) -> 0
A46: 35 | B46: l.c. | C46: Cu-3x1,5mm2(UV) | D46: m | E46: 20 | K46: =H46+I46+J46 -> 0 | L46: =ROUND(E46*F46,2) -> 0 | M46: =ROUND(E46*H46,2) -> 0 | N46: =ROUND(E46*I46,2) -> 0 | O46: =ROUND(E46*J46,2) -> 0 | P46: =SUM(M46:O46) -> 0
A47: 36 | B47: l.c. | C47: Cu- 1x16 | D47: m | E47: 5 | K47: =H47+I47+J47 -> 0 | L47: =ROUND(E47*F47,2) -> 0 | M47: =ROUND(E47*H47,2) -> 0 | N47: =ROUND(E47*I47,2) -> 0 | O47: =ROUND(E47*J47,2) -> 0 | P47: =SUM(M47:O47) -> 0
A48: 37 | B48: l.c. | C48: Kabeļa gala apdare 5x25mm2 | D48: kpl. | E48: 6 | K48: =H48+I48+J48 -> 0 | L48: =ROUND(E48*F48,2) -> 0 | M48: =ROUND(E48*H48,2) -> 0 | N48: =ROUND(E48*I48,2) -> 0 | O48: =ROUND(E48*J48,2) -> 0 | P48: =SUM(M48:O48) -> 0
A49: 38 | B49: l.c. | C49: Signāllenta kabeļlīnijai, platums 125 mm | D49: m | E49: 14 | K49: =H49+I49+J49 -> 0 | L49: =ROUND(E49*F49,2) -> 0 | M49: =ROUND(E49*H49,2) -> 0 | N49: =ROUND(E49*I49,2) -> 0 | O49: =ROUND(E49*J49,2) -> 0 | P49: =SUM(M49:O49) -> 0
A50: 39 | B50: l.c. | C50: Montāžas izstrādājumi | D50: kpl. | E50: 1 | K50: =H50+I50+J50 -> 0 | L50: =ROUND(E50*F50,2) -> 0 | M50: =ROUND(E50*H50,2) -> 0 | N50: =ROUND(E50*I50,2) -> 0 | O50: =ROUND(E50*J50,2) -> 0 | P50: =SUM(M50:O50) -> 0
A51: 40 | B51: l.c. | C51: Caurules un metālkonstrukcijas | K51: =H51+I51+J51 -> 0 | L51: =ROUND(E51*F51,2) -> 0 | M51: =ROUND(E51*H51,2) -> 0 | N51: =ROUND(E51*I51,2) -> 0 | O51: =ROUND(E51*J51,2) -> 0 | P51: =SUM(M51:O51) -> 0
A52: 41 | B52: l.c. | C52: Kabeļu marķieris-marķēšana | D52: kpl. | E52: 1 | K52: =H52+I52+J52 -> 0 | L52: =ROUND(E52*F52,2) -> 0 | M52: =ROUND(E52*H52,2) -> 0 | N52: =ROUND(E52*I52,2) -> 0 | O52: =ROUND(E52*J52,2) -> 0 | P52: =SUM(M52:O52) -> 0
A53: 42 | B53: l.c. | C53: Aizsargcaurule d-20mm | D53: m | E53: 20 | K53: =H53+I53+J53 -> 0 | L53: =ROUND(E53*F53,2) -> 0 | M53: =ROUND(E53*H53,2) -> 0 | N53: =ROUND(E53*I53,2) -> 0 | O53: =ROUND(E53*J53,2) -> 0 | P53: =SUM(M53:O53) -> 0
A54: 43 | B54: l.c. | C54: Aizsargcaurule d-25mm | D54: m | E54: 30 | K54: =H54+I54+J54 -> 0 | L54: =ROUND(E54*F54,2) -> 0 | M54: =ROUND(E54*H54,2) -> 0 | N54: =ROUND(E54*I54,2) -> 0 | O54: =ROUND(E54*J54,2) -> 0 | P54: =SUM(M54:O54) -> 0
A55: 44 | B55: l.c. | C55: Aizsargcaurule d-32mm | D55: m | E55: 10 | K55: =H55+I55+J55 -> 0 | L55: =ROUND(E55*F55,2) -> 0 | M55: =ROUND(E55*H55,2) -> 0 | N55: =ROUND(E55*I55,2) -> 0 | O55: =ROUND(E55*J55,2) -> 0 | P55: =SUM(M55:O55) -> 0
A56: 45 | B56: l.c. | C56: Caurule, gofrēta 450N, d=75 | D56: m | E56: 14 | K56: =H56+I56+J56 -> 0 | L56: =ROUND(E56*F56,2) -> 0 | M56: =ROUND(E56*H56,2) -> 0 | N56: =ROUND(E56*I56,2) -> 0 | O56: =ROUND(E56*J56,2) -> 0 | P56: =SUM(M56:O56) -> 0
A57: 46 | B57: l.c. | C57: Cauruļu stiprināšanas izstrādājumi | D57: kpl. | E57: 120 | K57: =H57+I57+J57 -> 0 | L57: =ROUND(E57*F57,2) -> 0 | M57: =ROUND(E57*H57,2) -> 0 | N57: =ROUND(E57*I57,2) -> 0 | O57: =ROUND(E57*J57,2) -> 0 | P57: =SUM(M57:O57) -> 0
A58: 47 | B58: l.c. | C58: Montāžas izstrādājumi | D58: kpl. | E58: 1 | K58: =H58+I58+J58 -> 0 | L58: =ROUND(E58*F58,2) -> 0 | M58: =ROUND(E58*H58,2) -> 0 | N58: =ROUND(E58*I58,2) -> 0 | O58: =ROUND(E58*J58,2) -> 0 | P58: =SUM(M58:O58) -> 0
A59: 48 | B59: l.c. | C59: Instalācijas materiāli | K59: =H59+I59+J59 -> 0 | L59: =ROUND(E59*F59,2) -> 0 | M59: =ROUND(E59*H59,2) -> 0 | N59: =ROUND(E59*I59,2) -> 0 | O59: =ROUND(E59*J59,2) -> 0 | P59: =SUM(M59:O59) -> 0
A60: 49 | B60: l.c. | C60: Slēdzis 10A, IP44, v/a | D60: gb. | E60: 1 | K60: =H60+I60+J60 -> 0 | L60: =ROUND(E60*F60,2) -> 0 | M60: =ROUND(E60*H60,2) -> 0 | N60: =ROUND(E60*I60,2) -> 0 | O60: =ROUND(E60*J60,2) -> 0 | P60: =SUM(M60:O60) -> 0
A61: 50 | B61: l.c. | C61: Kontaktligzda 16A, 230V, IP44, v/a | D61: gb. | E61: 3 | K61: =H61+I61+J61 -> 0 | L61: =ROUND(E61*F61,2) -> 0 | M61: =ROUND(E61*H61,2) -> 0 | N61: =ROUND(E61*I61,2) -> 0 | O61: =ROUND(E61*J61,2) -> 0 | P61: =SUM(M61:O61) -> 0
A62: 51 | B62: l.c. | C62: Dakša 3P+N+E 63A (80x80) IP67 | D62: gb. | E62: 1 | K62: =H62+I62+J62 -> 0 | L62: =ROUND(E62*F62,2) -> 0 | M62: =ROUND(E62*H62,2) -> 0 | N62: =ROUND(E62*I62,2) -> 0 | O62: =ROUND(E62*J62,2) -> 0 | P62: =SUM(M62:O62) -> 0
A63: 52 | B63: l.c. | C63: Montāžas kārba z/a | D63: gb. | E63: 4 | K63: =H63+I63+J63 -> 0 | L63: =ROUND(E63*F63,2) -> 0 | M63: =ROUND(E63*H63,2) -> 0 | N63: =ROUND(E63*I63,2) -> 0 | O63: =ROUND(E63*J63,2) -> 0 | P63: =SUM(M63:O63) -> 0
A64: 53 | B64: l.c. | C64: Nozarkārba IP44, v/a | D64: gb. | E64: 1 | K64: =H64+I64+J64 -> 0 | L64: =ROUND(E64*F64,2) -> 0 | M64: =ROUND(E64*H64,2) -> 0 | N64: =ROUND(E64*I64,2) -> 0 | O64: =ROUND(E64*J64,2) -> 0 | P64: =SUM(M64:O64) -> 0
A65: 54 | B65: l.c. | C65: Termostars radiatora vadībai, SIEMENES RAA21 | D65: kpl. | E65: 1 | K65: =H65+I65+J65 -> 0 | L65: =ROUND(E65*F65,2) -> 0 | M65: =ROUND(E65*H65,2) -> 0 | N65: =ROUND(E65*I65,2) -> 0 | O65: =ROUND(E65*J65,2) -> 0 | P65: =SUM(M65:O65) -> 0
A66: 55 | B66: l.c. | C66: Montāžas izstrādājumi | D66: kpl. | E66: 1 | K66: =H66+I66+J66 -> 0 | L66: =ROUND(E66*F66,2) -> 0 | M66: =ROUND(E66*H66,2) -> 0 | N66: =ROUND(E66*I66,2) -> 0 | O66: =ROUND(E66*J66,2) -> 0 | P66: =SUM(M66:O66) -> 0
A67: 56 | B67: l.c. | C67: Gaismekļi | K67: =H67+I67+J67 -> 0 | L67: =ROUND(E67*F67,2) -> 0 | M67: =ROUND(E67*H67,2) -> 0 | N67: =ROUND(E67*I67,2) -> 0 | O67: =ROUND(E67*J67,2) -> 0 | P67: =SUM(M67:O67) -> 0
A68: 57 | B68: l.c. | C68: Gaismeklis 36 W | D68: gb. | E68: 2 | K68: =H68+I68+J68 -> 0 | L68: =ROUND(E68*F68,2) -> 0 | M68: =ROUND(E68*H68,2) -> 0 | N68: =ROUND(E68*I68,2) -> 0 | O68: =ROUND(E68*J68,2) -> 0 | P68: =SUM(M68:O68) -> 0
A69: 58 | B69: l.c. | C69: Gaismeklis 60 W | D69: gb. | E69: 1 | K69: =H69+I69+J69 -> 0 | L69: =ROUND(E69*F69,2) -> 0 | M69: =ROUND(E69*H69,2) -> 0 | N69: =ROUND(E69*I69,2) -> 0 | O69: =ROUND(E69*J69,2) -> 0 | P69: =SUM(M69:O69) -> 0
A70: 59 | B70: l.c. | C70: Barošanas bloks ar akumulatoru 1h | D70: kpl. | E70: 1 | K70: =H70+I70+J70 -> 0 | L70: =ROUND(E70*F70,2) -> 0 | M70: =ROUND(E70*H70,2) -> 0 | N70: =ROUND(E70*I70,2) -> 0 | O70: =ROUND(E70*J70,2) -> 0 | P70: =SUM(M70:O70) -> 0
A71: 60 | B71: l.c. | C71: Montāžas izstrādājumi | D71: kpl. | E71: 1 | K71: =H71+I71+J71 -> 0 | L71: =ROUND(E71*F71,2) -> 0 | M71: =ROUND(E71*H71,2) -> 0 | N71: =ROUND(E71*I71,2) -> 0 | O71: =ROUND(E71*J71,2) -> 0 | P71: =SUM(M71:O71) -> 0
A72: 61 | B72: l.c. | C72: Zemējums | K72: =H72+I72+J72 -> 0 | L72: =ROUND(E72*F72,2) -> 0 | M72: =ROUND(E72*H72,2) -> 0 | N72: =ROUND(E72*I72,2) -> 0 | O72: =ROUND(E72*J72,2) -> 0 | P72: =SUM(M72:O72) -> 0
A73: 62 | B73: l.c. | C73: Plakandzelzs 40x4,0 mm | D73: m | E73: 69 | K73: =H73+I73+J73 -> 0 | L73: =ROUND(E73*F73,2) -> 0 | M73: =ROUND(E73*H73,2) -> 0 | N73: =ROUND(E73*I73,2) -> 0 | O73: =ROUND(E73*J73,2) -> 0 | P73: =SUM(M73:O73) -> 0
A74: 63 | B74: l.c. | C74: Zemējuma elektrods l=1,5m, d-16mm | D74: gb. | E74: 30 | K74: =H74+I74+J74 -> 0 | L74: =ROUND(E74*F74,2) -> 0 | M74: =ROUND(E74*H74,2) -> 0 | N74: =ROUND(E74*I74,2) -> 0 | O74: =ROUND(E74*J74,2) -> 0 | P74: =SUM(M74:O74) -> 0
A75: 64 | B75: l.c. | C75: Spice zemējuma elektrodam | D75: gb. | E75: 10 | K75: =H75+I75+J75 -> 0 | L75: =ROUND(E75*F75,2) -> 0 | M75: =ROUND(E75*H75,2) -> 0 | N75: =ROUND(E75*I75,2) -> 0 | O75: =ROUND(E75*J75,2) -> 0 | P75: =SUM(M75:O75) -> 0
A76: 65 | B76: l.c. | C76: Savienojuma klemme, plakandzelzs/plakandzelzs | D76: gb. | E76: 10 | K76: =H76+I76+J76 -> 0 | L76: =ROUND(E76*F76,2) -> 0 | M76: =ROUND(E76*H76,2) -> 0 | N76: =ROUND(E76*I76,2) -> 0 | O76: =ROUND(E76*J76,2) -> 0 | P76: =SUM(M76:O76) -> 0
A77: 66 | B77: l.c. | C77: Savienojuma klemme, plakandzelzs/apaļdzelzs | D77: gb. | E77: 11 | K77: =H77+I77+J77 -> 0 | L77: =ROUND(E77*F77,2) -> 0 | M77: =ROUND(E77*H77,2) -> 0 | N77: =ROUND(E77*I77,2) -> 0 | O77: =ROUND(E77*J77,2) -> 0 | P77: =SUM(M77:O77) -> 0
A78: 67 | B78: l.c. | C78: Potenciāla izlīdzinoša kopne 1801/VDE | D78: gb. | E78: 1 | K78: =H78+I78+J78 -> 0 | L78: =ROUND(E78*F78,2) -> 0 | M78: =ROUND(E78*H78,2) -> 0 | N78: =ROUND(E78*I78,2) -> 0 | O78: =ROUND(E78*J78,2) -> 0 | P78: =SUM(M78:O78) -> 0
A79: 68 | B79: l.c. | C79: Pretkorozijas lenta 25m | D79: kpl. | E79: 10 | K79: =H79+I79+J79 -> 0 | L79: =ROUND(E79*F79,2) -> 0 | M79: =ROUND(E79*H79,2) -> 0 | N79: =ROUND(E79*I79,2) -> 0 | O79: =ROUND(E79*J79,2) -> 0 | P79: =SUM(M79:O79) -> 0
A80: 69 | B80: l.c. | C80: Montāžas izstrādājumi | D80: kpl. | E80: 1 | K80: =H80+I80+J80 -> 0 | L80: =ROUND(E80*F80,2) -> 0 | M80: =ROUND(E80*H80,2) -> 0 | N80: =ROUND(E80*I80,2) -> 0 | O80: =ROUND(E80*J80,2) -> 0 | P80: =SUM(M80:O80) -> 0
A81: 70 | B81: l.c. | C81: Mērījumi, izpilddokumentācija | D81: obj. | E81: 1 | K81: =H81+I81+J81 -> 0 | L81: =ROUND(E81*F81,2) -> 0 | M81: =ROUND(E81*H81,2) -> 0 | N81: =ROUND(E81*I81,2) -> 0 | O81: =ROUND(E81*J81,2) -> 0 | P81: =SUM(M81:O81) -> 0
A82: 71 | C82: EL-VAS
A83: 72 | B83: l.c. | C83: Sadales metāla korpuss 800x950x275mm IP55 ar montāžas plati, ABB TL306G 2CPX010092R9999, vai ekvivalents | D83: gab. | E83: 1 | K83: =H83+I83+J83 -> 0 | L83: =ROUND(E83*F83,2) -> 0 | M83: =ROUND(E83*H83,2) -> 0 | N83: =ROUND(E83*I83,2) -> 0 | O83: =ROUND(E83*J83,2) -> 0 | P83: =SUM(M83:O83) -> 0
A84: 73 | B84: l.c. | C84: Sadales metāla korpuss 300x950x275mm IP55 ar montāžas plati, ABB TL106G 2CPX010091R9999, vai ekvivalents | D84: gab. | E84: 1 | K84: =H84+I84+J84 -> 0 | L84: =ROUND(E84*F84,2) -> 0 | M84: =ROUND(E84*H84,2) -> 0 | N84: =ROUND(E84*I84,2) -> 0 | O84: =ROUND(E84*J84,2) -> 0 | P84: =SUM(M84:O84) -> 0
A85: 74 | B85: l.c. | C85: Sadales komplektējošie materiāli (slēdži, automāti, klemmes, releji utt.) | D85: kompl. | E85: 2 | K85: =H85+I85+J85 -> 0 | L85: =ROUND(E85*F85,2) -> 0 | M85: =ROUND(E85*H85,2) -> 0 | N85: =ROUND(E85*I85,2) -> 0 | O85: =ROUND(E85*J85,2) -> 0 | P85: =SUM(M85:O85) -> 0
A86: 75 | B86: l.c. | C86: Skaitītājs 80A, 400V, RS-485, ABB 2CMA170531R1000 vai ekvivalents | D86: gab. | E86: 1 | K86: =H86+I86+J86 -> 0 | L86: =ROUND(E86*F86,2) -> 0 | M86: =ROUND(E86*H86,2) -> 0 | N86: =ROUND(E86*I86,2) -> 0 | O86: =ROUND(E86*J86,2) -> 0 | P86: =SUM(M86:O86) -> 0
A87: 76 | B87: l.c. | C87: Fāzu kontroles relejs, ABB.1SVR730794R3300 vai ekvivalents | D87: gab. | E87: 1 | K87: =H87+I87+J87 -> 0 | L87: =ROUND(E87*F87,2) -> 0 | M87: =ROUND(E87*H87,2) -> 0 | N87: =ROUND(E87*I87,2) -> 0 | O87: =ROUND(E87*J87,2) -> 0 | P87: =SUM(M87:O87) -> 0
A88: 77 | B88: l.c. | C88: RB912R-2nD-LTm modēms | D88: gab. | E88: 1 | K88: =H88+I88+J88 -> 0 | L88: =ROUND(E88*F88,2) -> 0 | M88: =ROUND(E88*H88,2) -> 0 | N88: =ROUND(E88*I88,2) -> 0 | O88: =ROUND(E88*J88,2) -> 0 | P88: =SUM(M88:O88) -> 0
A89: 78 | B89: l.c. | C89: EDS405A vadāmais komutators | D89: gab. | E89: 1 | K89: =H89+I89+J89 -> 0 | L89: =ROUND(E89*F89,2) -> 0 | M89: =ROUND(E89*H89,2) -> 0 | N89: =ROUND(E89*I89,2) -> 0 | O89: =ROUND(E89*J89,2) -> 0 | P89: =SUM(M89:O89) -> 0
A90: 79 | B90: l.c. | C90: AC500 SD atmiņas karte, ABB.1SAP180100R0001 | D90: gab. | E90: 1 | K90: =H90+I90+J90 -> 0 | L90: =ROUND(E90*F90,2) -> 0 | M90: =ROUND(E90*H90,2) -> 0 | N90: =ROUND(E90*I90,2) -> 0 | O90: =ROUND(E90*J90,2) -> 0 | P90: =SUM(M90:O90) -> 0
A91: 80 | B91: l.c. | C91: AC500 akumulatoru batereja, ABB.1SAP180300R0001 | D91: gab. | E91: 1 | K91: =H91+I91+J91 -> 0 | L91: =ROUND(E91*F91,2) -> 0 | M91: =ROUND(E91*H91,2) -> 0 | N91: =ROUND(E91*I91,2) -> 0 | O91: =ROUND(E91*J91,2) -> 0 | P91: =SUM(M91:O91) -> 0
A92: 81 | B92: l.c. | C92: TB511-ETH-XC:AC500, Terminal Base, 1 slot, ETHERNET, 24VDC, pluggable spring terminals, Outdoor&Xtrem Conditions, ABB, ABB.1SAP311100R0270 | D92: gab. | E92: 1 | K92: =H92+I92+J92 -> 0 | L92: =ROUND(E92*F92,2) -> 0 | M92: =ROUND(E92*H92,2) -> 0 | N92: =ROUND(E92*I92,2) -> 0 | O92: =ROUND(E92*J92,2) -> 0 | P92: =SUM(M92:O92) -> 0
A93: 82 | B93: l.c. | C93: PM5630-2ETH-XC:AC500, Programmable Logic Controller 8MB, 24VDC, 2xETHERNET, 1xRS232/485, CAN, SD-Card Slot, LCD Display, Outdoor, ABB, ABB.1SAP331000R0278 | D93: gab. | E93: 1 | K93: =H93+I93+J93 -> 0 | L93: =ROUND(E93*F93,2) -> 0 | M93: =ROUND(E93*H93,2) -> 0 | N93: =ROUND(E93*I93,2) -> 0 | O93: =ROUND(E93*J93,2) -> 0 | P93: =SUM(M93:O93) -> 0
A94: 83 | B94: l.c. | C94: TA524:AC500,Dummy Coupler Module, ABB.1SAP180600R0001 | D94: gab. | E94: 1 | K94: =H94+I94+J94 -> 0 | L94: =ROUND(E94*F94,2) -> 0 | M94: =ROUND(E94*H94,2) -> 0 | N94: =ROUND(E94*I94,2) -> 0 | O94: =ROUND(E94*J94,2) -> 0 | P94: =SUM(M94:O94) -> 0
... A127: 116 | B127: l.c. | C127: Dokumentācija | D127: kompl. | E127: 1 | K127: =H127+I127+J127 -> 0 | L127: =ROUND(E127*F127,2) -> 0 | M127: =ROUND(E127*H127,2) -> 0 | N127: =ROUND(E127*I127,2) -> 0 | O127: =ROUND(E127*J127,2) -> 0 | P127: =SUM(M127:O127) -> 0
H129: Tiešās izmaksas kopā, t.sk. darba devēja sociālais nodoklis 23.59% : | L129: =SUM(L11:L128) -> 0 | M129: =SUM(M11:M128) -> 0 | N129: =SUM(N11:N128) -> 0 | O129: =SUM(O11:O128) -> 0 | P129: =SUM(P11:P128) -> 0
C131: Piezīmes:
C132: 1.Sagatavojot Finanšu piedāvājumu, Pretendentam ir jāņem vērā, ka būvdarbu izpildei nepieciešamos materiālus – lūku pārsedzes (tikai ķeta elementus) un kapes (ar apakšējo atbalsta plātni) ar SIA “Rīgas ūdens” logo – nodrošina Pasūtītājs. Pretendentam Finanšu piedāvājumā šo materiālu izmaksas jāparedz EUR 0,00 vērtībā.
C133: 2.Finanšu piedāvājumā jāiekļauj darbaspēka, materiālu, iekārtu, aprīkojuma un visu citu iespējamo Darbu izpildes izdevumu izmaksas. Pretendents nav tiesīgs Finanšu piedāvājuma tāmi papildināt ar jaunām izmaksu pozīcijām vai dzēst esošās izmaksu pozīcijas.
C134: 3. Finanšu piedāvājumā aprēķinus jāveic formulās ar noapaļojumu divi cipari aiz komata (jāizmanto funkcija “round”).
C135: 4. Finanšu piedāvājumā vienības cenas darba algas izmaksas aprēķinu jāveic pēc formulas “laika norma x stundas likme = alga”.
C136: 5. Finanšu piedāvājumā katras pozīcijas darba algas, būvizstrādājumu un mehānismu kopējās izmaksas aprēķinu jāveic pēc formulas “kopējais apjoms x vienības izmaksas”.
A138: Sastādīja
...

Sheet 4-5 DOP 4. kārta
A1: Lokālā tāme Nr. 4-5
A2: Būvlaukuma izmaksas 4. kārta
A3: =KOPTĀME!A10 -> Objekta nosaukums: Ūdensvada un kanalizācijas izbūve Mazajā Juglas ielā, 4.kārta
A4: =KOPTĀME!A11 -> Būves nosaukums: Ūdensvada un kanalizācijas izbūve Mazajā Juglas ielā,4.kārta
A5: =KOPTĀME!A12 -> Objekta adrese: Malienas iela, Ūdeļu iela 4 | L5: Tāmes izmaksas | N5: =P20 -> 0 | O5: Euro
A6: Pasūtījuma Nr.:
A8: Nr.p.k. | B8: Kods | C8: Darba nosaukums | D8: Mērvienība | E8: Daudzums | F8: Vienības izmaksas | L8: Kopā uz visu apjomu
F9: Laika norma (c/h) | G9: Darba samaksas likme* (Euro/h) | H9: Darba alga (Euro) | I9: Būvizstrādājumi (Euro) | J9: Mehānismi (Euro) | K9: Kopā (Euro) | L9: Darbietilpība (c/h) | M9: Darba alga (Euro) | N9: Būvizstrādājumi (Euro) | O9: Mehānismi (Euro) | P9: Summa (Euro)
A10: 1 | B10: 2 | C10: 3 | D10: 4 | E10: 5 | F10: 6 | G10: 7 | H10: 8 | I10: 9 | J10: 10 | K10: 11 | L10: 12 | M10: 13 | N10: 14 | O10: 15 | P10: 16
A12: 1 | B12: l.c. | C12: Būvdarbu pagaidu žogs | D12: m | E12: 52 | K12: =H12+I12+J12 -> 0 | L12: =ROUND(E12*F12,2) -> 0 | M12: =ROUND(E12*H12,2) -> 0 | N12: =ROUND(E12*I12,2) -> 0 | O12: =ROUND(E12*J12,2) -> 0 | P12: =SUM(M12:O12) -> 0
A13: 2 | B13: l.c. | C13: Būvdarbu tāfele | D13: gb | E13: 1 | K13: =H13+I13+J13 -> 0 | L13: =ROUND(E13*F13,2) -> 0 | M13: =ROUND(E13*H13,2) -> 0 | N13: =ROUND(E13*I13,2) -> 0 | O13: =ROUND(E13*J13,2) -> 0 | P13: =SUM(M13:O13) -> 0
A14: 3 | B14: l.c. | C14: Pagaidu šķembu segums fr. 0..45mm | D14: m2 | E14: 120 | K14: =H14+I14+J14 -> 0 | L14: =ROUND(E14*F14,2) -> 0 | M14: =ROUND(E14*H14,2) -> 0 | N14: =ROUND(E14*I14,2) -> 0 | O14: =ROUND(E14*J14,2) -> 0 | P14: =SUM(M14:O14) -> 0
A15: 4 | B15: l.c. | C15: Gruntsūdens pazemināšana KSS izbūvei | D15: gb | E15: 1 | K15: =H15+I15+J15 -> 0 | L15: =ROUND(E15*F15,2) -> 0 | M15: =ROUND(E15*H15,2) -> 0 | N15: =ROUND(E15*I15,2) -> 0 | O15: =ROUND(E15*J15,2) -> 0 | P15: =SUM(M15:O15) -> 0
A16: 6 | B16: l.c. | C16: Satiksmes organizācijas aprīkojums | D16: kpl | E16: 1 | K16: =H16+I16+J16 -> 0 | L16: =ROUND(E16*F16,2) -> 0 | M16: =ROUND(E16*H16,2) -> 0 | N16: =ROUND(E16*I16,2) -> 0 | O16: =ROUND(E16*J16,2) -> 0 | P16: =SUM(M16:O16) -> 0
A17: 7 | B17: l.c. | C17: SBH tipa tranšeju atbalsta sienas 2,4x3m | D17: gb | E17: 6 | K17: =H17+I17+J17 -> 0 | L17: =ROUND(E17*F17,2) -> 0 | M17: =ROUND(E17*H17,2) -> 0 | N17: =ROUND(E17*I17,2) -> 0 | O17: =ROUND(E17*J17,2) -> 0 | P17: =SUM(M17:O17) -> 0
A18: 8 | B18: l.c. | C18: Teritorijas sakopšana pēc būvdarbiem (zālāja atjaunošana) | D18: m2 | E18: 500 | K18: =H18+I18+J18 -> 0 | L18: =ROUND(E18*F18,2) -> 0 | M18: =ROUND(E18*H18,2) -> 0 | N18: =ROUND(E18*I18,2) -> 0 | O18: =ROUND(E18*J18,2) -> 0 | P18: =SUM(M18:O18) -> 0
H20: Tiešās izmaksas kopā, t.sk. darba devēja sociālais nodoklis 23.59% : | L20: =SUM(L11:L19) -> 0 | M20: =SUM(M11:M19) -> 0 | N20: =SUM(N11:N19) -> 0 | O20: =SUM(O11:O19) -> 0 | P20: =SUM(P11:P19) -> 0
C22: Piezīmes:
C23: 1.Sagatavojot Finanšu piedāvājumu, Pretendentam ir jāņem vērā, ka būvdarbu izpildei nepieciešamos materiālus – lūku pārsedzes (tikai ķeta elementus) un kapes (ar apakšējo atbalsta plātni) ar SIA “Rīgas ūdens” logo – nodrošina Pasūtītājs. Pretendentam Finanšu piedāvājumā šo materiālu izmaksas jāparedz EUR 0,00 vērtībā.
C24: 2.Finanšu piedāvājumā jāiekļauj darbaspēka, materiālu, iekārtu, aprīkojuma un visu citu iespējamo Darbu izpildes izdevumu izmaksas. Pretendents nav tiesīgs Finanšu piedāvājuma tāmi papildināt ar jaunām izmaksu pozīcijām vai dzēst esošās izmaksu pozīcijas.
C25: 3. Finanšu piedāvājumā aprēķinus jāveic formulās ar noapaļojumu divi cipari aiz komata (jāizmanto funkcija “round”).
C26: 4. Finanšu piedāvājumā vienības cenas darba algas izmaksas aprēķinu jāveic pēc formulas “laika norma x stundas likme = alga”.
C27: 5. Finanšu piedāvājumā katras pozīcijas darba algas, būvizstrādājumu un mehānismu kopējās izmaksas aprēķinu jāveic pēc formulas “kopējais apjoms x vienības izmaksas”.
A29: Sastādīja
C30: (paraksts un tā atšifrējums, datums)
A33: Pārbaudīja
C34: (paraksts un tā atšifrējums, datums)
B35: Sertifikāta Nr.
