Workbook
Name datums: [1]KA!$K$45
Name likme: KT!$E$20
Name parb: [1]KA!$K$43
Name procenti: #REF!
Name sast: [1]KA!$K$42
Name sertif: [1]KA!$K$44

Sheet KT
C2: APSTIPRINU_________________________________
C3: (pasūtītāja paraksts un tā atšifrējums)
C4: Z.V.
C5: ___.gada ___.______________
A7: Būvniecības koptāme
A9: Objekta nosaukums: | B9: Energoefektivitātes paaugstināšana Augšlīgatnes pirmsskolas izglītības iestādē "Zvaniņi"
A10: Būves nosaukums: | B10: Pirmsskolas izglītības iestāde "Zvaniņi"
A11: Objekta adrese: | B11: Sporta iela 14, Augšlīgatne, Līgatnes pagasts, Cēsu novads, LV-4108
A12: Pasūtījuma nr.: | B12: CMP21-BP99
A14: Nr.p.k. | B14: Objekta nosaukums | C14: Objekta izmaksas (euro)
A15: 1 | B15: Ēkas energoefektivitātes paaugstināšana. Ēkas fasādes siltināšana un apdarināšana, cokola siltināšanas un apdares darbi, jumta seguma nomaiņa. Logu un durvju bloku maiņa. | C15: ='KA1'!E26 -> 0
B16: Kopā | C16: =SUM(C15:C15) -> 0
D17: Virsizdevumi | E17: 0.1
A18: PVN (21%) | C18: =ROUND(C16*21%,2) -> 0 | D18: DA | E18: 0.05
D19: Peļņa | E19: 0.1
D20: Likme | E20: 15
A21: Sastādīja: | C21: 2024.gada ___.______ | D21: =C21 -> 2024.gada ___.______
A22: (paraksts un tā atšifrējums, datums)
A23: Sertifikāta Nr.:
A25: =A21 -> Sastādīja: | C25: =C21 -> 2024.gada ___.______
A26: (paraksts un tā atšifrējums, datums)
A27: =A23 -> Sertifikāta Nr.:

Sheet KA1
A2: Kopsavilkuma aprēķins nr.1
A3: =KT!B15 -> Ēkas energoefektivitātes paaugstināšana. Ēkas fasādes siltināšana un apdarināšana, cokola siltināšanas un apdares darbi, jumta seguma nomaiņa. Logu un durvju bloku maiņa.
A4: (būvdarbu veids vai konstruktīvā elementa nosaukums)
A6: Objekta nosaukums: | C6: =KT!B9 -> Energoefektivitātes paaugstināšana Augšlīgatnes pirmsskolas izglītības iestādē "Zvaniņi"
A7: Būves nosaukums: | C7: =KT!B10 -> Pirmsskolas izglītības iestāde "Zvaniņi"
A8: Objekta adrese: | C8: =KT!B11 -> Sporta iela 14, Augšlīgatne, Līgatnes pagasts, Cēsu novads, LV-4108
A9: Pasūtījuma nr.: | C9: =KT!B12 -> CMP21-BP99
C10: Par kopējo summu (euro) | E10: =E26 -> 0
C11: Kopējā darbietilpība (c/h) | E11: =SUM(I14:I21) -> 0
A12: Nr.p.k. | B12: kods, tāmes nr. | C12: Būvdarbu veids vai konstruktīvā elementa nosaukums | E12: Tāmes izmaksas | F12: Tai skaitā | I12: Darbietilpība (c/h)
F13: Darba alga | G13: Būvizstrādājumi | H13: Mehānismi
C14: Vispārējie būvdarbi
A15: 1 | B15: 1.1. | C15: Demontāžas darbi | E15: =SUM(F15:H15) -> 0 | F15: ='1.1.'!M24 -> 0 | G15: ='1.1.'!N24 -> 0 | H15: ='1.1.'!O24 -> 0 | I15: ='1.1.'!L24 -> 0
A16: 2 | B16: 1.2. | C16: Kāpņu apstrāde | E16: =SUM(F16:H16) -> 0 | F16: ='1.2.'!M24 -> 0 | G16: ='1.2.'!N24 -> 0 | H16: ='1.2.'!O24 -> 0 | I16: ='1.2.'!L24 -> 0
A17: 3 | B17: 1.3. | C17: Jumts | E17: =SUM(F17:H17) -> 0 | F17: ='1.3.'!M36 -> 0 | G17: ='1.3.'!N36 -> 0 | H17: ='1.3.'!O36 -> 0 | I17: ='1.3.'!L36 -> 0
A18: 4 | B18: 1.4. | C18: Ailu aizpildījums | E18: =SUM(F18:H18) -> 0 | F18: ='1.4.'!M57 -> 0 | G18: ='1.4.'!N57 -> 0 | H18: ='1.4.'!O57 -> 0 | I18: ='1.4.'!L57 -> 0
A19: 5 | B19: 1.5. | C19: Fasāde | E19: =SUM(F19:H19) -> 0 | F19: ='1.5.'!M49 -> 0 | G19: ='1.5.'!N49 -> 0 | H19: ='1.5.'!O49 -> 0 | I19: ='1.5.'!L49 -> 0
A20: 6 | B20: 1.6. | C20: Zibensaizsardzības risinājumi | E20: =SUM(F20:H20) -> 0 | F20: ='1.6.'!M35 -> 0 | G20: ='1.6.'!N35 -> 0 | H20: ='1.6.'!O35 -> 0 | I20: ='1.6.'!L35 -> 0
A21: 7 | B21: 1.7. | C21: Labiekārtošanas darbi | E21: =SUM(F21:H21) -> 0 | F21: ='1.7.'!M41 -> 0 | G21: ='1.7.'!N41 -> 0 | H21: ='1.7.'!O41 -> 0 | I21: ='1.7.'!L41 -> 0
A22: Kopā | E22: =SUM(E14:E21) -> 0 | F22: =SUM(F14:F21) -> 0 | G22: =SUM(G14:G21) -> 0 | H22: =SUM(H14:H21) -> 0 | I22: =SUM(I14:I21) -> 0
A23: Virsizdevumi | D23: %
A24: t.sk. Darba aizsardzība | D24: %
A25: Peļņa | D25: %
A26: Pavisam kopā | E26: =ROUND(E22+E23+E25,2) -> 0
A28: =KT!A21 -> Sastādīja: | E28: =KT!C21 -> 2024.gada ___.______
A29: (paraksts un tā atšifrējums, datums)
A30: =KT!A23 -> Sertifikāta Nr.:
A32: =KT!A25 -> Sastādīja: | E32: =E28 -> 2024.gada ___.______
A33: (paraksts un tā atšifrējums, datums)
A34: =KT!A27 -> Sertifikāta Nr.:

Sheet 1.1.
A2: Lokālā tāme Nr. 1.1.
A3: ='KA1'!C15 -> Demontāžas darbi
A4: (būvdarbu veids vai konstruktīvā elementa nosaukums)
A6: Objekta nosaukums: | C6: =KT!B9 -> Energoefektivitātes paaugstināšana Augšlīgatnes pirmsskolas izglītības iestādē "Zvaniņi"
A7: Būves nosaukums: | C7: =KT!B10 -> Pirmsskolas izglītības iestāde "Zvaniņi"
A8: Objekta adrese: | C8: =KT!B11 -> Sporta iela 14, Augšlīgatne, Līgatnes pagasts, Cēsu novads, LV-4108
A9: Pasūtījuma nr.: | C9: =KT!B12 -> CMP21-BP99
A11: Tāme sastādīta 2024. gada tirgus cenās, pamatojoties uz projekta rasējumiem | M11: Tāmes izmaksas: | O11: =P24 -> 0 | P11: EUR
N12: Tāme sastādītā | O12: =D26 -> 2024.gada ___.______
A14: Nr.p.k. | B14: Kods | C14: Būvdarbu nosaukums | D14: Mērvienība | E14: Daudzums | F14: Vienības izmaksas | L14: Kopā uz visu apjomu
F15: Laika norma (c/h) | G15: Darba samaksas likme (euro/h) | H15: Darba alga | I15: Būvizstrādājumi | J15: Mehānismi | K15: KOPĀ | L15: Darbietilpība (c/h) | M15: Darba alga | N15: Būvizstrādājumi | O15: Mehānismi | P15: Summa
A17: 1 | C17: Ārsienu vismu attīrīšana no vecā apmetuma, sagatavošana siltināšanai | D17: m2 | E17: 625 | K17: =SUM(H17:J17) -> 0 | L17: =ROUND(E17*F17,2) -> 0 | M17: =ROUND(E17*H17,2) -> 0 | N17: =ROUND(E17*I17,2) -> 0 | O17: =ROUND(E17*J17,2) -> 0 | P17: =SUM(M17:O17) -> 0
A18: 2 | C18: Ēkas ārējās apmales demontāža | D18: m2 | E18: 40 | K18: =SUM(H18:J18) -> 0 | L18: =ROUND(E18*F18,2) -> 0 | M18: =ROUND(E18*H18,2) -> 0 | N18: =ROUND(E18*I18,2) -> 0 | O18: =ROUND(E18*J18,2) -> 0 | P18: =SUM(M18:O18) -> 0
A19: 3 | C19: Demontēt ārdurvis | D19: gb | E19: 3 | K19: =SUM(H19:J19) -> 0 | L19: =ROUND(E19*F19,2) -> 0 | M19: =ROUND(E19*H19,2) -> 0 | N19: =ROUND(E19*I19,2) -> 0 | O19: =ROUND(E19*J19,2) -> 0 | P19: =SUM(M19:O19) -> 0
A20: 4 | C20: Demontēt logus | D20: gb | E20: 46 | K20: =SUM(H20:J20) -> 0 | L20: =ROUND(E20*F20,2) -> 0 | M20: =ROUND(E20*H20,2) -> 0 | N20: =ROUND(E20*I20,2) -> 0 | O20: =ROUND(E20*J20,2) -> 0 | P20: =SUM(M20:O20) -> 0
A21: 5 | C21: Vecā jumta seguma demontāža | D21: m2 | E21: 537.5 | K21: =SUM(H21:J21) -> 0 | L21: =ROUND(E21*F21,2) -> 0 | M21: =ROUND(E21*H21,2) -> 0 | N21: =ROUND(E21*I21,2) -> 0 | O21: =ROUND(E21*J21,2) -> 0 | P21: =SUM(M21:O21) -> 0
A22: 6 | C22: Būvgružu uztilizācija | D22: m3 | E22: 26 | K22: =SUM(H22:J22) -> 0 | L22: =ROUND(E22*F22,2) -> 0 | M22: =ROUND(E22*H22,2) -> 0 | N22: =ROUND(E22*I22,2) -> 0 | O22: =ROUND(E22*J22,2) -> 0 | P22: =SUM(M22:O22) -> 0
A24: Tiešās izmaksas kopā, t.sk. Darba dēvēja sociālais nodoklis (23,59%) | L24: =SUM(L17:L23) -> 0 | M24: =SUM(M17:M23) -> 0 | N24: =SUM(N17:N23) -> 0 | O24: =SUM(O17:O23) -> 0 | P24: =SUM(P17:P23) -> 0
A26: =KT!A21 -> Sastādīja: | D26: ='KA1'!E28 -> 2024.gada ___.______
A27: (paraksts un tā atšifrējums, datums)
A28: =KT!A23 -> Sertifikāta Nr.:
A30: =KT!A25 -> Sastādīja: | D30: =D26 -> 2024.gada ___.______
A31: (paraksts un tā atšifrējums, datums)
A32: =KT!A27 -> Sertifikāta Nr.:

Sheet 1.2.
A2: Lokālā tāme Nr. 1.2.
A3: Kāpņu apstrāde
A4: (būvdarbu veids vai konstruktīvā elementa nosaukums)
A6: Objekta nosaukums: | C6: =KT!B9 -> Energoefektivitātes paaugstināšana Augšlīgatnes pirmsskolas izglītības iestādē "Zvaniņi"
A7: Būves nosaukums: | C7: =KT!B10 -> Pirmsskolas izglītības iestāde "Zvaniņi"
A8: Objekta adrese: | C8: =KT!B11 -> Sporta iela 14, Augšlīgatne, Līgatnes pagasts, Cēsu novads, LV-4108
A9: Pasūtījuma nr.: | C9: =KT!B12 -> CMP21-BP99
A11: ='1.1.'!A11 -> Tāme sastādīta 2024. gada tirgus cenās, pamatojoties uz projekta rasējumiem | M11: Tāmes izmaksas: | O11: =P24 -> 0 | P11: EUR
N12: Tāme sastādītā | O12: =D26 -> 2024.gada ___.______
A14: Nr.p.k. | B14: Kods | C14: Būvdarbu nosaukums | D14: Mērvienība | E14: Daudzums | F14: Vienības izmaksas | L14: Kopā uz visu apjomu
F15: Laika norma (c/h) | G15: Darba samaksas likme (euro/h) | H15: Darba alga | I15: Būvizstrādājumi | J15: Mehānismi | K15: KOPĀ | L15: Darbietilpība (c/h) | M15: Darba alga | N15: Būvizstrādājumi | O15: Mehānismi | P15: Summa
C17: Kāpņu pretslīdes apstrāde, uzlikas. | F17: 0 | G17: =IF(F17>0,likme,0) -> 0 | H17: =ROUND(F17*G17,2) -> 0 | I17: 0 | J17: 0 | K17: =SUM(H17:J17) -> 0 | L17: =ROUND(E17*F17,2) -> 0 | M17: =ROUND(E17*H17,2) -> 0 | N17: =ROUND(E17*I17,2) -> 0 | O17: =ROUND(E17*J17,2) -> 0 | P17: =SUM(M17:O17) -> 0
A18: 1 | C18: Virsmas apstrāde ar pretslīdes kompozītmateriāla loksnēm "ASB Composite" 3 mm vai ekvivalents | D18: m2 | E18: 15 | K18: =SUM(H18:J18) -> 0 | L18: =ROUND(E18*F18,2) -> 0 | M18: =ROUND(E18*H18,2) -> 0 | N18: =ROUND(E18*I18,2) -> 0 | O18: =ROUND(E18*J18,2) -> 0 | P18: =SUM(M18:O18) -> 0
A19: 2 | C19: Kāpņu pretslīdes uzlika "ASB Composite Kāpņu uzlika 55M" 1700x55x4 mm, pārkare 55 mm. Tonis - RAL 9005 (melns) vai ekvivalents | D19: gb | E19: 6 | K19: =SUM(H19:J19) -> 0 | L19: =ROUND(E19*F19,2) -> 0 | M19: =ROUND(E19*H19,2) -> 0 | N19: =ROUND(E19*I19,2) -> 0 | O19: =ROUND(E19*J19,2) -> 0 | P19: =SUM(M19:O19) -> 0
A20: 3 | C20: Nerūsējošā tērauda margas ar leņķi divos līmeņos, montāža uz virsmas pēc ražotāja tehnoloģijas. Caurule ø 40 mm | D20: m | E20: 34 | K20: =SUM(H20:J20) -> 0 | L20: =ROUND(E20*F20,2) -> 0 | M20: =ROUND(E20*H20,2) -> 0 | N20: =ROUND(E20*I20,2) -> 0 | O20: =ROUND(E20*J20,2) -> 0 | P20: =SUM(M20:O20) -> 0
A21: 4 | C21: Nerūsējošā tērauda margas, montāža uz virsmas pēc ražotāja tehnoloģijas. Kāpņu margas roku balsts - taisnstūra 30x95 mm | D21: m | E21: 4 | K21: =SUM(H21:J21) -> 0 | L21: =ROUND(E21*F21,2) -> 0 | M21: =ROUND(E21*H21,2) -> 0 | N21: =ROUND(E21*I21,2) -> 0 | O21: =ROUND(E21*J21,2) -> 0 | P21: =SUM(M21:O21) -> 0
A22: 5 | C22: Nerūsējošā tērauda margu sistēmas pildījuma profils ø 20 mm | D22: m | E22: 12 | K22: =SUM(H22:J22) -> 0 | L22: =ROUND(E22*F22,2) -> 0 | M22: =ROUND(E22*H22,2) -> 0 | N22: =ROUND(E22*I22,2) -> 0 | O22: =ROUND(E22*J22,2) -> 0 | P22: =SUM(M22:O22) -> 0
A24: Tiešās izmaksas kopā, t.sk. Darba dēvēja sociālais nodoklis (23,59%) | L24: =SUM(L17:L23) -> 0 | M24: =SUM(M17:M23) -> 0 | N24: =SUM(N17:N23) -> 0 | O24: =SUM(O17:O23) -> 0 | P24: =SUM(P17:P23) -> 0
A26: =KT!A21 -> Sastādīja: | D26: ='1.1.'!D26 -> 2024.gada ___.______
A27: (paraksts un tā atšifrējums, datums)
A28: =KT!A23 -> Sertifikāta Nr.:
A30: =KT!A25 -> Sastādīja: | D30: =D26 -> 2024.gada ___.______
A31: (paraksts un tā atšifrējums, datums)
A32: =KT!A27 -> Sertifikāta Nr.:

Sheet 1.3.
A2: Lokālā tāme Nr.1.3.
A3: Jumts
A4: (būvdarbu veids vai konstruktīvā elementa nosaukums)
A6: Objekta nosaukums: | C6: =KT!B9 -> Energoefektivitātes paaugstināšana Augšlīgatnes pirmsskolas izglītības iestādē "Zvaniņi"
A7: Būves nosaukums: | C7: =KT!B10 -> Pirmsskolas izglītības iestāde "Zvaniņi"
A8: Objekta adrese: | C8: =KT!B11 -> Sporta iela 14, Augšlīgatne, Līgatnes pagasts, Cēsu novads, LV-4108
A9: Pasūtījuma nr.: | C9: =KT!B12 -> CMP21-BP99
A11: ='1.2.'!A11 -> Tāme sastādīta 2024. gada tirgus cenās, pamatojoties uz projekta rasējumiem | M11: Tāmes izmaksas: | O11: =P36 -> 0 | P11: EUR
N12: Tāme sastādītā | O12: =D38 -> 2024.gada ___.______
A14: Nr.p.k. | B14: Kods | C14: Būvdarbu nosaukums | D14: Mērvienība | E14: Daudzums | F14: Vienības izmaksas | L14: Kopā uz visu apjomu
F15: Laika norma (c/h) | G15: Darba samaksas likme (euro/h) | H15: Darba alga | I15: Būvizstrādājumi | J15: Mehānismi | K15: KOPĀ | L15: Darbietilpība (c/h) | M15: Darba alga | N15: Būvizstrādājumi | O15: Mehānismi | P15: Summa
C17: Jumts
A18: 1 | C18: Ieklāt PVC membrānas jumta segumu, ieskaitot visus stiprinājumus un palīgmateriālus. Virsklājs - PVC hidroizolācijas membrāna SOPREMA FLAGON SR>=1,5 mm. Sd vērtība: 30m vai ekvivalents | D18: m2 | E18: 537.5 | K18: =SUM(H18:J18) -> 0 | L18: =ROUND(E18*F18,2) -> 0 | M18: =ROUND(E18*H18,2) -> 0 | N18: =ROUND(E18*I18,2) -> 0 | O18: =ROUND(E18*J18,2) -> 0 | P18: =SUM(M18:O18) -> 0
A19: =A18+1 -> 2 | C19: Ieklāt ruļļmateriāla jumta segumu, ieskaitot visus stiprinājumus un palīgmateriālus. Apakšklājs - Jumta hidroizolācijas uzraudzības sistēma Controlit ar ģeotekstilu (300g/m2) | D19: m2 | E19: 537.5 | K19: =SUM(H19:J19) -> 0 | L19: =ROUND(E19*F19,2) -> 0 | M19: =ROUND(E19*H19,2) -> 0 | N19: =ROUND(E19*I19,2) -> 0 | O19: =ROUND(E19*J19,2) -> 0 | P19: =SUM(M19:O19) -> 0
A20: =A19+1 -> 3 | C20: Siltināt jumtu ar ROCKWOOL ROOFROCK 80 akmens vate 25 mm, λD = 0,038 W/mK, Iestrādes blīvums: ≥60 kg/m vai ekvivalents | D20: m2 | E20: =E19 -> 537.5 | K20: =SUM(H20:J20) -> 0 | L20: =ROUND(E20*F20,2) -> 0 | M20: =ROUND(E20*H20,2) -> 0 | N20: =ROUND(E20*I20,2) -> 0 | O20: =ROUND(E20*J20,2) -> 0 | P20: =SUM(M20:O20) -> 0
A21: =A20+1 -> 4 | C21: Siltināt jumtu arROCKWOOL ROOFROCK 30 E akmens vate, λD = 0,036 W/mK - 200 mm vai ekvivalents | D21: m2 | E21: =E20 -> 537.5 | K21: =SUM(H21:J21) -> 0 | L21: =ROUND(E21*F21,2) -> 0 | M21: =ROUND(E21*H21,2) -> 0 | N21: =ROUND(E21*I21,2) -> 0 | O21: =ROUND(E21*J21,2) -> 0 | P21: =SUM(M21:O21) -> 0
A22: =A21+1 -> 5 | C22: Siltināt jumtu ar ROCKWOOL ROOFROCK 80 akmens vate 20 mm, λD = 0,038 W/mK, Iestrādes blīvums: ≥60 kg/m vai ekvivalents | D22: m2 | E22: =E21 -> 537.5 | K22: =SUM(H22:J22) -> 0 | L22: =ROUND(E22*F22,2) -> 0 | M22: =ROUND(E22*H22,2) -> 0 | N22: =ROUND(E22*I22,2) -> 0 | O22: =ROUND(E22*J22,2) -> 0 | P22: =SUM(M22:O22) -> 0
A23: =A22+1 -> 6 | C23: Ieklāt tvaika izolāciju Isover Vario Xtra vai ekvivalents | D23: m2 | E23: =E22 -> 537.5 | K23: =SUM(H23:J23) -> 0 | L23: =ROUND(E23*F23,2) -> 0 | M23: =ROUND(E23*H23,2) -> 0 | N23: =ROUND(E23*I23,2) -> 0 | O23: =ROUND(E23*J23,2) -> 0 | P23: =SUM(M23:O23) -> 0
A24: =A23+1 -> 7 | C24: Ieklāt siltumizolācijas stūra elementu | D24: m | E24: 20.6 | K24: =SUM(H24:J24) -> 0 | L24: =ROUND(E24*F24,2) -> 0 | M24: =ROUND(E24*H24,2) -> 0 | N24: =ROUND(E24*I24,2) -> 0 | O24: =ROUND(E24*J24,2) -> 0 | P24: =SUM(M24:O24) -> 0
A25: =A24+1 -> 8 | C25: Siltināt parapetu ar ROCKWOOL ROOFROCK 80 akmens vate 2x25mm mm, λD = 0,038 W/mK vai ekvivalents | D25: m2 | E25: 7.21 | K25: =SUM(H25:J25) -> 0 | L25: =ROUND(E25*F25,2) -> 0 | M25: =ROUND(E25*H25,2) -> 0 | N25: =ROUND(E25*I25,2) -> 0 | O25: =ROUND(E25*J25,2) -> 0 | P25: =SUM(M25:O25) -> 0
A26: =A25+1 -> 9 | C26: Ieklāt PVC membrānas jumta segumu, ieskaitot visus stiprinājumus un palīgmateriālus. Virsklājs - PVC hidroizolācijas membrāna SOPREMA FLAGON SR>=1,5 mm. Sd vērtība: 30m vai ekvivalents | D26: m2 | E26: 7.21 | K26: =SUM(H26:J26) -> 0 | L26: =ROUND(E26*F26,2) -> 0 | M26: =ROUND(E26*H26,2) -> 0 | N26: =ROUND(E26*I26,2) -> 0 | O26: =ROUND(E26*J26,2) -> 0 | P26: =SUM(M26:O26) -> 0
A27: =A26+1 -> 10 | C27: Ieklāt ruļļmateriāla jumta segumu, ieskaitot visus stiprinājumus un palīgmateriālus. Apakšklājs - Jumta hidroizolācijas uzraudzības sistēma Controlit ar ģeotekstilu (300g/m2) | D27: m2 | E27: 7.21 | K27: =SUM(H27:J27) -> 0 | L27: =ROUND(E27*F27,2) -> 0 | M27: =ROUND(E27*H27,2) -> 0 | N27: =ROUND(E27*I27,2) -> 0 | O27: =ROUND(E27*J27,2) -> 0 | P27: =SUM(M27:O27) -> 0
A28: =A27+1 -> 11 | C28: Montēt parapeta skārda balstu b=2mm, ieskaitot visus stiprinājumus un palīgmateriālus. | D28: m | E28: 112.87 | K28: =SUM(H28:J28) -> 0 | L28: =ROUND(E28*F28,2) -> 0 | M28: =ROUND(E28*H28,2) -> 0 | N28: =ROUND(E28*I28,2) -> 0 | O28: =ROUND(E28*J28,2) -> 0 | P28: =SUM(M28:O28) -> 0
A29: =A28+1 -> 12 | C29: Montēt parapeta skārda nosegelementu b=0,5mm, ieskaitot visus stiprinājumus un palīgmateriālus. | D29: m | E29: 112.87 | K29: =SUM(H29:J29) -> 0 | L29: =ROUND(E29*F29,2) -> 0 | M29: =ROUND(E29*H29,2) -> 0 | N29: =ROUND(E29*I29,2) -> 0 | O29: =ROUND(E29*J29,2) -> 0 | P29: =SUM(M29:O29) -> 0
C30: Papilddarbi | K30: =SUM(H30:J30) -> 0 | L30: =ROUND(E30*F30,2) -> 0 | M30: =ROUND(E30*H30,2) -> 0 | N30: =ROUND(E30*I30,2) -> 0 | O30: =ROUND(E30*J30,2) -> 0 | P30: =SUM(M30:O30) -> 0
A31: 13 | C31: Jumta aerators Vilpe Alipai 110, D110mm, h=464mm vai analogs, uzstādāms saskaņā ar ražotāja noteiktu tehnoloģisko procesu, ieskaitot palīgmateriālus, uzstādīšanu un mehānismus | D31: gb | E31: 16 | K31: =SUM(H31:J31) -> 0 | L31: =ROUND(E31*F31,2) -> 0 | M31: =ROUND(E31*H31,2) -> 0 | N31: =ROUND(E31*I31,2) -> 0 | O31: =ROUND(E31*J31,2) -> 0 | P31: =SUM(M31:O31) -> 0
A32: 14 | C32: Montēt ieejas jumtiņu 1900x1200mm, ieskaitot visus stiprinājumus un palīgmateriālus. Stiklota jumta platforma virs ieejas lieveņiem, stiprināts ar metāla kronšteinie (6+6mm "Clearlite" rūdīts, laminēts stikla panelis). Vai ekvivalents | D32: m2 | E32: 2.28 | K32: =SUM(H32:J32) -> 0 | L32: =ROUND(E32*F32,2) -> 0 | M32: =ROUND(E32*H32,2) -> 0 | N32: =ROUND(E32*I32,2) -> 0 | O32: =ROUND(E32*J32,2) -> 0 | P32: =SUM(M32:O32) -> 0
A33: 15 | C33: Montēt skārda notekas sistēmu d90mm, ieskaitot visus stiprinājumus un palīgmateriālus. | D33: m | E33: 72 | K33: =SUM(H33:J33) -> 0 | L33: =ROUND(E33*F33,2) -> 0 | M33: =ROUND(E33*H33,2) -> 0 | N33: =ROUND(E33*I33,2) -> 0 | O33: =ROUND(E33*J33,2) -> 0 | P33: =SUM(M33:O33) -> 0
A34: 16 | C34: Montēt skārda tekni d125mm, ieskaitot visus stiprinājumus un palīgmateriālus. | D34: m | E34: 55.2 | K34: =SUM(H34:J34) -> 0 | L34: =ROUND(E34*F34,2) -> 0 | M34: =ROUND(E34*H34,2) -> 0 | N34: =ROUND(E34*I34,2) -> 0 | O34: =ROUND(E34*J34,2) -> 0 | P34: =SUM(M34:O34) -> 0
A36: Tiešās izmaksas kopā, t.sk. Darba dēvēja sociālais nodoklis (23,59%) | L36: =SUM(L17:L35) -> 0 | M36: =SUM(M17:M35) -> 0 | N36: =SUM(N17:N35) -> 0 | O36: =SUM(O17:O35) -> 0 | P36: =SUM(P17:P35) -> 0
A38: =KT!A21 -> Sastādīja: | D38: ='1.2.'!D26 -> 2024.gada ___.______
A39: (paraksts un tā atšifrējums, datums)
A40: =KT!A23 -> Sertifikāta Nr.:
A42: =KT!A25 -> Sastādīja: | D42: =D38 -> 2024.gada ___.______
A43: (paraksts un tā atšifrējums, datums)
A44: =KT!A27 -> Sertifikāta Nr.:

Sheet 1.4.
A2: Lokālā tāme Nr. 1.4.
A3: Ailu aizpildījums
A4: (būvdarbu veids vai konstruktīvā elementa nosaukums)
A6: Objekta nosaukums: | C6: =KT!B9 -> Energoefektivitātes paaugstināšana Augšlīgatnes pirmsskolas izglītības iestādē "Zvaniņi"
A7: Būves nosaukums: | C7: =KT!B10 -> Pirmsskolas izglītības iestāde "Zvaniņi"
A8: Objekta adrese: | C8: =KT!B11 -> Sporta iela 14, Augšlīgatne, Līgatnes pagasts, Cēsu novads, LV-4108
A9: Pasūtījuma nr.: | C9: =KT!B12 -> CMP21-BP99
A11: ='1.3.'!A11 -> Tāme sastādīta 2024. gada tirgus cenās, pamatojoties uz projekta rasējumiem | M11: Tāmes izmaksas: | O11: =P57 -> 0 | P11: EUR
N12: Tāme sastādītā | O12: =D59 -> 2024.gada ___.______
A14: Nr.p.k. | B14: Kods | C14: Būvdarbu nosaukums | D14: Mērvienība | E14: Daudzums | F14: Vienības izmaksas | L14: Kopā uz visu apjomu
F15: Laika norma (c/h) | G15: Darba samaksas likme (euro/h) | H15: Darba alga | I15: Būvizstrādājumi | J15: Mehānismi | K15: KOPĀ | L15: Darbietilpība (c/h) | M15: Darba alga | N15: Būvizstrādājumi | O15: Mehānismi | P15: Summa
C17: Ārdurvis | F17: 0 | G17: =IF(F17>0,likme,0) -> 0 | H17: =ROUND(F17*G17,2) -> 0 | I17: 0 | J17: 0 | K17: =SUM(H17:J17) -> 0 | L17: =ROUND(E17*F17,2) -> 0 | M17: =ROUND(E17*H17,2) -> 0 | N17: =ROUND(E17*I17,2) -> 0 | O17: =ROUND(E17*J17,2) -> 0 | P17: =SUM(M17:O17) -> 0
A18: 1 | C18: 1-D1, Ārdurvis, 1700×2100 Alumīnija konstrukcija ārdurvis ar stiklotu vērtni. Divas vērtnes Trīskāršā stikla pakete ar biezumu 50mm, ar argonu. Siltumcaurlaidības koeficients: Uw ≤ 1,8 W/m2K Skaņas izolācijas koeficients R’w ≥ 33 dB Rāmja tonis: NCS S 2010-Y70R (RAL 7047) Vēršanās virziens - divviru Alumīnija rāmja konstrukcijas profils - Reyneaers masterline 10 Functional vai ekvivalents Panikas rokturis evakuācijas virzienā - FBS 77 7970/7980 (vai līdzv.), ar pašaizvēršanās mehānismu GEZE TS-3000 ISM (vai līdzv.) - uzstādīts tikai galvenajai vērtnei. Automātiskais slieksnis SCHALLEX L-15/30 WS (vai līdzv.) | D18: gb | E18: 2 | K18: =SUM(H18:J18) -> 0 | L18: =ROUND(E18*F18,2) -> 0 | M18: =ROUND(E18*H18,2) -> 0 | N18: =ROUND(E18*I18,2) -> 0 | O18: =ROUND(E18*J18,2) -> 0 | P18: =SUM(M18:O18) -> 0
A19: =A18+1 -> 2 | C19: 1-D2, Ārdurvis, 900×2150 Alumīnija konstrukcija ārdurvis. Viena vērtne. Siltumcaurlaidības koeficients: Uw ≤ 1,1 W/m2K Skaņas izolācijas koeficients R’w ≥ 33 dB Rāmja tonis: NCS S 5500-N (RAL 7047) Vēršanās virziens - kreisais Alumīnija rāmja konstrukcijas profils - Reyneaers masterline 10 Functional vai ekvivalents Panikas rokturis evakuācijas virzienā - FBS 77 7970/7980 (vai līdzv.), ar pašaizvēršanās mehānismu GEZE TS-3000 ISM (vai līdzv.) Automātiskais slieksnis SCHALLEX L-15/30 WS (vai līdzv.) | D19: gb | E19: 1 | K19: =SUM(H19:J19) -> 0 | L19: =ROUND(E19*F19,2) -> 0 | M19: =ROUND(E19*H19,2) -> 0 | N19: =ROUND(E19*I19,2) -> 0 | O19: =ROUND(E19*J19,2) -> 0 | P19: =SUM(M19:O19) -> 0
A20: =A19+1 -> 3 | C20: Uzstādīt pretkondensāta izolācijas šuvju līmlenti, ieskaitot visus stiprinājumus un palīgmateriālus. | D20: m | E20: 20.24 | K20: =SUM(H20:J20) -> 0 | L20: =ROUND(E20*F20,2) -> 0 | M20: =ROUND(E20*H20,2) -> 0 | N20: =ROUND(E20*I20,2) -> 0 | O20: =ROUND(E20*J20,2) -> 0 | P20: =SUM(M20:O20) -> 0
A21: =A20+1 -> 4 | C21: Uzstādīt tvaika izolācijas lokšņu šuvju līmlenti, ieskaitot visus stiprinājumus un palīgmateriālus. | D21: m | E21: 20.24 | K21: =SUM(H21:J21) -> 0 | L21: =ROUND(E21*F21,2) -> 0 | M21: =ROUND(E21*H21,2) -> 0 | N21: =ROUND(E21*I21,2) -> 0 | O21: =ROUND(E21*J21,2) -> 0 | P21: =SUM(M21:O21) -> 0
A22: =A21+1 -> 5 | C22: Apstrādāt durvju ailu ar ģipškartonu un siltinājumu (analogi lapai ARD-2, Mezgls 6) | D22: m | E22: 17.2 | K22: =SUM(H22:J22) -> 0 | L22: =ROUND(E22*F22,2) -> 0 | M22: =ROUND(E22*H22,2) -> 0 | N22: =ROUND(E22*I22,2) -> 0 | O22: =ROUND(E22*J22,2) -> 0 | P22: =SUM(M22:O22) -> 0
A23: =A22+1 -> 6 | C23: Gruntēt, špaktelēt un slīpēt ailas | D23: m | E23: 17.2 | K23: =SUM(H23:J23) -> 0 | L23: =ROUND(E23*F23,2) -> 0 | M23: =ROUND(E23*H23,2) -> 0 | N23: =ROUND(E23*I23,2) -> 0 | O23: =ROUND(E23*J23,2) -> 0 | P23: =SUM(M23:O23) -> 0
A24: =A23+1 -> 7 | C24: Gruntēt un krāsot sienas divās kārtās | D24: m | E24: 17.2 | K24: =SUM(H24:J24) -> 0 | L24: =ROUND(E24*F24,2) -> 0 | M24: =ROUND(E24*H24,2) -> 0 | N24: =ROUND(E24*I24,2) -> 0 | O24: =ROUND(E24*J24,2) -> 0 | P24: =SUM(M24:O24) -> 0
C25: Logi
A26: =A24+1 -> 8 | C26: 1-L1. 2480x1820(h) Plastmasas (PVC) profila 86 mm logs, 3 stiklu jeb 2 kameras ar "Thermix" starpliku Divas sekcijas. Viena sekcija - verama un atgāžama. Siltuma caurlaidības koeficents: Uw ≤ 0,9 W/m2k PVC rāmis Tonis: RAL 5005 (NCS S 4550-R90B) (Zils tonis) | D26: gb | E26: 7 | K26: =SUM(H26:J26) -> 0 | L26: =ROUND(E26*F26,2) -> 0 | M26: =ROUND(E26*H26,2) -> 0 | N26: =ROUND(E26*I26,2) -> 0 | O26: =ROUND(E26*J26,2) -> 0 | P26: =SUM(M26:O26) -> 0
A27: =A26+1 -> 9 | C27: 1-L2. 2480x1820(h) Plastmasas (PVC) profila 86 mm logs, 3 stiklu jeb 2 kameras ar "Thermix" starpliku Divas sekcijas. Viena sekcija - verama un atgāžama. Siltuma caurlaidības koeficents: Uw ≤ 0,9 W/m2k PVC rāmis Tonis: RAL 6026 (NCS S 6020-B90G) (Zaļš tonis) | D27: gb | E27: 7 | K27: =SUM(H27:J27) -> 0 | L27: =ROUND(E27*F27,2) -> 0 | M27: =ROUND(E27*H27,2) -> 0 | N27: =ROUND(E27*I27,2) -> 0 | O27: =ROUND(E27*J27,2) -> 0 | P27: =SUM(M27:O27) -> 0
A28: =A27+1 -> 10 | C28: 1-L3. 1070x2500(h). Alumīnija profila 86 mm logs, 3 stiklu jeb 2 kameras ar "Thermix" starpliku Viena sekcija - verama un atgāžama. Siltuma caurlaidības koeficents: Uw ≤ 0,9 W/m2k Alumīnija profilu rāmis Tonis: RAL 2003 (NCS 0570-Y60R) (Oranžs) | D28: gb | E28: 1 | K28: =SUM(H28:J28) -> 0 | L28: =ROUND(E28*F28,2) -> 0 | M28: =ROUND(E28*H28,2) -> 0 | N28: =ROUND(E28*I28,2) -> 0 | O28: =ROUND(E28*J28,2) -> 0 | P28: =SUM(M28:O28) -> 0
A29: =A28+1 -> 11 | C29: 1-L4. 6070x2500(h) Alumīnija profila 86 mm logs, 3 stiklu jeb 2 kameras ar "Thermix" starpliku Piecas sekcijas, 3 no tām atveramas un atgāžamas. Siltuma caurlaidības koeficents: Uw ≤ 0,9 W/m2k Alumīnija profilu rāmis Tonis: RAL 2003 (NCS 0570-Y60R) (Oranžs) | D29: gb | E29: 1 | K29: =SUM(H29:J29) -> 0 | L29: =ROUND(E29*F29,2) -> 0 | M29: =ROUND(E29*H29,2) -> 0 | N29: =ROUND(E29*I29,2) -> 0 | O29: =ROUND(E29*J29,2) -> 0 | P29: =SUM(M29:O29) -> 0
A30: =A29+1 -> 12 | C30: 1-L5. 7050x2500(h) Alumīnija profila 86 mm logs, 3 stiklu jeb 2 kameras ar "Thermix" starpliku Piecas sekcijas, 3 no tām atveramas atgāžamas. Siltuma caurlaidības koeficents: Uw ≤ 0,9 W/m2k Alumīnija profilu rāmis Tonis: RAL 2003 (NCS 0570-Y60R) (Oranžs) | D30: gb | E30: 1 | K30: =SUM(H30:J30) -> 0 | L30: =ROUND(E30*F30,2) -> 0 | M30: =ROUND(E30*H30,2) -> 0 | N30: =ROUND(E30*I30,2) -> 0 | O30: =ROUND(E30*J30,2) -> 0 | P30: =SUM(M30:O30) -> 0
A31: =A30+1 -> 13 | C31: 1-L6. 2200x1820(h). Plastmasas (PVC) profila 86 mm logs, 3 stiklu jeb 2 kameras ar "Thermix" starpliku Divas sekcijas. Viena sekcija atverama un atgāžama. Siltuma caurlaidības koeficents: Uw ≤ 0,9 W/m2k PVC rāmis Tonis: RAL 6026 (NCS S 6020-B90G) (Zaļš) | D31: gb | E31: 1 | K31: =SUM(H31:J31) -> 0 | L31: =ROUND(E31*F31,2) -> 0 | M31: =ROUND(E31*H31,2) -> 0 | N31: =ROUND(E31*I31,2) -> 0 | O31: =ROUND(E31*J31,2) -> 0 | P31: =SUM(M31:O31) -> 0
A32: =A31+1 -> 14 | C32: 1-L7. 2200x1820(h). Plastmasas (PVC) profila 86 mm logs, 3 stiklu jeb 2 kameras ar "Thermix" starpliku Divas sekcijas. Viena sekcija atverama un atgāžama. Siltuma caurlaidības koeficents: Uw ≤ 0,9 W/m2k PVC rāmis Tonis: RAL 5005 (NCS S 4550-R90B) (Zils tonis) | D32: gb | E32: 1 | K32: =SUM(H32:J32) -> 0 | L32: =ROUND(E32*F32,2) -> 0 | M32: =ROUND(E32*H32,2) -> 0 | N32: =ROUND(E32*I32,2) -> 0 | O32: =ROUND(E32*J32,2) -> 0 | P32: =SUM(M32:O32) -> 0
A33: =A32+1 -> 15 | C33: 1-L8. 2200x1820(h). Plastmasas (PVC) profila 86 mm logs, 3 stiklu jeb 2 kameras ar "Thermix" starpliku Divas sekcijas. Viena sekcija atverama un atgāžama. Siltuma caurlaidības koeficents: Uw ≤ 0,9 W/m2k PVC rāmis Tonis: RAL 2003 (NCS 0570-Y60R) (Oranžs) | D33: gb | E33: 1 | K33: =SUM(H33:J33) -> 0 | L33: =ROUND(E33*F33,2) -> 0 | M33: =ROUND(E33*H33,2) -> 0 | N33: =ROUND(E33*I33,2) -> 0 | O33: =ROUND(E33*J33,2) -> 0 | P33: =SUM(M33:O33) -> 0
A34: =A33+1 -> 16 | C34: 1-L9. 2400x5120(h). Alumīnija profila 86 mm logs, 3 stiklu jeb 2 kameras ar "Thermix" starpliku Desmit sekcijas - divas sekcijas veramas un atgāžamas. Siltuma caurlaidības koeficents: Uw ≤ 0,9 W/m2k Alumīnija profilu rāmis Tonis: RAL 7016 (NCS S 8500-N) (pelēks) | D34: gb | E34: 2 | K34: =SUM(H34:J34) -> 0 | L34: =ROUND(E34*F34,2) -> 0 | M34: =ROUND(E34*H34,2) -> 0 | N34: =ROUND(E34*I34,2) -> 0 | O34: =ROUND(E34*J34,2) -> 0 | P34: =SUM(M34:O34) -> 0
A35: =A34+1 -> 17 | C35: Bauroc Universal gāzbetona bloku piemūrējums 200x300mm uz līmjavas kārtas. Stiegrot atbilstoši tehnoloģijai. Ieskaitot visus stiprinājumus un palīgmateriālus, mehānismi, ailes apdare. | D35: m2 | E35: 2.1 | K35: =SUM(H35:J35) -> 0 | L35: =ROUND(E35*F35,2) -> 0 | M35: =ROUND(E35*H35,2) -> 0 | N35: =ROUND(E35*I35,2) -> 0 | O35: =ROUND(E35*J35,2) -> 0 | P35: =SUM(M35:O35) -> 0
A36: =A35+1 -> 18 | C36: 1-L10. 2350x600(h). Plastmasas (PVC) profila 86 mm logs, 3 stiklu jeb 2 kameras ar "Thermix" starpliku Divas sekcijas. Viena sekcija - verama un atgāžama. Siltuma caurlaidības koeficents: Uw ≤ 0,9 W/m2k PVC rāmis Tonis: RAL 6026 (NCS S 6020-B90G) (Zaļš) | D36: gb | E36: 1 | K36: =SUM(H36:J36) -> 0 | L36: =ROUND(E36*F36,2) -> 0 | M36: =ROUND(E36*H36,2) -> 0 | N36: =ROUND(E36*I36,2) -> 0 | O36: =ROUND(E36*J36,2) -> 0 | P36: =SUM(M36:O36) -> 0
A37: =A36+1 -> 19 | C37: 1-L11. 1100x1400(h). Plastmasas (PVC) profila 86 mm logs, 3 stiklu jeb 2 kameras ar "Thermix" starpliku Viena sekcija - atgāžama un verama. Siltuma caurlaidības koeficents: Uw ≤ 0,9 W/m2k PVC rāmis Tonis: RAL 6026 (NCS S 6020-B90G) (Zaļš) | D37: gb | E37: 1 | K37: =SUM(H37:J37) -> 0 | L37: =ROUND(E37*F37,2) -> 0 | M37: =ROUND(E37*H37,2) -> 0 | N37: =ROUND(E37*I37,2) -> 0 | O37: =ROUND(E37*J37,2) -> 0 | P37: =SUM(M37:O37) -> 0
A38: =A37+1 -> 20 | C38: 1-L12. 940x2780(h). Alumīnija profila 86 mm logs, 3 stiklu jeb 2 kameras ar "Thermix" starpliku Viena sekcija - neverama. Siltuma caurlaidības koeficents: Uw ≤ 0,9 W/m2k Alumīnija profilu rāmis Tonis: RAL 2003 (NCS 0570-Y60R) (Oranžs) | D38: gb | E38: 1 | K38: =SUM(H38:J38) -> 0 | L38: =ROUND(E38*F38,2) -> 0 | M38: =ROUND(E38*H38,2) -> 0 | N38: =ROUND(E38*I38,2) -> 0 | O38: =ROUND(E38*J38,2) -> 0 | P38: =SUM(M38:O38) -> 0
... A55: =A54+1 -> 37 | C55: Montēt ārējo palodzi, ieskaitot visus stiprinājumus un palīgmateriālus. Ārējā skārda palodze - "PU Pural" 201-250mm (vai analogs). Ailes galēja apdare pēc montāžas darbu pabeigšanas. | D55: m | E55: 107.8 | K55: =SUM(H55:J55) -> 0 | L55: =ROUND(E55*F55,2) -> 0 | M55: =ROUND(E55*H55,2) -> 0 | N55: =ROUND(E55*I55,2) -> 0 | O55: =ROUND(E55*J55,2) -> 0 | P55: =SUM(M55:O55) -> 0
A57: Tiešās izmaksas kopā, t.sk. Darba dēvēja sociālais nodoklis (23,59%) | L57: =SUM(L17:L56) -> 0 | M57: =SUM(M17:M56) -> 0 | N57: =SUM(N17:N56) -> 0 | O57: =SUM(O17:O56) -> 0 | P57: =SUM(P17:P56) -> 0
A59: =KT!A21 -> Sastādīja: | D59: ='1.3.'!D38 -> 2024.gada ___.______
A60: (paraksts un tā atšifrējums, datums)
A61: =KT!A23 -> Sertifikāta Nr.:
A63: =KT!A25 -> Sastādīja: | D63: =D59 -> 2024.gada ___.______
A64: (paraksts un tā atšifrējums, datums)
...

Sheet 1.5.
A2: Lokālā tāme Nr. 1.5.
A3: Fasāde
A4: (būvdarbu veids vai konstruktīvā elementa nosaukums)
A6: Objekta nosaukums: | C6: =KT!B9 -> Energoefektivitātes paaugstināšana Augšlīgatnes pirmsskolas izglītības iestādē "Zvaniņi"
A7: Būves nosaukums: | C7: =KT!B10 -> Pirmsskolas izglītības iestāde "Zvaniņi"
A8: Objekta adrese: | C8: =KT!B11 -> Sporta iela 14, Augšlīgatne, Līgatnes pagasts, Cēsu novads, LV-4108
A9: Pasūtījuma nr.: | C9: =KT!B12 -> CMP21-BP99
A11: ='1.4.'!A11 -> Tāme sastādīta 2024. gada tirgus cenās, pamatojoties uz projekta rasējumiem | M11: Tāmes izmaksas: | O11: =P49 -> 0 | P11: EUR
N12: Tāme sastādītā | O12: =D51 -> 2024.gada ___.______
A14: Nr.p.k. | B14: Kods | C14: Būvdarbu nosaukums | D14: Mērvienība | E14: Daudzums | F14: Vienības izmaksas | L14: Kopā uz visu apjomu
F15: Laika norma (c/h) | G15: Darba samaksas likme (euro/h) | H15: Darba alga | I15: Būvizstrādājumi | J15: Mehānismi | K15: KOPĀ | L15: Darbietilpība (c/h) | M15: Darba alga | N15: Būvizstrādājumi | O15: Mehānismi | P15: Summa
C17: Grunts izstrāde pamatu siltināšanas darbiem darbiem
A18: 1 | C18: Atrakt pamatus līdz projektā paredzētajam dziļumam | D18: m3 | E18: 46.97 | K18: =SUM(H18:J18) -> 0 | L18: =ROUND(E18*F18,2) -> 0 | M18: =ROUND(E18*H18,2) -> 0 | N18: =ROUND(E18*I18,2) -> 0 | O18: =ROUND(E18*J18,2) -> 0 | P18: =SUM(M18:O18) -> 0
A19: 2 | C19: Izvest lieko grunti uz būvuzņēmēja atbērtni un utilizēt | D19: m3 | E19: 10.47 | K19: =SUM(H19:J19) -> 0 | L19: =ROUND(E19*F19,2) -> 0 | M19: =ROUND(E19*H19,2) -> 0 | N19: =ROUND(E19*I19,2) -> 0 | O19: =ROUND(E19*J19,2) -> 0 | P19: =SUM(M19:O19) -> 0
A20: 3 | C20: Aizbērt pamatus ar esošo grunti | D20: m3 | E20: 36.5 | K20: =SUM(H20:J20) -> 0 | L20: =ROUND(E20*F20,2) -> 0 | M20: =ROUND(E20*H20,2) -> 0 | N20: =ROUND(E20*I20,2) -> 0 | O20: =ROUND(E20*J20,2) -> 0 | P20: =SUM(M20:O20) -> 0
C21: Cokols
A22: 4 | C22: Ieklāt pamatu hidroizolāciju ar bituma mastiku divās kārtās TECHNONICOL Nr.24 (mgtn) vai ekvivalents | D22: m2 | E22: 258.35 | K22: =SUM(H22:J22) -> 0 | L22: =ROUND(E22*F22,2) -> 0 | M22: =ROUND(E22*H22,2) -> 0 | N22: =ROUND(E22*I22,2) -> 0 | O22: =ROUND(E22*J22,2) -> 0 | P22: =SUM(M22:O22) -> 0
A23: =A22+1 -> 5 | C23: Siltināt pamatus ar Tenapors EPS 100, λD ≤ 0,036 W/Mk - 100 mm vai ekvivalents uz līmjavas kārtas, ieskaitot visus stiprinājumus un palīgmateriālus. | D23: m2 | E23: 258.35 | K23: =SUM(H23:J23) -> 0 | L23: =ROUND(E23*F23,2) -> 0 | M23: =ROUND(E23*H23,2) -> 0 | N23: =ROUND(E23*I23,2) -> 0 | O23: =ROUND(E23*J23,2) -> 0 | P23: =SUM(M23:O23) -> 0
A24: =A23+1 -> 6 | C24: Armēt virsmu ar armēšanas javu pa stiklašķiedras sietu. Ieskaitot visus stiprinājumus un palīgmateriālus. | D24: m2 | E24: 77.99 | K24: =SUM(H24:J24) -> 0 | L24: =ROUND(E24*F24,2) -> 0 | M24: =ROUND(E24*H24,2) -> 0 | N24: =ROUND(E24*I24,2) -> 0 | O24: =ROUND(E24*J24,2) -> 0 | P24: =SUM(M24:O24) -> 0
A25: =A24+1 -> 7 | C25: Armēt virsmu ar armēšanas javu pa stiklašķiedras sietu. Ieskaitot visus stiprinājumus un palīgmateriālus. | D25: m2 | E25: 77.99 | K25: =SUM(H25:J25) -> 0 | L25: =ROUND(E25*F25,2) -> 0 | M25: =ROUND(E25*H25,2) -> 0 | N25: =ROUND(E25*I25,2) -> 0 | O25: =ROUND(E25*J25,2) -> 0 | P25: =SUM(M25:O25) -> 0
A26: =A25+1 -> 8 | C26: Gruntēt un apmest virsmu ar tonētu dekoratīvo apmetumu. Ieskaitot visus stiprinājumus un palīgmateriālus. Dekoratīvais plānkārtas cokola apmetums | D26: m2 | E26: 48.75 | K26: =SUM(H26:J26) -> 0 | L26: =ROUND(E26*F26,2) -> 0 | M26: =ROUND(E26*H26,2) -> 0 | N26: =ROUND(E26*I26,2) -> 0 | O26: =ROUND(E26*J26,2) -> 0 | P26: =SUM(M26:O26) -> 0
A27: 6 | C27: Montēt skārda lāseni, ieskaitot visus stiprinājumus un palīgmateriālus. | D27: m | E27: 97.49 | K27: =SUM(H27:J27) -> 0 | L27: =ROUND(E27*F27,2) -> 0 | M27: =ROUND(E27*H27,2) -> 0 | N27: =ROUND(E27*I27,2) -> 0 | O27: =ROUND(E27*J27,2) -> 0 | P27: =SUM(M27:O27) -> 0
A28: 7 | C28: Montēt cokola profilu, ieskaitot visus stiprinājumus un palīgmateriālus. Alumīnija/skārda cokola profils, kur pievienota PVC lāseņa detaļa pie esošās nesošās sienas. Profilu pie sienas stiprina ar metāla plāksni/ leņķi, kas ir distanceris. | D28: m | E28: 97.49 | K28: =SUM(H28:J28) -> 0 | L28: =ROUND(E28*F28,2) -> 0 | M28: =ROUND(E28*H28,2) -> 0 | N28: =ROUND(E28*I28,2) -> 0 | O28: =ROUND(E28*J28,2) -> 0 | P28: =SUM(M28:O28) -> 0
C29: Fasāde
A30: 8 | C30: Ieklāt pretvēja plēvi | D30: m2 | E30: 623 | K30: =SUM(H30:J30) -> 0 | L30: =ROUND(E30*F30,2) -> 0 | M30: =ROUND(E30*H30,2) -> 0 | N30: =ROUND(E30*I30,2) -> 0 | O30: =ROUND(E30*J30,2) -> 0 | P30: =SUM(M30:O30) -> 0
A31: =A30+1 -> 9 | C31: Montēt alumīnija profila ventilējamās fasādes apakškarkasu, ieskaitot visus stiprinājumus un palīgmateriālus atbilstoši fasādes sistēmu ražotāju noteiktajai darbu izpildes tehnoloģijai | D31: m2 | E31: 623 | K31: =SUM(H31:J31) -> 0 | L31: =ROUND(E31*F31,2) -> 0 | M31: =ROUND(E31*H31,2) -> 0 | N31: =ROUND(E31*I31,2) -> 0 | O31: =ROUND(E31*J31,2) -> 0 | P31: =SUM(M31:O31) -> 0
A32: 10 | C32: Siltināt fasādi ar ROCKWOOL VENTIROCK PLUS akmens vate - 150 mm, λD = 0,034 W/mK vai ekvivalents | D32: m2 | E32: 623 | K32: =SUM(H32:J32) -> 0 | L32: =ROUND(E32*F32,2) -> 0 | M32: =ROUND(E32*H32,2) -> 0 | N32: =ROUND(E32*I32,2) -> 0 | O32: =ROUND(E32*J32,2) -> 0 | P32: =SUM(M32:O32) -> 0
A33: 11 | C33: ROCKWOOL VENTIROCK F PLUS akmens vate - 50 mm, λD = 0,034 W/mK vai ekvivalents, ieskaitot visus stiprinājumus un palīgmateriālus. | D33: m2 | E33: 623 | K33: =SUM(H33:J33) -> 0 | L33: =ROUND(E33*F33,2) -> 0 | M33: =ROUND(E33*H33,2) -> 0 | N33: =ROUND(E33*I33,2) -> 0 | O33: =ROUND(E33*J33,2) -> 0 | P33: =SUM(M33:O33) -> 0
A34: =A33+1 -> 12 | C34: Siltināt logu ailes ar akmens vati ROCKWOOL FRONTROCK 3 λD = 0,037 W/mK vai ekvivalents 30mm | D34: m | E34: 351.48 | K34: =SUM(H34:J34) -> 0 | L34: =ROUND(E34*F34,2) -> 0 | M34: =ROUND(E34*H34,2) -> 0 | N34: =ROUND(E34*I34,2) -> 0 | O34: =ROUND(E34*J34,2) -> 0 | P34: =SUM(M34:O34) -> 0
A35: =A34+1 -> 13 | C35: Apšūt fasādes karkasu ar fasādes apdares plāksnēm (EQUITONE [pictura PG241] NCS S 3502-B (vai līdzvērtīgs), 8 mm, ieskaitot visus stiprinājumus un palīgmateriālus. | D35: m2 | E35: 420 | K35: =SUM(H35:J35) -> 0 | L35: =ROUND(E35*F35,2) -> 0 | M35: =ROUND(E35*H35,2) -> 0 | N35: =ROUND(E35*I35,2) -> 0 | O35: =ROUND(E35*J35,2) -> 0 | P35: =SUM(M35:O35) -> 0
A36: =A35+1 -> 14 | C36: Apšūt fasādes karkasu ar fasādes apdares plāksnēm (EQUITONE [pictura] (NCS S 1040-R70B) (vai līdzvērtīgs), 8 mm, ieskaitot visus stiprinājumus un palīgmateriālus. | D36: m2 | E36: 148 | K36: =SUM(H36:J36) -> 0 | L36: =ROUND(E36*F36,2) -> 0 | M36: =ROUND(E36*H36,2) -> 0 | N36: =ROUND(E36*I36,2) -> 0 | O36: =ROUND(E36*J36,2) -> 0 | P36: =SUM(M36:O36) -> 0
A37: =A36+1 -> 15 | C37: Apšūt fasādes karkasu ar fasādes apdares plāksnēm (EQUITONE [pictura] (NCS S 0540-Y40R) (vai līdzvērtīgs), 8 mm, ieskaitot visus stiprinājumus un palīgmateriālus. | D37: m2 | E37: 30 | K37: =SUM(H37:J37) -> 0 | L37: =ROUND(E37*F37,2) -> 0 | M37: =ROUND(E37*H37,2) -> 0 | N37: =ROUND(E37*I37,2) -> 0 | O37: =ROUND(E37*J37,2) -> 0 | P37: =SUM(M37:O37) -> 0
A38: =A37+1 -> 16 | C38: Apšūt fasādes karkasu ar fasādes apdares plāksnēm EQUITONE [pictura] (NCS S 0540-G50Y) (vai līdzvērtīgs), 8 mm, ieskaitot visus stiprinājumus un palīgmateriālus. | D38: m2 | E38: 25 | K38: =SUM(H38:J38) -> 0 | L38: =ROUND(E38*F38,2) -> 0 | M38: =ROUND(E38*H38,2) -> 0 | N38: =ROUND(E38*I38,2) -> 0 | O38: =ROUND(E38*J38,2) -> 0 | P38: =SUM(M38:O38) -> 0
C39: Cits
A40: 17 | C40: ARD-3. Ārējās ugunsdzēsības sienas kāpnes ar kāpņu platformu. Ugunsreakcijas klase A1. Materiāls S235 tērauds, standarta konstrukcijā 30x30x2mm. Gruntētas / pulverkrāsotas / cinkotas. Platums: 700mm. Ar stiprinājumiem un palīgmateriāliem. Tonis RAL 7016 (NCS S 8005-B20G) | D40: kmpl | E40: 1 | K40: =SUM(H40:J40) -> 0 | L40: =ROUND(E40*F40,2) -> 0 | M40: =ROUND(E40*H40,2) -> 0 | N40: =ROUND(E40*I40,2) -> 0 | O40: =ROUND(E40*J40,2) -> 0 | P40: =SUM(M40:O40) -> 0
A41: 18 | C41: Montēt un demontēt fasādes sastatnes pa ēkas perimetru, norobežojot ar aizsargsietu. Ieskaitot visus stiprinājumus un palīgmateriālus. Iekļaut nomas, uzturēšanas un demontāžas izmaksas. | D41: m2 | E41: 700 | K41: =SUM(H41:J41) -> 0 | L41: =ROUND(E41*F41,2) -> 0 | M41: =ROUND(E41*H41,2) -> 0 | N41: =ROUND(E41*I41,2) -> 0 | O41: =ROUND(E41*J41,2) -> 0 | P41: =SUM(M41:O41) -> 0
A42: 19 | C42: Energosertifikāta izstrāde | D42: gb | E42: 1 | K42: =SUM(H42:J42) -> 0 | L42: =ROUND(E42*F42,2) -> 0 | M42: =ROUND(E42*H42,2) -> 0 | N42: =ROUND(E42*I42,2) -> 0 | O42: =ROUND(E42*J42,2) -> 0 | P42: =SUM(M42:O42) -> 0
C43: Dažādi (mazais inventārs)
A44: 20 | C44: Karogu kātu turētāji | D44: gb | E44: 2 | K44: =SUM(H44:J44) -> 0 | L44: =ROUND(E44*F44,2) -> 0 | M44: =ROUND(E44*H44,2) -> 0 | N44: =ROUND(E44*I44,2) -> 0 | O44: =ROUND(E44*J44,2) -> 0 | P44: =SUM(M44:O44) -> 0
A45: 21 | C45: Ēkas numurzīmes | D45: gb | E45: 1 | K45: =SUM(H45:J45) -> 0 | L45: =ROUND(E45*F45,2) -> 0 | M45: =ROUND(E45*H45,2) -> 0 | N45: =ROUND(E45*I45,2) -> 0 | O45: =ROUND(E45*J45,2) -> 0 | P45: =SUM(M45:O45) -> 0
...

Sheet 1.6.
A2: Lokālā tāme Nr. 1.6.
A3: Zibensaizsardzības risinājumi
A4: (būvdarbu veids vai konstruktīvā elementa nosaukums)
A6: Objekta nosaukums: | C6: =KT!B9 -> Energoefektivitātes paaugstināšana Augšlīgatnes pirmsskolas izglītības iestādē "Zvaniņi"
A7: Būves nosaukums: | C7: =KT!B10 -> Pirmsskolas izglītības iestāde "Zvaniņi"
A8: Objekta adrese: | C8: =KT!B11 -> Sporta iela 14, Augšlīgatne, Līgatnes pagasts, Cēsu novads, LV-4108
A9: Pasūtījuma nr.: | C9: =KT!B12 -> CMP21-BP99
A11: ='1.5.'!A11 -> Tāme sastādīta 2024. gada tirgus cenās, pamatojoties uz projekta rasējumiem | M11: Tāmes izmaksas: | O11: =P35 -> 0 | P11: EUR
N12: Tāme sastādītā | O12: =D37 -> 2024.gada ___.______
A14: Nr.p.k. | B14: Kods | C14: Būvdarbu nosaukums | D14: Mērvienība | E14: Daudzums | F14: Vienības izmaksas | L14: Kopā uz visu apjomu
F15: Laika norma (c/h) | G15: Darba samaksas likme (euro/h) | H15: Darba alga | I15: Būvizstrādājumi | J15: Mehānismi | K15: KOPĀ | L15: Darbietilpība (c/h) | M15: Darba alga | N15: Būvizstrādājumi | O15: Mehānismi | P15: Summa
C17: Zibensaizsardzība un zemējums | F17: 0 | G17: =IF(F17>0,likme,0) -> 0 | H17: =ROUND(F17*G17,2) -> 0 | I17: 0 | J17: 0 | K17: =SUM(H17:J17) -> 0 | L17: =ROUND(E17*F17,2) -> 0 | M17: =ROUND(E17*H17,2) -> 0 | N17: =ROUND(E17*I17,2) -> 0 | O17: =ROUND(E17*J17,2) -> 0 | P17: =SUM(M17:O17) -> 0
A18: 1 | C18: Zibensuztvērējs alumīnija apaļvads d=8mm, (‘’OBO’’ RD 8-ALU) vai ekvivalents | D18: m | E18: 225 | K18: =SUM(H18:J18) -> 0 | L18: =ROUND(E18*F18,2) -> 0 | M18: =ROUND(E18*H18,2) -> 0 | N18: =ROUND(E18*I18,2) -> 0 | O18: =ROUND(E18*J18,2) -> 0 | P18: =SUM(M18:O18) -> 0
A19: =A18+1 -> 2 | C19: Zibensnovadītājs alumīnija apaļdzelzs d=10mm PVC apvalkā ("OBO" RD 10-PVC) vai ekvivalents | D19: m | E19: 30 | K19: =SUM(H19:J19) -> 0 | L19: =ROUND(E19*F19,2) -> 0 | M19: =ROUND(E19*H19,2) -> 0 | N19: =ROUND(E19*I19,2) -> 0 | O19: =ROUND(E19*J19,2) -> 0 | P19: =SUM(M19:O19) -> 0
A20: =A19+1 -> 3 | C20: Zibensuztvērēja izplešanas kompensators (tipu un marku precizēt) | D20: gb | E20: 13 | K20: =SUM(H20:J20) -> 0 | L20: =ROUND(E20*F20,2) -> 0 | M20: =ROUND(E20*H20,2) -> 0 | N20: =ROUND(E20*I20,2) -> 0 | O20: =ROUND(E20*J20,2) -> 0 | P20: =SUM(M20:O20) -> 0
A21: =A20+1 -> 4 | C21: Krustojuma savienojums apaļvads-apaļvads ("OBO" 249 8-10 ST) vai ekvivalents | D21: gb | E21: 18 | K21: =SUM(H21:J21) -> 0 | L21: =ROUND(E21*F21,2) -> 0 | M21: =ROUND(E21*H21,2) -> 0 | N21: =ROUND(E21*I21,2) -> 0 | O21: =ROUND(E21*J21,2) -> 0 | P21: =SUM(M21:O21) -> 0
A22: =A21+1 -> 5 | C22: Apaļvada stiprinājums pie metāla jumta seguma (apjomu un komplektāciju precizēt) | D22: gb | E22: 60 | K22: =SUM(H22:J22) -> 0 | L22: =ROUND(E22*F22,2) -> 0 | M22: =ROUND(E22*H22,2) -> 0 | N22: =ROUND(E22*I22,2) -> 0 | O22: =ROUND(E22*J22,2) -> 0 | P22: =SUM(M22:O22) -> 0
A23: =A22+1 -> 6 | C23: Apaļvada stiprinājums pie gumijas jumta seguma (apjomu un komplektāciju precizēt) | D23: gb | E23: 100 | K23: =SUM(H23:J23) -> 0 | L23: =ROUND(E23*F23,2) -> 0 | M23: =ROUND(E23*H23,2) -> 0 | N23: =ROUND(E23*I23,2) -> 0 | O23: =ROUND(E23*J23,2) -> 0 | P23: =SUM(M23:O23) -> 0
A24: =A23+1 -> 7 | C24: Apaļvada stiprinājums pie fasādes (apjomu un komplektāciju precizēt) | D24: gb | E24: 52 | K24: =SUM(H24:J24) -> 0 | L24: =ROUND(E24*F24,2) -> 0 | M24: =ROUND(E24*H24,2) -> 0 | N24: =ROUND(E24*I24,2) -> 0 | O24: =ROUND(E24*J24,2) -> 0 | P24: =SUM(M24:O24) -> 0
A25: =A24+1 -> 8 | C25: Vertikālais zibensuztvērējstienis ar pamatni h=2.0m (tipu un marku precizēt) | D25: gb | E25: 3 | K25: =SUM(H25:J25) -> 0 | L25: =ROUND(E25*F25,2) -> 0 | M25: =ROUND(E25*H25,2) -> 0 | N25: =ROUND(E25*I25,2) -> 0 | O25: =ROUND(E25*J25,2) -> 0 | P25: =SUM(M25:O25) -> 0
A26: =A25+1 -> 9 | C26: Zemējuma kontūrs cinkota plakandzelzs 40x4mm | D26: m | E26: 100 | K26: =SUM(H26:J26) -> 0 | L26: =ROUND(E26*F26,2) -> 0 | M26: =ROUND(E26*H26,2) -> 0 | N26: =ROUND(E26*I26,2) -> 0 | O26: =ROUND(E26*J26,2) -> 0 | P26: =SUM(M26:O26) -> 0
A27: =A26+1 -> 10 | C27: Krustojuma savienojums "plakandzelzs - plakandzelzs" | D27: gb | E27: 13 | K27: =SUM(H27:J27) -> 0 | L27: =ROUND(E27*F27,2) -> 0 | M27: =ROUND(E27*H27,2) -> 0 | N27: =ROUND(E27*I27,2) -> 0 | O27: =ROUND(E27*J27,2) -> 0 | P27: =SUM(M27:O27) -> 0
A28: =A27+1 -> 11 | C28: Krustojuma savienojums "apaļvads - plakandzelzs" ("OBO" 2760 20 FT) vai ekvivalents | D28: gb | E28: 8 | K28: =SUM(H28:J28) -> 0 | L28: =ROUND(E28*F28,2) -> 0 | M28: =ROUND(E28*H28,2) -> 0 | N28: =ROUND(E28*I28,2) -> 0 | O28: =ROUND(E28*J28,2) -> 0 | P28: =SUM(M28:O28) -> 0
A29: =A28+1 -> 12 | C29: Krustojuma savienojums "zemējuma vads – plakandzelzs" (tipu un marku precizēt) | D29: gb | E29: 2 | K29: =SUM(H29:J29) -> 0 | L29: =ROUND(E29*F29,2) -> 0 | M29: =ROUND(E29*H29,2) -> 0 | N29: =ROUND(E29*I29,2) -> 0 | O29: =ROUND(E29*J29,2) -> 0 | P29: =SUM(M29:O29) -> 0
A30: =A29+1 -> 13 | C30: Mērījuma klemme ar spaili 8-10mm (tipu un marku precizēt) | D30: gb | E30: 8 | K30: =SUM(H30:J30) -> 0 | L30: =ROUND(E30*F30,2) -> 0 | M30: =ROUND(E30*H30,2) -> 0 | N30: =ROUND(E30*I30,2) -> 0 | O30: =ROUND(E30*J30,2) -> 0 | P30: =SUM(M30:O30) -> 0
... A33: =A32+1 -> 16 | C33: Petkorozijas lente (komplektāciju precizēt montāžas laikā) | D33: m | E33: 20 | K33: =SUM(H33:J33) -> 0 | L33: =ROUND(E33*F33,2) -> 0 | M33: =ROUND(E33*H33,2) -> 0 | N33: =ROUND(E33*I33,2) -> 0 | O33: =ROUND(E33*J33,2) -> 0 | P33: =SUM(M33:O33) -> 0
A35: Tiešās izmaksas kopā, t.sk. Darba dēvēja sociālais nodoklis (23,59%) | L35: =SUM(L17:L34) -> 0 | M35: =SUM(M17:M34) -> 0 | N35: =SUM(N17:N34) -> 0 | O35: =SUM(O17:O34) -> 0 | P35: =SUM(P17:P34) -> 0
A37: =KT!A21 -> Sastādīja: | D37: ='1.5.'!D51 -> 2024.gada ___.______
A38: (paraksts un tā atšifrējums, datums)
A39: =KT!A23 -> Sertifikāta Nr.:
A41: =KT!A25 -> Sastādīja: | D41: =D37 -> 2024.gada ___.______
A42: (paraksts un tā atšifrējums, datums)
A43: =KT!A27 -> Sertifikāta Nr.:

Sheet 1.7.
A2: Lokālā tāme Nr. 1.7.
A3: Labiekārtošanas darbi
A4: (būvdarbu veids vai konstruktīvā elementa nosaukums)
A6: Objekta nosaukums: | C6: =KT!B9 -> Energoefektivitātes paaugstināšana Augšlīgatnes pirmsskolas izglītības iestādē "Zvaniņi"
A7: Būves nosaukums: | C7: =KT!B10 -> Pirmsskolas izglītības iestāde "Zvaniņi"
A8: Objekta adrese: | C8: =KT!B11 -> Sporta iela 14, Augšlīgatne, Līgatnes pagasts, Cēsu novads, LV-4108
A9: Pasūtījuma nr.: | C9: =KT!B12 -> CMP21-BP99
A11: ='1.6.'!A11 -> Tāme sastādīta 2024. gada tirgus cenās, pamatojoties uz projekta rasējumiem | M11: Tāmes izmaksas: | O11: =P41 -> 0 | P11: EUR
N12: Tāme sastādītā | O12: ='1.6.'!O12 -> 2024.gada ___.______
A14: Nr.p.k. | B14: Kods | C14: Būvdarbu nosaukums | D14: Mērvienība | E14: Daudzums | F14: Vienības izmaksas | L14: Kopā uz visu apjomu
F15: Laika norma (c/h) | G15: Darba samaksas likme (euro/h) | H15: Darba alga | I15: Būvizstrādājumi | J15: Mehānismi | K15: KOPĀ | L15: Darbietilpība (c/h) | M15: Darba alga | N15: Būvizstrādājumi | O15: Mehānismi | P15: Summa
C17: Zemes darbi
A18: 1 | C18: Norakt grunti teritorijas labiekārtošanas darbiem | D18: m3 | E18: 29.33 | K18: =SUM(H18:J18) -> 0 | L18: =ROUND(E18*F18,2) -> 0 | M18: =ROUND(E18*H18,2) -> 0 | N18: =ROUND(E18*I18,2) -> 0 | O18: =ROUND(E18*J18,2) -> 0 | P18: =SUM(M18:O18) -> 0
A19: 2 | C19: Izvest lieko grunti utilizācijai | D19: m3 | E19: 29.33 | K19: =SUM(H19:J19) -> 0 | L19: =ROUND(E19*F19,2) -> 0 | M19: =ROUND(E19*H19,2) -> 0 | N19: =ROUND(E19*I19,2) -> 0 | O19: =ROUND(E19*J19,2) -> 0 | P19: =SUM(M19:O19) -> 0
A20: 3 | C20: Izbrīvētās grunts iekraušana autopašizgāzējā un promvešana līdz Pasūtītāja norādītai atbērtnei | D20: m3 | E20: 12 | K20: =SUM(H20:J20) -> 0 | L20: =ROUND(E20*F20,2) -> 0 | M20: =ROUND(E20*H20,2) -> 0 | N20: =ROUND(E20*I20,2) -> 0 | O20: =ROUND(E20*J20,2) -> 0 | P20: =SUM(M20:O20) -> 0
C21: Betona bruģakmens
A22: 4 | C22: Ieklāt betona bruģakmens segumu 60mm biezumā. parametri: Betona bruģakmens "SIGULDAS BLOKS P1-6-BF" Izmērs - 198x98x60(h) mm (vai līdzvērtīgs) | D22: m2 | E22: 40 | K22: =SUM(H22:J22) -> 0 | L22: =ROUND(E22*F22,2) -> 0 | M22: =ROUND(E22*H22,2) -> 0 | N22: =ROUND(E22*I22,2) -> 0 | O22: =ROUND(E22*J22,2) -> 0 | P22: =SUM(M22:O22) -> 0
A23: =A22+1 -> 5 | C23: Ieklāt minerālmateriālu maisījuma 2/8 izlidzinošo slāni 40mm biezumā, klase N-III, | D23: m2 | E23: 42 | K23: =SUM(H23:J23) -> 0 | L23: =ROUND(E23*F23,2) -> 0 | M23: =ROUND(E23*H23,2) -> 0 | N23: =ROUND(E23*I23,2) -> 0 | O23: =ROUND(E23*J23,2) -> 0 | P23: =SUM(M23:O23) -> 0
A24: =A23+1 -> 6 | C24: Ieklāt blietētu minerālmateriālu maisījuma 0/32p kārtu 100mm biezumā klase N-IV | D24: m3 | E24: 4.48 | K24: =SUM(H24:J24) -> 0 | L24: =ROUND(E24*F24,2) -> 0 | M24: =ROUND(E24*H24,2) -> 0 | N24: =ROUND(E24*I24,2) -> 0 | O24: =ROUND(E24*J24,2) -> 0 | P24: =SUM(M24:O24) -> 0
A25: =A24+1 -> 7 | C25: Ieklāt blietētu minerālmateriālu maisījuma 0/63pn kārtu 160mm biezumā | D25: m3 | E25: 7.4 | K25: =SUM(H25:J25) -> 0 | L25: =ROUND(E25*F25,2) -> 0 | M25: =ROUND(E25*H25,2) -> 0 | N25: =ROUND(E25*I25,2) -> 0 | O25: =ROUND(E25*J25,2) -> 0 | P25: =SUM(M25:O25) -> 0
A26: =A25+1 -> 8 | C26: Ieklāt blietētu salizturīgo kārtu min 400mm biezumā | D26: m3 | E26: 17.45 | K26: =SUM(H26:J26) -> 0 | L26: =ROUND(E26*F26,2) -> 0 | M26: =ROUND(E26*H26,2) -> 0 | N26: =ROUND(E26*I26,2) -> 0 | O26: =ROUND(E26*J26,2) -> 0 | P26: =SUM(M26:O26) -> 0
C27: Apmales
A28: 9 | C28: Uzstādīt gruģa apmali 100x20x8cm uz betona kārtas un nesaistīta minerālmateriāla pamatojuma | D28: m | E28: 97.5 | K28: =SUM(H28:J28) -> 0 | L28: =ROUND(E28*F28,2) -> 0 | M28: =ROUND(E28*H28,2) -> 0 | N28: =ROUND(E28*I28,2) -> 0 | O28: =ROUND(E28*J28,2) -> 0 | P28: =SUM(M28:O28) -> 0
C29: Šķērsojumi: | K29: =SUM(H29:J29) -> 0 | L29: =ROUND(E29*F29,2) -> 0 | M29: =ROUND(E29*H29,2) -> 0 | N29: =ROUND(E29*I29,2) -> 0 | O29: =ROUND(E29*J29,2) -> 0 | P29: =SUM(M29:O29) -> 0
A30: 10 | C30: Šķērsojumi ar esošiem kabeļiem, (t.sk. atšurfēšana) | D30: kpl | E30: 3 | K30: =SUM(H30:J30) -> 0 | L30: =ROUND(E30*F30,2) -> 0 | M30: =ROUND(E30*H30,2) -> 0 | N30: =ROUND(E30*I30,2) -> 0 | O30: =ROUND(E30*J30,2) -> 0 | P30: =SUM(M30:O30) -> 0
A31: =A30+1 -> 11 | C31: Dalītā aizsargcaurule EVOCAB SPLIT Ø110mm 750N kabeļu šķērsojuma vietās | D31: m | E31: 8 | K31: =SUM(H31:J31) -> 0 | L31: =ROUND(E31*F31,2) -> 0 | M31: =ROUND(E31*H31,2) -> 0 | N31: =ROUND(E31*I31,2) -> 0 | O31: =ROUND(E31*J31,2) -> 0 | P31: =SUM(M31:O31) -> 0
A32: =A31+1 -> 12 | C32: Brīdinājuma lente 20-40 cm virs kabeļa, guldīšana smiltī | D32: m | E32: 8 | K32: =SUM(H32:J32) -> 0 | L32: =ROUND(E32*F32,2) -> 0 | M32: =ROUND(E32*H32,2) -> 0 | N32: =ROUND(E32*I32,2) -> 0 | O32: =ROUND(E32*J32,2) -> 0 | P32: =SUM(M32:O32) -> 0
A33: =A32+1 -> 13 | C33: Esoša TET kabeļa aizsardzība. Būvniecības darbu laikā nodrošinā TET komunikāciju aizsardzību bez sakaru pārrāvuma. Kabeli aizsargāt ar p.c. Ø110mm 750N saliekamo kontrukciju | D33: m | E33: 8 | K33: =SUM(H33:J33) -> 0 | L33: =ROUND(E33*F33,2) -> 0 | M33: =ROUND(E33*H33,2) -> 0 | N33: =ROUND(E33*I33,2) -> 0 | O33: =ROUND(E33*J33,2) -> 0 | P33: =SUM(M33:O33) -> 0
C34: Atjaunojamie segumi SPK1 tīklu zonā | K34: =SUM(H34:J34) -> 0 | L34: =ROUND(E34*F34,2) -> 0 | M34: =ROUND(E34*H34,2) -> 0 | N34: =ROUND(E34*I34,2) -> 0 | O34: =ROUND(E34*J34,2) -> 0 | P34: =SUM(M34:O34) -> 0
A35: 14 | C35: Tranšeju aizbēršana ar pievesto smilti (filtrācijas koeficientu ≥ 1 m/dnn, smilts blīvums ne mazāks par 0,95 no dabīgā blīvuma) no ierīkotā apbēruma ap cauruļvadu līdz atjaunojamā seguma apakšējai kārtai, blietējot ik pa 30 cm. | D35: m3 | E35: 12 | K35: =SUM(H35:J35) -> 0 | L35: =ROUND(E35*F35,2) -> 0 | M35: =ROUND(E35*H35,2) -> 0 | N35: =ROUND(E35*I35,2) -> 0 | O35: =ROUND(E35*J35,2) -> 0 | P35: =SUM(M35:O35) -> 0
C36: Ciršanas darbi | K36: =SUM(H36:J36) -> 0 | L36: =ROUND(E36*F36,2) -> 0 | M36: =ROUND(E36*H36,2) -> 0 | N36: =ROUND(E36*I36,2) -> 0 | O36: =ROUND(E36*J36,2) -> 0 | P36: =SUM(M36:O36) -> 0
A37: 15 | C37: Nocirst kokus, krūmus ar celmiem un izvest utilizācijai | D37: m3 | E37: 2.4 | K37: =SUM(H37:J37) -> 0 | L37: =ROUND(E37*F37,2) -> 0 | M37: =ROUND(E37*H37,2) -> 0 | N37: =ROUND(E37*I37,2) -> 0 | O37: =ROUND(E37*J37,2) -> 0 | P37: =SUM(M37:O37) -> 0
C38: Vidējas noslodzes zāliens | K38: =SUM(H38:J38) -> 0 | L38: =ROUND(E38*F38,2) -> 0 | M38: =ROUND(E38*H38,2) -> 0 | N38: =ROUND(E38*I38,2) -> 0 | O38: =ROUND(E38*J38,2) -> 0 | P38: =SUM(M38:O38) -> 0
A39: 16 | C39: Iesēt zālāju pievedot auglīgo augsni, h=10cm, būvdarbu skartā teritorijā | D39: m2 | E39: 255 | K39: =SUM(H39:J39) -> 0 | L39: =ROUND(E39*F39,2) -> 0 | M39: =ROUND(E39*H39,2) -> 0 | N39: =ROUND(E39*I39,2) -> 0 | O39: =ROUND(E39*J39,2) -> 0 | P39: =SUM(M39:O39) -> 0
A41: Tiešās izmaksas kopā, t.sk. Darba dēvēja sociālais nodoklis (23,59%) | L41: =SUM(L17:L40) -> 0 | M41: =SUM(M17:M40) -> 0 | N41: =SUM(N17:N40) -> 0 | O41: =SUM(O17:O40) -> 0 | P41: =SUM(P17:P40) -> 0
A43: =KT!A21 -> Sastādīja: | D43: ='1.6.'!D37 -> 2024.gada ___.______
A44: (paraksts un tā atšifrējums, datums)
A45: =KT!A23 -> Sertifikāta Nr.:
A47: =KT!A25 -> Sastādīja: | D47: =D43 -> 2024.gada ___.______
A48: (paraksts un tā atšifrējums, datums)
...
